{"text_format":"1","workbook":"xlsx","n_sheets":6,"sheets":["Gráfico1","PEDIDO","Lista de Precios_USD$_Euro€","PRECIO_FACT","CLIENTE","Lista de Precios_Bolívares_S"],"not_rendered":{"charts":2,"images":4,"macros":0,"external_links":3,"defined_names":28,"comments":0,"pivot_tables":0},"unopened":[{"sheet":"Gráfico1","index":0,"reason":"not_a_worksheet"}],"bounds":{"document_bytes":16777216,"sheet_cells":100000,"rows_first":2000,"rows_last":500,"rows_between":2000,"halvings":0,"cell_chars":16384,"cell_head_chars":4096},"cells_cut":0,"cells_raw":0,"read":"whole","date_system":"1900"}

{"sheet":"PEDIDO","index":1,"n_rows":259,"n_cols":14,"rows_kept":259,"cut":false,"hidden":false,"merged":[[141,1,141,6],[158,1,158,6],[175,1,175,6],[192,1,192,6],[209,1,209,6],[226,1,226,6],[243,1,243,6],[5,1,5,6],[22,1,22,6],[39,1,39,6],[56,1,56,6],[73,1,73,6],[90,1,90,6],[107,1,107,6],[124,1,124,6],[229,2,229,3],[229,5,229,6],[223,1,223,4],[224,1,224,4],[228,5,228,6],[223,6,224,6],[223,5,224,5],[206,5,207,5],[206,1,206,4],[257,1,257,4],[258,1,258,4],[230,1,230,3],[230,4,230,6],[240,1,240,4],[241,1,241,4],[245,5,245,6],[246,2,246,3],[246,5,246,6],[247,1,247,3],[247,4,247,6],[240,6,241,6],[257,6,258,6],[257,5,258,5],[256,1,256,2],[239,1,239,2],[240,5,241,5],[207,1,207,4],[222,1,222,2],[179,1,179,3],[211,5,211,6],[212,2,212,3],[212,5,212,6],[206,6,207,6],[213,1,213,3],[213,4,213,6],[205,1,205,2],[189,6,190,6],[128,1,128,3],[195,5,195,6],[196,1,196,3],[196,4,196,6],[156,1,156,4],[160,5,160,6],[161,2,161,3],[161,5,161,6],[162,1,162,3],[162,4,162,6],[189,1,189,4],[190,1,190,4],[194,5,194,6],[195,2,195,3],[179,4,179,6],[189,5,190,5],[172,5,173,5],[171,1,171,2],[188,1,188,2],[172,1,172,4],[173,1,173,4],[177,5,177,6],[178,2,178,3],[178,5,178,6],[143,5,143,6],[144,2,144,3],[144,5,144,6],[145,1,145,3],[145,4,145,6],[155,1,155,4],[155,5,156,5],[154,1,154,2],[155,6,156,6],[104,6,105,6],[105,1,105,4],[94,4,94,6],[138,6,139,6],[109,5,109,6],[110,2,110,3],[110,5,110,6],[111,1,111,3],[111,4,111,6],[121,1,121,4],[122,1,122,4],[126,5,126,6],[127,2,127,3],[127,5,127,6],[121,6,122,6],[128,4,128,6],[138,1,138,4],[139,1,139,4],[138,5,139,5],[103,1,103,2],[104,5,105,5],[120,1,120,2],[137,1,137,2],[121,5,122,5],[36,5,37,5],[36,6,37,6],[24,5,24,6],[25,5,25,6],[25,2,25,3],[26,1,26,3],[36,1,36,4],[37,1,37,4],[94,1,94,3],[172,6,173,6],[69,1,69,2],[87,6,88,6],[88,1,88,4],[70,5,71,5],[92,5,92,6],[86,1,86,2],[87,1,87,4],[53,5,54,5],[75,5,75,6],[76,2,76,3],[76,5,76,6],[77,1,77,3],[93,2,93,3],[93,5,93,6],[87,5,88,5],[77,4,77,6],[70,1,70,4],[70,6,71,6],[71,1,71,4],[53,1,53,4],[53,6,54,6],[60,4,60,6],[104,1,104,4],[1,4,1,5],[42,2,42,3],[42,5,42,6],[43,1,43,3],[54,1,54,4],[58,5,58,6],[59,2,59,3],[59,5,59,6],[60,1,60,3],[52,1,52,2],[43,4,43,6],[8,5,8,6],[7,5,7,6],[8,2,8,3],[19,1,19,4],[20,1,20,4],[9,1,9,3],[9,4,9,6],[19,5,20,5],[41,5,41,6],[26,4,26,6],[18,1,18,2],[19,6,20,6],[35,1,35,2]]}
[]
[null,null,null,null,"TOTAL PEDIDOS"]
[null,null,null,null,"CAJAS","DIVISAS"]
[null,null,null,null,{"$f":"D19+D36+D53+D70+D87+D104+D121+D138+D155+D172+D189+D206+D223+D240+D257","v":0},{"$f":"G20+G37+G54+G71+G88+G105+G122+G139+G156+G173+G190+G207+G224+G241+G258","v":0}]
[]
[null,"PEDIDOS DE CLIENTES REGULARES ON Y OFF TRADE "]
[]
[null,"CODIGO ","VENDEDOR",null,"FECHA","N° PEDIDO"]
[null,"j001708685",{"$f":"IFERROR(VLOOKUP(B9,CLIENTE!$A:$AW,2,0),\"\")","v":"550 - CARLOS C. PROLICOR"},null,null,{"$f":"IF(J9=\"\",\"\",CONCATENATE(LEFT(C9,3),VLOOKUP(DAY(E9),$M$9:$N$43,2),VLOOKUP(MONTH(E9),$K$9:$L$20,2),RIGHT(YEAR(E9),2),J9))","v":""},null,null,null,{"$f":"IFERROR(IF(AND($B9,$E9)=\"\",\"\",\"01\"),\"\")","v":""},1,"01",1,"01"]
[null,{"$f":"IFERROR(VLOOKUP(B9,CLIENTE!$A:$AW,3,0),\"\")","v":"PROV DE LICORES PROLICOR,C.A."},null,null,null,null,null,null,null,null,2,"02",2,"02"]
[null,"CODIGO PRODUCTO","DESCRIPCION","UNIDAD","PRECIO","TOTAL","TOTAL USD$ / Euro€",null,null,null,3,"03",3,"03"]
[null,"0000013205",{"$f":"IFERROR(CONCATENATE(VLOOKUP(RIGHT(CONCATENATE(\"0000000000\",$B12),10),PRECIO_FACT!A:E,2,0),\" \",\"(\",$I12,\"$)\"),\"\")","v":""},null,{"$f":"IFERROR(VLOOKUP(RIGHT(CONCATENATE(\"0000000000\",$B12),10),PRECIO_FACT!$A:$G,6,FALSE),\"\")","v":""},{"$f":"IFERROR(D12*E12,\"\")","v":""},{"$f":"IFERROR(D12*I12,\"\")","v":""},{"$f":"IFERROR($D12/VLOOKUP(RIGHT(CONCATENATE(\"0000000000\",$B12),10),'Lista de Precios_USD$_Euro€'!E:L,4,FALSE),\"\")","v":""},{"$f":"IFERROR(VLOOKUP(RIGHT(CONCATENATE(\"0000000000\",$B12),10),PRECIO_FACT!A:G,7,FALSE),\"\")","v":""},null,4,"04",4,"04"]
[null,"0000000896",{"$f":"IFERROR(CONCATENATE(VLOOKUP(RIGHT(CONCATENATE(\"0000000000\",$B13),10),PRECIO_FACT!A:E,2,0),\" \",\"(\",$I13,\"$)\"),\"\")","v":""},null,{"$f":"IFERROR(VLOOKUP(RIGHT(CONCATENATE(\"0000000000\",$B13),10),PRECIO_FACT!$A:$G,6,FALSE),\"\")","v":""},"","",{"$f":"IFERROR($D13/VLOOKUP(RIGHT(CONCATENATE(\"0000000000\",$B13),10),'Lista de Precios_USD$_Euro€'!E:L,4,FALSE),\"\")","v":""},{"$f":"IFERROR(VLOOKUP(RIGHT(CONCATENATE(\"0000000000\",$B13),10),PRECIO_FACT!A:G,7,FALSE),\"\")","v":""},null,5,"05",5,"05"]
[null,null,{"$f":"IFERROR(CONCATENATE(VLOOKUP(RIGHT(CONCATENATE(\"0000000000\",$B14),10),PRECIO_FACT!A:E,2,0),\" \",\"(\",$I14,\"$)\"),\"\")","v":""},null,{"$f":"IFERROR(VLOOKUP(RIGHT(CONCATENATE(\"0000000000\",$B14),10),PRECIO_FACT!$A:$G,6,FALSE),\"\")","v":""},"","",{"$f":"IFERROR($D14/VLOOKUP(RIGHT(CONCATENATE(\"0000000000\",$B14),10),'Lista de Precios_USD$_Euro€'!E:L,4,FALSE),\"\")","v":""},{"$f":"IFERROR(VLOOKUP(RIGHT(CONCATENATE(\"0000000000\",$B14),10),PRECIO_FACT!A:G,7,FALSE),\"\")","v":""},null,6,"06",6,"06"]
[null,null,{"$f":"IFERROR(CONCATENATE(VLOOKUP(RIGHT(CONCATENATE(\"0000000000\",$B15),10),PRECIO_FACT!A:E,2,0),\" \",\"(\",$I15,\"$)\"),\"\")","v":""},null,{"$f":"IFERROR(VLOOKUP(RIGHT(CONCATENATE(\"0000000000\",$B15),10),PRECIO_FACT!$A:$G,6,FALSE),\"\")","v":""},"","",{"$f":"IFERROR($D15/VLOOKUP(RIGHT(CONCATENATE(\"0000000000\",$B15),10),'Lista de Precios_USD$_Euro€'!E:L,4,FALSE),\"\")","v":""},{"$f":"IFERROR(VLOOKUP(RIGHT(CONCATENATE(\"0000000000\",$B15),10),PRECIO_FACT!A:G,7,FALSE),\"\")","v":""},null,7,"07",7,"07"]
[null,null,{"$f":"IFERROR(CONCATENATE(VLOOKUP(RIGHT(CONCATENATE(\"0000000000\",$B16),10),PRECIO_FACT!A:E,2,0),\" \",\"(\",$I16,\"$)\"),\"\")","v":""},null,{"$f":"IFERROR(VLOOKUP(RIGHT(CONCATENATE(\"0000000000\",$B16),10),PRECIO_FACT!$A:$G,6,FALSE),\"\")","v":""},"","",{"$f":"IFERROR($D16/VLOOKUP(RIGHT(CONCATENATE(\"0000000000\",$B16),10),'Lista de Precios_USD$_Euro€'!E:L,4,FALSE),\"\")","v":""},{"$f":"IFERROR(VLOOKUP(RIGHT(CONCATENATE(\"0000000000\",$B16),10),PRECIO_FACT!A:G,7,FALSE),\"\")","v":""},null,8,"08",8,"08"]
[null,null,{"$f":"IFERROR(CONCATENATE(VLOOKUP(RIGHT(CONCATENATE(\"0000000000\",$B17),10),PRECIO_FACT!A:E,2,0),\" \",\"(\",$I17,\"$)\"),\"\")","v":""},null,{"$f":"IFERROR(VLOOKUP(RIGHT(CONCATENATE(\"0000000000\",$B17),10),PRECIO_FACT!$A:$G,6,FALSE),\"\")","v":""},"","",{"$f":"IFERROR($D17/VLOOKUP(RIGHT(CONCATENATE(\"0000000000\",$B17),10),'Lista de Precios_USD$_Euro€'!E:L,4,FALSE),\"\")","v":""},{"$f":"IFERROR(VLOOKUP(RIGHT(CONCATENATE(\"0000000000\",$B17),10),PRECIO_FACT!A:G,7,FALSE),\"\")","v":""},null,9,"09",9,"09"]
[null,null,{"$f":"IFERROR(CONCATENATE(VLOOKUP(RIGHT(CONCATENATE(\"0000000000\",$B18),10),PRECIO_FACT!A:E,2,0),\" \",\"(\",$I18,\"$)\"),\"\")","v":""},null,{"$f":"IFERROR(VLOOKUP(RIGHT(CONCATENATE(\"0000000000\",$B18),10),PRECIO_FACT!$A:$G,6,FALSE),\"\")","v":""},"","",{"$f":"IFERROR($D18/VLOOKUP(RIGHT(CONCATENATE(\"0000000000\",$B18),10),'Lista de Precios_USD$_Euro€'!E:L,4,FALSE),\"\")","v":""},{"$f":"IFERROR(VLOOKUP(RIGHT(CONCATENATE(\"0000000000\",$B18),10),PRECIO_FACT!A:G,7,FALSE),\"\")","v":""},null,10,"10",10,"10"]
[null,"TOTAL CAJAS",null,{"$f":"IFERROR(SUM(H12:H18),\"\")","v":0},null,null,{"$f":"IFERROR(D19*#REF!,\"\")","v":""},{"$f":"IFERROR($D19/VLOOKUP(RIGHT(CONCATENATE(\"0000000000\",$B19),10),'Lista de Precios_USD$_Euro€'!E:L,4,FALSE),\"\")","v":""},{"$f":"IFERROR(VLOOKUP(RIGHT(CONCATENATE(\"0000000000\",$B19),10),PRECIO_FACT!A:G,7,FALSE),\"\")","v":""},null,11,"11",11,"11"]
[null,null,null,null,null,{"$f":"SUM(F12:F19)","v":0},{"$f":"SUM(G12:G19)","v":0},null,null,null,12,"12",12,"12"]
[null,{"$f":"IFERROR(VLOOKUP($B9,CLIENTE!A:AW,49,0),\"\")","v":"RECIBE DE LUNES A VIERNES 09:00AM A 08:00PM"},null,null,null,null,null,null,null,null,null,null,13,"13"]
[]
[null,"PEDIDOS DE CLIENTES REGULARES ON Y OFF TRADE "]
[null,null,null,null,null,null,null,null,null,null,null,null,14,14]
[null,"CODIGO ","VENDEDOR",null,"FECHA","N° PEDIDO",null,null,null,null,null,null,15,15]
[null,null,{"$f":"IFERROR(VLOOKUP(B26,CLIENTE!$A:$AW,2,0),\"\")","v":""},null,null,{"$f":"IF(J26=\"\",\"\",CONCATENATE(LEFT(C26,3),VLOOKUP(DAY(E26),$M$9:$N$43,2),VLOOKUP(MONTH(E26),$K$9:$L$20,2),RIGHT(YEAR(E26),2),J26))","v":""},null,null,null,{"$f":"IFERROR(IF(AND($B26,$E26)=\"\",\"\",\"02\"),\"\")","v":""},null,null,16,"16"]
[null,{"$f":"IFERROR(VLOOKUP(B26,CLIENTE!$A:$AW,3,0),\"\")","v":""},null,null,null,null,null,null,null,null,null,null,17,"17"]
[null,"CODIGO PRODUCTO","DESCRIPCION","UNIDAD","PRECIO","TOTAL","TOTAL USD$ / Euro€",null,null,null,null,null,18,"18"]
[null,"896",{"$f":"IFERROR(CONCATENATE(VLOOKUP(RIGHT(CONCATENATE(\"0000000000\",$B29),10),PRECIO_FACT!A:E,2,0),\" \",\"(\",$I29,\"$)\"),\"\")","v":""},null,{"$f":"IFERROR(VLOOKUP(RIGHT(CONCATENATE(\"0000000000\",$B29),10),PRECIO_FACT!$A:$G,6,FALSE),\"\")","v":""},{"$f":"IFERROR(D29*E29,\"\")","v":""},{"$f":"IFERROR(D29*I29,\"\")","v":""},{"$f":"IFERROR($D29/VLOOKUP(RIGHT(CONCATENATE(\"0000000000\",$B29),10),'Lista de Precios_USD$_Euro€'!E:L,4,FALSE),\"\")","v":""},{"$f":"IFERROR(VLOOKUP(RIGHT(CONCATENATE(\"0000000000\",$B29),10),PRECIO_FACT!A:G,7,FALSE),\"\")","v":""},null,null,null,19,"19"]
[null,null,{"$f":"IFERROR(CONCATENATE(VLOOKUP(RIGHT(CONCATENATE(\"0000000000\",$B30),10),PRECIO_FACT!A:E,2,0),\" \",\"(\",$I30,\"$)\"),\"\")","v":""},null,{"$f":"IFERROR(VLOOKUP(RIGHT(CONCATENATE(\"0000000000\",$B30),10),PRECIO_FACT!$A:$G,6,FALSE),\"\")","v":""},{"$f":"IFERROR(D30*E30,\"\")","v":""},"",{"$f":"IFERROR($D30/VLOOKUP(RIGHT(CONCATENATE(\"0000000000\",$B30),10),'Lista de Precios_USD$_Euro€'!E:L,4,FALSE),\"\")","v":""},{"$f":"IFERROR(VLOOKUP(RIGHT(CONCATENATE(\"0000000000\",$B30),10),PRECIO_FACT!A:G,7,FALSE),\"\")","v":""},null,null,null,20,"20"]
[null,null,{"$f":"IFERROR(CONCATENATE(VLOOKUP(RIGHT(CONCATENATE(\"0000000000\",$B31),10),PRECIO_FACT!A:E,2,0),\" \",\"(\",$I31,\"$)\"),\"\")","v":""},null,{"$f":"IFERROR(VLOOKUP(RIGHT(CONCATENATE(\"0000000000\",$B31),10),PRECIO_FACT!$A:$G,6,FALSE),\"\")","v":""},"","",{"$f":"IFERROR($D31/VLOOKUP(RIGHT(CONCATENATE(\"0000000000\",$B31),10),'Lista de Precios_USD$_Euro€'!E:L,4,FALSE),\"\")","v":""},{"$f":"IFERROR(VLOOKUP(RIGHT(CONCATENATE(\"0000000000\",$B31),10),PRECIO_FACT!A:G,7,FALSE),\"\")","v":""},null,null,null,21,21]
[null,null,{"$f":"IFERROR(CONCATENATE(VLOOKUP(RIGHT(CONCATENATE(\"0000000000\",$B32),10),PRECIO_FACT!A:E,2,0),\" \",\"(\",$I32,\"$)\"),\"\")","v":""},null,{"$f":"IFERROR(VLOOKUP(RIGHT(CONCATENATE(\"0000000000\",$B32),10),PRECIO_FACT!$A:$G,6,FALSE),\"\")","v":""},"","",{"$f":"IFERROR($D32/VLOOKUP(RIGHT(CONCATENATE(\"0000000000\",$B32),10),'Lista de Precios_USD$_Euro€'!E:L,4,FALSE),\"\")","v":""},{"$f":"IFERROR(VLOOKUP(RIGHT(CONCATENATE(\"0000000000\",$B32),10),PRECIO_FACT!A:G,7,FALSE),\"\")","v":""},null,null,null,22,"22"]
[null,null,{"$f":"IFERROR(CONCATENATE(VLOOKUP(RIGHT(CONCATENATE(\"0000000000\",$B33),10),PRECIO_FACT!A:E,2,0),\" \",\"(\",$I33,\"$)\"),\"\")","v":""},null,{"$f":"IFERROR(VLOOKUP(RIGHT(CONCATENATE(\"0000000000\",$B33),10),PRECIO_FACT!$A:$G,6,FALSE),\"\")","v":""},"","",{"$f":"IFERROR($D33/VLOOKUP(RIGHT(CONCATENATE(\"0000000000\",$B33),10),'Lista de Precios_USD$_Euro€'!E:L,4,FALSE),\"\")","v":""},{"$f":"IFERROR(VLOOKUP(RIGHT(CONCATENATE(\"0000000000\",$B33),10),PRECIO_FACT!A:G,7,FALSE),\"\")","v":""},null,null,null,23,"23"]
[null,null,{"$f":"IFERROR(CONCATENATE(VLOOKUP(RIGHT(CONCATENATE(\"0000000000\",$B34),10),PRECIO_FACT!A:E,2,0),\" \",\"(\",$I34,\"$)\"),\"\")","v":""},null,{"$f":"IFERROR(VLOOKUP(RIGHT(CONCATENATE(\"0000000000\",$B34),10),PRECIO_FACT!$A:$G,6,FALSE),\"\")","v":""},"","",{"$f":"IFERROR($D34/VLOOKUP(RIGHT(CONCATENATE(\"0000000000\",$B34),10),'Lista de Precios_USD$_Euro€'!E:L,4,FALSE),\"\")","v":""},{"$f":"IFERROR(VLOOKUP(RIGHT(CONCATENATE(\"0000000000\",$B34),10),PRECIO_FACT!A:G,7,FALSE),\"\")","v":""},null,null,null,24,"24"]
[null,null,{"$f":"IFERROR(CONCATENATE(VLOOKUP(RIGHT(CONCATENATE(\"0000000000\",$B35),10),PRECIO_FACT!A:E,2,0),\" \",\"(\",$I35,\"$)\"),\"\")","v":""},null,{"$f":"IFERROR(VLOOKUP(RIGHT(CONCATENATE(\"0000000000\",$B35),10),PRECIO_FACT!$A:$G,6,FALSE),\"\")","v":""},"","",{"$f":"IFERROR($D35/VLOOKUP(RIGHT(CONCATENATE(\"0000000000\",$B35),10),'Lista de Precios_USD$_Euro€'!E:L,4,FALSE),\"\")","v":""},{"$f":"IFERROR(VLOOKUP(RIGHT(CONCATENATE(\"0000000000\",$B35),10),PRECIO_FACT!A:G,7,FALSE),\"\")","v":""},null,null,null,25,"25"]
[null,"TOTAL CAJAS",null,{"$f":"IFERROR(SUM(H29:H35),\"\")","v":0},null,null,{"$f":"IFERROR(D36*#REF!,\"\")","v":""},{"$f":"IFERROR($D36/VLOOKUP(RIGHT(CONCATENATE(\"0000000000\",$B36),10),'Lista de Precios_USD$_Euro€'!E:L,4,FALSE),\"\")","v":""},{"$f":"IFERROR(VLOOKUP(RIGHT(CONCATENATE(\"0000000000\",$B36),10),PRECIO_FACT!A:G,7,FALSE),\"\")","v":""},null,null,null,26,"26"]
[null,null,null,null,null,{"$f":"SUM(F29:F36)","v":0},{"$f":"SUM(G29:G36)","v":0},null,null,null,null,null,27,"27"]
[null,{"$f":"IFERROR(VLOOKUP($B26,CLIENTE!A:AW,49,0),\"\")","v":""},null,null,null,null,null,null,null,null,null,null,28,"28"]
[]
[null,"PEDIDOS DE CLIENTES REGULARES ON Y OFF TRADE "]
[null,null,null,null,null,null,null,null,null,null,null,null,29,"29"]
[null,"CODIGO ","VENDEDOR",null,"FECHA","N° PEDIDO",null,null,null,null,null,null,30,"30"]
[null,null,{"$f":"IFERROR(VLOOKUP(B43,CLIENTE!$A:$AW,2,0),\"\")","v":""},null,null,{"$f":"IF(J43=\"\",\"\",CONCATENATE(LEFT(C43,3),VLOOKUP(DAY(E43),$M$9:$N$43,2),VLOOKUP(MONTH(E43),$K$9:$L$20,2),RIGHT(YEAR(E43),2),J43))","v":""},null,null,null,{"$f":"IFERROR(IF(AND($B43,$E43)=\"\",\"\",\"03\"),\"\")","v":""},null,null,31,"31"]
[null,{"$f":"IFERROR(VLOOKUP(B43,CLIENTE!$A:$AW,3,0),\"\")","v":""}]
[null,"CODIGO PRODUCTO","DESCRIPCION","UNIDAD","PRECIO","TOTAL","TOTAL USD$ / Euro€"]
[null,null,{"$f":"IFERROR(CONCATENATE(VLOOKUP(RIGHT(CONCATENATE(\"0000000000\",$B46),10),PRECIO_FACT!A:E,2,0),\" \",\"(\",$I46,\"$)\"),\"\")","v":""},null,{"$f":"IFERROR(VLOOKUP(RIGHT(CONCATENATE(\"0000000000\",$B46),10),PRECIO_FACT!$A:$G,6,FALSE),\"\")","v":""},{"$f":"IFERROR(D46*E46,\"\")","v":""},{"$f":"IFERROR(D46*I46,\"\")","v":""},{"$f":"IFERROR($D46/VLOOKUP(RIGHT(CONCATENATE(\"0000000000\",$B46),10),'Lista de Precios_USD$_Euro€'!E:L,4,FALSE),\"\")","v":""},{"$f":"IFERROR(VLOOKUP(RIGHT(CONCATENATE(\"0000000000\",$B46),10),PRECIO_FACT!A:G,7,FALSE),\"\")","v":""}]
[null,null,{"$f":"IFERROR(CONCATENATE(VLOOKUP(RIGHT(CONCATENATE(\"0000000000\",$B47),10),PRECIO_FACT!A:E,2,0),\" \",\"(\",$I47,\"$)\"),\"\")","v":""},null,{"$f":"IFERROR(VLOOKUP(RIGHT(CONCATENATE(\"0000000000\",$B47),10),PRECIO_FACT!$A:$G,6,FALSE),\"\")","v":""},{"$f":"IFERROR(D47*E47,\"\")","v":""},"",{"$f":"IFERROR($D47/VLOOKUP(RIGHT(CONCATENATE(\"0000000000\",$B47),10),'Lista de Precios_USD$_Euro€'!E:L,4,FALSE),\"\")","v":""},{"$f":"IFERROR(VLOOKUP(RIGHT(CONCATENATE(\"0000000000\",$B47),10),PRECIO_FACT!A:G,7,FALSE),\"\")","v":""}]
[null,null,{"$f":"IFERROR(CONCATENATE(VLOOKUP(RIGHT(CONCATENATE(\"0000000000\",$B48),10),PRECIO_FACT!A:E,2,0),\" \",\"(\",$I48,\"$)\"),\"\")","v":""},null,{"$f":"IFERROR(VLOOKUP(RIGHT(CONCATENATE(\"0000000000\",$B48),10),PRECIO_FACT!$A:$G,6,FALSE),\"\")","v":""},"","",{"$f":"IFERROR($D48/VLOOKUP(RIGHT(CONCATENATE(\"0000000000\",$B48),10),'Lista de Precios_USD$_Euro€'!E:L,4,FALSE),\"\")","v":""},{"$f":"IFERROR(VLOOKUP(RIGHT(CONCATENATE(\"0000000000\",$B48),10),PRECIO_FACT!A:G,7,FALSE),\"\")","v":""}]
[null,null,{"$f":"IFERROR(CONCATENATE(VLOOKUP(RIGHT(CONCATENATE(\"0000000000\",$B49),10),PRECIO_FACT!A:E,2,0),\" \",\"(\",$I49,\"$)\"),\"\")","v":""},null,{"$f":"IFERROR(VLOOKUP(RIGHT(CONCATENATE(\"0000000000\",$B49),10),PRECIO_FACT!$A:$G,6,FALSE),\"\")","v":""},"","",{"$f":"IFERROR($D49/VLOOKUP(RIGHT(CONCATENATE(\"0000000000\",$B49),10),'Lista de Precios_USD$_Euro€'!E:L,4,FALSE),\"\")","v":""},{"$f":"IFERROR(VLOOKUP(RIGHT(CONCATENATE(\"0000000000\",$B49),10),PRECIO_FACT!A:G,7,FALSE),\"\")","v":""}]
[null,null,{"$f":"IFERROR(CONCATENATE(VLOOKUP(RIGHT(CONCATENATE(\"0000000000\",$B50),10),PRECIO_FACT!A:E,2,0),\" \",\"(\",$I50,\"$)\"),\"\")","v":""},null,{"$f":"IFERROR(VLOOKUP(RIGHT(CONCATENATE(\"0000000000\",$B50),10),PRECIO_FACT!$A:$G,6,FALSE),\"\")","v":""},"","",{"$f":"IFERROR($D50/VLOOKUP(RIGHT(CONCATENATE(\"0000000000\",$B50),10),'Lista de Precios_USD$_Euro€'!E:L,4,FALSE),\"\")","v":""},{"$f":"IFERROR(VLOOKUP(RIGHT(CONCATENATE(\"0000000000\",$B50),10),PRECIO_FACT!A:G,7,FALSE),\"\")","v":""}]
[null,null,{"$f":"IFERROR(CONCATENATE(VLOOKUP(RIGHT(CONCATENATE(\"0000000000\",$B51),10),PRECIO_FACT!A:E,2,0),\" \",\"(\",$I51,\"$)\"),\"\")","v":""},null,{"$f":"IFERROR(VLOOKUP(RIGHT(CONCATENATE(\"0000000000\",$B51),10),PRECIO_FACT!$A:$G,6,FALSE),\"\")","v":""},"","",{"$f":"IFERROR($D51/VLOOKUP(RIGHT(CONCATENATE(\"0000000000\",$B51),10),'Lista de Precios_USD$_Euro€'!E:L,4,FALSE),\"\")","v":""},{"$f":"IFERROR(VLOOKUP(RIGHT(CONCATENATE(\"0000000000\",$B51),10),PRECIO_FACT!A:G,7,FALSE),\"\")","v":""}]
[null,null,{"$f":"IFERROR(CONCATENATE(VLOOKUP(RIGHT(CONCATENATE(\"0000000000\",$B52),10),PRECIO_FACT!A:E,2,0),\" \",\"(\",$I52,\"$)\"),\"\")","v":""},null,{"$f":"IFERROR(VLOOKUP(RIGHT(CONCATENATE(\"0000000000\",$B52),10),PRECIO_FACT!$A:$G,6,FALSE),\"\")","v":""},"","",{"$f":"IFERROR($D52/VLOOKUP(RIGHT(CONCATENATE(\"0000000000\",$B52),10),'Lista de Precios_USD$_Euro€'!E:L,4,FALSE),\"\")","v":""},{"$f":"IFERROR(VLOOKUP(RIGHT(CONCATENATE(\"0000000000\",$B52),10),PRECIO_FACT!A:G,7,FALSE),\"\")","v":""}]
[null,"TOTAL CAJAS",null,{"$f":"IFERROR(SUM(H46:H52),\"\")","v":0},null,null,{"$f":"IFERROR(D53*#REF!,\"\")","v":""},{"$f":"IFERROR($D53/VLOOKUP(RIGHT(CONCATENATE(\"0000000000\",$B53),10),'Lista de Precios_USD$_Euro€'!E:L,4,FALSE),\"\")","v":""},{"$f":"IFERROR(VLOOKUP(RIGHT(CONCATENATE(\"0000000000\",$B53),10),PRECIO_FACT!A:G,7,FALSE),\"\")","v":""}]
[null,null,null,null,null,{"$f":"SUM(F46:F53)","v":0},{"$f":"SUM(G46:G53)","v":0}]
[null,{"$f":"IFERROR(VLOOKUP($B43,CLIENTE!A:AW,49,0),\"\")","v":""}]
[]
[null,"PEDIDOS DE CLIENTES REGULARES ON Y OFF TRADE "]
[]
[null,"CODIGO ","VENDEDOR",null,"FECHA","N° PEDIDO"]
[null,null,{"$f":"IFERROR(VLOOKUP(B60,CLIENTE!$A:$AW,2,0),\"\")","v":""},null,null,{"$f":"IF(J60=\"\",\"\",CONCATENATE(LEFT(C60,3),VLOOKUP(DAY(E60),$M$9:$N$43,2),VLOOKUP(MONTH(E60),$K$9:$L$20,2),RIGHT(YEAR(E60),2),J60))","v":""},null,null,null,{"$f":"IFERROR(IF(AND($B60,$E60)=\"\",\"\",\"04\"),\"\")","v":""}]
[null,{"$f":"IFERROR(VLOOKUP(B60,CLIENTE!$A:$AW,3,0),\"\")","v":""}]
[null,"CODIGO PRODUCTO","DESCRIPCION","UNIDAD","PRECIO","TOTAL","TOTAL USD$ / Euro€"]
[null,null,{"$f":"IFERROR(CONCATENATE(VLOOKUP(RIGHT(CONCATENATE(\"0000000000\",$B63),10),PRECIO_FACT!A:E,2,0),\" \",\"(\",$I63,\"$)\"),\"\")","v":""},null,{"$f":"IFERROR(VLOOKUP(RIGHT(CONCATENATE(\"0000000000\",$B63),10),PRECIO_FACT!$A:$G,6,FALSE),\"\")","v":""},{"$f":"IFERROR(D63*E63,\"\")","v":""},{"$f":"IFERROR(D63*I63,\"\")","v":""},{"$f":"IFERROR($D63/VLOOKUP(RIGHT(CONCATENATE(\"0000000000\",$B63),10),'Lista de Precios_USD$_Euro€'!E:L,4,FALSE),\"\")","v":""},{"$f":"IFERROR(VLOOKUP(RIGHT(CONCATENATE(\"0000000000\",$B63),10),PRECIO_FACT!A:G,7,FALSE),\"\")","v":""}]
[null,null,{"$f":"IFERROR(CONCATENATE(VLOOKUP(RIGHT(CONCATENATE(\"0000000000\",$B64),10),PRECIO_FACT!A:E,2,0),\" \",\"(\",$I64,\"$)\"),\"\")","v":""},null,{"$f":"IFERROR(VLOOKUP(RIGHT(CONCATENATE(\"0000000000\",$B64),10),PRECIO_FACT!$A:$G,6,FALSE),\"\")","v":""},{"$f":"IFERROR(D64*E64,\"\")","v":""},"",{"$f":"IFERROR($D64/VLOOKUP(RIGHT(CONCATENATE(\"0000000000\",$B64),10),'Lista de Precios_USD$_Euro€'!E:L,4,FALSE),\"\")","v":""},{"$f":"IFERROR(VLOOKUP(RIGHT(CONCATENATE(\"0000000000\",$B64),10),PRECIO_FACT!A:G,7,FALSE),\"\")","v":""}]
[null,null,{"$f":"IFERROR(CONCATENATE(VLOOKUP(RIGHT(CONCATENATE(\"0000000000\",$B65),10),PRECIO_FACT!A:E,2,0),\" \",\"(\",$I65,\"$)\"),\"\")","v":""},null,{"$f":"IFERROR(VLOOKUP(RIGHT(CONCATENATE(\"0000000000\",$B65),10),PRECIO_FACT!$A:$G,6,FALSE),\"\")","v":""},"","",{"$f":"IFERROR($D65/VLOOKUP(RIGHT(CONCATENATE(\"0000000000\",$B65),10),'Lista de Precios_USD$_Euro€'!E:L,4,FALSE),\"\")","v":""},{"$f":"IFERROR(VLOOKUP(RIGHT(CONCATENATE(\"0000000000\",$B65),10),PRECIO_FACT!A:G,7,FALSE),\"\")","v":""}]
[null,null,{"$f":"IFERROR(CONCATENATE(VLOOKUP(RIGHT(CONCATENATE(\"0000000000\",$B66),10),PRECIO_FACT!A:E,2,0),\" \",\"(\",$I66,\"$)\"),\"\")","v":""},null,{"$f":"IFERROR(VLOOKUP(RIGHT(CONCATENATE(\"0000000000\",$B66),10),PRECIO_FACT!$A:$G,6,FALSE),\"\")","v":""},"","",{"$f":"IFERROR($D66/VLOOKUP(RIGHT(CONCATENATE(\"0000000000\",$B66),10),'Lista de Precios_USD$_Euro€'!E:L,4,FALSE),\"\")","v":""},{"$f":"IFERROR(VLOOKUP(RIGHT(CONCATENATE(\"0000000000\",$B66),10),PRECIO_FACT!A:G,7,FALSE),\"\")","v":""}]
[null,null,{"$f":"IFERROR(CONCATENATE(VLOOKUP(RIGHT(CONCATENATE(\"0000000000\",$B67),10),PRECIO_FACT!A:E,2,0),\" \",\"(\",$I67,\"$)\"),\"\")","v":""},null,{"$f":"IFERROR(VLOOKUP(RIGHT(CONCATENATE(\"0000000000\",$B67),10),PRECIO_FACT!$A:$G,6,FALSE),\"\")","v":""},"","",{"$f":"IFERROR($D67/VLOOKUP(RIGHT(CONCATENATE(\"0000000000\",$B67),10),'Lista de Precios_USD$_Euro€'!E:L,4,FALSE),\"\")","v":""},{"$f":"IFERROR(VLOOKUP(RIGHT(CONCATENATE(\"0000000000\",$B67),10),PRECIO_FACT!A:G,7,FALSE),\"\")","v":""}]
[null,null,{"$f":"IFERROR(CONCATENATE(VLOOKUP(RIGHT(CONCATENATE(\"0000000000\",$B68),10),PRECIO_FACT!A:E,2,0),\" \",\"(\",$I68,\"$)\"),\"\")","v":""},null,{"$f":"IFERROR(VLOOKUP(RIGHT(CONCATENATE(\"0000000000\",$B68),10),PRECIO_FACT!$A:$G,6,FALSE),\"\")","v":""},"","",{"$f":"IFERROR($D68/VLOOKUP(RIGHT(CONCATENATE(\"0000000000\",$B68),10),'Lista de Precios_USD$_Euro€'!E:L,4,FALSE),\"\")","v":""},{"$f":"IFERROR(VLOOKUP(RIGHT(CONCATENATE(\"0000000000\",$B68),10),PRECIO_FACT!A:G,7,FALSE),\"\")","v":""}]
[null,null,{"$f":"IFERROR(CONCATENATE(VLOOKUP(RIGHT(CONCATENATE(\"0000000000\",$B69),10),PRECIO_FACT!A:E,2,0),\" \",\"(\",$I69,\"$)\"),\"\")","v":""},null,{"$f":"IFERROR(VLOOKUP(RIGHT(CONCATENATE(\"0000000000\",$B69),10),PRECIO_FACT!$A:$G,6,FALSE),\"\")","v":""},"","",{"$f":"IFERROR($D69/VLOOKUP(RIGHT(CONCATENATE(\"0000000000\",$B69),10),'Lista de Precios_USD$_Euro€'!E:L,4,FALSE),\"\")","v":""},{"$f":"IFERROR(VLOOKUP(RIGHT(CONCATENATE(\"0000000000\",$B69),10),PRECIO_FACT!A:G,7,FALSE),\"\")","v":""}]
[null,"TOTAL CAJAS",null,{"$f":"IFERROR(SUM(H63:H69),\"\")","v":0},null,null,{"$f":"IFERROR(D70*#REF!,\"\")","v":""},{"$f":"IFERROR($D70/VLOOKUP(RIGHT(CONCATENATE(\"0000000000\",$B70),10),'Lista de Precios_USD$_Euro€'!E:L,4,FALSE),\"\")","v":""},{"$f":"IFERROR(VLOOKUP(RIGHT(CONCATENATE(\"0000000000\",$B70),10),PRECIO_FACT!A:G,7,FALSE),\"\")","v":""}]
[null,null,null,null,null,{"$f":"SUM(F63:F70)","v":0},{"$f":"SUM(G63:G70)","v":0}]
[null,{"$f":"IFERROR(VLOOKUP($B60,CLIENTE!A:AW,49,0),\"\")","v":""}]
[]
[null,"PEDIDOS DE CLIENTES REGULARES ON Y OFF TRADE "]
[]
[null,"CODIGO ","VENDEDOR",null,"FECHA","N° PEDIDO"]
[null,null,{"$f":"IFERROR(VLOOKUP(B77,CLIENTE!$A:$AW,2,0),\"\")","v":""},null,null,{"$f":"IF(J77=\"\",\"\",CONCATENATE(LEFT(C77,3),VLOOKUP(DAY(E77),$M$9:$N$43,2),VLOOKUP(MONTH(E77),$K$9:$L$20,2),RIGHT(YEAR(E77),2),J77))","v":""},null,null,null,{"$f":"IFERROR(IF(AND($B77,$E77)=\"\",\"\",\"05\"),\"\")","v":""}]
[null,{"$f":"IFERROR(VLOOKUP(B77,CLIENTE!$A:$AW,3,0),\"\")","v":""}]
[null,"CODIGO PRODUCTO","DESCRIPCION","UNIDAD","PRECIO","TOTAL","TOTAL USD$ / Euro€"]
[null,null,{"$f":"IFERROR(CONCATENATE(VLOOKUP(RIGHT(CONCATENATE(\"0000000000\",$B80),10),PRECIO_FACT!A:E,2,0),\" \",\"(\",$I80,\"$)\"),\"\")","v":""},null,{"$f":"IFERROR(VLOOKUP(RIGHT(CONCATENATE(\"0000000000\",$B80),10),PRECIO_FACT!$A:$G,6,FALSE),\"\")","v":""},{"$f":"IFERROR(D80*E80,\"\")","v":""},{"$f":"IFERROR(D80*I80,\"\")","v":""},{"$f":"IFERROR($D80/VLOOKUP(RIGHT(CONCATENATE(\"0000000000\",$B80),10),'Lista de Precios_USD$_Euro€'!E:L,4,FALSE),\"\")","v":""},{"$f":"IFERROR(VLOOKUP(RIGHT(CONCATENATE(\"0000000000\",$B80),10),PRECIO_FACT!A:G,7,FALSE),\"\")","v":""}]
[null,null,{"$f":"IFERROR(CONCATENATE(VLOOKUP(RIGHT(CONCATENATE(\"0000000000\",$B81),10),PRECIO_FACT!A:E,2,0),\" \",\"(\",$I81,\"$)\"),\"\")","v":""},null,{"$f":"IFERROR(VLOOKUP(RIGHT(CONCATENATE(\"0000000000\",$B81),10),PRECIO_FACT!$A:$G,6,FALSE),\"\")","v":""},{"$f":"IFERROR(D81*E81,\"\")","v":""},"",{"$f":"IFERROR($D81/VLOOKUP(RIGHT(CONCATENATE(\"0000000000\",$B81),10),'Lista de Precios_USD$_Euro€'!E:L,4,FALSE),\"\")","v":""},{"$f":"IFERROR(VLOOKUP(RIGHT(CONCATENATE(\"0000000000\",$B81),10),PRECIO_FACT!A:G,7,FALSE),\"\")","v":""}]
[null,null,{"$f":"IFERROR(CONCATENATE(VLOOKUP(RIGHT(CONCATENATE(\"0000000000\",$B82),10),PRECIO_FACT!A:E,2,0),\" \",\"(\",$I82,\"$)\"),\"\")","v":""},null,{"$f":"IFERROR(VLOOKUP(RIGHT(CONCATENATE(\"0000000000\",$B82),10),PRECIO_FACT!$A:$G,6,FALSE),\"\")","v":""},"","",{"$f":"IFERROR($D82/VLOOKUP(RIGHT(CONCATENATE(\"0000000000\",$B82),10),'Lista de Precios_USD$_Euro€'!E:L,4,FALSE),\"\")","v":""},{"$f":"IFERROR(VLOOKUP(RIGHT(CONCATENATE(\"0000000000\",$B82),10),PRECIO_FACT!A:G,7,FALSE),\"\")","v":""}]
[null,null,{"$f":"IFERROR(CONCATENATE(VLOOKUP(RIGHT(CONCATENATE(\"0000000000\",$B83),10),PRECIO_FACT!A:E,2,0),\" \",\"(\",$I83,\"$)\"),\"\")","v":""},null,{"$f":"IFERROR(VLOOKUP(RIGHT(CONCATENATE(\"0000000000\",$B83),10),PRECIO_FACT!$A:$G,6,FALSE),\"\")","v":""},"","",{"$f":"IFERROR($D83/VLOOKUP(RIGHT(CONCATENATE(\"0000000000\",$B83),10),'Lista de Precios_USD$_Euro€'!E:L,4,FALSE),\"\")","v":""},{"$f":"IFERROR(VLOOKUP(RIGHT(CONCATENATE(\"0000000000\",$B83),10),PRECIO_FACT!A:G,7,FALSE),\"\")","v":""}]
[null,null,{"$f":"IFERROR(CONCATENATE(VLOOKUP(RIGHT(CONCATENATE(\"0000000000\",$B84),10),PRECIO_FACT!A:E,2,0),\" \",\"(\",$I84,\"$)\"),\"\")","v":""},null,{"$f":"IFERROR(VLOOKUP(RIGHT(CONCATENATE(\"0000000000\",$B84),10),PRECIO_FACT!$A:$G,6,FALSE),\"\")","v":""},"","",{"$f":"IFERROR($D84/VLOOKUP(RIGHT(CONCATENATE(\"0000000000\",$B84),10),'Lista de Precios_USD$_Euro€'!E:L,4,FALSE),\"\")","v":""},{"$f":"IFERROR(VLOOKUP(RIGHT(CONCATENATE(\"0000000000\",$B84),10),PRECIO_FACT!A:G,7,FALSE),\"\")","v":""}]
[null,null,{"$f":"IFERROR(CONCATENATE(VLOOKUP(RIGHT(CONCATENATE(\"0000000000\",$B85),10),PRECIO_FACT!A:E,2,0),\" \",\"(\",$I85,\"$)\"),\"\")","v":""},null,{"$f":"IFERROR(VLOOKUP(RIGHT(CONCATENATE(\"0000000000\",$B85),10),PRECIO_FACT!$A:$G,6,FALSE),\"\")","v":""},"","",{"$f":"IFERROR($D85/VLOOKUP(RIGHT(CONCATENATE(\"0000000000\",$B85),10),'Lista de Precios_USD$_Euro€'!E:L,4,FALSE),\"\")","v":""},{"$f":"IFERROR(VLOOKUP(RIGHT(CONCATENATE(\"0000000000\",$B85),10),PRECIO_FACT!A:G,7,FALSE),\"\")","v":""}]
[null,null,{"$f":"IFERROR(CONCATENATE(VLOOKUP(RIGHT(CONCATENATE(\"0000000000\",$B86),10),PRECIO_FACT!A:E,2,0),\" \",\"(\",$I86,\"$)\"),\"\")","v":""},null,{"$f":"IFERROR(VLOOKUP(RIGHT(CONCATENATE(\"0000000000\",$B86),10),PRECIO_FACT!$A:$G,6,FALSE),\"\")","v":""},"","",{"$f":"IFERROR($D86/VLOOKUP(RIGHT(CONCATENATE(\"0000000000\",$B86),10),'Lista de Precios_USD$_Euro€'!E:L,4,FALSE),\"\")","v":""},{"$f":"IFERROR(VLOOKUP(RIGHT(CONCATENATE(\"0000000000\",$B86),10),PRECIO_FACT!A:G,7,FALSE),\"\")","v":""}]
[null,"TOTAL CAJAS",null,{"$f":"IFERROR(SUM(H80:H86),\"\")","v":0},null,null,{"$f":"IFERROR(D87*#REF!,\"\")","v":""},{"$f":"IFERROR($D87/VLOOKUP(RIGHT(CONCATENATE(\"0000000000\",$B87),10),'Lista de Precios_USD$_Euro€'!E:L,4,FALSE),\"\")","v":""},{"$f":"IFERROR(VLOOKUP(RIGHT(CONCATENATE(\"0000000000\",$B87),10),PRECIO_FACT!A:G,7,FALSE),\"\")","v":""}]
[null,null,null,null,null,{"$f":"SUM(F80:F87)","v":0},{"$f":"SUM(G80:G87)","v":0}]
[null,{"$f":"IFERROR(VLOOKUP($B77,CLIENTE!A:AW,49,0),\"\")","v":""}]
[]
[null,"PEDIDOS DE CLIENTES REGULARES ON Y OFF TRADE "]
[]
[null,"CODIGO ","VENDEDOR",null,"FECHA","N° PEDIDO"]
[null,null,{"$f":"IFERROR(VLOOKUP(B94,CLIENTE!$A:$AW,2,0),\"\")","v":""},null,null,{"$f":"IF(J94=\"\",\"\",CONCATENATE(LEFT(C94,3),VLOOKUP(DAY(E94),$M$9:$N$43,2),VLOOKUP(MONTH(E94),$K$9:$L$20,2),RIGHT(YEAR(E94),2),J94))","v":""},null,null,null,{"$f":"IFERROR(IF(AND($B94,$E94)=\"\",\"\",\"06\"),\"\")","v":""}]
[null,{"$f":"IFERROR(VLOOKUP(B94,CLIENTE!$A:$AW,3,0),\"\")","v":""}]
[null,"CODIGO PRODUCTO","DESCRIPCION","UNIDAD","PRECIO","TOTAL","TOTAL USD$ / Euro€"]
[null,null,{"$f":"IFERROR(CONCATENATE(VLOOKUP(RIGHT(CONCATENATE(\"0000000000\",$B97),10),PRECIO_FACT!A:E,2,0),\" \",\"(\",$I97,\"$)\"),\"\")","v":""},null,{"$f":"IFERROR(VLOOKUP(RIGHT(CONCATENATE(\"0000000000\",$B97),10),PRECIO_FACT!$A:$G,6,FALSE),\"\")","v":""},{"$f":"IFERROR(D97*E97,\"\")","v":""},{"$f":"IFERROR(D97*I97,\"\")","v":""},{"$f":"IFERROR($D97/VLOOKUP(RIGHT(CONCATENATE(\"0000000000\",$B97),10),'Lista de Precios_USD$_Euro€'!E:L,4,FALSE),\"\")","v":""},{"$f":"IFERROR(VLOOKUP(RIGHT(CONCATENATE(\"0000000000\",$B97),10),PRECIO_FACT!A:G,7,FALSE),\"\")","v":""}]
[null,null,{"$f":"IFERROR(CONCATENATE(VLOOKUP(RIGHT(CONCATENATE(\"0000000000\",$B98),10),PRECIO_FACT!A:E,2,0),\" \",\"(\",$I98,\"$)\"),\"\")","v":""},null,{"$f":"IFERROR(VLOOKUP(RIGHT(CONCATENATE(\"0000000000\",$B98),10),PRECIO_FACT!$A:$G,6,FALSE),\"\")","v":""},{"$f":"IFERROR(D98*E98,\"\")","v":""},"",{"$f":"IFERROR($D98/VLOOKUP(RIGHT(CONCATENATE(\"0000000000\",$B98),10),'Lista de Precios_USD$_Euro€'!E:L,4,FALSE),\"\")","v":""},{"$f":"IFERROR(VLOOKUP(RIGHT(CONCATENATE(\"0000000000\",$B98),10),PRECIO_FACT!A:G,7,FALSE),\"\")","v":""}]
[null,null,{"$f":"IFERROR(CONCATENATE(VLOOKUP(RIGHT(CONCATENATE(\"0000000000\",$B99),10),PRECIO_FACT!A:E,2,0),\" \",\"(\",$I99,\"$)\"),\"\")","v":""},null,{"$f":"IFERROR(VLOOKUP(RIGHT(CONCATENATE(\"0000000000\",$B99),10),PRECIO_FACT!$A:$G,6,FALSE),\"\")","v":""},"","",{"$f":"IFERROR($D99/VLOOKUP(RIGHT(CONCATENATE(\"0000000000\",$B99),10),'Lista de Precios_USD$_Euro€'!E:L,4,FALSE),\"\")","v":""},{"$f":"IFERROR(VLOOKUP(RIGHT(CONCATENATE(\"0000000000\",$B99),10),PRECIO_FACT!A:G,7,FALSE),\"\")","v":""}]
[null,null,{"$f":"IFERROR(CONCATENATE(VLOOKUP(RIGHT(CONCATENATE(\"0000000000\",$B100),10),PRECIO_FACT!A:E,2,0),\" \",\"(\",$I100,\"$)\"),\"\")","v":""},null,{"$f":"IFERROR(VLOOKUP(RIGHT(CONCATENATE(\"0000000000\",$B100),10),PRECIO_FACT!$A:$G,6,FALSE),\"\")","v":""},"","",{"$f":"IFERROR($D100/VLOOKUP(RIGHT(CONCATENATE(\"0000000000\",$B100),10),'Lista de Precios_USD$_Euro€'!E:L,4,FALSE),\"\")","v":""},{"$f":"IFERROR(VLOOKUP(RIGHT(CONCATENATE(\"0000000000\",$B100),10),PRECIO_FACT!A:G,7,FALSE),\"\")","v":""}]
[null,null,{"$f":"IFERROR(CONCATENATE(VLOOKUP(RIGHT(CONCATENATE(\"0000000000\",$B101),10),PRECIO_FACT!A:E,2,0),\" \",\"(\",$I101,\"$)\"),\"\")","v":""},null,{"$f":"IFERROR(VLOOKUP(RIGHT(CONCATENATE(\"0000000000\",$B101),10),PRECIO_FACT!$A:$G,6,FALSE),\"\")","v":""},"","",{"$f":"IFERROR($D101/VLOOKUP(RIGHT(CONCATENATE(\"0000000000\",$B101),10),'Lista de Precios_USD$_Euro€'!E:L,4,FALSE),\"\")","v":""},{"$f":"IFERROR(VLOOKUP(RIGHT(CONCATENATE(\"0000000000\",$B101),10),PRECIO_FACT!A:G,7,FALSE),\"\")","v":""}]
[null,null,{"$f":"IFERROR(CONCATENATE(VLOOKUP(RIGHT(CONCATENATE(\"0000000000\",$B102),10),PRECIO_FACT!A:E,2,0),\" \",\"(\",$I102,\"$)\"),\"\")","v":""},null,{"$f":"IFERROR(VLOOKUP(RIGHT(CONCATENATE(\"0000000000\",$B102),10),PRECIO_FACT!$A:$G,6,FALSE),\"\")","v":""},"","",{"$f":"IFERROR($D102/VLOOKUP(RIGHT(CONCATENATE(\"0000000000\",$B102),10),'Lista de Precios_USD$_Euro€'!E:L,4,FALSE),\"\")","v":""},{"$f":"IFERROR(VLOOKUP(RIGHT(CONCATENATE(\"0000000000\",$B102),10),PRECIO_FACT!A:G,7,FALSE),\"\")","v":""}]
[null,null,{"$f":"IFERROR(CONCATENATE(VLOOKUP(RIGHT(CONCATENATE(\"0000000000\",$B103),10),PRECIO_FACT!A:E,2,0),\" \",\"(\",$I103,\"$)\"),\"\")","v":""},null,{"$f":"IFERROR(VLOOKUP(RIGHT(CONCATENATE(\"0000000000\",$B103),10),PRECIO_FACT!$A:$G,6,FALSE),\"\")","v":""},"","",{"$f":"IFERROR($D103/VLOOKUP(RIGHT(CONCATENATE(\"0000000000\",$B103),10),'Lista de Precios_USD$_Euro€'!E:L,4,FALSE),\"\")","v":""},{"$f":"IFERROR(VLOOKUP(RIGHT(CONCATENATE(\"0000000000\",$B103),10),PRECIO_FACT!A:G,7,FALSE),\"\")","v":""}]
[null,"TOTAL CAJAS",null,{"$f":"IFERROR(SUM(H97:H103),\"\")","v":0},null,null,{"$f":"IFERROR(D104*#REF!,\"\")","v":""},{"$f":"IFERROR($D104/VLOOKUP(RIGHT(CONCATENATE(\"0000000000\",$B104),10),'Lista de Precios_USD$_Euro€'!E:L,4,FALSE),\"\")","v":""},{"$f":"IFERROR(VLOOKUP(RIGHT(CONCATENATE(\"0000000000\",$B104),10),PRECIO_FACT!A:G,7,FALSE),\"\")","v":""}]
[null,null,null,null,null,{"$f":"SUM(F97:F104)","v":0},{"$f":"SUM(G97:G104)","v":0}]
[null,{"$f":"IFERROR(VLOOKUP($B94,CLIENTE!A:AW,49,0),\"\")","v":""}]
[]
[null,"PEDIDOS DE CLIENTES REGULARES ON Y OFF TRADE "]
[]
[null,"CODIGO ","VENDEDOR",null,"FECHA","N° PEDIDO"]
[null,null,{"$f":"IFERROR(VLOOKUP(B111,CLIENTE!$A:$AW,2,0),\"\")","v":""},null,null,{"$f":"IF(J111=\"\",\"\",CONCATENATE(LEFT(C111,3),VLOOKUP(DAY(E111),$M$9:$N$43,2),VLOOKUP(MONTH(E111),$K$9:$L$20,2),RIGHT(YEAR(E111),2),J111))","v":""},null,null,null,{"$f":"IFERROR(IF(AND($B111,$E111)=\"\",\"\",\"07\"),\"\")","v":""}]
[null,{"$f":"IFERROR(VLOOKUP(B111,CLIENTE!$A:$AW,3,0),\"\")","v":""}]
[null,"CODIGO PRODUCTO","DESCRIPCION","UNIDAD","PRECIO","TOTAL","TOTAL USD$ / Euro€"]
[null,null,{"$f":"IFERROR(CONCATENATE(VLOOKUP(RIGHT(CONCATENATE(\"0000000000\",$B114),10),PRECIO_FACT!A:E,2,0),\" \",\"(\",$I114,\"$)\"),\"\")","v":""},null,{"$f":"IFERROR(VLOOKUP(RIGHT(CONCATENATE(\"0000000000\",$B114),10),PRECIO_FACT!$A:$G,6,FALSE),\"\")","v":""},{"$f":"IFERROR(D114*E114,\"\")","v":""},{"$f":"IFERROR(D114*I114,\"\")","v":""},{"$f":"IFERROR($D114/VLOOKUP(RIGHT(CONCATENATE(\"0000000000\",$B114),10),'Lista de Precios_USD$_Euro€'!E:L,4,FALSE),\"\")","v":""},{"$f":"IFERROR(VLOOKUP(RIGHT(CONCATENATE(\"0000000000\",$B114),10),PRECIO_FACT!A:G,7,FALSE),\"\")","v":""}]
[null,null,{"$f":"IFERROR(CONCATENATE(VLOOKUP(RIGHT(CONCATENATE(\"0000000000\",$B115),10),PRECIO_FACT!A:E,2,0),\" \",\"(\",$I115,\"$)\"),\"\")","v":""},null,{"$f":"IFERROR(VLOOKUP(RIGHT(CONCATENATE(\"0000000000\",$B115),10),PRECIO_FACT!$A:$G,6,FALSE),\"\")","v":""},{"$f":"IFERROR(D115*E115,\"\")","v":""},"",{"$f":"IFERROR($D115/VLOOKUP(RIGHT(CONCATENATE(\"0000000000\",$B115),10),'Lista de Precios_USD$_Euro€'!E:L,4,FALSE),\"\")","v":""},{"$f":"IFERROR(VLOOKUP(RIGHT(CONCATENATE(\"0000000000\",$B115),10),PRECIO_FACT!A:G,7,FALSE),\"\")","v":""}]
[null,null,{"$f":"IFERROR(CONCATENATE(VLOOKUP(RIGHT(CONCATENATE(\"0000000000\",$B116),10),PRECIO_FACT!A:E,2,0),\" \",\"(\",$I116,\"$)\"),\"\")","v":""},null,{"$f":"IFERROR(VLOOKUP(RIGHT(CONCATENATE(\"0000000000\",$B116),10),PRECIO_FACT!$A:$G,6,FALSE),\"\")","v":""},"","",{"$f":"IFERROR($D116/VLOOKUP(RIGHT(CONCATENATE(\"0000000000\",$B116),10),'Lista de Precios_USD$_Euro€'!E:L,4,FALSE),\"\")","v":""},{"$f":"IFERROR(VLOOKUP(RIGHT(CONCATENATE(\"0000000000\",$B116),10),PRECIO_FACT!A:G,7,FALSE),\"\")","v":""}]
[null,null,{"$f":"IFERROR(CONCATENATE(VLOOKUP(RIGHT(CONCATENATE(\"0000000000\",$B117),10),PRECIO_FACT!A:E,2,0),\" \",\"(\",$I117,\"$)\"),\"\")","v":""},null,{"$f":"IFERROR(VLOOKUP(RIGHT(CONCATENATE(\"0000000000\",$B117),10),PRECIO_FACT!$A:$G,6,FALSE),\"\")","v":""},"","",{"$f":"IFERROR($D117/VLOOKUP(RIGHT(CONCATENATE(\"0000000000\",$B117),10),'Lista de Precios_USD$_Euro€'!E:L,4,FALSE),\"\")","v":""},{"$f":"IFERROR(VLOOKUP(RIGHT(CONCATENATE(\"0000000000\",$B117),10),PRECIO_FACT!A:G,7,FALSE),\"\")","v":""}]
[null,null,{"$f":"IFERROR(CONCATENATE(VLOOKUP(RIGHT(CONCATENATE(\"0000000000\",$B118),10),PRECIO_FACT!A:E,2,0),\" \",\"(\",$I118,\"$)\"),\"\")","v":""},null,{"$f":"IFERROR(VLOOKUP(RIGHT(CONCATENATE(\"0000000000\",$B118),10),PRECIO_FACT!$A:$G,6,FALSE),\"\")","v":""},"","",{"$f":"IFERROR($D118/VLOOKUP(RIGHT(CONCATENATE(\"0000000000\",$B118),10),'Lista de Precios_USD$_Euro€'!E:L,4,FALSE),\"\")","v":""},{"$f":"IFERROR(VLOOKUP(RIGHT(CONCATENATE(\"0000000000\",$B118),10),PRECIO_FACT!A:G,7,FALSE),\"\")","v":""}]
[null,null,{"$f":"IFERROR(CONCATENATE(VLOOKUP(RIGHT(CONCATENATE(\"0000000000\",$B119),10),PRECIO_FACT!A:E,2,0),\" \",\"(\",$I119,\"$)\"),\"\")","v":""},null,{"$f":"IFERROR(VLOOKUP(RIGHT(CONCATENATE(\"0000000000\",$B119),10),PRECIO_FACT!$A:$G,6,FALSE),\"\")","v":""},"","",{"$f":"IFERROR($D119/VLOOKUP(RIGHT(CONCATENATE(\"0000000000\",$B119),10),'Lista de Precios_USD$_Euro€'!E:L,4,FALSE),\"\")","v":""},{"$f":"IFERROR(VLOOKUP(RIGHT(CONCATENATE(\"0000000000\",$B119),10),PRECIO_FACT!A:G,7,FALSE),\"\")","v":""}]
[null,null,{"$f":"IFERROR(CONCATENATE(VLOOKUP(RIGHT(CONCATENATE(\"0000000000\",$B120),10),PRECIO_FACT!A:E,2,0),\" \",\"(\",$I120,\"$)\"),\"\")","v":""},null,{"$f":"IFERROR(VLOOKUP(RIGHT(CONCATENATE(\"0000000000\",$B120),10),PRECIO_FACT!$A:$G,6,FALSE),\"\")","v":""},"","",{"$f":"IFERROR($D120/VLOOKUP(RIGHT(CONCATENATE(\"0000000000\",$B120),10),'Lista de Precios_USD$_Euro€'!E:L,4,FALSE),\"\")","v":""},{"$f":"IFERROR(VLOOKUP(RIGHT(CONCATENATE(\"0000000000\",$B120),10),PRECIO_FACT!A:G,7,FALSE),\"\")","v":""}]
[null,"TOTAL CAJAS",null,{"$f":"IFERROR(SUM(H114:H120),\"\")","v":0},null,null,{"$f":"IFERROR(D121*#REF!,\"\")","v":""},{"$f":"IFERROR($D121/VLOOKUP(RIGHT(CONCATENATE(\"0000000000\",$B121),10),'Lista de Precios_USD$_Euro€'!E:L,4,FALSE),\"\")","v":""},{"$f":"IFERROR(VLOOKUP(RIGHT(CONCATENATE(\"0000000000\",$B121),10),PRECIO_FACT!A:G,7,FALSE),\"\")","v":""}]
[null,null,null,null,null,{"$f":"SUM(F114:F121)","v":0},{"$f":"SUM(G114:G121)","v":0}]
[null,{"$f":"IFERROR(VLOOKUP($B111,CLIENTE!A:AW,49,0),\"\")","v":""}]
[]
[null,"PEDIDOS DE CLIENTES REGULARES ON Y OFF TRADE "]
[]
[null,"CODIGO ","VENDEDOR",null,"FECHA","N° PEDIDO"]
[null,null,{"$f":"IFERROR(VLOOKUP(B128,CLIENTE!$A:$AW,2,0),\"\")","v":""},null,null,{"$f":"IF(J128=\"\",\"\",CONCATENATE(LEFT(C128,3),VLOOKUP(DAY(E128),$M$9:$N$43,2),VLOOKUP(MONTH(E128),$K$9:$L$20,2),RIGHT(YEAR(E128),2),J128))","v":""},null,null,null,{"$f":"IFERROR(IF(AND($B128,$E128)=\"\",\"\",\"08\"),\"\")","v":""}]
[null,{"$f":"IFERROR(VLOOKUP(B128,CLIENTE!$A:$AW,3,0),\"\")","v":""}]
[null,"CODIGO PRODUCTO","DESCRIPCION","UNIDAD","PRECIO","TOTAL","TOTAL USD$ / Euro€"]
[null,null,{"$f":"IFERROR(CONCATENATE(VLOOKUP(RIGHT(CONCATENATE(\"0000000000\",$B131),10),PRECIO_FACT!A:E,2,0),\" \",\"(\",$I131,\"$)\"),\"\")","v":""},null,{"$f":"IFERROR(VLOOKUP(RIGHT(CONCATENATE(\"0000000000\",$B131),10),PRECIO_FACT!$A:$G,6,FALSE),\"\")","v":""},{"$f":"IFERROR(D131*E131,\"\")","v":""},{"$f":"IFERROR(D131*I131,\"\")","v":""},{"$f":"IFERROR($D131/VLOOKUP(RIGHT(CONCATENATE(\"0000000000\",$B131),10),'Lista de Precios_USD$_Euro€'!E:L,4,FALSE),\"\")","v":""},{"$f":"IFERROR(VLOOKUP(RIGHT(CONCATENATE(\"0000000000\",$B131),10),PRECIO_FACT!A:G,7,FALSE),\"\")","v":""}]
[null,null,{"$f":"IFERROR(CONCATENATE(VLOOKUP(RIGHT(CONCATENATE(\"0000000000\",$B132),10),PRECIO_FACT!A:E,2,0),\" \",\"(\",$I132,\"$)\"),\"\")","v":""},null,{"$f":"IFERROR(VLOOKUP(RIGHT(CONCATENATE(\"0000000000\",$B132),10),PRECIO_FACT!$A:$G,6,FALSE),\"\")","v":""},{"$f":"IFERROR(D132*E132,\"\")","v":""},"",{"$f":"IFERROR($D132/VLOOKUP(RIGHT(CONCATENATE(\"0000000000\",$B132),10),'Lista de Precios_USD$_Euro€'!E:L,4,FALSE),\"\")","v":""},{"$f":"IFERROR(VLOOKUP(RIGHT(CONCATENATE(\"0000000000\",$B132),10),PRECIO_FACT!A:G,7,FALSE),\"\")","v":""}]
[null,null,{"$f":"IFERROR(CONCATENATE(VLOOKUP(RIGHT(CONCATENATE(\"0000000000\",$B133),10),PRECIO_FACT!A:E,2,0),\" \",\"(\",$I133,\"$)\"),\"\")","v":""},null,{"$f":"IFERROR(VLOOKUP(RIGHT(CONCATENATE(\"0000000000\",$B133),10),PRECIO_FACT!$A:$G,6,FALSE),\"\")","v":""},"","",{"$f":"IFERROR($D133/VLOOKUP(RIGHT(CONCATENATE(\"0000000000\",$B133),10),'Lista de Precios_USD$_Euro€'!E:L,4,FALSE),\"\")","v":""},{"$f":"IFERROR(VLOOKUP(RIGHT(CONCATENATE(\"0000000000\",$B133),10),PRECIO_FACT!A:G,7,FALSE),\"\")","v":""}]
[null,null,{"$f":"IFERROR(CONCATENATE(VLOOKUP(RIGHT(CONCATENATE(\"0000000000\",$B134),10),PRECIO_FACT!A:E,2,0),\" \",\"(\",$I134,\"$)\"),\"\")","v":""},null,{"$f":"IFERROR(VLOOKUP(RIGHT(CONCATENATE(\"0000000000\",$B134),10),PRECIO_FACT!$A:$G,6,FALSE),\"\")","v":""},"","",{"$f":"IFERROR($D134/VLOOKUP(RIGHT(CONCATENATE(\"0000000000\",$B134),10),'Lista de Precios_USD$_Euro€'!E:L,4,FALSE),\"\")","v":""},{"$f":"IFERROR(VLOOKUP(RIGHT(CONCATENATE(\"0000000000\",$B134),10),PRECIO_FACT!A:G,7,FALSE),\"\")","v":""}]
[null,null,{"$f":"IFERROR(CONCATENATE(VLOOKUP(RIGHT(CONCATENATE(\"0000000000\",$B135),10),PRECIO_FACT!A:E,2,0),\" \",\"(\",$I135,\"$)\"),\"\")","v":""},null,{"$f":"IFERROR(VLOOKUP(RIGHT(CONCATENATE(\"0000000000\",$B135),10),PRECIO_FACT!$A:$G,6,FALSE),\"\")","v":""},"","",{"$f":"IFERROR($D135/VLOOKUP(RIGHT(CONCATENATE(\"0000000000\",$B135),10),'Lista de Precios_USD$_Euro€'!E:L,4,FALSE),\"\")","v":""},{"$f":"IFERROR(VLOOKUP(RIGHT(CONCATENATE(\"0000000000\",$B135),10),PRECIO_FACT!A:G,7,FALSE),\"\")","v":""}]
[null,null,{"$f":"IFERROR(CONCATENATE(VLOOKUP(RIGHT(CONCATENATE(\"0000000000\",$B136),10),PRECIO_FACT!A:E,2,0),\" \",\"(\",$I136,\"$)\"),\"\")","v":""},null,{"$f":"IFERROR(VLOOKUP(RIGHT(CONCATENATE(\"0000000000\",$B136),10),PRECIO_FACT!$A:$G,6,FALSE),\"\")","v":""},"","",{"$f":"IFERROR($D136/VLOOKUP(RIGHT(CONCATENATE(\"0000000000\",$B136),10),'Lista de Precios_USD$_Euro€'!E:L,4,FALSE),\"\")","v":""},{"$f":"IFERROR(VLOOKUP(RIGHT(CONCATENATE(\"0000000000\",$B136),10),PRECIO_FACT!A:G,7,FALSE),\"\")","v":""}]
[null,null,{"$f":"IFERROR(CONCATENATE(VLOOKUP(RIGHT(CONCATENATE(\"0000000000\",$B137),10),PRECIO_FACT!A:E,2,0),\" \",\"(\",$I137,\"$)\"),\"\")","v":""},null,{"$f":"IFERROR(VLOOKUP(RIGHT(CONCATENATE(\"0000000000\",$B137),10),PRECIO_FACT!$A:$G,6,FALSE),\"\")","v":""},"","",{"$f":"IFERROR($D137/VLOOKUP(RIGHT(CONCATENATE(\"0000000000\",$B137),10),'Lista de Precios_USD$_Euro€'!E:L,4,FALSE),\"\")","v":""},{"$f":"IFERROR(VLOOKUP(RIGHT(CONCATENATE(\"0000000000\",$B137),10),PRECIO_FACT!A:G,7,FALSE),\"\")","v":""}]
[null,"TOTAL CAJAS",null,{"$f":"IFERROR(SUM(H131:H137),\"\")","v":0},null,null,{"$f":"IFERROR(D138*#REF!,\"\")","v":""},{"$f":"IFERROR($D138/VLOOKUP(RIGHT(CONCATENATE(\"0000000000\",$B138),10),'Lista de Precios_USD$_Euro€'!E:L,4,FALSE),\"\")","v":""},{"$f":"IFERROR(VLOOKUP(RIGHT(CONCATENATE(\"0000000000\",$B138),10),PRECIO_FACT!A:G,7,FALSE),\"\")","v":""}]
[null,null,null,null,null,{"$f":"SUM(F131:F138)","v":0},{"$f":"SUM(G131:G138)","v":0}]
[null,{"$f":"IFERROR(VLOOKUP($B128,CLIENTE!A:AW,49,0),\"\")","v":""}]
[]
[null,"PEDIDOS DE CLIENTES REGULARES ON Y OFF TRADE "]
[]
[null,"CODIGO ","VENDEDOR",null,"FECHA","N° PEDIDO"]
[null,null,{"$f":"IFERROR(VLOOKUP(B145,CLIENTE!$A:$AW,2,0),\"\")","v":""},null,null,{"$f":"IF(J145=\"\",\"\",CONCATENATE(LEFT(C145,3),VLOOKUP(DAY(E145),$M$9:$N$43,2),VLOOKUP(MONTH(E145),$K$9:$L$20,2),RIGHT(YEAR(E145),2),J145))","v":""},null,null,null,{"$f":"IFERROR(IF(AND($B145,$E145)=\"\",\"\",\"09\"),\"\")","v":""}]
[null,{"$f":"IFERROR(VLOOKUP(B145,CLIENTE!$A:$AW,3,0),\"\")","v":""}]
[null,"CODIGO PRODUCTO","DESCRIPCION","UNIDAD","PRECIO","TOTAL","TOTAL USD$ / Euro€"]
[null,null,{"$f":"IFERROR(CONCATENATE(VLOOKUP(RIGHT(CONCATENATE(\"0000000000\",$B148),10),PRECIO_FACT!A:E,2,0),\" \",\"(\",$I148,\"$)\"),\"\")","v":""},null,{"$f":"IFERROR(VLOOKUP(RIGHT(CONCATENATE(\"0000000000\",$B148),10),PRECIO_FACT!$A:$G,6,FALSE),\"\")","v":""},{"$f":"IFERROR(D148*E148,\"\")","v":""},{"$f":"IFERROR(D148*I148,\"\")","v":""},{"$f":"IFERROR($D148/VLOOKUP(RIGHT(CONCATENATE(\"0000000000\",$B148),10),'Lista de Precios_USD$_Euro€'!E:L,4,FALSE),\"\")","v":""},{"$f":"IFERROR(VLOOKUP(RIGHT(CONCATENATE(\"0000000000\",$B148),10),PRECIO_FACT!A:G,7,FALSE),\"\")","v":""}]
[null,null,{"$f":"IFERROR(CONCATENATE(VLOOKUP(RIGHT(CONCATENATE(\"0000000000\",$B149),10),PRECIO_FACT!A:E,2,0),\" \",\"(\",$I149,\"$)\"),\"\")","v":""},null,{"$f":"IFERROR(VLOOKUP(RIGHT(CONCATENATE(\"0000000000\",$B149),10),PRECIO_FACT!$A:$G,6,FALSE),\"\")","v":""},{"$f":"IFERROR(D149*E149,\"\")","v":""},"",{"$f":"IFERROR($D149/VLOOKUP(RIGHT(CONCATENATE(\"0000000000\",$B149),10),'Lista de Precios_USD$_Euro€'!E:L,4,FALSE),\"\")","v":""},{"$f":"IFERROR(VLOOKUP(RIGHT(CONCATENATE(\"0000000000\",$B149),10),PRECIO_FACT!A:G,7,FALSE),\"\")","v":""}]
[null,null,{"$f":"IFERROR(CONCATENATE(VLOOKUP(RIGHT(CONCATENATE(\"0000000000\",$B150),10),PRECIO_FACT!A:E,2,0),\" \",\"(\",$I150,\"$)\"),\"\")","v":""},null,{"$f":"IFERROR(VLOOKUP(RIGHT(CONCATENATE(\"0000000000\",$B150),10),PRECIO_FACT!$A:$G,6,FALSE),\"\")","v":""},"","",{"$f":"IFERROR($D150/VLOOKUP(RIGHT(CONCATENATE(\"0000000000\",$B150),10),'Lista de Precios_USD$_Euro€'!E:L,4,FALSE),\"\")","v":""},{"$f":"IFERROR(VLOOKUP(RIGHT(CONCATENATE(\"0000000000\",$B150),10),PRECIO_FACT!A:G,7,FALSE),\"\")","v":""}]
[null,null,{"$f":"IFERROR(CONCATENATE(VLOOKUP(RIGHT(CONCATENATE(\"0000000000\",$B151),10),PRECIO_FACT!A:E,2,0),\" \",\"(\",$I151,\"$)\"),\"\")","v":""},null,{"$f":"IFERROR(VLOOKUP(RIGHT(CONCATENATE(\"0000000000\",$B151),10),PRECIO_FACT!$A:$G,6,FALSE),\"\")","v":""},"","",{"$f":"IFERROR($D151/VLOOKUP(RIGHT(CONCATENATE(\"0000000000\",$B151),10),'Lista de Precios_USD$_Euro€'!E:L,4,FALSE),\"\")","v":""},{"$f":"IFERROR(VLOOKUP(RIGHT(CONCATENATE(\"0000000000\",$B151),10),PRECIO_FACT!A:G,7,FALSE),\"\")","v":""}]
[null,null,{"$f":"IFERROR(CONCATENATE(VLOOKUP(RIGHT(CONCATENATE(\"0000000000\",$B152),10),PRECIO_FACT!A:E,2,0),\" \",\"(\",$I152,\"$)\"),\"\")","v":""},null,{"$f":"IFERROR(VLOOKUP(RIGHT(CONCATENATE(\"0000000000\",$B152),10),PRECIO_FACT!$A:$G,6,FALSE),\"\")","v":""},"","",{"$f":"IFERROR($D152/VLOOKUP(RIGHT(CONCATENATE(\"0000000000\",$B152),10),'Lista de Precios_USD$_Euro€'!E:L,4,FALSE),\"\")","v":""},{"$f":"IFERROR(VLOOKUP(RIGHT(CONCATENATE(\"0000000000\",$B152),10),PRECIO_FACT!A:G,7,FALSE),\"\")","v":""}]
[null,null,{"$f":"IFERROR(CONCATENATE(VLOOKUP(RIGHT(CONCATENATE(\"0000000000\",$B153),10),PRECIO_FACT!A:E,2,0),\" \",\"(\",$I153,\"$)\"),\"\")","v":""},null,{"$f":"IFERROR(VLOOKUP(RIGHT(CONCATENATE(\"0000000000\",$B153),10),PRECIO_FACT!$A:$G,6,FALSE),\"\")","v":""},"","",{"$f":"IFERROR($D153/VLOOKUP(RIGHT(CONCATENATE(\"0000000000\",$B153),10),'Lista de Precios_USD$_Euro€'!E:L,4,FALSE),\"\")","v":""},{"$f":"IFERROR(VLOOKUP(RIGHT(CONCATENATE(\"0000000000\",$B153),10),PRECIO_FACT!A:G,7,FALSE),\"\")","v":""}]
[null,null,{"$f":"IFERROR(CONCATENATE(VLOOKUP(RIGHT(CONCATENATE(\"0000000000\",$B154),10),PRECIO_FACT!A:E,2,0),\" \",\"(\",$I154,\"$)\"),\"\")","v":""},null,{"$f":"IFERROR(VLOOKUP(RIGHT(CONCATENATE(\"0000000000\",$B154),10),PRECIO_FACT!$A:$G,6,FALSE),\"\")","v":""},"","",{"$f":"IFERROR($D154/VLOOKUP(RIGHT(CONCATENATE(\"0000000000\",$B154),10),'Lista de Precios_USD$_Euro€'!E:L,4,FALSE),\"\")","v":""},{"$f":"IFERROR(VLOOKUP(RIGHT(CONCATENATE(\"0000000000\",$B154),10),PRECIO_FACT!A:G,7,FALSE),\"\")","v":""}]
[null,"TOTAL CAJAS",null,{"$f":"IFERROR(SUM(H148:H154),\"\")","v":0},null,null,{"$f":"IFERROR(D155*#REF!,\"\")","v":""},{"$f":"IFERROR($D155/VLOOKUP(RIGHT(CONCATENATE(\"0000000000\",$B155),10),'Lista de Precios_USD$_Euro€'!$F:$I,4,FALSE),\"\")","v":""},{"$f":"IFERROR(VLOOKUP(RIGHT(CONCATENATE(\"0000000000\",$B155),10),PRECIO_FACT!A:G,7,FALSE),\"\")","v":""}]
[null,null,null,null,null,{"$f":"SUM(F148:F155)","v":0},{"$f":"SUM(G148:G155)","v":0}]
[null,{"$f":"IFERROR(VLOOKUP($B145,CLIENTE!A:AW,49,0),\"\")","v":""}]
[]
[null,"PEDIDOS DE CLIENTES REGULARES ON Y OFF TRADE "]
[]
[null,"CODIGO ","VENDEDOR",null,"FECHA","N° PEDIDO"]
[null,null,{"$f":"IFERROR(VLOOKUP(B162,CLIENTE!$A:$AW,2,0),\"\")","v":""},null,null,{"$f":"IF(J162=\"\",\"\",CONCATENATE(LEFT(C162,3),VLOOKUP(DAY(E162),$M$9:$N$43,2),VLOOKUP(MONTH(E162),$K$9:$L$20,2),RIGHT(YEAR(E162),2),J162))","v":""},null,null,null,{"$f":"IFERROR(IF(AND($B162,$E162)=\"\",\"\",\"10\"),\"\")","v":""}]
[null,{"$f":"IFERROR(VLOOKUP(B162,CLIENTE!$A:$AW,3,0),\"\")","v":""}]
[null,"CODIGO PRODUCTO","DESCRIPCION","UNIDAD","PRECIO","TOTAL","TOTAL USD$ / Euro€"]
[null,null,{"$f":"IFERROR(CONCATENATE(VLOOKUP(RIGHT(CONCATENATE(\"0000000000\",$B165),10),PRECIO_FACT!A:E,2,0),\" \",\"(\",$I165,\"$)\"),\"\")","v":""},null,{"$f":"IFERROR(VLOOKUP(RIGHT(CONCATENATE(\"0000000000\",$B165),10),PRECIO_FACT!$A:$G,6,FALSE),\"\")","v":""},{"$f":"IFERROR(D165*E165,\"\")","v":""},{"$f":"IFERROR(D165*I165,\"\")","v":""},{"$f":"IFERROR($D165/VLOOKUP(RIGHT(CONCATENATE(\"0000000000\",$B165),10),'Lista de Precios_USD$_Euro€'!E:L,4,FALSE),\"\")","v":""},{"$f":"IFERROR(VLOOKUP(RIGHT(CONCATENATE(\"0000000000\",$B165),10),PRECIO_FACT!A:G,7,FALSE),\"\")","v":""}]
[null,null,{"$f":"IFERROR(CONCATENATE(VLOOKUP(RIGHT(CONCATENATE(\"0000000000\",$B166),10),PRECIO_FACT!A:E,2,0),\" \",\"(\",$I166,\"$)\"),\"\")","v":""},null,{"$f":"IFERROR(VLOOKUP(RIGHT(CONCATENATE(\"0000000000\",$B166),10),PRECIO_FACT!$A:$G,6,FALSE),\"\")","v":""},{"$f":"IFERROR(D166*E166,\"\")","v":""},{"$f":"IFERROR(D166*I166,\"\")","v":""},{"$f":"IFERROR($D166/VLOOKUP(RIGHT(CONCATENATE(\"0000000000\",$B166),10),'Lista de Precios_USD$_Euro€'!E:L,4,FALSE),\"\")","v":""},{"$f":"IFERROR(VLOOKUP(RIGHT(CONCATENATE(\"0000000000\",$B166),10),PRECIO_FACT!A:G,7,FALSE),\"\")","v":""}]
[null,null,{"$f":"IFERROR(CONCATENATE(VLOOKUP(RIGHT(CONCATENATE(\"0000000000\",$B167),10),PRECIO_FACT!A:E,2,0),\" \",\"(\",$I167,\"$)\"),\"\")","v":""},null,{"$f":"IFERROR(VLOOKUP(RIGHT(CONCATENATE(\"0000000000\",$B167),10),PRECIO_FACT!$A:$G,6,FALSE),\"\")","v":""},"","",{"$f":"IFERROR($D167/VLOOKUP(RIGHT(CONCATENATE(\"0000000000\",$B167),10),'Lista de Precios_USD$_Euro€'!E:L,4,FALSE),\"\")","v":""},{"$f":"IFERROR(VLOOKUP(RIGHT(CONCATENATE(\"0000000000\",$B167),10),PRECIO_FACT!A:G,7,FALSE),\"\")","v":""}]
[null,null,{"$f":"IFERROR(CONCATENATE(VLOOKUP(RIGHT(CONCATENATE(\"0000000000\",$B168),10),PRECIO_FACT!A:E,2,0),\" \",\"(\",$I168,\"$)\"),\"\")","v":""},null,{"$f":"IFERROR(VLOOKUP(RIGHT(CONCATENATE(\"0000000000\",$B168),10),PRECIO_FACT!$A:$G,6,FALSE),\"\")","v":""},"","",{"$f":"IFERROR($D168/VLOOKUP(RIGHT(CONCATENATE(\"0000000000\",$B168),10),'Lista de Precios_USD$_Euro€'!E:L,4,FALSE),\"\")","v":""},{"$f":"IFERROR(VLOOKUP(RIGHT(CONCATENATE(\"0000000000\",$B168),10),PRECIO_FACT!A:G,7,FALSE),\"\")","v":""}]
[null,null,{"$f":"IFERROR(CONCATENATE(VLOOKUP(RIGHT(CONCATENATE(\"0000000000\",$B169),10),PRECIO_FACT!A:E,2,0),\" \",\"(\",$I169,\"$)\"),\"\")","v":""},null,{"$f":"IFERROR(VLOOKUP(RIGHT(CONCATENATE(\"0000000000\",$B169),10),PRECIO_FACT!$A:$G,6,FALSE),\"\")","v":""},"","",{"$f":"IFERROR($D169/VLOOKUP(RIGHT(CONCATENATE(\"0000000000\",$B169),10),'Lista de Precios_USD$_Euro€'!E:L,4,FALSE),\"\")","v":""},{"$f":"IFERROR(VLOOKUP(RIGHT(CONCATENATE(\"0000000000\",$B169),10),PRECIO_FACT!A:G,7,FALSE),\"\")","v":""}]
[null,null,{"$f":"IFERROR(CONCATENATE(VLOOKUP(RIGHT(CONCATENATE(\"0000000000\",$B170),10),PRECIO_FACT!A:E,2,0),\" \",\"(\",$I170,\"$)\"),\"\")","v":""},null,{"$f":"IFERROR(VLOOKUP(RIGHT(CONCATENATE(\"0000000000\",$B170),10),PRECIO_FACT!$A:$G,6,FALSE),\"\")","v":""},"","",{"$f":"IFERROR($D170/VLOOKUP(RIGHT(CONCATENATE(\"0000000000\",$B170),10),'Lista de Precios_USD$_Euro€'!E:L,4,FALSE),\"\")","v":""},{"$f":"IFERROR(VLOOKUP(RIGHT(CONCATENATE(\"0000000000\",$B170),10),PRECIO_FACT!A:G,7,FALSE),\"\")","v":""}]
[null,null,{"$f":"IFERROR(CONCATENATE(VLOOKUP(RIGHT(CONCATENATE(\"0000000000\",$B171),10),PRECIO_FACT!A:E,2,0),\" \",\"(\",$I171,\"$)\"),\"\")","v":""},null,{"$f":"IFERROR(VLOOKUP(RIGHT(CONCATENATE(\"0000000000\",$B171),10),PRECIO_FACT!$A:$G,6,FALSE),\"\")","v":""},"","",{"$f":"IFERROR($D171/VLOOKUP(RIGHT(CONCATENATE(\"0000000000\",$B171),10),'Lista de Precios_USD$_Euro€'!E:L,4,FALSE),\"\")","v":""},{"$f":"IFERROR(VLOOKUP(RIGHT(CONCATENATE(\"0000000000\",$B171),10),PRECIO_FACT!A:G,7,FALSE),\"\")","v":""}]
[null,"TOTAL CAJAS",null,{"$f":"IFERROR(SUM(H165:H171),\"\")","v":0},null,null,{"$f":"IFERROR(D172*#REF!,\"\")","v":""},{"$f":"IFERROR($D172/VLOOKUP(RIGHT(CONCATENATE(\"0000000000\",$B172),10),'Lista de Precios_USD$_Euro€'!E:L,4,FALSE),\"\")","v":""},{"$f":"IFERROR(VLOOKUP(RIGHT(CONCATENATE(\"0000000000\",$B172),10),PRECIO_FACT!A:G,7,FALSE),\"\")","v":""}]
[null,null,null,null,null,{"$f":"SUM(F165:F172)","v":0},{"$f":"SUM(G165:G172)","v":0},{"$f":"IFERROR(VLOOKUP($B173,#REF!,6,0),\"\")","v":""}]
[null,{"$f":"IFERROR(VLOOKUP($B162,CLIENTE!A:AW,49,0),\"\")","v":""},null,null,null,null,null,{"$f":"IFERROR(VLOOKUP($B174,#REF!,6,0),\"\")","v":""}]
[]
[null,"PEDIDOS DE CLIENTES REGULARES ON Y OFF TRADE "]
[]
[null,"CODIGO ","VENDEDOR","FECHA",null,"N° PEDIDO"]
[null,null,{"$f":"IFERROR(VLOOKUP(B179,CLIENTE!$A:$AW,2,0),\"\")","v":""},null,null,{"$f":"IF(J179=\"\",\"\",CONCATENATE(LEFT(C179,3),VLOOKUP(DAY(E179),$M$9:$N$43,2),VLOOKUP(MONTH(E179),$K$9:$L$20,2),RIGHT(YEAR(E179),2),J179))","v":""},null,null,null,{"$f":"IFERROR(IF(AND($B179,$E179)=\"\",\"\",\"11\"),\"\")","v":""}]
[null,{"$f":"IFERROR(VLOOKUP(B179,CLIENTE!$A:$AW,3,0),\"\")","v":""}]
[null,"CODIGO PRODUCTO","DESCRIPCION","UNIDAD","PRECIO","TOTAL","TOTAL USD$ / Euro€"]
[null,null,{"$f":"IFERROR(CONCATENATE(VLOOKUP(RIGHT(CONCATENATE(\"0000000000\",$B182),10),PRECIO_FACT!A:E,2,0),\" \",\"(\",$I182,\"$)\"),\"\")","v":""},null,{"$f":"IFERROR(VLOOKUP(RIGHT(CONCATENATE(\"0000000000\",$B182),10),PRECIO_FACT!$A:$G,6,FALSE),\"\")","v":""},{"$f":"IFERROR(D182*E182,\"\")","v":""},{"$f":"IFERROR(D182*I182,\"\")","v":""},{"$f":"IFERROR($D182/VLOOKUP(RIGHT(CONCATENATE(\"0000000000\",$B182),10),'Lista de Precios_USD$_Euro€'!E:L,4,FALSE),\"\")","v":""},{"$f":"IFERROR(VLOOKUP(RIGHT(CONCATENATE(\"0000000000\",$B182),10),PRECIO_FACT!A:G,7,FALSE),\"\")","v":""}]
[null,null,{"$f":"IFERROR(CONCATENATE(VLOOKUP(RIGHT(CONCATENATE(\"0000000000\",$B183),10),PRECIO_FACT!A:E,2,0),\" \",\"(\",$I183,\"$)\"),\"\")","v":""},null,{"$f":"IFERROR(VLOOKUP(RIGHT(CONCATENATE(\"0000000000\",$B183),10),PRECIO_FACT!$A:$G,6,FALSE),\"\")","v":""},{"$f":"IFERROR(D183*E183,\"\")","v":""},"",{"$f":"IFERROR($D183/VLOOKUP(RIGHT(CONCATENATE(\"0000000000\",$B183),10),'Lista de Precios_USD$_Euro€'!E:L,4,FALSE),\"\")","v":""},{"$f":"IFERROR(VLOOKUP(RIGHT(CONCATENATE(\"0000000000\",$B183),10),PRECIO_FACT!A:G,7,FALSE),\"\")","v":""}]
[null,null,{"$f":"IFERROR(CONCATENATE(VLOOKUP(RIGHT(CONCATENATE(\"0000000000\",$B184),10),PRECIO_FACT!A:E,2,0),\" \",\"(\",$I184,\"$)\"),\"\")","v":""},null,{"$f":"IFERROR(VLOOKUP(RIGHT(CONCATENATE(\"0000000000\",$B184),10),PRECIO_FACT!$A:$G,6,FALSE),\"\")","v":""},"","",{"$f":"IFERROR($D184/VLOOKUP(RIGHT(CONCATENATE(\"0000000000\",$B184),10),'Lista de Precios_USD$_Euro€'!E:L,4,FALSE),\"\")","v":""},{"$f":"IFERROR(VLOOKUP(RIGHT(CONCATENATE(\"0000000000\",$B184),10),PRECIO_FACT!A:G,7,FALSE),\"\")","v":""}]
[null,null,{"$f":"IFERROR(CONCATENATE(VLOOKUP(RIGHT(CONCATENATE(\"0000000000\",$B185),10),PRECIO_FACT!A:E,2,0),\" \",\"(\",$I185,\"$)\"),\"\")","v":""},null,{"$f":"IFERROR(VLOOKUP(RIGHT(CONCATENATE(\"0000000000\",$B185),10),PRECIO_FACT!$A:$G,6,FALSE),\"\")","v":""},"","",{"$f":"IFERROR($D185/VLOOKUP(RIGHT(CONCATENATE(\"0000000000\",$B185),10),'Lista de Precios_USD$_Euro€'!E:L,4,FALSE),\"\")","v":""},{"$f":"IFERROR(VLOOKUP(RIGHT(CONCATENATE(\"0000000000\",$B185),10),PRECIO_FACT!A:G,7,FALSE),\"\")","v":""}]
[null,null,{"$f":"IFERROR(CONCATENATE(VLOOKUP(RIGHT(CONCATENATE(\"0000000000\",$B186),10),PRECIO_FACT!A:E,2,0),\" \",\"(\",$I186,\"$)\"),\"\")","v":""},null,{"$f":"IFERROR(VLOOKUP(RIGHT(CONCATENATE(\"0000000000\",$B186),10),PRECIO_FACT!$A:$G,6,FALSE),\"\")","v":""},"","",{"$f":"IFERROR($D186/VLOOKUP(RIGHT(CONCATENATE(\"0000000000\",$B186),10),'Lista de Precios_USD$_Euro€'!E:L,4,FALSE),\"\")","v":""},{"$f":"IFERROR(VLOOKUP(RIGHT(CONCATENATE(\"0000000000\",$B186),10),PRECIO_FACT!A:G,7,FALSE),\"\")","v":""}]
[null,null,{"$f":"IFERROR(CONCATENATE(VLOOKUP(RIGHT(CONCATENATE(\"0000000000\",$B187),10),PRECIO_FACT!A:E,2,0),\" \",\"(\",$I187,\"$)\"),\"\")","v":""},null,{"$f":"IFERROR(VLOOKUP(RIGHT(CONCATENATE(\"0000000000\",$B187),10),PRECIO_FACT!$A:$G,6,FALSE),\"\")","v":""},"","",{"$f":"IFERROR($D187/VLOOKUP(RIGHT(CONCATENATE(\"0000000000\",$B187),10),'Lista de Precios_USD$_Euro€'!E:L,4,FALSE),\"\")","v":""},{"$f":"IFERROR(VLOOKUP(RIGHT(CONCATENATE(\"0000000000\",$B187),10),PRECIO_FACT!A:G,7,FALSE),\"\")","v":""}]
[null,null,{"$f":"IFERROR(CONCATENATE(VLOOKUP(RIGHT(CONCATENATE(\"0000000000\",$B188),10),PRECIO_FACT!A:E,2,0),\" \",\"(\",$I188,\"$)\"),\"\")","v":""},null,{"$f":"IFERROR(VLOOKUP(RIGHT(CONCATENATE(\"0000000000\",$B188),10),PRECIO_FACT!$A:$G,6,FALSE),\"\")","v":""},"","",{"$f":"IFERROR($D188/VLOOKUP(RIGHT(CONCATENATE(\"0000000000\",$B188),10),'Lista de Precios_USD$_Euro€'!E:L,4,FALSE),\"\")","v":""},{"$f":"IFERROR(VLOOKUP(RIGHT(CONCATENATE(\"0000000000\",$B188),10),PRECIO_FACT!A:G,7,FALSE),\"\")","v":""}]
[null,"TOTAL CAJAS",null,{"$f":"IFERROR(SUM(H182:H188),\"\")","v":0},null,null,{"$f":"IFERROR(D189*#REF!,\"\")","v":""},{"$f":"IFERROR($D189/VLOOKUP(RIGHT(CONCATENATE(\"0000000000\",$B189),10),'Lista de Precios_USD$_Euro€'!E:L,4,FALSE),\"\")","v":""},{"$f":"IFERROR(VLOOKUP(RIGHT(CONCATENATE(\"0000000000\",$B189),10),PRECIO_FACT!A:G,7,FALSE),\"\")","v":""}]
[null,null,null,null,null,{"$f":"SUM(F182:F189)","v":0},{"$f":"SUM(G182:G189)","v":0},{"$f":"IFERROR(VLOOKUP($B190,#REF!,6,0),\"\")","v":""}]
[null,{"$f":"IFERROR(VLOOKUP($B179,CLIENTE!A:AW,49,0),\"\")","v":""},null,null,null,null,null,{"$f":"IFERROR(VLOOKUP($B191,#REF!,6,0),\"\")","v":""}]
[]
[null,"PEDIDOS DE CLIENTES REGULARES ON Y OFF TRADE "]
[]
[null,"CODIGO ","VENDEDOR","FECHA",null,"N° PEDIDO"]
[null,null,{"$f":"IFERROR(VLOOKUP(B196,CLIENTE!$A:$AW,2,0),\"\")","v":""},null,null,{"$f":"IF(J196=\"\",\"\",CONCATENATE(LEFT(C196,3),VLOOKUP(DAY(E196),$M$9:$N$43,2),VLOOKUP(MONTH(E196),$K$9:$L$20,2),RIGHT(YEAR(E196),2),J196))","v":""},null,null,null,{"$f":"IFERROR(IF(AND($B196,$E196)=\"\",\"\",\"12\"),\"\")","v":""}]
[null,{"$f":"IFERROR(VLOOKUP(B196,CLIENTE!$A:$AW,3,0),\"\")","v":""}]
[null,"CODIGO PRODUCTO","DESCRIPCION","UNIDAD","PRECIO","TOTAL","TOTAL USD$ / Euro€"]
[null,null,{"$f":"IFERROR(CONCATENATE(VLOOKUP(RIGHT(CONCATENATE(\"0000000000\",$B199),10),PRECIO_FACT!A:E,2,0),\" \",\"(\",$I199,\"$)\"),\"\")","v":""},null,{"$f":"IFERROR(VLOOKUP(RIGHT(CONCATENATE(\"0000000000\",$B199),10),PRECIO_FACT!$A:$G,6,FALSE),\"\")","v":""},{"$f":"IFERROR(D199*E199,\"\")","v":""},{"$f":"IFERROR(D199*I199,\"\")","v":""},{"$f":"IFERROR($D199/VLOOKUP(RIGHT(CONCATENATE(\"0000000000\",$B199),10),'Lista de Precios_USD$_Euro€'!E:L,4,FALSE),\"\")","v":""},{"$f":"IFERROR(VLOOKUP(RIGHT(CONCATENATE(\"0000000000\",$B199),10),PRECIO_FACT!A:G,7,FALSE),\"\")","v":""}]
[null,null,{"$f":"IFERROR(CONCATENATE(VLOOKUP(RIGHT(CONCATENATE(\"0000000000\",$B200),10),PRECIO_FACT!A:E,2,0),\" \",\"(\",$I200,\"$)\"),\"\")","v":""},null,{"$f":"IFERROR(VLOOKUP(RIGHT(CONCATENATE(\"0000000000\",$B200),10),PRECIO_FACT!$A:$G,6,FALSE),\"\")","v":""},{"$f":"IFERROR(D200*E200,\"\")","v":""},"",{"$f":"IFERROR($D200/VLOOKUP(RIGHT(CONCATENATE(\"0000000000\",$B200),10),'Lista de Precios_USD$_Euro€'!E:L,4,FALSE),\"\")","v":""},{"$f":"IFERROR(VLOOKUP(RIGHT(CONCATENATE(\"0000000000\",$B200),10),PRECIO_FACT!A:G,7,FALSE),\"\")","v":""}]
[null,null,{"$f":"IFERROR(CONCATENATE(VLOOKUP(RIGHT(CONCATENATE(\"0000000000\",$B201),10),PRECIO_FACT!A:E,2,0),\" \",\"(\",$I201,\"$)\"),\"\")","v":""},null,{"$f":"IFERROR(VLOOKUP(RIGHT(CONCATENATE(\"0000000000\",$B201),10),PRECIO_FACT!$A:$G,6,FALSE),\"\")","v":""},"","",{"$f":"IFERROR($D201/VLOOKUP(RIGHT(CONCATENATE(\"0000000000\",$B201),10),'Lista de Precios_USD$_Euro€'!E:L,4,FALSE),\"\")","v":""},{"$f":"IFERROR(VLOOKUP(RIGHT(CONCATENATE(\"0000000000\",$B201),10),PRECIO_FACT!A:G,7,FALSE),\"\")","v":""}]
[null,null,{"$f":"IFERROR(CONCATENATE(VLOOKUP(RIGHT(CONCATENATE(\"0000000000\",$B202),10),PRECIO_FACT!A:E,2,0),\" \",\"(\",$I202,\"$)\"),\"\")","v":""},null,{"$f":"IFERROR(VLOOKUP(RIGHT(CONCATENATE(\"0000000000\",$B202),10),PRECIO_FACT!$A:$G,6,FALSE),\"\")","v":""},"","",{"$f":"IFERROR($D202/VLOOKUP(RIGHT(CONCATENATE(\"0000000000\",$B202),10),'Lista de Precios_USD$_Euro€'!E:L,4,FALSE),\"\")","v":""},{"$f":"IFERROR(VLOOKUP(RIGHT(CONCATENATE(\"0000000000\",$B202),10),PRECIO_FACT!A:G,7,FALSE),\"\")","v":""}]
[null,null,{"$f":"IFERROR(CONCATENATE(VLOOKUP(RIGHT(CONCATENATE(\"0000000000\",$B203),10),PRECIO_FACT!A:E,2,0),\" \",\"(\",$I203,\"$)\"),\"\")","v":""},null,{"$f":"IFERROR(VLOOKUP(RIGHT(CONCATENATE(\"0000000000\",$B203),10),PRECIO_FACT!$A:$G,6,FALSE),\"\")","v":""},"","",{"$f":"IFERROR($D203/VLOOKUP(RIGHT(CONCATENATE(\"0000000000\",$B203),10),'Lista de Precios_USD$_Euro€'!E:L,4,FALSE),\"\")","v":""},{"$f":"IFERROR(VLOOKUP(RIGHT(CONCATENATE(\"0000000000\",$B203),10),PRECIO_FACT!A:G,7,FALSE),\"\")","v":""}]
[null,null,{"$f":"IFERROR(CONCATENATE(VLOOKUP(RIGHT(CONCATENATE(\"0000000000\",$B204),10),PRECIO_FACT!A:E,2,0),\" \",\"(\",$I204,\"$)\"),\"\")","v":""},null,{"$f":"IFERROR(VLOOKUP(RIGHT(CONCATENATE(\"0000000000\",$B204),10),PRECIO_FACT!$A:$G,6,FALSE),\"\")","v":""},"","",{"$f":"IFERROR($D204/VLOOKUP(RIGHT(CONCATENATE(\"0000000000\",$B204),10),'Lista de Precios_USD$_Euro€'!E:L,4,FALSE),\"\")","v":""},{"$f":"IFERROR(VLOOKUP(RIGHT(CONCATENATE(\"0000000000\",$B204),10),PRECIO_FACT!A:G,7,FALSE),\"\")","v":""}]
[null,null,{"$f":"IFERROR(CONCATENATE(VLOOKUP(RIGHT(CONCATENATE(\"0000000000\",$B205),10),PRECIO_FACT!A:E,2,0),\" \",\"(\",$I205,\"$)\"),\"\")","v":""},null,{"$f":"IFERROR(VLOOKUP(RIGHT(CONCATENATE(\"0000000000\",$B205),10),PRECIO_FACT!$A:$G,6,FALSE),\"\")","v":""},"","",{"$f":"IFERROR($D205/VLOOKUP(RIGHT(CONCATENATE(\"0000000000\",$B205),10),'Lista de Precios_USD$_Euro€'!E:L,4,FALSE),\"\")","v":""},{"$f":"IFERROR(VLOOKUP(RIGHT(CONCATENATE(\"0000000000\",$B205),10),PRECIO_FACT!A:G,7,FALSE),\"\")","v":""}]
[null,"TOTAL CAJAS",null,{"$f":"IFERROR(SUM(H199:H205),\"\")","v":0},null,null,{"$f":"IFERROR(D206*#REF!,\"\")","v":""},{"$f":"IFERROR($D206/VLOOKUP(RIGHT(CONCATENATE(\"0000000000\",$B206),10),'Lista de Precios_USD$_Euro€'!E:L,4,FALSE),\"\")","v":""},{"$f":"IFERROR(VLOOKUP(RIGHT(CONCATENATE(\"0000000000\",$B206),10),PRECIO_FACT!A:G,7,FALSE),\"\")","v":""}]
[null,null,null,null,null,{"$f":"SUM(F199:F206)","v":0},{"$f":"SUM(G199:G206)","v":0},{"$f":"IFERROR(VLOOKUP($B207,#REF!,6,0),\"\")","v":""}]
[null,{"$f":"IFERROR(VLOOKUP($B196,CLIENTE!A:AW,49,0),\"\")","v":""},null,null,null,null,null,{"$f":"IFERROR(VLOOKUP($B208,#REF!,6,0),\"\")","v":""}]
[]
[null,"PEDIDOS DE CLIENTES REGULARES ON Y OFF TRADE "]
[]
[null,"CODIGO ","VENDEDOR","FECHA",null,"N° PEDIDO"]
[null,null,{"$f":"IFERROR(VLOOKUP(B213,CLIENTE!$A:$AW,2,0),\"\")","v":""},null,null,{"$f":"IF(J213=\"\",\"\",CONCATENATE(LEFT(C213,3),VLOOKUP(DAY(E213),$M$9:$N$43,2),VLOOKUP(MONTH(E213),$K$9:$L$20,2),RIGHT(YEAR(E213),2),J213))","v":""},null,null,null,{"$f":"IFERROR(IF(AND($B213,$E213)=\"\",\"\",\"13\"),\"\")","v":""}]
[null,{"$f":"IFERROR(VLOOKUP(B213,CLIENTE!$A:$AW,3,0),\"\")","v":""}]
[null,"CODIGO PRODUCTO","DESCRIPCION","UNIDAD","PRECIO","TOTAL","TOTAL USD$ / Euro€"]
[null,null,{"$f":"IFERROR(CONCATENATE(VLOOKUP(RIGHT(CONCATENATE(\"0000000000\",$B216),10),PRECIO_FACT!A:E,2,0),\" \",\"(\",$I216,\"$)\"),\"\")","v":""},null,{"$f":"IFERROR(VLOOKUP(RIGHT(CONCATENATE(\"0000000000\",$B216),10),PRECIO_FACT!$A:$G,6,FALSE),\"\")","v":""},{"$f":"IFERROR(D216*E216,\"\")","v":""},{"$f":"IFERROR(D216*I216,\"\")","v":""},{"$f":"IFERROR($D216/VLOOKUP(RIGHT(CONCATENATE(\"0000000000\",$B216),10),'Lista de Precios_USD$_Euro€'!E:L,4,FALSE),\"\")","v":""},{"$f":"IFERROR(VLOOKUP(RIGHT(CONCATENATE(\"0000000000\",$B216),10),PRECIO_FACT!A:G,7,FALSE),\"\")","v":""}]
[null,null,{"$f":"IFERROR(CONCATENATE(VLOOKUP(RIGHT(CONCATENATE(\"0000000000\",$B217),10),PRECIO_FACT!A:E,2,0),\" \",\"(\",$I217,\"$)\"),\"\")","v":""},null,{"$f":"IFERROR(VLOOKUP(RIGHT(CONCATENATE(\"0000000000\",$B217),10),PRECIO_FACT!$A:$G,6,FALSE),\"\")","v":""},{"$f":"IFERROR(D217*E217,\"\")","v":""},"",{"$f":"IFERROR($D217/VLOOKUP(RIGHT(CONCATENATE(\"0000000000\",$B217),10),'Lista de Precios_USD$_Euro€'!E:L,4,FALSE),\"\")","v":""},{"$f":"IFERROR(VLOOKUP(RIGHT(CONCATENATE(\"0000000000\",$B217),10),PRECIO_FACT!A:G,7,FALSE),\"\")","v":""}]
[null,null,{"$f":"IFERROR(CONCATENATE(VLOOKUP(RIGHT(CONCATENATE(\"0000000000\",$B218),10),PRECIO_FACT!A:E,2,0),\" \",\"(\",$I218,\"$)\"),\"\")","v":""},null,{"$f":"IFERROR(VLOOKUP(RIGHT(CONCATENATE(\"0000000000\",$B218),10),PRECIO_FACT!$A:$G,6,FALSE),\"\")","v":""},"","",{"$f":"IFERROR($D218/VLOOKUP(RIGHT(CONCATENATE(\"0000000000\",$B218),10),'Lista de Precios_USD$_Euro€'!E:L,4,FALSE),\"\")","v":""},{"$f":"IFERROR(VLOOKUP(RIGHT(CONCATENATE(\"0000000000\",$B218),10),PRECIO_FACT!A:G,7,FALSE),\"\")","v":""}]
[null,null,{"$f":"IFERROR(CONCATENATE(VLOOKUP(RIGHT(CONCATENATE(\"0000000000\",$B219),10),PRECIO_FACT!A:E,2,0),\" \",\"(\",$I219,\"$)\"),\"\")","v":""},null,{"$f":"IFERROR(VLOOKUP(RIGHT(CONCATENATE(\"0000000000\",$B219),10),PRECIO_FACT!$A:$G,6,FALSE),\"\")","v":""},"","",{"$f":"IFERROR($D219/VLOOKUP(RIGHT(CONCATENATE(\"0000000000\",$B219),10),'Lista de Precios_USD$_Euro€'!E:L,4,FALSE),\"\")","v":""},{"$f":"IFERROR(VLOOKUP(RIGHT(CONCATENATE(\"0000000000\",$B219),10),PRECIO_FACT!A:G,7,FALSE),\"\")","v":""}]
[null,null,{"$f":"IFERROR(CONCATENATE(VLOOKUP(RIGHT(CONCATENATE(\"0000000000\",$B220),10),PRECIO_FACT!A:E,2,0),\" \",\"(\",$I220,\"$)\"),\"\")","v":""},null,{"$f":"IFERROR(VLOOKUP(RIGHT(CONCATENATE(\"0000000000\",$B220),10),PRECIO_FACT!$A:$G,6,FALSE),\"\")","v":""},"","",{"$f":"IFERROR($D220/VLOOKUP(RIGHT(CONCATENATE(\"0000000000\",$B220),10),'Lista de Precios_USD$_Euro€'!E:L,4,FALSE),\"\")","v":""},{"$f":"IFERROR(VLOOKUP(RIGHT(CONCATENATE(\"0000000000\",$B220),10),PRECIO_FACT!A:G,7,FALSE),\"\")","v":""}]
[null,null,{"$f":"IFERROR(CONCATENATE(VLOOKUP(RIGHT(CONCATENATE(\"0000000000\",$B221),10),PRECIO_FACT!A:E,2,0),\" \",\"(\",$I221,\"$)\"),\"\")","v":""},null,{"$f":"IFERROR(VLOOKUP(RIGHT(CONCATENATE(\"0000000000\",$B221),10),PRECIO_FACT!$A:$G,6,FALSE),\"\")","v":""},"","",{"$f":"IFERROR($D221/VLOOKUP(RIGHT(CONCATENATE(\"0000000000\",$B221),10),'Lista de Precios_USD$_Euro€'!E:L,4,FALSE),\"\")","v":""},{"$f":"IFERROR(VLOOKUP(RIGHT(CONCATENATE(\"0000000000\",$B221),10),PRECIO_FACT!A:G,7,FALSE),\"\")","v":""}]
[null,null,{"$f":"IFERROR(CONCATENATE(VLOOKUP(RIGHT(CONCATENATE(\"0000000000\",$B222),10),PRECIO_FACT!A:E,2,0),\" \",\"(\",$I222,\"$)\"),\"\")","v":""},null,{"$f":"IFERROR(VLOOKUP(RIGHT(CONCATENATE(\"0000000000\",$B222),10),PRECIO_FACT!$A:$G,6,FALSE),\"\")","v":""},"","",{"$f":"IFERROR($D222/VLOOKUP(RIGHT(CONCATENATE(\"0000000000\",$B222),10),'Lista de Precios_USD$_Euro€'!E:L,4,FALSE),\"\")","v":""},{"$f":"IFERROR(VLOOKUP(RIGHT(CONCATENATE(\"0000000000\",$B222),10),PRECIO_FACT!A:G,7,FALSE),\"\")","v":""}]
[null,"TOTAL CAJAS",null,{"$f":"IFERROR(SUM(H216:H222),\"\")","v":0},null,null,{"$f":"IFERROR(D223*#REF!,\"\")","v":""},{"$f":"IFERROR($D223/VLOOKUP(RIGHT(CONCATENATE(\"0000000000\",$B223),10),'Lista de Precios_USD$_Euro€'!E:L,4,FALSE),\"\")","v":""},{"$f":"IFERROR(VLOOKUP(RIGHT(CONCATENATE(\"0000000000\",$B223),10),PRECIO_FACT!A:G,7,FALSE),\"\")","v":""}]
[null,null,null,null,null,{"$f":"SUM(F216:F223)","v":0},{"$f":"SUM(G216:G223)","v":0},{"$f":"IFERROR(VLOOKUP($B224,#REF!,6,0),\"\")","v":""}]
[null,{"$f":"IFERROR(VLOOKUP($B213,CLIENTE!A:AW,49,0),\"\")","v":""},null,null,null,null,null,{"$f":"IFERROR(VLOOKUP($B225,#REF!,6,0),\"\")","v":""}]
[]
[null,"PEDIDOS DE CLIENTES REGULARES ON Y OFF TRADE "]
[]
[null,"CODIGO ","VENDEDOR","FECHA",null,"N° PEDIDO"]
[null,null,{"$f":"IFERROR(VLOOKUP(B230,CLIENTE!$A:$AW,2,0),\"\")","v":""},null,null,{"$f":"IF(J230=\"\",\"\",CONCATENATE(LEFT(C230,3),VLOOKUP(DAY(E230),$M$9:$N$43,2),VLOOKUP(MONTH(E230),$K$9:$L$20,2),RIGHT(YEAR(E230),2),J230))","v":""},null,null,null,{"$f":"IFERROR(IF(AND($B230,$E230)=\"\",\"\",\"14\"),\"\")","v":""}]
[null,{"$f":"IFERROR(VLOOKUP(B230,CLIENTE!$A:$AW,3,0),\"\")","v":""}]
[null,"CODIGO PRODUCTO","DESCRIPCION","UNIDAD","PRECIO","TOTAL","TOTAL USD$ / Euro€"]
[null,null,{"$f":"IFERROR(CONCATENATE(VLOOKUP(RIGHT(CONCATENATE(\"0000000000\",$B233),10),PRECIO_FACT!A:E,2,0),\" \",\"(\",$I233,\"$)\"),\"\")","v":""},null,{"$f":"IFERROR(VLOOKUP(RIGHT(CONCATENATE(\"0000000000\",$B233),10),PRECIO_FACT!$A:$G,6,FALSE),\"\")","v":""},{"$f":"IFERROR(D233*E233,\"\")","v":""},{"$f":"IFERROR(D233*I233,\"\")","v":""},{"$f":"IFERROR($D233/VLOOKUP(RIGHT(CONCATENATE(\"0000000000\",$B233),10),'Lista de Precios_USD$_Euro€'!E:L,4,FALSE),\"\")","v":""},{"$f":"IFERROR(VLOOKUP(RIGHT(CONCATENATE(\"0000000000\",$B233),10),PRECIO_FACT!A:G,7,FALSE),\"\")","v":""}]
[null,null,{"$f":"IFERROR(CONCATENATE(VLOOKUP(RIGHT(CONCATENATE(\"0000000000\",$B234),10),PRECIO_FACT!A:E,2,0),\" \",\"(\",$I234,\"$)\"),\"\")","v":""},null,{"$f":"IFERROR(VLOOKUP(RIGHT(CONCATENATE(\"0000000000\",$B234),10),PRECIO_FACT!$A:$G,6,FALSE),\"\")","v":""},{"$f":"IFERROR(D234*E234,\"\")","v":""},"",{"$f":"IFERROR($D234/VLOOKUP(RIGHT(CONCATENATE(\"0000000000\",$B234),10),'Lista de Precios_USD$_Euro€'!E:L,4,FALSE),\"\")","v":""},{"$f":"IFERROR(VLOOKUP(RIGHT(CONCATENATE(\"0000000000\",$B234),10),PRECIO_FACT!A:G,7,FALSE),\"\")","v":""}]
[null,null,{"$f":"IFERROR(CONCATENATE(VLOOKUP(RIGHT(CONCATENATE(\"0000000000\",$B235),10),PRECIO_FACT!A:E,2,0),\" \",\"(\",$I235,\"$)\"),\"\")","v":""},null,{"$f":"IFERROR(VLOOKUP(RIGHT(CONCATENATE(\"0000000000\",$B235),10),PRECIO_FACT!$A:$G,6,FALSE),\"\")","v":""},"","",{"$f":"IFERROR($D235/VLOOKUP(RIGHT(CONCATENATE(\"0000000000\",$B235),10),'Lista de Precios_USD$_Euro€'!E:L,4,FALSE),\"\")","v":""},{"$f":"IFERROR(VLOOKUP(RIGHT(CONCATENATE(\"0000000000\",$B235),10),PRECIO_FACT!A:G,7,FALSE),\"\")","v":""}]
[null,null,{"$f":"IFERROR(CONCATENATE(VLOOKUP(RIGHT(CONCATENATE(\"0000000000\",$B236),10),PRECIO_FACT!A:E,2,0),\" \",\"(\",$I236,\"$)\"),\"\")","v":""},null,{"$f":"IFERROR(VLOOKUP(RIGHT(CONCATENATE(\"0000000000\",$B236),10),PRECIO_FACT!$A:$G,6,FALSE),\"\")","v":""},"","",{"$f":"IFERROR($D236/VLOOKUP(RIGHT(CONCATENATE(\"0000000000\",$B236),10),'Lista de Precios_USD$_Euro€'!E:L,4,FALSE),\"\")","v":""},{"$f":"IFERROR(VLOOKUP(RIGHT(CONCATENATE(\"0000000000\",$B236),10),PRECIO_FACT!A:G,7,FALSE),\"\")","v":""}]
[null,null,{"$f":"IFERROR(CONCATENATE(VLOOKUP(RIGHT(CONCATENATE(\"0000000000\",$B237),10),PRECIO_FACT!A:E,2,0),\" \",\"(\",$I237,\"$)\"),\"\")","v":""},null,{"$f":"IFERROR(VLOOKUP(RIGHT(CONCATENATE(\"0000000000\",$B237),10),PRECIO_FACT!$A:$G,6,FALSE),\"\")","v":""},"","",{"$f":"IFERROR($D237/VLOOKUP(RIGHT(CONCATENATE(\"0000000000\",$B237),10),'Lista de Precios_USD$_Euro€'!E:L,4,FALSE),\"\")","v":""},{"$f":"IFERROR(VLOOKUP(RIGHT(CONCATENATE(\"0000000000\",$B237),10),PRECIO_FACT!A:G,7,FALSE),\"\")","v":""}]
[null,null,{"$f":"IFERROR(CONCATENATE(VLOOKUP(RIGHT(CONCATENATE(\"0000000000\",$B238),10),PRECIO_FACT!A:E,2,0),\" \",\"(\",$I238,\"$)\"),\"\")","v":""},null,{"$f":"IFERROR(VLOOKUP(RIGHT(CONCATENATE(\"0000000000\",$B238),10),PRECIO_FACT!$A:$G,6,FALSE),\"\")","v":""},"","",{"$f":"IFERROR($D238/VLOOKUP(RIGHT(CONCATENATE(\"0000000000\",$B238),10),'Lista de Precios_USD$_Euro€'!E:L,4,FALSE),\"\")","v":""},{"$f":"IFERROR(VLOOKUP(RIGHT(CONCATENATE(\"0000000000\",$B238),10),PRECIO_FACT!A:G,7,FALSE),\"\")","v":""}]
[null,null,{"$f":"IFERROR(CONCATENATE(VLOOKUP(RIGHT(CONCATENATE(\"0000000000\",$B239),10),PRECIO_FACT!A:E,2,0),\" \",\"(\",$I239,\"$)\"),\"\")","v":""},null,{"$f":"IFERROR(VLOOKUP(RIGHT(CONCATENATE(\"0000000000\",$B239),10),PRECIO_FACT!$A:$G,6,FALSE),\"\")","v":""},"","",{"$f":"IFERROR($D239/VLOOKUP(RIGHT(CONCATENATE(\"0000000000\",$B239),10),'Lista de Precios_USD$_Euro€'!E:L,4,FALSE),\"\")","v":""},{"$f":"IFERROR(VLOOKUP(RIGHT(CONCATENATE(\"0000000000\",$B239),10),PRECIO_FACT!A:G,7,FALSE),\"\")","v":""}]
[null,"TOTAL CAJAS",null,{"$f":"IFERROR(SUM(H233:H239),\"\")","v":0},null,null,{"$f":"IFERROR(D240*#REF!,\"\")","v":""},{"$f":"IFERROR($D240/VLOOKUP(RIGHT(CONCATENATE(\"0000000000\",$B240),10),'Lista de Precios_USD$_Euro€'!E:L,4,FALSE),\"\")","v":""},{"$f":"IFERROR(VLOOKUP(RIGHT(CONCATENATE(\"0000000000\",$B240),10),PRECIO_FACT!A:G,7,FALSE),\"\")","v":""}]
[null,null,null,null,null,{"$f":"SUM(F233:F240)","v":0},{"$f":"SUM(G233:G240)","v":0},{"$f":"IFERROR($D241/VLOOKUP(RIGHT(CONCATENATE(\"0000000000\",$B241),10),'Lista de Precios_USD$_Euro€'!$F:$I,4,FALSE),\"\")","v":""},{"$f":"IFERROR(VLOOKUP(RIGHT(CONCATENATE(\"0000000000\",$B241),10),PRECIO_FACT!A:G,7,FALSE),\"\")","v":""}]
[null,{"$f":"IFERROR(VLOOKUP($B230,CLIENTE!A:AW,49,0),\"\")","v":""},null,null,null,null,null,{"$f":"IFERROR(VLOOKUP($B242,#REF!,6,0),\"\")","v":""}]
[]
[null,"PEDIDOS DE CLIENTES REGULARES ON Y OFF TRADE "]
[]
[null,"CODIGO ","VENDEDOR",null,"FECHA","N° PEDIDO"]
[null,null,{"$f":"IFERROR(VLOOKUP(B247,CLIENTE!$A:$AW,2,0),\"\")","v":""},null,null,{"$f":"IF(J247=\"\",\"\",CONCATENATE(LEFT(C247,3),VLOOKUP(DAY(E247),$M$9:$N$43,2),VLOOKUP(MONTH(E247),$K$9:$L$20,2),RIGHT(YEAR(E247),2),J247))","v":""},null,null,null,{"$f":"IFERROR(IF(AND($B247,$E247)=\"\",\"\",\"15\"),\"\")","v":""}]
[null,{"$f":"IFERROR(VLOOKUP(B247,CLIENTE!$A:$AW,3,0),\"\")","v":""}]
[null,"CODIGO PRODUCTO","DESCRIPCION","UNIDAD","PRECIO","TOTAL","TOTAL USD$ / Euro€"]
[null,null,{"$f":"IFERROR(CONCATENATE(VLOOKUP(RIGHT(CONCATENATE(\"0000000000\",$B250),10),PRECIO_FACT!A:E,2,0),\" \",\"(\",$I250,\"$)\"),\"\")","v":""},null,{"$f":"IFERROR(VLOOKUP(RIGHT(CONCATENATE(\"0000000000\",$B250),10),PRECIO_FACT!$A:$G,6,FALSE),\"\")","v":""},{"$f":"IFERROR(D250*E250,\"\")","v":""},{"$f":"IFERROR(D250*I250,\"\")","v":""},{"$f":"IFERROR($D250/VLOOKUP(RIGHT(CONCATENATE(\"0000000000\",$B250),10),'Lista de Precios_USD$_Euro€'!E:L,4,FALSE),\"\")","v":""},{"$f":"IFERROR(VLOOKUP(RIGHT(CONCATENATE(\"0000000000\",$B250),10),PRECIO_FACT!A:G,7,FALSE),\"\")","v":""}]
[null,null,{"$f":"IFERROR(CONCATENATE(VLOOKUP(RIGHT(CONCATENATE(\"0000000000\",$B251),10),PRECIO_FACT!A:E,2,0),\" \",\"(\",$I251,\"$)\"),\"\")","v":""},null,{"$f":"IFERROR(VLOOKUP(RIGHT(CONCATENATE(\"0000000000\",$B251),10),PRECIO_FACT!$A:$G,6,FALSE),\"\")","v":""},{"$f":"IFERROR(D251*E251,\"\")","v":""},"",{"$f":"IFERROR($D251/VLOOKUP(RIGHT(CONCATENATE(\"0000000000\",$B251),10),'Lista de Precios_USD$_Euro€'!E:L,4,FALSE),\"\")","v":""},{"$f":"IFERROR(VLOOKUP(RIGHT(CONCATENATE(\"0000000000\",$B251),10),PRECIO_FACT!A:G,7,FALSE),\"\")","v":""}]
[null,null,{"$f":"IFERROR(CONCATENATE(VLOOKUP(RIGHT(CONCATENATE(\"0000000000\",$B252),10),PRECIO_FACT!A:E,2,0),\" \",\"(\",$I252,\"$)\"),\"\")","v":""},null,{"$f":"IFERROR(VLOOKUP(RIGHT(CONCATENATE(\"0000000000\",$B252),10),PRECIO_FACT!$A:$G,6,FALSE),\"\")","v":""},"","",{"$f":"IFERROR($D252/VLOOKUP(RIGHT(CONCATENATE(\"0000000000\",$B252),10),'Lista de Precios_USD$_Euro€'!E:L,4,FALSE),\"\")","v":""},{"$f":"IFERROR(VLOOKUP(RIGHT(CONCATENATE(\"0000000000\",$B252),10),PRECIO_FACT!A:G,7,FALSE),\"\")","v":""}]
[null,null,{"$f":"IFERROR(CONCATENATE(VLOOKUP(RIGHT(CONCATENATE(\"0000000000\",$B253),10),PRECIO_FACT!A:E,2,0),\" \",\"(\",$I253,\"$)\"),\"\")","v":""},null,{"$f":"IFERROR(VLOOKUP(RIGHT(CONCATENATE(\"0000000000\",$B253),10),PRECIO_FACT!$A:$G,6,FALSE),\"\")","v":""},"","",{"$f":"IFERROR($D253/VLOOKUP(RIGHT(CONCATENATE(\"0000000000\",$B253),10),'Lista de Precios_USD$_Euro€'!E:L,4,FALSE),\"\")","v":""},{"$f":"IFERROR(VLOOKUP(RIGHT(CONCATENATE(\"0000000000\",$B253),10),PRECIO_FACT!A:G,7,FALSE),\"\")","v":""}]
[null,null,{"$f":"IFERROR(CONCATENATE(VLOOKUP(RIGHT(CONCATENATE(\"0000000000\",$B254),10),PRECIO_FACT!A:E,2,0),\" \",\"(\",$I254,\"$)\"),\"\")","v":""},null,{"$f":"IFERROR(VLOOKUP(RIGHT(CONCATENATE(\"0000000000\",$B254),10),PRECIO_FACT!$A:$G,6,FALSE),\"\")","v":""},"","",{"$f":"IFERROR($D254/VLOOKUP(RIGHT(CONCATENATE(\"0000000000\",$B254),10),'Lista de Precios_USD$_Euro€'!E:L,4,FALSE),\"\")","v":""},{"$f":"IFERROR(VLOOKUP(RIGHT(CONCATENATE(\"0000000000\",$B254),10),PRECIO_FACT!A:G,7,FALSE),\"\")","v":""}]
[null,null,{"$f":"IFERROR(CONCATENATE(VLOOKUP(RIGHT(CONCATENATE(\"0000000000\",$B255),10),PRECIO_FACT!A:E,2,0),\" \",\"(\",$I255,\"$)\"),\"\")","v":""},null,{"$f":"IFERROR(VLOOKUP(RIGHT(CONCATENATE(\"0000000000\",$B255),10),PRECIO_FACT!$A:$G,6,FALSE),\"\")","v":""},"","",{"$f":"IFERROR($D255/VLOOKUP(RIGHT(CONCATENATE(\"0000000000\",$B255),10),'Lista de Precios_USD$_Euro€'!E:L,4,FALSE),\"\")","v":""},{"$f":"IFERROR(VLOOKUP(RIGHT(CONCATENATE(\"0000000000\",$B255),10),PRECIO_FACT!A:G,7,FALSE),\"\")","v":""}]
[null,null,{"$f":"IFERROR(CONCATENATE(VLOOKUP(RIGHT(CONCATENATE(\"0000000000\",$B256),10),PRECIO_FACT!A:E,2,0),\" \",\"(\",$I256,\"$)\"),\"\")","v":""},null,{"$f":"IFERROR(VLOOKUP(RIGHT(CONCATENATE(\"0000000000\",$B256),10),PRECIO_FACT!$A:$G,6,FALSE),\"\")","v":""},"","",{"$f":"IFERROR($D256/VLOOKUP(RIGHT(CONCATENATE(\"0000000000\",$B256),10),'Lista de Precios_USD$_Euro€'!E:L,4,FALSE),\"\")","v":""},{"$f":"IFERROR(VLOOKUP(RIGHT(CONCATENATE(\"0000000000\",$B256),10),PRECIO_FACT!A:G,7,FALSE),\"\")","v":""}]
[null,"TOTAL CAJAS",null,{"$f":"IFERROR(SUM(H250:H256),\"\")","v":0},null,null,{"$f":"IFERROR(D257*#REF!,\"\")","v":""},{"$f":"IFERROR($D257/VLOOKUP(RIGHT(CONCATENATE(\"0000000000\",$B257),10),'Lista de Precios_USD$_Euro€'!E:L,4,FALSE),\"\")","v":""},{"$f":"IFERROR(VLOOKUP(RIGHT(CONCATENATE(\"0000000000\",$B257),10),PRECIO_FACT!A:G,7,FALSE),\"\")","v":""}]
[null,null,null,null,null,{"$f":"SUM(F250:F257)","v":0},{"$f":"SUM(G250:G257)","v":0},{"$f":"IFERROR($D258/VLOOKUP(RIGHT(CONCATENATE(\"0000000000\",$B258),10),'Lista de Precios_USD$_Euro€'!$F:$I,4,FALSE),\"\")","v":""},{"$f":"IFERROR(VLOOKUP(RIGHT(CONCATENATE(\"0000000000\",$B258),10),PRECIO_FACT!A:G,7,FALSE),\"\")","v":""}]
[null,{"$f":"IFERROR(VLOOKUP($B247,CLIENTE!A:AW,49,0),\"\")","v":""}]

{"sheet":"Lista de Precios_USD$_Euro€","index":2,"n_rows":288,"n_cols":15,"rows_kept":288,"cut":false,"hidden":true,"merged":[[1,10,4,12],[10,8,10,12],[10,13,10,14],[11,4,12,4],[11,5,12,5],[11,6,12,6],[11,7,12,7],[11,8,11,9],[11,10,11,12],[11,13,11,14],[10,4,10,7],[9,4,9,7],[11,1,12,1],[11,2,11,3],[11,0,12,0],[8,4,8,7],[13,0,56,0],[58,0,89,0],[90,0,98,0],[100,0,140,0],[145,0,149,0],[142,0,143,0],[151,0,171,0],[172,0,173,0],[174,0,179,0],[272,0,284,0],[199,0,230,0],[235,0,236,0],[238,0,239,0],[241,0,257,0],[259,0,266,0],[268,0,270,0],[180,0,197,0]]}
[]
[null,null,5,6,null,null,null,null,null,null,"inclusión de promoción ENJOY",null,null,null,3]
[]
[null,null,null,null,null,null,null,null,null,null,null,null,null,null,"Vigencia:"]
[null,null,null,null,null,null,null,null,null,null,null,null,null,null,"2023-12-27"]
[null,null,null,null,null,null,null,null,null,null,null,null,null,null,"Emisión:"]
["Lista de Precios Única",null,null,null,null,null,null,null,null,null,null,null,null,null,"2023-12-27"]
[]
["USD$ / Euro€",null,null,null,"*CAMBIO DINAZ e INCLUSION DE SKU a partir del 27/ DIC/2023. Correo del 27/DIC/2023."]
[null,null,null,null,"*CAMBIO DINAZ e INCLUSION DE SKU a partir del 15/ DIC/2023. Correo del 15/DIC/2023."]
[null,null,null,null,"*CAMBIO DINAZ e INCLUSION DE SKU a partir del 08/ DIC/2023. Correo del 08/DIC/2023.",null,null,null,"USD $",null,null,null,null,"Precio USD$ / Euro€"]
["PORTAFOLIO","Nota","Código de Barras",null,"Cód","PRODUCTO","Cap.","UxC","Precio Base ",null,"Impuestos",null,null,"Precio de Venta"]
[null,null,"Botella","Caja",null,null,null,null,"Caja","Unid.","PVP (Caja)","IVA (Caja)","Total  Imp","Caja","Unid."]
["PERNOD RICARD VENEZUELA"]
[null,null,"WHISKY ESCOCES"]
[null,null,"SUB STANDARD"]
[null,null,980432402655,5000299202654,"0000000381","WHISKY SCOTCH 100 PIPERS 40º",0.7,6,51.355206847360918,8.5592011412268203,10,8.2168330955777478,18.216833095577748,69.572039942938659,11.595339990489776]
[]
[null,null,980432402655," ","0000012976","W.CONTIGO 100 PIPERS 40° 0.700 LTS ",0.7,6,50.991270760911554,8.498545126818593,8.1424369373384433,8,16.142436937338445,67.133707698249992,11.188951283041666]
[]
[null,null,null,null,"0000013083","W.PROM 100 PIPERS ACT PERNOD 40° 0.700LTS",0.7,6,50.991270760911554,8.498545126818593,8.1424369373384433,8,16.142436937338445,67.133707698249992,11.188951283041666]
[null,null,"8 AÑOS"]
[null,null,80432402795,10080432402792,"0000000893","SOMETHING SPECIAL 40°",0.75,12,126.65710186513631,10.55475848876136,36.1,20.265136298421812,56.365136298421817,183.02223816355814,15.251853180296512]
[null,null,null,null,"0000000895","WHISKY BALLANTINES FINEST 40° ",0.75,12,134.84722222222223,11.237268518518519,45.02,21.575555555555557,66.595555555555563,201.44277777777779,16.786898148148151]
[]
[null,null,80432402795,10080432402792,"0000013024","WHISKY FOREVER SOMETHING S.40° 0.750LTS",0.75,12,123.74709724335655,10.312258103613045,35.799999999999997,19.799535558937048,55.599535558937049,179.34663280229358,14.945552733524465]
[null,null,"12 AÑOS"]
[null,null,80432400395,400832400393,"0000000371","CHIVAS REGAL 12 AÑOS 40°",0.75,12,207.93528505392911,17.327940421160758,76.650000000000006,33.269645608628657,109.91964560862866,317.85493066255776,26.48791088854648]
[null,null,null,null,"0000000828","WHISKY BALLANTINES 12 AÑOS 40° 0.700LTS",0.75,12,203.41,16.950833333333332,86.2,32.549999999999997,118.75,322.15999999999997,26.846666666666664]
[null,null,"13 AÑOS"]
[null,null,null,null,"0000012874","WHISKY CHIVAS REGAL 40° 13YO 0.700LTS.",0.75,6,136.84,22.806666666666668,53.4,21.89,75.289999999999992,212.13,35.354999999999997]
[]
[null,null,80432400395,400832400393,"0000012973","W.CELEBRA PROM CHIVAS REGAL 40° 0.750LTS ",0.75,12,216.15818181818184,18.01318181818182,67.179224329403752,34.585309090909099,101.76453342031286,317.92271523849467,26.493559603207888]
[]
[null,null,80432400395,400832400393,"0000013029","W.CHIVAS REGAL 12AÑO CELEBRA PAPA 40° 0.750LTS",0.75,12,216.6,18.010000000000002,67.180000000000007,34.590000000000003,101.76,317.92,26.49]
[]
[null,null,80432400395,400832400393,"0000013076","W.PROM CHIVAS R.12AÑOS ACT PERNOD 40° 0.750LTS",0.75,12,216.6,18.010000000000002,67.180000000000007,34.590000000000003,101.76,317.92,26.49]
[]
[null,null,null,null,"0000013161","WHISKY CHIVAS REGAL 12AÑOS ENJOY 40°0.750LTS",0.75,12,216.6,18.010000000000002,67.180000000000007,34.590000000000003,101.76,317.92,26.49]
[null,null,"18 AÑOS"]
[null,null,5000299225103,"5000299225103","0000001770","CHIVAS REGAL 18 AÑOS 40°",0.7,6,264.12,44.02,70.05,42.26,112.31,376.43,62.738333333333337]
[]
[null,null,null,null,"0000013084","W.PROM CHIVAS R,18AÑOS ACT PERNOD 40° 0.700LTS",0.7,6,290.29495826377297,{"$f":"+I43/H43","v":48.382493043962164},62.985306680335,{"$f":"+I43*16%","v":46.447193322203674},{"$f":"+K43+L43","v":109.43250000253867},{"$f":"+M43+I43","v":399.72745826631166},{"$f":"+N43/H43","v":66.621243044385281}]
[null,null,"21 AÑOS"]
[null,null,5000299211236,5000299211236,"0000001565","ROYAL SALUTE 21 AÑOS 40°",0.7,6,1127.8,187.96666666666667,164.39,180.45,344.84,1472.6399999999999,245.43999999999997]
[]
[null,null,null,null,"0000013079","W.PROM ROYAL SALUTE ACT PERNOD 40° 0.700LTS",0.7,6,909.99115363784085,151.66519227297348,164.45026178010468,145.59858458205454,310.04884636215922,1220.04,203.34]
[null,null,"VODKA IMPORTADA"]
[null,null,7312040017683,27312040017687,"0000000878","VODKA ABSOLUT 40°",0.7,12,154.90666666666667,12.908888888888889,24.79,24.785066666666665,49.575066666666665,204.48173333333332,17.040144444444444]
[]
[null,null,null,null,"0000013080","V.PROM VODKA ABSOLUT ACT PERNOD 40° 0.700LTS",0.7,12,128.89655172413794,10.741379310344827,32.64,20.623448275862071,53.263448275862075,182.16,15.18]
[null,null,"GINEBRA IMPORTADA"]
[null,null,5000329002193,5000329001202,"0000000572","BEEFEATER DRY GIN 40°",0.7,12,273.567344767983,22.797278730665251,17.440000000000001,43.770775162877278,61.210775162877283,334.77811993086027,27.898176660905023]
[]
[null,null,null,null,"0000013081","G.PROM BEEFEATER ACT PERNOD 40° 0.700LTS",0.7,12,272.33,{"$f":"+I55/H55","v":22.694166666666664},17.440000000000001,43.57,{"$f":"+L55+K55","v":61.010000000000005},{"$f":"+M55+I55","v":333.34},{"$f":"+N55/H55","v":27.778333333333332}]
[null,null,"LICOR DE CAFÉ"]
[null,null,7610594251455,17610594252213,"0000012403","LICOR DE CAFÉ KAHLUA 20°",0.75,12,156.6,13.049999999999999,9.06,25.06,34.119999999999997,190.72,15.893333333333333]
[]
["CORP. ALIVARI",null,"WHISKY ESCOCES"]
[null,null,"8 AÑOS"]
[null,null,5010314750008,5010314759094,"0000009260","WHISKY SCOTCH THE FAMOUS GROUSE 8 AÑOS 40º ",0.75,12,101.39068965517242,8.4492241379310347,15.946800000000001,16.222510344827587,32.169310344827586,133.56,11.13]
[null,null,5010314101015,5010314101091,"0000012593","WHISKY SCOTCH FAMOUS GROUSE 8 AÑOS 40º",1,12,152.88517241379313,12.740431034482761,18.973199999999999,24.461627586206902,43.4348275862069,196.32,16.36]
[null,null,5010327926490,5010327926506,"0000012521","WHISKY SCOTH SIR ALBERT 40°",0.7,12,77.012068965517244,6.4176724137931034,1.746,12.321931034482759,14.06793103448276,91.08,7.59]
[null,null,"12 AÑOS"]
[null,null,5010314017408,5010314017491,"0000012518","WHISKY SCOTCH THE MACALLAN SHERRY 12AÑOS 40°",0.7,12,997.78655172413789,83.148879310344824,1.0476000000000001,159.64584827586208,160.69344827586207,1158.48,96.54]
[null,null,5010314048907,5010314040796,"0000012519","WHISKY SCOTCH THE MACALLAN TRIPLE CASK 12AÑOS 40°",0.7,12,867.25241379310341,72.271034482758623,28.8672,138.76038620689656,167.62758620689655,1034.8799999999999,86.24]
[null,null,5010314302863,5010314203009,"0000012520","WHISKY SCOTCH THE MACALLAN DOUBLE CASK 12AÑOS 40°",0.7,12,968.46413793103454,80.705344827586217,10.941599999999999,154.95426206896553,165.89586206896553,1134.3600000000001,94.53]
[null,null,5010314309978,5010314209377,"0000012517","WHISKY SCOTCH THE MACALLAN CLASSIC CUT 55° ",0.7,12,1481.0803448275863,123.42336206896552,15.946800000000001,236.9728551724138,252.9196551724138,1734,144.5]
[null,null,"15 AÑOS"]
[null,null,5010314308469,5010314207700,"0000012516","WHISKY SCOTH THE MACALLAN 15AÑOS DOUBLE CASK 43°",0.7,6,823.16068965517252,137.1934482758621,14.4336,131.70571034482759,146.13931034482761,969.30000000000007,161.55000000000001]
[null,null,"18 AÑOS"]
[null,null,5010314309862,5010314209254,"0000012515","WHISKY SCOTCH THE MACALLAN 18AÑOS DOUBLE CASK 43°",0.7,6,2234.1263793103449,372.35439655172416,7.9734000000000007,357.46022068965516,365.43362068965519,2599.56,433.26]
[null,null,"LICOR DE CREMA"]
[null,null,6001495062508,6001495062515,"0000002098","LICOR DE CREMA DE FRUTAS AMARULA 17º",0.75,12,211.26620689655175,17.605517241379314,0.93120000000000003,33.802593103448281,34.733793103448278,246,20.5]
[null,null,6001108093776,"16001108 073157","0000012523","LICOR DE CREMA AMARULA VAINILLA 15.5°",0.75,12,211.26620689655175,17.605517241379314,0.93120000000000003,33.802593103448281,34.733793103448278,246,20.5]
[null,null,6001108103956,16001108082357,"0000012650","LICOR DE CREMA AMARULA ETHIOPIAN COFEE 15.5°",0.75,12,211.26620689655175,17.605517241379314,0.93120000000000003,33.802593103448281,34.733793103448278,246,20.5]
[null,null,"LICOR DULCE"]
[null,null,null,null,"0000000114","COINTREAU LICOR DE NARANJA 40°",0.75,12,252.08,{"$f":"+I78/H78","v":21.006666666666668},2.7600000000000002,40.332800000000006,{"$f":"+L78+K78","v":43.092800000000004},{"$f":"+M78+I78","v":295.1728},{"$f":"+N78/H78","v":24.597733333333334}]
[null,null,"BRANDY "]
[null,null,3161420000203,316142002153,"0000012828","BRANDY ST-RÉMY VSOP 40°",0.75,12,203.92,{"$f":"+I80/H80","v":16.993333333333332},2.7600000000000002,32.627200000000002,{"$f":"+L80+K80","v":35.3872},{"$f":"+M80+I80","v":239.30719999999999},{"$f":"+N80/H80","v":19.942266666666665}]
[null,null,"VINO EEUU"]
[null,null,85000001882,10085000001889,"0000012584","VINO TTO CARLO ROSSI CALIFORNIA RED 12°",0.75,12,80.501379310344831,6.7084482758620689,0.69840000000000002,12.880220689655173,13.578620689655173,94.08,7.84]
[null,null,82100179039,10082100179036,"0000012585","VINO ARBOR MIST STRAWBERRY WHITE ZINFANDEL 6°",0.75,12,82.880689655172418,6.9067241379310351,0.69840000000000002,13.260910344827588,13.959310344827587,96.84,8.07]
[null,null,82100179237,10082100179234,"0000012586","VINO ARBOR MIST BLACKBERRY MERLOT 6° ",0.75,12,82.880689655172418,6.9067241379310351,0.69840000000000002,13.260910344827588,13.959310344827587,96.84,8.07]
[null,null,82100738755,10082100738752,"0000012588","VINO TTO ARBOR MIST MOSCATO RASPBERRY 6°",0.75,12,82.880689655172418,6.9067241379310351,0.69840000000000002,13.260910344827588,13.959310344827587,96.84,8.07]
[null,null,85000007495,30085000007496,"0000012587","VINO ESPUMOSO ANDRE ROSE 10.5",0.75,12,128.08758620689656,10.673965517241379,0.69840000000000002,20.494013793103449,21.192413793103448,149.28,12.44]
[null,null,null,null,"0000012661","VINO ESPUMANTE ANDRE BRUT 10.5° 0.750LTS",0.75,12,134,{"$f":"+I87/H87","v":11.166666666666666},0.72,21.44,{"$f":"+L87+K87","v":22.16},{"$f":"+M87+I87","v":156.16},{"$f":"+N87/H87","v":13.013333333333334}]
[null,null,null,null,"0000012972","ARBOR MIST PEACH CHARDONNAY 6°",0.75,12,87.44,{"$f":"+I88/H88","v":7.2866666666666662},2.7600000000000002,13.990399999999999,{"$f":"+L88+K88","v":16.750399999999999},{"$f":"+M88+I88","v":104.1904},{"$f":"+N88/H88","v":8.6825333333333337}]
[null,null,"VINO ALEMAN"]
[null,null,85976033931,85976033986,"0000012583","VINO TTO KOSCHER MANISCHEWITZ 11° ",0.75,12,82.880689655172418,6.9067241379310351,0.69840000000000002,13.260910344827588,13.959310344827587,96.84,8.07]
["Cont. CORP. ALIVARI",null,"SANGRIA"]
[null,null,85000025031,10085000025038,"0000012589","SANGRIA RSD CARLO ROSSI PINK SWEET 8° ",0.75,12,77.08758620689656,6.4239655172413803,0.69840000000000002,12.33401379310345,13.03241379310345,90.12,7.51]
[null,null,"BEBIDA GASEOSAS"]
[null,null,849806001206,20849806001200,"0000012526","BEBIDA GASEOSA FOUR LOKO SANDIA 12°",0.47299999999999998,24,73.29724137931035,3.0540517241379312,2.0952000000000002,11.727558620689656,13.822758620689656,87.12,3.63]
[null,null,849806001220,20849806001224,"0000012527","BEBIDA GASEOSA FOUR LOKO PONCHE DE FRUTAS 12°",0.47299999999999998,24,73.29724137931035,3.0540517241379312,2.0952000000000002,11.727558620689656,13.822758620689656,87.12,3.63]
[null,null,849806001756,108498060017353,"0000012528","BEBIDA GASEOSA FOUR LOKO GOLD 12° ",0.47299999999999998,24,73.29724137931035,3.0540517241379312,2.0952000000000002,11.727558620689656,13.822758620689656,87.12,3.63]
[null,null,849806002746,10849806002743,"0000012529","BEBIDA GASEOSA FOUR LOKO PURPLE-UVA 12° ",0.47299999999999998,24,73.29724137931035,3.0540517241379312,2.0952000000000002,11.727558620689656,13.822758620689656,87.12,3.63]
[null,null,849806002319,10849806002316,"0000012530","BEBIDA GASEOSA FOUR LOKO BLUE 12° ",0.47299999999999998,24,73.29724137931035,3.0540517241379312,2.0952000000000002,11.727558620689656,13.822758620689656,87.12,3.63]
[null,null,849806001855,20849806001859,"0000012531","BEBIDA GASEOSA FOUR LOKO GREEN 12°",0.47299999999999998,24,73.29724137931035,3.0540517241379312,2.0952000000000002,11.727558620689656,13.822758620689656,87.12,3.63]
[]
["IMPORTADOS",null,"VINO CHILENO"]
[null,null,"MISIONES DE RENGO VARIETAL"]
[null,null,7808704640040,0,"0000006382","TINTO CABERNET SAUVIGNON 13.5°",0.185,24,44.030419503623982,1.8346008126509992,4.4713375796178345E-2,7.0448671205798377,7.0895804963760156,51.12,2.13]
[null,null,7808704700058,17808704700147,"0000003041","MISIONES DE RENGO CAB SAUVIGNON 13° 0.750 LTS",0.75,12,65.790000000000006,5.4825000000000008,1.68,10.526400000000001,12.2064,77.996400000000008,6.4997000000000007]
[null,null,7808704700140,17808704700055,"0000003042","MISIONES DE RENGO MERLOT 12.9° 0.750 LTS",0.75,12,65.790000000000006,5.4825000000000008,1.68,10.526400000000001,12.2064,77.996400000000008,6.4997000000000007]
[null,null,7808704700065,17808704700062,"0000003043","VINO BCO MISIONES DE RENGO SAUV 13.3° 0.750 LTS",0.75,12,63.969000000000001,5.3307500000000001,3.8,10.23504,14.035039999999999,78.004040000000003,6.5003366666666667]
[null,null,7808704700034,17808704700031,"0000003040","MISIONES DE RENGO CARMENERE 13,30° 0.750 LTS",0.75,12,65.05,5.4208333333333334,2.54,10.407999999999999,12.948,77.99799999999999,6.4998333333333322]
[null,null,"MISIONES DE RENGO RESERVA"]
[null,null,7808704700157,7808704700154,"0000008596","MISIONES RESERVA CABERNET SAUVIGNON 13.50° ",0.75,12,84.547619047619051,7.0456349206349209,4.21,13.527619047619048,17.737619047619049,102.2852380952381,8.5237698412698411]
[null,null,"MISIONES DE RENGO VINO ESPUMANTE"]
[null,null,7808704700850,27808704700854,"0000012566","VINO BCO ESP MISIONES DE RENGO DEMI SEC 12.10°",0.75,6,50.610169491525426,8.4350282485875709,1.29,8.097627118644068,9.387627118644069,59.997796610169495,{"$f":"+N111/H111","v":9.9996327683615824}]
[null,null,7808704700973,27808704700977,"0000012567","VINO RSD ESP MISIONES DE RENGO ROSE 12.2°",0.75,6,50.610169491525426,8.4350282485875709,1.29,8.097627118644068,9.387627118644069,59.997796610169495,{"$f":"+N112/H112","v":9.9996327683615824}]
[null,null,7808704700843,17808704700505,"0000012568","VINO BCO ESP MISIONES DE RENGO BRUT 12.4° ",0.75,6,50.610169491525426,8.4350282485875709,1.2810179897201599,8.097627118644068,9.3786451083642284,59.98881459988965,{"$f":"+N113/H113","v":9.9981357666482751}]
[null,null,"MISIONES DE RENGO CUVEE"]
[null,null,7808704700164,17808704700161,"0000008219","MISIONES DE RENGO CUVEE CARMENERE 14° 0.750 LTS",0.75,12,150.7741935483871,12.564516129032258,5.0599999999999996,24.123870967741937,29.183870967741935,179.95806451612904,14.996505376344087]
[null,null,"7808704700119",17808704700,"0000006062","MISIONES DE RENGO CUVEE CABERNET SAUVIG 14° 0.750 LTS",0.75,12,150.7741935483871,12.564516129032258,5.0599999999999996,24.123870967741937,29.183870967741935,179.95806451612904,14.996505376344087]
[null,null,"ROSARIO VARIETAL"]
[null,null,7804436702513,7804436702510,"0000001885","ROSARIO CAB SAUV 13.1° 0.750 LTS",0.75,12,55.59,4.6325000000000003,1.51,8.8960000000000008,10.406000000000001,65.996000000000009,5.4996666666666671]
[null,null,7804436702537,7804436702534,"0000002158","ROSARIO TINTO MERLOT 12.9° 0.750 LTS",0.75,12,54.719000000000001,4.5599166666666671,2.5269020524632997,8.755040000000001,11.2819420524633,66.000942052463301,5.5000785043719418]
[null,null,7804436702544,17804436702541,"0000002160","ROSADO ROSARIO 12.6°",0.75,12,59.577922077922082,4.9648268398268405,2.9,9.5324675324675336,12.432467532467534,72.010389610389609,6.0008658008658005]
[null,null,7804436702520," ","0000001886","ROSARIO BLANCO SAUVIGNON 12.5° 0.750 LTS",0.75,12,54.83,4.5691666666666668,2.4,8.7728000000000002,11.172800000000001,66.002799999999993,5.5002333333333331]
[null,null,"ROSARIO RESERVA"]
[null,null,7804436702018,17804436702015,"'0000001888","ROSARIO RESERVA CABERNET SAUVIGNON 13,40°",0.75,12,94.693333333333328,7.891111111111111,4.21,15.150933333333333,19.360933333333332,114.05426666666666,9.5045222222222225]
[null,null,"ROSARIO RESERVA PRIVADA"]
[null,null,7804436701035,7804436701032,"0000001887","TINTO CABERNET SAUVIGNON 13.5°",0.75,12,110.76383620689657,9.2303196839080481,3.3950000000000001E-2,17.722213793103453,17.756163793103454,128.52000000000001,10.71]
[null,null,"VINO ESPAÑOL"]
[null,null,"CRIANZA"]
[null,null,8410106022400,8410106022404,"0000007949","TINTO RIOJA BORDÓN CRIANZA 12.5°",0.75,12,92.896551716987076,7.7413793097489227,8.2949999999999992E-9,14.863448274717932,14.863448283012932,107.76,8.98]
[null,null,"CONSTELACION"]
[null,null,40232911033,10040232911030,"0000012313","VINO CONSTELACION TINTO 12° ",0.75,6,22.389162991178832,3.7315271651964719,8.5709302325581403E-3,3.5822660785886131,3.5908370088211714,25.98,4.33]
[null,null,40232911033,10040232911030,"0000012395","VINO CONSTELACION BLANCO 12° ",0.75,6,22.389162991178832,3.7315271651964719,8.5709302325581403E-3,3.5822660785886131,3.5908370088211714,25.98,4.33]
[null,null,"VINO PORTUGUES"]
[null,null,"CASAL MENDES VARIETAL"]
[null,"*",5601213184867,5601213184862,"0000000278","VINO ROSADO CASAL MENDES 10.5° ",0.75,6,40.779014308426071,6.5766666666666671,0.68,6.5246422893481713,7.204642289348171,47.983656597774242,7.9972760996290404]
[null,"*",5601213181057,5560123581050,"0000000280","VINO TINTO CASAL MENDES 12° ",0.75,6,40.779014308426071,6.5766666666666671,0.68,6.5246422893481713,7.204642289348171,47.983656597774242,7.9972760996290404]
[null,"*",5601213188216,5560123188211,"0000000967","VINO BLANCO CASAL MENDES VINHO VERDE 9º ",0.75,6,40.779014308426071,6.5766666666666671,0.68,6.5246422893481713,7.204642289348171,47.983656597774242,7.9972760996290404]
[null,null,"SIDRA CERESER"]
[null,null,7896072902679,null,"0000000473","SIDRA DE UVA CERESER 4.7º ",0.66,12,60.858937689831819,5.0715781408193186,1.4052409517522459,9.7374300303730905,11.142670982125336,72.001608671957158,6.0001340559964298]
[null,null,7896072902693,17896072910398,"0000002249","SIDRA DE FRESA CERESER 4.7º ",0.66,12,60.858937689831819,5.0715781408193186,1.4052409517522459,9.7374300303730905,11.142670982125336,72.001608671957158,6.0001340559964298]
[null,null,7896072902709,17896072910381,"0000002250","SIDRA DE DURAZNO CERESER 4.7º ",0.66,12,60.177615005545952,5.0148012504621624,2.1976164190256311,9.6284184008873535,11.826034819912984,72.003649825458936,6.0003041521215783]
[null,null,7896072902686,17896072910039,"0000002251","SIDRA DE MANZANA CERESER 6º ",0.66,12,60.170973553658435,5.0142477961382026,2.2027675797797235,9.6273557685853497,11.830123348365074,72.001096902023505,6.0000914085019588]
[]
["MARCAS PROPIAS",null,"LICOR SECO "]
[null,null,7591179002835," ","0000011873","DOBLE 5 BLANCO 30°",0.35,24,22.285919540229891,0.92857998084291216,6.8333333333333343E-2,3.5657471264367828,3.6340804597701162,25.92,1.08]
[]
["DESTILERÍA CARÚPANO",null,"LICOR SECO A BASE DE WHISKY"]
[null,null,7591179002900,7591323001503,"0000010202","PRESIDENT 40°",0.7,12,33.273333333333284,2.7727777777777738,2.38,5.3237333333333252,7.7037333333333251,40.977066666666602,3.41475555555555]
[null,null,"LICOR SECO A BASE DE RON"]
[null,null,7591323000202," ","0000012009","CARUPANO EXTRA 39°",1,12,30.96,2.58,2.3199999999999998,4.9536000000000007,7.2736000000000001,38.233600000000003,3.1861333333333337]
[null,null,7591323000196,7591323000349,"0000007900","CARUPANO EXTRA 39°",0.7,12,28.903333333333336,2.4086111111111115,2.0099999999999998,4.6245333333333338,6.6345333333333336,35.537866666666673,2.9614888888888893]
[]
["INVERSIONES MCDA",null,"RON ANTIGUO"]
[null,null,7591411000763,17591411000760,"0000012677","RON ANTIGUO MESTIZO 20 COLECCION PRIV 40° ",0.7,4,149.5086206896552,37.377155172413801,10.09,23.921379310344832,34.011379310344836,183.52,45.88]
[null,null,7591411000756,null,"0000012989","RON ANTIGUO MESTIZO 40° ",0.7,6,104.08,17.346666666666668,12.77,16.649999999999999,29.419999999999998,133.5,22.25]
[null,null," LICOR SECO A BASE DE RON"]
[null,null,7591411000817,null,"0000012817","LICOR SECO BASE RON TRANCAO 34° ",1,12,31.312499999999996,2.6093749999999996,1.8,5.01,6.81,38.122499999999995,3.1768749999999994]
[null,null,"ANIS"]
[null,null,75914110000039," ","0000012268","ANIS EXTRA 55 30° ",1,12,37.152427549868271,3.0960356291556894,3,5.9443884079789235,8.9443884079789235,46.096815957847198,3.8414013298206]
[null,null,null,null,"0000013025","ANIS EXTRA 55 30° 1.500LTS",1.5,6,27.460348162475821,4.5767246937459705,3,4.3936557059961316,7.3936557059961316,34.854003868471949,5.8090006447453248]
[null,null,7591411000794,null,"0000012563","ANIS EXTRA 55 MARAQUITA 30° ",1,12,37.156838143036389,3.0964031785863657,3,5.9450941028858226,8.9450941028858217,46.101932245922214,3.8418276871601846]
[null,null,7591411000800,null,"0000012564","ANIS EXTRA 55 STAR PURE BLUE 25° ",1,12,37.156838143036389,3.0964031785863657,3,5.9450941028858226,8.9450941028858217,46.101932245922214,3.8418276871601846]
[null,null,"AGUARDIENTES"]
[null,null,7591861000429,null,"0000002893","55 BLANCO 40° ",1,12,30.287499999999998,2.5239583333333333,1.8,4.8460000000000001,6.6459999999999999,36.933499999999995,3.0777916666666663]
[null,null,null,null,"0000012386","55 BLANCO 40° ",1500,6,21.81379135505134,3.6356318925085565,1.8,3.4902066168082144,5.2902066168082147,27.103997971859556,4.5173329953099257]
[null,null,7591861013610,null,"0000002517","ANISADO MICHE ANDINO LA MULERA 40°",1,12,32.975000000000001,2.7479166666666668,1.8,5.2760000000000007,7.0760000000000005,40.051000000000002,3.3375833333333333]
[null,null,"SANGRIA"]
[null,null,7594002400676," ","0000008344","DON JULIAN PET 8° ",1.75,6,21.813153199082333,3.6355255331803886,2.25,3.4901045118531733,5.7401045118531737,27.553257710935505,4.5922096184892505]
[null,null,7591411000770,null,"0000012466","SANGRIA DON JULIAN  PET 8° ",1,12,26.327586206896555,2.1939655172413794,0.90000000000000013,4.2124137931034493,5.1124137931034497,31.44,2.62]
[null,null,7591411000848,null,"0000013144","SANGRIA DON JULIAN  ROSADA",1.75,6,21.813153199082333,3.6355255331803886,2.25,3.4901045118531733,5.7401045118531737,27.553257710935505,4.5922096184892505]
[null,null,7591411000831,null,"0000013143","SANGRIA DON JULIAN  BLANCA",1.75,6,21.813153199082333,3.6355255331803886,2.25,3.4901045118531733,5.7401045118531737,27.553257710935505,4.5922096184892505]
[null,null,"LICOR SECO A BASE DE BRANDY"]
[null,null,7591861012323," ","0000007885","BRANDIÑAC 40° ",0.7,12,45.347086126869513,3.7789238439057926,1.8,7.255533780299122,9.0555337802991218,54.402619907168635,4.5335516589307199]
["BEBIDAS NO ALCOHÓLICAS",null,"BEBIDA ENERGIZANTE"]
[null,null,742832854801,0,"0000012508","BEBIDA ENERGETICA FURIA ENERGY SIN AZUCAR ",0.25,24,29.172413793103448,1.2155172413793103,0,4.6675862068965515,4.6675862068965515,33.839999999999996,1.41]
["Cont. INVERSIONES MCDA",null,"BEBIDA ESPIRITUOSA SECA"]
[null,null," "," ","0000012007","COLAITO DORADO 30° (PLÁSTICO)",1,12,17.762499999999999,1.3741047148492858,0.37,2.8420000000000001,3.2120000000000002,20.974499999999999,1.7478749999999998]
[null,null,null,null,"0000010535","B.E.S. EXTRA COSTEÑO 32° 0,700 LTS",0.7,12,32.07,2.67,1.2,5.13,6.33,38.4,3.2]
[null,null,"GINEBRA NACIONAL"]
[null,null,7591411000015,null,"0000002257","GINEBRA CITY OF LONDON 40°",0.7,12,39.78,3.3149999999999999,5.16,6.3648000000000007,11.524800000000001,51.3048,4.2754000000000003]
[null,null,7591861013481," ","0000010506","GINEBRA ERISTOFF 40°",0.7,12,64.430000000000007,5.3691666666666675,5.16,10.308800000000002,15.468800000000002,79.898800000000008,6.6582333333333343]
["Cont. INVERSIONES MCDA",null,"VODKA NACIONAL"]
[null,null,7591411000022," ","0000002256","VODKA CITY OF LONDON 40°",0.7,12,39.78,3.3149999999999999,5.16,6.3648000000000007,11.524800000000001,51.3048,4.2754000000000003]
[null,null,7591861000122," ","0000005492","VODKA ERISTOFF 40°",0.7,12,64.430000000000007,5.3691666666666675,5.16,10.308800000000002,15.468800000000002,79.898800000000008,6.6582333333333343]
[null,null,"VODKA NACIONAL SABORIZADA"]
[null,null,7591518006828," ","0000010367","GUARANA ZEPPELIN 30° ",0.7,12,41.379310344827587,3.4482758620689657,0,6.6206896551724137,6.6206896551724137,48,4]
[null,null,"LICOR DULCE"]
[null,null,7591861012286," ","0000010160","NÁPOLI SAMBVCA 40°",0.7,12,63.172413793103452,5.264367816091954,4.3600000000000003,10.107586206896553,14.467586206896552,77.64,6.47]
[null,null,7591518006057," ","0000009942","VERONA AMARETO 28°",0.7,12,61.568965517241388,5.1307471264367823,6.22,9.8510344827586227,16.071034482758623,77.64,6.47]
[null,null,7591861012224," ","0000010159","CREMA DE CAFÉ MORASAN 26.5°",0.7,12,60.801724137931039,5.0668103448275863,7.11,9.7282758620689673,16.838275862068969,77.64,6.47]
[null,null,7591861012309," ","0000009941","MOLIERE TRIPLE SEC ORANGE 40°",0.7,12,62.870689655172427,5.2392241379310356,4.71,10.059310344827589,14.769310344827588,77.64,6.47]
[null,null,"VINOS IMPORTADOS"]
[null,null,5604135003032,null,"0000002539","VINO TINTO MARQUES DE BORBA 14° 0.750LTS",0.75,6,63.916984106134244,{"$f":"+I192/H192","v":10.652830684355708},2.56,10.226717456981479,{"$f":"+L192+K192","v":12.78671745698148},{"$f":"+M192+I192","v":76.703701563115729},{"$f":"+N192/H192","v":12.783950260519289}]
[null,null,5604135003049,null,"0000013036","VINO TTO MARQUES DE BORBA 14° 1.500LTS",1500,6,112.70111183780249,{"$f":"+I193/H193","v":18.783518639633748},3.25,18.032177894048399,{"$f":"+L193+K193","v":21.282177894048399},{"$f":"+M193+I193","v":133.98328973185087},{"$f":"+N193/H193","v":22.330548288641811}]
[null,null,5604135002011,null,"0000007540","VINO BCO MARQUES DE BORBA 12.5ª 0.750 LTS",0.75,6,63.916984106134244,{"$f":"+I194/H194","v":10.652830684355708},2.56,10.226717456981479,{"$f":"+L194+K194","v":12.78671745698148},{"$f":"+M194+I194","v":76.703701563115729},{"$f":"+N194/H194","v":12.783950260519289}]
[null,null,5604135001144,null,"0000007537","VINO TINTO LOIOS  ALENTEJANO TTO 14ª 0.750 LTS",0.75,6,52.204724409448822,{"$f":"+I195/H195","v":8.7007874015748037},1.86,8.3527559055118115,{"$f":"+L195+K195","v":10.212755905511811},{"$f":"+M195+I195","v":62.417480314960635},{"$f":"+N195/H195","v":10.402913385826773}]
[null,null,5604135001243,null,"0000007538","VINO BCO LOIOS ALENTEJO BCO 12.5ª 0.750 LTS",0.75,6,52.204724409448822,{"$f":"+I196/H196","v":8.7007874015748037},1.86,8.3527559055118115,{"$f":"+L196+K196","v":10.212755905511811},{"$f":"+M196+I196","v":62.417480314960635},{"$f":"+N196/H196","v":10.402913385826773}]
[null,null,"WHISKY SCOTH"]
[null,null,5010852001563,null,"0000005493","WHISKY SCOTCH DUNFIFE 40? 0.700 LTS",0.75,12,66.065359477124176,{"$f":"+I198/H198","v":5.5054466230936816},1.38,10.570457516339868,{"$f":"+L198+K198","v":11.950457516339867},{"$f":"+M198+I198","v":78.015816993464043},{"$f":"+N198/H198","v":6.5013180827886705}]
[]
["REPRESENTACIONES SINKO C.A.",null," LICOR SECO BASE DE WHISKY"]
[null,"**","7591834103706","17591834103703","0000001474","LICOR SECO  BASE DE WHISKY COUNTRY CLUB 40º ",0.7,12,37.5,3.125,2.59,6,8.59,46.09,3.8408333333333338]
[null,null,"7591834109708","17591834109705","0000000886","LICOR SECO GOLD MEMBER 40º ",0.7,12,39.700000000000003,3.3083333333333336,2.59,6.3520000000000003,8.9420000000000002,48.642000000000003,4.0535000000000005]
[null,null," VINO DE COCINA"]
[null,"**","7591834602759","17591834602756","0000000340","VINO TINTO LA SAGRADA FAMILIA 10º ",0.7,12,36.450000000000003,3.0375000000000001,1.96,5.83,7.79,44.24,3.69]
[null,"**","7591834602766","17591834602763","0000000341","VINO BLANCO LA SAGRADA FAMILIA 10º ",0.7,12,36.450000000000003,3.0375000000000001,1.96,5.83,7.79,44.24,3.69]
[null,null,"SANGRIA"]
[null,null,"7591834701759","17591834701756","0000006139","SANGRIA FIESTA BRAVA 7° ",1.75,6,22.7,3.7833333333333332,2.85,3.6320000000000001,6.4820000000000002,29.181999999999999,4.8636666666666661]
[null,null,"7591834701759","17591834701756","0000013028","COMBO S. FIESTA BRAVA 7° 6UNID+12VASOS 1.750LTS",1.75,6,18.366197183098592,3.0610328638497655,0.46,2.9385915492957748,3.3985915492957748,21.764788732394365,3.6274647887323943]
[null,"**","7591834602766","17591834602763","0000005961","SANGRIA LA  ESPAÑOLA DE VINO BCO 7° ",0.75,12,37.85,3.1541666666666668,1.59,6.056,7.6459999999999999,45.496000000000002,3.7913333333333337]
[null,null,"7591834602759","17591834602756","0000008400","SANGRIA LA ESPAÑOLA VINO TINTO 7° 0.750 LTS",0.75,12,37.85,3.1541666666666668,1.59,6.056,7.6459999999999999,45.496000000000002,3.7913333333333337]
[]
[null,null,"VODKA Y GINEBRA NACIONAL"]
[null,null,"7591834400126","7591834701759","0000010233","LICOR DE VODKA TRAGOS  VODKA COCO 40º PET  ",1.75,6,26,4.333333333333333,3.24,4.16,7.4,33.4,5.5666666666666664]
[null,null,"7591894400027","1759134400024","0000007972","VODKA BOTELLA DE VODKA 40º PET  ",1.75,6,26,4.333333333333333,3.24,4.16,7.4,33.4,5.5666666666666664]
[null,null,"7591834400133","17591834400130","0000010283","LICOR DE VODKA TRAGOS VODKA  PARCHITA 40º PET  ",1.75,6,26,4.333333333333333,3.24,4.16,7.4,33.4,5.5666666666666664]
[null,null,"7591834400034","17591834400031","0000007971","GINEBRA BOTELLA DE GINEBRA 40º PET ",1.75,6,26,4.333333333333333,3.24,4.16,7.4,33.4,5.5666666666666664]
[null,null,"SANGRIA SABORIZADA "]
[null,null,null,null,"0000011507","LA ESPAÑOLA MANZANA 7° ",0.75,12,45.2,3.7666666666666671,2.46,7.2320000000000002,9.6920000000000002,54.892000000000003,4.5743333333333336]
[null,null,"7591834102778","17591834102775","0000009386","VINO ESPUMANTE SANGRIA LA ESPAÑOLA  FRESA 7° ",0.75,12,45.2,3.7666666666666671,2.46,7.2320000000000002,9.6920000000000002,54.892000000000003,4.5743333333333336]
[null,null,"7591834102792","17591834102799","0000009387","SANGRIA LA ESPAÑOLA DURAZNO 7° 0.750 LTS",0.75,12,45.2,3.7666666666666671,2.46,7.2320000000000002,9.6920000000000002,54.892000000000003,4.5743333333333336]
[null,null,"7591834102723","17591834102720","0000010214","SANGRIA LA ESPAÑOLA PARCHITA 7° 0.750 LTS",0.75,12,45.2,3.7666666666666671,2.46,7.2320000000000002,9.6920000000000002,54.892000000000003,4.5743333333333336]
[null,null,"VINO ESPUMANTE"]
[null,null,7591834502769,17591834502766,"000010983","ALEXANDER ESP. BRUT 12°",0.75,12,50,4.166666666666667,2.46,8,10.46,60.46,5.0383333333333331]
[null,null,7591834502752,17591834502759,"000003719","ALEXANDER ESP. DEMI SEC 12°",0.75,12,50,4.166666666666667,2.46,8,10.46,60.46,5.0383333333333331]
[null,null,"7591834000708","7591834000715","0000006141","RON AÑEJO OCUMARE EDICION RESERVADA 40º ",0.7,6,106,17.666666666666668,3.24,16.96,20.200000000000003,126.2,21.033333333333335]
[null,null,"7591834501700","17591834501707","0000000236","RON AÑEJO DE LUXE ESTELAR 40° ",0.7,12,44.309859154929576,3.692488262910798,2.86,7.0895774647887322,9.9495774647887316,54.259436619718308,4.521619718309859]
[null,null,"BEBIDA ESPIRITUOSA"]
[null,null,null,null,"0000012590","BEBIDA ESPIRITUOSA SECA MORUCO 30° 1.000LTS",1,12,25.267605633802816,{"$f":"+I228/H228","v":2.1056338028169015},0.3,{"$f":"+I228*16%","v":4.0428169014084503},{"$f":"+L228+K228","v":4.3428169014084501},{"$f":"+M228+I228","v":29.610422535211267},{"$f":"+N228/H228","v":2.4675352112676054}]
[null,null,"SAN AGUSTIN "]
[null,null,"7591863003206",null,"0000012037","LICOR DE RON BLANCO SAN AGUSTIN LEY URBANA 36°",0.7,12,28.154929577464792,{"$f":"+I230/H230","v":2.3462441314553995},0.3,4.5047887323943669,{"$f":"+L230+K230","v":4.8047887323943668},{"$f":"+M230+I230","v":32.959718309859156},{"$f":"+N230/H230","v":2.7466431924882628}]
[null,null,"7591863003206",null,"0000012036","LICOR DE RON DORADO SAN AGUSTIN LEYENDA URBANA 36° ",0.7,12,27,{"$f":"+I231/H231","v":2.25},0.3,4.32,{"$f":"+K231+L231","v":4.62},{"$f":"+M231+I231","v":31.62},{"$f":"+N231/H231","v":2.6350000000000002}]
[null,null,"LICOR SECO A BASE DE RON"]
[null,null,null,null,"0000012999","B.E.S. ESTELAR ESCUDO DORADO 39°",1000,12,44.5,3.7083333333333335,3.69,7.12,10.81,55.31,4.6091666666666669]
[]
[]
["IPM PRODUCTOS",null,"LICOR DULCE"]
[null,null,7598901000012,0,"0000012532","PONCHE CREMA DON CHUCHO 14°",0.7,12,75.206896551724142,6.2672413793103452,28.2,12.033103448275863,40.233103448275862,115.44,9.6199999999999992]
[]
["CEROS ASOCIADOS",null,7598667000011,0,"0000012653","PONCHE CREMA CERO'S 14° ",0.7,12,122.68965517241379,10.224137931034482,0,19.630344827586207,19.630344827586207,142.32,11.86]
[null,null,7598667000028,0,"0000012654","LICOR DE CREMA DE WHISKY CERO'S 14° ",0.7,12,138.62068965517244,11.551724137931037,0,22.179310344827591,22.179310344827591,160.80000000000001,13.4]
[]
["NACIONALES",null,"LICOR SECO A BASE DE BRANDY"]
[null,null,7592180005683," ","0000010992","DON JUAN 40°",0.7,12,20.681918290948275,1.7234931909123563,8.9747824999999986E-3,3.3091069265517241,3.3180817090517243,24,2]
[null,null,"LICOR SECO A BASE DE RON"]
[null,null,7592180003269," ","0000010998","TINAJERO 40°",1,12,43.750584995689664,3.6458820829741385,9.3214050000000014E-3,7.0000935993103468,7.0094150043103465,50.760000000000005,4.2300000000000004]
[null,null,"ANIS"]
[null,null," "," ","0000011486","ANIS NAMUR 30°",1,12,27.882024999999999,2.3235020833333331,14.696851000000002,4.4611239999999999,19.157975,47.04,3.92]
[null,null,"BEBIDA ESPIRITUOSA SECA"]
[null,null,7593777000265," ","0000006143","CALICANTO AMBAR 30°",1,12,21.828300862068964,1.8190250718390804,11.519171,3.4925281379310342,15.011699137931034,36.839999999999996,3.07]
[null,null,7593777000272," ","0000006144","CALICANTO AMBAR 30°",0.7,12,17.065962643678159,1.4221635536398465,9.0034833333333353,2.7305540229885055,11.73403735632184,28.799999999999997,2.4]
[null,null,7593777000319," ","0000008239","ANISADO MICHE CALICANTO 30°",1,12,21.828300862068964,1.8190250718390804,11.519171,3.4925281379310342,15.011699137931034,36.839999999999996,3.07]
[null,null,7593777000326," ","0000008240","ANISADO MICHE CALICANTO 30°",0.7,12,17.065962643678159,1.4221635536398465,9.0034833333333353,2.7305540229885055,11.73403735632184,28.799999999999997,2.4]
[null,null,7593777000333," ","0000000455","ANISADO MICHE CALICANTO 30°",0.35,24,20.041100574712644,0.83504585727969349,10.592323333333333,3.2065760919540232,13.798899425287356,33.839999999999996,1.41]
[null,null,"AGUARDIENTES"]
[null,null,7593777000227," ","0000002161","CALICANTO 40°",1,12,21.517932758620692,1.793161063218391,11.519198000000001,3.4428692413793107,14.962067241379312,36.480000000000004,3.04]
[null,null,7593777000241," ","0000005334","CALICANTO 40°",0.35,24,19.627291091954024,0.81780379549808435,10.592342333333335,3.1403665747126439,13.732708908045979,33.36,1.39]
[null,null,7593777000081," ","0000000554","COCUY LARA 40°",0.35,24,20.041084195402295,0.83504517480842899,10.592342333333335,3.2065734712643672,13.798915804597701,33.839999999999996,1.41]
[null,null,7593777000180," ","0000011256","ARAGUANEY 40°",1,12,21.828277586206891,1.8190231321839077,11.519198000000001,3.4925244137931024,15.011722413793104,36.839999999999996,3.07]
[]
["IND. PAPELERA LW18 C.A",null,"SNACKS"]
[null,"*** ",38000138416,38000138409,"0000006372","CHUCHERÍA PAPAS PRINGLES ORIGINAL149GR","149 gr",14,36.206896551724142,2.5862068965517246,0,5.793103448275863,5.793103448275863,42,3]
[null,"***",38000138874,"03800013886","0000006721","CHUCHERÍA PAPAS PRINGLES JALAPEÑO 158GRS","158 gr",14,36.206896551724142,2.5862068965517246,0,5.793103448275863,5.793103448275863,42,3]
[null,"***",38000183713,"00038000183669","0000007007","CHUCHERÍA PAPAS PRINGLES BARBECUE 158GRS","158 gr",14,36.206896551724142,2.5862068965517246,0,5.793103448275863,5.793103448275863,42,3]
[null,"***",38000138430,"00038000138423","0000007733","CHUCHERÍA PAPAS PRINGLES CREMA Y CEBOLLA 158GRS","158 gr",14,36.206896551724142,2.5862068965517246,0,5.793103448275863,5.793103448275863,42,3]
[null,"***",38000138577,"00038000138423","0000007748","CHUCHERÍA PAPAS PRINGLES QUESO.158GRS","158 gr",14,36.206896551724142,2.5862068965517246,0,5.793103448275863,5.793103448275863,42,3]
[null,"***",38000138638,"00038000138621","0000009085","CHUCHERÍA PAPAS PRINGLES PIZZA 158GRS","158 gr",14,36.206896551724142,2.5862068965517246,0,5.793103448275863,5.793103448275863,42,3]
[null,null,7591179000524,7591179000524,"0000012832","COMBO PAPAS PRINGLES SURTIDO 14UND 158GRS","158 gr",14,36.206896551724142,2.5862068965517246,0,5.793103448275863,5.793103448275863,42,3]
[null,null,"CARBON MILENIUM"]
["BSM CASA DE REPRESENTACION, C.A.",null,null,7592214001452,"0000011180","CARBÓN VEGETAL MILENIUM 1,5 KGS","1,5 kg",10,20.086206896551726,2.0086206896551726,0,3.2137931034482761,3.2137931034482761,23.3,2.33]
[null,null,null,7592214089511,"0000011181","CARBÓN VEGETAL MILENIUM 5 KGS","5kg",3,20.094827586206897,6.6982758620689653,0,3.2151724137931037,3.2151724137931037,23.31,7.77]
[null,null,null,7592214001667,"0000011182","CARBON VEGETAL MILENIUM 3KGS","3kg",5,20.086206896551726,4.0172413793103452,0,3.2137931034482761,3.2137931034482761,23.3,4.66]
[]
["DISTRIBUIDORA MARINEX C.A.",null,4650071330023,14650071330020,"0000007872","VODKA STOLICHNAYA 40º 1,000 LT7S",1,6,79.285714285714292,13.214285714285715,12,12.685714285714287,24.685714285714287,103.97142857142858,17.328571428571429]
[null,null,null,null,"0000010100","VODKA STOLICHNAYA 40° 0.700 LTS",0.7,6,60,10,12,9.6,21.6,81.599999999999994,13.6]
[null,null,null,null,"0000006102","VODKA MOSKOVSKAYA 40° 0.700 LTS",0.7,12,103.28571428571429,{"$f":"+I275/H275","v":8.6071428571428577},20.399999999999999,16.525714285714287,36.925714285714285,140.21142857142857,11.684285714285714]
[null,null,"VINO BCO"]
[null,null,4001432251004,4001432251097,"0000008995","VINO BCO LIEBFRAUMILCH BLUE ANGEL 10° 0.750LTS","0.750",12,71,{"$f":"+I277/H277","v":5.916666666666667},10.88,11.36,{"$f":"+L277+K277","v":22.240000000000002},{"$f":"+M277+I277","v":93.240000000000009},{"$f":"+N277/H277","v":7.7700000000000005}]
[null,null,4006921501448,null,"0000006103","VINO BCO ESP LIEBFRAUMILCH  SCHLOSS ARRAS N 11.5° ",0.75,12,95,7.916666666666667,11.58,15.200000000000001,26.78,121.78,10.148333333333333]
[null,null,"BEBIDA GASEOSA"]
[null,null,8595004610246,8595004610253,"0000009549","BEB GAS ROBBY BUBBLE MANZANA 0.750 LTS","0.750",6,30,5,null,4.8,4.8,34.799999999999997,5.8]
[null,null,8595004610123,8595004610161,"0000008964","BEBIDA GASEOSA ROBBY BUBBLE CEREZA 0.750LTS","0.750",6,30,5,null,4.8,4.8,34.799999999999997,5.8]
[null,null,8595004610154,8595004610192,"0000008965","BEB GAS ROBBY BUBBLE TROPICAL 0.750LTS","0.750",6,30,5,null,4.8,4.8,34.799999999999997,5.8]
[null,null,8595004610260,5900533109490,"0000002920","BEB GAS FRESA ROBBY BUBBLE 0.750 LTS","0.750",6,30,5,null,4.8,4.8,34.799999999999997,5.8]
[null,null,8595004610130,8595004610178,"0000006105","BEB GAS ROBBY BUBBLE DURAZNO 0.750 LTS","0.750",6,30,5,null,4.8,4.8,34.799999999999997,5.8]
[null,null,895004610420,8595004610437,"0000009550","BEB GAS ROBBY BUBBLE FRAMBUESA 0.750LTS","0.750",6,30,5,null,4.8,4.8,34.799999999999997,5.8]
[null,null,null,null,"0000013013","VASO PLAST S. FIESTA BRAVA 10 OZ",null,1]
[]
["Observación: Al margen izquierdo se indican claves de cambios."]

{"sheet":"PRECIO_FACT","index":3,"n_rows":3087,"n_cols":7,"rows_kept":3087,"cut":false,"hidden":true,"merged":[]}
["CODIGOPROD","DESCRIPCION","PRECIO","Precio sin impuestos","Precio con impuestos","PRECIO PEDIDO","Precio USD"]
["0000000114","LICOR DULCE  NARANJA COINTREAU 40° 0.700 LTS ",757.1,{"$f":"IFERROR(VLOOKUP($A2,'Lista de Precios_Bolívares_S'!$F:$Q,6,FALSE),\"\")","v":""},{"$f":"IFERROR(VLOOKUP($A2,'Lista de Precios_Bolívares_S'!$F:$Q,12,FALSE),\"\")","v":""},{"$f":"IFERROR(IF(ROUND($C2,2)=ROUND($D2,2),ROUND($E2,2),ROUND($C2,2)),\"\")","v":""},{"$f":"IFERROR(VLOOKUP($A2,'Lista de Precios_USD$_Euro€'!$E:$O,11,FALSE),\"\")","v":24.597733333333334}]
["0000000236","RON AÑEJO DE LUXE ESTELAR 40° 0.700 LTS ",134.97999999999999,{"$f":"IFERROR(VLOOKUP($A3,'Lista de Precios_Bolívares_S'!$F:$Q,6,FALSE),\"\")","v":""},{"$f":"IFERROR(VLOOKUP($A3,'Lista de Precios_Bolívares_S'!$F:$Q,12,FALSE),\"\")","v":""},{"$f":"IFERROR(IF(ROUND($C3,2)=ROUND($D3,2),ROUND($E3,2),ROUND($C3,2)),\"\")","v":""},{"$f":"IFERROR(VLOOKUP($A3,'Lista de Precios_USD$_Euro€'!$E:$O,11,FALSE),\"\")","v":4.521619718309859}]
["0000000278","VINO ROSADO CASAL MENDES 10.5° 0.750 LTS",246.66,{"$f":"IFERROR(VLOOKUP($A4,'Lista de Precios_Bolívares_S'!$F:$Q,6,FALSE),\"\")","v":39.478333333333332},{"$f":"IFERROR(VLOOKUP($A4,'Lista de Precios_Bolívares_S'!$F:$Q,12,FALSE),\"\")","v":43.5},246.66,{"$f":"IFERROR(VLOOKUP($A4,'Lista de Precios_USD$_Euro€'!$E:$O,11,FALSE),\"\")","v":7.9972760996290404}]
["0000000280","VINO TINTO CASAL MENDES 12° 0.750 LTS ",246.66,{"$f":"IFERROR(VLOOKUP($A5,'Lista de Precios_Bolívares_S'!$F:$Q,6,FALSE),\"\")","v":""},{"$f":"IFERROR(VLOOKUP($A5,'Lista de Precios_Bolívares_S'!$F:$Q,12,FALSE),\"\")","v":""},"",{"$f":"IFERROR(VLOOKUP($A5,'Lista de Precios_USD$_Euro€'!$E:$O,11,FALSE),\"\")","v":7.9972760996290404}]
["0000000340","VINO TINTO LA SAGRADA FAMILIA 10º 0.700 LTS",113.32,{"$f":"IFERROR(VLOOKUP($A6,'Lista de Precios_Bolívares_S'!$F:$Q,6,FALSE),\"\")","v":""},{"$f":"IFERROR(VLOOKUP($A6,'Lista de Precios_Bolívares_S'!$F:$Q,12,FALSE),\"\")","v":""},"",{"$f":"IFERROR(VLOOKUP($A6,'Lista de Precios_USD$_Euro€'!$E:$O,11,FALSE),\"\")","v":3.69}]
["0000000341","VINO BLANCO LA SAGRADA FAMILIA 10º 0.700 LTS",113.32,{"$f":"IFERROR(VLOOKUP($A7,'Lista de Precios_Bolívares_S'!$F:$Q,6,FALSE),\"\")","v":""},{"$f":"IFERROR(VLOOKUP($A7,'Lista de Precios_Bolívares_S'!$F:$Q,12,FALSE),\"\")","v":""},"",{"$f":"IFERROR(VLOOKUP($A7,'Lista de Precios_USD$_Euro€'!$E:$O,11,FALSE),\"\")","v":3.69}]
["0000000371","WHISKY SCOTCH PREMIUM CHIVAS REGAL 40º 0.750 LTS 12 A?OS",687.66,{"$f":"IFERROR(VLOOKUP($A8,'Lista de Precios_Bolívares_S'!$F:$Q,6,FALSE),\"\")","v":136.56},{"$f":"IFERROR(VLOOKUP($A8,'Lista de Precios_Bolívares_S'!$F:$Q,12,FALSE),\"\")","v":154.5},687.66,{"$f":"IFERROR(VLOOKUP($A8,'Lista de Precios_USD$_Euro€'!$E:$O,11,FALSE),\"\")","v":26.48791088854648}]
["0000000381","WHISKY SCOTCH 100 PIPERS 40º 0.700 LTS",324,{"$f":"IFERROR(VLOOKUP($A9,'Lista de Precios_Bolívares_S'!$F:$Q,6,FALSE),\"\")","v":50.28},{"$f":"IFERROR(VLOOKUP($A9,'Lista de Precios_Bolívares_S'!$F:$Q,12,FALSE),\"\")","v":57},324,{"$f":"IFERROR(VLOOKUP($A9,'Lista de Precios_USD$_Euro€'!$E:$O,11,FALSE),\"\")","v":11.595339990489776}]
["0000000442","LICOR AMARGO DE ANGOSTURA 44,7° 0.100 LTS",237.88,{"$f":"IFERROR(VLOOKUP($A10,'Lista de Precios_Bolívares_S'!$F:$Q,6,FALSE),\"\")","v":76.085833333333326},{"$f":"IFERROR(VLOOKUP($A10,'Lista de Precios_Bolívares_S'!$F:$Q,12,FALSE),\"\")","v":90},237.88,{"$f":"IFERROR(VLOOKUP($A10,'Lista de Precios_USD$_Euro€'!$E:$O,11,FALSE),\"\")","v":""}]
["0000000455","B.E.S.ANISADO CALICANTO MICHE ANDINO 30° 0.350 LTS",43.66,{"$f":"IFERROR(VLOOKUP($A11,'Lista de Precios_Bolívares_S'!$F:$Q,6,FALSE),\"\")","v":11.99},{"$f":"IFERROR(VLOOKUP($A11,'Lista de Precios_Bolívares_S'!$F:$Q,12,FALSE),\"\")","v":12},43.66,{"$f":"IFERROR(VLOOKUP($A11,'Lista de Precios_USD$_Euro€'!$E:$O,11,FALSE),\"\")","v":1.41}]
["0000000473","SIDRA DE UVA CERESER 4.7° 0.660 LTS",182.33,{"$f":"IFERROR(VLOOKUP($A12,'Lista de Precios_Bolívares_S'!$F:$Q,6,FALSE),\"\")","v":""},{"$f":"IFERROR(VLOOKUP($A12,'Lista de Precios_Bolívares_S'!$F:$Q,12,FALSE),\"\")","v":""},"",{"$f":"IFERROR(VLOOKUP($A12,'Lista de Precios_USD$_Euro€'!$E:$O,11,FALSE),\"\")","v":6.0001340559964298}]
["0000000553","AGTE DE COCUY ESPECIAL LARA 40° 0.700 LTS",74.319999999999993,{"$f":"IFERROR(VLOOKUP($A13,'Lista de Precios_Bolívares_S'!$F:$Q,6,FALSE),\"\")","v":14.979999999999999},{"$f":"IFERROR(VLOOKUP($A13,'Lista de Precios_Bolívares_S'!$F:$Q,12,FALSE),\"\")","v":15},74.319999999999993,{"$f":"IFERROR(VLOOKUP($A13,'Lista de Precios_USD$_Euro€'!$E:$O,11,FALSE),\"\")","v":""}]
["0000000554","AGUARDIENTE DE COCUY LARA 40º 0.350 LTS",43.66,{"$f":"IFERROR(VLOOKUP($A14,'Lista de Precios_Bolívares_S'!$F:$Q,6,FALSE),\"\")","v":10.49},{"$f":"IFERROR(VLOOKUP($A14,'Lista de Precios_Bolívares_S'!$F:$Q,12,FALSE),\"\")","v":10.5},43.66,{"$f":"IFERROR(VLOOKUP($A14,'Lista de Precios_USD$_Euro€'!$E:$O,11,FALSE),\"\")","v":1.41}]
["0000000572","GINEBRA BEEFEATER DRY GIN  40° 0.700 LTS",837.93,{"$f":"IFERROR(VLOOKUP($A15,'Lista de Precios_Bolívares_S'!$F:$Q,6,FALSE),\"\")","v":153.08000000000001},{"$f":"IFERROR(VLOOKUP($A15,'Lista de Precios_Bolívares_S'!$F:$Q,12,FALSE),\"\")","v":162},837.93,{"$f":"IFERROR(VLOOKUP($A15,'Lista de Precios_USD$_Euro€'!$E:$O,11,FALSE),\"\")","v":27.898176660905023}]
["0000000692","AGUARDIENTE LA VIRGINIA 40º 1 LTS",79.59,{"$f":"IFERROR(VLOOKUP($A16,'Lista de Precios_Bolívares_S'!$F:$Q,6,FALSE),\"\")","v":16.489999999999998},{"$f":"IFERROR(VLOOKUP($A16,'Lista de Precios_Bolívares_S'!$F:$Q,12,FALSE),\"\")","v":16.5},79.59,{"$f":"IFERROR(VLOOKUP($A16,'Lista de Precios_USD$_Euro€'!$E:$O,11,FALSE),\"\")","v":""}]
["0000000828","WHISKY BALLANTINES 12 AÑOS 40° 0.700LTS.",738.67,{"$f":"IFERROR(VLOOKUP($A17,'Lista de Precios_Bolívares_S'!$F:$Q,6,FALSE),\"\")","v":""},{"$f":"IFERROR(VLOOKUP($A17,'Lista de Precios_Bolívares_S'!$F:$Q,12,FALSE),\"\")","v":""},"",{"$f":"IFERROR(VLOOKUP($A17,'Lista de Precios_USD$_Euro€'!$E:$O,11,FALSE),\"\")","v":26.846666666666664}]
["0000000878","VODKA ABSOLUT 40° 0.700 LTS ",495.95,{"$f":"IFERROR(VLOOKUP($A18,'Lista de Precios_Bolívares_S'!$F:$Q,6,FALSE),\"\")","v":92.29},{"$f":"IFERROR(VLOOKUP($A18,'Lista de Precios_Bolívares_S'!$F:$Q,12,FALSE),\"\")","v":102},495.95,{"$f":"IFERROR(VLOOKUP($A18,'Lista de Precios_USD$_Euro€'!$E:$O,11,FALSE),\"\")","v":17.040144444444444}]
["0000000886","LICOR SECO GOLD MEMBER 40º 0.700 LTS",118.82,{"$f":"IFERROR(VLOOKUP($A19,'Lista de Precios_Bolívares_S'!$F:$Q,6,FALSE),\"\")","v":""},{"$f":"IFERROR(VLOOKUP($A19,'Lista de Precios_Bolívares_S'!$F:$Q,12,FALSE),\"\")","v":""},"",{"$f":"IFERROR(VLOOKUP($A19,'Lista de Precios_USD$_Euro€'!$E:$O,11,FALSE),\"\")","v":4.0535000000000005}]
["0000000893","WHISKY SCOTCH SOMETHING SPECIAL 40º 0.750 LTS",408,{"$f":"IFERROR(VLOOKUP($A20,'Lista de Precios_Bolívares_S'!$F:$Q,6,FALSE),\"\")","v":79.58},{"$f":"IFERROR(VLOOKUP($A20,'Lista de Precios_Bolívares_S'!$F:$Q,12,FALSE),\"\")","v":90},408,{"$f":"IFERROR(VLOOKUP($A20,'Lista de Precios_USD$_Euro€'!$E:$O,11,FALSE),\"\")","v":15.251853180296512}]
["0000000895","WHISKY BALLANTINES FINEST 40° 0.700LTS ",426.31,{"$f":"IFERROR(VLOOKUP($A21,'Lista de Precios_Bolívares_S'!$F:$Q,6,FALSE),\"\")","v":""},{"$f":"IFERROR(VLOOKUP($A21,'Lista de Precios_Bolívares_S'!$F:$Q,12,FALSE),\"\")","v":""},"",{"$f":"IFERROR(VLOOKUP($A21,'Lista de Precios_USD$_Euro€'!$E:$O,11,FALSE),\"\")","v":16.786898148148151}]
["0000000967","VINO BLANCO CASAL MENDES VINHO VERDE 9º 0.750 LTS",246.66,{"$f":"IFERROR(VLOOKUP($A22,'Lista de Precios_Bolívares_S'!$F:$Q,6,FALSE),\"\")","v":""},{"$f":"IFERROR(VLOOKUP($A22,'Lista de Precios_Bolívares_S'!$F:$Q,12,FALSE),\"\")","v":""},"",{"$f":"IFERROR(VLOOKUP($A22,'Lista de Precios_USD$_Euro€'!$E:$O,11,FALSE),\"\")","v":7.9972760996290404}]
["0000001474","LICOR SECO BASE DE WHISKY COUNTRY CLUB 40° 0.700 LTS",112.32,{"$f":"IFERROR(VLOOKUP($A23,'Lista de Precios_Bolívares_S'!$F:$Q,6,FALSE),\"\")","v":""},{"$f":"IFERROR(VLOOKUP($A23,'Lista de Precios_Bolívares_S'!$F:$Q,12,FALSE),\"\")","v":""},"",{"$f":"IFERROR(VLOOKUP($A23,'Lista de Precios_USD$_Euro€'!$E:$O,11,FALSE),\"\")","v":3.8408333333333338}]
["0000001565","WHISKY SCOTCH DE LUXE ROYAL SALUTE 40º 0.700 LTS 21 A?OS",7,{"$f":"IFERROR(VLOOKUP($A24,'Lista de Precios_Bolívares_S'!$F:$Q,6,FALSE),\"\")","v":1232.1000000000001},{"$f":"IFERROR(VLOOKUP($A24,'Lista de Precios_Bolívares_S'!$F:$Q,12,FALSE),\"\")","v":1380},7,{"$f":"IFERROR(VLOOKUP($A24,'Lista de Precios_USD$_Euro€'!$E:$O,11,FALSE),\"\")","v":245.43999999999997}]
["0000001770","WHISKY SCOTCH CHIVAS REGAL GOLD SIGNATURE 40° 0.700 LTS 18 AÑOS",1,{"$f":"IFERROR(VLOOKUP($A25,'Lista de Precios_Bolívares_S'!$F:$Q,6,FALSE),\"\")","v":321.26},{"$f":"IFERROR(VLOOKUP($A25,'Lista de Precios_Bolívares_S'!$F:$Q,12,FALSE),\"\")","v":357},1,{"$f":"IFERROR(VLOOKUP($A25,'Lista de Precios_USD$_Euro€'!$E:$O,11,FALSE),\"\")","v":62.738333333333337}]
["0000001885","VINO TINTO ROSARIO CAB SAUV 13.5° 0.750 LTS",157.16999999999999,{"$f":"IFERROR(VLOOKUP($A26,'Lista de Precios_Bolívares_S'!$F:$Q,6,FALSE),\"\")","v":27.327500000000001},{"$f":"IFERROR(VLOOKUP($A26,'Lista de Precios_Bolívares_S'!$F:$Q,12,FALSE),\"\")","v":33},157.16999999999999,{"$f":"IFERROR(VLOOKUP($A26,'Lista de Precios_USD$_Euro€'!$E:$O,11,FALSE),\"\")","v":5.4996666666666671}]
["0000001886","VINO BLANCO ROSARIO SAUVIGNON 12.5° 0.750 LTS",155.27000000000001,{"$f":"IFERROR(VLOOKUP($A27,'Lista de Precios_Bolívares_S'!$F:$Q,6,FALSE),\"\")","v":27.327500000000001},{"$f":"IFERROR(VLOOKUP($A27,'Lista de Precios_Bolívares_S'!$F:$Q,12,FALSE),\"\")","v":33},155.27000000000001,{"$f":"IFERROR(VLOOKUP($A27,'Lista de Precios_USD$_Euro€'!$E:$O,11,FALSE),\"\")","v":5.5002333333333331}]
["0000001887","VINO TTO ROSARIO RES PRIVADO CAB SAUV 13.5° 0.750 LTS",331.72,{"$f":"IFERROR(VLOOKUP($A28,'Lista de Precios_Bolívares_S'!$F:$Q,6,FALSE),\"\")","v":60.102499999999999},{"$f":"IFERROR(VLOOKUP($A28,'Lista de Precios_Bolívares_S'!$F:$Q,12,FALSE),\"\")","v":72},331.72,{"$f":"IFERROR(VLOOKUP($A28,'Lista de Precios_USD$_Euro€'!$E:$O,11,FALSE),\"\")","v":10.71}]
["0000001888","VINO TTO RESERVA ROSARIO CAB SAUV 13.8° 0.750 LTS",288.56,{"$f":"IFERROR(VLOOKUP($A29,'Lista de Precios_Bolívares_S'!$F:$Q,6,FALSE),\"\")","v":""},{"$f":"IFERROR(VLOOKUP($A29,'Lista de Precios_Bolívares_S'!$F:$Q,12,FALSE),\"\")","v":""},"",{"$f":"IFERROR(VLOOKUP($A29,'Lista de Precios_USD$_Euro€'!$E:$O,11,FALSE),\"\")","v":""}]
["0000002070","SANGRIA OLE 8° 1.750 LTS",92.66,{"$f":"IFERROR(VLOOKUP($A30,'Lista de Precios_Bolívares_S'!$F:$Q,6,FALSE),\"\")","v":19.96},{"$f":"IFERROR(VLOOKUP($A30,'Lista de Precios_Bolívares_S'!$F:$Q,12,FALSE),\"\")","v":21},92.66,{"$f":"IFERROR(VLOOKUP($A30,'Lista de Precios_USD$_Euro€'!$E:$O,11,FALSE),\"\")","v":""}]
["0000002098","LICOR DE CREMA DE FRUTAS AMARULA 17º 0.750 LTS",634.41,{"$f":"IFERROR(VLOOKUP($A31,'Lista de Precios_Bolívares_S'!$F:$Q,6,FALSE),\"\")","v":""},{"$f":"IFERROR(VLOOKUP($A31,'Lista de Precios_Bolívares_S'!$F:$Q,12,FALSE),\"\")","v":""},"",{"$f":"IFERROR(VLOOKUP($A31,'Lista de Precios_USD$_Euro€'!$E:$O,11,FALSE),\"\")","v":20.5}]
["0000002158","VINO TINTO ROSARIO MERLOT 13.2° 0.750 LTS",155.27000000000001,{"$f":"IFERROR(VLOOKUP($A32,'Lista de Precios_Bolívares_S'!$F:$Q,6,FALSE),\"\")","v":27.327500000000001},{"$f":"IFERROR(VLOOKUP($A32,'Lista de Precios_Bolívares_S'!$F:$Q,12,FALSE),\"\")","v":33},155.27000000000001,{"$f":"IFERROR(VLOOKUP($A32,'Lista de Precios_USD$_Euro€'!$E:$O,11,FALSE),\"\")","v":5.5000785043719418}]
["0000002160","VINO ROSADO ROSARIO 12.6° 0.750 LTS",168.99,{"$f":"IFERROR(VLOOKUP($A33,'Lista de Precios_Bolívares_S'!$F:$Q,6,FALSE),\"\")","v":27.327500000000001},{"$f":"IFERROR(VLOOKUP($A33,'Lista de Precios_Bolívares_S'!$F:$Q,12,FALSE),\"\")","v":33},168.99,{"$f":"IFERROR(VLOOKUP($A33,'Lista de Precios_USD$_Euro€'!$E:$O,11,FALSE),\"\")","v":6.0008658008658005}]
["0000002161","AGUARDIENTE CALICANTO 40? 1LTS",94.14,{"$f":"IFERROR(VLOOKUP($A34,'Lista de Precios_Bolívares_S'!$F:$Q,6,FALSE),\"\")","v":22.47},{"$f":"IFERROR(VLOOKUP($A34,'Lista de Precios_Bolívares_S'!$F:$Q,12,FALSE),\"\")","v":22.5},94.14,{"$f":"IFERROR(VLOOKUP($A34,'Lista de Precios_USD$_Euro€'!$E:$O,11,FALSE),\"\")","v":3.04}]
["0000002249","SIDRA DE FRESA CERESER 4.7º 0.660 LTS",182.33,{"$f":"IFERROR(VLOOKUP($A35,'Lista de Precios_Bolívares_S'!$F:$Q,6,FALSE),\"\")","v":""},{"$f":"IFERROR(VLOOKUP($A35,'Lista de Precios_Bolívares_S'!$F:$Q,12,FALSE),\"\")","v":""},"",{"$f":"IFERROR(VLOOKUP($A35,'Lista de Precios_USD$_Euro€'!$E:$O,11,FALSE),\"\")","v":6.0001340559964298}]
["0000002250","SIDRA DE DURAZNO CERESER 4.7° 0.660 LTS ",180.24,{"$f":"IFERROR(VLOOKUP($A36,'Lista de Precios_Bolívares_S'!$F:$Q,6,FALSE),\"\")","v":""},{"$f":"IFERROR(VLOOKUP($A36,'Lista de Precios_Bolívares_S'!$F:$Q,12,FALSE),\"\")","v":""},"",{"$f":"IFERROR(VLOOKUP($A36,'Lista de Precios_USD$_Euro€'!$E:$O,11,FALSE),\"\")","v":6.0003041521215783}]
["0000002251","SIDRA DE MANZANA CERESER 6º 0.660 LTS",180.24,{"$f":"IFERROR(VLOOKUP($A37,'Lista de Precios_Bolívares_S'!$F:$Q,6,FALSE),\"\")","v":""},{"$f":"IFERROR(VLOOKUP($A37,'Lista de Precios_Bolívares_S'!$F:$Q,12,FALSE),\"\")","v":""},"",{"$f":"IFERROR(VLOOKUP($A37,'Lista de Precios_USD$_Euro€'!$E:$O,11,FALSE),\"\")","v":6.0000914085019588}]
["0000002256","VODKA CITY OF LONDON DRY GIN 40° 0.700 LTS",119.35,{"$f":"IFERROR(VLOOKUP($A38,'Lista de Precios_Bolívares_S'!$F:$Q,6,FALSE),\"\")","v":18.66},{"$f":"IFERROR(VLOOKUP($A38,'Lista de Precios_Bolívares_S'!$F:$Q,12,FALSE),\"\")","v":19},119.35,{"$f":"IFERROR(VLOOKUP($A38,'Lista de Precios_USD$_Euro€'!$E:$O,11,FALSE),\"\")","v":4.2754000000000003}]
["0000002257","GINEBRA CITY OF LONDON DRY GIN 40º 0.700 LTS",92.51,{"$f":"IFERROR(VLOOKUP($A39,'Lista de Precios_Bolívares_S'!$F:$Q,6,FALSE),\"\")","v":18.66},{"$f":"IFERROR(VLOOKUP($A39,'Lista de Precios_Bolívares_S'!$F:$Q,12,FALSE),\"\")","v":19},92.51,{"$f":"IFERROR(VLOOKUP($A39,'Lista de Precios_USD$_Euro€'!$E:$O,11,FALSE),\"\")","v":4.2754000000000003}]
["0000002517","AGUARDIENTE ANISADO MICHE ANDINO LA MULERA 40° 1 LTS ",99.45,{"$f":"IFERROR(VLOOKUP($A40,'Lista de Precios_Bolívares_S'!$F:$Q,6,FALSE),\"\")","v":14.339999999999998},{"$f":"IFERROR(VLOOKUP($A40,'Lista de Precios_Bolívares_S'!$F:$Q,12,FALSE),\"\")","v":14.7},99.45,{"$f":"IFERROR(VLOOKUP($A40,'Lista de Precios_USD$_Euro€'!$E:$O,11,FALSE),\"\")","v":3.3375833333333333}]
["0000002539","VINO TINTO MARQUES DE BORBA 14° 0.750LTS.",385.97,{"$f":"IFERROR(VLOOKUP($A41,'Lista de Precios_Bolívares_S'!$F:$Q,6,FALSE),\"\")","v":""},{"$f":"IFERROR(VLOOKUP($A41,'Lista de Precios_Bolívares_S'!$F:$Q,12,FALSE),\"\")","v":""},"",{"$f":"IFERROR(VLOOKUP($A41,'Lista de Precios_USD$_Euro€'!$E:$O,11,FALSE),\"\")","v":12.783950260519289}]
["0000002558","AGUARDIENTE DE COCUY ESPECIAL LARA 40º 1 LTS",92.9,{"$f":"IFERROR(VLOOKUP($A42,'Lista de Precios_Bolívares_S'!$F:$Q,6,FALSE),\"\")","v":17.97},{"$f":"IFERROR(VLOOKUP($A42,'Lista de Precios_Bolívares_S'!$F:$Q,12,FALSE),\"\")","v":18},92.9,{"$f":"IFERROR(VLOOKUP($A42,'Lista de Precios_USD$_Euro€'!$E:$O,11,FALSE),\"\")","v":""}]
["0000002760","WHISKY SCOTCH WILLIAM GRANT'S 40º 0.375 LTS",0.17,{"$f":"IFERROR(VLOOKUP($A43,'Lista de Precios_Bolívares_S'!$F:$Q,6,FALSE),\"\")","v":""},{"$f":"IFERROR(VLOOKUP($A43,'Lista de Precios_Bolívares_S'!$F:$Q,12,FALSE),\"\")","v":""},"",{"$f":"IFERROR(VLOOKUP($A43,'Lista de Precios_USD$_Euro€'!$E:$O,11,FALSE),\"\")","v":""}]
["0000002893","AGUARDIENTE 55 BLANCO 40° 1.000 LTS",91.39,{"$f":"IFERROR(VLOOKUP($A44,'Lista de Precios_Bolívares_S'!$F:$Q,6,FALSE),\"\")","v":13.450000000000003},{"$f":"IFERROR(VLOOKUP($A44,'Lista de Precios_Bolívares_S'!$F:$Q,12,FALSE),\"\")","v":13.8},91.39,{"$f":"IFERROR(VLOOKUP($A44,'Lista de Precios_USD$_Euro€'!$E:$O,11,FALSE),\"\")","v":3.0777916666666663}]
["0000002920","BEBIDA GASEOSA DE FRESA ROBBY BUBBLE 0.750 LTS",179.65,{"$f":"IFERROR(VLOOKUP($A45,'Lista de Precios_Bolívares_S'!$F:$Q,6,FALSE),\"\")","v":""},{"$f":"IFERROR(VLOOKUP($A45,'Lista de Precios_Bolívares_S'!$F:$Q,12,FALSE),\"\")","v":""},"",{"$f":"IFERROR(VLOOKUP($A45,'Lista de Precios_USD$_Euro€'!$E:$O,11,FALSE),\"\")","v":5.8}]
["0000003008","LICOR DE COCO COCO MAMBO 30°GL 1LTS",100.73,{"$f":"IFERROR(VLOOKUP($A46,'Lista de Precios_Bolívares_S'!$F:$Q,6,FALSE),\"\")","v":19.739999999999998},{"$f":"IFERROR(VLOOKUP($A46,'Lista de Precios_Bolívares_S'!$F:$Q,12,FALSE),\"\")","v":21},100.73,{"$f":"IFERROR(VLOOKUP($A46,'Lista de Precios_USD$_Euro€'!$E:$O,11,FALSE),\"\")","v":""}]
["0000003040","VINO TINTO MISIONES DE RENGO CARMENÉRE 14° 0.750 LTS",189.95,{"$f":"IFERROR(VLOOKUP($A47,'Lista de Precios_Bolívares_S'!$F:$Q,6,FALSE),\"\")","v":""},{"$f":"IFERROR(VLOOKUP($A47,'Lista de Precios_Bolívares_S'!$F:$Q,12,FALSE),\"\")","v":""},"",{"$f":"IFERROR(VLOOKUP($A47,'Lista de Precios_USD$_Euro€'!$E:$O,11,FALSE),\"\")","v":6.4998333333333322}]
["0000003041","VINO TINTO MISIONES DE RENGO CAB SAUVIGNON 14,10° 0.750 LTS",188.14,{"$f":"IFERROR(VLOOKUP($A48,'Lista de Precios_Bolívares_S'!$F:$Q,6,FALSE),\"\")","v":34.956666666666671},{"$f":"IFERROR(VLOOKUP($A48,'Lista de Precios_Bolívares_S'!$F:$Q,12,FALSE),\"\")","v":42},188.14,{"$f":"IFERROR(VLOOKUP($A48,'Lista de Precios_USD$_Euro€'!$E:$O,11,FALSE),\"\")","v":6.4997000000000007}]
["0000003042","VINO TINTO MISIONES DE RENGO MERLOT 13.8° 0.750 LTS",188.14,{"$f":"IFERROR(VLOOKUP($A49,'Lista de Precios_Bolívares_S'!$F:$Q,6,FALSE),\"\")","v":34.956666666666671},{"$f":"IFERROR(VLOOKUP($A49,'Lista de Precios_Bolívares_S'!$F:$Q,12,FALSE),\"\")","v":42},188.14,{"$f":"IFERROR(VLOOKUP($A49,'Lista de Precios_USD$_Euro€'!$E:$O,11,FALSE),\"\")","v":6.4997000000000007}]
["0000003043","VINO BCO MISIONES DE RENGO SAUV 13.3° 0.750 LTS",179.44,{"$f":"IFERROR(VLOOKUP($A50,'Lista de Precios_Bolívares_S'!$F:$Q,6,FALSE),\"\")","v":34.956666666666671},{"$f":"IFERROR(VLOOKUP($A50,'Lista de Precios_Bolívares_S'!$F:$Q,12,FALSE),\"\")","v":42},179.44,{"$f":"IFERROR(VLOOKUP($A50,'Lista de Precios_USD$_Euro€'!$E:$O,11,FALSE),\"\")","v":6.5003366666666667}]
["0000003719","VINO BLANCO ESPUMANTE  DEMI-SEC ALEXANDER 12? 0.750 LTS",149.82,{"$f":"IFERROR(VLOOKUP($A51,'Lista de Precios_Bolívares_S'!$F:$Q,6,FALSE),\"\")","v":""},{"$f":"IFERROR(VLOOKUP($A51,'Lista de Precios_Bolívares_S'!$F:$Q,12,FALSE),\"\")","v":""},"",{"$f":"IFERROR(VLOOKUP($A51,'Lista de Precios_USD$_Euro€'!$E:$O,11,FALSE),\"\")","v":""}]
["0000005334","AGUARDIENTE CALICANTO 40º 0.350 LTS",43.05,{"$f":"IFERROR(VLOOKUP($A52,'Lista de Precios_Bolívares_S'!$F:$Q,6,FALSE),\"\")","v":11.99},{"$f":"IFERROR(VLOOKUP($A52,'Lista de Precios_Bolívares_S'!$F:$Q,12,FALSE),\"\")","v":12},43.05,{"$f":"IFERROR(VLOOKUP($A52,'Lista de Precios_USD$_Euro€'!$E:$O,11,FALSE),\"\")","v":1.39}]
["0000005492","VODKA ERISTOFF 40° 0.700 LTS",166.23,{"$f":"IFERROR(VLOOKUP($A53,'Lista de Precios_Bolívares_S'!$F:$Q,6,FALSE),\"\")","v":30},{"$f":"IFERROR(VLOOKUP($A53,'Lista de Precios_Bolívares_S'!$F:$Q,12,FALSE),\"\")","v":30},166.23,{"$f":"IFERROR(VLOOKUP($A53,'Lista de Precios_USD$_Euro€'!$E:$O,11,FALSE),\"\")","v":6.6582333333333343}]
["0000005493","WHISKY SCOTCH DUNFIFE 40? 0.700 LTS.",198.67,{"$f":"IFERROR(VLOOKUP($A54,'Lista de Precios_Bolívares_S'!$F:$Q,6,FALSE),\"\")","v":""},{"$f":"IFERROR(VLOOKUP($A54,'Lista de Precios_Bolívares_S'!$F:$Q,12,FALSE),\"\")","v":""},"",{"$f":"IFERROR(VLOOKUP($A54,'Lista de Precios_USD$_Euro€'!$E:$O,11,FALSE),\"\")","v":6.5013180827886705}]
["0000005540","VINO BCO MISIONES DE RENGO CHARDONNAY 13.5° 0.750 LTS",0.2,{"$f":"IFERROR(VLOOKUP($A55,'Lista de Precios_Bolívares_S'!$F:$Q,6,FALSE),\"\")","v":""},{"$f":"IFERROR(VLOOKUP($A55,'Lista de Precios_Bolívares_S'!$F:$Q,12,FALSE),\"\")","v":""},"",{"$f":"IFERROR(VLOOKUP($A55,'Lista de Precios_USD$_Euro€'!$E:$O,11,FALSE),\"\")","v":""}]
["0000005961","SANGRIA LA  ESPAÑOLA DE VINO BLANCO 7° 0.750 LTS",129.37,{"$f":"IFERROR(VLOOKUP($A56,'Lista de Precios_Bolívares_S'!$F:$Q,6,FALSE),\"\")","v":""},{"$f":"IFERROR(VLOOKUP($A56,'Lista de Precios_Bolívares_S'!$F:$Q,12,FALSE),\"\")","v":""},"",{"$f":"IFERROR(VLOOKUP($A56,'Lista de Precios_USD$_Euro€'!$E:$O,11,FALSE),\"\")","v":3.7913333333333337}]
["0000006062","VINO TINTO MISIONES DE RENGO CUVÉE CAB SAUV GRAN RESERVA 14° 0.750 LTS",437.8,{"$f":"IFERROR(VLOOKUP($A57,'Lista de Precios_Bolívares_S'!$F:$Q,6,FALSE),\"\")","v":""},{"$f":"IFERROR(VLOOKUP($A57,'Lista de Precios_Bolívares_S'!$F:$Q,12,FALSE),\"\")","v":""},"",{"$f":"IFERROR(VLOOKUP($A57,'Lista de Precios_USD$_Euro€'!$E:$O,11,FALSE),\"\")","v":14.996505376344087}]
["0000006063","VINO BCO MISIONES DE RENGO CUVÉE CHARDONNAY 14° 0.750 LTS",0.37,{"$f":"IFERROR(VLOOKUP($A58,'Lista de Precios_Bolívares_S'!$F:$Q,6,FALSE),\"\")","v":""},{"$f":"IFERROR(VLOOKUP($A58,'Lista de Precios_Bolívares_S'!$F:$Q,12,FALSE),\"\")","v":""},"",{"$f":"IFERROR(VLOOKUP($A58,'Lista de Precios_USD$_Euro€'!$E:$O,11,FALSE),\"\")","v":""}]
["0000006102","VODKA MOSKOVSKAYA 40° 0.700 LTS",316.37,{"$f":"IFERROR(VLOOKUP($A59,'Lista de Precios_Bolívares_S'!$F:$Q,6,FALSE),\"\")","v":""},{"$f":"IFERROR(VLOOKUP($A59,'Lista de Precios_Bolívares_S'!$F:$Q,12,FALSE),\"\")","v":""},"",{"$f":"IFERROR(VLOOKUP($A59,'Lista de Precios_USD$_Euro€'!$E:$O,11,FALSE),\"\")","v":11.684285714285714}]
["0000006103","VINO BCO ESP LIEBFRAUMILCH  SCHLOSS ARRAS N 11.5° 0.750 LTS",288.61,{"$f":"IFERROR(VLOOKUP($A60,'Lista de Precios_Bolívares_S'!$F:$Q,6,FALSE),\"\")","v":""},{"$f":"IFERROR(VLOOKUP($A60,'Lista de Precios_Bolívares_S'!$F:$Q,12,FALSE),\"\")","v":""},"",{"$f":"IFERROR(VLOOKUP($A60,'Lista de Precios_USD$_Euro€'!$E:$O,11,FALSE),\"\")","v":10.148333333333333}]
["0000006105","BEBIDA GASEOSA  ROBBY BUBBLE DURAZNO 0.750L",179.65,{"$f":"IFERROR(VLOOKUP($A61,'Lista de Precios_Bolívares_S'!$F:$Q,6,FALSE),\"\")","v":""},{"$f":"IFERROR(VLOOKUP($A61,'Lista de Precios_Bolívares_S'!$F:$Q,12,FALSE),\"\")","v":""},"",{"$f":"IFERROR(VLOOKUP($A61,'Lista de Precios_USD$_Euro€'!$E:$O,11,FALSE),\"\")","v":5.8}]
["0000006139","SANGRIA FIESTA BRAVA 10° 1.75 LTS",135.96,{"$f":"IFERROR(VLOOKUP($A62,'Lista de Precios_Bolívares_S'!$F:$Q,6,FALSE),\"\")","v":""},{"$f":"IFERROR(VLOOKUP($A62,'Lista de Precios_Bolívares_S'!$F:$Q,12,FALSE),\"\")","v":""},"",{"$f":"IFERROR(VLOOKUP($A62,'Lista de Precios_USD$_Euro€'!$E:$O,11,FALSE),\"\")","v":4.8636666666666661}]
["0000006141","RON AÑEJO OCUMARE EDICION RESERVADA 40º 0.700 LTS",634.82000000000005,{"$f":"IFERROR(VLOOKUP($A63,'Lista de Precios_Bolívares_S'!$F:$Q,6,FALSE),\"\")","v":""},{"$f":"IFERROR(VLOOKUP($A63,'Lista de Precios_Bolívares_S'!$F:$Q,12,FALSE),\"\")","v":""},"",{"$f":"IFERROR(VLOOKUP($A63,'Lista de Precios_USD$_Euro€'!$E:$O,11,FALSE),\"\")","v":21.033333333333335}]
["0000006143","BEBIDA ESPIRITUOSA SECA CALICANTO AMBAR 30? 1.000 LTS",95.06,{"$f":"IFERROR(VLOOKUP($A64,'Lista de Precios_Bolívares_S'!$F:$Q,6,FALSE),\"\")","v":22.47},{"$f":"IFERROR(VLOOKUP($A64,'Lista de Precios_Bolívares_S'!$F:$Q,12,FALSE),\"\")","v":22.5},95.06,{"$f":"IFERROR(VLOOKUP($A64,'Lista de Precios_USD$_Euro€'!$E:$O,11,FALSE),\"\")","v":3.07}]
["0000006144","BEBIDA ESPIRITUOSA SECA CALICANTO AMBAR 30? 0.70 LTS",74.319999999999993,{"$f":"IFERROR(VLOOKUP($A65,'Lista de Precios_Bolívares_S'!$F:$Q,6,FALSE),\"\")","v":17.98},{"$f":"IFERROR(VLOOKUP($A65,'Lista de Precios_Bolívares_S'!$F:$Q,12,FALSE),\"\")","v":18},74.319999999999993,{"$f":"IFERROR(VLOOKUP($A65,'Lista de Precios_USD$_Euro€'!$E:$O,11,FALSE),\"\")","v":2.4}]
["0000006186","BEBIDA ESPIRITUOSA SECA CALICANTO AMBAR 30º 0.350 LTS",43.66,{"$f":"IFERROR(VLOOKUP($A66,'Lista de Precios_Bolívares_S'!$F:$Q,6,FALSE),\"\")","v":11.99},{"$f":"IFERROR(VLOOKUP($A66,'Lista de Precios_Bolívares_S'!$F:$Q,12,FALSE),\"\")","v":12},43.66,{"$f":"IFERROR(VLOOKUP($A66,'Lista de Precios_USD$_Euro€'!$E:$O,11,FALSE),\"\")","v":""}]
["0000006187","B.E.S. MACONDO CON MACERACION DE ROBLE 31.50° 0.350 LTS",3.75,{"$f":"IFERROR(VLOOKUP($A67,'Lista de Precios_Bolívares_S'!$F:$Q,6,FALSE),\"\")","v":""},{"$f":"IFERROR(VLOOKUP($A67,'Lista de Precios_Bolívares_S'!$F:$Q,12,FALSE),\"\")","v":""},{"$f":"IFERROR(IF(ROUND($C67,2)=ROUND($D67,2),ROUND($E67,2),ROUND($C67,2)),\"\")","v":""},{"$f":"IFERROR(VLOOKUP($A67,'Lista de Precios_USD$_Euro€'!$E:$O,11,FALSE),\"\")","v":""}]
["0000006321","BOLSAS SIN LOGO 15 KILOS",0.47,{"$f":"IFERROR(VLOOKUP($A68,'Lista de Precios_Bolívares_S'!$F:$Q,6,FALSE),\"\")","v":""},{"$f":"IFERROR(VLOOKUP($A68,'Lista de Precios_Bolívares_S'!$F:$Q,12,FALSE),\"\")","v":""},"",{"$f":"IFERROR(VLOOKUP($A68,'Lista de Precios_USD$_Euro€'!$E:$O,11,FALSE),\"\")","v":""}]
["0000006372","CHUCHERÍA PAPAS PRINGLES ORIGINAL149GR",92.92,{"$f":"IFERROR(VLOOKUP($A69,'Lista de Precios_Bolívares_S'!$F:$Q,6,FALSE),\"\")","v":""},{"$f":"IFERROR(VLOOKUP($A69,'Lista de Precios_Bolívares_S'!$F:$Q,12,FALSE),\"\")","v":""},"",{"$f":"IFERROR(VLOOKUP($A69,'Lista de Precios_USD$_Euro€'!$E:$O,11,FALSE),\"\")","v":3}]
["0000006382","VINO TTO MISIONES DE RENGO CAB SAUV 14.1ª 0.185 LTS",65.97,{"$f":"IFERROR(VLOOKUP($A70,'Lista de Precios_Bolívares_S'!$F:$Q,6,FALSE),\"\")","v":12.525416666666667},{"$f":"IFERROR(VLOOKUP($A70,'Lista de Precios_Bolívares_S'!$F:$Q,12,FALSE),\"\")","v":15},65.97,{"$f":"IFERROR(VLOOKUP($A70,'Lista de Precios_USD$_Euro€'!$E:$O,11,FALSE),\"\")","v":2.13}]
["0000006721","CHUCHERÍA PAPAS PRINGLES JALAPEÑO 158GRS",92.92,{"$f":"IFERROR(VLOOKUP($A71,'Lista de Precios_Bolívares_S'!$F:$Q,6,FALSE),\"\")","v":""},{"$f":"IFERROR(VLOOKUP($A71,'Lista de Precios_Bolívares_S'!$F:$Q,12,FALSE),\"\")","v":""},"",{"$f":"IFERROR(VLOOKUP($A71,'Lista de Precios_USD$_Euro€'!$E:$O,11,FALSE),\"\")","v":3}]
["0000007007","CHUCHERÍA PAPAS PRINGLES BARBECUE 158GRS",92.92,{"$f":"IFERROR(VLOOKUP($A72,'Lista de Precios_Bolívares_S'!$F:$Q,6,FALSE),\"\")","v":""},{"$f":"IFERROR(VLOOKUP($A72,'Lista de Precios_Bolívares_S'!$F:$Q,12,FALSE),\"\")","v":""},"",{"$f":"IFERROR(VLOOKUP($A72,'Lista de Precios_USD$_Euro€'!$E:$O,11,FALSE),\"\")","v":3}]
["0000007537","VINO TINTO LOIOS  ALENTEJANO TTO 14ª 0.750 LTS",314.95999999999998,{"$f":"IFERROR(VLOOKUP($A73,'Lista de Precios_Bolívares_S'!$F:$Q,6,FALSE),\"\")","v":""},{"$f":"IFERROR(VLOOKUP($A73,'Lista de Precios_Bolívares_S'!$F:$Q,12,FALSE),\"\")","v":""},"",{"$f":"IFERROR(VLOOKUP($A73,'Lista de Precios_USD$_Euro€'!$E:$O,11,FALSE),\"\")","v":10.402913385826773}]
["0000007538","VINO BCO LOIOS ALENTEJO BCO 12.5ª 0.750 LTS",314.95999999999998,{"$f":"IFERROR(VLOOKUP($A74,'Lista de Precios_Bolívares_S'!$F:$Q,6,FALSE),\"\")","v":""},{"$f":"IFERROR(VLOOKUP($A74,'Lista de Precios_Bolívares_S'!$F:$Q,12,FALSE),\"\")","v":""},"",{"$f":"IFERROR(VLOOKUP($A74,'Lista de Precios_USD$_Euro€'!$E:$O,11,FALSE),\"\")","v":10.402913385826773}]
["0000007540","VINO BCO MARQUES DE BORBA 12.5ª 0.750 LTS",385.97,{"$f":"IFERROR(VLOOKUP($A75,'Lista de Precios_Bolívares_S'!$F:$Q,6,FALSE),\"\")","v":""},{"$f":"IFERROR(VLOOKUP($A75,'Lista de Precios_Bolívares_S'!$F:$Q,12,FALSE),\"\")","v":""},"",{"$f":"IFERROR(VLOOKUP($A75,'Lista de Precios_USD$_Euro€'!$E:$O,11,FALSE),\"\")","v":12.783950260519289}]
["0000007733","CHUCHERÍA PAPAS PRINGLES CREMA Y CEBOLLA 158GRS",92.92,{"$f":"IFERROR(VLOOKUP($A76,'Lista de Precios_Bolívares_S'!$F:$Q,6,FALSE),\"\")","v":""},{"$f":"IFERROR(VLOOKUP($A76,'Lista de Precios_Bolívares_S'!$F:$Q,12,FALSE),\"\")","v":""},"",{"$f":"IFERROR(VLOOKUP($A76,'Lista de Precios_USD$_Euro€'!$E:$O,11,FALSE),\"\")","v":3}]
["0000007748","CHUCHERÍA PAPAS PRINGLES QUESO.158GRS",92.92,{"$f":"IFERROR(VLOOKUP($A77,'Lista de Precios_Bolívares_S'!$F:$Q,6,FALSE),\"\")","v":""},{"$f":"IFERROR(VLOOKUP($A77,'Lista de Precios_Bolívares_S'!$F:$Q,12,FALSE),\"\")","v":""},"",{"$f":"IFERROR(VLOOKUP($A77,'Lista de Precios_USD$_Euro€'!$E:$O,11,FALSE),\"\")","v":3}]
["0000007788","RON AÑEJO EL CORSARIO MOMENTOS 40º 0,700 LTS",160.82,{"$f":"IFERROR(VLOOKUP($A78,'Lista de Precios_Bolívares_S'!$F:$Q,6,FALSE),\"\")","v":30.599999999999998},{"$f":"IFERROR(VLOOKUP($A78,'Lista de Precios_Bolívares_S'!$F:$Q,12,FALSE),\"\")","v":34.5},160.82,{"$f":"IFERROR(VLOOKUP($A78,'Lista de Precios_USD$_Euro€'!$E:$O,11,FALSE),\"\")","v":""}]
["0000007829","GINEBRA WIMBLEDON 40º 0.700 LTS",98.94,{"$f":"IFERROR(VLOOKUP($A79,'Lista de Precios_Bolívares_S'!$F:$Q,6,FALSE),\"\")","v":17.43},{"$f":"IFERROR(VLOOKUP($A79,'Lista de Precios_Bolívares_S'!$F:$Q,12,FALSE),\"\")","v":19.5},98.94,{"$f":"IFERROR(VLOOKUP($A79,'Lista de Precios_USD$_Euro€'!$E:$O,11,FALSE),\"\")","v":""}]
["0000007830","VODKA WIMBLEDON 40º 0.700 LTS",98.94,{"$f":"IFERROR(VLOOKUP($A80,'Lista de Precios_Bolívares_S'!$F:$Q,6,FALSE),\"\")","v":17.43},{"$f":"IFERROR(VLOOKUP($A80,'Lista de Precios_Bolívares_S'!$F:$Q,12,FALSE),\"\")","v":19.5},98.94,{"$f":"IFERROR(VLOOKUP($A80,'Lista de Precios_USD$_Euro€'!$E:$O,11,FALSE),\"\")","v":""}]
["0000007872","VODKA STOLICHNAYA 40º 1.000 LTS.",475.73,{"$f":"IFERROR(VLOOKUP($A81,'Lista de Precios_Bolívares_S'!$F:$Q,6,FALSE),\"\")","v":""},{"$f":"IFERROR(VLOOKUP($A81,'Lista de Precios_Bolívares_S'!$F:$Q,12,FALSE),\"\")","v":""},"",{"$f":"IFERROR(VLOOKUP($A81,'Lista de Precios_USD$_Euro€'!$E:$O,11,FALSE),\"\")","v":17.328571428571429}]
["0000007885","LICOR S.DE BRANDY BRANDIÑAC 40º 0,700 LTS",136.30000000000001,{"$f":"IFERROR(VLOOKUP($A82,'Lista de Precios_Bolívares_S'!$F:$Q,6,FALSE),\"\")","v":20.37},{"$f":"IFERROR(VLOOKUP($A82,'Lista de Precios_Bolívares_S'!$F:$Q,12,FALSE),\"\")","v":20.76},136.30000000000001,{"$f":"IFERROR(VLOOKUP($A82,'Lista de Precios_USD$_Euro€'!$E:$O,11,FALSE),\"\")","v":4.5335516589307199}]
["0000007900","LICOR SECO BADE RON EXTRA CARUPANO 39° 0.700LTS",88.17,{"$f":"IFERROR(VLOOKUP($A83,'Lista de Precios_Bolívares_S'!$F:$Q,6,FALSE),\"\")","v":17.53},{"$f":"IFERROR(VLOOKUP($A83,'Lista de Precios_Bolívares_S'!$F:$Q,12,FALSE),\"\")","v":18},88.17,{"$f":"IFERROR(VLOOKUP($A83,'Lista de Precios_USD$_Euro€'!$E:$O,11,FALSE),\"\")","v":2.9614888888888893}]
["0000007910","VINO TTO MISIONES DE RENGO RESERVA MERLOT 14° 0,750 LTS",0.22,{"$f":"IFERROR(VLOOKUP($A84,'Lista de Precios_Bolívares_S'!$F:$Q,6,FALSE),\"\")","v":""},{"$f":"IFERROR(VLOOKUP($A84,'Lista de Precios_Bolívares_S'!$F:$Q,12,FALSE),\"\")","v":""},"",{"$f":"IFERROR(VLOOKUP($A84,'Lista de Precios_USD$_Euro€'!$E:$O,11,FALSE),\"\")","v":""}]
["0000007949","VINO TTO RIOJA BORDÒN CRIANZA TTO 12,5º 0.750 LTS",61.95,{"$f":"IFERROR(VLOOKUP($A85,'Lista de Precios_Bolívares_S'!$F:$Q,6,FALSE),\"\")","v":75.94583333333334},{"$f":"IFERROR(VLOOKUP($A85,'Lista de Precios_Bolívares_S'!$F:$Q,12,FALSE),\"\")","v":90},61.95,{"$f":"IFERROR(VLOOKUP($A85,'Lista de Precios_USD$_Euro€'!$E:$O,11,FALSE),\"\")","v":8.98}]
["0000007971","GINEBRA TRAGOS BOTELLA DE GINEBRA 40º PET 1.750 LTS",155.96,{"$f":"IFERROR(VLOOKUP($A86,'Lista de Precios_Bolívares_S'!$F:$Q,6,FALSE),\"\")","v":""},{"$f":"IFERROR(VLOOKUP($A86,'Lista de Precios_Bolívares_S'!$F:$Q,12,FALSE),\"\")","v":""},"",{"$f":"IFERROR(VLOOKUP($A86,'Lista de Precios_USD$_Euro€'!$E:$O,11,FALSE),\"\")","v":5.5666666666666664}]
["0000007972","VODKA TRAGOS BOTELLA DE VODKA 40º PET  1.750LTS",155.96,{"$f":"IFERROR(VLOOKUP($A87,'Lista de Precios_Bolívares_S'!$F:$Q,6,FALSE),\"\")","v":""},{"$f":"IFERROR(VLOOKUP($A87,'Lista de Precios_Bolívares_S'!$F:$Q,12,FALSE),\"\")","v":""},"",{"$f":"IFERROR(VLOOKUP($A87,'Lista de Precios_USD$_Euro€'!$E:$O,11,FALSE),\"\")","v":5.5666666666666664}]
["0000008218","VINO BLANCO ESPUMANTE MISIONES DE RENGO BRUT 12.5° 0.750 LTS",238.18,{"$f":"IFERROR(VLOOKUP($A88,'Lista de Precios_Bolívares_S'!$F:$Q,6,FALSE),\"\")","v":42.568333333333335},{"$f":"IFERROR(VLOOKUP($A88,'Lista de Precios_Bolívares_S'!$F:$Q,12,FALSE),\"\")","v":51},238.18,{"$f":"IFERROR(VLOOKUP($A88,'Lista de Precios_USD$_Euro€'!$E:$O,11,FALSE),\"\")","v":""}]
["0000008219","VINO TTO MISIONES DE RENGO CUVEE CARMENERE 14° 0.750 LTS",437.8,{"$f":"IFERROR(VLOOKUP($A89,'Lista de Precios_Bolívares_S'!$F:$Q,6,FALSE),\"\")","v":""},{"$f":"IFERROR(VLOOKUP($A89,'Lista de Precios_Bolívares_S'!$F:$Q,12,FALSE),\"\")","v":""},"",{"$f":"IFERROR(VLOOKUP($A89,'Lista de Precios_USD$_Euro€'!$E:$O,11,FALSE),\"\")","v":14.996505376344087}]
["0000008239","B.E.S. ANISADO MICHE ANDINO CALICANTO 30° 1.000",95.06,{"$f":"IFERROR(VLOOKUP($A90,'Lista de Precios_Bolívares_S'!$F:$Q,6,FALSE),\"\")","v":22.47},{"$f":"IFERROR(VLOOKUP($A90,'Lista de Precios_Bolívares_S'!$F:$Q,12,FALSE),\"\")","v":22.5},95.06,{"$f":"IFERROR(VLOOKUP($A90,'Lista de Precios_USD$_Euro€'!$E:$O,11,FALSE),\"\")","v":3.07}]
["0000008240","B.E.S.ANISADO MICHE ANDINO CALICANTO 30° 0.700 LTS",74.319999999999993,{"$f":"IFERROR(VLOOKUP($A91,'Lista de Precios_Bolívares_S'!$F:$Q,6,FALSE),\"\")","v":17.98},{"$f":"IFERROR(VLOOKUP($A91,'Lista de Precios_Bolívares_S'!$F:$Q,12,FALSE),\"\")","v":18},74.319999999999993,{"$f":"IFERROR(VLOOKUP($A91,'Lista de Precios_USD$_Euro€'!$E:$O,11,FALSE),\"\")","v":2.4}]
["0000008344","SANGRIA DON JULIAN PET 8° 1.750 LTS",132.15,{"$f":"IFERROR(VLOOKUP($A92,'Lista de Precios_Bolívares_S'!$F:$Q,6,FALSE),\"\")","v":23.95},{"$f":"IFERROR(VLOOKUP($A92,'Lista de Precios_Bolívares_S'!$F:$Q,12,FALSE),\"\")","v":24},132.15,{"$f":"IFERROR(VLOOKUP($A92,'Lista de Precios_USD$_Euro€'!$E:$O,11,FALSE),\"\")","v":4.5922096184892505}]
["0000008400","SANGRIA LA ESPAÑOLA DE VINO TINTO 7° 0.750 LTS",129.37,{"$f":"IFERROR(VLOOKUP($A93,'Lista de Precios_Bolívares_S'!$F:$Q,6,FALSE),\"\")","v":""},{"$f":"IFERROR(VLOOKUP($A93,'Lista de Precios_Bolívares_S'!$F:$Q,12,FALSE),\"\")","v":""},"",{"$f":"IFERROR(VLOOKUP($A93,'Lista de Precios_USD$_Euro€'!$E:$O,11,FALSE),\"\")","v":3.7913333333333337}]
["0000008596","VINO TTO MISIONES DE RENGO RESERVA CABERNET SAUVIGNON 14° 0.750 LTS",277.88,{"$f":"IFERROR(VLOOKUP($A94,'Lista de Precios_Bolívares_S'!$F:$Q,6,FALSE),\"\")","v":45.208333333333336},{"$f":"IFERROR(VLOOKUP($A94,'Lista de Precios_Bolívares_S'!$F:$Q,12,FALSE),\"\")","v":54},277.88,{"$f":"IFERROR(VLOOKUP($A94,'Lista de Precios_USD$_Euro€'!$E:$O,11,FALSE),\"\")","v":8.5237698412698411}]
["0000008964","BEBIDA GASEOSA ROBBY BUBBLE CEREZA 0.750 LTS",179.65,{"$f":"IFERROR(VLOOKUP($A95,'Lista de Precios_Bolívares_S'!$F:$Q,6,FALSE),\"\")","v":""},{"$f":"IFERROR(VLOOKUP($A95,'Lista de Precios_Bolívares_S'!$F:$Q,12,FALSE),\"\")","v":""},"",{"$f":"IFERROR(VLOOKUP($A95,'Lista de Precios_USD$_Euro€'!$E:$O,11,FALSE),\"\")","v":5.8}]
["0000008965","BEBIDA GASEOSA ROBBY BUBBLE TROPICAL 0.750 LTS",179.65,{"$f":"IFERROR(VLOOKUP($A96,'Lista de Precios_Bolívares_S'!$F:$Q,6,FALSE),\"\")","v":""},{"$f":"IFERROR(VLOOKUP($A96,'Lista de Precios_Bolívares_S'!$F:$Q,12,FALSE),\"\")","v":""},"",{"$f":"IFERROR(VLOOKUP($A96,'Lista de Precios_USD$_Euro€'!$E:$O,11,FALSE),\"\")","v":5.8}]
["0000008995","VINO BCO LIEBFRAUMILCH BLUE ANGEL RHEINHESSEN 10º 0.750 LTS.",216.45,{"$f":"IFERROR(VLOOKUP($A97,'Lista de Precios_Bolívares_S'!$F:$Q,6,FALSE),\"\")","v":""},{"$f":"IFERROR(VLOOKUP($A97,'Lista de Precios_Bolívares_S'!$F:$Q,12,FALSE),\"\")","v":""},"",{"$f":"IFERROR(VLOOKUP($A97,'Lista de Precios_USD$_Euro€'!$E:$O,11,FALSE),\"\")","v":7.7700000000000005}]
["0000009085","CHUCHERÍA PAPAS PRINGLES PIZZA 158GRS",92.92,{"$f":"IFERROR(VLOOKUP($A98,'Lista de Precios_Bolívares_S'!$F:$Q,6,FALSE),\"\")","v":""},{"$f":"IFERROR(VLOOKUP($A98,'Lista de Precios_Bolívares_S'!$F:$Q,12,FALSE),\"\")","v":""},"",{"$f":"IFERROR(VLOOKUP($A98,'Lista de Precios_USD$_Euro€'!$E:$O,11,FALSE),\"\")","v":3}]
["0000009260","WHISKY SCOTCH THE FAMOUS GROUSE 8 AÑOS 40º 0.750 LTS",343.6,{"$f":"IFERROR(VLOOKUP($A99,'Lista de Precios_Bolívares_S'!$F:$Q,6,FALSE),\"\")","v":""},{"$f":"IFERROR(VLOOKUP($A99,'Lista de Precios_Bolívares_S'!$F:$Q,12,FALSE),\"\")","v":""},"",{"$f":"IFERROR(VLOOKUP($A99,'Lista de Precios_USD$_Euro€'!$E:$O,11,FALSE),\"\")","v":11.13}]
["0000009386","SANGRIA LA ESPAÑOLA  FRESA 7° 0.750 LTS",135.26,{"$f":"IFERROR(VLOOKUP($A100,'Lista de Precios_Bolívares_S'!$F:$Q,6,FALSE),\"\")","v":""},{"$f":"IFERROR(VLOOKUP($A100,'Lista de Precios_Bolívares_S'!$F:$Q,12,FALSE),\"\")","v":""},"",{"$f":"IFERROR(VLOOKUP($A100,'Lista de Precios_USD$_Euro€'!$E:$O,11,FALSE),\"\")","v":4.5743333333333336}]
["0000009387","SANGRIA LA ESPAÑOLA DURAZNO 7° 0.750 LTS",135.26,{"$f":"IFERROR(VLOOKUP($A101,'Lista de Precios_Bolívares_S'!$F:$Q,6,FALSE),\"\")","v":""},{"$f":"IFERROR(VLOOKUP($A101,'Lista de Precios_Bolívares_S'!$F:$Q,12,FALSE),\"\")","v":""},"",{"$f":"IFERROR(VLOOKUP($A101,'Lista de Precios_USD$_Euro€'!$E:$O,11,FALSE),\"\")","v":4.5743333333333336}]
["0000009549","BEBIDA GASEOSA ROBBY BUBBLE MANZANA  0.750 LTS",179.65,{"$f":"IFERROR(VLOOKUP($A102,'Lista de Precios_Bolívares_S'!$F:$Q,6,FALSE),\"\")","v":""},{"$f":"IFERROR(VLOOKUP($A102,'Lista de Precios_Bolívares_S'!$F:$Q,12,FALSE),\"\")","v":""},"",{"$f":"IFERROR(VLOOKUP($A102,'Lista de Precios_USD$_Euro€'!$E:$O,11,FALSE),\"\")","v":5.8}]
["0000009550","BEBIDA GASEOSA ROBBY BUBBLE FRAMBUESA 0.750 LTS",179.65,{"$f":"IFERROR(VLOOKUP($A103,'Lista de Precios_Bolívares_S'!$F:$Q,6,FALSE),\"\")","v":""},{"$f":"IFERROR(VLOOKUP($A103,'Lista de Precios_Bolívares_S'!$F:$Q,12,FALSE),\"\")","v":""},"",{"$f":"IFERROR(VLOOKUP($A103,'Lista de Precios_USD$_Euro€'!$E:$O,11,FALSE),\"\")","v":5.8}]
["0000009941","LICOR DULCE MOLIERE TRIPLE SEC ORANGE 40° 0.700 LTS",196.89,{"$f":"IFERROR(VLOOKUP($A104,'Lista de Precios_Bolívares_S'!$F:$Q,6,FALSE),\"\")","v":30.650000000000002},{"$f":"IFERROR(VLOOKUP($A104,'Lista de Precios_Bolívares_S'!$F:$Q,12,FALSE),\"\")","v":33},196.89,{"$f":"IFERROR(VLOOKUP($A104,'Lista de Precios_USD$_Euro€'!$E:$O,11,FALSE),\"\")","v":6.47}]
["0000009942","LICOR DULCE VERONA AMARETO 28° 0.700 LTS",195.76,{"$f":"IFERROR(VLOOKUP($A105,'Lista de Precios_Bolívares_S'!$F:$Q,6,FALSE),\"\")","v":30.08},{"$f":"IFERROR(VLOOKUP($A105,'Lista de Precios_Bolívares_S'!$F:$Q,12,FALSE),\"\")","v":33},195.76,{"$f":"IFERROR(VLOOKUP($A105,'Lista de Precios_USD$_Euro€'!$E:$O,11,FALSE),\"\")","v":6.47}]
["0000010100","VODKA STOLICHNAYA 40° 0.700 LTS.",370.37,{"$f":"IFERROR(VLOOKUP($A106,'Lista de Precios_Bolívares_S'!$F:$Q,6,FALSE),\"\")","v":""},{"$f":"IFERROR(VLOOKUP($A106,'Lista de Precios_Bolívares_S'!$F:$Q,12,FALSE),\"\")","v":""},"",{"$f":"IFERROR(VLOOKUP($A106,'Lista de Precios_USD$_Euro€'!$E:$O,11,FALSE),\"\")","v":13.6}]
["0000010159","LICOR CREMA DE CAFÉ MORASÁN 26,5° 0.700 LTS",195.09,{"$f":"IFERROR(VLOOKUP($A107,'Lista de Precios_Bolívares_S'!$F:$Q,6,FALSE),\"\")","v":29.45},{"$f":"IFERROR(VLOOKUP($A107,'Lista de Precios_Bolívares_S'!$F:$Q,12,FALSE),\"\")","v":33},195.09,{"$f":"IFERROR(VLOOKUP($A107,'Lista de Precios_USD$_Euro€'!$E:$O,11,FALSE),\"\")","v":6.47}]
["0000010160","LICOR DULCE NÁPOLI SAMBVCA 40° 0.700 LTS.",197.14,{"$f":"IFERROR(VLOOKUP($A108,'Lista de Precios_Bolívares_S'!$F:$Q,6,FALSE),\"\")","v":30.819999999999997},{"$f":"IFERROR(VLOOKUP($A108,'Lista de Precios_Bolívares_S'!$F:$Q,12,FALSE),\"\")","v":33},197.14,{"$f":"IFERROR(VLOOKUP($A108,'Lista de Precios_USD$_Euro€'!$E:$O,11,FALSE),\"\")","v":6.47}]
["0000010202","LICOR DE WHISKY PRESIDENT LIMITED RESERVE 40° 0.700 LTS",101.46,{"$f":"IFERROR(VLOOKUP($A109,'Lista de Precios_Bolívares_S'!$F:$Q,6,FALSE),\"\")","v":20.440000000000001},{"$f":"IFERROR(VLOOKUP($A109,'Lista de Precios_Bolívares_S'!$F:$Q,12,FALSE),\"\")","v":21},101.46,{"$f":"IFERROR(VLOOKUP($A109,'Lista de Precios_USD$_Euro€'!$E:$O,11,FALSE),\"\")","v":3.41475555555555}]
["0000010214","SANGRIA LA ESPAÑOLA PARCHITA 7° 0.750 LTS",135.26,{"$f":"IFERROR(VLOOKUP($A110,'Lista de Precios_Bolívares_S'!$F:$Q,6,FALSE),\"\")","v":""},{"$f":"IFERROR(VLOOKUP($A110,'Lista de Precios_Bolívares_S'!$F:$Q,12,FALSE),\"\")","v":""},"",{"$f":"IFERROR(VLOOKUP($A110,'Lista de Precios_USD$_Euro€'!$E:$O,11,FALSE),\"\")","v":4.5743333333333336}]
["0000010233","LICOR DE VODKA TRAGOS  VODKA COCO 40º PET  1.750 LTS",155.96,{"$f":"IFERROR(VLOOKUP($A111,'Lista de Precios_Bolívares_S'!$F:$Q,6,FALSE),\"\")","v":""},{"$f":"IFERROR(VLOOKUP($A111,'Lista de Precios_Bolívares_S'!$F:$Q,12,FALSE),\"\")","v":""},"",{"$f":"IFERROR(VLOOKUP($A111,'Lista de Precios_USD$_Euro€'!$E:$O,11,FALSE),\"\")","v":5.5666666666666664}]
["0000010283","LICOR DE VODKA TRAGOS VODKA  PARCHITA 40º PET  1.750 LTS",155.96,{"$f":"IFERROR(VLOOKUP($A112,'Lista de Precios_Bolívares_S'!$F:$Q,6,FALSE),\"\")","v":""},{"$f":"IFERROR(VLOOKUP($A112,'Lista de Precios_Bolívares_S'!$F:$Q,12,FALSE),\"\")","v":""},"",{"$f":"IFERROR(VLOOKUP($A112,'Lista de Precios_USD$_Euro€'!$E:$O,11,FALSE),\"\")","v":5.5666666666666664}]
["0000010367","VODKA GUARANA ZEPPELIN 30° 0.700 LTS",123.9,{"$f":"IFERROR(VLOOKUP($A113,'Lista de Precios_Bolívares_S'!$F:$Q,6,FALSE),\"\")","v":23.930000000000003},{"$f":"IFERROR(VLOOKUP($A113,'Lista de Precios_Bolívares_S'!$F:$Q,12,FALSE),\"\")","v":24},123.9,{"$f":"IFERROR(VLOOKUP($A113,'Lista de Precios_USD$_Euro€'!$E:$O,11,FALSE),\"\")","v":4}]
["0000010398","VINO ROSADO MISIONES DE RENGO CABERNET SAUVIGNON SYRAH 13° 0.750 LTS",0.03,{"$f":"IFERROR(VLOOKUP($A114,'Lista de Precios_Bolívares_S'!$F:$Q,6,FALSE),\"\")","v":""},{"$f":"IFERROR(VLOOKUP($A114,'Lista de Precios_Bolívares_S'!$F:$Q,12,FALSE),\"\")","v":""},"",{"$f":"IFERROR(VLOOKUP($A114,'Lista de Precios_USD$_Euro€'!$E:$O,11,FALSE),\"\")","v":""}]
["0000010415","BOLSAS SIN LOGO 5 KILOS",0.03,{"$f":"IFERROR(VLOOKUP($A115,'Lista de Precios_Bolívares_S'!$F:$Q,6,FALSE),\"\")","v":""},{"$f":"IFERROR(VLOOKUP($A115,'Lista de Precios_Bolívares_S'!$F:$Q,12,FALSE),\"\")","v":""},"",{"$f":"IFERROR(VLOOKUP($A115,'Lista de Precios_USD$_Euro€'!$E:$O,11,FALSE),\"\")","v":""}]
["0000010506","GINEBRA ERISTOFF 40° 0.700 LTS",193.07,{"$f":"IFERROR(VLOOKUP($A116,'Lista de Precios_Bolívares_S'!$F:$Q,6,FALSE),\"\")","v":30},{"$f":"IFERROR(VLOOKUP($A116,'Lista de Precios_Bolívares_S'!$F:$Q,12,FALSE),\"\")","v":30},193.07,{"$f":"IFERROR(VLOOKUP($A116,'Lista de Precios_USD$_Euro€'!$E:$O,11,FALSE),\"\")","v":6.6582333333333343}]
["0000010535","B.E.S. EXTRA COSTEÑO 32° 0,700 LTS ",96.29,{"$f":"IFERROR(VLOOKUP($A117,'Lista de Precios_Bolívares_S'!$F:$Q,6,FALSE),\"\")","v":""},{"$f":"IFERROR(VLOOKUP($A117,'Lista de Precios_Bolívares_S'!$F:$Q,12,FALSE),\"\")","v":""},"",{"$f":"IFERROR(VLOOKUP($A117,'Lista de Precios_USD$_Euro€'!$E:$O,11,FALSE),\"\")","v":3.2}]
["0000010776","BEBIDA ESPIRITUOSA SECA MACONDO ANISADO  30° 1.000 LTS",7.5,{"$f":"IFERROR(VLOOKUP($A118,'Lista de Precios_Bolívares_S'!$F:$Q,6,FALSE),\"\")","v":""},{"$f":"IFERROR(VLOOKUP($A118,'Lista de Precios_Bolívares_S'!$F:$Q,12,FALSE),\"\")","v":""},"",{"$f":"IFERROR(VLOOKUP($A118,'Lista de Precios_USD$_Euro€'!$E:$O,11,FALSE),\"\")","v":""}]
["0000010983","VINO ESPUMANTE ALEXANDER BRUT 7º 0.750 LTS",149.82,{"$f":"IFERROR(VLOOKUP($A119,'Lista de Precios_Bolívares_S'!$F:$Q,6,FALSE),\"\")","v":""},{"$f":"IFERROR(VLOOKUP($A119,'Lista de Precios_Bolívares_S'!$F:$Q,12,FALSE),\"\")","v":""},"",{"$f":"IFERROR(VLOOKUP($A119,'Lista de Precios_USD$_Euro€'!$E:$O,11,FALSE),\"\")","v":""}]
["0000010992","LICOR SECO DE BRANDY DON JUAN 40° 0.700 LTS ",61.94,{"$f":"IFERROR(VLOOKUP($A120,'Lista de Precios_Bolívares_S'!$F:$Q,6,FALSE),\"\")","v":11.99},{"$f":"IFERROR(VLOOKUP($A120,'Lista de Precios_Bolívares_S'!$F:$Q,12,FALSE),\"\")","v":12},61.94,{"$f":"IFERROR(VLOOKUP($A120,'Lista de Precios_USD$_Euro€'!$E:$O,11,FALSE),\"\")","v":2}]
["0000010998","LICOR SECO SABOR A RON TINAJERO 40° 1.000 LT",131.01,{"$f":"IFERROR(VLOOKUP($A121,'Lista de Precios_Bolívares_S'!$F:$Q,6,FALSE),\"\")","v":25.49},{"$f":"IFERROR(VLOOKUP($A121,'Lista de Precios_Bolívares_S'!$F:$Q,12,FALSE),\"\")","v":25.5},131.01,{"$f":"IFERROR(VLOOKUP($A121,'Lista de Precios_USD$_Euro€'!$E:$O,11,FALSE),\"\")","v":4.2300000000000004}]
["0000011008","BEBIDA ESPIRITUOSA SECA MACONDO CON MACERACION DE ROBLE 31.50° 0.700 LTS",6.25,{"$f":"IFERROR(VLOOKUP($A122,'Lista de Precios_Bolívares_S'!$F:$Q,6,FALSE),\"\")","v":""},{"$f":"IFERROR(VLOOKUP($A122,'Lista de Precios_Bolívares_S'!$F:$Q,12,FALSE),\"\")","v":""},"",{"$f":"IFERROR(VLOOKUP($A122,'Lista de Precios_USD$_Euro€'!$E:$O,11,FALSE),\"\")","v":""}]
["0000011009","BEBIDA ESPIRITUOSA SECA MACONDO ANISADO  30º 0.350 LTS",3.13,{"$f":"IFERROR(VLOOKUP($A123,'Lista de Precios_Bolívares_S'!$F:$Q,6,FALSE),\"\")","v":""},{"$f":"IFERROR(VLOOKUP($A123,'Lista de Precios_Bolívares_S'!$F:$Q,12,FALSE),\"\")","v":""},"",{"$f":"IFERROR(VLOOKUP($A123,'Lista de Precios_USD$_Euro€'!$E:$O,11,FALSE),\"\")","v":""}]
["0000011180","CARBÓN VEGETAL MILENIUM 1,5 KGS",72.17,{"$f":"IFERROR(VLOOKUP($A124,'Lista de Precios_Bolívares_S'!$F:$Q,6,FALSE),\"\")","v":""},{"$f":"IFERROR(VLOOKUP($A124,'Lista de Precios_Bolívares_S'!$F:$Q,12,FALSE),\"\")","v":""},"",{"$f":"IFERROR(VLOOKUP($A124,'Lista de Precios_USD$_Euro€'!$E:$O,11,FALSE),\"\")","v":2.33}]
["0000011181","CARBÓN VEGETAL MILENIUM 5 KGS",240.67,{"$f":"IFERROR(VLOOKUP($A125,'Lista de Precios_Bolívares_S'!$F:$Q,6,FALSE),\"\")","v":""},{"$f":"IFERROR(VLOOKUP($A125,'Lista de Precios_Bolívares_S'!$F:$Q,12,FALSE),\"\")","v":""},"",{"$f":"IFERROR(VLOOKUP($A125,'Lista de Precios_USD$_Euro€'!$E:$O,11,FALSE),\"\")","v":7.77}]
["0000011182","CARBON VEGETAL MILENIUM 3KGS",144.34,{"$f":"IFERROR(VLOOKUP($A126,'Lista de Precios_Bolívares_S'!$F:$Q,6,FALSE),\"\")","v":""},{"$f":"IFERROR(VLOOKUP($A126,'Lista de Precios_Bolívares_S'!$F:$Q,12,FALSE),\"\")","v":""},"",{"$f":"IFERROR(VLOOKUP($A126,'Lista de Precios_USD$_Euro€'!$E:$O,11,FALSE),\"\")","v":4.66}]
["0000011256","AGUARDIENTE ARAGUANEY 40° 1.000 LTS",95.06,{"$f":"IFERROR(VLOOKUP($A127,'Lista de Precios_Bolívares_S'!$F:$Q,6,FALSE),\"\")","v":22.47},{"$f":"IFERROR(VLOOKUP($A127,'Lista de Precios_Bolívares_S'!$F:$Q,12,FALSE),\"\")","v":22.5},95.06,{"$f":"IFERROR(VLOOKUP($A127,'Lista de Precios_USD$_Euro€'!$E:$O,11,FALSE),\"\")","v":3.07}]
["0000011486","ANIS NAMUR 30° 1.000 LTS",121.38,{"$f":"IFERROR(VLOOKUP($A128,'Lista de Precios_Bolívares_S'!$F:$Q,6,FALSE),\"\")","v":28.459999999999997},{"$f":"IFERROR(VLOOKUP($A128,'Lista de Precios_Bolívares_S'!$F:$Q,12,FALSE),\"\")","v":28.5},121.38,{"$f":"IFERROR(VLOOKUP($A128,'Lista de Precios_USD$_Euro€'!$E:$O,11,FALSE),\"\")","v":3.92}]
["0000011494","LICOR SECO DOBLE 5 ROJO 30° 1.000 LTS",53.42,{"$f":"IFERROR(VLOOKUP($A129,'Lista de Precios_Bolívares_S'!$F:$Q,6,FALSE),\"\")","v":9.8699999999999992},{"$f":"IFERROR(VLOOKUP($A129,'Lista de Precios_Bolívares_S'!$F:$Q,12,FALSE),\"\")","v":10.5},53.42,{"$f":"IFERROR(VLOOKUP($A129,'Lista de Precios_USD$_Euro€'!$E:$O,11,FALSE),\"\")","v":""}]
["0000011495","LICOR SECO DOBLE 5 BLANCO 30° 1.000 LTS",53.42,{"$f":"IFERROR(VLOOKUP($A130,'Lista de Precios_Bolívares_S'!$F:$Q,6,FALSE),\"\")","v":9.8699999999999992},{"$f":"IFERROR(VLOOKUP($A130,'Lista de Precios_Bolívares_S'!$F:$Q,12,FALSE),\"\")","v":10.5},53.42,{"$f":"IFERROR(VLOOKUP($A130,'Lista de Precios_USD$_Euro€'!$E:$O,11,FALSE),\"\")","v":""}]
["0000011507","SANGRIA LA ESPAÑOLA MANZANA 7°  0.750 LTS",135.26,{"$f":"IFERROR(VLOOKUP($A131,'Lista de Precios_Bolívares_S'!$F:$Q,6,FALSE),\"\")","v":""},{"$f":"IFERROR(VLOOKUP($A131,'Lista de Precios_Bolívares_S'!$F:$Q,12,FALSE),\"\")","v":""},{"$f":"IFERROR(IF(ROUND($C131,2)=ROUND($D131,2),ROUND($E131,2),ROUND($C131,2)),\"\")","v":""},{"$f":"IFERROR(VLOOKUP($A131,'Lista de Precios_USD$_Euro€'!$E:$O,11,FALSE),\"\")","v":4.5743333333333336}]
["0000011799","BEBIDA ESPIRITUOSA SECA CARICUA PLATINO 39° 1.000LTS",61.94,{"$f":"IFERROR(VLOOKUP($A132,'Lista de Precios_Bolívares_S'!$F:$Q,6,FALSE),\"\")","v":11.090000000000002},{"$f":"IFERROR(VLOOKUP($A132,'Lista de Precios_Bolívares_S'!$F:$Q,12,FALSE),\"\")","v":12},61.94,{"$f":"IFERROR(VLOOKUP($A132,'Lista de Precios_USD$_Euro€'!$E:$O,11,FALSE),\"\")","v":""}]
["0000011800","BEBIDA ESPIRITUOSA SECA CARICUAO PLATINO 39° 0.700LTS",46.45,{"$f":"IFERROR(VLOOKUP($A133,'Lista de Precios_Bolívares_S'!$F:$Q,6,FALSE),\"\")","v":8.1},{"$f":"IFERROR(VLOOKUP($A133,'Lista de Precios_Bolívares_S'!$F:$Q,12,FALSE),\"\")","v":9},46.45,{"$f":"IFERROR(VLOOKUP($A133,'Lista de Precios_USD$_Euro€'!$E:$O,11,FALSE),\"\")","v":""}]
["0000011869","LICOR SECO DOBLE 5 ROJO 30° 0.350 LTS",33.450000000000003,{"$f":"IFERROR(VLOOKUP($A134,'Lista de Precios_Bolívares_S'!$F:$Q,6,FALSE),\"\")","v":6.419999999999999},{"$f":"IFERROR(VLOOKUP($A134,'Lista de Precios_Bolívares_S'!$F:$Q,12,FALSE),\"\")","v":6.6},33.450000000000003,{"$f":"IFERROR(VLOOKUP($A134,'Lista de Precios_USD$_Euro€'!$E:$O,11,FALSE),\"\")","v":""}]
["0000011873","LICOR SECO DOBLE 5 BLANCO 30° 0.350 LTS ",33.450000000000003,{"$f":"IFERROR(VLOOKUP($A135,'Lista de Precios_Bolívares_S'!$F:$Q,6,FALSE),\"\")","v":6.419999999999999},{"$f":"IFERROR(VLOOKUP($A135,'Lista de Precios_Bolívares_S'!$F:$Q,12,FALSE),\"\")","v":6.6},33.450000000000003,{"$f":"IFERROR(VLOOKUP($A135,'Lista de Precios_USD$_Euro€'!$E:$O,11,FALSE),\"\")","v":1.08}]
["0000011876","COMBO 1BOT PACK BES CARUPANO EXTRA 39° +1 VASO 0.700 LTS",91.63,{"$f":"IFERROR(VLOOKUP($A136,'Lista de Precios_Bolívares_S'!$F:$Q,6,FALSE),\"\")","v":17.53},{"$f":"IFERROR(VLOOKUP($A136,'Lista de Precios_Bolívares_S'!$F:$Q,12,FALSE),\"\")","v":18},91.63,{"$f":"IFERROR(VLOOKUP($A136,'Lista de Precios_USD$_Euro€'!$E:$O,11,FALSE),\"\")","v":""}]
["0000011877","COMBO 1BOT PACK LIC DE BRANDY PURA CEPA 40° +1 VASO 0.700LTS",83.58,{"$f":"IFERROR(VLOOKUP($A137,'Lista de Precios_Bolívares_S'!$F:$Q,6,FALSE),\"\")","v":16.080000000000002},{"$f":"IFERROR(VLOOKUP($A137,'Lista de Precios_Bolívares_S'!$F:$Q,12,FALSE),\"\")","v":16.5},83.58,{"$f":"IFERROR(VLOOKUP($A137,'Lista de Precios_USD$_Euro€'!$E:$O,11,FALSE),\"\")","v":""}]
["0000011878","COMBO 1BOT PACK LIC WHISKY PRESIDENT L. RESERVA 40°+1VASO 0.700LTS",23.97,{"$f":"IFERROR(VLOOKUP($A138,'Lista de Precios_Bolívares_S'!$F:$Q,6,FALSE),\"\")","v":""},{"$f":"IFERROR(VLOOKUP($A138,'Lista de Precios_Bolívares_S'!$F:$Q,12,FALSE),\"\")","v":""},"",{"$f":"IFERROR(VLOOKUP($A138,'Lista de Precios_USD$_Euro€'!$E:$O,11,FALSE),\"\")","v":""}]
["0000011948","COMBO LIC COCO MAMBO 30° 1.LTS 1BOT+1UND BEBIBA EN POLVO 1.000LTS",12.25,{"$f":"IFERROR(VLOOKUP($A139,'Lista de Precios_Bolívares_S'!$F:$Q,6,FALSE),\"\")","v":""},{"$f":"IFERROR(VLOOKUP($A139,'Lista de Precios_Bolívares_S'!$F:$Q,12,FALSE),\"\")","v":""},"",{"$f":"IFERROR(VLOOKUP($A139,'Lista de Precios_USD$_Euro€'!$E:$O,11,FALSE),\"\")","v":""}]
["0000011949","COMBO GIN WIMBLENDON 40° 0.7LTS 1BOT+1 BEBIDA EN POLVO 0.700LTS",12.25,{"$f":"IFERROR(VLOOKUP($A140,'Lista de Precios_Bolívares_S'!$F:$Q,6,FALSE),\"\")","v":""},{"$f":"IFERROR(VLOOKUP($A140,'Lista de Precios_Bolívares_S'!$F:$Q,12,FALSE),\"\")","v":""},"",{"$f":"IFERROR(VLOOKUP($A140,'Lista de Precios_USD$_Euro€'!$E:$O,11,FALSE),\"\")","v":""}]
["0000011966","COMBO RON EL CORSARIO 1 BOT+ VASO 40 ° 0.700 LTS ",14,{"$f":"IFERROR(VLOOKUP($A141,'Lista de Precios_Bolívares_S'!$F:$Q,6,FALSE),\"\")","v":""},{"$f":"IFERROR(VLOOKUP($A141,'Lista de Precios_Bolívares_S'!$F:$Q,12,FALSE),\"\")","v":""},"",{"$f":"IFERROR(VLOOKUP($A141,'Lista de Precios_USD$_Euro€'!$E:$O,11,FALSE),\"\")","v":""}]
["0000012007","B.E.S COLAITO DORADO PET 30° 1.000LTS ",53.38,{"$f":"IFERROR(VLOOKUP($A142,'Lista de Precios_Bolívares_S'!$F:$Q,6,FALSE),\"\")","v":8.8699999999999992},{"$f":"IFERROR(VLOOKUP($A142,'Lista de Precios_Bolívares_S'!$F:$Q,12,FALSE),\"\")","v":9.24},53.38,{"$f":"IFERROR(VLOOKUP($A142,'Lista de Precios_USD$_Euro€'!$E:$O,11,FALSE),\"\")","v":1.7478749999999998}]
["0000012009","LICOR BASE DE RON EXTRA CARUPANO 39° 1.000LTS ",94.75,{"$f":"IFERROR(VLOOKUP($A143,'Lista de Precios_Bolívares_S'!$F:$Q,6,FALSE),\"\")","v":20.59},{"$f":"IFERROR(VLOOKUP($A143,'Lista de Precios_Bolívares_S'!$F:$Q,12,FALSE),\"\")","v":21},94.75,{"$f":"IFERROR(VLOOKUP($A143,'Lista de Precios_USD$_Euro€'!$E:$O,11,FALSE),\"\")","v":3.1861333333333337}]
["0000012036","LICOR DE RON DORADO SAN AGUSTIN LEYENDA URBANA 36° 0,700 LTS",81.25,{"$f":"IFERROR(VLOOKUP($A144,'Lista de Precios_Bolívares_S'!$F:$Q,6,FALSE),\"\")","v":""},{"$f":"IFERROR(VLOOKUP($A144,'Lista de Precios_Bolívares_S'!$F:$Q,12,FALSE),\"\")","v":""},"",{"$f":"IFERROR(VLOOKUP($A144,'Lista de Precios_USD$_Euro€'!$E:$O,11,FALSE),\"\")","v":2.6350000000000002}]
["0000012037","LICOR DE RON BLANCO SAN AGUSTIN LEY URBANA 36° 0,700LTS",84.65,{"$f":"IFERROR(VLOOKUP($A145,'Lista de Precios_Bolívares_S'!$F:$Q,6,FALSE),\"\")","v":""},{"$f":"IFERROR(VLOOKUP($A145,'Lista de Precios_Bolívares_S'!$F:$Q,12,FALSE),\"\")","v":""},"",{"$f":"IFERROR(VLOOKUP($A145,'Lista de Precios_USD$_Euro€'!$E:$O,11,FALSE),\"\")","v":2.7466431924882628}]
["0000012052","WHISKY BLENDED SCOTCH KELVIN BRIDGE 40° 0,700 LTS",236.5,{"$f":"IFERROR(VLOOKUP($A146,'Lista de Precios_Bolívares_S'!$F:$Q,6,FALSE),\"\")","v":""},{"$f":"IFERROR(VLOOKUP($A146,'Lista de Precios_Bolívares_S'!$F:$Q,12,FALSE),\"\")","v":""},"",{"$f":"IFERROR(VLOOKUP($A146,'Lista de Precios_USD$_Euro€'!$E:$O,11,FALSE),\"\")","v":""}]
["0000012142","COMBO CJA BES CARICUAO 12BOT 1.000+12BOT 0.700 39° 20.400LTS",325.36,{"$f":"IFERROR(VLOOKUP($A147,'Lista de Precios_Bolívares_S'!$F:$Q,6,FALSE),\"\")","v":""},{"$f":"IFERROR(VLOOKUP($A147,'Lista de Precios_Bolívares_S'!$F:$Q,12,FALSE),\"\")","v":""},"",{"$f":"IFERROR(VLOOKUP($A147,'Lista de Precios_USD$_Euro€'!$E:$O,11,FALSE),\"\")","v":""}]
["0000012152","VODKA BLARNEFF NARANJA 29.2° 0.700 LTS",97.24,{"$f":"IFERROR(VLOOKUP($A148,'Lista de Precios_Bolívares_S'!$F:$Q,6,FALSE),\"\")","v":19.48},{"$f":"IFERROR(VLOOKUP($A148,'Lista de Precios_Bolívares_S'!$F:$Q,12,FALSE),\"\")","v":19.5},97.24,{"$f":"IFERROR(VLOOKUP($A148,'Lista de Precios_USD$_Euro€'!$E:$O,11,FALSE),\"\")","v":""}]
["0000012268","ANIS EXTRA 55 30° 1.000 LTS",112.26,{"$f":"IFERROR(VLOOKUP($A149,'Lista de Precios_Bolívares_S'!$F:$Q,6,FALSE),\"\")","v":16.37},{"$f":"IFERROR(VLOOKUP($A149,'Lista de Precios_Bolívares_S'!$F:$Q,12,FALSE),\"\")","v":17},112.26,{"$f":"IFERROR(VLOOKUP($A149,'Lista de Precios_USD$_Euro€'!$E:$O,11,FALSE),\"\")","v":3.8414013298206}]
["0000012313","VINO CONSTELACION TINTO 12° 0.750 LTS",134.11000000000001,{"$f":"IFERROR(VLOOKUP($A150,'Lista de Precios_Bolívares_S'!$F:$Q,6,FALSE),\"\")","v":""},{"$f":"IFERROR(VLOOKUP($A150,'Lista de Precios_Bolívares_S'!$F:$Q,12,FALSE),\"\")","v":""},"",{"$f":"IFERROR(VLOOKUP($A150,'Lista de Precios_USD$_Euro€'!$E:$O,11,FALSE),\"\")","v":4.33}]
["0000012386","AGUARDIENTE BLANCO 55 40° 1.500 LTS",131.99,{"$f":"IFERROR(VLOOKUP($A151,'Lista de Precios_Bolívares_S'!$F:$Q,6,FALSE),\"\")","v":""},{"$f":"IFERROR(VLOOKUP($A151,'Lista de Precios_Bolívares_S'!$F:$Q,12,FALSE),\"\")","v":""},"",{"$f":"IFERROR(VLOOKUP($A151,'Lista de Precios_USD$_Euro€'!$E:$O,11,FALSE),\"\")","v":4.5173329953099257}]
["0000012395","VINO CONSTELACION BLANCO 12° 0.750LTS",134.11000000000001,{"$f":"IFERROR(VLOOKUP($A152,'Lista de Precios_Bolívares_S'!$F:$Q,6,FALSE),\"\")","v":""},{"$f":"IFERROR(VLOOKUP($A152,'Lista de Precios_Bolívares_S'!$F:$Q,12,FALSE),\"\")","v":""},"",{"$f":"IFERROR(VLOOKUP($A152,'Lista de Precios_USD$_Euro€'!$E:$O,11,FALSE),\"\")","v":4.33}]
["0000012403","LICOR DE CAFÉ KAHLUA 20º 0.750 LTS",476.09,{"$f":"IFERROR(VLOOKUP($A153,'Lista de Precios_Bolívares_S'!$F:$Q,6,FALSE),\"\")","v":81.45},{"$f":"IFERROR(VLOOKUP($A153,'Lista de Precios_Bolívares_S'!$F:$Q,12,FALSE),\"\")","v":90},476.09,{"$f":"IFERROR(VLOOKUP($A153,'Lista de Precios_USD$_Euro€'!$E:$O,11,FALSE),\"\")","v":15.893333333333333}]
["0000012466","SANGRIA DON JULIAN  PET 8° 1.000 LTS",84.82,{"$f":"IFERROR(VLOOKUP($A154,'Lista de Precios_Bolívares_S'!$F:$Q,6,FALSE),\"\")","v":13.53},{"$f":"IFERROR(VLOOKUP($A154,'Lista de Precios_Bolívares_S'!$F:$Q,12,FALSE),\"\")","v":13.98},84.82,{"$f":"IFERROR(VLOOKUP($A154,'Lista de Precios_USD$_Euro€'!$E:$O,11,FALSE),\"\")","v":2.62}]
["0000012507","BEBIDA ENERGETICA FURIA ENERGY CON AZUCAR 0.250LTS",43.67,{"$f":"IFERROR(VLOOKUP($A155,'Lista de Precios_Bolívares_S'!$F:$Q,6,FALSE),\"\")","v":7.3448275862068968},{"$f":"IFERROR(VLOOKUP($A155,'Lista de Precios_Bolívares_S'!$F:$Q,12,FALSE),\"\")","v":8.52},43.67,{"$f":"IFERROR(VLOOKUP($A155,'Lista de Precios_USD$_Euro€'!$E:$O,11,FALSE),\"\")","v":""}]
["0000012508","BEBIDA ENERGETICA FURIA ENERGY SIN AZUCAR 0.250LTS",43.67,{"$f":"IFERROR(VLOOKUP($A156,'Lista de Precios_Bolívares_S'!$F:$Q,6,FALSE),\"\")","v":7.3448275862068968},{"$f":"IFERROR(VLOOKUP($A156,'Lista de Precios_Bolívares_S'!$F:$Q,12,FALSE),\"\")","v":8.52},43.67,{"$f":"IFERROR(VLOOKUP($A156,'Lista de Precios_USD$_Euro€'!$E:$O,11,FALSE),\"\")","v":1.41}]
["0000012515","WHISKY SCOTCH THE MACALLAN 18AÑOS DOUBLE CASK 43° 0.700LTS",13,{"$f":"IFERROR(VLOOKUP($A157,'Lista de Precios_Bolívares_S'!$F:$Q,6,FALSE),\"\")","v":2456.5700000000002},{"$f":"IFERROR(VLOOKUP($A157,'Lista de Precios_Bolívares_S'!$F:$Q,12,FALSE),\"\")","v":2712},13,{"$f":"IFERROR(VLOOKUP($A157,'Lista de Precios_USD$_Euro€'!$E:$O,11,FALSE),\"\")","v":433.26}]
["0000012516","WHISKY SCOTH THE MACALLAN 15AÑOS DOUBLE CASK 43° 0.700LTS",4,{"$f":"IFERROR(VLOOKUP($A158,'Lista de Precios_Bolívares_S'!$F:$Q,6,FALSE),\"\")","v":895.31},{"$f":"IFERROR(VLOOKUP($A158,'Lista de Precios_Bolívares_S'!$F:$Q,12,FALSE),\"\")","v":996},4,{"$f":"IFERROR(VLOOKUP($A158,'Lista de Precios_USD$_Euro€'!$E:$O,11,FALSE),\"\")","v":161.55000000000001}]
["0000012517","WHISKY SCOTCH THE MACALLAN CLASSIC CUT 55° 0.700LTS",4,{"$f":"IFERROR(VLOOKUP($A159,'Lista de Precios_Bolívares_S'!$F:$Q,6,FALSE),\"\")","v":817.53000000000009},{"$f":"IFERROR(VLOOKUP($A159,'Lista de Precios_Bolívares_S'!$F:$Q,12,FALSE),\"\")","v":906},4,{"$f":"IFERROR(VLOOKUP($A159,'Lista de Precios_USD$_Euro€'!$E:$O,11,FALSE),\"\")","v":144.5}]
["0000012518","WHISKY SCOTCH THE MACALLAN SHERRY 12AÑOS 40° 0.700LTS",2,{"$f":"IFERROR(VLOOKUP($A160,'Lista de Precios_Bolívares_S'!$F:$Q,6,FALSE),\"\")","v":543.93999999999994},{"$f":"IFERROR(VLOOKUP($A160,'Lista de Precios_Bolívares_S'!$F:$Q,12,FALSE),\"\")","v":604.5},2,{"$f":"IFERROR(VLOOKUP($A160,'Lista de Precios_USD$_Euro€'!$E:$O,11,FALSE),\"\")","v":96.54}]
["0000012519","WHISKY SCOTCH THE MACALLAN TRIPLE CASK 12AÑOS 40° 0.700LTS",2,{"$f":"IFERROR(VLOOKUP($A161,'Lista de Precios_Bolívares_S'!$F:$Q,6,FALSE),\"\")","v":485.69},{"$f":"IFERROR(VLOOKUP($A161,'Lista de Precios_Bolívares_S'!$F:$Q,12,FALSE),\"\")","v":544.5},2,{"$f":"IFERROR(VLOOKUP($A161,'Lista de Precios_USD$_Euro€'!$E:$O,11,FALSE),\"\")","v":86.24}]
["0000012520","WHISKY SCOTCH THE MACALLAN DOUBLE CASK 12AÑOS 40° 0.700LTS",2,{"$f":"IFERROR(VLOOKUP($A162,'Lista de Precios_Bolívares_S'!$F:$Q,6,FALSE),\"\")","v":535.93999999999994},{"$f":"IFERROR(VLOOKUP($A162,'Lista de Precios_Bolívares_S'!$F:$Q,12,FALSE),\"\")","v":594},2,{"$f":"IFERROR(VLOOKUP($A162,'Lista de Precios_USD$_Euro€'!$E:$O,11,FALSE),\"\")","v":94.53}]
["0000012521","WHISKY SCOTH SIR ALBERT 40° 0.700LTS",234.04,{"$f":"IFERROR(VLOOKUP($A163,'Lista de Precios_Bolívares_S'!$F:$Q,6,FALSE),\"\")","v":39.53},{"$f":"IFERROR(VLOOKUP($A163,'Lista de Precios_Bolívares_S'!$F:$Q,12,FALSE),\"\")","v":48},234.04,{"$f":"IFERROR(VLOOKUP($A163,'Lista de Precios_USD$_Euro€'!$E:$O,11,FALSE),\"\")","v":7.59}]
["0000012523","LICOR DE CREMA AMARULA VAINILLA 15.5° 0.750LTS",634.41,{"$f":"IFERROR(VLOOKUP($A164,'Lista de Precios_Bolívares_S'!$F:$Q,6,FALSE),\"\")","v":""},{"$f":"IFERROR(VLOOKUP($A164,'Lista de Precios_Bolívares_S'!$F:$Q,12,FALSE),\"\")","v":""},"",{"$f":"IFERROR(VLOOKUP($A164,'Lista de Precios_USD$_Euro€'!$E:$O,11,FALSE),\"\")","v":20.5}]
["0000012524","TEQUILA ARRAIGO REPOSADO 35° 0.700LTS",549.91999999999996,{"$f":"IFERROR(VLOOKUP($A165,'Lista de Precios_Bolívares_S'!$F:$Q,6,FALSE),\"\")","v":""},{"$f":"IFERROR(VLOOKUP($A165,'Lista de Precios_Bolívares_S'!$F:$Q,12,FALSE),\"\")","v":""},"",{"$f":"IFERROR(VLOOKUP($A165,'Lista de Precios_USD$_Euro€'!$E:$O,11,FALSE),\"\")","v":""}]
["0000012525","TEQUILA ARRAIGO SILVER 35° 0.700LTS",549.99,{"$f":"IFERROR(VLOOKUP($A166,'Lista de Precios_Bolívares_S'!$F:$Q,6,FALSE),\"\")","v":""},{"$f":"IFERROR(VLOOKUP($A166,'Lista de Precios_Bolívares_S'!$F:$Q,12,FALSE),\"\")","v":""},"",{"$f":"IFERROR(VLOOKUP($A166,'Lista de Precios_USD$_Euro€'!$E:$O,11,FALSE),\"\")","v":""}]
["0000012526","BEBIDA GASEOSA FOUR LOKO SANDIA 12° 0.473LTS",111.81,{"$f":"IFERROR(VLOOKUP($A167,'Lista de Precios_Bolívares_S'!$F:$Q,6,FALSE),\"\")","v":20.87},{"$f":"IFERROR(VLOOKUP($A167,'Lista de Precios_Bolívares_S'!$F:$Q,12,FALSE),\"\")","v":24},111.81,{"$f":"IFERROR(VLOOKUP($A167,'Lista de Precios_USD$_Euro€'!$E:$O,11,FALSE),\"\")","v":3.63}]
["0000012527","BEBIDA GASEOSA FOUR LOKO PONCHE FRUTAS 12° 0.473LTS",111.81,{"$f":"IFERROR(VLOOKUP($A168,'Lista de Precios_Bolívares_S'!$F:$Q,6,FALSE),\"\")","v":20.87},{"$f":"IFERROR(VLOOKUP($A168,'Lista de Precios_Bolívares_S'!$F:$Q,12,FALSE),\"\")","v":24},111.81,{"$f":"IFERROR(VLOOKUP($A168,'Lista de Precios_USD$_Euro€'!$E:$O,11,FALSE),\"\")","v":3.63}]
["0000012528","BEBIDA GASEOSA FOUR LOKO GOLD 12° 0.473LTS",111.81,{"$f":"IFERROR(VLOOKUP($A169,'Lista de Precios_Bolívares_S'!$F:$Q,6,FALSE),\"\")","v":20.87},{"$f":"IFERROR(VLOOKUP($A169,'Lista de Precios_Bolívares_S'!$F:$Q,12,FALSE),\"\")","v":24},111.81,{"$f":"IFERROR(VLOOKUP($A169,'Lista de Precios_USD$_Euro€'!$E:$O,11,FALSE),\"\")","v":3.63}]
["0000012529","BEBIDA GASEOSA FOUR LOKO PURPLE-UVA 12° 0.473LTS",111.81,{"$f":"IFERROR(VLOOKUP($A170,'Lista de Precios_Bolívares_S'!$F:$Q,6,FALSE),\"\")","v":20.87},{"$f":"IFERROR(VLOOKUP($A170,'Lista de Precios_Bolívares_S'!$F:$Q,12,FALSE),\"\")","v":24},111.81,{"$f":"IFERROR(VLOOKUP($A170,'Lista de Precios_USD$_Euro€'!$E:$O,11,FALSE),\"\")","v":3.63}]
["0000012530","BEBIDA GASEOSA FOUR LOKO BLUE 12° 0.473LTS",111.81,{"$f":"IFERROR(VLOOKUP($A171,'Lista de Precios_Bolívares_S'!$F:$Q,6,FALSE),\"\")","v":20.87},{"$f":"IFERROR(VLOOKUP($A171,'Lista de Precios_Bolívares_S'!$F:$Q,12,FALSE),\"\")","v":24},111.81,{"$f":"IFERROR(VLOOKUP($A171,'Lista de Precios_USD$_Euro€'!$E:$O,11,FALSE),\"\")","v":3.63}]
["0000012531","BEBIDA GASEOSA FOUR LOKO GREEN 12° 0.473LTS",111.81,{"$f":"IFERROR(VLOOKUP($A172,'Lista de Precios_Bolívares_S'!$F:$Q,6,FALSE),\"\")","v":20.87},{"$f":"IFERROR(VLOOKUP($A172,'Lista de Precios_Bolívares_S'!$F:$Q,12,FALSE),\"\")","v":24},111.81,{"$f":"IFERROR(VLOOKUP($A172,'Lista de Precios_USD$_Euro€'!$E:$O,11,FALSE),\"\")","v":3.63}]
["0000012532","PONCHE CREMA DON CHUCHO 14° 0.700LTS",274.29000000000002,{"$f":"IFERROR(VLOOKUP($A173,'Lista de Precios_Bolívares_S'!$F:$Q,6,FALSE),\"\")","v":""},{"$f":"IFERROR(VLOOKUP($A173,'Lista de Precios_Bolívares_S'!$F:$Q,12,FALSE),\"\")","v":""},"",{"$f":"IFERROR(VLOOKUP($A173,'Lista de Precios_USD$_Euro€'!$E:$O,11,FALSE),\"\")","v":9.6199999999999992}]
["0000012563","ANIS EXTRA 55 MARAQUITA 30° 1000LTS",112.26,{"$f":"IFERROR(VLOOKUP($A174,'Lista de Precios_Bolívares_S'!$F:$Q,6,FALSE),\"\")","v":16.29},{"$f":"IFERROR(VLOOKUP($A174,'Lista de Precios_Bolívares_S'!$F:$Q,12,FALSE),\"\")","v":16.98},112.26,{"$f":"IFERROR(VLOOKUP($A174,'Lista de Precios_USD$_Euro€'!$E:$O,11,FALSE),\"\")","v":3.8418276871601846}]
["0000012564","ANIS EXTRA 55 STAR PURE BLUE 25° 1000LTS",112.26,{"$f":"IFERROR(VLOOKUP($A175,'Lista de Precios_Bolívares_S'!$F:$Q,6,FALSE),\"\")","v":16.29},{"$f":"IFERROR(VLOOKUP($A175,'Lista de Precios_Bolívares_S'!$F:$Q,12,FALSE),\"\")","v":16.98},112.26,{"$f":"IFERROR(VLOOKUP($A175,'Lista de Precios_USD$_Euro€'!$E:$O,11,FALSE),\"\")","v":3.8418276871601846}]
["0000012566","VINO BCO ESP MISIONES DE RENGO DEMI SEC 12.10° 0.750LTS",304.45999999999998,{"$f":"IFERROR(VLOOKUP($A176,'Lista de Precios_Bolívares_S'!$F:$Q,6,FALSE),\"\")","v":""},{"$f":"IFERROR(VLOOKUP($A176,'Lista de Precios_Bolívares_S'!$F:$Q,12,FALSE),\"\")","v":""},"",{"$f":"IFERROR(VLOOKUP($A176,'Lista de Precios_USD$_Euro€'!$E:$O,11,FALSE),\"\")","v":9.9996327683615824}]
["0000012567","VINO RSD ESP MISIONES DE RENGO ROSE 12.2° 0.750LTS ",304.32,{"$f":"IFERROR(VLOOKUP($A177,'Lista de Precios_Bolívares_S'!$F:$Q,6,FALSE),\"\")","v":""},{"$f":"IFERROR(VLOOKUP($A177,'Lista de Precios_Bolívares_S'!$F:$Q,12,FALSE),\"\")","v":""},"",{"$f":"IFERROR(VLOOKUP($A177,'Lista de Precios_USD$_Euro€'!$E:$O,11,FALSE),\"\")","v":9.9996327683615824}]
["0000012568","VINO BCO ESP MISIONES DE RENGO BRUT 12.4° 0.750LTS",304.45999999999998,{"$f":"IFERROR(VLOOKUP($A178,'Lista de Precios_Bolívares_S'!$F:$Q,6,FALSE),\"\")","v":""},{"$f":"IFERROR(VLOOKUP($A178,'Lista de Precios_Bolívares_S'!$F:$Q,12,FALSE),\"\")","v":""},"",{"$f":"IFERROR(VLOOKUP($A178,'Lista de Precios_USD$_Euro€'!$E:$O,11,FALSE),\"\")","v":9.9981357666482751}]
["0000012583","VINO TTO KOSCHER MANISCHEWITZ 11° 0.750LTS",249.54,{"$f":"IFERROR(VLOOKUP($A179,'Lista de Precios_Bolívares_S'!$F:$Q,6,FALSE),\"\")","v":""},{"$f":"IFERROR(VLOOKUP($A179,'Lista de Precios_Bolívares_S'!$F:$Q,12,FALSE),\"\")","v":""},"",{"$f":"IFERROR(VLOOKUP($A179,'Lista de Precios_USD$_Euro€'!$E:$O,11,FALSE),\"\")","v":8.07}]
["0000012584","VINO TTO CARLO ROSSI CALIFORNIA RED 12° 0.750LTS",242.41,{"$f":"IFERROR(VLOOKUP($A180,'Lista de Precios_Bolívares_S'!$F:$Q,6,FALSE),\"\")","v":""},{"$f":"IFERROR(VLOOKUP($A180,'Lista de Precios_Bolívares_S'!$F:$Q,12,FALSE),\"\")","v":""},"",{"$f":"IFERROR(VLOOKUP($A180,'Lista de Precios_USD$_Euro€'!$E:$O,11,FALSE),\"\")","v":7.84}]
["0000012585","VINO ARBOR MIST STRAWBERRY WHITE ZINFANDEL 6° 0.750LTS",249.54,{"$f":"IFERROR(VLOOKUP($A181,'Lista de Precios_Bolívares_S'!$F:$Q,6,FALSE),\"\")","v":""},{"$f":"IFERROR(VLOOKUP($A181,'Lista de Precios_Bolívares_S'!$F:$Q,12,FALSE),\"\")","v":""},"",{"$f":"IFERROR(VLOOKUP($A181,'Lista de Precios_USD$_Euro€'!$E:$O,11,FALSE),\"\")","v":8.07}]
["0000012586","VINO ARBOR MIST BLACKBERRY MERLOT 6° 0.750LTS",249.54,{"$f":"IFERROR(VLOOKUP($A182,'Lista de Precios_Bolívares_S'!$F:$Q,6,FALSE),\"\")","v":""},{"$f":"IFERROR(VLOOKUP($A182,'Lista de Precios_Bolívares_S'!$F:$Q,12,FALSE),\"\")","v":""},"",{"$f":"IFERROR(VLOOKUP($A182,'Lista de Precios_USD$_Euro€'!$E:$O,11,FALSE),\"\")","v":8.07}]
["0000012587","VINO ESPUMOSO ANDRE ROSE 10.5° 0.750LTS",384.77,{"$f":"IFERROR(VLOOKUP($A183,'Lista de Precios_Bolívares_S'!$F:$Q,6,FALSE),\"\")","v":""},{"$f":"IFERROR(VLOOKUP($A183,'Lista de Precios_Bolívares_S'!$F:$Q,12,FALSE),\"\")","v":""},"",{"$f":"IFERROR(VLOOKUP($A183,'Lista de Precios_USD$_Euro€'!$E:$O,11,FALSE),\"\")","v":12.44}]
["0000012588","VINO RSD ARBOR MIST MOSCATO RASPBERRY 6° 0.750LTS",249.54,{"$f":"IFERROR(VLOOKUP($A184,'Lista de Precios_Bolívares_S'!$F:$Q,6,FALSE),\"\")","v":""},{"$f":"IFERROR(VLOOKUP($A184,'Lista de Precios_Bolívares_S'!$F:$Q,12,FALSE),\"\")","v":""},"",{"$f":"IFERROR(VLOOKUP($A184,'Lista de Precios_USD$_Euro€'!$E:$O,11,FALSE),\"\")","v":8.07}]
["0000012589","SANGRIA RSD CARLO ROSSI PINK SWEET 8° 0.750LTS",232.19,{"$f":"IFERROR(VLOOKUP($A185,'Lista de Precios_Bolívares_S'!$F:$Q,6,FALSE),\"\")","v":""},{"$f":"IFERROR(VLOOKUP($A185,'Lista de Precios_Bolívares_S'!$F:$Q,12,FALSE),\"\")","v":""},"",{"$f":"IFERROR(VLOOKUP($A185,'Lista de Precios_USD$_Euro€'!$E:$O,11,FALSE),\"\")","v":7.51}]
["0000012590","BEBIDA ESPIRITUOSA SECA MORUCO 30° 1.000LTS",75.98,{"$f":"IFERROR(VLOOKUP($A186,'Lista de Precios_Bolívares_S'!$F:$Q,6,FALSE),\"\")","v":""},{"$f":"IFERROR(VLOOKUP($A186,'Lista de Precios_Bolívares_S'!$F:$Q,12,FALSE),\"\")","v":""},"",{"$f":"IFERROR(VLOOKUP($A186,'Lista de Precios_USD$_Euro€'!$E:$O,11,FALSE),\"\")","v":2.4675352112676054}]
["0000012593","WHISKY SCOTCH FAMOUS GROUSE 8 AÑOS 40º 1.000 LTS",495.45,{"$f":"IFERROR(VLOOKUP($A187,'Lista de Precios_Bolívares_S'!$F:$Q,6,FALSE),\"\")","v":""},{"$f":"IFERROR(VLOOKUP($A187,'Lista de Precios_Bolívares_S'!$F:$Q,12,FALSE),\"\")","v":""},"",{"$f":"IFERROR(VLOOKUP($A187,'Lista de Precios_USD$_Euro€'!$E:$O,11,FALSE),\"\")","v":16.36}]
["0000012650","LICOR DE CREMA AMARULA ETHIOPIAN COFEE 15.5° 0.750LTS",634.41,{"$f":"IFERROR(VLOOKUP($A188,'Lista de Precios_Bolívares_S'!$F:$Q,6,FALSE),\"\")","v":""},{"$f":"IFERROR(VLOOKUP($A188,'Lista de Precios_Bolívares_S'!$F:$Q,12,FALSE),\"\")","v":""},"",{"$f":"IFERROR(VLOOKUP($A188,'Lista de Precios_USD$_Euro€'!$E:$O,11,FALSE),\"\")","v":20.5}]
["0000012653","PONCHE CREMA CERO'S 14° 0,700LTS",367.2,{"$f":"IFERROR(VLOOKUP($A189,'Lista de Precios_Bolívares_S'!$F:$Q,6,FALSE),\"\")","v":""},{"$f":"IFERROR(VLOOKUP($A189,'Lista de Precios_Bolívares_S'!$F:$Q,12,FALSE),\"\")","v":""},"",{"$f":"IFERROR(VLOOKUP($A189,'Lista de Precios_USD$_Euro€'!$E:$O,11,FALSE),\"\")","v":11.86}]
["0000012654","LICOR DE CREMA DE WHISKY CERO'S 14° 0,700LTS",414.9,{"$f":"IFERROR(VLOOKUP($A190,'Lista de Precios_Bolívares_S'!$F:$Q,6,FALSE),\"\")","v":""},{"$f":"IFERROR(VLOOKUP($A190,'Lista de Precios_Bolívares_S'!$F:$Q,12,FALSE),\"\")","v":""},"",{"$f":"IFERROR(VLOOKUP($A190,'Lista de Precios_USD$_Euro€'!$E:$O,11,FALSE),\"\")","v":13.4}]
["0000012661","VINO ESPUMANTE ANDRE BRUT 10.5° 0.750LTS",296.95,{"$f":"IFERROR(VLOOKUP($A191,'Lista de Precios_Bolívares_S'!$F:$Q,6,FALSE),\"\")","v":""},{"$f":"IFERROR(VLOOKUP($A191,'Lista de Precios_Bolívares_S'!$F:$Q,12,FALSE),\"\")","v":""},"",{"$f":"IFERROR(VLOOKUP($A191,'Lista de Precios_USD$_Euro€'!$E:$O,11,FALSE),\"\")","v":13.013333333333334}]
["0000012677","RON ANTIGUO MESTIZO 20 COLECCION PRIV 40° 0.700LTS",1,{"$f":"IFERROR(VLOOKUP($A217,'Lista de Precios_Bolívares_S'!$F:$Q,6,FALSE),\"\")","v":""},{"$f":"IFERROR(VLOOKUP($A217,'Lista de Precios_Bolívares_S'!$F:$Q,12,FALSE),\"\")","v":""},{"$f":"IFERROR(IF(ROUND($C217,2)=ROUND($D192,2),ROUND($E192,2),ROUND($C217,2)),\"\")","v":""},{"$f":"IFERROR(VLOOKUP($A192,'Lista de Precios_USD$_Euro€'!$E:$O,11,FALSE),\"\")","v":45.88}]
["0000012817","LICOR SECO BASE RON TRANCAO 34° 1.000LTS",94.49,{"$f":"IFERROR(VLOOKUP($A218,'Lista de Precios_Bolívares_S'!$F:$Q,6,FALSE),\"\")","v":""},{"$f":"IFERROR(VLOOKUP($A218,'Lista de Precios_Bolívares_S'!$F:$Q,12,FALSE),\"\")","v":""},"",{"$f":"IFERROR(VLOOKUP($A193,'Lista de Precios_USD$_Euro€'!$E:$O,11,FALSE),\"\")","v":3.1768749999999994}]
["0000012828","BRANDY ST-REMY 40° 0.700LTS",612.76,{"$f":"IFERROR(VLOOKUP($A219,'Lista de Precios_Bolívares_S'!$F:$Q,6,FALSE),\"\")","v":""},{"$f":"IFERROR(VLOOKUP($A219,'Lista de Precios_Bolívares_S'!$F:$Q,12,FALSE),\"\")","v":""},"",{"$f":"IFERROR(VLOOKUP($A194,'Lista de Precios_USD$_Euro€'!$E:$O,11,FALSE),\"\")","v":19.942266666666665}]
["0000012832","COMBO PAPAS PRINGLES SURTIDO 14UND 158GRS",92.92,{"$f":"IFERROR(VLOOKUP($A220,'Lista de Precios_Bolívares_S'!$F:$Q,6,FALSE),\"\")","v":""},{"$f":"IFERROR(VLOOKUP($A220,'Lista de Precios_Bolívares_S'!$F:$Q,12,FALSE),\"\")","v":""},"",{"$f":"IFERROR(VLOOKUP($A195,'Lista de Precios_USD$_Euro€'!$E:$O,11,FALSE),\"\")","v":3}]
["0000012874","WHISKY CHIVAS REGAL 40° 13YO 0.700LTS.",874.07,{"$f":"IFERROR(VLOOKUP($A221,'Lista de Precios_Bolívares_S'!$F:$Q,6,FALSE),\"\")","v":""},{"$f":"IFERROR(VLOOKUP($A221,'Lista de Precios_Bolívares_S'!$F:$Q,12,FALSE),\"\")","v":""},"",{"$f":"IFERROR(VLOOKUP($A196,'Lista de Precios_USD$_Euro€'!$E:$O,11,FALSE),\"\")","v":35.354999999999997}]
["0000012972","VINO BCO ARBOR MIST PEACH CHARDONNAY 6° 0.750LTS",263.99,{"$f":"IFERROR(VLOOKUP($A222,'Lista de Precios_Bolívares_S'!$F:$Q,6,FALSE),\"\")","v":""},{"$f":"IFERROR(VLOOKUP($A222,'Lista de Precios_Bolívares_S'!$F:$Q,12,FALSE),\"\")","v":""},"",{"$f":"IFERROR(VLOOKUP($A197,'Lista de Precios_USD$_Euro€'!$E:$O,11,FALSE),\"\")","v":8.6825333333333337}]
["0000012973","W.CELEBRA PROM CHIVAS REGAL 12 AÑOS 40° 0.750LTS.",717.66,{"$f":"IFERROR(VLOOKUP($A223,'Lista de Precios_Bolívares_S'!$F:$Q,6,FALSE),\"\")","v":""},{"$f":"IFERROR(VLOOKUP($A223,'Lista de Precios_Bolívares_S'!$F:$Q,12,FALSE),\"\")","v":""},"",{"$f":"IFERROR(VLOOKUP($A198,'Lista de Precios_USD$_Euro€'!$E:$O,11,FALSE),\"\")","v":26.493559603207888}]
["0000012976","W.CONTIGO 100 PIPERS 40° 0.700 LTS.",318.3,{"$f":"IFERROR(VLOOKUP($A224,'Lista de Precios_Bolívares_S'!$F:$Q,6,FALSE),\"\")","v":""},{"$f":"IFERROR(VLOOKUP($A224,'Lista de Precios_Bolívares_S'!$F:$Q,12,FALSE),\"\")","v":""},"",{"$f":"IFERROR(VLOOKUP($A199,'Lista de Precios_USD$_Euro€'!$E:$O,11,FALSE),\"\")","v":11.188951283041666}]
["0000012989","RON ANTIGUO MESTIZO 40° 0.700LTS",643.27,{"$f":"IFERROR(VLOOKUP($A225,'Lista de Precios_Bolívares_S'!$F:$Q,6,FALSE),\"\")","v":""},{"$f":"IFERROR(VLOOKUP($A225,'Lista de Precios_Bolívares_S'!$F:$Q,12,FALSE),\"\")","v":""},"",{"$f":"IFERROR(VLOOKUP($A200,'Lista de Precios_USD$_Euro€'!$E:$O,11,FALSE),\"\")","v":22.25}]
["0000012999","B.E.S. ESTELAR ESCUDO DORADO 39° 1.000LTS",133.35,{"$f":"IFERROR(VLOOKUP($A226,'Lista de Precios_Bolívares_S'!$F:$Q,6,FALSE),\"\")","v":""},{"$f":"IFERROR(VLOOKUP($A226,'Lista de Precios_Bolívares_S'!$F:$Q,12,FALSE),\"\")","v":""},"",{"$f":"IFERROR(VLOOKUP($A201,'Lista de Precios_USD$_Euro€'!$E:$O,11,FALSE),\"\")","v":4.6091666666666669}]
["0000013013","VASO PLAST S. FIESTA BRAVA 10 OZ",0,{"$f":"IFERROR(VLOOKUP($A227,'Lista de Precios_Bolívares_S'!$F:$Q,6,FALSE),\"\")","v":""},{"$f":"IFERROR(VLOOKUP($A227,'Lista de Precios_Bolívares_S'!$F:$Q,12,FALSE),\"\")","v":""},"",{"$f":"IFERROR(VLOOKUP($A202,'Lista de Precios_USD$_Euro€'!$E:$O,11,FALSE),\"\")","v":0}]
["0000013024","WHISKY FOREVER SOMETHING S.40° 0.750LTS",451.47,{"$f":"IFERROR(VLOOKUP($A228,'Lista de Precios_Bolívares_S'!$F:$Q,6,FALSE),\"\")","v":""},{"$f":"IFERROR(VLOOKUP($A228,'Lista de Precios_Bolívares_S'!$F:$Q,12,FALSE),\"\")","v":""},"",{"$f":"IFERROR(VLOOKUP($A203,'Lista de Precios_USD$_Euro€'!$E:$O,11,FALSE),\"\")","v":14.945552733524465}]
["0000013025","ANIS EXTRA 55 30° 1.500LTS",166.61,{"$f":"IFERROR(VLOOKUP($A229,'Lista de Precios_Bolívares_S'!$F:$Q,6,FALSE),\"\")","v":""},{"$f":"IFERROR(VLOOKUP($A229,'Lista de Precios_Bolívares_S'!$F:$Q,12,FALSE),\"\")","v":""},"",{"$f":"IFERROR(VLOOKUP($A204,'Lista de Precios_USD$_Euro€'!$E:$O,11,FALSE),\"\")","v":5.8090006447453248}]
["0000013028","COMBO S. FIESTA BRAVA 7° 6UNID+12VASOS 1.750LTS",112.04,{"$f":"IFERROR(VLOOKUP($A230,'Lista de Precios_Bolívares_S'!$F:$Q,6,FALSE),\"\")","v":""},{"$f":"IFERROR(VLOOKUP($A230,'Lista de Precios_Bolívares_S'!$F:$Q,12,FALSE),\"\")","v":""},"",{"$f":"IFERROR(VLOOKUP($A205,'Lista de Precios_USD$_Euro€'!$E:$O,11,FALSE),\"\")","v":3.6274647887323943}]
["0000013029","W.CHIVAS REGAL 12AÑO CELEBRA PAPA 40° 0.750LTS",687.7,{"$f":"IFERROR(VLOOKUP($A231,'Lista de Precios_Bolívares_S'!$F:$Q,6,FALSE),\"\")","v":""},{"$f":"IFERROR(VLOOKUP($A231,'Lista de Precios_Bolívares_S'!$F:$Q,12,FALSE),\"\")","v":""},"",{"$f":"IFERROR(VLOOKUP($A206,'Lista de Precios_USD$_Euro€'!$E:$O,11,FALSE),\"\")","v":26.49}]
["0000013036","VINO TTO MARQUES DE BORBA 14° 1.500LTS",679.12,{"$f":"IFERROR(VLOOKUP($A232,'Lista de Precios_Bolívares_S'!$F:$Q,6,FALSE),\"\")","v":""},{"$f":"IFERROR(VLOOKUP($A232,'Lista de Precios_Bolívares_S'!$F:$Q,12,FALSE),\"\")","v":""},"",{"$f":"IFERROR(VLOOKUP($A207,'Lista de Precios_USD$_Euro€'!$E:$O,11,FALSE),\"\")","v":22.330548288641811}]
["0000013076","W.PROM CHIVAS R.12AÑOS ACT PERNOD 40° 0.750LTS",687.7,{"$f":"IFERROR(VLOOKUP($A233,'Lista de Precios_Bolívares_S'!$F:$Q,6,FALSE),\"\")","v":""},{"$f":"IFERROR(VLOOKUP($A233,'Lista de Precios_Bolívares_S'!$F:$Q,12,FALSE),\"\")","v":""},"",{"$f":"IFERROR(VLOOKUP($A217,'Lista de Precios_USD$_Euro€'!$E:$O,11,FALSE),\"\")","v":""}]
["0000013079","W.PROM ROYAL SALUTE ACT PERNOD 40° 0.700LTS",6,{"$f":"IFERROR(VLOOKUP($A234,'Lista de Precios_Bolívares_S'!$F:$Q,6,FALSE),\"\")","v":""},{"$f":"IFERROR(VLOOKUP($A234,'Lista de Precios_Bolívares_S'!$F:$Q,12,FALSE),\"\")","v":""},"",{"$f":"IFERROR(VLOOKUP($A209,'Lista de Precios_USD$_Euro€'!$E:$O,11,FALSE),\"\")","v":203.34}]
["0000013080","V.PROM VODKA ABSOLUT ACT PERNOD 40° 0.700LTS",438.33,{"$f":"IFERROR(VLOOKUP($A235,'Lista de Precios_Bolívares_S'!$F:$Q,6,FALSE),\"\")","v":""},{"$f":"IFERROR(VLOOKUP($A235,'Lista de Precios_Bolívares_S'!$F:$Q,12,FALSE),\"\")","v":""},"",{"$f":"IFERROR(VLOOKUP($A210,'Lista de Precios_USD$_Euro€'!$E:$O,11,FALSE),\"\")","v":15.18}]
["0000013081","G.PROM BEEFEATER ACT PERNOD 40° 0.700LTS",832.34,{"$f":"IFERROR(VLOOKUP($A236,'Lista de Precios_Bolívares_S'!$F:$Q,6,FALSE),\"\")","v":""},{"$f":"IFERROR(VLOOKUP($A236,'Lista de Precios_Bolívares_S'!$F:$Q,12,FALSE),\"\")","v":""},"",{"$f":"IFERROR(VLOOKUP($A211,'Lista de Precios_USD$_Euro€'!$E:$O,11,FALSE),\"\")","v":27.778333333333332}]
["0000013083","W.PROM 100 PIPERS ACT PERNOD 40° 0.700LTS",315.39,{"$f":"IFERROR(VLOOKUP($A237,'Lista de Precios_Bolívares_S'!$F:$Q,6,FALSE),\"\")","v":""},{"$f":"IFERROR(VLOOKUP($A237,'Lista de Precios_Bolívares_S'!$F:$Q,12,FALSE),\"\")","v":""},"",{"$f":"IFERROR(VLOOKUP($A212,'Lista de Precios_USD$_Euro€'!$E:$O,11,FALSE),\"\")","v":11.188951283041666}]
["0000013084","W.PROM CHIVAS R,18AÑOS ACT PERNOD 40° 0.700LTS",1,{"$f":"IFERROR(VLOOKUP($A238,'Lista de Precios_Bolívares_S'!$F:$Q,6,FALSE),\"\")","v":""},{"$f":"IFERROR(VLOOKUP($A238,'Lista de Precios_Bolívares_S'!$F:$Q,12,FALSE),\"\")","v":""},"",{"$f":"IFERROR(VLOOKUP($A213,'Lista de Precios_USD$_Euro€'!$E:$O,11,FALSE),\"\")","v":66.621243044385281}]
["0000013143","SANGRIA BCO DON JULIAN BLANCA 9° 1.750LTS",132.15,{"$f":"IFERROR(VLOOKUP($A239,'Lista de Precios_Bolívares_S'!$F:$Q,6,FALSE),\"\")","v":""},{"$f":"IFERROR(VLOOKUP($A239,'Lista de Precios_Bolívares_S'!$F:$Q,12,FALSE),\"\")","v":""},"",{"$f":"IFERROR(VLOOKUP($A214,'Lista de Precios_USD$_Euro€'!$E:$O,11,FALSE),\"\")","v":4.5922096184892505}]
["0000013144","SANGRIA RSD DON JULIAN ROSADO 9° 1.750LTS",132.15,{"$f":"IFERROR(VLOOKUP($A240,'Lista de Precios_Bolívares_S'!$F:$Q,6,FALSE),\"\")","v":""},{"$f":"IFERROR(VLOOKUP($A240,'Lista de Precios_Bolívares_S'!$F:$Q,12,FALSE),\"\")","v":""},"",{"$f":"IFERROR(VLOOKUP($A215,'Lista de Precios_USD$_Euro€'!$E:$O,11,FALSE),\"\")","v":4.5922096184892505}]
["0000013161","WHISKY CHIVAS REGAL 12AÑOS ENJOY 40°0.750LTS",687.7,{"$f":"IFERROR(VLOOKUP($A241,'Lista de Precios_Bolívares_S'!$F:$Q,6,FALSE),\"\")","v":""},{"$f":"IFERROR(VLOOKUP($A241,'Lista de Precios_Bolívares_S'!$F:$Q,12,FALSE),\"\")","v":""},"",{"$f":"IFERROR(VLOOKUP($A216,'Lista de Precios_USD$_Euro€'!$E:$O,11,FALSE),\"\")","v":26.49}]
["8000001885","VINO TINTO ROSARIO CAB SAUV 13.5° 0.750 LTS",5,{"$f":"IFERROR(VLOOKUP($A242,'Lista de Precios_Bolívares_S'!$F:$Q,6,FALSE),\"\")","v":""},{"$f":"IFERROR(VLOOKUP($A242,'Lista de Precios_Bolívares_S'!$F:$Q,12,FALSE),\"\")","v":""},"",{"$f":"IFERROR(VLOOKUP($A217,'Lista de Precios_USD$_Euro€'!$E:$O,11,FALSE),\"\")","v":""}]
[null,null,null,{"$f":"IFERROR(VLOOKUP($A243,'Lista de Precios_Bolívares_S'!$F:$Q,6,FALSE),\"\")","v":""},{"$f":"IFERROR(VLOOKUP($A243,'Lista de Precios_Bolívares_S'!$F:$Q,12,FALSE),\"\")","v":""},"",{"$f":"IFERROR(VLOOKUP($A243,'Lista de Precios_USD$_Euro€'!$E:$O,11,FALSE),\"\")","v":""}]
[null,null,null,{"$f":"IFERROR(VLOOKUP($A244,'Lista de Precios_Bolívares_S'!$F:$Q,6,FALSE),\"\")","v":""},{"$f":"IFERROR(VLOOKUP($A244,'Lista de Precios_Bolívares_S'!$F:$Q,12,FALSE),\"\")","v":""},"",{"$f":"IFERROR(VLOOKUP($A244,'Lista de Precios_USD$_Euro€'!$E:$O,11,FALSE),\"\")","v":""}]
[null,null,null,{"$f":"IFERROR(VLOOKUP($A245,'Lista de Precios_Bolívares_S'!$F:$Q,6,FALSE),\"\")","v":""},{"$f":"IFERROR(VLOOKUP($A245,'Lista de Precios_Bolívares_S'!$F:$Q,12,FALSE),\"\")","v":""},"",{"$f":"IFERROR(VLOOKUP($A245,'Lista de Precios_USD$_Euro€'!$E:$O,11,FALSE),\"\")","v":""}]
[null,null,null,{"$f":"IFERROR(VLOOKUP($A246,'Lista de Precios_Bolívares_S'!$F:$Q,6,FALSE),\"\")","v":""},{"$f":"IFERROR(VLOOKUP($A246,'Lista de Precios_Bolívares_S'!$F:$Q,12,FALSE),\"\")","v":""},"",{"$f":"IFERROR(VLOOKUP($A246,'Lista de Precios_USD$_Euro€'!$E:$O,11,FALSE),\"\")","v":""}]
[null,null,null,{"$f":"IFERROR(VLOOKUP($A247,'Lista de Precios_Bolívares_S'!$F:$Q,6,FALSE),\"\")","v":""},{"$f":"IFERROR(VLOOKUP($A247,'Lista de Precios_Bolívares_S'!$F:$Q,12,FALSE),\"\")","v":""},"",{"$f":"IFERROR(VLOOKUP($A247,'Lista de Precios_USD$_Euro€'!$E:$O,11,FALSE),\"\")","v":""}]
[null,null,null,{"$f":"IFERROR(VLOOKUP($A248,'Lista de Precios_Bolívares_S'!$F:$Q,6,FALSE),\"\")","v":""},{"$f":"IFERROR(VLOOKUP($A248,'Lista de Precios_Bolívares_S'!$F:$Q,12,FALSE),\"\")","v":""},"",{"$f":"IFERROR(VLOOKUP($A248,'Lista de Precios_USD$_Euro€'!$E:$O,11,FALSE),\"\")","v":""}]
[null,null,null,{"$f":"IFERROR(VLOOKUP($A249,'Lista de Precios_Bolívares_S'!$F:$Q,6,FALSE),\"\")","v":""},{"$f":"IFERROR(VLOOKUP($A249,'Lista de Precios_Bolívares_S'!$F:$Q,12,FALSE),\"\")","v":""},"",{"$f":"IFERROR(VLOOKUP($A249,'Lista de Precios_USD$_Euro€'!$E:$O,11,FALSE),\"\")","v":""}]
[null,null,null,{"$f":"IFERROR(VLOOKUP($A250,'Lista de Precios_Bolívares_S'!$F:$Q,6,FALSE),\"\")","v":""},{"$f":"IFERROR(VLOOKUP($A250,'Lista de Precios_Bolívares_S'!$F:$Q,12,FALSE),\"\")","v":""},"",{"$f":"IFERROR(VLOOKUP($A250,'Lista de Precios_USD$_Euro€'!$E:$O,11,FALSE),\"\")","v":""}]
[null,null,null,{"$f":"IFERROR(VLOOKUP($A251,'Lista de Precios_Bolívares_S'!$F:$Q,6,FALSE),\"\")","v":""},{"$f":"IFERROR(VLOOKUP($A251,'Lista de Precios_Bolívares_S'!$F:$Q,12,FALSE),\"\")","v":""},"",{"$f":"IFERROR(VLOOKUP($A251,'Lista de Precios_USD$_Euro€'!$E:$O,11,FALSE),\"\")","v":""}]
[null,null,null,{"$f":"IFERROR(VLOOKUP($A252,'Lista de Precios_Bolívares_S'!$F:$Q,6,FALSE),\"\")","v":""},{"$f":"IFERROR(VLOOKUP($A252,'Lista de Precios_Bolívares_S'!$F:$Q,12,FALSE),\"\")","v":""},"",{"$f":"IFERROR(VLOOKUP($A252,'Lista de Precios_USD$_Euro€'!$E:$O,11,FALSE),\"\")","v":""}]
[null,null,null,{"$f":"IFERROR(VLOOKUP($A253,'Lista de Precios_Bolívares_S'!$F:$Q,6,FALSE),\"\")","v":""},{"$f":"IFERROR(VLOOKUP($A253,'Lista de Precios_Bolívares_S'!$F:$Q,12,FALSE),\"\")","v":""},"",{"$f":"IFERROR(VLOOKUP($A253,'Lista de Precios_USD$_Euro€'!$E:$O,11,FALSE),\"\")","v":""}]
[null,null,null,{"$f":"IFERROR(VLOOKUP($A254,'Lista de Precios_Bolívares_S'!$F:$Q,6,FALSE),\"\")","v":""},{"$f":"IFERROR(VLOOKUP($A254,'Lista de Precios_Bolívares_S'!$F:$Q,12,FALSE),\"\")","v":""},"",{"$f":"IFERROR(VLOOKUP($A254,'Lista de Precios_USD$_Euro€'!$E:$O,11,FALSE),\"\")","v":""}]
[null,null,null,{"$f":"IFERROR(VLOOKUP($A255,'Lista de Precios_Bolívares_S'!$F:$Q,6,FALSE),\"\")","v":""},{"$f":"IFERROR(VLOOKUP($A255,'Lista de Precios_Bolívares_S'!$F:$Q,12,FALSE),\"\")","v":""},"",{"$f":"IFERROR(VLOOKUP($A255,'Lista de Precios_USD$_Euro€'!$E:$O,11,FALSE),\"\")","v":""}]
[null,null,null,{"$f":"IFERROR(VLOOKUP($A256,'Lista de Precios_Bolívares_S'!$F:$Q,6,FALSE),\"\")","v":""},{"$f":"IFERROR(VLOOKUP($A256,'Lista de Precios_Bolívares_S'!$F:$Q,12,FALSE),\"\")","v":""},"",{"$f":"IFERROR(VLOOKUP($A256,'Lista de Precios_USD$_Euro€'!$E:$O,11,FALSE),\"\")","v":""}]
[null,null,null,{"$f":"IFERROR(VLOOKUP($A257,'Lista de Precios_Bolívares_S'!$F:$Q,6,FALSE),\"\")","v":""},{"$f":"IFERROR(VLOOKUP($A257,'Lista de Precios_Bolívares_S'!$F:$Q,12,FALSE),\"\")","v":""},"",{"$f":"IFERROR(VLOOKUP($A257,'Lista de Precios_USD$_Euro€'!$E:$O,11,FALSE),\"\")","v":""}]
[null,null,null,{"$f":"IFERROR(VLOOKUP($A258,'Lista de Precios_Bolívares_S'!$F:$Q,6,FALSE),\"\")","v":""},{"$f":"IFERROR(VLOOKUP($A258,'Lista de Precios_Bolívares_S'!$F:$Q,12,FALSE),\"\")","v":""},"",{"$f":"IFERROR(VLOOKUP($A258,'Lista de Precios_USD$_Euro€'!$E:$O,11,FALSE),\"\")","v":""}]
[null,null,null,{"$f":"IFERROR(VLOOKUP($A259,'Lista de Precios_Bolívares_S'!$F:$Q,6,FALSE),\"\")","v":""},{"$f":"IFERROR(VLOOKUP($A259,'Lista de Precios_Bolívares_S'!$F:$Q,12,FALSE),\"\")","v":""},"",{"$f":"IFERROR(VLOOKUP($A259,'Lista de Precios_USD$_Euro€'!$E:$O,11,FALSE),\"\")","v":""}]
[null,null,null,{"$f":"IFERROR(VLOOKUP($A260,'Lista de Precios_Bolívares_S'!$F:$Q,6,FALSE),\"\")","v":""},{"$f":"IFERROR(VLOOKUP($A260,'Lista de Precios_Bolívares_S'!$F:$Q,12,FALSE),\"\")","v":""},"",{"$f":"IFERROR(VLOOKUP($A260,'Lista de Precios_USD$_Euro€'!$E:$O,11,FALSE),\"\")","v":""}]
[null,null,null,{"$f":"IFERROR(VLOOKUP($A261,'Lista de Precios_Bolívares_S'!$F:$Q,6,FALSE),\"\")","v":""},{"$f":"IFERROR(VLOOKUP($A261,'Lista de Precios_Bolívares_S'!$F:$Q,12,FALSE),\"\")","v":""},"",{"$f":"IFERROR(VLOOKUP($A261,'Lista de Precios_USD$_Euro€'!$E:$O,11,FALSE),\"\")","v":""}]
[null,null,null,{"$f":"IFERROR(VLOOKUP($A262,'Lista de Precios_Bolívares_S'!$F:$Q,6,FALSE),\"\")","v":""},{"$f":"IFERROR(VLOOKUP($A262,'Lista de Precios_Bolívares_S'!$F:$Q,12,FALSE),\"\")","v":""},"",{"$f":"IFERROR(VLOOKUP($A262,'Lista de Precios_USD$_Euro€'!$E:$O,11,FALSE),\"\")","v":""}]
[null,null,null,{"$f":"IFERROR(VLOOKUP($A263,'Lista de Precios_Bolívares_S'!$F:$Q,6,FALSE),\"\")","v":""},{"$f":"IFERROR(VLOOKUP($A263,'Lista de Precios_Bolívares_S'!$F:$Q,12,FALSE),\"\")","v":""},"",{"$f":"IFERROR(VLOOKUP($A263,'Lista de Precios_USD$_Euro€'!$E:$O,11,FALSE),\"\")","v":""}]
[null,null,null,{"$f":"IFERROR(VLOOKUP($A264,'Lista de Precios_Bolívares_S'!$F:$Q,6,FALSE),\"\")","v":""},{"$f":"IFERROR(VLOOKUP($A264,'Lista de Precios_Bolívares_S'!$F:$Q,12,FALSE),\"\")","v":""},"",{"$f":"IFERROR(VLOOKUP($A264,'Lista de Precios_USD$_Euro€'!$E:$O,11,FALSE),\"\")","v":""}]
[null,null,null,{"$f":"IFERROR(VLOOKUP($A265,'Lista de Precios_Bolívares_S'!$F:$Q,6,FALSE),\"\")","v":""},{"$f":"IFERROR(VLOOKUP($A265,'Lista de Precios_Bolívares_S'!$F:$Q,12,FALSE),\"\")","v":""},"",{"$f":"IFERROR(VLOOKUP($A265,'Lista de Precios_USD$_Euro€'!$E:$O,11,FALSE),\"\")","v":""}]
[null,null,null,{"$f":"IFERROR(VLOOKUP($A266,'Lista de Precios_Bolívares_S'!$F:$Q,6,FALSE),\"\")","v":""},{"$f":"IFERROR(VLOOKUP($A266,'Lista de Precios_Bolívares_S'!$F:$Q,12,FALSE),\"\")","v":""},"",{"$f":"IFERROR(VLOOKUP($A266,'Lista de Precios_USD$_Euro€'!$E:$O,11,FALSE),\"\")","v":""}]
[null,null,null,{"$f":"IFERROR(VLOOKUP($A267,'Lista de Precios_Bolívares_S'!$F:$Q,6,FALSE),\"\")","v":""},{"$f":"IFERROR(VLOOKUP($A267,'Lista de Precios_Bolívares_S'!$F:$Q,12,FALSE),\"\")","v":""},"",{"$f":"IFERROR(VLOOKUP($A267,'Lista de Precios_USD$_Euro€'!$E:$O,11,FALSE),\"\")","v":""}]
[null,null,null,{"$f":"IFERROR(VLOOKUP($A268,'Lista de Precios_Bolívares_S'!$F:$Q,6,FALSE),\"\")","v":""},{"$f":"IFERROR(VLOOKUP($A268,'Lista de Precios_Bolívares_S'!$F:$Q,12,FALSE),\"\")","v":""},"",{"$f":"IFERROR(VLOOKUP($A268,'Lista de Precios_USD$_Euro€'!$E:$O,11,FALSE),\"\")","v":""}]
[null,null,null,{"$f":"IFERROR(VLOOKUP($A269,'Lista de Precios_Bolívares_S'!$F:$Q,6,FALSE),\"\")","v":""},{"$f":"IFERROR(VLOOKUP($A269,'Lista de Precios_Bolívares_S'!$F:$Q,12,FALSE),\"\")","v":""},"",{"$f":"IFERROR(VLOOKUP($A269,'Lista de Precios_USD$_Euro€'!$E:$O,11,FALSE),\"\")","v":""}]
[null,null,null,{"$f":"IFERROR(VLOOKUP($A270,'Lista de Precios_Bolívares_S'!$F:$Q,6,FALSE),\"\")","v":""},{"$f":"IFERROR(VLOOKUP($A270,'Lista de Precios_Bolívares_S'!$F:$Q,12,FALSE),\"\")","v":""},"",{"$f":"IFERROR(VLOOKUP($A270,'Lista de Precios_USD$_Euro€'!$E:$O,11,FALSE),\"\")","v":""}]
[null,null,null,{"$f":"IFERROR(VLOOKUP($A271,'Lista de Precios_Bolívares_S'!$F:$Q,6,FALSE),\"\")","v":""},{"$f":"IFERROR(VLOOKUP($A271,'Lista de Precios_Bolívares_S'!$F:$Q,12,FALSE),\"\")","v":""},"",{"$f":"IFERROR(VLOOKUP($A271,'Lista de Precios_USD$_Euro€'!$E:$O,11,FALSE),\"\")","v":""}]
[null,null,null,{"$f":"IFERROR(VLOOKUP($A272,'Lista de Precios_Bolívares_S'!$F:$Q,6,FALSE),\"\")","v":""},{"$f":"IFERROR(VLOOKUP($A272,'Lista de Precios_Bolívares_S'!$F:$Q,12,FALSE),\"\")","v":""},"",{"$f":"IFERROR(VLOOKUP($A272,'Lista de Precios_USD$_Euro€'!$E:$O,11,FALSE),\"\")","v":""}]
[null,null,null,{"$f":"IFERROR(VLOOKUP($A273,'Lista de Precios_Bolívares_S'!$F:$Q,6,FALSE),\"\")","v":""},{"$f":"IFERROR(VLOOKUP($A273,'Lista de Precios_Bolívares_S'!$F:$Q,12,FALSE),\"\")","v":""},"",{"$f":"IFERROR(VLOOKUP($A273,'Lista de Precios_USD$_Euro€'!$E:$O,11,FALSE),\"\")","v":""}]
[null,null,null,{"$f":"IFERROR(VLOOKUP($A274,'Lista de Precios_Bolívares_S'!$F:$Q,6,FALSE),\"\")","v":""},{"$f":"IFERROR(VLOOKUP($A274,'Lista de Precios_Bolívares_S'!$F:$Q,12,FALSE),\"\")","v":""},"",{"$f":"IFERROR(VLOOKUP($A274,'Lista de Precios_USD$_Euro€'!$E:$O,11,FALSE),\"\")","v":""}]
[null,null,null,{"$f":"IFERROR(VLOOKUP($A275,'Lista de Precios_Bolívares_S'!$F:$Q,6,FALSE),\"\")","v":""},{"$f":"IFERROR(VLOOKUP($A275,'Lista de Precios_Bolívares_S'!$F:$Q,12,FALSE),\"\")","v":""},"",{"$f":"IFERROR(VLOOKUP($A275,'Lista de Precios_USD$_Euro€'!$E:$O,11,FALSE),\"\")","v":""}]
[null,null,null,{"$f":"IFERROR(VLOOKUP($A276,'Lista de Precios_Bolívares_S'!$F:$Q,6,FALSE),\"\")","v":""},{"$f":"IFERROR(VLOOKUP($A276,'Lista de Precios_Bolívares_S'!$F:$Q,12,FALSE),\"\")","v":""},"",{"$f":"IFERROR(VLOOKUP($A276,'Lista de Precios_USD$_Euro€'!$E:$O,11,FALSE),\"\")","v":""}]
[null,null,null,{"$f":"IFERROR(VLOOKUP($A277,'Lista de Precios_Bolívares_S'!$F:$Q,6,FALSE),\"\")","v":""},{"$f":"IFERROR(VLOOKUP($A277,'Lista de Precios_Bolívares_S'!$F:$Q,12,FALSE),\"\")","v":""},"",{"$f":"IFERROR(VLOOKUP($A277,'Lista de Precios_USD$_Euro€'!$E:$O,11,FALSE),\"\")","v":""}]
[null,null,null,{"$f":"IFERROR(VLOOKUP($A278,'Lista de Precios_Bolívares_S'!$F:$Q,6,FALSE),\"\")","v":""},{"$f":"IFERROR(VLOOKUP($A278,'Lista de Precios_Bolívares_S'!$F:$Q,12,FALSE),\"\")","v":""},"",{"$f":"IFERROR(VLOOKUP($A278,'Lista de Precios_USD$_Euro€'!$E:$O,11,FALSE),\"\")","v":""}]
[null,null,null,{"$f":"IFERROR(VLOOKUP($A279,'Lista de Precios_Bolívares_S'!$F:$Q,6,FALSE),\"\")","v":""},{"$f":"IFERROR(VLOOKUP($A279,'Lista de Precios_Bolívares_S'!$F:$Q,12,FALSE),\"\")","v":""},"",{"$f":"IFERROR(VLOOKUP($A279,'Lista de Precios_USD$_Euro€'!$E:$O,11,FALSE),\"\")","v":""}]
[null,null,null,{"$f":"IFERROR(VLOOKUP($A280,'Lista de Precios_Bolívares_S'!$F:$Q,6,FALSE),\"\")","v":""},{"$f":"IFERROR(VLOOKUP($A280,'Lista de Precios_Bolívares_S'!$F:$Q,12,FALSE),\"\")","v":""},"",{"$f":"IFERROR(VLOOKUP($A280,'Lista de Precios_USD$_Euro€'!$E:$O,11,FALSE),\"\")","v":""}]
[null,null,null,{"$f":"IFERROR(VLOOKUP($A281,'Lista de Precios_Bolívares_S'!$F:$Q,6,FALSE),\"\")","v":""},{"$f":"IFERROR(VLOOKUP($A281,'Lista de Precios_Bolívares_S'!$F:$Q,12,FALSE),\"\")","v":""},{"$f":"IFERROR(IF(ROUND($C281,2)=ROUND($D256,2),ROUND($E256,2),ROUND($C281,2)),\"\")","v":""},{"$f":"IFERROR(VLOOKUP($A281,'Lista de Precios_USD$_Euro€'!$E:$O,11,FALSE),\"\")","v":""}]
[null,null,null,{"$f":"IFERROR(VLOOKUP($A282,'Lista de Precios_Bolívares_S'!$F:$Q,6,FALSE),\"\")","v":""},{"$f":"IFERROR(VLOOKUP($A282,'Lista de Precios_Bolívares_S'!$F:$Q,12,FALSE),\"\")","v":""},"",{"$f":"IFERROR(VLOOKUP($A282,'Lista de Precios_USD$_Euro€'!$E:$O,11,FALSE),\"\")","v":""}]
[null,null,null,{"$f":"IFERROR(VLOOKUP($A283,'Lista de Precios_Bolívares_S'!$F:$Q,6,FALSE),\"\")","v":""},{"$f":"IFERROR(VLOOKUP($A283,'Lista de Precios_Bolívares_S'!$F:$Q,12,FALSE),\"\")","v":""},"",{"$f":"IFERROR(VLOOKUP($A283,'Lista de Precios_USD$_Euro€'!$E:$O,11,FALSE),\"\")","v":""}]
[null,null,null,{"$f":"IFERROR(VLOOKUP($A284,'Lista de Precios_Bolívares_S'!$F:$Q,6,FALSE),\"\")","v":""},{"$f":"IFERROR(VLOOKUP($A284,'Lista de Precios_Bolívares_S'!$F:$Q,12,FALSE),\"\")","v":""},"",{"$f":"IFERROR(VLOOKUP($A284,'Lista de Precios_USD$_Euro€'!$E:$O,11,FALSE),\"\")","v":""}]
[null,null,null,{"$f":"IFERROR(VLOOKUP($A285,'Lista de Precios_Bolívares_S'!$F:$Q,6,FALSE),\"\")","v":""},{"$f":"IFERROR(VLOOKUP($A285,'Lista de Precios_Bolívares_S'!$F:$Q,12,FALSE),\"\")","v":""},"",{"$f":"IFERROR(VLOOKUP($A285,'Lista de Precios_USD$_Euro€'!$E:$O,11,FALSE),\"\")","v":""}]
[null,null,null,{"$f":"IFERROR(VLOOKUP($A286,'Lista de Precios_Bolívares_S'!$F:$Q,6,FALSE),\"\")","v":""},{"$f":"IFERROR(VLOOKUP($A286,'Lista de Precios_Bolívares_S'!$F:$Q,12,FALSE),\"\")","v":""},"",{"$f":"IFERROR(VLOOKUP($A286,'Lista de Precios_USD$_Euro€'!$E:$O,11,FALSE),\"\")","v":""}]
[null,null,null,{"$f":"IFERROR(VLOOKUP($A287,'Lista de Precios_Bolívares_S'!$F:$Q,6,FALSE),\"\")","v":""},{"$f":"IFERROR(VLOOKUP($A287,'Lista de Precios_Bolívares_S'!$F:$Q,12,FALSE),\"\")","v":""},"",{"$f":"IFERROR(VLOOKUP($A287,'Lista de Precios_USD$_Euro€'!$E:$O,11,FALSE),\"\")","v":""}]
[null,null,null,{"$f":"IFERROR(VLOOKUP($A288,'Lista de Precios_Bolívares_S'!$F:$Q,6,FALSE),\"\")","v":""},{"$f":"IFERROR(VLOOKUP($A288,'Lista de Precios_Bolívares_S'!$F:$Q,12,FALSE),\"\")","v":""},"",{"$f":"IFERROR(VLOOKUP($A288,'Lista de Precios_USD$_Euro€'!$E:$O,11,FALSE),\"\")","v":""}]
[null,null,null,{"$f":"IFERROR(VLOOKUP($A289,'Lista de Precios_Bolívares_S'!$F:$Q,6,FALSE),\"\")","v":""},{"$f":"IFERROR(VLOOKUP($A289,'Lista de Precios_Bolívares_S'!$F:$Q,12,FALSE),\"\")","v":""},"",{"$f":"IFERROR(VLOOKUP($A289,'Lista de Precios_USD$_Euro€'!$E:$O,11,FALSE),\"\")","v":""}]
[null,null,null,{"$f":"IFERROR(VLOOKUP($A290,'Lista de Precios_Bolívares_S'!$F:$Q,6,FALSE),\"\")","v":""},{"$f":"IFERROR(VLOOKUP($A290,'Lista de Precios_Bolívares_S'!$F:$Q,12,FALSE),\"\")","v":""},"",{"$f":"IFERROR(VLOOKUP($A290,'Lista de Precios_USD$_Euro€'!$E:$O,11,FALSE),\"\")","v":""}]
[null,null,null,{"$f":"IFERROR(VLOOKUP($A291,'Lista de Precios_Bolívares_S'!$F:$Q,6,FALSE),\"\")","v":""},{"$f":"IFERROR(VLOOKUP($A291,'Lista de Precios_Bolívares_S'!$F:$Q,12,FALSE),\"\")","v":""},"",{"$f":"IFERROR(VLOOKUP($A291,'Lista de Precios_USD$_Euro€'!$E:$O,11,FALSE),\"\")","v":""}]
[null,null,null,{"$f":"IFERROR(VLOOKUP($A292,'Lista de Precios_Bolívares_S'!$F:$Q,6,FALSE),\"\")","v":""},{"$f":"IFERROR(VLOOKUP($A292,'Lista de Precios_Bolívares_S'!$F:$Q,12,FALSE),\"\")","v":""},"",{"$f":"IFERROR(VLOOKUP($A292,'Lista de Precios_USD$_Euro€'!$E:$O,11,FALSE),\"\")","v":""}]
[null,null,null,{"$f":"IFERROR(VLOOKUP($A293,'Lista de Precios_Bolívares_S'!$F:$Q,6,FALSE),\"\")","v":""},{"$f":"IFERROR(VLOOKUP($A293,'Lista de Precios_Bolívares_S'!$F:$Q,12,FALSE),\"\")","v":""},"",{"$f":"IFERROR(VLOOKUP($A293,'Lista de Precios_USD$_Euro€'!$E:$O,11,FALSE),\"\")","v":""}]
[null,null,null,{"$f":"IFERROR(VLOOKUP($A294,'Lista de Precios_Bolívares_S'!$F:$Q,6,FALSE),\"\")","v":""},{"$f":"IFERROR(VLOOKUP($A294,'Lista de Precios_Bolívares_S'!$F:$Q,12,FALSE),\"\")","v":""},"",{"$f":"IFERROR(VLOOKUP($A294,'Lista de Precios_USD$_Euro€'!$E:$O,11,FALSE),\"\")","v":""}]
[null,null,null,{"$f":"IFERROR(VLOOKUP($A295,'Lista de Precios_Bolívares_S'!$F:$Q,6,FALSE),\"\")","v":""},{"$f":"IFERROR(VLOOKUP($A295,'Lista de Precios_Bolívares_S'!$F:$Q,12,FALSE),\"\")","v":""},"",{"$f":"IFERROR(VLOOKUP($A295,'Lista de Precios_USD$_Euro€'!$E:$O,11,FALSE),\"\")","v":""}]
[null,null,null,{"$f":"IFERROR(VLOOKUP($A296,'Lista de Precios_Bolívares_S'!$F:$Q,6,FALSE),\"\")","v":""},{"$f":"IFERROR(VLOOKUP($A296,'Lista de Precios_Bolívares_S'!$F:$Q,12,FALSE),\"\")","v":""},"",{"$f":"IFERROR(VLOOKUP($A296,'Lista de Precios_USD$_Euro€'!$E:$O,11,FALSE),\"\")","v":""}]
[null,null,null,{"$f":"IFERROR(VLOOKUP($A297,'Lista de Precios_Bolívares_S'!$F:$Q,6,FALSE),\"\")","v":""},{"$f":"IFERROR(VLOOKUP($A297,'Lista de Precios_Bolívares_S'!$F:$Q,12,FALSE),\"\")","v":""},"",{"$f":"IFERROR(VLOOKUP($A297,'Lista de Precios_USD$_Euro€'!$E:$O,11,FALSE),\"\")","v":""}]
[null,null,null,{"$f":"IFERROR(VLOOKUP($A298,'Lista de Precios_Bolívares_S'!$F:$Q,6,FALSE),\"\")","v":""},{"$f":"IFERROR(VLOOKUP($A298,'Lista de Precios_Bolívares_S'!$F:$Q,12,FALSE),\"\")","v":""},"",{"$f":"IFERROR(VLOOKUP($A298,'Lista de Precios_USD$_Euro€'!$E:$O,11,FALSE),\"\")","v":""}]
[null,null,null,{"$f":"IFERROR(VLOOKUP($A299,'Lista de Precios_Bolívares_S'!$F:$Q,6,FALSE),\"\")","v":""},{"$f":"IFERROR(VLOOKUP($A299,'Lista de Precios_Bolívares_S'!$F:$Q,12,FALSE),\"\")","v":""},"",{"$f":"IFERROR(VLOOKUP($A299,'Lista de Precios_USD$_Euro€'!$E:$O,11,FALSE),\"\")","v":""}]
[null,null,null,{"$f":"IFERROR(VLOOKUP($A300,'Lista de Precios_Bolívares_S'!$F:$Q,6,FALSE),\"\")","v":""},{"$f":"IFERROR(VLOOKUP($A300,'Lista de Precios_Bolívares_S'!$F:$Q,12,FALSE),\"\")","v":""},"",{"$f":"IFERROR(VLOOKUP($A300,'Lista de Precios_USD$_Euro€'!$E:$O,11,FALSE),\"\")","v":""}]
[null,null,null,{"$f":"IFERROR(VLOOKUP($A301,'Lista de Precios_Bolívares_S'!$F:$Q,6,FALSE),\"\")","v":""},{"$f":"IFERROR(VLOOKUP($A301,'Lista de Precios_Bolívares_S'!$F:$Q,12,FALSE),\"\")","v":""},"",{"$f":"IFERROR(VLOOKUP($A301,'Lista de Precios_USD$_Euro€'!$E:$O,11,FALSE),\"\")","v":""}]
[null,null,null,{"$f":"IFERROR(VLOOKUP($A302,'Lista de Precios_Bolívares_S'!$F:$Q,6,FALSE),\"\")","v":""},{"$f":"IFERROR(VLOOKUP($A302,'Lista de Precios_Bolívares_S'!$F:$Q,12,FALSE),\"\")","v":""},"",{"$f":"IFERROR(VLOOKUP($A302,'Lista de Precios_USD$_Euro€'!$E:$O,11,FALSE),\"\")","v":""}]
[null,null,null,{"$f":"IFERROR(VLOOKUP($A303,'Lista de Precios_Bolívares_S'!$F:$Q,6,FALSE),\"\")","v":""},{"$f":"IFERROR(VLOOKUP($A303,'Lista de Precios_Bolívares_S'!$F:$Q,12,FALSE),\"\")","v":""},"",{"$f":"IFERROR(VLOOKUP($A303,'Lista de Precios_USD$_Euro€'!$E:$O,11,FALSE),\"\")","v":""}]
[null,null,null,{"$f":"IFERROR(VLOOKUP($A304,'Lista de Precios_Bolívares_S'!$F:$Q,6,FALSE),\"\")","v":""},{"$f":"IFERROR(VLOOKUP($A304,'Lista de Precios_Bolívares_S'!$F:$Q,12,FALSE),\"\")","v":""},"",{"$f":"IFERROR(VLOOKUP($A304,'Lista de Precios_USD$_Euro€'!$E:$O,11,FALSE),\"\")","v":""}]
[null,null,null,{"$f":"IFERROR(VLOOKUP($A305,'Lista de Precios_Bolívares_S'!$F:$Q,6,FALSE),\"\")","v":""},{"$f":"IFERROR(VLOOKUP($A305,'Lista de Precios_Bolívares_S'!$F:$Q,12,FALSE),\"\")","v":""},"",{"$f":"IFERROR(VLOOKUP($A305,'Lista de Precios_USD$_Euro€'!$E:$O,11,FALSE),\"\")","v":""}]
[null,null,null,{"$f":"IFERROR(VLOOKUP($A306,'Lista de Precios_Bolívares_S'!$F:$Q,6,FALSE),\"\")","v":""},{"$f":"IFERROR(VLOOKUP($A306,'Lista de Precios_Bolívares_S'!$F:$Q,12,FALSE),\"\")","v":""},"",{"$f":"IFERROR(VLOOKUP($A306,'Lista de Precios_USD$_Euro€'!$E:$O,11,FALSE),\"\")","v":""}]
[null,null,null,{"$f":"IFERROR(VLOOKUP($A307,'Lista de Precios_Bolívares_S'!$F:$Q,6,FALSE),\"\")","v":""},{"$f":"IFERROR(VLOOKUP($A307,'Lista de Precios_Bolívares_S'!$F:$Q,12,FALSE),\"\")","v":""},"",{"$f":"IFERROR(VLOOKUP($A307,'Lista de Precios_USD$_Euro€'!$E:$O,11,FALSE),\"\")","v":""}]
[null,null,null,{"$f":"IFERROR(VLOOKUP($A308,'Lista de Precios_Bolívares_S'!$F:$Q,6,FALSE),\"\")","v":""},{"$f":"IFERROR(VLOOKUP($A308,'Lista de Precios_Bolívares_S'!$F:$Q,12,FALSE),\"\")","v":""},"",{"$f":"IFERROR(VLOOKUP($A308,'Lista de Precios_USD$_Euro€'!$E:$O,11,FALSE),\"\")","v":""}]
[null,null,null,{"$f":"IFERROR(VLOOKUP($A309,'Lista de Precios_Bolívares_S'!$F:$Q,6,FALSE),\"\")","v":""},{"$f":"IFERROR(VLOOKUP($A309,'Lista de Precios_Bolívares_S'!$F:$Q,12,FALSE),\"\")","v":""},"",{"$f":"IFERROR(VLOOKUP($A309,'Lista de Precios_USD$_Euro€'!$E:$O,11,FALSE),\"\")","v":""}]
[null,null,null,{"$f":"IFERROR(VLOOKUP($A310,'Lista de Precios_Bolívares_S'!$F:$Q,6,FALSE),\"\")","v":""},{"$f":"IFERROR(VLOOKUP($A310,'Lista de Precios_Bolívares_S'!$F:$Q,12,FALSE),\"\")","v":""},"",{"$f":"IFERROR(VLOOKUP($A310,'Lista de Precios_USD$_Euro€'!$E:$O,11,FALSE),\"\")","v":""}]
[null,null,null,{"$f":"IFERROR(VLOOKUP($A311,'Lista de Precios_Bolívares_S'!$F:$Q,6,FALSE),\"\")","v":""},{"$f":"IFERROR(VLOOKUP($A311,'Lista de Precios_Bolívares_S'!$F:$Q,12,FALSE),\"\")","v":""},"",{"$f":"IFERROR(VLOOKUP($A311,'Lista de Precios_USD$_Euro€'!$E:$O,11,FALSE),\"\")","v":""}]
[null,null,null,{"$f":"IFERROR(VLOOKUP($A312,'Lista de Precios_Bolívares_S'!$F:$Q,6,FALSE),\"\")","v":""},{"$f":"IFERROR(VLOOKUP($A312,'Lista de Precios_Bolívares_S'!$F:$Q,12,FALSE),\"\")","v":""},"",{"$f":"IFERROR(VLOOKUP($A312,'Lista de Precios_USD$_Euro€'!$E:$O,11,FALSE),\"\")","v":""}]
[null,null,null,{"$f":"IFERROR(VLOOKUP($A313,'Lista de Precios_Bolívares_S'!$F:$Q,6,FALSE),\"\")","v":""},{"$f":"IFERROR(VLOOKUP($A313,'Lista de Precios_Bolívares_S'!$F:$Q,12,FALSE),\"\")","v":""},"",{"$f":"IFERROR(VLOOKUP($A313,'Lista de Precios_USD$_Euro€'!$E:$O,11,FALSE),\"\")","v":""}]
[null,null,null,{"$f":"IFERROR(VLOOKUP($A314,'Lista de Precios_Bolívares_S'!$F:$Q,6,FALSE),\"\")","v":""},{"$f":"IFERROR(VLOOKUP($A314,'Lista de Precios_Bolívares_S'!$F:$Q,12,FALSE),\"\")","v":""},"",{"$f":"IFERROR(VLOOKUP($A314,'Lista de Precios_USD$_Euro€'!$E:$O,11,FALSE),\"\")","v":""}]
[null,null,null,{"$f":"IFERROR(VLOOKUP($A315,'Lista de Precios_Bolívares_S'!$F:$Q,6,FALSE),\"\")","v":""},{"$f":"IFERROR(VLOOKUP($A315,'Lista de Precios_Bolívares_S'!$F:$Q,12,FALSE),\"\")","v":""},"",{"$f":"IFERROR(VLOOKUP($A315,'Lista de Precios_USD$_Euro€'!$E:$O,11,FALSE),\"\")","v":""}]
[null,null,null,{"$f":"IFERROR(VLOOKUP($A316,'Lista de Precios_Bolívares_S'!$F:$Q,6,FALSE),\"\")","v":""},{"$f":"IFERROR(VLOOKUP($A316,'Lista de Precios_Bolívares_S'!$F:$Q,12,FALSE),\"\")","v":""},"",{"$f":"IFERROR(VLOOKUP($A316,'Lista de Precios_USD$_Euro€'!$E:$O,11,FALSE),\"\")","v":""}]
[null,null,null,{"$f":"IFERROR(VLOOKUP($A317,'Lista de Precios_Bolívares_S'!$F:$Q,6,FALSE),\"\")","v":""},{"$f":"IFERROR(VLOOKUP($A317,'Lista de Precios_Bolívares_S'!$F:$Q,12,FALSE),\"\")","v":""},"",{"$f":"IFERROR(VLOOKUP($A317,'Lista de Precios_USD$_Euro€'!$E:$O,11,FALSE),\"\")","v":""}]
[null,null,null,{"$f":"IFERROR(VLOOKUP($A318,'Lista de Precios_Bolívares_S'!$F:$Q,6,FALSE),\"\")","v":""},{"$f":"IFERROR(VLOOKUP($A318,'Lista de Precios_Bolívares_S'!$F:$Q,12,FALSE),\"\")","v":""},"",{"$f":"IFERROR(VLOOKUP($A318,'Lista de Precios_USD$_Euro€'!$E:$O,11,FALSE),\"\")","v":""}]
[null,null,null,{"$f":"IFERROR(VLOOKUP($A319,'Lista de Precios_Bolívares_S'!$F:$Q,6,FALSE),\"\")","v":""},{"$f":"IFERROR(VLOOKUP($A319,'Lista de Precios_Bolívares_S'!$F:$Q,12,FALSE),\"\")","v":""},"",{"$f":"IFERROR(VLOOKUP($A319,'Lista de Precios_USD$_Euro€'!$E:$O,11,FALSE),\"\")","v":""}]
[null,null,null,{"$f":"IFERROR(VLOOKUP($A320,'Lista de Precios_Bolívares_S'!$F:$Q,6,FALSE),\"\")","v":""},{"$f":"IFERROR(VLOOKUP($A320,'Lista de Precios_Bolívares_S'!$F:$Q,12,FALSE),\"\")","v":""},"",{"$f":"IFERROR(VLOOKUP($A320,'Lista de Precios_USD$_Euro€'!$E:$O,11,FALSE),\"\")","v":""}]
[null,null,null,{"$f":"IFERROR(VLOOKUP($A321,'Lista de Precios_Bolívares_S'!$F:$Q,6,FALSE),\"\")","v":""},{"$f":"IFERROR(VLOOKUP($A321,'Lista de Precios_Bolívares_S'!$F:$Q,12,FALSE),\"\")","v":""},"",{"$f":"IFERROR(VLOOKUP($A321,'Lista de Precios_USD$_Euro€'!$E:$O,11,FALSE),\"\")","v":""}]
[null,null,null,{"$f":"IFERROR(VLOOKUP($A322,'Lista de Precios_Bolívares_S'!$F:$Q,6,FALSE),\"\")","v":""},{"$f":"IFERROR(VLOOKUP($A322,'Lista de Precios_Bolívares_S'!$F:$Q,12,FALSE),\"\")","v":""},"",{"$f":"IFERROR(VLOOKUP($A322,'Lista de Precios_USD$_Euro€'!$E:$O,11,FALSE),\"\")","v":""}]
[null,null,null,{"$f":"IFERROR(VLOOKUP($A323,'Lista de Precios_Bolívares_S'!$F:$Q,6,FALSE),\"\")","v":""},{"$f":"IFERROR(VLOOKUP($A323,'Lista de Precios_Bolívares_S'!$F:$Q,12,FALSE),\"\")","v":""},"",{"$f":"IFERROR(VLOOKUP($A323,'Lista de Precios_USD$_Euro€'!$E:$O,11,FALSE),\"\")","v":""}]
[null,null,null,{"$f":"IFERROR(VLOOKUP($A324,'Lista de Precios_Bolívares_S'!$F:$Q,6,FALSE),\"\")","v":""},{"$f":"IFERROR(VLOOKUP($A324,'Lista de Precios_Bolívares_S'!$F:$Q,12,FALSE),\"\")","v":""},"",{"$f":"IFERROR(VLOOKUP($A324,'Lista de Precios_USD$_Euro€'!$E:$O,11,FALSE),\"\")","v":""}]
[null,null,null,{"$f":"IFERROR(VLOOKUP($A325,'Lista de Precios_Bolívares_S'!$F:$Q,6,FALSE),\"\")","v":""},{"$f":"IFERROR(VLOOKUP($A325,'Lista de Precios_Bolívares_S'!$F:$Q,12,FALSE),\"\")","v":""},"",{"$f":"IFERROR(VLOOKUP($A325,'Lista de Precios_USD$_Euro€'!$E:$O,11,FALSE),\"\")","v":""}]
[null,null,null,{"$f":"IFERROR(VLOOKUP($A326,'Lista de Precios_Bolívares_S'!$F:$Q,6,FALSE),\"\")","v":""},{"$f":"IFERROR(VLOOKUP($A326,'Lista de Precios_Bolívares_S'!$F:$Q,12,FALSE),\"\")","v":""},"",{"$f":"IFERROR(VLOOKUP($A326,'Lista de Precios_USD$_Euro€'!$E:$O,11,FALSE),\"\")","v":""}]
[null,null,null,{"$f":"IFERROR(VLOOKUP($A327,'Lista de Precios_Bolívares_S'!$F:$Q,6,FALSE),\"\")","v":""},{"$f":"IFERROR(VLOOKUP($A327,'Lista de Precios_Bolívares_S'!$F:$Q,12,FALSE),\"\")","v":""},"",{"$f":"IFERROR(VLOOKUP($A327,'Lista de Precios_USD$_Euro€'!$E:$O,11,FALSE),\"\")","v":""}]
[null,null,null,{"$f":"IFERROR(VLOOKUP($A328,'Lista de Precios_Bolívares_S'!$F:$Q,6,FALSE),\"\")","v":""},{"$f":"IFERROR(VLOOKUP($A328,'Lista de Precios_Bolívares_S'!$F:$Q,12,FALSE),\"\")","v":""},"",{"$f":"IFERROR(VLOOKUP($A328,'Lista de Precios_USD$_Euro€'!$E:$O,11,FALSE),\"\")","v":""}]
[null,null,null,{"$f":"IFERROR(VLOOKUP($A329,'Lista de Precios_Bolívares_S'!$F:$Q,6,FALSE),\"\")","v":""},{"$f":"IFERROR(VLOOKUP($A329,'Lista de Precios_Bolívares_S'!$F:$Q,12,FALSE),\"\")","v":""},"",{"$f":"IFERROR(VLOOKUP($A329,'Lista de Precios_USD$_Euro€'!$E:$O,11,FALSE),\"\")","v":""}]
[null,null,null,{"$f":"IFERROR(VLOOKUP($A330,'Lista de Precios_Bolívares_S'!$F:$Q,6,FALSE),\"\")","v":""},{"$f":"IFERROR(VLOOKUP($A330,'Lista de Precios_Bolívares_S'!$F:$Q,12,FALSE),\"\")","v":""},"",{"$f":"IFERROR(VLOOKUP($A330,'Lista de Precios_USD$_Euro€'!$E:$O,11,FALSE),\"\")","v":""}]
[null,null,null,{"$f":"IFERROR(VLOOKUP($A331,'Lista de Precios_Bolívares_S'!$F:$Q,6,FALSE),\"\")","v":""},{"$f":"IFERROR(VLOOKUP($A331,'Lista de Precios_Bolívares_S'!$F:$Q,12,FALSE),\"\")","v":""},"",{"$f":"IFERROR(VLOOKUP($A331,'Lista de Precios_USD$_Euro€'!$E:$O,11,FALSE),\"\")","v":""}]
[null,null,null,{"$f":"IFERROR(VLOOKUP($A332,'Lista de Precios_Bolívares_S'!$F:$Q,6,FALSE),\"\")","v":""},{"$f":"IFERROR(VLOOKUP($A332,'Lista de Precios_Bolívares_S'!$F:$Q,12,FALSE),\"\")","v":""},"",{"$f":"IFERROR(VLOOKUP($A332,'Lista de Precios_USD$_Euro€'!$E:$O,11,FALSE),\"\")","v":""}]
[null,null,null,{"$f":"IFERROR(VLOOKUP($A333,'Lista de Precios_Bolívares_S'!$F:$Q,6,FALSE),\"\")","v":""},{"$f":"IFERROR(VLOOKUP($A333,'Lista de Precios_Bolívares_S'!$F:$Q,12,FALSE),\"\")","v":""},"",{"$f":"IFERROR(VLOOKUP($A333,'Lista de Precios_USD$_Euro€'!$E:$O,11,FALSE),\"\")","v":""}]
[null,null,null,{"$f":"IFERROR(VLOOKUP($A334,'Lista de Precios_Bolívares_S'!$F:$Q,6,FALSE),\"\")","v":""},{"$f":"IFERROR(VLOOKUP($A334,'Lista de Precios_Bolívares_S'!$F:$Q,12,FALSE),\"\")","v":""},"",{"$f":"IFERROR(VLOOKUP($A334,'Lista de Precios_USD$_Euro€'!$E:$O,11,FALSE),\"\")","v":""}]
[null,null,null,{"$f":"IFERROR(VLOOKUP($A335,'Lista de Precios_Bolívares_S'!$F:$Q,6,FALSE),\"\")","v":""},{"$f":"IFERROR(VLOOKUP($A335,'Lista de Precios_Bolívares_S'!$F:$Q,12,FALSE),\"\")","v":""},"",{"$f":"IFERROR(VLOOKUP($A335,'Lista de Precios_USD$_Euro€'!$E:$O,11,FALSE),\"\")","v":""}]
[null,null,null,{"$f":"IFERROR(VLOOKUP($A336,'Lista de Precios_Bolívares_S'!$F:$Q,6,FALSE),\"\")","v":""},{"$f":"IFERROR(VLOOKUP($A336,'Lista de Precios_Bolívares_S'!$F:$Q,12,FALSE),\"\")","v":""},"",{"$f":"IFERROR(VLOOKUP($A336,'Lista de Precios_USD$_Euro€'!$E:$O,11,FALSE),\"\")","v":""}]
[null,null,null,{"$f":"IFERROR(VLOOKUP($A337,'Lista de Precios_Bolívares_S'!$F:$Q,6,FALSE),\"\")","v":""},{"$f":"IFERROR(VLOOKUP($A337,'Lista de Precios_Bolívares_S'!$F:$Q,12,FALSE),\"\")","v":""},"",{"$f":"IFERROR(VLOOKUP($A337,'Lista de Precios_USD$_Euro€'!$E:$O,11,FALSE),\"\")","v":""}]
[null,null,null,{"$f":"IFERROR(VLOOKUP($A338,'Lista de Precios_Bolívares_S'!$F:$Q,6,FALSE),\"\")","v":""},{"$f":"IFERROR(VLOOKUP($A338,'Lista de Precios_Bolívares_S'!$F:$Q,12,FALSE),\"\")","v":""},"",{"$f":"IFERROR(VLOOKUP($A338,'Lista de Precios_USD$_Euro€'!$E:$O,11,FALSE),\"\")","v":""}]
[null,null,null,{"$f":"IFERROR(VLOOKUP($A339,'Lista de Precios_Bolívares_S'!$F:$Q,6,FALSE),\"\")","v":""},{"$f":"IFERROR(VLOOKUP($A339,'Lista de Precios_Bolívares_S'!$F:$Q,12,FALSE),\"\")","v":""},"",{"$f":"IFERROR(VLOOKUP($A339,'Lista de Precios_USD$_Euro€'!$E:$O,11,FALSE),\"\")","v":""}]
[null,null,null,{"$f":"IFERROR(VLOOKUP($A340,'Lista de Precios_Bolívares_S'!$F:$Q,6,FALSE),\"\")","v":""},{"$f":"IFERROR(VLOOKUP($A340,'Lista de Precios_Bolívares_S'!$F:$Q,12,FALSE),\"\")","v":""},"",{"$f":"IFERROR(VLOOKUP($A340,'Lista de Precios_USD$_Euro€'!$E:$O,11,FALSE),\"\")","v":""}]
[null,null,null,{"$f":"IFERROR(VLOOKUP($A341,'Lista de Precios_Bolívares_S'!$F:$Q,6,FALSE),\"\")","v":""},{"$f":"IFERROR(VLOOKUP($A341,'Lista de Precios_Bolívares_S'!$F:$Q,12,FALSE),\"\")","v":""},"",{"$f":"IFERROR(VLOOKUP($A341,'Lista de Precios_USD$_Euro€'!$E:$O,11,FALSE),\"\")","v":""}]
[null,null,null,{"$f":"IFERROR(VLOOKUP($A342,'Lista de Precios_Bolívares_S'!$F:$Q,6,FALSE),\"\")","v":""},{"$f":"IFERROR(VLOOKUP($A342,'Lista de Precios_Bolívares_S'!$F:$Q,12,FALSE),\"\")","v":""},"",{"$f":"IFERROR(VLOOKUP($A342,'Lista de Precios_USD$_Euro€'!$E:$O,11,FALSE),\"\")","v":""}]
[null,null,null,{"$f":"IFERROR(VLOOKUP($A343,'Lista de Precios_Bolívares_S'!$F:$Q,6,FALSE),\"\")","v":""},{"$f":"IFERROR(VLOOKUP($A343,'Lista de Precios_Bolívares_S'!$F:$Q,12,FALSE),\"\")","v":""},"",{"$f":"IFERROR(VLOOKUP($A343,'Lista de Precios_USD$_Euro€'!$E:$O,11,FALSE),\"\")","v":""}]
[null,null,null,{"$f":"IFERROR(VLOOKUP($A344,'Lista de Precios_Bolívares_S'!$F:$Q,6,FALSE),\"\")","v":""},{"$f":"IFERROR(VLOOKUP($A344,'Lista de Precios_Bolívares_S'!$F:$Q,12,FALSE),\"\")","v":""},"",{"$f":"IFERROR(VLOOKUP($A344,'Lista de Precios_USD$_Euro€'!$E:$O,11,FALSE),\"\")","v":""}]
[null,null,null,{"$f":"IFERROR(VLOOKUP($A345,'Lista de Precios_Bolívares_S'!$F:$Q,6,FALSE),\"\")","v":""},{"$f":"IFERROR(VLOOKUP($A345,'Lista de Precios_Bolívares_S'!$F:$Q,12,FALSE),\"\")","v":""},{"$f":"IFERROR(IF(ROUND($C345,2)=ROUND($D320,2),ROUND($E320,2),ROUND($C345,2)),\"\")","v":""},{"$f":"IFERROR(VLOOKUP($A345,'Lista de Precios_USD$_Euro€'!$E:$O,11,FALSE),\"\")","v":""}]
[null,null,null,{"$f":"IFERROR(VLOOKUP($A346,'Lista de Precios_Bolívares_S'!$F:$Q,6,FALSE),\"\")","v":""},{"$f":"IFERROR(VLOOKUP($A346,'Lista de Precios_Bolívares_S'!$F:$Q,12,FALSE),\"\")","v":""},"",{"$f":"IFERROR(VLOOKUP($A346,'Lista de Precios_USD$_Euro€'!$E:$O,11,FALSE),\"\")","v":""}]
[null,null,null,{"$f":"IFERROR(VLOOKUP($A347,'Lista de Precios_Bolívares_S'!$F:$Q,6,FALSE),\"\")","v":""},{"$f":"IFERROR(VLOOKUP($A347,'Lista de Precios_Bolívares_S'!$F:$Q,12,FALSE),\"\")","v":""},"",{"$f":"IFERROR(VLOOKUP($A347,'Lista de Precios_USD$_Euro€'!$E:$O,11,FALSE),\"\")","v":""}]
[null,null,null,{"$f":"IFERROR(VLOOKUP($A348,'Lista de Precios_Bolívares_S'!$F:$Q,6,FALSE),\"\")","v":""},{"$f":"IFERROR(VLOOKUP($A348,'Lista de Precios_Bolívares_S'!$F:$Q,12,FALSE),\"\")","v":""},"",{"$f":"IFERROR(VLOOKUP($A348,'Lista de Precios_USD$_Euro€'!$E:$O,11,FALSE),\"\")","v":""}]
[null,null,null,{"$f":"IFERROR(VLOOKUP($A349,'Lista de Precios_Bolívares_S'!$F:$Q,6,FALSE),\"\")","v":""},{"$f":"IFERROR(VLOOKUP($A349,'Lista de Precios_Bolívares_S'!$F:$Q,12,FALSE),\"\")","v":""},"",{"$f":"IFERROR(VLOOKUP($A349,'Lista de Precios_USD$_Euro€'!$E:$O,11,FALSE),\"\")","v":""}]
[null,null,null,{"$f":"IFERROR(VLOOKUP($A350,'Lista de Precios_Bolívares_S'!$F:$Q,6,FALSE),\"\")","v":""},{"$f":"IFERROR(VLOOKUP($A350,'Lista de Precios_Bolívares_S'!$F:$Q,12,FALSE),\"\")","v":""},"",{"$f":"IFERROR(VLOOKUP($A350,'Lista de Precios_USD$_Euro€'!$E:$O,11,FALSE),\"\")","v":""}]
[null,null,null,{"$f":"IFERROR(VLOOKUP($A351,'Lista de Precios_Bolívares_S'!$F:$Q,6,FALSE),\"\")","v":""},{"$f":"IFERROR(VLOOKUP($A351,'Lista de Precios_Bolívares_S'!$F:$Q,12,FALSE),\"\")","v":""},"",{"$f":"IFERROR(VLOOKUP($A351,'Lista de Precios_USD$_Euro€'!$E:$O,11,FALSE),\"\")","v":""}]
[null,null,null,{"$f":"IFERROR(VLOOKUP($A352,'Lista de Precios_Bolívares_S'!$F:$Q,6,FALSE),\"\")","v":""},{"$f":"IFERROR(VLOOKUP($A352,'Lista de Precios_Bolívares_S'!$F:$Q,12,FALSE),\"\")","v":""},"",{"$f":"IFERROR(VLOOKUP($A352,'Lista de Precios_USD$_Euro€'!$E:$O,11,FALSE),\"\")","v":""}]
[null,null,null,{"$f":"IFERROR(VLOOKUP($A353,'Lista de Precios_Bolívares_S'!$F:$Q,6,FALSE),\"\")","v":""},{"$f":"IFERROR(VLOOKUP($A353,'Lista de Precios_Bolívares_S'!$F:$Q,12,FALSE),\"\")","v":""},"",{"$f":"IFERROR(VLOOKUP($A353,'Lista de Precios_USD$_Euro€'!$E:$O,11,FALSE),\"\")","v":""}]
[null,null,null,{"$f":"IFERROR(VLOOKUP($A354,'Lista de Precios_Bolívares_S'!$F:$Q,6,FALSE),\"\")","v":""},{"$f":"IFERROR(VLOOKUP($A354,'Lista de Precios_Bolívares_S'!$F:$Q,12,FALSE),\"\")","v":""},"",{"$f":"IFERROR(VLOOKUP($A354,'Lista de Precios_USD$_Euro€'!$E:$O,11,FALSE),\"\")","v":""}]
[null,null,null,{"$f":"IFERROR(VLOOKUP($A355,'Lista de Precios_Bolívares_S'!$F:$Q,6,FALSE),\"\")","v":""},{"$f":"IFERROR(VLOOKUP($A355,'Lista de Precios_Bolívares_S'!$F:$Q,12,FALSE),\"\")","v":""},"",{"$f":"IFERROR(VLOOKUP($A355,'Lista de Precios_USD$_Euro€'!$E:$O,11,FALSE),\"\")","v":""}]
[null,null,null,{"$f":"IFERROR(VLOOKUP($A356,'Lista de Precios_Bolívares_S'!$F:$Q,6,FALSE),\"\")","v":""},{"$f":"IFERROR(VLOOKUP($A356,'Lista de Precios_Bolívares_S'!$F:$Q,12,FALSE),\"\")","v":""},"",{"$f":"IFERROR(VLOOKUP($A356,'Lista de Precios_USD$_Euro€'!$E:$O,11,FALSE),\"\")","v":""}]
[null,null,null,{"$f":"IFERROR(VLOOKUP($A357,'Lista de Precios_Bolívares_S'!$F:$Q,6,FALSE),\"\")","v":""},{"$f":"IFERROR(VLOOKUP($A357,'Lista de Precios_Bolívares_S'!$F:$Q,12,FALSE),\"\")","v":""},"",{"$f":"IFERROR(VLOOKUP($A357,'Lista de Precios_USD$_Euro€'!$E:$O,11,FALSE),\"\")","v":""}]
[null,null,null,{"$f":"IFERROR(VLOOKUP($A358,'Lista de Precios_Bolívares_S'!$F:$Q,6,FALSE),\"\")","v":""},{"$f":"IFERROR(VLOOKUP($A358,'Lista de Precios_Bolívares_S'!$F:$Q,12,FALSE),\"\")","v":""},"",{"$f":"IFERROR(VLOOKUP($A358,'Lista de Precios_USD$_Euro€'!$E:$O,11,FALSE),\"\")","v":""}]
[null,null,null,{"$f":"IFERROR(VLOOKUP($A359,'Lista de Precios_Bolívares_S'!$F:$Q,6,FALSE),\"\")","v":""},{"$f":"IFERROR(VLOOKUP($A359,'Lista de Precios_Bolívares_S'!$F:$Q,12,FALSE),\"\")","v":""},"",{"$f":"IFERROR(VLOOKUP($A359,'Lista de Precios_USD$_Euro€'!$E:$O,11,FALSE),\"\")","v":""}]
[null,null,null,{"$f":"IFERROR(VLOOKUP($A360,'Lista de Precios_Bolívares_S'!$F:$Q,6,FALSE),\"\")","v":""},{"$f":"IFERROR(VLOOKUP($A360,'Lista de Precios_Bolívares_S'!$F:$Q,12,FALSE),\"\")","v":""},"",{"$f":"IFERROR(VLOOKUP($A360,'Lista de Precios_USD$_Euro€'!$E:$O,11,FALSE),\"\")","v":""}]
[null,null,null,{"$f":"IFERROR(VLOOKUP($A361,'Lista de Precios_Bolívares_S'!$F:$Q,6,FALSE),\"\")","v":""},{"$f":"IFERROR(VLOOKUP($A361,'Lista de Precios_Bolívares_S'!$F:$Q,12,FALSE),\"\")","v":""},"",{"$f":"IFERROR(VLOOKUP($A361,'Lista de Precios_USD$_Euro€'!$E:$O,11,FALSE),\"\")","v":""}]
[null,null,null,{"$f":"IFERROR(VLOOKUP($A362,'Lista de Precios_Bolívares_S'!$F:$Q,6,FALSE),\"\")","v":""},{"$f":"IFERROR(VLOOKUP($A362,'Lista de Precios_Bolívares_S'!$F:$Q,12,FALSE),\"\")","v":""},"",{"$f":"IFERROR(VLOOKUP($A362,'Lista de Precios_USD$_Euro€'!$E:$O,11,FALSE),\"\")","v":""}]
[null,null,null,{"$f":"IFERROR(VLOOKUP($A363,'Lista de Precios_Bolívares_S'!$F:$Q,6,FALSE),\"\")","v":""},{"$f":"IFERROR(VLOOKUP($A363,'Lista de Precios_Bolívares_S'!$F:$Q,12,FALSE),\"\")","v":""},"",{"$f":"IFERROR(VLOOKUP($A363,'Lista de Precios_USD$_Euro€'!$E:$O,11,FALSE),\"\")","v":""}]
[null,null,null,{"$f":"IFERROR(VLOOKUP($A364,'Lista de Precios_Bolívares_S'!$F:$Q,6,FALSE),\"\")","v":""},{"$f":"IFERROR(VLOOKUP($A364,'Lista de Precios_Bolívares_S'!$F:$Q,12,FALSE),\"\")","v":""},"",{"$f":"IFERROR(VLOOKUP($A364,'Lista de Precios_USD$_Euro€'!$E:$O,11,FALSE),\"\")","v":""}]
[null,null,null,{"$f":"IFERROR(VLOOKUP($A365,'Lista de Precios_Bolívares_S'!$F:$Q,6,FALSE),\"\")","v":""},{"$f":"IFERROR(VLOOKUP($A365,'Lista de Precios_Bolívares_S'!$F:$Q,12,FALSE),\"\")","v":""},"",{"$f":"IFERROR(VLOOKUP($A365,'Lista de Precios_USD$_Euro€'!$E:$O,11,FALSE),\"\")","v":""}]
[null,null,null,{"$f":"IFERROR(VLOOKUP($A366,'Lista de Precios_Bolívares_S'!$F:$Q,6,FALSE),\"\")","v":""},{"$f":"IFERROR(VLOOKUP($A366,'Lista de Precios_Bolívares_S'!$F:$Q,12,FALSE),\"\")","v":""},"",{"$f":"IFERROR(VLOOKUP($A366,'Lista de Precios_USD$_Euro€'!$E:$O,11,FALSE),\"\")","v":""}]
[null,null,null,{"$f":"IFERROR(VLOOKUP($A367,'Lista de Precios_Bolívares_S'!$F:$Q,6,FALSE),\"\")","v":""},{"$f":"IFERROR(VLOOKUP($A367,'Lista de Precios_Bolívares_S'!$F:$Q,12,FALSE),\"\")","v":""},"",{"$f":"IFERROR(VLOOKUP($A367,'Lista de Precios_USD$_Euro€'!$E:$O,11,FALSE),\"\")","v":""}]
[null,null,null,{"$f":"IFERROR(VLOOKUP($A368,'Lista de Precios_Bolívares_S'!$F:$Q,6,FALSE),\"\")","v":""},{"$f":"IFERROR(VLOOKUP($A368,'Lista de Precios_Bolívares_S'!$F:$Q,12,FALSE),\"\")","v":""},"",{"$f":"IFERROR(VLOOKUP($A368,'Lista de Precios_USD$_Euro€'!$E:$O,11,FALSE),\"\")","v":""}]
[null,null,null,{"$f":"IFERROR(VLOOKUP($A369,'Lista de Precios_Bolívares_S'!$F:$Q,6,FALSE),\"\")","v":""},{"$f":"IFERROR(VLOOKUP($A369,'Lista de Precios_Bolívares_S'!$F:$Q,12,FALSE),\"\")","v":""},"",{"$f":"IFERROR(VLOOKUP($A369,'Lista de Precios_USD$_Euro€'!$E:$O,11,FALSE),\"\")","v":""}]
[null,null,null,{"$f":"IFERROR(VLOOKUP($A370,'Lista de Precios_Bolívares_S'!$F:$Q,6,FALSE),\"\")","v":""},{"$f":"IFERROR(VLOOKUP($A370,'Lista de Precios_Bolívares_S'!$F:$Q,12,FALSE),\"\")","v":""},"",{"$f":"IFERROR(VLOOKUP($A370,'Lista de Precios_USD$_Euro€'!$E:$O,11,FALSE),\"\")","v":""}]
[null,null,null,{"$f":"IFERROR(VLOOKUP($A371,'Lista de Precios_Bolívares_S'!$F:$Q,6,FALSE),\"\")","v":""},{"$f":"IFERROR(VLOOKUP($A371,'Lista de Precios_Bolívares_S'!$F:$Q,12,FALSE),\"\")","v":""},"",{"$f":"IFERROR(VLOOKUP($A371,'Lista de Precios_USD$_Euro€'!$E:$O,11,FALSE),\"\")","v":""}]
[null,null,null,{"$f":"IFERROR(VLOOKUP($A372,'Lista de Precios_Bolívares_S'!$F:$Q,6,FALSE),\"\")","v":""},{"$f":"IFERROR(VLOOKUP($A372,'Lista de Precios_Bolívares_S'!$F:$Q,12,FALSE),\"\")","v":""},"",{"$f":"IFERROR(VLOOKUP($A372,'Lista de Precios_USD$_Euro€'!$E:$O,11,FALSE),\"\")","v":""}]
[null,null,null,{"$f":"IFERROR(VLOOKUP($A373,'Lista de Precios_Bolívares_S'!$F:$Q,6,FALSE),\"\")","v":""},{"$f":"IFERROR(VLOOKUP($A373,'Lista de Precios_Bolívares_S'!$F:$Q,12,FALSE),\"\")","v":""},"",{"$f":"IFERROR(VLOOKUP($A373,'Lista de Precios_USD$_Euro€'!$E:$O,11,FALSE),\"\")","v":""}]
[null,null,null,{"$f":"IFERROR(VLOOKUP($A374,'Lista de Precios_Bolívares_S'!$F:$Q,6,FALSE),\"\")","v":""},{"$f":"IFERROR(VLOOKUP($A374,'Lista de Precios_Bolívares_S'!$F:$Q,12,FALSE),\"\")","v":""},"",{"$f":"IFERROR(VLOOKUP($A374,'Lista de Precios_USD$_Euro€'!$E:$O,11,FALSE),\"\")","v":""}]
[null,null,null,{"$f":"IFERROR(VLOOKUP($A375,'Lista de Precios_Bolívares_S'!$F:$Q,6,FALSE),\"\")","v":""},{"$f":"IFERROR(VLOOKUP($A375,'Lista de Precios_Bolívares_S'!$F:$Q,12,FALSE),\"\")","v":""},"",{"$f":"IFERROR(VLOOKUP($A375,'Lista de Precios_USD$_Euro€'!$E:$O,11,FALSE),\"\")","v":""}]
[null,null,null,{"$f":"IFERROR(VLOOKUP($A376,'Lista de Precios_Bolívares_S'!$F:$Q,6,FALSE),\"\")","v":""},{"$f":"IFERROR(VLOOKUP($A376,'Lista de Precios_Bolívares_S'!$F:$Q,12,FALSE),\"\")","v":""},"",{"$f":"IFERROR(VLOOKUP($A376,'Lista de Precios_USD$_Euro€'!$E:$O,11,FALSE),\"\")","v":""}]
[null,null,null,{"$f":"IFERROR(VLOOKUP($A377,'Lista de Precios_Bolívares_S'!$F:$Q,6,FALSE),\"\")","v":""},{"$f":"IFERROR(VLOOKUP($A377,'Lista de Precios_Bolívares_S'!$F:$Q,12,FALSE),\"\")","v":""},"",{"$f":"IFERROR(VLOOKUP($A377,'Lista de Precios_USD$_Euro€'!$E:$O,11,FALSE),\"\")","v":""}]
[null,null,null,{"$f":"IFERROR(VLOOKUP($A378,'Lista de Precios_Bolívares_S'!$F:$Q,6,FALSE),\"\")","v":""},{"$f":"IFERROR(VLOOKUP($A378,'Lista de Precios_Bolívares_S'!$F:$Q,12,FALSE),\"\")","v":""},"",{"$f":"IFERROR(VLOOKUP($A378,'Lista de Precios_USD$_Euro€'!$E:$O,11,FALSE),\"\")","v":""}]
[null,null,null,{"$f":"IFERROR(VLOOKUP($A379,'Lista de Precios_Bolívares_S'!$F:$Q,6,FALSE),\"\")","v":""},{"$f":"IFERROR(VLOOKUP($A379,'Lista de Precios_Bolívares_S'!$F:$Q,12,FALSE),\"\")","v":""},"",{"$f":"IFERROR(VLOOKUP($A379,'Lista de Precios_USD$_Euro€'!$E:$O,11,FALSE),\"\")","v":""}]
[null,null,null,{"$f":"IFERROR(VLOOKUP($A380,'Lista de Precios_Bolívares_S'!$F:$Q,6,FALSE),\"\")","v":""},{"$f":"IFERROR(VLOOKUP($A380,'Lista de Precios_Bolívares_S'!$F:$Q,12,FALSE),\"\")","v":""},"",{"$f":"IFERROR(VLOOKUP($A380,'Lista de Precios_USD$_Euro€'!$E:$O,11,FALSE),\"\")","v":""}]
[null,null,null,{"$f":"IFERROR(VLOOKUP($A381,'Lista de Precios_Bolívares_S'!$F:$Q,6,FALSE),\"\")","v":""},{"$f":"IFERROR(VLOOKUP($A381,'Lista de Precios_Bolívares_S'!$F:$Q,12,FALSE),\"\")","v":""},"",{"$f":"IFERROR(VLOOKUP($A381,'Lista de Precios_USD$_Euro€'!$E:$O,11,FALSE),\"\")","v":""}]
[null,null,null,{"$f":"IFERROR(VLOOKUP($A382,'Lista de Precios_Bolívares_S'!$F:$Q,6,FALSE),\"\")","v":""},{"$f":"IFERROR(VLOOKUP($A382,'Lista de Precios_Bolívares_S'!$F:$Q,12,FALSE),\"\")","v":""},"",{"$f":"IFERROR(VLOOKUP($A382,'Lista de Precios_USD$_Euro€'!$E:$O,11,FALSE),\"\")","v":""}]
[null,null,null,{"$f":"IFERROR(VLOOKUP($A383,'Lista de Precios_Bolívares_S'!$F:$Q,6,FALSE),\"\")","v":""},{"$f":"IFERROR(VLOOKUP($A383,'Lista de Precios_Bolívares_S'!$F:$Q,12,FALSE),\"\")","v":""},"",{"$f":"IFERROR(VLOOKUP($A383,'Lista de Precios_USD$_Euro€'!$E:$O,11,FALSE),\"\")","v":""}]
[null,null,null,{"$f":"IFERROR(VLOOKUP($A384,'Lista de Precios_Bolívares_S'!$F:$Q,6,FALSE),\"\")","v":""},{"$f":"IFERROR(VLOOKUP($A384,'Lista de Precios_Bolívares_S'!$F:$Q,12,FALSE),\"\")","v":""},"",{"$f":"IFERROR(VLOOKUP($A384,'Lista de Precios_USD$_Euro€'!$E:$O,11,FALSE),\"\")","v":""}]
[null,null,null,{"$f":"IFERROR(VLOOKUP($A385,'Lista de Precios_Bolívares_S'!$F:$Q,6,FALSE),\"\")","v":""},{"$f":"IFERROR(VLOOKUP($A385,'Lista de Precios_Bolívares_S'!$F:$Q,12,FALSE),\"\")","v":""},"",{"$f":"IFERROR(VLOOKUP($A385,'Lista de Precios_USD$_Euro€'!$E:$O,11,FALSE),\"\")","v":""}]
[null,null,null,{"$f":"IFERROR(VLOOKUP($A386,'Lista de Precios_Bolívares_S'!$F:$Q,6,FALSE),\"\")","v":""},{"$f":"IFERROR(VLOOKUP($A386,'Lista de Precios_Bolívares_S'!$F:$Q,12,FALSE),\"\")","v":""},"",{"$f":"IFERROR(VLOOKUP($A386,'Lista de Precios_USD$_Euro€'!$E:$O,11,FALSE),\"\")","v":""}]
[null,null,null,{"$f":"IFERROR(VLOOKUP($A387,'Lista de Precios_Bolívares_S'!$F:$Q,6,FALSE),\"\")","v":""},{"$f":"IFERROR(VLOOKUP($A387,'Lista de Precios_Bolívares_S'!$F:$Q,12,FALSE),\"\")","v":""},"",{"$f":"IFERROR(VLOOKUP($A387,'Lista de Precios_USD$_Euro€'!$E:$O,11,FALSE),\"\")","v":""}]
[null,null,null,{"$f":"IFERROR(VLOOKUP($A388,'Lista de Precios_Bolívares_S'!$F:$Q,6,FALSE),\"\")","v":""},{"$f":"IFERROR(VLOOKUP($A388,'Lista de Precios_Bolívares_S'!$F:$Q,12,FALSE),\"\")","v":""},"",{"$f":"IFERROR(VLOOKUP($A388,'Lista de Precios_USD$_Euro€'!$E:$O,11,FALSE),\"\")","v":""}]
[null,null,null,{"$f":"IFERROR(VLOOKUP($A389,'Lista de Precios_Bolívares_S'!$F:$Q,6,FALSE),\"\")","v":""},{"$f":"IFERROR(VLOOKUP($A389,'Lista de Precios_Bolívares_S'!$F:$Q,12,FALSE),\"\")","v":""},"",{"$f":"IFERROR(VLOOKUP($A389,'Lista de Precios_USD$_Euro€'!$E:$O,11,FALSE),\"\")","v":""}]
[null,null,null,{"$f":"IFERROR(VLOOKUP($A390,'Lista de Precios_Bolívares_S'!$F:$Q,6,FALSE),\"\")","v":""},{"$f":"IFERROR(VLOOKUP($A390,'Lista de Precios_Bolívares_S'!$F:$Q,12,FALSE),\"\")","v":""},"",{"$f":"IFERROR(VLOOKUP($A390,'Lista de Precios_USD$_Euro€'!$E:$O,11,FALSE),\"\")","v":""}]
[null,null,null,{"$f":"IFERROR(VLOOKUP($A391,'Lista de Precios_Bolívares_S'!$F:$Q,6,FALSE),\"\")","v":""},{"$f":"IFERROR(VLOOKUP($A391,'Lista de Precios_Bolívares_S'!$F:$Q,12,FALSE),\"\")","v":""},"",{"$f":"IFERROR(VLOOKUP($A391,'Lista de Precios_USD$_Euro€'!$E:$O,11,FALSE),\"\")","v":""}]
[null,null,null,{"$f":"IFERROR(VLOOKUP($A392,'Lista de Precios_Bolívares_S'!$F:$Q,6,FALSE),\"\")","v":""},{"$f":"IFERROR(VLOOKUP($A392,'Lista de Precios_Bolívares_S'!$F:$Q,12,FALSE),\"\")","v":""},"",{"$f":"IFERROR(VLOOKUP($A392,'Lista de Precios_USD$_Euro€'!$E:$O,11,FALSE),\"\")","v":""}]
[null,null,null,{"$f":"IFERROR(VLOOKUP($A393,'Lista de Precios_Bolívares_S'!$F:$Q,6,FALSE),\"\")","v":""},{"$f":"IFERROR(VLOOKUP($A393,'Lista de Precios_Bolívares_S'!$F:$Q,12,FALSE),\"\")","v":""},"",{"$f":"IFERROR(VLOOKUP($A393,'Lista de Precios_USD$_Euro€'!$E:$O,11,FALSE),\"\")","v":""}]
[null,null,null,{"$f":"IFERROR(VLOOKUP($A394,'Lista de Precios_Bolívares_S'!$F:$Q,6,FALSE),\"\")","v":""},{"$f":"IFERROR(VLOOKUP($A394,'Lista de Precios_Bolívares_S'!$F:$Q,12,FALSE),\"\")","v":""},"",{"$f":"IFERROR(VLOOKUP($A394,'Lista de Precios_USD$_Euro€'!$E:$O,11,FALSE),\"\")","v":""}]
[null,null,null,{"$f":"IFERROR(VLOOKUP($A395,'Lista de Precios_Bolívares_S'!$F:$Q,6,FALSE),\"\")","v":""},{"$f":"IFERROR(VLOOKUP($A395,'Lista de Precios_Bolívares_S'!$F:$Q,12,FALSE),\"\")","v":""},"",{"$f":"IFERROR(VLOOKUP($A395,'Lista de Precios_USD$_Euro€'!$E:$O,11,FALSE),\"\")","v":""}]
[null,null,null,{"$f":"IFERROR(VLOOKUP($A396,'Lista de Precios_Bolívares_S'!$F:$Q,6,FALSE),\"\")","v":""},{"$f":"IFERROR(VLOOKUP($A396,'Lista de Precios_Bolívares_S'!$F:$Q,12,FALSE),\"\")","v":""},"",{"$f":"IFERROR(VLOOKUP($A396,'Lista de Precios_USD$_Euro€'!$E:$O,11,FALSE),\"\")","v":""}]
[null,null,null,{"$f":"IFERROR(VLOOKUP($A397,'Lista de Precios_Bolívares_S'!$F:$Q,6,FALSE),\"\")","v":""},{"$f":"IFERROR(VLOOKUP($A397,'Lista de Precios_Bolívares_S'!$F:$Q,12,FALSE),\"\")","v":""},"",{"$f":"IFERROR(VLOOKUP($A397,'Lista de Precios_USD$_Euro€'!$E:$O,11,FALSE),\"\")","v":""}]
[null,null,null,{"$f":"IFERROR(VLOOKUP($A398,'Lista de Precios_Bolívares_S'!$F:$Q,6,FALSE),\"\")","v":""},{"$f":"IFERROR(VLOOKUP($A398,'Lista de Precios_Bolívares_S'!$F:$Q,12,FALSE),\"\")","v":""},"",{"$f":"IFERROR(VLOOKUP($A398,'Lista de Precios_USD$_Euro€'!$E:$O,11,FALSE),\"\")","v":""}]
[null,null,null,{"$f":"IFERROR(VLOOKUP($A399,'Lista de Precios_Bolívares_S'!$F:$Q,6,FALSE),\"\")","v":""},{"$f":"IFERROR(VLOOKUP($A399,'Lista de Precios_Bolívares_S'!$F:$Q,12,FALSE),\"\")","v":""},"",{"$f":"IFERROR(VLOOKUP($A399,'Lista de Precios_USD$_Euro€'!$E:$O,11,FALSE),\"\")","v":""}]
[null,null,null,{"$f":"IFERROR(VLOOKUP($A400,'Lista de Precios_Bolívares_S'!$F:$Q,6,FALSE),\"\")","v":""},{"$f":"IFERROR(VLOOKUP($A400,'Lista de Precios_Bolívares_S'!$F:$Q,12,FALSE),\"\")","v":""},"",{"$f":"IFERROR(VLOOKUP($A400,'Lista de Precios_USD$_Euro€'!$E:$O,11,FALSE),\"\")","v":""}]
[null,null,null,{"$f":"IFERROR(VLOOKUP($A401,'Lista de Precios_Bolívares_S'!$F:$Q,6,FALSE),\"\")","v":""},{"$f":"IFERROR(VLOOKUP($A401,'Lista de Precios_Bolívares_S'!$F:$Q,12,FALSE),\"\")","v":""},"",{"$f":"IFERROR(VLOOKUP($A401,'Lista de Precios_USD$_Euro€'!$E:$O,11,FALSE),\"\")","v":""}]
[null,null,null,{"$f":"IFERROR(VLOOKUP($A402,'Lista de Precios_Bolívares_S'!$F:$Q,6,FALSE),\"\")","v":""},{"$f":"IFERROR(VLOOKUP($A402,'Lista de Precios_Bolívares_S'!$F:$Q,12,FALSE),\"\")","v":""},"",{"$f":"IFERROR(VLOOKUP($A402,'Lista de Precios_USD$_Euro€'!$E:$O,11,FALSE),\"\")","v":""}]
[null,null,null,{"$f":"IFERROR(VLOOKUP($A403,'Lista de Precios_Bolívares_S'!$F:$Q,6,FALSE),\"\")","v":""},{"$f":"IFERROR(VLOOKUP($A403,'Lista de Precios_Bolívares_S'!$F:$Q,12,FALSE),\"\")","v":""},"",{"$f":"IFERROR(VLOOKUP($A403,'Lista de Precios_USD$_Euro€'!$E:$O,11,FALSE),\"\")","v":""}]
[null,null,null,{"$f":"IFERROR(VLOOKUP($A404,'Lista de Precios_Bolívares_S'!$F:$Q,6,FALSE),\"\")","v":""},{"$f":"IFERROR(VLOOKUP($A404,'Lista de Precios_Bolívares_S'!$F:$Q,12,FALSE),\"\")","v":""},"",{"$f":"IFERROR(VLOOKUP($A404,'Lista de Precios_USD$_Euro€'!$E:$O,11,FALSE),\"\")","v":""}]
[null,null,null,{"$f":"IFERROR(VLOOKUP($A405,'Lista de Precios_Bolívares_S'!$F:$Q,6,FALSE),\"\")","v":""},{"$f":"IFERROR(VLOOKUP($A405,'Lista de Precios_Bolívares_S'!$F:$Q,12,FALSE),\"\")","v":""},"",{"$f":"IFERROR(VLOOKUP($A405,'Lista de Precios_USD$_Euro€'!$E:$O,11,FALSE),\"\")","v":""}]
[null,null,null,{"$f":"IFERROR(VLOOKUP($A406,'Lista de Precios_Bolívares_S'!$F:$Q,6,FALSE),\"\")","v":""},{"$f":"IFERROR(VLOOKUP($A406,'Lista de Precios_Bolívares_S'!$F:$Q,12,FALSE),\"\")","v":""},"",{"$f":"IFERROR(VLOOKUP($A406,'Lista de Precios_USD$_Euro€'!$E:$O,11,FALSE),\"\")","v":""}]
[null,null,null,{"$f":"IFERROR(VLOOKUP($A407,'Lista de Precios_Bolívares_S'!$F:$Q,6,FALSE),\"\")","v":""},{"$f":"IFERROR(VLOOKUP($A407,'Lista de Precios_Bolívares_S'!$F:$Q,12,FALSE),\"\")","v":""},"",{"$f":"IFERROR(VLOOKUP($A407,'Lista de Precios_USD$_Euro€'!$E:$O,11,FALSE),\"\")","v":""}]
[null,null,null,{"$f":"IFERROR(VLOOKUP($A408,'Lista de Precios_Bolívares_S'!$F:$Q,6,FALSE),\"\")","v":""},{"$f":"IFERROR(VLOOKUP($A408,'Lista de Precios_Bolívares_S'!$F:$Q,12,FALSE),\"\")","v":""},"",{"$f":"IFERROR(VLOOKUP($A408,'Lista de Precios_USD$_Euro€'!$E:$O,11,FALSE),\"\")","v":""}]
[null,null,null,{"$f":"IFERROR(VLOOKUP($A409,'Lista de Precios_Bolívares_S'!$F:$Q,6,FALSE),\"\")","v":""},{"$f":"IFERROR(VLOOKUP($A409,'Lista de Precios_Bolívares_S'!$F:$Q,12,FALSE),\"\")","v":""},{"$f":"IFERROR(IF(ROUND($C409,2)=ROUND($D384,2),ROUND($E384,2),ROUND($C409,2)),\"\")","v":""},{"$f":"IFERROR(VLOOKUP($A409,'Lista de Precios_USD$_Euro€'!$E:$O,11,FALSE),\"\")","v":""}]
[null,null,null,{"$f":"IFERROR(VLOOKUP($A410,'Lista de Precios_Bolívares_S'!$F:$Q,6,FALSE),\"\")","v":""},{"$f":"IFERROR(VLOOKUP($A410,'Lista de Precios_Bolívares_S'!$F:$Q,12,FALSE),\"\")","v":""},"",{"$f":"IFERROR(VLOOKUP($A410,'Lista de Precios_USD$_Euro€'!$E:$O,11,FALSE),\"\")","v":""}]
[null,null,null,{"$f":"IFERROR(VLOOKUP($A411,'Lista de Precios_Bolívares_S'!$F:$Q,6,FALSE),\"\")","v":""},{"$f":"IFERROR(VLOOKUP($A411,'Lista de Precios_Bolívares_S'!$F:$Q,12,FALSE),\"\")","v":""},"",{"$f":"IFERROR(VLOOKUP($A411,'Lista de Precios_USD$_Euro€'!$E:$O,11,FALSE),\"\")","v":""}]
[null,null,null,{"$f":"IFERROR(VLOOKUP($A412,'Lista de Precios_Bolívares_S'!$F:$Q,6,FALSE),\"\")","v":""},{"$f":"IFERROR(VLOOKUP($A412,'Lista de Precios_Bolívares_S'!$F:$Q,12,FALSE),\"\")","v":""},"",{"$f":"IFERROR(VLOOKUP($A412,'Lista de Precios_USD$_Euro€'!$E:$O,11,FALSE),\"\")","v":""}]
[null,null,null,{"$f":"IFERROR(VLOOKUP($A413,'Lista de Precios_Bolívares_S'!$F:$Q,6,FALSE),\"\")","v":""},{"$f":"IFERROR(VLOOKUP($A413,'Lista de Precios_Bolívares_S'!$F:$Q,12,FALSE),\"\")","v":""},"",{"$f":"IFERROR(VLOOKUP($A413,'Lista de Precios_USD$_Euro€'!$E:$O,11,FALSE),\"\")","v":""}]
[null,null,null,{"$f":"IFERROR(VLOOKUP($A414,'Lista de Precios_Bolívares_S'!$F:$Q,6,FALSE),\"\")","v":""},{"$f":"IFERROR(VLOOKUP($A414,'Lista de Precios_Bolívares_S'!$F:$Q,12,FALSE),\"\")","v":""},"",{"$f":"IFERROR(VLOOKUP($A414,'Lista de Precios_USD$_Euro€'!$E:$O,11,FALSE),\"\")","v":""}]
[null,null,null,{"$f":"IFERROR(VLOOKUP($A415,'Lista de Precios_Bolívares_S'!$F:$Q,6,FALSE),\"\")","v":""},{"$f":"IFERROR(VLOOKUP($A415,'Lista de Precios_Bolívares_S'!$F:$Q,12,FALSE),\"\")","v":""},"",{"$f":"IFERROR(VLOOKUP($A415,'Lista de Precios_USD$_Euro€'!$E:$O,11,FALSE),\"\")","v":""}]
[null,null,null,{"$f":"IFERROR(VLOOKUP($A416,'Lista de Precios_Bolívares_S'!$F:$Q,6,FALSE),\"\")","v":""},{"$f":"IFERROR(VLOOKUP($A416,'Lista de Precios_Bolívares_S'!$F:$Q,12,FALSE),\"\")","v":""},"",{"$f":"IFERROR(VLOOKUP($A416,'Lista de Precios_USD$_Euro€'!$E:$O,11,FALSE),\"\")","v":""}]
[null,null,null,{"$f":"IFERROR(VLOOKUP($A417,'Lista de Precios_Bolívares_S'!$F:$Q,6,FALSE),\"\")","v":""},{"$f":"IFERROR(VLOOKUP($A417,'Lista de Precios_Bolívares_S'!$F:$Q,12,FALSE),\"\")","v":""},"",{"$f":"IFERROR(VLOOKUP($A417,'Lista de Precios_USD$_Euro€'!$E:$O,11,FALSE),\"\")","v":""}]
[null,null,null,{"$f":"IFERROR(VLOOKUP($A418,'Lista de Precios_Bolívares_S'!$F:$Q,6,FALSE),\"\")","v":""},{"$f":"IFERROR(VLOOKUP($A418,'Lista de Precios_Bolívares_S'!$F:$Q,12,FALSE),\"\")","v":""},"",{"$f":"IFERROR(VLOOKUP($A418,'Lista de Precios_USD$_Euro€'!$E:$O,11,FALSE),\"\")","v":""}]
[null,null,null,{"$f":"IFERROR(VLOOKUP($A419,'Lista de Precios_Bolívares_S'!$F:$Q,6,FALSE),\"\")","v":""},{"$f":"IFERROR(VLOOKUP($A419,'Lista de Precios_Bolívares_S'!$F:$Q,12,FALSE),\"\")","v":""},"",{"$f":"IFERROR(VLOOKUP($A419,'Lista de Precios_USD$_Euro€'!$E:$O,11,FALSE),\"\")","v":""}]
[null,null,null,{"$f":"IFERROR(VLOOKUP($A420,'Lista de Precios_Bolívares_S'!$F:$Q,6,FALSE),\"\")","v":""},{"$f":"IFERROR(VLOOKUP($A420,'Lista de Precios_Bolívares_S'!$F:$Q,12,FALSE),\"\")","v":""},"",{"$f":"IFERROR(VLOOKUP($A420,'Lista de Precios_USD$_Euro€'!$E:$O,11,FALSE),\"\")","v":""}]
[null,null,null,{"$f":"IFERROR(VLOOKUP($A421,'Lista de Precios_Bolívares_S'!$F:$Q,6,FALSE),\"\")","v":""},{"$f":"IFERROR(VLOOKUP($A421,'Lista de Precios_Bolívares_S'!$F:$Q,12,FALSE),\"\")","v":""},"",{"$f":"IFERROR(VLOOKUP($A421,'Lista de Precios_USD$_Euro€'!$E:$O,11,FALSE),\"\")","v":""}]
[null,null,null,{"$f":"IFERROR(VLOOKUP($A422,'Lista de Precios_Bolívares_S'!$F:$Q,6,FALSE),\"\")","v":""},{"$f":"IFERROR(VLOOKUP($A422,'Lista de Precios_Bolívares_S'!$F:$Q,12,FALSE),\"\")","v":""},"",{"$f":"IFERROR(VLOOKUP($A422,'Lista de Precios_USD$_Euro€'!$E:$O,11,FALSE),\"\")","v":""}]
[null,null,null,{"$f":"IFERROR(VLOOKUP($A423,'Lista de Precios_Bolívares_S'!$F:$Q,6,FALSE),\"\")","v":""},{"$f":"IFERROR(VLOOKUP($A423,'Lista de Precios_Bolívares_S'!$F:$Q,12,FALSE),\"\")","v":""},"",{"$f":"IFERROR(VLOOKUP($A423,'Lista de Precios_USD$_Euro€'!$E:$O,11,FALSE),\"\")","v":""}]
[null,null,null,{"$f":"IFERROR(VLOOKUP($A424,'Lista de Precios_Bolívares_S'!$F:$Q,6,FALSE),\"\")","v":""},{"$f":"IFERROR(VLOOKUP($A424,'Lista de Precios_Bolívares_S'!$F:$Q,12,FALSE),\"\")","v":""},"",{"$f":"IFERROR(VLOOKUP($A424,'Lista de Precios_USD$_Euro€'!$E:$O,11,FALSE),\"\")","v":""}]
[null,null,null,{"$f":"IFERROR(VLOOKUP($A425,'Lista de Precios_Bolívares_S'!$F:$Q,6,FALSE),\"\")","v":""},{"$f":"IFERROR(VLOOKUP($A425,'Lista de Precios_Bolívares_S'!$F:$Q,12,FALSE),\"\")","v":""},"",{"$f":"IFERROR(VLOOKUP($A425,'Lista de Precios_USD$_Euro€'!$E:$O,11,FALSE),\"\")","v":""}]
[null,null,null,{"$f":"IFERROR(VLOOKUP($A426,'Lista de Precios_Bolívares_S'!$F:$Q,6,FALSE),\"\")","v":""},{"$f":"IFERROR(VLOOKUP($A426,'Lista de Precios_Bolívares_S'!$F:$Q,12,FALSE),\"\")","v":""},"",{"$f":"IFERROR(VLOOKUP($A426,'Lista de Precios_USD$_Euro€'!$E:$O,11,FALSE),\"\")","v":""}]
[null,null,null,{"$f":"IFERROR(VLOOKUP($A427,'Lista de Precios_Bolívares_S'!$F:$Q,6,FALSE),\"\")","v":""},{"$f":"IFERROR(VLOOKUP($A427,'Lista de Precios_Bolívares_S'!$F:$Q,12,FALSE),\"\")","v":""},"",{"$f":"IFERROR(VLOOKUP($A427,'Lista de Precios_USD$_Euro€'!$E:$O,11,FALSE),\"\")","v":""}]
[null,null,null,{"$f":"IFERROR(VLOOKUP($A428,'Lista de Precios_Bolívares_S'!$F:$Q,6,FALSE),\"\")","v":""},{"$f":"IFERROR(VLOOKUP($A428,'Lista de Precios_Bolívares_S'!$F:$Q,12,FALSE),\"\")","v":""},"",{"$f":"IFERROR(VLOOKUP($A428,'Lista de Precios_USD$_Euro€'!$E:$O,11,FALSE),\"\")","v":""}]
[null,null,null,{"$f":"IFERROR(VLOOKUP($A429,'Lista de Precios_Bolívares_S'!$F:$Q,6,FALSE),\"\")","v":""},{"$f":"IFERROR(VLOOKUP($A429,'Lista de Precios_Bolívares_S'!$F:$Q,12,FALSE),\"\")","v":""},"",{"$f":"IFERROR(VLOOKUP($A429,'Lista de Precios_USD$_Euro€'!$E:$O,11,FALSE),\"\")","v":""}]
[null,null,null,{"$f":"IFERROR(VLOOKUP($A430,'Lista de Precios_Bolívares_S'!$F:$Q,6,FALSE),\"\")","v":""},{"$f":"IFERROR(VLOOKUP($A430,'Lista de Precios_Bolívares_S'!$F:$Q,12,FALSE),\"\")","v":""},"",{"$f":"IFERROR(VLOOKUP($A430,'Lista de Precios_USD$_Euro€'!$E:$O,11,FALSE),\"\")","v":""}]
[null,null,null,{"$f":"IFERROR(VLOOKUP($A431,'Lista de Precios_Bolívares_S'!$F:$Q,6,FALSE),\"\")","v":""},{"$f":"IFERROR(VLOOKUP($A431,'Lista de Precios_Bolívares_S'!$F:$Q,12,FALSE),\"\")","v":""},"",{"$f":"IFERROR(VLOOKUP($A431,'Lista de Precios_USD$_Euro€'!$E:$O,11,FALSE),\"\")","v":""}]
[null,null,null,{"$f":"IFERROR(VLOOKUP($A432,'Lista de Precios_Bolívares_S'!$F:$Q,6,FALSE),\"\")","v":""},{"$f":"IFERROR(VLOOKUP($A432,'Lista de Precios_Bolívares_S'!$F:$Q,12,FALSE),\"\")","v":""},"",{"$f":"IFERROR(VLOOKUP($A432,'Lista de Precios_USD$_Euro€'!$E:$O,11,FALSE),\"\")","v":""}]
[null,null,null,{"$f":"IFERROR(VLOOKUP($A433,'Lista de Precios_Bolívares_S'!$F:$Q,6,FALSE),\"\")","v":""},{"$f":"IFERROR(VLOOKUP($A433,'Lista de Precios_Bolívares_S'!$F:$Q,12,FALSE),\"\")","v":""},"",{"$f":"IFERROR(VLOOKUP($A433,'Lista de Precios_USD$_Euro€'!$E:$O,11,FALSE),\"\")","v":""}]
[null,null,null,{"$f":"IFERROR(VLOOKUP($A434,'Lista de Precios_Bolívares_S'!$F:$Q,6,FALSE),\"\")","v":""},{"$f":"IFERROR(VLOOKUP($A434,'Lista de Precios_Bolívares_S'!$F:$Q,12,FALSE),\"\")","v":""},"",{"$f":"IFERROR(VLOOKUP($A434,'Lista de Precios_USD$_Euro€'!$E:$O,11,FALSE),\"\")","v":""}]
[null,null,null,{"$f":"IFERROR(VLOOKUP($A435,'Lista de Precios_Bolívares_S'!$F:$Q,6,FALSE),\"\")","v":""},{"$f":"IFERROR(VLOOKUP($A435,'Lista de Precios_Bolívares_S'!$F:$Q,12,FALSE),\"\")","v":""},"",{"$f":"IFERROR(VLOOKUP($A435,'Lista de Precios_USD$_Euro€'!$E:$O,11,FALSE),\"\")","v":""}]
[null,null,null,{"$f":"IFERROR(VLOOKUP($A436,'Lista de Precios_Bolívares_S'!$F:$Q,6,FALSE),\"\")","v":""},{"$f":"IFERROR(VLOOKUP($A436,'Lista de Precios_Bolívares_S'!$F:$Q,12,FALSE),\"\")","v":""},"",{"$f":"IFERROR(VLOOKUP($A436,'Lista de Precios_USD$_Euro€'!$E:$O,11,FALSE),\"\")","v":""}]
[null,null,null,{"$f":"IFERROR(VLOOKUP($A437,'Lista de Precios_Bolívares_S'!$F:$Q,6,FALSE),\"\")","v":""},{"$f":"IFERROR(VLOOKUP($A437,'Lista de Precios_Bolívares_S'!$F:$Q,12,FALSE),\"\")","v":""},"",{"$f":"IFERROR(VLOOKUP($A437,'Lista de Precios_USD$_Euro€'!$E:$O,11,FALSE),\"\")","v":""}]
[null,null,null,{"$f":"IFERROR(VLOOKUP($A438,'Lista de Precios_Bolívares_S'!$F:$Q,6,FALSE),\"\")","v":""},{"$f":"IFERROR(VLOOKUP($A438,'Lista de Precios_Bolívares_S'!$F:$Q,12,FALSE),\"\")","v":""},"",{"$f":"IFERROR(VLOOKUP($A438,'Lista de Precios_USD$_Euro€'!$E:$O,11,FALSE),\"\")","v":""}]
[null,null,null,{"$f":"IFERROR(VLOOKUP($A439,'Lista de Precios_Bolívares_S'!$F:$Q,6,FALSE),\"\")","v":""},{"$f":"IFERROR(VLOOKUP($A439,'Lista de Precios_Bolívares_S'!$F:$Q,12,FALSE),\"\")","v":""},"",{"$f":"IFERROR(VLOOKUP($A439,'Lista de Precios_USD$_Euro€'!$E:$O,11,FALSE),\"\")","v":""}]
[null,null,null,{"$f":"IFERROR(VLOOKUP($A440,'Lista de Precios_Bolívares_S'!$F:$Q,6,FALSE),\"\")","v":""},{"$f":"IFERROR(VLOOKUP($A440,'Lista de Precios_Bolívares_S'!$F:$Q,12,FALSE),\"\")","v":""},"",{"$f":"IFERROR(VLOOKUP($A440,'Lista de Precios_USD$_Euro€'!$E:$O,11,FALSE),\"\")","v":""}]
[null,null,null,{"$f":"IFERROR(VLOOKUP($A441,'Lista de Precios_Bolívares_S'!$F:$Q,6,FALSE),\"\")","v":""},{"$f":"IFERROR(VLOOKUP($A441,'Lista de Precios_Bolívares_S'!$F:$Q,12,FALSE),\"\")","v":""},"",{"$f":"IFERROR(VLOOKUP($A441,'Lista de Precios_USD$_Euro€'!$E:$O,11,FALSE),\"\")","v":""}]
[null,null,null,{"$f":"IFERROR(VLOOKUP($A442,'Lista de Precios_Bolívares_S'!$F:$Q,6,FALSE),\"\")","v":""},{"$f":"IFERROR(VLOOKUP($A442,'Lista de Precios_Bolívares_S'!$F:$Q,12,FALSE),\"\")","v":""},"",{"$f":"IFERROR(VLOOKUP($A442,'Lista de Precios_USD$_Euro€'!$E:$O,11,FALSE),\"\")","v":""}]
[null,null,null,{"$f":"IFERROR(VLOOKUP($A443,'Lista de Precios_Bolívares_S'!$F:$Q,6,FALSE),\"\")","v":""},{"$f":"IFERROR(VLOOKUP($A443,'Lista de Precios_Bolívares_S'!$F:$Q,12,FALSE),\"\")","v":""},"",{"$f":"IFERROR(VLOOKUP($A443,'Lista de Precios_USD$_Euro€'!$E:$O,11,FALSE),\"\")","v":""}]
[null,null,null,{"$f":"IFERROR(VLOOKUP($A444,'Lista de Precios_Bolívares_S'!$F:$Q,6,FALSE),\"\")","v":""},{"$f":"IFERROR(VLOOKUP($A444,'Lista de Precios_Bolívares_S'!$F:$Q,12,FALSE),\"\")","v":""},"",{"$f":"IFERROR(VLOOKUP($A444,'Lista de Precios_USD$_Euro€'!$E:$O,11,FALSE),\"\")","v":""}]
[null,null,null,{"$f":"IFERROR(VLOOKUP($A445,'Lista de Precios_Bolívares_S'!$F:$Q,6,FALSE),\"\")","v":""},{"$f":"IFERROR(VLOOKUP($A445,'Lista de Precios_Bolívares_S'!$F:$Q,12,FALSE),\"\")","v":""},"",{"$f":"IFERROR(VLOOKUP($A445,'Lista de Precios_USD$_Euro€'!$E:$O,11,FALSE),\"\")","v":""}]
[null,null,null,{"$f":"IFERROR(VLOOKUP($A446,'Lista de Precios_Bolívares_S'!$F:$Q,6,FALSE),\"\")","v":""},{"$f":"IFERROR(VLOOKUP($A446,'Lista de Precios_Bolívares_S'!$F:$Q,12,FALSE),\"\")","v":""},"",{"$f":"IFERROR(VLOOKUP($A446,'Lista de Precios_USD$_Euro€'!$E:$O,11,FALSE),\"\")","v":""}]
[null,null,null,{"$f":"IFERROR(VLOOKUP($A447,'Lista de Precios_Bolívares_S'!$F:$Q,6,FALSE),\"\")","v":""},{"$f":"IFERROR(VLOOKUP($A447,'Lista de Precios_Bolívares_S'!$F:$Q,12,FALSE),\"\")","v":""},"",{"$f":"IFERROR(VLOOKUP($A447,'Lista de Precios_USD$_Euro€'!$E:$O,11,FALSE),\"\")","v":""}]
[null,null,null,{"$f":"IFERROR(VLOOKUP($A448,'Lista de Precios_Bolívares_S'!$F:$Q,6,FALSE),\"\")","v":""},{"$f":"IFERROR(VLOOKUP($A448,'Lista de Precios_Bolívares_S'!$F:$Q,12,FALSE),\"\")","v":""},"",{"$f":"IFERROR(VLOOKUP($A448,'Lista de Precios_USD$_Euro€'!$E:$O,11,FALSE),\"\")","v":""}]
[null,null,null,{"$f":"IFERROR(VLOOKUP($A449,'Lista de Precios_Bolívares_S'!$F:$Q,6,FALSE),\"\")","v":""},{"$f":"IFERROR(VLOOKUP($A449,'Lista de Precios_Bolívares_S'!$F:$Q,12,FALSE),\"\")","v":""},"",{"$f":"IFERROR(VLOOKUP($A449,'Lista de Precios_USD$_Euro€'!$E:$O,11,FALSE),\"\")","v":""}]
[null,null,null,{"$f":"IFERROR(VLOOKUP($A450,'Lista de Precios_Bolívares_S'!$F:$Q,6,FALSE),\"\")","v":""},{"$f":"IFERROR(VLOOKUP($A450,'Lista de Precios_Bolívares_S'!$F:$Q,12,FALSE),\"\")","v":""},"",{"$f":"IFERROR(VLOOKUP($A450,'Lista de Precios_USD$_Euro€'!$E:$O,11,FALSE),\"\")","v":""}]
[null,null,null,{"$f":"IFERROR(VLOOKUP($A451,'Lista de Precios_Bolívares_S'!$F:$Q,6,FALSE),\"\")","v":""},{"$f":"IFERROR(VLOOKUP($A451,'Lista de Precios_Bolívares_S'!$F:$Q,12,FALSE),\"\")","v":""},"",{"$f":"IFERROR(VLOOKUP($A451,'Lista de Precios_USD$_Euro€'!$E:$O,11,FALSE),\"\")","v":""}]
[null,null,null,{"$f":"IFERROR(VLOOKUP($A452,'Lista de Precios_Bolívares_S'!$F:$Q,6,FALSE),\"\")","v":""},{"$f":"IFERROR(VLOOKUP($A452,'Lista de Precios_Bolívares_S'!$F:$Q,12,FALSE),\"\")","v":""},"",{"$f":"IFERROR(VLOOKUP($A452,'Lista de Precios_USD$_Euro€'!$E:$O,11,FALSE),\"\")","v":""}]
[null,null,null,{"$f":"IFERROR(VLOOKUP($A453,'Lista de Precios_Bolívares_S'!$F:$Q,6,FALSE),\"\")","v":""},{"$f":"IFERROR(VLOOKUP($A453,'Lista de Precios_Bolívares_S'!$F:$Q,12,FALSE),\"\")","v":""},"",{"$f":"IFERROR(VLOOKUP($A453,'Lista de Precios_USD$_Euro€'!$E:$O,11,FALSE),\"\")","v":""}]
[null,null,null,{"$f":"IFERROR(VLOOKUP($A454,'Lista de Precios_Bolívares_S'!$F:$Q,6,FALSE),\"\")","v":""},{"$f":"IFERROR(VLOOKUP($A454,'Lista de Precios_Bolívares_S'!$F:$Q,12,FALSE),\"\")","v":""},"",{"$f":"IFERROR(VLOOKUP($A454,'Lista de Precios_USD$_Euro€'!$E:$O,11,FALSE),\"\")","v":""}]
[null,null,null,{"$f":"IFERROR(VLOOKUP($A455,'Lista de Precios_Bolívares_S'!$F:$Q,6,FALSE),\"\")","v":""},{"$f":"IFERROR(VLOOKUP($A455,'Lista de Precios_Bolívares_S'!$F:$Q,12,FALSE),\"\")","v":""},"",{"$f":"IFERROR(VLOOKUP($A455,'Lista de Precios_USD$_Euro€'!$E:$O,11,FALSE),\"\")","v":""}]
[null,null,null,{"$f":"IFERROR(VLOOKUP($A456,'Lista de Precios_Bolívares_S'!$F:$Q,6,FALSE),\"\")","v":""},{"$f":"IFERROR(VLOOKUP($A456,'Lista de Precios_Bolívares_S'!$F:$Q,12,FALSE),\"\")","v":""},"",{"$f":"IFERROR(VLOOKUP($A456,'Lista de Precios_USD$_Euro€'!$E:$O,11,FALSE),\"\")","v":""}]
[null,null,null,{"$f":"IFERROR(VLOOKUP($A457,'Lista de Precios_Bolívares_S'!$F:$Q,6,FALSE),\"\")","v":""},{"$f":"IFERROR(VLOOKUP($A457,'Lista de Precios_Bolívares_S'!$F:$Q,12,FALSE),\"\")","v":""},"",{"$f":"IFERROR(VLOOKUP($A457,'Lista de Precios_USD$_Euro€'!$E:$O,11,FALSE),\"\")","v":""}]
[null,null,null,{"$f":"IFERROR(VLOOKUP($A458,'Lista de Precios_Bolívares_S'!$F:$Q,6,FALSE),\"\")","v":""},{"$f":"IFERROR(VLOOKUP($A458,'Lista de Precios_Bolívares_S'!$F:$Q,12,FALSE),\"\")","v":""},"",{"$f":"IFERROR(VLOOKUP($A458,'Lista de Precios_USD$_Euro€'!$E:$O,11,FALSE),\"\")","v":""}]
[null,null,null,{"$f":"IFERROR(VLOOKUP($A459,'Lista de Precios_Bolívares_S'!$F:$Q,6,FALSE),\"\")","v":""},{"$f":"IFERROR(VLOOKUP($A459,'Lista de Precios_Bolívares_S'!$F:$Q,12,FALSE),\"\")","v":""},"",{"$f":"IFERROR(VLOOKUP($A459,'Lista de Precios_USD$_Euro€'!$E:$O,11,FALSE),\"\")","v":""}]
[null,null,null,{"$f":"IFERROR(VLOOKUP($A460,'Lista de Precios_Bolívares_S'!$F:$Q,6,FALSE),\"\")","v":""},{"$f":"IFERROR(VLOOKUP($A460,'Lista de Precios_Bolívares_S'!$F:$Q,12,FALSE),\"\")","v":""},"",{"$f":"IFERROR(VLOOKUP($A460,'Lista de Precios_USD$_Euro€'!$E:$O,11,FALSE),\"\")","v":""}]
[null,null,null,{"$f":"IFERROR(VLOOKUP($A461,'Lista de Precios_Bolívares_S'!$F:$Q,6,FALSE),\"\")","v":""},{"$f":"IFERROR(VLOOKUP($A461,'Lista de Precios_Bolívares_S'!$F:$Q,12,FALSE),\"\")","v":""},"",{"$f":"IFERROR(VLOOKUP($A461,'Lista de Precios_USD$_Euro€'!$E:$O,11,FALSE),\"\")","v":""}]
[null,null,null,{"$f":"IFERROR(VLOOKUP($A462,'Lista de Precios_Bolívares_S'!$F:$Q,6,FALSE),\"\")","v":""},{"$f":"IFERROR(VLOOKUP($A462,'Lista de Precios_Bolívares_S'!$F:$Q,12,FALSE),\"\")","v":""},"",{"$f":"IFERROR(VLOOKUP($A462,'Lista de Precios_USD$_Euro€'!$E:$O,11,FALSE),\"\")","v":""}]
[null,null,null,{"$f":"IFERROR(VLOOKUP($A463,'Lista de Precios_Bolívares_S'!$F:$Q,6,FALSE),\"\")","v":""},{"$f":"IFERROR(VLOOKUP($A463,'Lista de Precios_Bolívares_S'!$F:$Q,12,FALSE),\"\")","v":""},"",{"$f":"IFERROR(VLOOKUP($A463,'Lista de Precios_USD$_Euro€'!$E:$O,11,FALSE),\"\")","v":""}]
[null,null,null,{"$f":"IFERROR(VLOOKUP($A464,'Lista de Precios_Bolívares_S'!$F:$Q,6,FALSE),\"\")","v":""},{"$f":"IFERROR(VLOOKUP($A464,'Lista de Precios_Bolívares_S'!$F:$Q,12,FALSE),\"\")","v":""},"",{"$f":"IFERROR(VLOOKUP($A464,'Lista de Precios_USD$_Euro€'!$E:$O,11,FALSE),\"\")","v":""}]
[null,null,null,{"$f":"IFERROR(VLOOKUP($A465,'Lista de Precios_Bolívares_S'!$F:$Q,6,FALSE),\"\")","v":""},{"$f":"IFERROR(VLOOKUP($A465,'Lista de Precios_Bolívares_S'!$F:$Q,12,FALSE),\"\")","v":""},"",{"$f":"IFERROR(VLOOKUP($A465,'Lista de Precios_USD$_Euro€'!$E:$O,11,FALSE),\"\")","v":""}]
[null,null,null,{"$f":"IFERROR(VLOOKUP($A466,'Lista de Precios_Bolívares_S'!$F:$Q,6,FALSE),\"\")","v":""},{"$f":"IFERROR(VLOOKUP($A466,'Lista de Precios_Bolívares_S'!$F:$Q,12,FALSE),\"\")","v":""},"",{"$f":"IFERROR(VLOOKUP($A466,'Lista de Precios_USD$_Euro€'!$E:$O,11,FALSE),\"\")","v":""}]
[null,null,null,{"$f":"IFERROR(VLOOKUP($A467,'Lista de Precios_Bolívares_S'!$F:$Q,6,FALSE),\"\")","v":""},{"$f":"IFERROR(VLOOKUP($A467,'Lista de Precios_Bolívares_S'!$F:$Q,12,FALSE),\"\")","v":""},"",{"$f":"IFERROR(VLOOKUP($A467,'Lista de Precios_USD$_Euro€'!$E:$O,11,FALSE),\"\")","v":""}]
[null,null,null,{"$f":"IFERROR(VLOOKUP($A468,'Lista de Precios_Bolívares_S'!$F:$Q,6,FALSE),\"\")","v":""},{"$f":"IFERROR(VLOOKUP($A468,'Lista de Precios_Bolívares_S'!$F:$Q,12,FALSE),\"\")","v":""},"",{"$f":"IFERROR(VLOOKUP($A468,'Lista de Precios_USD$_Euro€'!$E:$O,11,FALSE),\"\")","v":""}]
[null,null,null,{"$f":"IFERROR(VLOOKUP($A469,'Lista de Precios_Bolívares_S'!$F:$Q,6,FALSE),\"\")","v":""},{"$f":"IFERROR(VLOOKUP($A469,'Lista de Precios_Bolívares_S'!$F:$Q,12,FALSE),\"\")","v":""},"",{"$f":"IFERROR(VLOOKUP($A469,'Lista de Precios_USD$_Euro€'!$E:$O,11,FALSE),\"\")","v":""}]
[null,null,null,{"$f":"IFERROR(VLOOKUP($A470,'Lista de Precios_Bolívares_S'!$F:$Q,6,FALSE),\"\")","v":""},{"$f":"IFERROR(VLOOKUP($A470,'Lista de Precios_Bolívares_S'!$F:$Q,12,FALSE),\"\")","v":""},"",{"$f":"IFERROR(VLOOKUP($A470,'Lista de Precios_USD$_Euro€'!$E:$O,11,FALSE),\"\")","v":""}]
[null,null,null,{"$f":"IFERROR(VLOOKUP($A471,'Lista de Precios_Bolívares_S'!$F:$Q,6,FALSE),\"\")","v":""},{"$f":"IFERROR(VLOOKUP($A471,'Lista de Precios_Bolívares_S'!$F:$Q,12,FALSE),\"\")","v":""},"",{"$f":"IFERROR(VLOOKUP($A471,'Lista de Precios_USD$_Euro€'!$E:$O,11,FALSE),\"\")","v":""}]
[null,null,null,{"$f":"IFERROR(VLOOKUP($A472,'Lista de Precios_Bolívares_S'!$F:$Q,6,FALSE),\"\")","v":""},{"$f":"IFERROR(VLOOKUP($A472,'Lista de Precios_Bolívares_S'!$F:$Q,12,FALSE),\"\")","v":""},"",{"$f":"IFERROR(VLOOKUP($A472,'Lista de Precios_USD$_Euro€'!$E:$O,11,FALSE),\"\")","v":""}]
[null,null,null,{"$f":"IFERROR(VLOOKUP($A473,'Lista de Precios_Bolívares_S'!$F:$Q,6,FALSE),\"\")","v":""},{"$f":"IFERROR(VLOOKUP($A473,'Lista de Precios_Bolívares_S'!$F:$Q,12,FALSE),\"\")","v":""},{"$f":"IFERROR(IF(ROUND($C473,2)=ROUND($D448,2),ROUND($E448,2),ROUND($C473,2)),\"\")","v":""},{"$f":"IFERROR(VLOOKUP($A473,'Lista de Precios_USD$_Euro€'!$E:$O,11,FALSE),\"\")","v":""}]
[null,null,null,{"$f":"IFERROR(VLOOKUP($A474,'Lista de Precios_Bolívares_S'!$F:$Q,6,FALSE),\"\")","v":""},{"$f":"IFERROR(VLOOKUP($A474,'Lista de Precios_Bolívares_S'!$F:$Q,12,FALSE),\"\")","v":""},"",{"$f":"IFERROR(VLOOKUP($A474,'Lista de Precios_USD$_Euro€'!$E:$O,11,FALSE),\"\")","v":""}]
[null,null,null,{"$f":"IFERROR(VLOOKUP($A475,'Lista de Precios_Bolívares_S'!$F:$Q,6,FALSE),\"\")","v":""},{"$f":"IFERROR(VLOOKUP($A475,'Lista de Precios_Bolívares_S'!$F:$Q,12,FALSE),\"\")","v":""},"",{"$f":"IFERROR(VLOOKUP($A475,'Lista de Precios_USD$_Euro€'!$E:$O,11,FALSE),\"\")","v":""}]
[null,null,null,{"$f":"IFERROR(VLOOKUP($A476,'Lista de Precios_Bolívares_S'!$F:$Q,6,FALSE),\"\")","v":""},{"$f":"IFERROR(VLOOKUP($A476,'Lista de Precios_Bolívares_S'!$F:$Q,12,FALSE),\"\")","v":""},"",{"$f":"IFERROR(VLOOKUP($A476,'Lista de Precios_USD$_Euro€'!$E:$O,11,FALSE),\"\")","v":""}]
[null,null,null,{"$f":"IFERROR(VLOOKUP($A477,'Lista de Precios_Bolívares_S'!$F:$Q,6,FALSE),\"\")","v":""},{"$f":"IFERROR(VLOOKUP($A477,'Lista de Precios_Bolívares_S'!$F:$Q,12,FALSE),\"\")","v":""},"",{"$f":"IFERROR(VLOOKUP($A477,'Lista de Precios_USD$_Euro€'!$E:$O,11,FALSE),\"\")","v":""}]
[null,null,null,{"$f":"IFERROR(VLOOKUP($A478,'Lista de Precios_Bolívares_S'!$F:$Q,6,FALSE),\"\")","v":""},{"$f":"IFERROR(VLOOKUP($A478,'Lista de Precios_Bolívares_S'!$F:$Q,12,FALSE),\"\")","v":""},"",{"$f":"IFERROR(VLOOKUP($A478,'Lista de Precios_USD$_Euro€'!$E:$O,11,FALSE),\"\")","v":""}]
[null,null,null,{"$f":"IFERROR(VLOOKUP($A479,'Lista de Precios_Bolívares_S'!$F:$Q,6,FALSE),\"\")","v":""},{"$f":"IFERROR(VLOOKUP($A479,'Lista de Precios_Bolívares_S'!$F:$Q,12,FALSE),\"\")","v":""},"",{"$f":"IFERROR(VLOOKUP($A479,'Lista de Precios_USD$_Euro€'!$E:$O,11,FALSE),\"\")","v":""}]
[null,null,null,{"$f":"IFERROR(VLOOKUP($A480,'Lista de Precios_Bolívares_S'!$F:$Q,6,FALSE),\"\")","v":""},{"$f":"IFERROR(VLOOKUP($A480,'Lista de Precios_Bolívares_S'!$F:$Q,12,FALSE),\"\")","v":""},"",{"$f":"IFERROR(VLOOKUP($A480,'Lista de Precios_USD$_Euro€'!$E:$O,11,FALSE),\"\")","v":""}]
[null,null,null,{"$f":"IFERROR(VLOOKUP($A481,'Lista de Precios_Bolívares_S'!$F:$Q,6,FALSE),\"\")","v":""},{"$f":"IFERROR(VLOOKUP($A481,'Lista de Precios_Bolívares_S'!$F:$Q,12,FALSE),\"\")","v":""},"",{"$f":"IFERROR(VLOOKUP($A481,'Lista de Precios_USD$_Euro€'!$E:$O,11,FALSE),\"\")","v":""}]
[null,null,null,{"$f":"IFERROR(VLOOKUP($A482,'Lista de Precios_Bolívares_S'!$F:$Q,6,FALSE),\"\")","v":""},{"$f":"IFERROR(VLOOKUP($A482,'Lista de Precios_Bolívares_S'!$F:$Q,12,FALSE),\"\")","v":""},"",{"$f":"IFERROR(VLOOKUP($A482,'Lista de Precios_USD$_Euro€'!$E:$O,11,FALSE),\"\")","v":""}]
[null,null,null,{"$f":"IFERROR(VLOOKUP($A483,'Lista de Precios_Bolívares_S'!$F:$Q,6,FALSE),\"\")","v":""},{"$f":"IFERROR(VLOOKUP($A483,'Lista de Precios_Bolívares_S'!$F:$Q,12,FALSE),\"\")","v":""},"",{"$f":"IFERROR(VLOOKUP($A483,'Lista de Precios_USD$_Euro€'!$E:$O,11,FALSE),\"\")","v":""}]
[null,null,null,{"$f":"IFERROR(VLOOKUP($A484,'Lista de Precios_Bolívares_S'!$F:$Q,6,FALSE),\"\")","v":""},{"$f":"IFERROR(VLOOKUP($A484,'Lista de Precios_Bolívares_S'!$F:$Q,12,FALSE),\"\")","v":""},"",{"$f":"IFERROR(VLOOKUP($A484,'Lista de Precios_USD$_Euro€'!$E:$O,11,FALSE),\"\")","v":""}]
[null,null,null,{"$f":"IFERROR(VLOOKUP($A485,'Lista de Precios_Bolívares_S'!$F:$Q,6,FALSE),\"\")","v":""},{"$f":"IFERROR(VLOOKUP($A485,'Lista de Precios_Bolívares_S'!$F:$Q,12,FALSE),\"\")","v":""},"",{"$f":"IFERROR(VLOOKUP($A485,'Lista de Precios_USD$_Euro€'!$E:$O,11,FALSE),\"\")","v":""}]
[null,null,null,{"$f":"IFERROR(VLOOKUP($A486,'Lista de Precios_Bolívares_S'!$F:$Q,6,FALSE),\"\")","v":""},{"$f":"IFERROR(VLOOKUP($A486,'Lista de Precios_Bolívares_S'!$F:$Q,12,FALSE),\"\")","v":""},"",{"$f":"IFERROR(VLOOKUP($A486,'Lista de Precios_USD$_Euro€'!$E:$O,11,FALSE),\"\")","v":""}]
[null,null,null,{"$f":"IFERROR(VLOOKUP($A487,'Lista de Precios_Bolívares_S'!$F:$Q,6,FALSE),\"\")","v":""},{"$f":"IFERROR(VLOOKUP($A487,'Lista de Precios_Bolívares_S'!$F:$Q,12,FALSE),\"\")","v":""},"",{"$f":"IFERROR(VLOOKUP($A487,'Lista de Precios_USD$_Euro€'!$E:$O,11,FALSE),\"\")","v":""}]
[null,null,null,{"$f":"IFERROR(VLOOKUP($A488,'Lista de Precios_Bolívares_S'!$F:$Q,6,FALSE),\"\")","v":""},{"$f":"IFERROR(VLOOKUP($A488,'Lista de Precios_Bolívares_S'!$F:$Q,12,FALSE),\"\")","v":""},"",{"$f":"IFERROR(VLOOKUP($A488,'Lista de Precios_USD$_Euro€'!$E:$O,11,FALSE),\"\")","v":""}]
[null,null,null,{"$f":"IFERROR(VLOOKUP($A489,'Lista de Precios_Bolívares_S'!$F:$Q,6,FALSE),\"\")","v":""},{"$f":"IFERROR(VLOOKUP($A489,'Lista de Precios_Bolívares_S'!$F:$Q,12,FALSE),\"\")","v":""},"",{"$f":"IFERROR(VLOOKUP($A489,'Lista de Precios_USD$_Euro€'!$E:$O,11,FALSE),\"\")","v":""}]
[null,null,null,{"$f":"IFERROR(VLOOKUP($A490,'Lista de Precios_Bolívares_S'!$F:$Q,6,FALSE),\"\")","v":""},{"$f":"IFERROR(VLOOKUP($A490,'Lista de Precios_Bolívares_S'!$F:$Q,12,FALSE),\"\")","v":""},"",{"$f":"IFERROR(VLOOKUP($A490,'Lista de Precios_USD$_Euro€'!$E:$O,11,FALSE),\"\")","v":""}]
[null,null,null,{"$f":"IFERROR(VLOOKUP($A491,'Lista de Precios_Bolívares_S'!$F:$Q,6,FALSE),\"\")","v":""},{"$f":"IFERROR(VLOOKUP($A491,'Lista de Precios_Bolívares_S'!$F:$Q,12,FALSE),\"\")","v":""},"",{"$f":"IFERROR(VLOOKUP($A491,'Lista de Precios_USD$_Euro€'!$E:$O,11,FALSE),\"\")","v":""}]
[null,null,null,{"$f":"IFERROR(VLOOKUP($A492,'Lista de Precios_Bolívares_S'!$F:$Q,6,FALSE),\"\")","v":""},{"$f":"IFERROR(VLOOKUP($A492,'Lista de Precios_Bolívares_S'!$F:$Q,12,FALSE),\"\")","v":""},"",{"$f":"IFERROR(VLOOKUP($A492,'Lista de Precios_USD$_Euro€'!$E:$O,11,FALSE),\"\")","v":""}]
[null,null,null,{"$f":"IFERROR(VLOOKUP($A493,'Lista de Precios_Bolívares_S'!$F:$Q,6,FALSE),\"\")","v":""},{"$f":"IFERROR(VLOOKUP($A493,'Lista de Precios_Bolívares_S'!$F:$Q,12,FALSE),\"\")","v":""},"",{"$f":"IFERROR(VLOOKUP($A493,'Lista de Precios_USD$_Euro€'!$E:$O,11,FALSE),\"\")","v":""}]
[null,null,null,{"$f":"IFERROR(VLOOKUP($A494,'Lista de Precios_Bolívares_S'!$F:$Q,6,FALSE),\"\")","v":""},{"$f":"IFERROR(VLOOKUP($A494,'Lista de Precios_Bolívares_S'!$F:$Q,12,FALSE),\"\")","v":""},"",{"$f":"IFERROR(VLOOKUP($A494,'Lista de Precios_USD$_Euro€'!$E:$O,11,FALSE),\"\")","v":""}]
[null,null,null,{"$f":"IFERROR(VLOOKUP($A495,'Lista de Precios_Bolívares_S'!$F:$Q,6,FALSE),\"\")","v":""},{"$f":"IFERROR(VLOOKUP($A495,'Lista de Precios_Bolívares_S'!$F:$Q,12,FALSE),\"\")","v":""},"",{"$f":"IFERROR(VLOOKUP($A495,'Lista de Precios_USD$_Euro€'!$E:$O,11,FALSE),\"\")","v":""}]
[null,null,null,{"$f":"IFERROR(VLOOKUP($A496,'Lista de Precios_Bolívares_S'!$F:$Q,6,FALSE),\"\")","v":""},{"$f":"IFERROR(VLOOKUP($A496,'Lista de Precios_Bolívares_S'!$F:$Q,12,FALSE),\"\")","v":""},"",{"$f":"IFERROR(VLOOKUP($A496,'Lista de Precios_USD$_Euro€'!$E:$O,11,FALSE),\"\")","v":""}]
[null,null,null,{"$f":"IFERROR(VLOOKUP($A497,'Lista de Precios_Bolívares_S'!$F:$Q,6,FALSE),\"\")","v":""},{"$f":"IFERROR(VLOOKUP($A497,'Lista de Precios_Bolívares_S'!$F:$Q,12,FALSE),\"\")","v":""},"",{"$f":"IFERROR(VLOOKUP($A497,'Lista de Precios_USD$_Euro€'!$E:$O,11,FALSE),\"\")","v":""}]
[null,null,null,{"$f":"IFERROR(VLOOKUP($A498,'Lista de Precios_Bolívares_S'!$F:$Q,6,FALSE),\"\")","v":""},{"$f":"IFERROR(VLOOKUP($A498,'Lista de Precios_Bolívares_S'!$F:$Q,12,FALSE),\"\")","v":""},"",{"$f":"IFERROR(VLOOKUP($A498,'Lista de Precios_USD$_Euro€'!$E:$O,11,FALSE),\"\")","v":""}]
[null,null,null,{"$f":"IFERROR(VLOOKUP($A499,'Lista de Precios_Bolívares_S'!$F:$Q,6,FALSE),\"\")","v":""},{"$f":"IFERROR(VLOOKUP($A499,'Lista de Precios_Bolívares_S'!$F:$Q,12,FALSE),\"\")","v":""},"",{"$f":"IFERROR(VLOOKUP($A499,'Lista de Precios_USD$_Euro€'!$E:$O,11,FALSE),\"\")","v":""}]
[null,null,null,{"$f":"IFERROR(VLOOKUP($A500,'Lista de Precios_Bolívares_S'!$F:$Q,6,FALSE),\"\")","v":""},{"$f":"IFERROR(VLOOKUP($A500,'Lista de Precios_Bolívares_S'!$F:$Q,12,FALSE),\"\")","v":""},"",{"$f":"IFERROR(VLOOKUP($A500,'Lista de Precios_USD$_Euro€'!$E:$O,11,FALSE),\"\")","v":""}]
[null,null,null,{"$f":"IFERROR(VLOOKUP($A501,'Lista de Precios_Bolívares_S'!$F:$Q,6,FALSE),\"\")","v":""},{"$f":"IFERROR(VLOOKUP($A501,'Lista de Precios_Bolívares_S'!$F:$Q,12,FALSE),\"\")","v":""},"",{"$f":"IFERROR(VLOOKUP($A501,'Lista de Precios_USD$_Euro€'!$E:$O,11,FALSE),\"\")","v":""}]
[null,null,null,{"$f":"IFERROR(VLOOKUP($A502,'Lista de Precios_Bolívares_S'!$F:$Q,6,FALSE),\"\")","v":""},{"$f":"IFERROR(VLOOKUP($A502,'Lista de Precios_Bolívares_S'!$F:$Q,12,FALSE),\"\")","v":""},"",{"$f":"IFERROR(VLOOKUP($A502,'Lista de Precios_USD$_Euro€'!$E:$O,11,FALSE),\"\")","v":""}]
[null,null,null,{"$f":"IFERROR(VLOOKUP($A503,'Lista de Precios_Bolívares_S'!$F:$Q,6,FALSE),\"\")","v":""},{"$f":"IFERROR(VLOOKUP($A503,'Lista de Precios_Bolívares_S'!$F:$Q,12,FALSE),\"\")","v":""},"",{"$f":"IFERROR(VLOOKUP($A503,'Lista de Precios_USD$_Euro€'!$E:$O,11,FALSE),\"\")","v":""}]
[null,null,null,{"$f":"IFERROR(VLOOKUP($A504,'Lista de Precios_Bolívares_S'!$F:$Q,6,FALSE),\"\")","v":""},{"$f":"IFERROR(VLOOKUP($A504,'Lista de Precios_Bolívares_S'!$F:$Q,12,FALSE),\"\")","v":""},"",{"$f":"IFERROR(VLOOKUP($A504,'Lista de Precios_USD$_Euro€'!$E:$O,11,FALSE),\"\")","v":""}]
[null,null,null,{"$f":"IFERROR(VLOOKUP($A505,'Lista de Precios_Bolívares_S'!$F:$Q,6,FALSE),\"\")","v":""},{"$f":"IFERROR(VLOOKUP($A505,'Lista de Precios_Bolívares_S'!$F:$Q,12,FALSE),\"\")","v":""},"",{"$f":"IFERROR(VLOOKUP($A505,'Lista de Precios_USD$_Euro€'!$E:$O,11,FALSE),\"\")","v":""}]
[null,null,null,{"$f":"IFERROR(VLOOKUP($A506,'Lista de Precios_Bolívares_S'!$F:$Q,6,FALSE),\"\")","v":""},{"$f":"IFERROR(VLOOKUP($A506,'Lista de Precios_Bolívares_S'!$F:$Q,12,FALSE),\"\")","v":""},"",{"$f":"IFERROR(VLOOKUP($A506,'Lista de Precios_USD$_Euro€'!$E:$O,11,FALSE),\"\")","v":""}]
[null,null,null,{"$f":"IFERROR(VLOOKUP($A507,'Lista de Precios_Bolívares_S'!$F:$Q,6,FALSE),\"\")","v":""},{"$f":"IFERROR(VLOOKUP($A507,'Lista de Precios_Bolívares_S'!$F:$Q,12,FALSE),\"\")","v":""},"",{"$f":"IFERROR(VLOOKUP($A507,'Lista de Precios_USD$_Euro€'!$E:$O,11,FALSE),\"\")","v":""}]
[null,null,null,{"$f":"IFERROR(VLOOKUP($A508,'Lista de Precios_Bolívares_S'!$F:$Q,6,FALSE),\"\")","v":""},{"$f":"IFERROR(VLOOKUP($A508,'Lista de Precios_Bolívares_S'!$F:$Q,12,FALSE),\"\")","v":""},"",{"$f":"IFERROR(VLOOKUP($A508,'Lista de Precios_USD$_Euro€'!$E:$O,11,FALSE),\"\")","v":""}]
[null,null,null,{"$f":"IFERROR(VLOOKUP($A509,'Lista de Precios_Bolívares_S'!$F:$Q,6,FALSE),\"\")","v":""},{"$f":"IFERROR(VLOOKUP($A509,'Lista de Precios_Bolívares_S'!$F:$Q,12,FALSE),\"\")","v":""},"",{"$f":"IFERROR(VLOOKUP($A509,'Lista de Precios_USD$_Euro€'!$E:$O,11,FALSE),\"\")","v":""}]
[null,null,null,{"$f":"IFERROR(VLOOKUP($A510,'Lista de Precios_Bolívares_S'!$F:$Q,6,FALSE),\"\")","v":""},{"$f":"IFERROR(VLOOKUP($A510,'Lista de Precios_Bolívares_S'!$F:$Q,12,FALSE),\"\")","v":""},"",{"$f":"IFERROR(VLOOKUP($A510,'Lista de Precios_USD$_Euro€'!$E:$O,11,FALSE),\"\")","v":""}]
[null,null,null,{"$f":"IFERROR(VLOOKUP($A511,'Lista de Precios_Bolívares_S'!$F:$Q,6,FALSE),\"\")","v":""},{"$f":"IFERROR(VLOOKUP($A511,'Lista de Precios_Bolívares_S'!$F:$Q,12,FALSE),\"\")","v":""},"",{"$f":"IFERROR(VLOOKUP($A511,'Lista de Precios_USD$_Euro€'!$E:$O,11,FALSE),\"\")","v":""}]
[null,null,null,{"$f":"IFERROR(VLOOKUP($A512,'Lista de Precios_Bolívares_S'!$F:$Q,6,FALSE),\"\")","v":""},{"$f":"IFERROR(VLOOKUP($A512,'Lista de Precios_Bolívares_S'!$F:$Q,12,FALSE),\"\")","v":""},"",{"$f":"IFERROR(VLOOKUP($A512,'Lista de Precios_USD$_Euro€'!$E:$O,11,FALSE),\"\")","v":""}]
[null,null,null,{"$f":"IFERROR(VLOOKUP($A513,'Lista de Precios_Bolívares_S'!$F:$Q,6,FALSE),\"\")","v":""},{"$f":"IFERROR(VLOOKUP($A513,'Lista de Precios_Bolívares_S'!$F:$Q,12,FALSE),\"\")","v":""},"",{"$f":"IFERROR(VLOOKUP($A513,'Lista de Precios_USD$_Euro€'!$E:$O,11,FALSE),\"\")","v":""}]
[null,null,null,{"$f":"IFERROR(VLOOKUP($A514,'Lista de Precios_Bolívares_S'!$F:$Q,6,FALSE),\"\")","v":""},{"$f":"IFERROR(VLOOKUP($A514,'Lista de Precios_Bolívares_S'!$F:$Q,12,FALSE),\"\")","v":""},"",{"$f":"IFERROR(VLOOKUP($A514,'Lista de Precios_USD$_Euro€'!$E:$O,11,FALSE),\"\")","v":""}]
[null,null,null,{"$f":"IFERROR(VLOOKUP($A515,'Lista de Precios_Bolívares_S'!$F:$Q,6,FALSE),\"\")","v":""},{"$f":"IFERROR(VLOOKUP($A515,'Lista de Precios_Bolívares_S'!$F:$Q,12,FALSE),\"\")","v":""},"",{"$f":"IFERROR(VLOOKUP($A515,'Lista de Precios_USD$_Euro€'!$E:$O,11,FALSE),\"\")","v":""}]
[null,null,null,{"$f":"IFERROR(VLOOKUP($A516,'Lista de Precios_Bolívares_S'!$F:$Q,6,FALSE),\"\")","v":""},{"$f":"IFERROR(VLOOKUP($A516,'Lista de Precios_Bolívares_S'!$F:$Q,12,FALSE),\"\")","v":""},"",{"$f":"IFERROR(VLOOKUP($A516,'Lista de Precios_USD$_Euro€'!$E:$O,11,FALSE),\"\")","v":""}]
[null,null,null,{"$f":"IFERROR(VLOOKUP($A517,'Lista de Precios_Bolívares_S'!$F:$Q,6,FALSE),\"\")","v":""},{"$f":"IFERROR(VLOOKUP($A517,'Lista de Precios_Bolívares_S'!$F:$Q,12,FALSE),\"\")","v":""},"",{"$f":"IFERROR(VLOOKUP($A517,'Lista de Precios_USD$_Euro€'!$E:$O,11,FALSE),\"\")","v":""}]
[null,null,null,{"$f":"IFERROR(VLOOKUP($A518,'Lista de Precios_Bolívares_S'!$F:$Q,6,FALSE),\"\")","v":""},{"$f":"IFERROR(VLOOKUP($A518,'Lista de Precios_Bolívares_S'!$F:$Q,12,FALSE),\"\")","v":""},"",{"$f":"IFERROR(VLOOKUP($A518,'Lista de Precios_USD$_Euro€'!$E:$O,11,FALSE),\"\")","v":""}]
[null,null,null,{"$f":"IFERROR(VLOOKUP($A519,'Lista de Precios_Bolívares_S'!$F:$Q,6,FALSE),\"\")","v":""},{"$f":"IFERROR(VLOOKUP($A519,'Lista de Precios_Bolívares_S'!$F:$Q,12,FALSE),\"\")","v":""},"",{"$f":"IFERROR(VLOOKUP($A519,'Lista de Precios_USD$_Euro€'!$E:$O,11,FALSE),\"\")","v":""}]
[null,null,null,{"$f":"IFERROR(VLOOKUP($A520,'Lista de Precios_Bolívares_S'!$F:$Q,6,FALSE),\"\")","v":""},{"$f":"IFERROR(VLOOKUP($A520,'Lista de Precios_Bolívares_S'!$F:$Q,12,FALSE),\"\")","v":""},"",{"$f":"IFERROR(VLOOKUP($A520,'Lista de Precios_USD$_Euro€'!$E:$O,11,FALSE),\"\")","v":""}]
[null,null,null,{"$f":"IFERROR(VLOOKUP($A521,'Lista de Precios_Bolívares_S'!$F:$Q,6,FALSE),\"\")","v":""},{"$f":"IFERROR(VLOOKUP($A521,'Lista de Precios_Bolívares_S'!$F:$Q,12,FALSE),\"\")","v":""},"",{"$f":"IFERROR(VLOOKUP($A521,'Lista de Precios_USD$_Euro€'!$E:$O,11,FALSE),\"\")","v":""}]
[null,null,null,{"$f":"IFERROR(VLOOKUP($A522,'Lista de Precios_Bolívares_S'!$F:$Q,6,FALSE),\"\")","v":""},{"$f":"IFERROR(VLOOKUP($A522,'Lista de Precios_Bolívares_S'!$F:$Q,12,FALSE),\"\")","v":""},"",{"$f":"IFERROR(VLOOKUP($A522,'Lista de Precios_USD$_Euro€'!$E:$O,11,FALSE),\"\")","v":""}]
[null,null,null,{"$f":"IFERROR(VLOOKUP($A523,'Lista de Precios_Bolívares_S'!$F:$Q,6,FALSE),\"\")","v":""},{"$f":"IFERROR(VLOOKUP($A523,'Lista de Precios_Bolívares_S'!$F:$Q,12,FALSE),\"\")","v":""},"",{"$f":"IFERROR(VLOOKUP($A523,'Lista de Precios_USD$_Euro€'!$E:$O,11,FALSE),\"\")","v":""}]
[null,null,null,{"$f":"IFERROR(VLOOKUP($A524,'Lista de Precios_Bolívares_S'!$F:$Q,6,FALSE),\"\")","v":""},{"$f":"IFERROR(VLOOKUP($A524,'Lista de Precios_Bolívares_S'!$F:$Q,12,FALSE),\"\")","v":""},"",{"$f":"IFERROR(VLOOKUP($A524,'Lista de Precios_USD$_Euro€'!$E:$O,11,FALSE),\"\")","v":""}]
[null,null,null,{"$f":"IFERROR(VLOOKUP($A525,'Lista de Precios_Bolívares_S'!$F:$Q,6,FALSE),\"\")","v":""},{"$f":"IFERROR(VLOOKUP($A525,'Lista de Precios_Bolívares_S'!$F:$Q,12,FALSE),\"\")","v":""},"",{"$f":"IFERROR(VLOOKUP($A525,'Lista de Precios_USD$_Euro€'!$E:$O,11,FALSE),\"\")","v":""}]
[null,null,null,{"$f":"IFERROR(VLOOKUP($A526,'Lista de Precios_Bolívares_S'!$F:$Q,6,FALSE),\"\")","v":""},{"$f":"IFERROR(VLOOKUP($A526,'Lista de Precios_Bolívares_S'!$F:$Q,12,FALSE),\"\")","v":""},"",{"$f":"IFERROR(VLOOKUP($A526,'Lista de Precios_USD$_Euro€'!$E:$O,11,FALSE),\"\")","v":""}]
[null,null,null,{"$f":"IFERROR(VLOOKUP($A527,'Lista de Precios_Bolívares_S'!$F:$Q,6,FALSE),\"\")","v":""},{"$f":"IFERROR(VLOOKUP($A527,'Lista de Precios_Bolívares_S'!$F:$Q,12,FALSE),\"\")","v":""},"",{"$f":"IFERROR(VLOOKUP($A527,'Lista de Precios_USD$_Euro€'!$E:$O,11,FALSE),\"\")","v":""}]
[null,null,null,{"$f":"IFERROR(VLOOKUP($A528,'Lista de Precios_Bolívares_S'!$F:$Q,6,FALSE),\"\")","v":""},{"$f":"IFERROR(VLOOKUP($A528,'Lista de Precios_Bolívares_S'!$F:$Q,12,FALSE),\"\")","v":""},"",{"$f":"IFERROR(VLOOKUP($A528,'Lista de Precios_USD$_Euro€'!$E:$O,11,FALSE),\"\")","v":""}]
[null,null,null,{"$f":"IFERROR(VLOOKUP($A529,'Lista de Precios_Bolívares_S'!$F:$Q,6,FALSE),\"\")","v":""},{"$f":"IFERROR(VLOOKUP($A529,'Lista de Precios_Bolívares_S'!$F:$Q,12,FALSE),\"\")","v":""},"",{"$f":"IFERROR(VLOOKUP($A529,'Lista de Precios_USD$_Euro€'!$E:$O,11,FALSE),\"\")","v":""}]
[null,null,null,{"$f":"IFERROR(VLOOKUP($A530,'Lista de Precios_Bolívares_S'!$F:$Q,6,FALSE),\"\")","v":""},{"$f":"IFERROR(VLOOKUP($A530,'Lista de Precios_Bolívares_S'!$F:$Q,12,FALSE),\"\")","v":""},"",{"$f":"IFERROR(VLOOKUP($A530,'Lista de Precios_USD$_Euro€'!$E:$O,11,FALSE),\"\")","v":""}]
[null,null,null,{"$f":"IFERROR(VLOOKUP($A531,'Lista de Precios_Bolívares_S'!$F:$Q,6,FALSE),\"\")","v":""},{"$f":"IFERROR(VLOOKUP($A531,'Lista de Precios_Bolívares_S'!$F:$Q,12,FALSE),\"\")","v":""},"",{"$f":"IFERROR(VLOOKUP($A531,'Lista de Precios_USD$_Euro€'!$E:$O,11,FALSE),\"\")","v":""}]
[null,null,null,{"$f":"IFERROR(VLOOKUP($A532,'Lista de Precios_Bolívares_S'!$F:$Q,6,FALSE),\"\")","v":""},{"$f":"IFERROR(VLOOKUP($A532,'Lista de Precios_Bolívares_S'!$F:$Q,12,FALSE),\"\")","v":""},"",{"$f":"IFERROR(VLOOKUP($A532,'Lista de Precios_USD$_Euro€'!$E:$O,11,FALSE),\"\")","v":""}]
[null,null,null,{"$f":"IFERROR(VLOOKUP($A533,'Lista de Precios_Bolívares_S'!$F:$Q,6,FALSE),\"\")","v":""},{"$f":"IFERROR(VLOOKUP($A533,'Lista de Precios_Bolívares_S'!$F:$Q,12,FALSE),\"\")","v":""},"",{"$f":"IFERROR(VLOOKUP($A533,'Lista de Precios_USD$_Euro€'!$E:$O,11,FALSE),\"\")","v":""}]
[null,null,null,{"$f":"IFERROR(VLOOKUP($A534,'Lista de Precios_Bolívares_S'!$F:$Q,6,FALSE),\"\")","v":""},{"$f":"IFERROR(VLOOKUP($A534,'Lista de Precios_Bolívares_S'!$F:$Q,12,FALSE),\"\")","v":""},"",{"$f":"IFERROR(VLOOKUP($A534,'Lista de Precios_USD$_Euro€'!$E:$O,11,FALSE),\"\")","v":""}]
[null,null,null,{"$f":"IFERROR(VLOOKUP($A535,'Lista de Precios_Bolívares_S'!$F:$Q,6,FALSE),\"\")","v":""},{"$f":"IFERROR(VLOOKUP($A535,'Lista de Precios_Bolívares_S'!$F:$Q,12,FALSE),\"\")","v":""},"",{"$f":"IFERROR(VLOOKUP($A535,'Lista de Precios_USD$_Euro€'!$E:$O,11,FALSE),\"\")","v":""}]
[null,null,null,{"$f":"IFERROR(VLOOKUP($A536,'Lista de Precios_Bolívares_S'!$F:$Q,6,FALSE),\"\")","v":""},{"$f":"IFERROR(VLOOKUP($A536,'Lista de Precios_Bolívares_S'!$F:$Q,12,FALSE),\"\")","v":""},"",{"$f":"IFERROR(VLOOKUP($A536,'Lista de Precios_USD$_Euro€'!$E:$O,11,FALSE),\"\")","v":""}]
[null,null,null,{"$f":"IFERROR(VLOOKUP($A537,'Lista de Precios_Bolívares_S'!$F:$Q,6,FALSE),\"\")","v":""},{"$f":"IFERROR(VLOOKUP($A537,'Lista de Precios_Bolívares_S'!$F:$Q,12,FALSE),\"\")","v":""},{"$f":"IFERROR(IF(ROUND($C537,2)=ROUND($D512,2),ROUND($E512,2),ROUND($C537,2)),\"\")","v":""},{"$f":"IFERROR(VLOOKUP($A537,'Lista de Precios_USD$_Euro€'!$E:$O,11,FALSE),\"\")","v":""}]
[null,null,null,{"$f":"IFERROR(VLOOKUP($A538,'Lista de Precios_Bolívares_S'!$F:$Q,6,FALSE),\"\")","v":""},{"$f":"IFERROR(VLOOKUP($A538,'Lista de Precios_Bolívares_S'!$F:$Q,12,FALSE),\"\")","v":""},"",{"$f":"IFERROR(VLOOKUP($A538,'Lista de Precios_USD$_Euro€'!$E:$O,11,FALSE),\"\")","v":""}]
[null,null,null,{"$f":"IFERROR(VLOOKUP($A539,'Lista de Precios_Bolívares_S'!$F:$Q,6,FALSE),\"\")","v":""},{"$f":"IFERROR(VLOOKUP($A539,'Lista de Precios_Bolívares_S'!$F:$Q,12,FALSE),\"\")","v":""},"",{"$f":"IFERROR(VLOOKUP($A539,'Lista de Precios_USD$_Euro€'!$E:$O,11,FALSE),\"\")","v":""}]
[null,null,null,{"$f":"IFERROR(VLOOKUP($A540,'Lista de Precios_Bolívares_S'!$F:$Q,6,FALSE),\"\")","v":""},{"$f":"IFERROR(VLOOKUP($A540,'Lista de Precios_Bolívares_S'!$F:$Q,12,FALSE),\"\")","v":""},"",{"$f":"IFERROR(VLOOKUP($A540,'Lista de Precios_USD$_Euro€'!$E:$O,11,FALSE),\"\")","v":""}]
[null,null,null,{"$f":"IFERROR(VLOOKUP($A541,'Lista de Precios_Bolívares_S'!$F:$Q,6,FALSE),\"\")","v":""},{"$f":"IFERROR(VLOOKUP($A541,'Lista de Precios_Bolívares_S'!$F:$Q,12,FALSE),\"\")","v":""},"",{"$f":"IFERROR(VLOOKUP($A541,'Lista de Precios_USD$_Euro€'!$E:$O,11,FALSE),\"\")","v":""}]
[null,null,null,{"$f":"IFERROR(VLOOKUP($A542,'Lista de Precios_Bolívares_S'!$F:$Q,6,FALSE),\"\")","v":""},{"$f":"IFERROR(VLOOKUP($A542,'Lista de Precios_Bolívares_S'!$F:$Q,12,FALSE),\"\")","v":""},"",{"$f":"IFERROR(VLOOKUP($A542,'Lista de Precios_USD$_Euro€'!$E:$O,11,FALSE),\"\")","v":""}]
[null,null,null,{"$f":"IFERROR(VLOOKUP($A543,'Lista de Precios_Bolívares_S'!$F:$Q,6,FALSE),\"\")","v":""},{"$f":"IFERROR(VLOOKUP($A543,'Lista de Precios_Bolívares_S'!$F:$Q,12,FALSE),\"\")","v":""},"",{"$f":"IFERROR(VLOOKUP($A543,'Lista de Precios_USD$_Euro€'!$E:$O,11,FALSE),\"\")","v":""}]
[null,null,null,{"$f":"IFERROR(VLOOKUP($A544,'Lista de Precios_Bolívares_S'!$F:$Q,6,FALSE),\"\")","v":""},{"$f":"IFERROR(VLOOKUP($A544,'Lista de Precios_Bolívares_S'!$F:$Q,12,FALSE),\"\")","v":""},"",{"$f":"IFERROR(VLOOKUP($A544,'Lista de Precios_USD$_Euro€'!$E:$O,11,FALSE),\"\")","v":""}]
[null,null,null,{"$f":"IFERROR(VLOOKUP($A545,'Lista de Precios_Bolívares_S'!$F:$Q,6,FALSE),\"\")","v":""},{"$f":"IFERROR(VLOOKUP($A545,'Lista de Precios_Bolívares_S'!$F:$Q,12,FALSE),\"\")","v":""},"",{"$f":"IFERROR(VLOOKUP($A545,'Lista de Precios_USD$_Euro€'!$E:$O,11,FALSE),\"\")","v":""}]
[null,null,null,{"$f":"IFERROR(VLOOKUP($A546,'Lista de Precios_Bolívares_S'!$F:$Q,6,FALSE),\"\")","v":""},{"$f":"IFERROR(VLOOKUP($A546,'Lista de Precios_Bolívares_S'!$F:$Q,12,FALSE),\"\")","v":""},"",{"$f":"IFERROR(VLOOKUP($A546,'Lista de Precios_USD$_Euro€'!$E:$O,11,FALSE),\"\")","v":""}]
[null,null,null,{"$f":"IFERROR(VLOOKUP($A547,'Lista de Precios_Bolívares_S'!$F:$Q,6,FALSE),\"\")","v":""},{"$f":"IFERROR(VLOOKUP($A547,'Lista de Precios_Bolívares_S'!$F:$Q,12,FALSE),\"\")","v":""},"",{"$f":"IFERROR(VLOOKUP($A547,'Lista de Precios_USD$_Euro€'!$E:$O,11,FALSE),\"\")","v":""}]
[null,null,null,{"$f":"IFERROR(VLOOKUP($A548,'Lista de Precios_Bolívares_S'!$F:$Q,6,FALSE),\"\")","v":""},{"$f":"IFERROR(VLOOKUP($A548,'Lista de Precios_Bolívares_S'!$F:$Q,12,FALSE),\"\")","v":""},"",{"$f":"IFERROR(VLOOKUP($A548,'Lista de Precios_USD$_Euro€'!$E:$O,11,FALSE),\"\")","v":""}]
[null,null,null,{"$f":"IFERROR(VLOOKUP($A549,'Lista de Precios_Bolívares_S'!$F:$Q,6,FALSE),\"\")","v":""},{"$f":"IFERROR(VLOOKUP($A549,'Lista de Precios_Bolívares_S'!$F:$Q,12,FALSE),\"\")","v":""},"",{"$f":"IFERROR(VLOOKUP($A549,'Lista de Precios_USD$_Euro€'!$E:$O,11,FALSE),\"\")","v":""}]
[null,null,null,{"$f":"IFERROR(VLOOKUP($A550,'Lista de Precios_Bolívares_S'!$F:$Q,6,FALSE),\"\")","v":""},{"$f":"IFERROR(VLOOKUP($A550,'Lista de Precios_Bolívares_S'!$F:$Q,12,FALSE),\"\")","v":""},"",{"$f":"IFERROR(VLOOKUP($A550,'Lista de Precios_USD$_Euro€'!$E:$O,11,FALSE),\"\")","v":""}]
[null,null,null,{"$f":"IFERROR(VLOOKUP($A551,'Lista de Precios_Bolívares_S'!$F:$Q,6,FALSE),\"\")","v":""},{"$f":"IFERROR(VLOOKUP($A551,'Lista de Precios_Bolívares_S'!$F:$Q,12,FALSE),\"\")","v":""},"",{"$f":"IFERROR(VLOOKUP($A551,'Lista de Precios_USD$_Euro€'!$E:$O,11,FALSE),\"\")","v":""}]
[null,null,null,{"$f":"IFERROR(VLOOKUP($A552,'Lista de Precios_Bolívares_S'!$F:$Q,6,FALSE),\"\")","v":""},{"$f":"IFERROR(VLOOKUP($A552,'Lista de Precios_Bolívares_S'!$F:$Q,12,FALSE),\"\")","v":""},"",{"$f":"IFERROR(VLOOKUP($A552,'Lista de Precios_USD$_Euro€'!$E:$O,11,FALSE),\"\")","v":""}]
[null,null,null,{"$f":"IFERROR(VLOOKUP($A553,'Lista de Precios_Bolívares_S'!$F:$Q,6,FALSE),\"\")","v":""},{"$f":"IFERROR(VLOOKUP($A553,'Lista de Precios_Bolívares_S'!$F:$Q,12,FALSE),\"\")","v":""},"",{"$f":"IFERROR(VLOOKUP($A553,'Lista de Precios_USD$_Euro€'!$E:$O,11,FALSE),\"\")","v":""}]
[null,null,null,{"$f":"IFERROR(VLOOKUP($A554,'Lista de Precios_Bolívares_S'!$F:$Q,6,FALSE),\"\")","v":""},{"$f":"IFERROR(VLOOKUP($A554,'Lista de Precios_Bolívares_S'!$F:$Q,12,FALSE),\"\")","v":""},"",{"$f":"IFERROR(VLOOKUP($A554,'Lista de Precios_USD$_Euro€'!$E:$O,11,FALSE),\"\")","v":""}]
[null,null,null,{"$f":"IFERROR(VLOOKUP($A555,'Lista de Precios_Bolívares_S'!$F:$Q,6,FALSE),\"\")","v":""},{"$f":"IFERROR(VLOOKUP($A555,'Lista de Precios_Bolívares_S'!$F:$Q,12,FALSE),\"\")","v":""},"",{"$f":"IFERROR(VLOOKUP($A555,'Lista de Precios_USD$_Euro€'!$E:$O,11,FALSE),\"\")","v":""}]
[null,null,null,{"$f":"IFERROR(VLOOKUP($A556,'Lista de Precios_Bolívares_S'!$F:$Q,6,FALSE),\"\")","v":""},{"$f":"IFERROR(VLOOKUP($A556,'Lista de Precios_Bolívares_S'!$F:$Q,12,FALSE),\"\")","v":""},"",{"$f":"IFERROR(VLOOKUP($A556,'Lista de Precios_USD$_Euro€'!$E:$O,11,FALSE),\"\")","v":""}]
[null,null,null,{"$f":"IFERROR(VLOOKUP($A557,'Lista de Precios_Bolívares_S'!$F:$Q,6,FALSE),\"\")","v":""},{"$f":"IFERROR(VLOOKUP($A557,'Lista de Precios_Bolívares_S'!$F:$Q,12,FALSE),\"\")","v":""},"",{"$f":"IFERROR(VLOOKUP($A557,'Lista de Precios_USD$_Euro€'!$E:$O,11,FALSE),\"\")","v":""}]
[null,null,null,{"$f":"IFERROR(VLOOKUP($A558,'Lista de Precios_Bolívares_S'!$F:$Q,6,FALSE),\"\")","v":""},{"$f":"IFERROR(VLOOKUP($A558,'Lista de Precios_Bolívares_S'!$F:$Q,12,FALSE),\"\")","v":""},"",{"$f":"IFERROR(VLOOKUP($A558,'Lista de Precios_USD$_Euro€'!$E:$O,11,FALSE),\"\")","v":""}]
[null,null,null,{"$f":"IFERROR(VLOOKUP($A559,'Lista de Precios_Bolívares_S'!$F:$Q,6,FALSE),\"\")","v":""},{"$f":"IFERROR(VLOOKUP($A559,'Lista de Precios_Bolívares_S'!$F:$Q,12,FALSE),\"\")","v":""},"",{"$f":"IFERROR(VLOOKUP($A559,'Lista de Precios_USD$_Euro€'!$E:$O,11,FALSE),\"\")","v":""}]
[null,null,null,{"$f":"IFERROR(VLOOKUP($A560,'Lista de Precios_Bolívares_S'!$F:$Q,6,FALSE),\"\")","v":""},{"$f":"IFERROR(VLOOKUP($A560,'Lista de Precios_Bolívares_S'!$F:$Q,12,FALSE),\"\")","v":""},"",{"$f":"IFERROR(VLOOKUP($A560,'Lista de Precios_USD$_Euro€'!$E:$O,11,FALSE),\"\")","v":""}]
[null,null,null,{"$f":"IFERROR(VLOOKUP($A561,'Lista de Precios_Bolívares_S'!$F:$Q,6,FALSE),\"\")","v":""},{"$f":"IFERROR(VLOOKUP($A561,'Lista de Precios_Bolívares_S'!$F:$Q,12,FALSE),\"\")","v":""},"",{"$f":"IFERROR(VLOOKUP($A561,'Lista de Precios_USD$_Euro€'!$E:$O,11,FALSE),\"\")","v":""}]
[null,null,null,{"$f":"IFERROR(VLOOKUP($A562,'Lista de Precios_Bolívares_S'!$F:$Q,6,FALSE),\"\")","v":""},{"$f":"IFERROR(VLOOKUP($A562,'Lista de Precios_Bolívares_S'!$F:$Q,12,FALSE),\"\")","v":""},"",{"$f":"IFERROR(VLOOKUP($A562,'Lista de Precios_USD$_Euro€'!$E:$O,11,FALSE),\"\")","v":""}]
[null,null,null,{"$f":"IFERROR(VLOOKUP($A563,'Lista de Precios_Bolívares_S'!$F:$Q,6,FALSE),\"\")","v":""},{"$f":"IFERROR(VLOOKUP($A563,'Lista de Precios_Bolívares_S'!$F:$Q,12,FALSE),\"\")","v":""},"",{"$f":"IFERROR(VLOOKUP($A563,'Lista de Precios_USD$_Euro€'!$E:$O,11,FALSE),\"\")","v":""}]
[null,null,null,{"$f":"IFERROR(VLOOKUP($A564,'Lista de Precios_Bolívares_S'!$F:$Q,6,FALSE),\"\")","v":""},{"$f":"IFERROR(VLOOKUP($A564,'Lista de Precios_Bolívares_S'!$F:$Q,12,FALSE),\"\")","v":""},"",{"$f":"IFERROR(VLOOKUP($A564,'Lista de Precios_USD$_Euro€'!$E:$O,11,FALSE),\"\")","v":""}]
[null,null,null,{"$f":"IFERROR(VLOOKUP($A565,'Lista de Precios_Bolívares_S'!$F:$Q,6,FALSE),\"\")","v":""},{"$f":"IFERROR(VLOOKUP($A565,'Lista de Precios_Bolívares_S'!$F:$Q,12,FALSE),\"\")","v":""},"",{"$f":"IFERROR(VLOOKUP($A565,'Lista de Precios_USD$_Euro€'!$E:$O,11,FALSE),\"\")","v":""}]
[null,null,null,{"$f":"IFERROR(VLOOKUP($A566,'Lista de Precios_Bolívares_S'!$F:$Q,6,FALSE),\"\")","v":""},{"$f":"IFERROR(VLOOKUP($A566,'Lista de Precios_Bolívares_S'!$F:$Q,12,FALSE),\"\")","v":""},"",{"$f":"IFERROR(VLOOKUP($A566,'Lista de Precios_USD$_Euro€'!$E:$O,11,FALSE),\"\")","v":""}]
[null,null,null,{"$f":"IFERROR(VLOOKUP($A567,'Lista de Precios_Bolívares_S'!$F:$Q,6,FALSE),\"\")","v":""},{"$f":"IFERROR(VLOOKUP($A567,'Lista de Precios_Bolívares_S'!$F:$Q,12,FALSE),\"\")","v":""},"",{"$f":"IFERROR(VLOOKUP($A567,'Lista de Precios_USD$_Euro€'!$E:$O,11,FALSE),\"\")","v":""}]
[null,null,null,{"$f":"IFERROR(VLOOKUP($A568,'Lista de Precios_Bolívares_S'!$F:$Q,6,FALSE),\"\")","v":""},{"$f":"IFERROR(VLOOKUP($A568,'Lista de Precios_Bolívares_S'!$F:$Q,12,FALSE),\"\")","v":""},"",{"$f":"IFERROR(VLOOKUP($A568,'Lista de Precios_USD$_Euro€'!$E:$O,11,FALSE),\"\")","v":""}]
[null,null,null,{"$f":"IFERROR(VLOOKUP($A569,'Lista de Precios_Bolívares_S'!$F:$Q,6,FALSE),\"\")","v":""},{"$f":"IFERROR(VLOOKUP($A569,'Lista de Precios_Bolívares_S'!$F:$Q,12,FALSE),\"\")","v":""},"",{"$f":"IFERROR(VLOOKUP($A569,'Lista de Precios_USD$_Euro€'!$E:$O,11,FALSE),\"\")","v":""}]
[null,null,null,{"$f":"IFERROR(VLOOKUP($A570,'Lista de Precios_Bolívares_S'!$F:$Q,6,FALSE),\"\")","v":""},{"$f":"IFERROR(VLOOKUP($A570,'Lista de Precios_Bolívares_S'!$F:$Q,12,FALSE),\"\")","v":""},"",{"$f":"IFERROR(VLOOKUP($A570,'Lista de Precios_USD$_Euro€'!$E:$O,11,FALSE),\"\")","v":""}]
[null,null,null,{"$f":"IFERROR(VLOOKUP($A571,'Lista de Precios_Bolívares_S'!$F:$Q,6,FALSE),\"\")","v":""},{"$f":"IFERROR(VLOOKUP($A571,'Lista de Precios_Bolívares_S'!$F:$Q,12,FALSE),\"\")","v":""},"",{"$f":"IFERROR(VLOOKUP($A571,'Lista de Precios_USD$_Euro€'!$E:$O,11,FALSE),\"\")","v":""}]
[null,null,null,{"$f":"IFERROR(VLOOKUP($A572,'Lista de Precios_Bolívares_S'!$F:$Q,6,FALSE),\"\")","v":""},{"$f":"IFERROR(VLOOKUP($A572,'Lista de Precios_Bolívares_S'!$F:$Q,12,FALSE),\"\")","v":""},"",{"$f":"IFERROR(VLOOKUP($A572,'Lista de Precios_USD$_Euro€'!$E:$O,11,FALSE),\"\")","v":""}]
[null,null,null,{"$f":"IFERROR(VLOOKUP($A573,'Lista de Precios_Bolívares_S'!$F:$Q,6,FALSE),\"\")","v":""},{"$f":"IFERROR(VLOOKUP($A573,'Lista de Precios_Bolívares_S'!$F:$Q,12,FALSE),\"\")","v":""},"",{"$f":"IFERROR(VLOOKUP($A573,'Lista de Precios_USD$_Euro€'!$E:$O,11,FALSE),\"\")","v":""}]
[null,null,null,{"$f":"IFERROR(VLOOKUP($A574,'Lista de Precios_Bolívares_S'!$F:$Q,6,FALSE),\"\")","v":""},{"$f":"IFERROR(VLOOKUP($A574,'Lista de Precios_Bolívares_S'!$F:$Q,12,FALSE),\"\")","v":""},"",{"$f":"IFERROR(VLOOKUP($A574,'Lista de Precios_USD$_Euro€'!$E:$O,11,FALSE),\"\")","v":""}]
[null,null,null,{"$f":"IFERROR(VLOOKUP($A575,'Lista de Precios_Bolívares_S'!$F:$Q,6,FALSE),\"\")","v":""},{"$f":"IFERROR(VLOOKUP($A575,'Lista de Precios_Bolívares_S'!$F:$Q,12,FALSE),\"\")","v":""},"",{"$f":"IFERROR(VLOOKUP($A575,'Lista de Precios_USD$_Euro€'!$E:$O,11,FALSE),\"\")","v":""}]
[null,null,null,{"$f":"IFERROR(VLOOKUP($A576,'Lista de Precios_Bolívares_S'!$F:$Q,6,FALSE),\"\")","v":""},{"$f":"IFERROR(VLOOKUP($A576,'Lista de Precios_Bolívares_S'!$F:$Q,12,FALSE),\"\")","v":""},"",{"$f":"IFERROR(VLOOKUP($A576,'Lista de Precios_USD$_Euro€'!$E:$O,11,FALSE),\"\")","v":""}]
[null,null,null,{"$f":"IFERROR(VLOOKUP($A577,'Lista de Precios_Bolívares_S'!$F:$Q,6,FALSE),\"\")","v":""},{"$f":"IFERROR(VLOOKUP($A577,'Lista de Precios_Bolívares_S'!$F:$Q,12,FALSE),\"\")","v":""},"",{"$f":"IFERROR(VLOOKUP($A577,'Lista de Precios_USD$_Euro€'!$E:$O,11,FALSE),\"\")","v":""}]
[null,null,null,{"$f":"IFERROR(VLOOKUP($A578,'Lista de Precios_Bolívares_S'!$F:$Q,6,FALSE),\"\")","v":""},{"$f":"IFERROR(VLOOKUP($A578,'Lista de Precios_Bolívares_S'!$F:$Q,12,FALSE),\"\")","v":""},"",{"$f":"IFERROR(VLOOKUP($A578,'Lista de Precios_USD$_Euro€'!$E:$O,11,FALSE),\"\")","v":""}]
[null,null,null,{"$f":"IFERROR(VLOOKUP($A579,'Lista de Precios_Bolívares_S'!$F:$Q,6,FALSE),\"\")","v":""},{"$f":"IFERROR(VLOOKUP($A579,'Lista de Precios_Bolívares_S'!$F:$Q,12,FALSE),\"\")","v":""},"",{"$f":"IFERROR(VLOOKUP($A579,'Lista de Precios_USD$_Euro€'!$E:$O,11,FALSE),\"\")","v":""}]
[null,null,null,{"$f":"IFERROR(VLOOKUP($A580,'Lista de Precios_Bolívares_S'!$F:$Q,6,FALSE),\"\")","v":""},{"$f":"IFERROR(VLOOKUP($A580,'Lista de Precios_Bolívares_S'!$F:$Q,12,FALSE),\"\")","v":""},"",{"$f":"IFERROR(VLOOKUP($A580,'Lista de Precios_USD$_Euro€'!$E:$O,11,FALSE),\"\")","v":""}]
[null,null,null,{"$f":"IFERROR(VLOOKUP($A581,'Lista de Precios_Bolívares_S'!$F:$Q,6,FALSE),\"\")","v":""},{"$f":"IFERROR(VLOOKUP($A581,'Lista de Precios_Bolívares_S'!$F:$Q,12,FALSE),\"\")","v":""},"",{"$f":"IFERROR(VLOOKUP($A581,'Lista de Precios_USD$_Euro€'!$E:$O,11,FALSE),\"\")","v":""}]
[null,null,null,{"$f":"IFERROR(VLOOKUP($A582,'Lista de Precios_Bolívares_S'!$F:$Q,6,FALSE),\"\")","v":""},{"$f":"IFERROR(VLOOKUP($A582,'Lista de Precios_Bolívares_S'!$F:$Q,12,FALSE),\"\")","v":""},"",{"$f":"IFERROR(VLOOKUP($A582,'Lista de Precios_USD$_Euro€'!$E:$O,11,FALSE),\"\")","v":""}]
[null,null,null,{"$f":"IFERROR(VLOOKUP($A583,'Lista de Precios_Bolívares_S'!$F:$Q,6,FALSE),\"\")","v":""},{"$f":"IFERROR(VLOOKUP($A583,'Lista de Precios_Bolívares_S'!$F:$Q,12,FALSE),\"\")","v":""},"",{"$f":"IFERROR(VLOOKUP($A583,'Lista de Precios_USD$_Euro€'!$E:$O,11,FALSE),\"\")","v":""}]
[null,null,null,{"$f":"IFERROR(VLOOKUP($A584,'Lista de Precios_Bolívares_S'!$F:$Q,6,FALSE),\"\")","v":""},{"$f":"IFERROR(VLOOKUP($A584,'Lista de Precios_Bolívares_S'!$F:$Q,12,FALSE),\"\")","v":""},"",{"$f":"IFERROR(VLOOKUP($A584,'Lista de Precios_USD$_Euro€'!$E:$O,11,FALSE),\"\")","v":""}]
[null,null,null,{"$f":"IFERROR(VLOOKUP($A585,'Lista de Precios_Bolívares_S'!$F:$Q,6,FALSE),\"\")","v":""},{"$f":"IFERROR(VLOOKUP($A585,'Lista de Precios_Bolívares_S'!$F:$Q,12,FALSE),\"\")","v":""},"",{"$f":"IFERROR(VLOOKUP($A585,'Lista de Precios_USD$_Euro€'!$E:$O,11,FALSE),\"\")","v":""}]
[null,null,null,{"$f":"IFERROR(VLOOKUP($A586,'Lista de Precios_Bolívares_S'!$F:$Q,6,FALSE),\"\")","v":""},{"$f":"IFERROR(VLOOKUP($A586,'Lista de Precios_Bolívares_S'!$F:$Q,12,FALSE),\"\")","v":""},"",{"$f":"IFERROR(VLOOKUP($A586,'Lista de Precios_USD$_Euro€'!$E:$O,11,FALSE),\"\")","v":""}]
[null,null,null,{"$f":"IFERROR(VLOOKUP($A587,'Lista de Precios_Bolívares_S'!$F:$Q,6,FALSE),\"\")","v":""},{"$f":"IFERROR(VLOOKUP($A587,'Lista de Precios_Bolívares_S'!$F:$Q,12,FALSE),\"\")","v":""},"",{"$f":"IFERROR(VLOOKUP($A587,'Lista de Precios_USD$_Euro€'!$E:$O,11,FALSE),\"\")","v":""}]
[null,null,null,{"$f":"IFERROR(VLOOKUP($A588,'Lista de Precios_Bolívares_S'!$F:$Q,6,FALSE),\"\")","v":""},{"$f":"IFERROR(VLOOKUP($A588,'Lista de Precios_Bolívares_S'!$F:$Q,12,FALSE),\"\")","v":""},"",{"$f":"IFERROR(VLOOKUP($A588,'Lista de Precios_USD$_Euro€'!$E:$O,11,FALSE),\"\")","v":""}]
[null,null,null,{"$f":"IFERROR(VLOOKUP($A589,'Lista de Precios_Bolívares_S'!$F:$Q,6,FALSE),\"\")","v":""},{"$f":"IFERROR(VLOOKUP($A589,'Lista de Precios_Bolívares_S'!$F:$Q,12,FALSE),\"\")","v":""},"",{"$f":"IFERROR(VLOOKUP($A589,'Lista de Precios_USD$_Euro€'!$E:$O,11,FALSE),\"\")","v":""}]
[null,null,null,{"$f":"IFERROR(VLOOKUP($A590,'Lista de Precios_Bolívares_S'!$F:$Q,6,FALSE),\"\")","v":""},{"$f":"IFERROR(VLOOKUP($A590,'Lista de Precios_Bolívares_S'!$F:$Q,12,FALSE),\"\")","v":""},"",{"$f":"IFERROR(VLOOKUP($A590,'Lista de Precios_USD$_Euro€'!$E:$O,11,FALSE),\"\")","v":""}]
[null,null,null,{"$f":"IFERROR(VLOOKUP($A591,'Lista de Precios_Bolívares_S'!$F:$Q,6,FALSE),\"\")","v":""},{"$f":"IFERROR(VLOOKUP($A591,'Lista de Precios_Bolívares_S'!$F:$Q,12,FALSE),\"\")","v":""},"",{"$f":"IFERROR(VLOOKUP($A591,'Lista de Precios_USD$_Euro€'!$E:$O,11,FALSE),\"\")","v":""}]
[null,null,null,{"$f":"IFERROR(VLOOKUP($A592,'Lista de Precios_Bolívares_S'!$F:$Q,6,FALSE),\"\")","v":""},{"$f":"IFERROR(VLOOKUP($A592,'Lista de Precios_Bolívares_S'!$F:$Q,12,FALSE),\"\")","v":""},"",{"$f":"IFERROR(VLOOKUP($A592,'Lista de Precios_USD$_Euro€'!$E:$O,11,FALSE),\"\")","v":""}]
[null,null,null,{"$f":"IFERROR(VLOOKUP($A593,'Lista de Precios_Bolívares_S'!$F:$Q,6,FALSE),\"\")","v":""},{"$f":"IFERROR(VLOOKUP($A593,'Lista de Precios_Bolívares_S'!$F:$Q,12,FALSE),\"\")","v":""},"",{"$f":"IFERROR(VLOOKUP($A593,'Lista de Precios_USD$_Euro€'!$E:$O,11,FALSE),\"\")","v":""}]
[null,null,null,{"$f":"IFERROR(VLOOKUP($A594,'Lista de Precios_Bolívares_S'!$F:$Q,6,FALSE),\"\")","v":""},{"$f":"IFERROR(VLOOKUP($A594,'Lista de Precios_Bolívares_S'!$F:$Q,12,FALSE),\"\")","v":""},"",{"$f":"IFERROR(VLOOKUP($A594,'Lista de Precios_USD$_Euro€'!$E:$O,11,FALSE),\"\")","v":""}]
[null,null,null,{"$f":"IFERROR(VLOOKUP($A595,'Lista de Precios_Bolívares_S'!$F:$Q,6,FALSE),\"\")","v":""},{"$f":"IFERROR(VLOOKUP($A595,'Lista de Precios_Bolívares_S'!$F:$Q,12,FALSE),\"\")","v":""},"",{"$f":"IFERROR(VLOOKUP($A595,'Lista de Precios_USD$_Euro€'!$E:$O,11,FALSE),\"\")","v":""}]
[null,null,null,{"$f":"IFERROR(VLOOKUP($A596,'Lista de Precios_Bolívares_S'!$F:$Q,6,FALSE),\"\")","v":""},{"$f":"IFERROR(VLOOKUP($A596,'Lista de Precios_Bolívares_S'!$F:$Q,12,FALSE),\"\")","v":""},"",{"$f":"IFERROR(VLOOKUP($A596,'Lista de Precios_USD$_Euro€'!$E:$O,11,FALSE),\"\")","v":""}]
[null,null,null,{"$f":"IFERROR(VLOOKUP($A597,'Lista de Precios_Bolívares_S'!$F:$Q,6,FALSE),\"\")","v":""},{"$f":"IFERROR(VLOOKUP($A597,'Lista de Precios_Bolívares_S'!$F:$Q,12,FALSE),\"\")","v":""},"",{"$f":"IFERROR(VLOOKUP($A597,'Lista de Precios_USD$_Euro€'!$E:$O,11,FALSE),\"\")","v":""}]
[null,null,null,{"$f":"IFERROR(VLOOKUP($A598,'Lista de Precios_Bolívares_S'!$F:$Q,6,FALSE),\"\")","v":""},{"$f":"IFERROR(VLOOKUP($A598,'Lista de Precios_Bolívares_S'!$F:$Q,12,FALSE),\"\")","v":""},"",{"$f":"IFERROR(VLOOKUP($A598,'Lista de Precios_USD$_Euro€'!$E:$O,11,FALSE),\"\")","v":""}]
[null,null,null,{"$f":"IFERROR(VLOOKUP($A599,'Lista de Precios_Bolívares_S'!$F:$Q,6,FALSE),\"\")","v":""},{"$f":"IFERROR(VLOOKUP($A599,'Lista de Precios_Bolívares_S'!$F:$Q,12,FALSE),\"\")","v":""},"",{"$f":"IFERROR(VLOOKUP($A599,'Lista de Precios_USD$_Euro€'!$E:$O,11,FALSE),\"\")","v":""}]
[null,null,null,{"$f":"IFERROR(VLOOKUP($A600,'Lista de Precios_Bolívares_S'!$F:$Q,6,FALSE),\"\")","v":""},{"$f":"IFERROR(VLOOKUP($A600,'Lista de Precios_Bolívares_S'!$F:$Q,12,FALSE),\"\")","v":""},"",{"$f":"IFERROR(VLOOKUP($A600,'Lista de Precios_USD$_Euro€'!$E:$O,11,FALSE),\"\")","v":""}]
[null,null,null,{"$f":"IFERROR(VLOOKUP($A601,'Lista de Precios_Bolívares_S'!$F:$Q,6,FALSE),\"\")","v":""},{"$f":"IFERROR(VLOOKUP($A601,'Lista de Precios_Bolívares_S'!$F:$Q,12,FALSE),\"\")","v":""},{"$f":"IFERROR(IF(ROUND($C601,2)=ROUND($D576,2),ROUND($E576,2),ROUND($C601,2)),\"\")","v":""},{"$f":"IFERROR(VLOOKUP($A601,'Lista de Precios_USD$_Euro€'!$E:$O,11,FALSE),\"\")","v":""}]
[null,null,null,{"$f":"IFERROR(VLOOKUP($A602,'Lista de Precios_Bolívares_S'!$F:$Q,6,FALSE),\"\")","v":""},{"$f":"IFERROR(VLOOKUP($A602,'Lista de Precios_Bolívares_S'!$F:$Q,12,FALSE),\"\")","v":""},"",{"$f":"IFERROR(VLOOKUP($A602,'Lista de Precios_USD$_Euro€'!$E:$O,11,FALSE),\"\")","v":""}]
[null,null,null,{"$f":"IFERROR(VLOOKUP($A603,'Lista de Precios_Bolívares_S'!$F:$Q,6,FALSE),\"\")","v":""},{"$f":"IFERROR(VLOOKUP($A603,'Lista de Precios_Bolívares_S'!$F:$Q,12,FALSE),\"\")","v":""},"",{"$f":"IFERROR(VLOOKUP($A603,'Lista de Precios_USD$_Euro€'!$E:$O,11,FALSE),\"\")","v":""}]
[null,null,null,{"$f":"IFERROR(VLOOKUP($A604,'Lista de Precios_Bolívares_S'!$F:$Q,6,FALSE),\"\")","v":""},{"$f":"IFERROR(VLOOKUP($A604,'Lista de Precios_Bolívares_S'!$F:$Q,12,FALSE),\"\")","v":""},"",{"$f":"IFERROR(VLOOKUP($A604,'Lista de Precios_USD$_Euro€'!$E:$O,11,FALSE),\"\")","v":""}]
[null,null,null,{"$f":"IFERROR(VLOOKUP($A605,'Lista de Precios_Bolívares_S'!$F:$Q,6,FALSE),\"\")","v":""},{"$f":"IFERROR(VLOOKUP($A605,'Lista de Precios_Bolívares_S'!$F:$Q,12,FALSE),\"\")","v":""},"",{"$f":"IFERROR(VLOOKUP($A605,'Lista de Precios_USD$_Euro€'!$E:$O,11,FALSE),\"\")","v":""}]
[null,null,null,{"$f":"IFERROR(VLOOKUP($A606,'Lista de Precios_Bolívares_S'!$F:$Q,6,FALSE),\"\")","v":""},{"$f":"IFERROR(VLOOKUP($A606,'Lista de Precios_Bolívares_S'!$F:$Q,12,FALSE),\"\")","v":""},"",{"$f":"IFERROR(VLOOKUP($A606,'Lista de Precios_USD$_Euro€'!$E:$O,11,FALSE),\"\")","v":""}]
[null,null,null,{"$f":"IFERROR(VLOOKUP($A607,'Lista de Precios_Bolívares_S'!$F:$Q,6,FALSE),\"\")","v":""},{"$f":"IFERROR(VLOOKUP($A607,'Lista de Precios_Bolívares_S'!$F:$Q,12,FALSE),\"\")","v":""},"",{"$f":"IFERROR(VLOOKUP($A607,'Lista de Precios_USD$_Euro€'!$E:$O,11,FALSE),\"\")","v":""}]
[null,null,null,{"$f":"IFERROR(VLOOKUP($A608,'Lista de Precios_Bolívares_S'!$F:$Q,6,FALSE),\"\")","v":""},{"$f":"IFERROR(VLOOKUP($A608,'Lista de Precios_Bolívares_S'!$F:$Q,12,FALSE),\"\")","v":""},"",{"$f":"IFERROR(VLOOKUP($A608,'Lista de Precios_USD$_Euro€'!$E:$O,11,FALSE),\"\")","v":""}]
[null,null,null,{"$f":"IFERROR(VLOOKUP($A609,'Lista de Precios_Bolívares_S'!$F:$Q,6,FALSE),\"\")","v":""},{"$f":"IFERROR(VLOOKUP($A609,'Lista de Precios_Bolívares_S'!$F:$Q,12,FALSE),\"\")","v":""},"",{"$f":"IFERROR(VLOOKUP($A609,'Lista de Precios_USD$_Euro€'!$E:$O,11,FALSE),\"\")","v":""}]
[null,null,null,{"$f":"IFERROR(VLOOKUP($A610,'Lista de Precios_Bolívares_S'!$F:$Q,6,FALSE),\"\")","v":""},{"$f":"IFERROR(VLOOKUP($A610,'Lista de Precios_Bolívares_S'!$F:$Q,12,FALSE),\"\")","v":""},"",{"$f":"IFERROR(VLOOKUP($A610,'Lista de Precios_USD$_Euro€'!$E:$O,11,FALSE),\"\")","v":""}]
[null,null,null,{"$f":"IFERROR(VLOOKUP($A611,'Lista de Precios_Bolívares_S'!$F:$Q,6,FALSE),\"\")","v":""},{"$f":"IFERROR(VLOOKUP($A611,'Lista de Precios_Bolívares_S'!$F:$Q,12,FALSE),\"\")","v":""},"",{"$f":"IFERROR(VLOOKUP($A611,'Lista de Precios_USD$_Euro€'!$E:$O,11,FALSE),\"\")","v":""}]
[null,null,null,{"$f":"IFERROR(VLOOKUP($A612,'Lista de Precios_Bolívares_S'!$F:$Q,6,FALSE),\"\")","v":""},{"$f":"IFERROR(VLOOKUP($A612,'Lista de Precios_Bolívares_S'!$F:$Q,12,FALSE),\"\")","v":""},"",{"$f":"IFERROR(VLOOKUP($A612,'Lista de Precios_USD$_Euro€'!$E:$O,11,FALSE),\"\")","v":""}]
[null,null,null,{"$f":"IFERROR(VLOOKUP($A613,'Lista de Precios_Bolívares_S'!$F:$Q,6,FALSE),\"\")","v":""},{"$f":"IFERROR(VLOOKUP($A613,'Lista de Precios_Bolívares_S'!$F:$Q,12,FALSE),\"\")","v":""},"",{"$f":"IFERROR(VLOOKUP($A613,'Lista de Precios_USD$_Euro€'!$E:$O,11,FALSE),\"\")","v":""}]
[null,null,null,{"$f":"IFERROR(VLOOKUP($A614,'Lista de Precios_Bolívares_S'!$F:$Q,6,FALSE),\"\")","v":""},{"$f":"IFERROR(VLOOKUP($A614,'Lista de Precios_Bolívares_S'!$F:$Q,12,FALSE),\"\")","v":""},"",{"$f":"IFERROR(VLOOKUP($A614,'Lista de Precios_USD$_Euro€'!$E:$O,11,FALSE),\"\")","v":""}]
[null,null,null,{"$f":"IFERROR(VLOOKUP($A615,'Lista de Precios_Bolívares_S'!$F:$Q,6,FALSE),\"\")","v":""},{"$f":"IFERROR(VLOOKUP($A615,'Lista de Precios_Bolívares_S'!$F:$Q,12,FALSE),\"\")","v":""},"",{"$f":"IFERROR(VLOOKUP($A615,'Lista de Precios_USD$_Euro€'!$E:$O,11,FALSE),\"\")","v":""}]
[null,null,null,{"$f":"IFERROR(VLOOKUP($A616,'Lista de Precios_Bolívares_S'!$F:$Q,6,FALSE),\"\")","v":""},{"$f":"IFERROR(VLOOKUP($A616,'Lista de Precios_Bolívares_S'!$F:$Q,12,FALSE),\"\")","v":""},"",{"$f":"IFERROR(VLOOKUP($A616,'Lista de Precios_USD$_Euro€'!$E:$O,11,FALSE),\"\")","v":""}]
[null,null,null,{"$f":"IFERROR(VLOOKUP($A617,'Lista de Precios_Bolívares_S'!$F:$Q,6,FALSE),\"\")","v":""},{"$f":"IFERROR(VLOOKUP($A617,'Lista de Precios_Bolívares_S'!$F:$Q,12,FALSE),\"\")","v":""},"",{"$f":"IFERROR(VLOOKUP($A617,'Lista de Precios_USD$_Euro€'!$E:$O,11,FALSE),\"\")","v":""}]
[null,null,null,{"$f":"IFERROR(VLOOKUP($A618,'Lista de Precios_Bolívares_S'!$F:$Q,6,FALSE),\"\")","v":""},{"$f":"IFERROR(VLOOKUP($A618,'Lista de Precios_Bolívares_S'!$F:$Q,12,FALSE),\"\")","v":""},"",{"$f":"IFERROR(VLOOKUP($A618,'Lista de Precios_USD$_Euro€'!$E:$O,11,FALSE),\"\")","v":""}]
[null,null,null,{"$f":"IFERROR(VLOOKUP($A619,'Lista de Precios_Bolívares_S'!$F:$Q,6,FALSE),\"\")","v":""},{"$f":"IFERROR(VLOOKUP($A619,'Lista de Precios_Bolívares_S'!$F:$Q,12,FALSE),\"\")","v":""},"",{"$f":"IFERROR(VLOOKUP($A619,'Lista de Precios_USD$_Euro€'!$E:$O,11,FALSE),\"\")","v":""}]
[null,null,null,{"$f":"IFERROR(VLOOKUP($A620,'Lista de Precios_Bolívares_S'!$F:$Q,6,FALSE),\"\")","v":""},{"$f":"IFERROR(VLOOKUP($A620,'Lista de Precios_Bolívares_S'!$F:$Q,12,FALSE),\"\")","v":""},"",{"$f":"IFERROR(VLOOKUP($A620,'Lista de Precios_USD$_Euro€'!$E:$O,11,FALSE),\"\")","v":""}]
[null,null,null,{"$f":"IFERROR(VLOOKUP($A621,'Lista de Precios_Bolívares_S'!$F:$Q,6,FALSE),\"\")","v":""},{"$f":"IFERROR(VLOOKUP($A621,'Lista de Precios_Bolívares_S'!$F:$Q,12,FALSE),\"\")","v":""},"",{"$f":"IFERROR(VLOOKUP($A621,'Lista de Precios_USD$_Euro€'!$E:$O,11,FALSE),\"\")","v":""}]
[null,null,null,{"$f":"IFERROR(VLOOKUP($A622,'Lista de Precios_Bolívares_S'!$F:$Q,6,FALSE),\"\")","v":""},{"$f":"IFERROR(VLOOKUP($A622,'Lista de Precios_Bolívares_S'!$F:$Q,12,FALSE),\"\")","v":""},"",{"$f":"IFERROR(VLOOKUP($A622,'Lista de Precios_USD$_Euro€'!$E:$O,11,FALSE),\"\")","v":""}]
[null,null,null,{"$f":"IFERROR(VLOOKUP($A623,'Lista de Precios_Bolívares_S'!$F:$Q,6,FALSE),\"\")","v":""},{"$f":"IFERROR(VLOOKUP($A623,'Lista de Precios_Bolívares_S'!$F:$Q,12,FALSE),\"\")","v":""},"",{"$f":"IFERROR(VLOOKUP($A623,'Lista de Precios_USD$_Euro€'!$E:$O,11,FALSE),\"\")","v":""}]
[null,null,null,{"$f":"IFERROR(VLOOKUP($A624,'Lista de Precios_Bolívares_S'!$F:$Q,6,FALSE),\"\")","v":""},{"$f":"IFERROR(VLOOKUP($A624,'Lista de Precios_Bolívares_S'!$F:$Q,12,FALSE),\"\")","v":""},"",{"$f":"IFERROR(VLOOKUP($A624,'Lista de Precios_USD$_Euro€'!$E:$O,11,FALSE),\"\")","v":""}]
[null,null,null,{"$f":"IFERROR(VLOOKUP($A625,'Lista de Precios_Bolívares_S'!$F:$Q,6,FALSE),\"\")","v":""},{"$f":"IFERROR(VLOOKUP($A625,'Lista de Precios_Bolívares_S'!$F:$Q,12,FALSE),\"\")","v":""},"",{"$f":"IFERROR(VLOOKUP($A625,'Lista de Precios_USD$_Euro€'!$E:$O,11,FALSE),\"\")","v":""}]
[null,null,null,{"$f":"IFERROR(VLOOKUP($A626,'Lista de Precios_Bolívares_S'!$F:$Q,6,FALSE),\"\")","v":""},{"$f":"IFERROR(VLOOKUP($A626,'Lista de Precios_Bolívares_S'!$F:$Q,12,FALSE),\"\")","v":""},"",{"$f":"IFERROR(VLOOKUP($A626,'Lista de Precios_USD$_Euro€'!$E:$O,11,FALSE),\"\")","v":""}]
[null,null,null,{"$f":"IFERROR(VLOOKUP($A627,'Lista de Precios_Bolívares_S'!$F:$Q,6,FALSE),\"\")","v":""},{"$f":"IFERROR(VLOOKUP($A627,'Lista de Precios_Bolívares_S'!$F:$Q,12,FALSE),\"\")","v":""},"",{"$f":"IFERROR(VLOOKUP($A627,'Lista de Precios_USD$_Euro€'!$E:$O,11,FALSE),\"\")","v":""}]
[null,null,null,{"$f":"IFERROR(VLOOKUP($A628,'Lista de Precios_Bolívares_S'!$F:$Q,6,FALSE),\"\")","v":""},{"$f":"IFERROR(VLOOKUP($A628,'Lista de Precios_Bolívares_S'!$F:$Q,12,FALSE),\"\")","v":""},"",{"$f":"IFERROR(VLOOKUP($A628,'Lista de Precios_USD$_Euro€'!$E:$O,11,FALSE),\"\")","v":""}]
[null,null,null,{"$f":"IFERROR(VLOOKUP($A629,'Lista de Precios_Bolívares_S'!$F:$Q,6,FALSE),\"\")","v":""},{"$f":"IFERROR(VLOOKUP($A629,'Lista de Precios_Bolívares_S'!$F:$Q,12,FALSE),\"\")","v":""},"",{"$f":"IFERROR(VLOOKUP($A629,'Lista de Precios_USD$_Euro€'!$E:$O,11,FALSE),\"\")","v":""}]
[null,null,null,{"$f":"IFERROR(VLOOKUP($A630,'Lista de Precios_Bolívares_S'!$F:$Q,6,FALSE),\"\")","v":""},{"$f":"IFERROR(VLOOKUP($A630,'Lista de Precios_Bolívares_S'!$F:$Q,12,FALSE),\"\")","v":""},"",{"$f":"IFERROR(VLOOKUP($A630,'Lista de Precios_USD$_Euro€'!$E:$O,11,FALSE),\"\")","v":""}]
[null,null,null,{"$f":"IFERROR(VLOOKUP($A631,'Lista de Precios_Bolívares_S'!$F:$Q,6,FALSE),\"\")","v":""},{"$f":"IFERROR(VLOOKUP($A631,'Lista de Precios_Bolívares_S'!$F:$Q,12,FALSE),\"\")","v":""},"",{"$f":"IFERROR(VLOOKUP($A631,'Lista de Precios_USD$_Euro€'!$E:$O,11,FALSE),\"\")","v":""}]
[null,null,null,{"$f":"IFERROR(VLOOKUP($A632,'Lista de Precios_Bolívares_S'!$F:$Q,6,FALSE),\"\")","v":""},{"$f":"IFERROR(VLOOKUP($A632,'Lista de Precios_Bolívares_S'!$F:$Q,12,FALSE),\"\")","v":""},"",{"$f":"IFERROR(VLOOKUP($A632,'Lista de Precios_USD$_Euro€'!$E:$O,11,FALSE),\"\")","v":""}]
[null,null,null,{"$f":"IFERROR(VLOOKUP($A633,'Lista de Precios_Bolívares_S'!$F:$Q,6,FALSE),\"\")","v":""},{"$f":"IFERROR(VLOOKUP($A633,'Lista de Precios_Bolívares_S'!$F:$Q,12,FALSE),\"\")","v":""},"",{"$f":"IFERROR(VLOOKUP($A633,'Lista de Precios_USD$_Euro€'!$E:$O,11,FALSE),\"\")","v":""}]
[null,null,null,{"$f":"IFERROR(VLOOKUP($A634,'Lista de Precios_Bolívares_S'!$F:$Q,6,FALSE),\"\")","v":""},{"$f":"IFERROR(VLOOKUP($A634,'Lista de Precios_Bolívares_S'!$F:$Q,12,FALSE),\"\")","v":""},"",{"$f":"IFERROR(VLOOKUP($A634,'Lista de Precios_USD$_Euro€'!$E:$O,11,FALSE),\"\")","v":""}]
[null,null,null,{"$f":"IFERROR(VLOOKUP($A635,'Lista de Precios_Bolívares_S'!$F:$Q,6,FALSE),\"\")","v":""},{"$f":"IFERROR(VLOOKUP($A635,'Lista de Precios_Bolívares_S'!$F:$Q,12,FALSE),\"\")","v":""},"",{"$f":"IFERROR(VLOOKUP($A635,'Lista de Precios_USD$_Euro€'!$E:$O,11,FALSE),\"\")","v":""}]
[null,null,null,{"$f":"IFERROR(VLOOKUP($A636,'Lista de Precios_Bolívares_S'!$F:$Q,6,FALSE),\"\")","v":""},{"$f":"IFERROR(VLOOKUP($A636,'Lista de Precios_Bolívares_S'!$F:$Q,12,FALSE),\"\")","v":""},"",{"$f":"IFERROR(VLOOKUP($A636,'Lista de Precios_USD$_Euro€'!$E:$O,11,FALSE),\"\")","v":""}]
[null,null,null,{"$f":"IFERROR(VLOOKUP($A637,'Lista de Precios_Bolívares_S'!$F:$Q,6,FALSE),\"\")","v":""},{"$f":"IFERROR(VLOOKUP($A637,'Lista de Precios_Bolívares_S'!$F:$Q,12,FALSE),\"\")","v":""},"",{"$f":"IFERROR(VLOOKUP($A637,'Lista de Precios_USD$_Euro€'!$E:$O,11,FALSE),\"\")","v":""}]
[null,null,null,{"$f":"IFERROR(VLOOKUP($A638,'Lista de Precios_Bolívares_S'!$F:$Q,6,FALSE),\"\")","v":""},{"$f":"IFERROR(VLOOKUP($A638,'Lista de Precios_Bolívares_S'!$F:$Q,12,FALSE),\"\")","v":""},"",{"$f":"IFERROR(VLOOKUP($A638,'Lista de Precios_USD$_Euro€'!$E:$O,11,FALSE),\"\")","v":""}]
[null,null,null,{"$f":"IFERROR(VLOOKUP($A639,'Lista de Precios_Bolívares_S'!$F:$Q,6,FALSE),\"\")","v":""},{"$f":"IFERROR(VLOOKUP($A639,'Lista de Precios_Bolívares_S'!$F:$Q,12,FALSE),\"\")","v":""},"",{"$f":"IFERROR(VLOOKUP($A639,'Lista de Precios_USD$_Euro€'!$E:$O,11,FALSE),\"\")","v":""}]
[null,null,null,{"$f":"IFERROR(VLOOKUP($A640,'Lista de Precios_Bolívares_S'!$F:$Q,6,FALSE),\"\")","v":""},{"$f":"IFERROR(VLOOKUP($A640,'Lista de Precios_Bolívares_S'!$F:$Q,12,FALSE),\"\")","v":""},"",{"$f":"IFERROR(VLOOKUP($A640,'Lista de Precios_USD$_Euro€'!$E:$O,11,FALSE),\"\")","v":""}]
[null,null,null,{"$f":"IFERROR(VLOOKUP($A641,'Lista de Precios_Bolívares_S'!$F:$Q,6,FALSE),\"\")","v":""},{"$f":"IFERROR(VLOOKUP($A641,'Lista de Precios_Bolívares_S'!$F:$Q,12,FALSE),\"\")","v":""},"",{"$f":"IFERROR(VLOOKUP($A641,'Lista de Precios_USD$_Euro€'!$E:$O,11,FALSE),\"\")","v":""}]
[null,null,null,{"$f":"IFERROR(VLOOKUP($A642,'Lista de Precios_Bolívares_S'!$F:$Q,6,FALSE),\"\")","v":""},{"$f":"IFERROR(VLOOKUP($A642,'Lista de Precios_Bolívares_S'!$F:$Q,12,FALSE),\"\")","v":""},"",{"$f":"IFERROR(VLOOKUP($A642,'Lista de Precios_USD$_Euro€'!$E:$O,11,FALSE),\"\")","v":""}]
[null,null,null,{"$f":"IFERROR(VLOOKUP($A643,'Lista de Precios_Bolívares_S'!$F:$Q,6,FALSE),\"\")","v":""},{"$f":"IFERROR(VLOOKUP($A643,'Lista de Precios_Bolívares_S'!$F:$Q,12,FALSE),\"\")","v":""},"",{"$f":"IFERROR(VLOOKUP($A643,'Lista de Precios_USD$_Euro€'!$E:$O,11,FALSE),\"\")","v":""}]
[null,null,null,{"$f":"IFERROR(VLOOKUP($A644,'Lista de Precios_Bolívares_S'!$F:$Q,6,FALSE),\"\")","v":""},{"$f":"IFERROR(VLOOKUP($A644,'Lista de Precios_Bolívares_S'!$F:$Q,12,FALSE),\"\")","v":""},"",{"$f":"IFERROR(VLOOKUP($A644,'Lista de Precios_USD$_Euro€'!$E:$O,11,FALSE),\"\")","v":""}]
[null,null,null,{"$f":"IFERROR(VLOOKUP($A645,'Lista de Precios_Bolívares_S'!$F:$Q,6,FALSE),\"\")","v":""},{"$f":"IFERROR(VLOOKUP($A645,'Lista de Precios_Bolívares_S'!$F:$Q,12,FALSE),\"\")","v":""},"",{"$f":"IFERROR(VLOOKUP($A645,'Lista de Precios_USD$_Euro€'!$E:$O,11,FALSE),\"\")","v":""}]
[null,null,null,{"$f":"IFERROR(VLOOKUP($A646,'Lista de Precios_Bolívares_S'!$F:$Q,6,FALSE),\"\")","v":""},{"$f":"IFERROR(VLOOKUP($A646,'Lista de Precios_Bolívares_S'!$F:$Q,12,FALSE),\"\")","v":""},"",{"$f":"IFERROR(VLOOKUP($A646,'Lista de Precios_USD$_Euro€'!$E:$O,11,FALSE),\"\")","v":""}]
[null,null,null,{"$f":"IFERROR(VLOOKUP($A647,'Lista de Precios_Bolívares_S'!$F:$Q,6,FALSE),\"\")","v":""},{"$f":"IFERROR(VLOOKUP($A647,'Lista de Precios_Bolívares_S'!$F:$Q,12,FALSE),\"\")","v":""},"",{"$f":"IFERROR(VLOOKUP($A647,'Lista de Precios_USD$_Euro€'!$E:$O,11,FALSE),\"\")","v":""}]
[null,null,null,{"$f":"IFERROR(VLOOKUP($A648,'Lista de Precios_Bolívares_S'!$F:$Q,6,FALSE),\"\")","v":""},{"$f":"IFERROR(VLOOKUP($A648,'Lista de Precios_Bolívares_S'!$F:$Q,12,FALSE),\"\")","v":""},"",{"$f":"IFERROR(VLOOKUP($A648,'Lista de Precios_USD$_Euro€'!$E:$O,11,FALSE),\"\")","v":""}]
[null,null,null,{"$f":"IFERROR(VLOOKUP($A649,'Lista de Precios_Bolívares_S'!$F:$Q,6,FALSE),\"\")","v":""},{"$f":"IFERROR(VLOOKUP($A649,'Lista de Precios_Bolívares_S'!$F:$Q,12,FALSE),\"\")","v":""},"",{"$f":"IFERROR(VLOOKUP($A649,'Lista de Precios_USD$_Euro€'!$E:$O,11,FALSE),\"\")","v":""}]
[null,null,null,{"$f":"IFERROR(VLOOKUP($A650,'Lista de Precios_Bolívares_S'!$F:$Q,6,FALSE),\"\")","v":""},{"$f":"IFERROR(VLOOKUP($A650,'Lista de Precios_Bolívares_S'!$F:$Q,12,FALSE),\"\")","v":""},"",{"$f":"IFERROR(VLOOKUP($A650,'Lista de Precios_USD$_Euro€'!$E:$O,11,FALSE),\"\")","v":""}]
[null,null,null,{"$f":"IFERROR(VLOOKUP($A651,'Lista de Precios_Bolívares_S'!$F:$Q,6,FALSE),\"\")","v":""},{"$f":"IFERROR(VLOOKUP($A651,'Lista de Precios_Bolívares_S'!$F:$Q,12,FALSE),\"\")","v":""},"",{"$f":"IFERROR(VLOOKUP($A651,'Lista de Precios_USD$_Euro€'!$E:$O,11,FALSE),\"\")","v":""}]
[null,null,null,{"$f":"IFERROR(VLOOKUP($A652,'Lista de Precios_Bolívares_S'!$F:$Q,6,FALSE),\"\")","v":""},{"$f":"IFERROR(VLOOKUP($A652,'Lista de Precios_Bolívares_S'!$F:$Q,12,FALSE),\"\")","v":""},"",{"$f":"IFERROR(VLOOKUP($A652,'Lista de Precios_USD$_Euro€'!$E:$O,11,FALSE),\"\")","v":""}]
[null,null,null,{"$f":"IFERROR(VLOOKUP($A653,'Lista de Precios_Bolívares_S'!$F:$Q,6,FALSE),\"\")","v":""},{"$f":"IFERROR(VLOOKUP($A653,'Lista de Precios_Bolívares_S'!$F:$Q,12,FALSE),\"\")","v":""},"",{"$f":"IFERROR(VLOOKUP($A653,'Lista de Precios_USD$_Euro€'!$E:$O,11,FALSE),\"\")","v":""}]
[null,null,null,{"$f":"IFERROR(VLOOKUP($A654,'Lista de Precios_Bolívares_S'!$F:$Q,6,FALSE),\"\")","v":""},{"$f":"IFERROR(VLOOKUP($A654,'Lista de Precios_Bolívares_S'!$F:$Q,12,FALSE),\"\")","v":""},"",{"$f":"IFERROR(VLOOKUP($A654,'Lista de Precios_USD$_Euro€'!$E:$O,11,FALSE),\"\")","v":""}]
[null,null,null,{"$f":"IFERROR(VLOOKUP($A655,'Lista de Precios_Bolívares_S'!$F:$Q,6,FALSE),\"\")","v":""},{"$f":"IFERROR(VLOOKUP($A655,'Lista de Precios_Bolívares_S'!$F:$Q,12,FALSE),\"\")","v":""},"",{"$f":"IFERROR(VLOOKUP($A655,'Lista de Precios_USD$_Euro€'!$E:$O,11,FALSE),\"\")","v":""}]
[null,null,null,{"$f":"IFERROR(VLOOKUP($A656,'Lista de Precios_Bolívares_S'!$F:$Q,6,FALSE),\"\")","v":""},{"$f":"IFERROR(VLOOKUP($A656,'Lista de Precios_Bolívares_S'!$F:$Q,12,FALSE),\"\")","v":""},"",{"$f":"IFERROR(VLOOKUP($A656,'Lista de Precios_USD$_Euro€'!$E:$O,11,FALSE),\"\")","v":""}]
[null,null,null,{"$f":"IFERROR(VLOOKUP($A657,'Lista de Precios_Bolívares_S'!$F:$Q,6,FALSE),\"\")","v":""},{"$f":"IFERROR(VLOOKUP($A657,'Lista de Precios_Bolívares_S'!$F:$Q,12,FALSE),\"\")","v":""},"",{"$f":"IFERROR(VLOOKUP($A657,'Lista de Precios_USD$_Euro€'!$E:$O,11,FALSE),\"\")","v":""}]
[null,null,null,{"$f":"IFERROR(VLOOKUP($A658,'Lista de Precios_Bolívares_S'!$F:$Q,6,FALSE),\"\")","v":""},{"$f":"IFERROR(VLOOKUP($A658,'Lista de Precios_Bolívares_S'!$F:$Q,12,FALSE),\"\")","v":""},"",{"$f":"IFERROR(VLOOKUP($A658,'Lista de Precios_USD$_Euro€'!$E:$O,11,FALSE),\"\")","v":""}]
[null,null,null,{"$f":"IFERROR(VLOOKUP($A659,'Lista de Precios_Bolívares_S'!$F:$Q,6,FALSE),\"\")","v":""},{"$f":"IFERROR(VLOOKUP($A659,'Lista de Precios_Bolívares_S'!$F:$Q,12,FALSE),\"\")","v":""},"",{"$f":"IFERROR(VLOOKUP($A659,'Lista de Precios_USD$_Euro€'!$E:$O,11,FALSE),\"\")","v":""}]
[null,null,null,{"$f":"IFERROR(VLOOKUP($A660,'Lista de Precios_Bolívares_S'!$F:$Q,6,FALSE),\"\")","v":""},{"$f":"IFERROR(VLOOKUP($A660,'Lista de Precios_Bolívares_S'!$F:$Q,12,FALSE),\"\")","v":""},"",{"$f":"IFERROR(VLOOKUP($A660,'Lista de Precios_USD$_Euro€'!$E:$O,11,FALSE),\"\")","v":""}]
[null,null,null,{"$f":"IFERROR(VLOOKUP($A661,'Lista de Precios_Bolívares_S'!$F:$Q,6,FALSE),\"\")","v":""},{"$f":"IFERROR(VLOOKUP($A661,'Lista de Precios_Bolívares_S'!$F:$Q,12,FALSE),\"\")","v":""},"",{"$f":"IFERROR(VLOOKUP($A661,'Lista de Precios_USD$_Euro€'!$E:$O,11,FALSE),\"\")","v":""}]
[null,null,null,{"$f":"IFERROR(VLOOKUP($A662,'Lista de Precios_Bolívares_S'!$F:$Q,6,FALSE),\"\")","v":""},{"$f":"IFERROR(VLOOKUP($A662,'Lista de Precios_Bolívares_S'!$F:$Q,12,FALSE),\"\")","v":""},"",{"$f":"IFERROR(VLOOKUP($A662,'Lista de Precios_USD$_Euro€'!$E:$O,11,FALSE),\"\")","v":""}]
[null,null,null,{"$f":"IFERROR(VLOOKUP($A663,'Lista de Precios_Bolívares_S'!$F:$Q,6,FALSE),\"\")","v":""},{"$f":"IFERROR(VLOOKUP($A663,'Lista de Precios_Bolívares_S'!$F:$Q,12,FALSE),\"\")","v":""},"",{"$f":"IFERROR(VLOOKUP($A663,'Lista de Precios_USD$_Euro€'!$E:$O,11,FALSE),\"\")","v":""}]
[null,null,null,{"$f":"IFERROR(VLOOKUP($A664,'Lista de Precios_Bolívares_S'!$F:$Q,6,FALSE),\"\")","v":""},{"$f":"IFERROR(VLOOKUP($A664,'Lista de Precios_Bolívares_S'!$F:$Q,12,FALSE),\"\")","v":""},"",{"$f":"IFERROR(VLOOKUP($A664,'Lista de Precios_USD$_Euro€'!$E:$O,11,FALSE),\"\")","v":""}]
[null,null,null,{"$f":"IFERROR(VLOOKUP($A665,'Lista de Precios_Bolívares_S'!$F:$Q,6,FALSE),\"\")","v":""},{"$f":"IFERROR(VLOOKUP($A665,'Lista de Precios_Bolívares_S'!$F:$Q,12,FALSE),\"\")","v":""},{"$f":"IFERROR(IF(ROUND($C665,2)=ROUND($D640,2),ROUND($E640,2),ROUND($C665,2)),\"\")","v":""},{"$f":"IFERROR(VLOOKUP($A665,'Lista de Precios_USD$_Euro€'!$E:$O,11,FALSE),\"\")","v":""}]
[null,null,null,{"$f":"IFERROR(VLOOKUP($A666,'Lista de Precios_Bolívares_S'!$F:$Q,6,FALSE),\"\")","v":""},{"$f":"IFERROR(VLOOKUP($A666,'Lista de Precios_Bolívares_S'!$F:$Q,12,FALSE),\"\")","v":""},"",{"$f":"IFERROR(VLOOKUP($A666,'Lista de Precios_USD$_Euro€'!$E:$O,11,FALSE),\"\")","v":""}]
[null,null,null,{"$f":"IFERROR(VLOOKUP($A667,'Lista de Precios_Bolívares_S'!$F:$Q,6,FALSE),\"\")","v":""},{"$f":"IFERROR(VLOOKUP($A667,'Lista de Precios_Bolívares_S'!$F:$Q,12,FALSE),\"\")","v":""},"",{"$f":"IFERROR(VLOOKUP($A667,'Lista de Precios_USD$_Euro€'!$E:$O,11,FALSE),\"\")","v":""}]
[null,null,null,{"$f":"IFERROR(VLOOKUP($A668,'Lista de Precios_Bolívares_S'!$F:$Q,6,FALSE),\"\")","v":""},{"$f":"IFERROR(VLOOKUP($A668,'Lista de Precios_Bolívares_S'!$F:$Q,12,FALSE),\"\")","v":""},"",{"$f":"IFERROR(VLOOKUP($A668,'Lista de Precios_USD$_Euro€'!$E:$O,11,FALSE),\"\")","v":""}]
[null,null,null,{"$f":"IFERROR(VLOOKUP($A669,'Lista de Precios_Bolívares_S'!$F:$Q,6,FALSE),\"\")","v":""},{"$f":"IFERROR(VLOOKUP($A669,'Lista de Precios_Bolívares_S'!$F:$Q,12,FALSE),\"\")","v":""},"",{"$f":"IFERROR(VLOOKUP($A669,'Lista de Precios_USD$_Euro€'!$E:$O,11,FALSE),\"\")","v":""}]
[null,null,null,{"$f":"IFERROR(VLOOKUP($A670,'Lista de Precios_Bolívares_S'!$F:$Q,6,FALSE),\"\")","v":""},{"$f":"IFERROR(VLOOKUP($A670,'Lista de Precios_Bolívares_S'!$F:$Q,12,FALSE),\"\")","v":""},"",{"$f":"IFERROR(VLOOKUP($A670,'Lista de Precios_USD$_Euro€'!$E:$O,11,FALSE),\"\")","v":""}]
[null,null,null,{"$f":"IFERROR(VLOOKUP($A671,'Lista de Precios_Bolívares_S'!$F:$Q,6,FALSE),\"\")","v":""},{"$f":"IFERROR(VLOOKUP($A671,'Lista de Precios_Bolívares_S'!$F:$Q,12,FALSE),\"\")","v":""},"",{"$f":"IFERROR(VLOOKUP($A671,'Lista de Precios_USD$_Euro€'!$E:$O,11,FALSE),\"\")","v":""}]
[null,null,null,{"$f":"IFERROR(VLOOKUP($A672,'Lista de Precios_Bolívares_S'!$F:$Q,6,FALSE),\"\")","v":""},{"$f":"IFERROR(VLOOKUP($A672,'Lista de Precios_Bolívares_S'!$F:$Q,12,FALSE),\"\")","v":""},"",{"$f":"IFERROR(VLOOKUP($A672,'Lista de Precios_USD$_Euro€'!$E:$O,11,FALSE),\"\")","v":""}]
[null,null,null,{"$f":"IFERROR(VLOOKUP($A673,'Lista de Precios_Bolívares_S'!$F:$Q,6,FALSE),\"\")","v":""},{"$f":"IFERROR(VLOOKUP($A673,'Lista de Precios_Bolívares_S'!$F:$Q,12,FALSE),\"\")","v":""},"",{"$f":"IFERROR(VLOOKUP($A673,'Lista de Precios_USD$_Euro€'!$E:$O,11,FALSE),\"\")","v":""}]
[null,null,null,{"$f":"IFERROR(VLOOKUP($A674,'Lista de Precios_Bolívares_S'!$F:$Q,6,FALSE),\"\")","v":""},{"$f":"IFERROR(VLOOKUP($A674,'Lista de Precios_Bolívares_S'!$F:$Q,12,FALSE),\"\")","v":""},"",{"$f":"IFERROR(VLOOKUP($A674,'Lista de Precios_USD$_Euro€'!$E:$O,11,FALSE),\"\")","v":""}]
[null,null,null,{"$f":"IFERROR(VLOOKUP($A675,'Lista de Precios_Bolívares_S'!$F:$Q,6,FALSE),\"\")","v":""},{"$f":"IFERROR(VLOOKUP($A675,'Lista de Precios_Bolívares_S'!$F:$Q,12,FALSE),\"\")","v":""},"",{"$f":"IFERROR(VLOOKUP($A675,'Lista de Precios_USD$_Euro€'!$E:$O,11,FALSE),\"\")","v":""}]
[null,null,null,{"$f":"IFERROR(VLOOKUP($A676,'Lista de Precios_Bolívares_S'!$F:$Q,6,FALSE),\"\")","v":""},{"$f":"IFERROR(VLOOKUP($A676,'Lista de Precios_Bolívares_S'!$F:$Q,12,FALSE),\"\")","v":""},"",{"$f":"IFERROR(VLOOKUP($A676,'Lista de Precios_USD$_Euro€'!$E:$O,11,FALSE),\"\")","v":""}]
[null,null,null,{"$f":"IFERROR(VLOOKUP($A677,'Lista de Precios_Bolívares_S'!$F:$Q,6,FALSE),\"\")","v":""},{"$f":"IFERROR(VLOOKUP($A677,'Lista de Precios_Bolívares_S'!$F:$Q,12,FALSE),\"\")","v":""},"",{"$f":"IFERROR(VLOOKUP($A677,'Lista de Precios_USD$_Euro€'!$E:$O,11,FALSE),\"\")","v":""}]
[null,null,null,{"$f":"IFERROR(VLOOKUP($A678,'Lista de Precios_Bolívares_S'!$F:$Q,6,FALSE),\"\")","v":""},{"$f":"IFERROR(VLOOKUP($A678,'Lista de Precios_Bolívares_S'!$F:$Q,12,FALSE),\"\")","v":""},"",{"$f":"IFERROR(VLOOKUP($A678,'Lista de Precios_USD$_Euro€'!$E:$O,11,FALSE),\"\")","v":""}]
[null,null,null,{"$f":"IFERROR(VLOOKUP($A679,'Lista de Precios_Bolívares_S'!$F:$Q,6,FALSE),\"\")","v":""},{"$f":"IFERROR(VLOOKUP($A679,'Lista de Precios_Bolívares_S'!$F:$Q,12,FALSE),\"\")","v":""},"",{"$f":"IFERROR(VLOOKUP($A679,'Lista de Precios_USD$_Euro€'!$E:$O,11,FALSE),\"\")","v":""}]
[null,null,null,{"$f":"IFERROR(VLOOKUP($A680,'Lista de Precios_Bolívares_S'!$F:$Q,6,FALSE),\"\")","v":""},{"$f":"IFERROR(VLOOKUP($A680,'Lista de Precios_Bolívares_S'!$F:$Q,12,FALSE),\"\")","v":""},"",{"$f":"IFERROR(VLOOKUP($A680,'Lista de Precios_USD$_Euro€'!$E:$O,11,FALSE),\"\")","v":""}]
[null,null,null,{"$f":"IFERROR(VLOOKUP($A681,'Lista de Precios_Bolívares_S'!$F:$Q,6,FALSE),\"\")","v":""},{"$f":"IFERROR(VLOOKUP($A681,'Lista de Precios_Bolívares_S'!$F:$Q,12,FALSE),\"\")","v":""},"",{"$f":"IFERROR(VLOOKUP($A681,'Lista de Precios_USD$_Euro€'!$E:$O,11,FALSE),\"\")","v":""}]
[null,null,null,{"$f":"IFERROR(VLOOKUP($A682,'Lista de Precios_Bolívares_S'!$F:$Q,6,FALSE),\"\")","v":""},{"$f":"IFERROR(VLOOKUP($A682,'Lista de Precios_Bolívares_S'!$F:$Q,12,FALSE),\"\")","v":""},"",{"$f":"IFERROR(VLOOKUP($A682,'Lista de Precios_USD$_Euro€'!$E:$O,11,FALSE),\"\")","v":""}]
[null,null,null,{"$f":"IFERROR(VLOOKUP($A683,'Lista de Precios_Bolívares_S'!$F:$Q,6,FALSE),\"\")","v":""},{"$f":"IFERROR(VLOOKUP($A683,'Lista de Precios_Bolívares_S'!$F:$Q,12,FALSE),\"\")","v":""},"",{"$f":"IFERROR(VLOOKUP($A683,'Lista de Precios_USD$_Euro€'!$E:$O,11,FALSE),\"\")","v":""}]
[null,null,null,{"$f":"IFERROR(VLOOKUP($A684,'Lista de Precios_Bolívares_S'!$F:$Q,6,FALSE),\"\")","v":""},{"$f":"IFERROR(VLOOKUP($A684,'Lista de Precios_Bolívares_S'!$F:$Q,12,FALSE),\"\")","v":""},"",{"$f":"IFERROR(VLOOKUP($A684,'Lista de Precios_USD$_Euro€'!$E:$O,11,FALSE),\"\")","v":""}]
[null,null,null,{"$f":"IFERROR(VLOOKUP($A685,'Lista de Precios_Bolívares_S'!$F:$Q,6,FALSE),\"\")","v":""},{"$f":"IFERROR(VLOOKUP($A685,'Lista de Precios_Bolívares_S'!$F:$Q,12,FALSE),\"\")","v":""},"",{"$f":"IFERROR(VLOOKUP($A685,'Lista de Precios_USD$_Euro€'!$E:$O,11,FALSE),\"\")","v":""}]
[null,null,null,{"$f":"IFERROR(VLOOKUP($A686,'Lista de Precios_Bolívares_S'!$F:$Q,6,FALSE),\"\")","v":""},{"$f":"IFERROR(VLOOKUP($A686,'Lista de Precios_Bolívares_S'!$F:$Q,12,FALSE),\"\")","v":""},"",{"$f":"IFERROR(VLOOKUP($A686,'Lista de Precios_USD$_Euro€'!$E:$O,11,FALSE),\"\")","v":""}]
[null,null,null,{"$f":"IFERROR(VLOOKUP($A687,'Lista de Precios_Bolívares_S'!$F:$Q,6,FALSE),\"\")","v":""},{"$f":"IFERROR(VLOOKUP($A687,'Lista de Precios_Bolívares_S'!$F:$Q,12,FALSE),\"\")","v":""},"",{"$f":"IFERROR(VLOOKUP($A687,'Lista de Precios_USD$_Euro€'!$E:$O,11,FALSE),\"\")","v":""}]
[null,null,null,{"$f":"IFERROR(VLOOKUP($A688,'Lista de Precios_Bolívares_S'!$F:$Q,6,FALSE),\"\")","v":""},{"$f":"IFERROR(VLOOKUP($A688,'Lista de Precios_Bolívares_S'!$F:$Q,12,FALSE),\"\")","v":""},"",{"$f":"IFERROR(VLOOKUP($A688,'Lista de Precios_USD$_Euro€'!$E:$O,11,FALSE),\"\")","v":""}]
[null,null,null,{"$f":"IFERROR(VLOOKUP($A689,'Lista de Precios_Bolívares_S'!$F:$Q,6,FALSE),\"\")","v":""},{"$f":"IFERROR(VLOOKUP($A689,'Lista de Precios_Bolívares_S'!$F:$Q,12,FALSE),\"\")","v":""},"",{"$f":"IFERROR(VLOOKUP($A689,'Lista de Precios_USD$_Euro€'!$E:$O,11,FALSE),\"\")","v":""}]
[null,null,null,{"$f":"IFERROR(VLOOKUP($A690,'Lista de Precios_Bolívares_S'!$F:$Q,6,FALSE),\"\")","v":""},{"$f":"IFERROR(VLOOKUP($A690,'Lista de Precios_Bolívares_S'!$F:$Q,12,FALSE),\"\")","v":""},"",{"$f":"IFERROR(VLOOKUP($A690,'Lista de Precios_USD$_Euro€'!$E:$O,11,FALSE),\"\")","v":""}]
[null,null,null,{"$f":"IFERROR(VLOOKUP($A691,'Lista de Precios_Bolívares_S'!$F:$Q,6,FALSE),\"\")","v":""},{"$f":"IFERROR(VLOOKUP($A691,'Lista de Precios_Bolívares_S'!$F:$Q,12,FALSE),\"\")","v":""},"",{"$f":"IFERROR(VLOOKUP($A691,'Lista de Precios_USD$_Euro€'!$E:$O,11,FALSE),\"\")","v":""}]
[null,null,null,{"$f":"IFERROR(VLOOKUP($A692,'Lista de Precios_Bolívares_S'!$F:$Q,6,FALSE),\"\")","v":""},{"$f":"IFERROR(VLOOKUP($A692,'Lista de Precios_Bolívares_S'!$F:$Q,12,FALSE),\"\")","v":""},"",{"$f":"IFERROR(VLOOKUP($A692,'Lista de Precios_USD$_Euro€'!$E:$O,11,FALSE),\"\")","v":""}]
[null,null,null,{"$f":"IFERROR(VLOOKUP($A693,'Lista de Precios_Bolívares_S'!$F:$Q,6,FALSE),\"\")","v":""},{"$f":"IFERROR(VLOOKUP($A693,'Lista de Precios_Bolívares_S'!$F:$Q,12,FALSE),\"\")","v":""},"",{"$f":"IFERROR(VLOOKUP($A693,'Lista de Precios_USD$_Euro€'!$E:$O,11,FALSE),\"\")","v":""}]
[null,null,null,{"$f":"IFERROR(VLOOKUP($A694,'Lista de Precios_Bolívares_S'!$F:$Q,6,FALSE),\"\")","v":""},{"$f":"IFERROR(VLOOKUP($A694,'Lista de Precios_Bolívares_S'!$F:$Q,12,FALSE),\"\")","v":""},"",{"$f":"IFERROR(VLOOKUP($A694,'Lista de Precios_USD$_Euro€'!$E:$O,11,FALSE),\"\")","v":""}]
[null,null,null,{"$f":"IFERROR(VLOOKUP($A695,'Lista de Precios_Bolívares_S'!$F:$Q,6,FALSE),\"\")","v":""},{"$f":"IFERROR(VLOOKUP($A695,'Lista de Precios_Bolívares_S'!$F:$Q,12,FALSE),\"\")","v":""},"",{"$f":"IFERROR(VLOOKUP($A695,'Lista de Precios_USD$_Euro€'!$E:$O,11,FALSE),\"\")","v":""}]
[null,null,null,{"$f":"IFERROR(VLOOKUP($A696,'Lista de Precios_Bolívares_S'!$F:$Q,6,FALSE),\"\")","v":""},{"$f":"IFERROR(VLOOKUP($A696,'Lista de Precios_Bolívares_S'!$F:$Q,12,FALSE),\"\")","v":""},"",{"$f":"IFERROR(VLOOKUP($A696,'Lista de Precios_USD$_Euro€'!$E:$O,11,FALSE),\"\")","v":""}]
[null,null,null,{"$f":"IFERROR(VLOOKUP($A697,'Lista de Precios_Bolívares_S'!$F:$Q,6,FALSE),\"\")","v":""},{"$f":"IFERROR(VLOOKUP($A697,'Lista de Precios_Bolívares_S'!$F:$Q,12,FALSE),\"\")","v":""},"",{"$f":"IFERROR(VLOOKUP($A697,'Lista de Precios_USD$_Euro€'!$E:$O,11,FALSE),\"\")","v":""}]
[null,null,null,{"$f":"IFERROR(VLOOKUP($A698,'Lista de Precios_Bolívares_S'!$F:$Q,6,FALSE),\"\")","v":""},{"$f":"IFERROR(VLOOKUP($A698,'Lista de Precios_Bolívares_S'!$F:$Q,12,FALSE),\"\")","v":""},"",{"$f":"IFERROR(VLOOKUP($A698,'Lista de Precios_USD$_Euro€'!$E:$O,11,FALSE),\"\")","v":""}]
[null,null,null,{"$f":"IFERROR(VLOOKUP($A699,'Lista de Precios_Bolívares_S'!$F:$Q,6,FALSE),\"\")","v":""},{"$f":"IFERROR(VLOOKUP($A699,'Lista de Precios_Bolívares_S'!$F:$Q,12,FALSE),\"\")","v":""},"",{"$f":"IFERROR(VLOOKUP($A699,'Lista de Precios_USD$_Euro€'!$E:$O,11,FALSE),\"\")","v":""}]
[null,null,null,{"$f":"IFERROR(VLOOKUP($A700,'Lista de Precios_Bolívares_S'!$F:$Q,6,FALSE),\"\")","v":""},{"$f":"IFERROR(VLOOKUP($A700,'Lista de Precios_Bolívares_S'!$F:$Q,12,FALSE),\"\")","v":""},"",{"$f":"IFERROR(VLOOKUP($A700,'Lista de Precios_USD$_Euro€'!$E:$O,11,FALSE),\"\")","v":""}]
[null,null,null,{"$f":"IFERROR(VLOOKUP($A701,'Lista de Precios_Bolívares_S'!$F:$Q,6,FALSE),\"\")","v":""},{"$f":"IFERROR(VLOOKUP($A701,'Lista de Precios_Bolívares_S'!$F:$Q,12,FALSE),\"\")","v":""},"",{"$f":"IFERROR(VLOOKUP($A701,'Lista de Precios_USD$_Euro€'!$E:$O,11,FALSE),\"\")","v":""}]
[null,null,null,{"$f":"IFERROR(VLOOKUP($A702,'Lista de Precios_Bolívares_S'!$F:$Q,6,FALSE),\"\")","v":""},{"$f":"IFERROR(VLOOKUP($A702,'Lista de Precios_Bolívares_S'!$F:$Q,12,FALSE),\"\")","v":""},"",{"$f":"IFERROR(VLOOKUP($A702,'Lista de Precios_USD$_Euro€'!$E:$O,11,FALSE),\"\")","v":""}]
[null,null,null,{"$f":"IFERROR(VLOOKUP($A703,'Lista de Precios_Bolívares_S'!$F:$Q,6,FALSE),\"\")","v":""},{"$f":"IFERROR(VLOOKUP($A703,'Lista de Precios_Bolívares_S'!$F:$Q,12,FALSE),\"\")","v":""},"",{"$f":"IFERROR(VLOOKUP($A703,'Lista de Precios_USD$_Euro€'!$E:$O,11,FALSE),\"\")","v":""}]
[null,null,null,{"$f":"IFERROR(VLOOKUP($A704,'Lista de Precios_Bolívares_S'!$F:$Q,6,FALSE),\"\")","v":""},{"$f":"IFERROR(VLOOKUP($A704,'Lista de Precios_Bolívares_S'!$F:$Q,12,FALSE),\"\")","v":""},"",{"$f":"IFERROR(VLOOKUP($A704,'Lista de Precios_USD$_Euro€'!$E:$O,11,FALSE),\"\")","v":""}]
[null,null,null,{"$f":"IFERROR(VLOOKUP($A705,'Lista de Precios_Bolívares_S'!$F:$Q,6,FALSE),\"\")","v":""},{"$f":"IFERROR(VLOOKUP($A705,'Lista de Precios_Bolívares_S'!$F:$Q,12,FALSE),\"\")","v":""},"",{"$f":"IFERROR(VLOOKUP($A705,'Lista de Precios_USD$_Euro€'!$E:$O,11,FALSE),\"\")","v":""}]
[null,null,null,{"$f":"IFERROR(VLOOKUP($A706,'Lista de Precios_Bolívares_S'!$F:$Q,6,FALSE),\"\")","v":""},{"$f":"IFERROR(VLOOKUP($A706,'Lista de Precios_Bolívares_S'!$F:$Q,12,FALSE),\"\")","v":""},"",{"$f":"IFERROR(VLOOKUP($A706,'Lista de Precios_USD$_Euro€'!$E:$O,11,FALSE),\"\")","v":""}]
[null,null,null,{"$f":"IFERROR(VLOOKUP($A707,'Lista de Precios_Bolívares_S'!$F:$Q,6,FALSE),\"\")","v":""},{"$f":"IFERROR(VLOOKUP($A707,'Lista de Precios_Bolívares_S'!$F:$Q,12,FALSE),\"\")","v":""},"",{"$f":"IFERROR(VLOOKUP($A707,'Lista de Precios_USD$_Euro€'!$E:$O,11,FALSE),\"\")","v":""}]
[null,null,null,{"$f":"IFERROR(VLOOKUP($A708,'Lista de Precios_Bolívares_S'!$F:$Q,6,FALSE),\"\")","v":""},{"$f":"IFERROR(VLOOKUP($A708,'Lista de Precios_Bolívares_S'!$F:$Q,12,FALSE),\"\")","v":""},"",{"$f":"IFERROR(VLOOKUP($A708,'Lista de Precios_USD$_Euro€'!$E:$O,11,FALSE),\"\")","v":""}]
[null,null,null,{"$f":"IFERROR(VLOOKUP($A709,'Lista de Precios_Bolívares_S'!$F:$Q,6,FALSE),\"\")","v":""},{"$f":"IFERROR(VLOOKUP($A709,'Lista de Precios_Bolívares_S'!$F:$Q,12,FALSE),\"\")","v":""},"",{"$f":"IFERROR(VLOOKUP($A709,'Lista de Precios_USD$_Euro€'!$E:$O,11,FALSE),\"\")","v":""}]
[null,null,null,{"$f":"IFERROR(VLOOKUP($A710,'Lista de Precios_Bolívares_S'!$F:$Q,6,FALSE),\"\")","v":""},{"$f":"IFERROR(VLOOKUP($A710,'Lista de Precios_Bolívares_S'!$F:$Q,12,FALSE),\"\")","v":""},"",{"$f":"IFERROR(VLOOKUP($A710,'Lista de Precios_USD$_Euro€'!$E:$O,11,FALSE),\"\")","v":""}]
[null,null,null,{"$f":"IFERROR(VLOOKUP($A711,'Lista de Precios_Bolívares_S'!$F:$Q,6,FALSE),\"\")","v":""},{"$f":"IFERROR(VLOOKUP($A711,'Lista de Precios_Bolívares_S'!$F:$Q,12,FALSE),\"\")","v":""},"",{"$f":"IFERROR(VLOOKUP($A711,'Lista de Precios_USD$_Euro€'!$E:$O,11,FALSE),\"\")","v":""}]
[null,null,null,{"$f":"IFERROR(VLOOKUP($A712,'Lista de Precios_Bolívares_S'!$F:$Q,6,FALSE),\"\")","v":""},{"$f":"IFERROR(VLOOKUP($A712,'Lista de Precios_Bolívares_S'!$F:$Q,12,FALSE),\"\")","v":""},"",{"$f":"IFERROR(VLOOKUP($A712,'Lista de Precios_USD$_Euro€'!$E:$O,11,FALSE),\"\")","v":""}]
[null,null,null,{"$f":"IFERROR(VLOOKUP($A713,'Lista de Precios_Bolívares_S'!$F:$Q,6,FALSE),\"\")","v":""},{"$f":"IFERROR(VLOOKUP($A713,'Lista de Precios_Bolívares_S'!$F:$Q,12,FALSE),\"\")","v":""},"",{"$f":"IFERROR(VLOOKUP($A713,'Lista de Precios_USD$_Euro€'!$E:$O,11,FALSE),\"\")","v":""}]
[null,null,null,{"$f":"IFERROR(VLOOKUP($A714,'Lista de Precios_Bolívares_S'!$F:$Q,6,FALSE),\"\")","v":""},{"$f":"IFERROR(VLOOKUP($A714,'Lista de Precios_Bolívares_S'!$F:$Q,12,FALSE),\"\")","v":""},"",{"$f":"IFERROR(VLOOKUP($A714,'Lista de Precios_USD$_Euro€'!$E:$O,11,FALSE),\"\")","v":""}]
[null,null,null,{"$f":"IFERROR(VLOOKUP($A715,'Lista de Precios_Bolívares_S'!$F:$Q,6,FALSE),\"\")","v":""},{"$f":"IFERROR(VLOOKUP($A715,'Lista de Precios_Bolívares_S'!$F:$Q,12,FALSE),\"\")","v":""},"",{"$f":"IFERROR(VLOOKUP($A715,'Lista de Precios_USD$_Euro€'!$E:$O,11,FALSE),\"\")","v":""}]
[null,null,null,{"$f":"IFERROR(VLOOKUP($A716,'Lista de Precios_Bolívares_S'!$F:$Q,6,FALSE),\"\")","v":""},{"$f":"IFERROR(VLOOKUP($A716,'Lista de Precios_Bolívares_S'!$F:$Q,12,FALSE),\"\")","v":""},"",{"$f":"IFERROR(VLOOKUP($A716,'Lista de Precios_USD$_Euro€'!$E:$O,11,FALSE),\"\")","v":""}]
[null,null,null,{"$f":"IFERROR(VLOOKUP($A717,'Lista de Precios_Bolívares_S'!$F:$Q,6,FALSE),\"\")","v":""},{"$f":"IFERROR(VLOOKUP($A717,'Lista de Precios_Bolívares_S'!$F:$Q,12,FALSE),\"\")","v":""},"",{"$f":"IFERROR(VLOOKUP($A717,'Lista de Precios_USD$_Euro€'!$E:$O,11,FALSE),\"\")","v":""}]
[null,null,null,{"$f":"IFERROR(VLOOKUP($A718,'Lista de Precios_Bolívares_S'!$F:$Q,6,FALSE),\"\")","v":""},{"$f":"IFERROR(VLOOKUP($A718,'Lista de Precios_Bolívares_S'!$F:$Q,12,FALSE),\"\")","v":""},"",{"$f":"IFERROR(VLOOKUP($A718,'Lista de Precios_USD$_Euro€'!$E:$O,11,FALSE),\"\")","v":""}]
[null,null,null,{"$f":"IFERROR(VLOOKUP($A719,'Lista de Precios_Bolívares_S'!$F:$Q,6,FALSE),\"\")","v":""},{"$f":"IFERROR(VLOOKUP($A719,'Lista de Precios_Bolívares_S'!$F:$Q,12,FALSE),\"\")","v":""},"",{"$f":"IFERROR(VLOOKUP($A719,'Lista de Precios_USD$_Euro€'!$E:$O,11,FALSE),\"\")","v":""}]
[null,null,null,{"$f":"IFERROR(VLOOKUP($A720,'Lista de Precios_Bolívares_S'!$F:$Q,6,FALSE),\"\")","v":""},{"$f":"IFERROR(VLOOKUP($A720,'Lista de Precios_Bolívares_S'!$F:$Q,12,FALSE),\"\")","v":""},"",{"$f":"IFERROR(VLOOKUP($A720,'Lista de Precios_USD$_Euro€'!$E:$O,11,FALSE),\"\")","v":""}]
[null,null,null,{"$f":"IFERROR(VLOOKUP($A721,'Lista de Precios_Bolívares_S'!$F:$Q,6,FALSE),\"\")","v":""},{"$f":"IFERROR(VLOOKUP($A721,'Lista de Precios_Bolívares_S'!$F:$Q,12,FALSE),\"\")","v":""},"",{"$f":"IFERROR(VLOOKUP($A721,'Lista de Precios_USD$_Euro€'!$E:$O,11,FALSE),\"\")","v":""}]
[null,null,null,{"$f":"IFERROR(VLOOKUP($A722,'Lista de Precios_Bolívares_S'!$F:$Q,6,FALSE),\"\")","v":""},{"$f":"IFERROR(VLOOKUP($A722,'Lista de Precios_Bolívares_S'!$F:$Q,12,FALSE),\"\")","v":""},"",{"$f":"IFERROR(VLOOKUP($A722,'Lista de Precios_USD$_Euro€'!$E:$O,11,FALSE),\"\")","v":""}]
[null,null,null,{"$f":"IFERROR(VLOOKUP($A723,'Lista de Precios_Bolívares_S'!$F:$Q,6,FALSE),\"\")","v":""},{"$f":"IFERROR(VLOOKUP($A723,'Lista de Precios_Bolívares_S'!$F:$Q,12,FALSE),\"\")","v":""},"",{"$f":"IFERROR(VLOOKUP($A723,'Lista de Precios_USD$_Euro€'!$E:$O,11,FALSE),\"\")","v":""}]
[null,null,null,{"$f":"IFERROR(VLOOKUP($A724,'Lista de Precios_Bolívares_S'!$F:$Q,6,FALSE),\"\")","v":""},{"$f":"IFERROR(VLOOKUP($A724,'Lista de Precios_Bolívares_S'!$F:$Q,12,FALSE),\"\")","v":""},"",{"$f":"IFERROR(VLOOKUP($A724,'Lista de Precios_USD$_Euro€'!$E:$O,11,FALSE),\"\")","v":""}]
[null,null,null,{"$f":"IFERROR(VLOOKUP($A725,'Lista de Precios_Bolívares_S'!$F:$Q,6,FALSE),\"\")","v":""},{"$f":"IFERROR(VLOOKUP($A725,'Lista de Precios_Bolívares_S'!$F:$Q,12,FALSE),\"\")","v":""},"",{"$f":"IFERROR(VLOOKUP($A725,'Lista de Precios_USD$_Euro€'!$E:$O,11,FALSE),\"\")","v":""}]
[null,null,null,{"$f":"IFERROR(VLOOKUP($A726,'Lista de Precios_Bolívares_S'!$F:$Q,6,FALSE),\"\")","v":""},{"$f":"IFERROR(VLOOKUP($A726,'Lista de Precios_Bolívares_S'!$F:$Q,12,FALSE),\"\")","v":""},"",{"$f":"IFERROR(VLOOKUP($A726,'Lista de Precios_USD$_Euro€'!$E:$O,11,FALSE),\"\")","v":""}]
[null,null,null,{"$f":"IFERROR(VLOOKUP($A727,'Lista de Precios_Bolívares_S'!$F:$Q,6,FALSE),\"\")","v":""},{"$f":"IFERROR(VLOOKUP($A727,'Lista de Precios_Bolívares_S'!$F:$Q,12,FALSE),\"\")","v":""},"",{"$f":"IFERROR(VLOOKUP($A727,'Lista de Precios_USD$_Euro€'!$E:$O,11,FALSE),\"\")","v":""}]
[null,null,null,{"$f":"IFERROR(VLOOKUP($A728,'Lista de Precios_Bolívares_S'!$F:$Q,6,FALSE),\"\")","v":""},{"$f":"IFERROR(VLOOKUP($A728,'Lista de Precios_Bolívares_S'!$F:$Q,12,FALSE),\"\")","v":""},"",{"$f":"IFERROR(VLOOKUP($A728,'Lista de Precios_USD$_Euro€'!$E:$O,11,FALSE),\"\")","v":""}]
[null,null,null,{"$f":"IFERROR(VLOOKUP($A729,'Lista de Precios_Bolívares_S'!$F:$Q,6,FALSE),\"\")","v":""},{"$f":"IFERROR(VLOOKUP($A729,'Lista de Precios_Bolívares_S'!$F:$Q,12,FALSE),\"\")","v":""},{"$f":"IFERROR(IF(ROUND($C729,2)=ROUND($D704,2),ROUND($E704,2),ROUND($C729,2)),\"\")","v":""},{"$f":"IFERROR(VLOOKUP($A729,'Lista de Precios_USD$_Euro€'!$E:$O,11,FALSE),\"\")","v":""}]
[null,null,null,{"$f":"IFERROR(VLOOKUP($A730,'Lista de Precios_Bolívares_S'!$F:$Q,6,FALSE),\"\")","v":""},{"$f":"IFERROR(VLOOKUP($A730,'Lista de Precios_Bolívares_S'!$F:$Q,12,FALSE),\"\")","v":""},"",{"$f":"IFERROR(VLOOKUP($A730,'Lista de Precios_USD$_Euro€'!$E:$O,11,FALSE),\"\")","v":""}]
[null,null,null,{"$f":"IFERROR(VLOOKUP($A731,'Lista de Precios_Bolívares_S'!$F:$Q,6,FALSE),\"\")","v":""},{"$f":"IFERROR(VLOOKUP($A731,'Lista de Precios_Bolívares_S'!$F:$Q,12,FALSE),\"\")","v":""},"",{"$f":"IFERROR(VLOOKUP($A731,'Lista de Precios_USD$_Euro€'!$E:$O,11,FALSE),\"\")","v":""}]
[null,null,null,{"$f":"IFERROR(VLOOKUP($A732,'Lista de Precios_Bolívares_S'!$F:$Q,6,FALSE),\"\")","v":""},{"$f":"IFERROR(VLOOKUP($A732,'Lista de Precios_Bolívares_S'!$F:$Q,12,FALSE),\"\")","v":""},"",{"$f":"IFERROR(VLOOKUP($A732,'Lista de Precios_USD$_Euro€'!$E:$O,11,FALSE),\"\")","v":""}]
[null,null,null,{"$f":"IFERROR(VLOOKUP($A733,'Lista de Precios_Bolívares_S'!$F:$Q,6,FALSE),\"\")","v":""},{"$f":"IFERROR(VLOOKUP($A733,'Lista de Precios_Bolívares_S'!$F:$Q,12,FALSE),\"\")","v":""},"",{"$f":"IFERROR(VLOOKUP($A733,'Lista de Precios_USD$_Euro€'!$E:$O,11,FALSE),\"\")","v":""}]
[null,null,null,{"$f":"IFERROR(VLOOKUP($A734,'Lista de Precios_Bolívares_S'!$F:$Q,6,FALSE),\"\")","v":""},{"$f":"IFERROR(VLOOKUP($A734,'Lista de Precios_Bolívares_S'!$F:$Q,12,FALSE),\"\")","v":""},"",{"$f":"IFERROR(VLOOKUP($A734,'Lista de Precios_USD$_Euro€'!$E:$O,11,FALSE),\"\")","v":""}]
[null,null,null,{"$f":"IFERROR(VLOOKUP($A735,'Lista de Precios_Bolívares_S'!$F:$Q,6,FALSE),\"\")","v":""},{"$f":"IFERROR(VLOOKUP($A735,'Lista de Precios_Bolívares_S'!$F:$Q,12,FALSE),\"\")","v":""},"",{"$f":"IFERROR(VLOOKUP($A735,'Lista de Precios_USD$_Euro€'!$E:$O,11,FALSE),\"\")","v":""}]
[null,null,null,{"$f":"IFERROR(VLOOKUP($A736,'Lista de Precios_Bolívares_S'!$F:$Q,6,FALSE),\"\")","v":""},{"$f":"IFERROR(VLOOKUP($A736,'Lista de Precios_Bolívares_S'!$F:$Q,12,FALSE),\"\")","v":""},"",{"$f":"IFERROR(VLOOKUP($A736,'Lista de Precios_USD$_Euro€'!$E:$O,11,FALSE),\"\")","v":""}]
[null,null,null,{"$f":"IFERROR(VLOOKUP($A737,'Lista de Precios_Bolívares_S'!$F:$Q,6,FALSE),\"\")","v":""},{"$f":"IFERROR(VLOOKUP($A737,'Lista de Precios_Bolívares_S'!$F:$Q,12,FALSE),\"\")","v":""},"",{"$f":"IFERROR(VLOOKUP($A737,'Lista de Precios_USD$_Euro€'!$E:$O,11,FALSE),\"\")","v":""}]
[null,null,null,{"$f":"IFERROR(VLOOKUP($A738,'Lista de Precios_Bolívares_S'!$F:$Q,6,FALSE),\"\")","v":""},{"$f":"IFERROR(VLOOKUP($A738,'Lista de Precios_Bolívares_S'!$F:$Q,12,FALSE),\"\")","v":""},"",{"$f":"IFERROR(VLOOKUP($A738,'Lista de Precios_USD$_Euro€'!$E:$O,11,FALSE),\"\")","v":""}]
[null,null,null,{"$f":"IFERROR(VLOOKUP($A739,'Lista de Precios_Bolívares_S'!$F:$Q,6,FALSE),\"\")","v":""},{"$f":"IFERROR(VLOOKUP($A739,'Lista de Precios_Bolívares_S'!$F:$Q,12,FALSE),\"\")","v":""},"",{"$f":"IFERROR(VLOOKUP($A739,'Lista de Precios_USD$_Euro€'!$E:$O,11,FALSE),\"\")","v":""}]
[null,null,null,{"$f":"IFERROR(VLOOKUP($A740,'Lista de Precios_Bolívares_S'!$F:$Q,6,FALSE),\"\")","v":""},{"$f":"IFERROR(VLOOKUP($A740,'Lista de Precios_Bolívares_S'!$F:$Q,12,FALSE),\"\")","v":""},"",{"$f":"IFERROR(VLOOKUP($A740,'Lista de Precios_USD$_Euro€'!$E:$O,11,FALSE),\"\")","v":""}]
[null,null,null,{"$f":"IFERROR(VLOOKUP($A741,'Lista de Precios_Bolívares_S'!$F:$Q,6,FALSE),\"\")","v":""},{"$f":"IFERROR(VLOOKUP($A741,'Lista de Precios_Bolívares_S'!$F:$Q,12,FALSE),\"\")","v":""},"",{"$f":"IFERROR(VLOOKUP($A741,'Lista de Precios_USD$_Euro€'!$E:$O,11,FALSE),\"\")","v":""}]
[null,null,null,{"$f":"IFERROR(VLOOKUP($A742,'Lista de Precios_Bolívares_S'!$F:$Q,6,FALSE),\"\")","v":""},{"$f":"IFERROR(VLOOKUP($A742,'Lista de Precios_Bolívares_S'!$F:$Q,12,FALSE),\"\")","v":""},"",{"$f":"IFERROR(VLOOKUP($A742,'Lista de Precios_USD$_Euro€'!$E:$O,11,FALSE),\"\")","v":""}]
[null,null,null,{"$f":"IFERROR(VLOOKUP($A743,'Lista de Precios_Bolívares_S'!$F:$Q,6,FALSE),\"\")","v":""},{"$f":"IFERROR(VLOOKUP($A743,'Lista de Precios_Bolívares_S'!$F:$Q,12,FALSE),\"\")","v":""},"",{"$f":"IFERROR(VLOOKUP($A743,'Lista de Precios_USD$_Euro€'!$E:$O,11,FALSE),\"\")","v":""}]
[null,null,null,{"$f":"IFERROR(VLOOKUP($A744,'Lista de Precios_Bolívares_S'!$F:$Q,6,FALSE),\"\")","v":""},{"$f":"IFERROR(VLOOKUP($A744,'Lista de Precios_Bolívares_S'!$F:$Q,12,FALSE),\"\")","v":""},"",{"$f":"IFERROR(VLOOKUP($A744,'Lista de Precios_USD$_Euro€'!$E:$O,11,FALSE),\"\")","v":""}]
[null,null,null,{"$f":"IFERROR(VLOOKUP($A745,'Lista de Precios_Bolívares_S'!$F:$Q,6,FALSE),\"\")","v":""},{"$f":"IFERROR(VLOOKUP($A745,'Lista de Precios_Bolívares_S'!$F:$Q,12,FALSE),\"\")","v":""},"",{"$f":"IFERROR(VLOOKUP($A745,'Lista de Precios_USD$_Euro€'!$E:$O,11,FALSE),\"\")","v":""}]
[null,null,null,{"$f":"IFERROR(VLOOKUP($A746,'Lista de Precios_Bolívares_S'!$F:$Q,6,FALSE),\"\")","v":""},{"$f":"IFERROR(VLOOKUP($A746,'Lista de Precios_Bolívares_S'!$F:$Q,12,FALSE),\"\")","v":""},"",{"$f":"IFERROR(VLOOKUP($A746,'Lista de Precios_USD$_Euro€'!$E:$O,11,FALSE),\"\")","v":""}]
[null,null,null,{"$f":"IFERROR(VLOOKUP($A747,'Lista de Precios_Bolívares_S'!$F:$Q,6,FALSE),\"\")","v":""},{"$f":"IFERROR(VLOOKUP($A747,'Lista de Precios_Bolívares_S'!$F:$Q,12,FALSE),\"\")","v":""},"",{"$f":"IFERROR(VLOOKUP($A747,'Lista de Precios_USD$_Euro€'!$E:$O,11,FALSE),\"\")","v":""}]
[null,null,null,{"$f":"IFERROR(VLOOKUP($A748,'Lista de Precios_Bolívares_S'!$F:$Q,6,FALSE),\"\")","v":""},{"$f":"IFERROR(VLOOKUP($A748,'Lista de Precios_Bolívares_S'!$F:$Q,12,FALSE),\"\")","v":""},"",{"$f":"IFERROR(VLOOKUP($A748,'Lista de Precios_USD$_Euro€'!$E:$O,11,FALSE),\"\")","v":""}]
[null,null,null,{"$f":"IFERROR(VLOOKUP($A749,'Lista de Precios_Bolívares_S'!$F:$Q,6,FALSE),\"\")","v":""},{"$f":"IFERROR(VLOOKUP($A749,'Lista de Precios_Bolívares_S'!$F:$Q,12,FALSE),\"\")","v":""},"",{"$f":"IFERROR(VLOOKUP($A749,'Lista de Precios_USD$_Euro€'!$E:$O,11,FALSE),\"\")","v":""}]
[null,null,null,{"$f":"IFERROR(VLOOKUP($A750,'Lista de Precios_Bolívares_S'!$F:$Q,6,FALSE),\"\")","v":""},{"$f":"IFERROR(VLOOKUP($A750,'Lista de Precios_Bolívares_S'!$F:$Q,12,FALSE),\"\")","v":""},"",{"$f":"IFERROR(VLOOKUP($A750,'Lista de Precios_USD$_Euro€'!$E:$O,11,FALSE),\"\")","v":""}]
[null,null,null,{"$f":"IFERROR(VLOOKUP($A751,'Lista de Precios_Bolívares_S'!$F:$Q,6,FALSE),\"\")","v":""},{"$f":"IFERROR(VLOOKUP($A751,'Lista de Precios_Bolívares_S'!$F:$Q,12,FALSE),\"\")","v":""},"",{"$f":"IFERROR(VLOOKUP($A751,'Lista de Precios_USD$_Euro€'!$E:$O,11,FALSE),\"\")","v":""}]
[null,null,null,{"$f":"IFERROR(VLOOKUP($A752,'Lista de Precios_Bolívares_S'!$F:$Q,6,FALSE),\"\")","v":""},{"$f":"IFERROR(VLOOKUP($A752,'Lista de Precios_Bolívares_S'!$F:$Q,12,FALSE),\"\")","v":""},"",{"$f":"IFERROR(VLOOKUP($A752,'Lista de Precios_USD$_Euro€'!$E:$O,11,FALSE),\"\")","v":""}]
[null,null,null,{"$f":"IFERROR(VLOOKUP($A753,'Lista de Precios_Bolívares_S'!$F:$Q,6,FALSE),\"\")","v":""},{"$f":"IFERROR(VLOOKUP($A753,'Lista de Precios_Bolívares_S'!$F:$Q,12,FALSE),\"\")","v":""},"",{"$f":"IFERROR(VLOOKUP($A753,'Lista de Precios_USD$_Euro€'!$E:$O,11,FALSE),\"\")","v":""}]
[null,null,null,{"$f":"IFERROR(VLOOKUP($A754,'Lista de Precios_Bolívares_S'!$F:$Q,6,FALSE),\"\")","v":""},{"$f":"IFERROR(VLOOKUP($A754,'Lista de Precios_Bolívares_S'!$F:$Q,12,FALSE),\"\")","v":""},"",{"$f":"IFERROR(VLOOKUP($A754,'Lista de Precios_USD$_Euro€'!$E:$O,11,FALSE),\"\")","v":""}]
[null,null,null,{"$f":"IFERROR(VLOOKUP($A755,'Lista de Precios_Bolívares_S'!$F:$Q,6,FALSE),\"\")","v":""},{"$f":"IFERROR(VLOOKUP($A755,'Lista de Precios_Bolívares_S'!$F:$Q,12,FALSE),\"\")","v":""},"",{"$f":"IFERROR(VLOOKUP($A755,'Lista de Precios_USD$_Euro€'!$E:$O,11,FALSE),\"\")","v":""}]
[null,null,null,{"$f":"IFERROR(VLOOKUP($A756,'Lista de Precios_Bolívares_S'!$F:$Q,6,FALSE),\"\")","v":""},{"$f":"IFERROR(VLOOKUP($A756,'Lista de Precios_Bolívares_S'!$F:$Q,12,FALSE),\"\")","v":""},"",{"$f":"IFERROR(VLOOKUP($A756,'Lista de Precios_USD$_Euro€'!$E:$O,11,FALSE),\"\")","v":""}]
[null,null,null,{"$f":"IFERROR(VLOOKUP($A757,'Lista de Precios_Bolívares_S'!$F:$Q,6,FALSE),\"\")","v":""},{"$f":"IFERROR(VLOOKUP($A757,'Lista de Precios_Bolívares_S'!$F:$Q,12,FALSE),\"\")","v":""},"",{"$f":"IFERROR(VLOOKUP($A757,'Lista de Precios_USD$_Euro€'!$E:$O,11,FALSE),\"\")","v":""}]
[null,null,null,{"$f":"IFERROR(VLOOKUP($A758,'Lista de Precios_Bolívares_S'!$F:$Q,6,FALSE),\"\")","v":""},{"$f":"IFERROR(VLOOKUP($A758,'Lista de Precios_Bolívares_S'!$F:$Q,12,FALSE),\"\")","v":""},"",{"$f":"IFERROR(VLOOKUP($A758,'Lista de Precios_USD$_Euro€'!$E:$O,11,FALSE),\"\")","v":""}]
[null,null,null,{"$f":"IFERROR(VLOOKUP($A759,'Lista de Precios_Bolívares_S'!$F:$Q,6,FALSE),\"\")","v":""},{"$f":"IFERROR(VLOOKUP($A759,'Lista de Precios_Bolívares_S'!$F:$Q,12,FALSE),\"\")","v":""},"",{"$f":"IFERROR(VLOOKUP($A759,'Lista de Precios_USD$_Euro€'!$E:$O,11,FALSE),\"\")","v":""}]
[null,null,null,{"$f":"IFERROR(VLOOKUP($A760,'Lista de Precios_Bolívares_S'!$F:$Q,6,FALSE),\"\")","v":""},{"$f":"IFERROR(VLOOKUP($A760,'Lista de Precios_Bolívares_S'!$F:$Q,12,FALSE),\"\")","v":""},"",{"$f":"IFERROR(VLOOKUP($A760,'Lista de Precios_USD$_Euro€'!$E:$O,11,FALSE),\"\")","v":""}]
[null,null,null,{"$f":"IFERROR(VLOOKUP($A761,'Lista de Precios_Bolívares_S'!$F:$Q,6,FALSE),\"\")","v":""},{"$f":"IFERROR(VLOOKUP($A761,'Lista de Precios_Bolívares_S'!$F:$Q,12,FALSE),\"\")","v":""},"",{"$f":"IFERROR(VLOOKUP($A761,'Lista de Precios_USD$_Euro€'!$E:$O,11,FALSE),\"\")","v":""}]
[null,null,null,{"$f":"IFERROR(VLOOKUP($A762,'Lista de Precios_Bolívares_S'!$F:$Q,6,FALSE),\"\")","v":""},{"$f":"IFERROR(VLOOKUP($A762,'Lista de Precios_Bolívares_S'!$F:$Q,12,FALSE),\"\")","v":""},"",{"$f":"IFERROR(VLOOKUP($A762,'Lista de Precios_USD$_Euro€'!$E:$O,11,FALSE),\"\")","v":""}]
[null,null,null,{"$f":"IFERROR(VLOOKUP($A763,'Lista de Precios_Bolívares_S'!$F:$Q,6,FALSE),\"\")","v":""},{"$f":"IFERROR(VLOOKUP($A763,'Lista de Precios_Bolívares_S'!$F:$Q,12,FALSE),\"\")","v":""},"",{"$f":"IFERROR(VLOOKUP($A763,'Lista de Precios_USD$_Euro€'!$E:$O,11,FALSE),\"\")","v":""}]
[null,null,null,{"$f":"IFERROR(VLOOKUP($A764,'Lista de Precios_Bolívares_S'!$F:$Q,6,FALSE),\"\")","v":""},{"$f":"IFERROR(VLOOKUP($A764,'Lista de Precios_Bolívares_S'!$F:$Q,12,FALSE),\"\")","v":""},"",{"$f":"IFERROR(VLOOKUP($A764,'Lista de Precios_USD$_Euro€'!$E:$O,11,FALSE),\"\")","v":""}]
[null,null,null,{"$f":"IFERROR(VLOOKUP($A765,'Lista de Precios_Bolívares_S'!$F:$Q,6,FALSE),\"\")","v":""},{"$f":"IFERROR(VLOOKUP($A765,'Lista de Precios_Bolívares_S'!$F:$Q,12,FALSE),\"\")","v":""},"",{"$f":"IFERROR(VLOOKUP($A765,'Lista de Precios_USD$_Euro€'!$E:$O,11,FALSE),\"\")","v":""}]
[null,null,null,{"$f":"IFERROR(VLOOKUP($A766,'Lista de Precios_Bolívares_S'!$F:$Q,6,FALSE),\"\")","v":""},{"$f":"IFERROR(VLOOKUP($A766,'Lista de Precios_Bolívares_S'!$F:$Q,12,FALSE),\"\")","v":""},"",{"$f":"IFERROR(VLOOKUP($A766,'Lista de Precios_USD$_Euro€'!$E:$O,11,FALSE),\"\")","v":""}]
[null,null,null,{"$f":"IFERROR(VLOOKUP($A767,'Lista de Precios_Bolívares_S'!$F:$Q,6,FALSE),\"\")","v":""},{"$f":"IFERROR(VLOOKUP($A767,'Lista de Precios_Bolívares_S'!$F:$Q,12,FALSE),\"\")","v":""},"",{"$f":"IFERROR(VLOOKUP($A767,'Lista de Precios_USD$_Euro€'!$E:$O,11,FALSE),\"\")","v":""}]
[null,null,null,{"$f":"IFERROR(VLOOKUP($A768,'Lista de Precios_Bolívares_S'!$F:$Q,6,FALSE),\"\")","v":""},{"$f":"IFERROR(VLOOKUP($A768,'Lista de Precios_Bolívares_S'!$F:$Q,12,FALSE),\"\")","v":""},"",{"$f":"IFERROR(VLOOKUP($A768,'Lista de Precios_USD$_Euro€'!$E:$O,11,FALSE),\"\")","v":""}]
[null,null,null,{"$f":"IFERROR(VLOOKUP($A769,'Lista de Precios_Bolívares_S'!$F:$Q,6,FALSE),\"\")","v":""},{"$f":"IFERROR(VLOOKUP($A769,'Lista de Precios_Bolívares_S'!$F:$Q,12,FALSE),\"\")","v":""},"",{"$f":"IFERROR(VLOOKUP($A769,'Lista de Precios_USD$_Euro€'!$E:$O,11,FALSE),\"\")","v":""}]
[null,null,null,{"$f":"IFERROR(VLOOKUP($A770,'Lista de Precios_Bolívares_S'!$F:$Q,6,FALSE),\"\")","v":""},{"$f":"IFERROR(VLOOKUP($A770,'Lista de Precios_Bolívares_S'!$F:$Q,12,FALSE),\"\")","v":""},"",{"$f":"IFERROR(VLOOKUP($A770,'Lista de Precios_USD$_Euro€'!$E:$O,11,FALSE),\"\")","v":""}]
[null,null,null,{"$f":"IFERROR(VLOOKUP($A771,'Lista de Precios_Bolívares_S'!$F:$Q,6,FALSE),\"\")","v":""},{"$f":"IFERROR(VLOOKUP($A771,'Lista de Precios_Bolívares_S'!$F:$Q,12,FALSE),\"\")","v":""},"",{"$f":"IFERROR(VLOOKUP($A771,'Lista de Precios_USD$_Euro€'!$E:$O,11,FALSE),\"\")","v":""}]
[null,null,null,{"$f":"IFERROR(VLOOKUP($A772,'Lista de Precios_Bolívares_S'!$F:$Q,6,FALSE),\"\")","v":""},{"$f":"IFERROR(VLOOKUP($A772,'Lista de Precios_Bolívares_S'!$F:$Q,12,FALSE),\"\")","v":""},"",{"$f":"IFERROR(VLOOKUP($A772,'Lista de Precios_USD$_Euro€'!$E:$O,11,FALSE),\"\")","v":""}]
[null,null,null,{"$f":"IFERROR(VLOOKUP($A773,'Lista de Precios_Bolívares_S'!$F:$Q,6,FALSE),\"\")","v":""},{"$f":"IFERROR(VLOOKUP($A773,'Lista de Precios_Bolívares_S'!$F:$Q,12,FALSE),\"\")","v":""},"",{"$f":"IFERROR(VLOOKUP($A773,'Lista de Precios_USD$_Euro€'!$E:$O,11,FALSE),\"\")","v":""}]
[null,null,null,{"$f":"IFERROR(VLOOKUP($A774,'Lista de Precios_Bolívares_S'!$F:$Q,6,FALSE),\"\")","v":""},{"$f":"IFERROR(VLOOKUP($A774,'Lista de Precios_Bolívares_S'!$F:$Q,12,FALSE),\"\")","v":""},"",{"$f":"IFERROR(VLOOKUP($A774,'Lista de Precios_USD$_Euro€'!$E:$O,11,FALSE),\"\")","v":""}]
[null,null,null,{"$f":"IFERROR(VLOOKUP($A775,'Lista de Precios_Bolívares_S'!$F:$Q,6,FALSE),\"\")","v":""},{"$f":"IFERROR(VLOOKUP($A775,'Lista de Precios_Bolívares_S'!$F:$Q,12,FALSE),\"\")","v":""},"",{"$f":"IFERROR(VLOOKUP($A775,'Lista de Precios_USD$_Euro€'!$E:$O,11,FALSE),\"\")","v":""}]
[null,null,null,{"$f":"IFERROR(VLOOKUP($A776,'Lista de Precios_Bolívares_S'!$F:$Q,6,FALSE),\"\")","v":""},{"$f":"IFERROR(VLOOKUP($A776,'Lista de Precios_Bolívares_S'!$F:$Q,12,FALSE),\"\")","v":""},"",{"$f":"IFERROR(VLOOKUP($A776,'Lista de Precios_USD$_Euro€'!$E:$O,11,FALSE),\"\")","v":""}]
[null,null,null,{"$f":"IFERROR(VLOOKUP($A777,'Lista de Precios_Bolívares_S'!$F:$Q,6,FALSE),\"\")","v":""},{"$f":"IFERROR(VLOOKUP($A777,'Lista de Precios_Bolívares_S'!$F:$Q,12,FALSE),\"\")","v":""},"",{"$f":"IFERROR(VLOOKUP($A777,'Lista de Precios_USD$_Euro€'!$E:$O,11,FALSE),\"\")","v":""}]
[null,null,null,{"$f":"IFERROR(VLOOKUP($A778,'Lista de Precios_Bolívares_S'!$F:$Q,6,FALSE),\"\")","v":""},{"$f":"IFERROR(VLOOKUP($A778,'Lista de Precios_Bolívares_S'!$F:$Q,12,FALSE),\"\")","v":""},"",{"$f":"IFERROR(VLOOKUP($A778,'Lista de Precios_USD$_Euro€'!$E:$O,11,FALSE),\"\")","v":""}]
[null,null,null,{"$f":"IFERROR(VLOOKUP($A779,'Lista de Precios_Bolívares_S'!$F:$Q,6,FALSE),\"\")","v":""},{"$f":"IFERROR(VLOOKUP($A779,'Lista de Precios_Bolívares_S'!$F:$Q,12,FALSE),\"\")","v":""},"",{"$f":"IFERROR(VLOOKUP($A779,'Lista de Precios_USD$_Euro€'!$E:$O,11,FALSE),\"\")","v":""}]
[null,null,null,{"$f":"IFERROR(VLOOKUP($A780,'Lista de Precios_Bolívares_S'!$F:$Q,6,FALSE),\"\")","v":""},{"$f":"IFERROR(VLOOKUP($A780,'Lista de Precios_Bolívares_S'!$F:$Q,12,FALSE),\"\")","v":""},"",{"$f":"IFERROR(VLOOKUP($A780,'Lista de Precios_USD$_Euro€'!$E:$O,11,FALSE),\"\")","v":""}]
[null,null,null,{"$f":"IFERROR(VLOOKUP($A781,'Lista de Precios_Bolívares_S'!$F:$Q,6,FALSE),\"\")","v":""},{"$f":"IFERROR(VLOOKUP($A781,'Lista de Precios_Bolívares_S'!$F:$Q,12,FALSE),\"\")","v":""},"",{"$f":"IFERROR(VLOOKUP($A781,'Lista de Precios_USD$_Euro€'!$E:$O,11,FALSE),\"\")","v":""}]
[null,null,null,{"$f":"IFERROR(VLOOKUP($A782,'Lista de Precios_Bolívares_S'!$F:$Q,6,FALSE),\"\")","v":""},{"$f":"IFERROR(VLOOKUP($A782,'Lista de Precios_Bolívares_S'!$F:$Q,12,FALSE),\"\")","v":""},"",{"$f":"IFERROR(VLOOKUP($A782,'Lista de Precios_USD$_Euro€'!$E:$O,11,FALSE),\"\")","v":""}]
[null,null,null,{"$f":"IFERROR(VLOOKUP($A783,'Lista de Precios_Bolívares_S'!$F:$Q,6,FALSE),\"\")","v":""},{"$f":"IFERROR(VLOOKUP($A783,'Lista de Precios_Bolívares_S'!$F:$Q,12,FALSE),\"\")","v":""},"",{"$f":"IFERROR(VLOOKUP($A783,'Lista de Precios_USD$_Euro€'!$E:$O,11,FALSE),\"\")","v":""}]
[null,null,null,{"$f":"IFERROR(VLOOKUP($A784,'Lista de Precios_Bolívares_S'!$F:$Q,6,FALSE),\"\")","v":""},{"$f":"IFERROR(VLOOKUP($A784,'Lista de Precios_Bolívares_S'!$F:$Q,12,FALSE),\"\")","v":""},"",{"$f":"IFERROR(VLOOKUP($A784,'Lista de Precios_USD$_Euro€'!$E:$O,11,FALSE),\"\")","v":""}]
[null,null,null,{"$f":"IFERROR(VLOOKUP($A785,'Lista de Precios_Bolívares_S'!$F:$Q,6,FALSE),\"\")","v":""},{"$f":"IFERROR(VLOOKUP($A785,'Lista de Precios_Bolívares_S'!$F:$Q,12,FALSE),\"\")","v":""},"",{"$f":"IFERROR(VLOOKUP($A785,'Lista de Precios_USD$_Euro€'!$E:$O,11,FALSE),\"\")","v":""}]
[null,null,null,{"$f":"IFERROR(VLOOKUP($A786,'Lista de Precios_Bolívares_S'!$F:$Q,6,FALSE),\"\")","v":""},{"$f":"IFERROR(VLOOKUP($A786,'Lista de Precios_Bolívares_S'!$F:$Q,12,FALSE),\"\")","v":""},"",{"$f":"IFERROR(VLOOKUP($A786,'Lista de Precios_USD$_Euro€'!$E:$O,11,FALSE),\"\")","v":""}]
[null,null,null,{"$f":"IFERROR(VLOOKUP($A787,'Lista de Precios_Bolívares_S'!$F:$Q,6,FALSE),\"\")","v":""},{"$f":"IFERROR(VLOOKUP($A787,'Lista de Precios_Bolívares_S'!$F:$Q,12,FALSE),\"\")","v":""},"",{"$f":"IFERROR(VLOOKUP($A787,'Lista de Precios_USD$_Euro€'!$E:$O,11,FALSE),\"\")","v":""}]
[null,null,null,{"$f":"IFERROR(VLOOKUP($A788,'Lista de Precios_Bolívares_S'!$F:$Q,6,FALSE),\"\")","v":""},{"$f":"IFERROR(VLOOKUP($A788,'Lista de Precios_Bolívares_S'!$F:$Q,12,FALSE),\"\")","v":""},"",{"$f":"IFERROR(VLOOKUP($A788,'Lista de Precios_USD$_Euro€'!$E:$O,11,FALSE),\"\")","v":""}]
[null,null,null,{"$f":"IFERROR(VLOOKUP($A789,'Lista de Precios_Bolívares_S'!$F:$Q,6,FALSE),\"\")","v":""},{"$f":"IFERROR(VLOOKUP($A789,'Lista de Precios_Bolívares_S'!$F:$Q,12,FALSE),\"\")","v":""},"",{"$f":"IFERROR(VLOOKUP($A789,'Lista de Precios_USD$_Euro€'!$E:$O,11,FALSE),\"\")","v":""}]
[null,null,null,{"$f":"IFERROR(VLOOKUP($A790,'Lista de Precios_Bolívares_S'!$F:$Q,6,FALSE),\"\")","v":""},{"$f":"IFERROR(VLOOKUP($A790,'Lista de Precios_Bolívares_S'!$F:$Q,12,FALSE),\"\")","v":""},"",{"$f":"IFERROR(VLOOKUP($A790,'Lista de Precios_USD$_Euro€'!$E:$O,11,FALSE),\"\")","v":""}]
[null,null,null,{"$f":"IFERROR(VLOOKUP($A791,'Lista de Precios_Bolívares_S'!$F:$Q,6,FALSE),\"\")","v":""},{"$f":"IFERROR(VLOOKUP($A791,'Lista de Precios_Bolívares_S'!$F:$Q,12,FALSE),\"\")","v":""},"",{"$f":"IFERROR(VLOOKUP($A791,'Lista de Precios_USD$_Euro€'!$E:$O,11,FALSE),\"\")","v":""}]
[null,null,null,{"$f":"IFERROR(VLOOKUP($A792,'Lista de Precios_Bolívares_S'!$F:$Q,6,FALSE),\"\")","v":""},{"$f":"IFERROR(VLOOKUP($A792,'Lista de Precios_Bolívares_S'!$F:$Q,12,FALSE),\"\")","v":""},"",{"$f":"IFERROR(VLOOKUP($A792,'Lista de Precios_USD$_Euro€'!$E:$O,11,FALSE),\"\")","v":""}]
[null,null,null,{"$f":"IFERROR(VLOOKUP($A793,'Lista de Precios_Bolívares_S'!$F:$Q,6,FALSE),\"\")","v":""},{"$f":"IFERROR(VLOOKUP($A793,'Lista de Precios_Bolívares_S'!$F:$Q,12,FALSE),\"\")","v":""},{"$f":"IFERROR(IF(ROUND($C793,2)=ROUND($D768,2),ROUND($E768,2),ROUND($C793,2)),\"\")","v":""},{"$f":"IFERROR(VLOOKUP($A793,'Lista de Precios_USD$_Euro€'!$E:$O,11,FALSE),\"\")","v":""}]
[null,null,null,{"$f":"IFERROR(VLOOKUP($A794,'Lista de Precios_Bolívares_S'!$F:$Q,6,FALSE),\"\")","v":""},{"$f":"IFERROR(VLOOKUP($A794,'Lista de Precios_Bolívares_S'!$F:$Q,12,FALSE),\"\")","v":""},"",{"$f":"IFERROR(VLOOKUP($A794,'Lista de Precios_USD$_Euro€'!$E:$O,11,FALSE),\"\")","v":""}]
[null,null,null,{"$f":"IFERROR(VLOOKUP($A795,'Lista de Precios_Bolívares_S'!$F:$Q,6,FALSE),\"\")","v":""},{"$f":"IFERROR(VLOOKUP($A795,'Lista de Precios_Bolívares_S'!$F:$Q,12,FALSE),\"\")","v":""},"",{"$f":"IFERROR(VLOOKUP($A795,'Lista de Precios_USD$_Euro€'!$E:$O,11,FALSE),\"\")","v":""}]
[null,null,null,{"$f":"IFERROR(VLOOKUP($A796,'Lista de Precios_Bolívares_S'!$F:$Q,6,FALSE),\"\")","v":""},{"$f":"IFERROR(VLOOKUP($A796,'Lista de Precios_Bolívares_S'!$F:$Q,12,FALSE),\"\")","v":""},"",{"$f":"IFERROR(VLOOKUP($A796,'Lista de Precios_USD$_Euro€'!$E:$O,11,FALSE),\"\")","v":""}]
[null,null,null,{"$f":"IFERROR(VLOOKUP($A797,'Lista de Precios_Bolívares_S'!$F:$Q,6,FALSE),\"\")","v":""},{"$f":"IFERROR(VLOOKUP($A797,'Lista de Precios_Bolívares_S'!$F:$Q,12,FALSE),\"\")","v":""},"",{"$f":"IFERROR(VLOOKUP($A797,'Lista de Precios_USD$_Euro€'!$E:$O,11,FALSE),\"\")","v":""}]
[null,null,null,{"$f":"IFERROR(VLOOKUP($A798,'Lista de Precios_Bolívares_S'!$F:$Q,6,FALSE),\"\")","v":""},{"$f":"IFERROR(VLOOKUP($A798,'Lista de Precios_Bolívares_S'!$F:$Q,12,FALSE),\"\")","v":""},"",{"$f":"IFERROR(VLOOKUP($A798,'Lista de Precios_USD$_Euro€'!$E:$O,11,FALSE),\"\")","v":""}]
[null,null,null,{"$f":"IFERROR(VLOOKUP($A799,'Lista de Precios_Bolívares_S'!$F:$Q,6,FALSE),\"\")","v":""},{"$f":"IFERROR(VLOOKUP($A799,'Lista de Precios_Bolívares_S'!$F:$Q,12,FALSE),\"\")","v":""},"",{"$f":"IFERROR(VLOOKUP($A799,'Lista de Precios_USD$_Euro€'!$E:$O,11,FALSE),\"\")","v":""}]
[null,null,null,{"$f":"IFERROR(VLOOKUP($A800,'Lista de Precios_Bolívares_S'!$F:$Q,6,FALSE),\"\")","v":""},{"$f":"IFERROR(VLOOKUP($A800,'Lista de Precios_Bolívares_S'!$F:$Q,12,FALSE),\"\")","v":""},"",{"$f":"IFERROR(VLOOKUP($A800,'Lista de Precios_USD$_Euro€'!$E:$O,11,FALSE),\"\")","v":""}]
[null,null,null,{"$f":"IFERROR(VLOOKUP($A801,'Lista de Precios_Bolívares_S'!$F:$Q,6,FALSE),\"\")","v":""},{"$f":"IFERROR(VLOOKUP($A801,'Lista de Precios_Bolívares_S'!$F:$Q,12,FALSE),\"\")","v":""},"",{"$f":"IFERROR(VLOOKUP($A801,'Lista de Precios_USD$_Euro€'!$E:$O,11,FALSE),\"\")","v":""}]
[null,null,null,{"$f":"IFERROR(VLOOKUP($A802,'Lista de Precios_Bolívares_S'!$F:$Q,6,FALSE),\"\")","v":""},{"$f":"IFERROR(VLOOKUP($A802,'Lista de Precios_Bolívares_S'!$F:$Q,12,FALSE),\"\")","v":""},"",{"$f":"IFERROR(VLOOKUP($A802,'Lista de Precios_USD$_Euro€'!$E:$O,11,FALSE),\"\")","v":""}]
[null,null,null,{"$f":"IFERROR(VLOOKUP($A803,'Lista de Precios_Bolívares_S'!$F:$Q,6,FALSE),\"\")","v":""},{"$f":"IFERROR(VLOOKUP($A803,'Lista de Precios_Bolívares_S'!$F:$Q,12,FALSE),\"\")","v":""},"",{"$f":"IFERROR(VLOOKUP($A803,'Lista de Precios_USD$_Euro€'!$E:$O,11,FALSE),\"\")","v":""}]
[null,null,null,{"$f":"IFERROR(VLOOKUP($A804,'Lista de Precios_Bolívares_S'!$F:$Q,6,FALSE),\"\")","v":""},{"$f":"IFERROR(VLOOKUP($A804,'Lista de Precios_Bolívares_S'!$F:$Q,12,FALSE),\"\")","v":""},"",{"$f":"IFERROR(VLOOKUP($A804,'Lista de Precios_USD$_Euro€'!$E:$O,11,FALSE),\"\")","v":""}]
[null,null,null,{"$f":"IFERROR(VLOOKUP($A805,'Lista de Precios_Bolívares_S'!$F:$Q,6,FALSE),\"\")","v":""},{"$f":"IFERROR(VLOOKUP($A805,'Lista de Precios_Bolívares_S'!$F:$Q,12,FALSE),\"\")","v":""},"",{"$f":"IFERROR(VLOOKUP($A805,'Lista de Precios_USD$_Euro€'!$E:$O,11,FALSE),\"\")","v":""}]
[null,null,null,{"$f":"IFERROR(VLOOKUP($A806,'Lista de Precios_Bolívares_S'!$F:$Q,6,FALSE),\"\")","v":""},{"$f":"IFERROR(VLOOKUP($A806,'Lista de Precios_Bolívares_S'!$F:$Q,12,FALSE),\"\")","v":""},"",{"$f":"IFERROR(VLOOKUP($A806,'Lista de Precios_USD$_Euro€'!$E:$O,11,FALSE),\"\")","v":""}]
[null,null,null,{"$f":"IFERROR(VLOOKUP($A807,'Lista de Precios_Bolívares_S'!$F:$Q,6,FALSE),\"\")","v":""},{"$f":"IFERROR(VLOOKUP($A807,'Lista de Precios_Bolívares_S'!$F:$Q,12,FALSE),\"\")","v":""},"",{"$f":"IFERROR(VLOOKUP($A807,'Lista de Precios_USD$_Euro€'!$E:$O,11,FALSE),\"\")","v":""}]
[null,null,null,{"$f":"IFERROR(VLOOKUP($A808,'Lista de Precios_Bolívares_S'!$F:$Q,6,FALSE),\"\")","v":""},{"$f":"IFERROR(VLOOKUP($A808,'Lista de Precios_Bolívares_S'!$F:$Q,12,FALSE),\"\")","v":""},"",{"$f":"IFERROR(VLOOKUP($A808,'Lista de Precios_USD$_Euro€'!$E:$O,11,FALSE),\"\")","v":""}]
[null,null,null,{"$f":"IFERROR(VLOOKUP($A809,'Lista de Precios_Bolívares_S'!$F:$Q,6,FALSE),\"\")","v":""},{"$f":"IFERROR(VLOOKUP($A809,'Lista de Precios_Bolívares_S'!$F:$Q,12,FALSE),\"\")","v":""},"",{"$f":"IFERROR(VLOOKUP($A809,'Lista de Precios_USD$_Euro€'!$E:$O,11,FALSE),\"\")","v":""}]
[null,null,null,{"$f":"IFERROR(VLOOKUP($A810,'Lista de Precios_Bolívares_S'!$F:$Q,6,FALSE),\"\")","v":""},{"$f":"IFERROR(VLOOKUP($A810,'Lista de Precios_Bolívares_S'!$F:$Q,12,FALSE),\"\")","v":""},"",{"$f":"IFERROR(VLOOKUP($A810,'Lista de Precios_USD$_Euro€'!$E:$O,11,FALSE),\"\")","v":""}]
[null,null,null,{"$f":"IFERROR(VLOOKUP($A811,'Lista de Precios_Bolívares_S'!$F:$Q,6,FALSE),\"\")","v":""},{"$f":"IFERROR(VLOOKUP($A811,'Lista de Precios_Bolívares_S'!$F:$Q,12,FALSE),\"\")","v":""},"",{"$f":"IFERROR(VLOOKUP($A811,'Lista de Precios_USD$_Euro€'!$E:$O,11,FALSE),\"\")","v":""}]
[null,null,null,{"$f":"IFERROR(VLOOKUP($A812,'Lista de Precios_Bolívares_S'!$F:$Q,6,FALSE),\"\")","v":""},{"$f":"IFERROR(VLOOKUP($A812,'Lista de Precios_Bolívares_S'!$F:$Q,12,FALSE),\"\")","v":""},"",{"$f":"IFERROR(VLOOKUP($A812,'Lista de Precios_USD$_Euro€'!$E:$O,11,FALSE),\"\")","v":""}]
[null,null,null,{"$f":"IFERROR(VLOOKUP($A813,'Lista de Precios_Bolívares_S'!$F:$Q,6,FALSE),\"\")","v":""},{"$f":"IFERROR(VLOOKUP($A813,'Lista de Precios_Bolívares_S'!$F:$Q,12,FALSE),\"\")","v":""},"",{"$f":"IFERROR(VLOOKUP($A813,'Lista de Precios_USD$_Euro€'!$E:$O,11,FALSE),\"\")","v":""}]
[null,null,null,{"$f":"IFERROR(VLOOKUP($A814,'Lista de Precios_Bolívares_S'!$F:$Q,6,FALSE),\"\")","v":""},{"$f":"IFERROR(VLOOKUP($A814,'Lista de Precios_Bolívares_S'!$F:$Q,12,FALSE),\"\")","v":""},"",{"$f":"IFERROR(VLOOKUP($A814,'Lista de Precios_USD$_Euro€'!$E:$O,11,FALSE),\"\")","v":""}]
[null,null,null,{"$f":"IFERROR(VLOOKUP($A815,'Lista de Precios_Bolívares_S'!$F:$Q,6,FALSE),\"\")","v":""},{"$f":"IFERROR(VLOOKUP($A815,'Lista de Precios_Bolívares_S'!$F:$Q,12,FALSE),\"\")","v":""},"",{"$f":"IFERROR(VLOOKUP($A815,'Lista de Precios_USD$_Euro€'!$E:$O,11,FALSE),\"\")","v":""}]
[null,null,null,{"$f":"IFERROR(VLOOKUP($A816,'Lista de Precios_Bolívares_S'!$F:$Q,6,FALSE),\"\")","v":""},{"$f":"IFERROR(VLOOKUP($A816,'Lista de Precios_Bolívares_S'!$F:$Q,12,FALSE),\"\")","v":""},"",{"$f":"IFERROR(VLOOKUP($A816,'Lista de Precios_USD$_Euro€'!$E:$O,11,FALSE),\"\")","v":""}]
[null,null,null,{"$f":"IFERROR(VLOOKUP($A817,'Lista de Precios_Bolívares_S'!$F:$Q,6,FALSE),\"\")","v":""},{"$f":"IFERROR(VLOOKUP($A817,'Lista de Precios_Bolívares_S'!$F:$Q,12,FALSE),\"\")","v":""},"",{"$f":"IFERROR(VLOOKUP($A817,'Lista de Precios_USD$_Euro€'!$E:$O,11,FALSE),\"\")","v":""}]
[null,null,null,{"$f":"IFERROR(VLOOKUP($A818,'Lista de Precios_Bolívares_S'!$F:$Q,6,FALSE),\"\")","v":""},{"$f":"IFERROR(VLOOKUP($A818,'Lista de Precios_Bolívares_S'!$F:$Q,12,FALSE),\"\")","v":""},"",{"$f":"IFERROR(VLOOKUP($A818,'Lista de Precios_USD$_Euro€'!$E:$O,11,FALSE),\"\")","v":""}]
[null,null,null,{"$f":"IFERROR(VLOOKUP($A819,'Lista de Precios_Bolívares_S'!$F:$Q,6,FALSE),\"\")","v":""},{"$f":"IFERROR(VLOOKUP($A819,'Lista de Precios_Bolívares_S'!$F:$Q,12,FALSE),\"\")","v":""},"",{"$f":"IFERROR(VLOOKUP($A819,'Lista de Precios_USD$_Euro€'!$E:$O,11,FALSE),\"\")","v":""}]
[null,null,null,{"$f":"IFERROR(VLOOKUP($A820,'Lista de Precios_Bolívares_S'!$F:$Q,6,FALSE),\"\")","v":""},{"$f":"IFERROR(VLOOKUP($A820,'Lista de Precios_Bolívares_S'!$F:$Q,12,FALSE),\"\")","v":""},"",{"$f":"IFERROR(VLOOKUP($A820,'Lista de Precios_USD$_Euro€'!$E:$O,11,FALSE),\"\")","v":""}]
[null,null,null,{"$f":"IFERROR(VLOOKUP($A821,'Lista de Precios_Bolívares_S'!$F:$Q,6,FALSE),\"\")","v":""},{"$f":"IFERROR(VLOOKUP($A821,'Lista de Precios_Bolívares_S'!$F:$Q,12,FALSE),\"\")","v":""},"",{"$f":"IFERROR(VLOOKUP($A821,'Lista de Precios_USD$_Euro€'!$E:$O,11,FALSE),\"\")","v":""}]
[null,null,null,{"$f":"IFERROR(VLOOKUP($A822,'Lista de Precios_Bolívares_S'!$F:$Q,6,FALSE),\"\")","v":""},{"$f":"IFERROR(VLOOKUP($A822,'Lista de Precios_Bolívares_S'!$F:$Q,12,FALSE),\"\")","v":""},"",{"$f":"IFERROR(VLOOKUP($A822,'Lista de Precios_USD$_Euro€'!$E:$O,11,FALSE),\"\")","v":""}]
[null,null,null,{"$f":"IFERROR(VLOOKUP($A823,'Lista de Precios_Bolívares_S'!$F:$Q,6,FALSE),\"\")","v":""},{"$f":"IFERROR(VLOOKUP($A823,'Lista de Precios_Bolívares_S'!$F:$Q,12,FALSE),\"\")","v":""},"",{"$f":"IFERROR(VLOOKUP($A823,'Lista de Precios_USD$_Euro€'!$E:$O,11,FALSE),\"\")","v":""}]
[null,null,null,{"$f":"IFERROR(VLOOKUP($A824,'Lista de Precios_Bolívares_S'!$F:$Q,6,FALSE),\"\")","v":""},{"$f":"IFERROR(VLOOKUP($A824,'Lista de Precios_Bolívares_S'!$F:$Q,12,FALSE),\"\")","v":""},"",{"$f":"IFERROR(VLOOKUP($A824,'Lista de Precios_USD$_Euro€'!$E:$O,11,FALSE),\"\")","v":""}]
[null,null,null,{"$f":"IFERROR(VLOOKUP($A825,'Lista de Precios_Bolívares_S'!$F:$Q,6,FALSE),\"\")","v":""},{"$f":"IFERROR(VLOOKUP($A825,'Lista de Precios_Bolívares_S'!$F:$Q,12,FALSE),\"\")","v":""},"",{"$f":"IFERROR(VLOOKUP($A825,'Lista de Precios_USD$_Euro€'!$E:$O,11,FALSE),\"\")","v":""}]
[null,null,null,{"$f":"IFERROR(VLOOKUP($A826,'Lista de Precios_Bolívares_S'!$F:$Q,6,FALSE),\"\")","v":""},{"$f":"IFERROR(VLOOKUP($A826,'Lista de Precios_Bolívares_S'!$F:$Q,12,FALSE),\"\")","v":""},"",{"$f":"IFERROR(VLOOKUP($A826,'Lista de Precios_USD$_Euro€'!$E:$O,11,FALSE),\"\")","v":""}]
[null,null,null,{"$f":"IFERROR(VLOOKUP($A827,'Lista de Precios_Bolívares_S'!$F:$Q,6,FALSE),\"\")","v":""},{"$f":"IFERROR(VLOOKUP($A827,'Lista de Precios_Bolívares_S'!$F:$Q,12,FALSE),\"\")","v":""},"",{"$f":"IFERROR(VLOOKUP($A827,'Lista de Precios_USD$_Euro€'!$E:$O,11,FALSE),\"\")","v":""}]
[null,null,null,{"$f":"IFERROR(VLOOKUP($A828,'Lista de Precios_Bolívares_S'!$F:$Q,6,FALSE),\"\")","v":""},{"$f":"IFERROR(VLOOKUP($A828,'Lista de Precios_Bolívares_S'!$F:$Q,12,FALSE),\"\")","v":""},"",{"$f":"IFERROR(VLOOKUP($A828,'Lista de Precios_USD$_Euro€'!$E:$O,11,FALSE),\"\")","v":""}]
[null,null,null,{"$f":"IFERROR(VLOOKUP($A829,'Lista de Precios_Bolívares_S'!$F:$Q,6,FALSE),\"\")","v":""},{"$f":"IFERROR(VLOOKUP($A829,'Lista de Precios_Bolívares_S'!$F:$Q,12,FALSE),\"\")","v":""},"",{"$f":"IFERROR(VLOOKUP($A829,'Lista de Precios_USD$_Euro€'!$E:$O,11,FALSE),\"\")","v":""}]
[null,null,null,{"$f":"IFERROR(VLOOKUP($A830,'Lista de Precios_Bolívares_S'!$F:$Q,6,FALSE),\"\")","v":""},{"$f":"IFERROR(VLOOKUP($A830,'Lista de Precios_Bolívares_S'!$F:$Q,12,FALSE),\"\")","v":""},"",{"$f":"IFERROR(VLOOKUP($A830,'Lista de Precios_USD$_Euro€'!$E:$O,11,FALSE),\"\")","v":""}]
[null,null,null,{"$f":"IFERROR(VLOOKUP($A831,'Lista de Precios_Bolívares_S'!$F:$Q,6,FALSE),\"\")","v":""},{"$f":"IFERROR(VLOOKUP($A831,'Lista de Precios_Bolívares_S'!$F:$Q,12,FALSE),\"\")","v":""},"",{"$f":"IFERROR(VLOOKUP($A831,'Lista de Precios_USD$_Euro€'!$E:$O,11,FALSE),\"\")","v":""}]
[null,null,null,{"$f":"IFERROR(VLOOKUP($A832,'Lista de Precios_Bolívares_S'!$F:$Q,6,FALSE),\"\")","v":""},{"$f":"IFERROR(VLOOKUP($A832,'Lista de Precios_Bolívares_S'!$F:$Q,12,FALSE),\"\")","v":""},"",{"$f":"IFERROR(VLOOKUP($A832,'Lista de Precios_USD$_Euro€'!$E:$O,11,FALSE),\"\")","v":""}]
[null,null,null,{"$f":"IFERROR(VLOOKUP($A833,'Lista de Precios_Bolívares_S'!$F:$Q,6,FALSE),\"\")","v":""},{"$f":"IFERROR(VLOOKUP($A833,'Lista de Precios_Bolívares_S'!$F:$Q,12,FALSE),\"\")","v":""},"",{"$f":"IFERROR(VLOOKUP($A833,'Lista de Precios_USD$_Euro€'!$E:$O,11,FALSE),\"\")","v":""}]
[null,null,null,{"$f":"IFERROR(VLOOKUP($A834,'Lista de Precios_Bolívares_S'!$F:$Q,6,FALSE),\"\")","v":""},{"$f":"IFERROR(VLOOKUP($A834,'Lista de Precios_Bolívares_S'!$F:$Q,12,FALSE),\"\")","v":""},"",{"$f":"IFERROR(VLOOKUP($A834,'Lista de Precios_USD$_Euro€'!$E:$O,11,FALSE),\"\")","v":""}]
[null,null,null,{"$f":"IFERROR(VLOOKUP($A835,'Lista de Precios_Bolívares_S'!$F:$Q,6,FALSE),\"\")","v":""},{"$f":"IFERROR(VLOOKUP($A835,'Lista de Precios_Bolívares_S'!$F:$Q,12,FALSE),\"\")","v":""},"",{"$f":"IFERROR(VLOOKUP($A835,'Lista de Precios_USD$_Euro€'!$E:$O,11,FALSE),\"\")","v":""}]
[null,null,null,{"$f":"IFERROR(VLOOKUP($A836,'Lista de Precios_Bolívares_S'!$F:$Q,6,FALSE),\"\")","v":""},{"$f":"IFERROR(VLOOKUP($A836,'Lista de Precios_Bolívares_S'!$F:$Q,12,FALSE),\"\")","v":""},"",{"$f":"IFERROR(VLOOKUP($A836,'Lista de Precios_USD$_Euro€'!$E:$O,11,FALSE),\"\")","v":""}]
[null,null,null,{"$f":"IFERROR(VLOOKUP($A837,'Lista de Precios_Bolívares_S'!$F:$Q,6,FALSE),\"\")","v":""},{"$f":"IFERROR(VLOOKUP($A837,'Lista de Precios_Bolívares_S'!$F:$Q,12,FALSE),\"\")","v":""},"",{"$f":"IFERROR(VLOOKUP($A837,'Lista de Precios_USD$_Euro€'!$E:$O,11,FALSE),\"\")","v":""}]
[null,null,null,{"$f":"IFERROR(VLOOKUP($A838,'Lista de Precios_Bolívares_S'!$F:$Q,6,FALSE),\"\")","v":""},{"$f":"IFERROR(VLOOKUP($A838,'Lista de Precios_Bolívares_S'!$F:$Q,12,FALSE),\"\")","v":""},"",{"$f":"IFERROR(VLOOKUP($A838,'Lista de Precios_USD$_Euro€'!$E:$O,11,FALSE),\"\")","v":""}]
[null,null,null,{"$f":"IFERROR(VLOOKUP($A839,'Lista de Precios_Bolívares_S'!$F:$Q,6,FALSE),\"\")","v":""},{"$f":"IFERROR(VLOOKUP($A839,'Lista de Precios_Bolívares_S'!$F:$Q,12,FALSE),\"\")","v":""},"",{"$f":"IFERROR(VLOOKUP($A839,'Lista de Precios_USD$_Euro€'!$E:$O,11,FALSE),\"\")","v":""}]
[null,null,null,{"$f":"IFERROR(VLOOKUP($A840,'Lista de Precios_Bolívares_S'!$F:$Q,6,FALSE),\"\")","v":""},{"$f":"IFERROR(VLOOKUP($A840,'Lista de Precios_Bolívares_S'!$F:$Q,12,FALSE),\"\")","v":""},"",{"$f":"IFERROR(VLOOKUP($A840,'Lista de Precios_USD$_Euro€'!$E:$O,11,FALSE),\"\")","v":""}]
[null,null,null,{"$f":"IFERROR(VLOOKUP($A841,'Lista de Precios_Bolívares_S'!$F:$Q,6,FALSE),\"\")","v":""},{"$f":"IFERROR(VLOOKUP($A841,'Lista de Precios_Bolívares_S'!$F:$Q,12,FALSE),\"\")","v":""},"",{"$f":"IFERROR(VLOOKUP($A841,'Lista de Precios_USD$_Euro€'!$E:$O,11,FALSE),\"\")","v":""}]
[null,null,null,{"$f":"IFERROR(VLOOKUP($A842,'Lista de Precios_Bolívares_S'!$F:$Q,6,FALSE),\"\")","v":""},{"$f":"IFERROR(VLOOKUP($A842,'Lista de Precios_Bolívares_S'!$F:$Q,12,FALSE),\"\")","v":""},"",{"$f":"IFERROR(VLOOKUP($A842,'Lista de Precios_USD$_Euro€'!$E:$O,11,FALSE),\"\")","v":""}]
[null,null,null,{"$f":"IFERROR(VLOOKUP($A843,'Lista de Precios_Bolívares_S'!$F:$Q,6,FALSE),\"\")","v":""},{"$f":"IFERROR(VLOOKUP($A843,'Lista de Precios_Bolívares_S'!$F:$Q,12,FALSE),\"\")","v":""},"",{"$f":"IFERROR(VLOOKUP($A843,'Lista de Precios_USD$_Euro€'!$E:$O,11,FALSE),\"\")","v":""}]
[null,null,null,{"$f":"IFERROR(VLOOKUP($A844,'Lista de Precios_Bolívares_S'!$F:$Q,6,FALSE),\"\")","v":""},{"$f":"IFERROR(VLOOKUP($A844,'Lista de Precios_Bolívares_S'!$F:$Q,12,FALSE),\"\")","v":""},"",{"$f":"IFERROR(VLOOKUP($A844,'Lista de Precios_USD$_Euro€'!$E:$O,11,FALSE),\"\")","v":""}]
[null,null,null,{"$f":"IFERROR(VLOOKUP($A845,'Lista de Precios_Bolívares_S'!$F:$Q,6,FALSE),\"\")","v":""},{"$f":"IFERROR(VLOOKUP($A845,'Lista de Precios_Bolívares_S'!$F:$Q,12,FALSE),\"\")","v":""},"",{"$f":"IFERROR(VLOOKUP($A845,'Lista de Precios_USD$_Euro€'!$E:$O,11,FALSE),\"\")","v":""}]
[null,null,null,{"$f":"IFERROR(VLOOKUP($A846,'Lista de Precios_Bolívares_S'!$F:$Q,6,FALSE),\"\")","v":""},{"$f":"IFERROR(VLOOKUP($A846,'Lista de Precios_Bolívares_S'!$F:$Q,12,FALSE),\"\")","v":""},"",{"$f":"IFERROR(VLOOKUP($A846,'Lista de Precios_USD$_Euro€'!$E:$O,11,FALSE),\"\")","v":""}]
[null,null,null,{"$f":"IFERROR(VLOOKUP($A847,'Lista de Precios_Bolívares_S'!$F:$Q,6,FALSE),\"\")","v":""},{"$f":"IFERROR(VLOOKUP($A847,'Lista de Precios_Bolívares_S'!$F:$Q,12,FALSE),\"\")","v":""},"",{"$f":"IFERROR(VLOOKUP($A847,'Lista de Precios_USD$_Euro€'!$E:$O,11,FALSE),\"\")","v":""}]
[null,null,null,{"$f":"IFERROR(VLOOKUP($A848,'Lista de Precios_Bolívares_S'!$F:$Q,6,FALSE),\"\")","v":""},{"$f":"IFERROR(VLOOKUP($A848,'Lista de Precios_Bolívares_S'!$F:$Q,12,FALSE),\"\")","v":""},"",{"$f":"IFERROR(VLOOKUP($A848,'Lista de Precios_USD$_Euro€'!$E:$O,11,FALSE),\"\")","v":""}]
[null,null,null,{"$f":"IFERROR(VLOOKUP($A849,'Lista de Precios_Bolívares_S'!$F:$Q,6,FALSE),\"\")","v":""},{"$f":"IFERROR(VLOOKUP($A849,'Lista de Precios_Bolívares_S'!$F:$Q,12,FALSE),\"\")","v":""},"",{"$f":"IFERROR(VLOOKUP($A849,'Lista de Precios_USD$_Euro€'!$E:$O,11,FALSE),\"\")","v":""}]
[null,null,null,{"$f":"IFERROR(VLOOKUP($A850,'Lista de Precios_Bolívares_S'!$F:$Q,6,FALSE),\"\")","v":""},{"$f":"IFERROR(VLOOKUP($A850,'Lista de Precios_Bolívares_S'!$F:$Q,12,FALSE),\"\")","v":""},"",{"$f":"IFERROR(VLOOKUP($A850,'Lista de Precios_USD$_Euro€'!$E:$O,11,FALSE),\"\")","v":""}]
[null,null,null,{"$f":"IFERROR(VLOOKUP($A851,'Lista de Precios_Bolívares_S'!$F:$Q,6,FALSE),\"\")","v":""},{"$f":"IFERROR(VLOOKUP($A851,'Lista de Precios_Bolívares_S'!$F:$Q,12,FALSE),\"\")","v":""},"",{"$f":"IFERROR(VLOOKUP($A851,'Lista de Precios_USD$_Euro€'!$E:$O,11,FALSE),\"\")","v":""}]
[null,null,null,{"$f":"IFERROR(VLOOKUP($A852,'Lista de Precios_Bolívares_S'!$F:$Q,6,FALSE),\"\")","v":""},{"$f":"IFERROR(VLOOKUP($A852,'Lista de Precios_Bolívares_S'!$F:$Q,12,FALSE),\"\")","v":""},"",{"$f":"IFERROR(VLOOKUP($A852,'Lista de Precios_USD$_Euro€'!$E:$O,11,FALSE),\"\")","v":""}]
[null,null,null,{"$f":"IFERROR(VLOOKUP($A853,'Lista de Precios_Bolívares_S'!$F:$Q,6,FALSE),\"\")","v":""},{"$f":"IFERROR(VLOOKUP($A853,'Lista de Precios_Bolívares_S'!$F:$Q,12,FALSE),\"\")","v":""},"",{"$f":"IFERROR(VLOOKUP($A853,'Lista de Precios_USD$_Euro€'!$E:$O,11,FALSE),\"\")","v":""}]
[null,null,null,{"$f":"IFERROR(VLOOKUP($A854,'Lista de Precios_Bolívares_S'!$F:$Q,6,FALSE),\"\")","v":""},{"$f":"IFERROR(VLOOKUP($A854,'Lista de Precios_Bolívares_S'!$F:$Q,12,FALSE),\"\")","v":""},"",{"$f":"IFERROR(VLOOKUP($A854,'Lista de Precios_USD$_Euro€'!$E:$O,11,FALSE),\"\")","v":""}]
[null,null,null,{"$f":"IFERROR(VLOOKUP($A855,'Lista de Precios_Bolívares_S'!$F:$Q,6,FALSE),\"\")","v":""},{"$f":"IFERROR(VLOOKUP($A855,'Lista de Precios_Bolívares_S'!$F:$Q,12,FALSE),\"\")","v":""},"",{"$f":"IFERROR(VLOOKUP($A855,'Lista de Precios_USD$_Euro€'!$E:$O,11,FALSE),\"\")","v":""}]
[null,null,null,{"$f":"IFERROR(VLOOKUP($A856,'Lista de Precios_Bolívares_S'!$F:$Q,6,FALSE),\"\")","v":""},{"$f":"IFERROR(VLOOKUP($A856,'Lista de Precios_Bolívares_S'!$F:$Q,12,FALSE),\"\")","v":""},"",{"$f":"IFERROR(VLOOKUP($A856,'Lista de Precios_USD$_Euro€'!$E:$O,11,FALSE),\"\")","v":""}]
[null,null,null,{"$f":"IFERROR(VLOOKUP($A857,'Lista de Precios_Bolívares_S'!$F:$Q,6,FALSE),\"\")","v":""},{"$f":"IFERROR(VLOOKUP($A857,'Lista de Precios_Bolívares_S'!$F:$Q,12,FALSE),\"\")","v":""},{"$f":"IFERROR(IF(ROUND($C857,2)=ROUND($D832,2),ROUND($E832,2),ROUND($C857,2)),\"\")","v":""},{"$f":"IFERROR(VLOOKUP($A857,'Lista de Precios_USD$_Euro€'!$E:$O,11,FALSE),\"\")","v":""}]
[null,null,null,{"$f":"IFERROR(VLOOKUP($A858,'Lista de Precios_Bolívares_S'!$F:$Q,6,FALSE),\"\")","v":""},{"$f":"IFERROR(VLOOKUP($A858,'Lista de Precios_Bolívares_S'!$F:$Q,12,FALSE),\"\")","v":""},"",{"$f":"IFERROR(VLOOKUP($A858,'Lista de Precios_USD$_Euro€'!$E:$O,11,FALSE),\"\")","v":""}]
[null,null,null,{"$f":"IFERROR(VLOOKUP($A859,'Lista de Precios_Bolívares_S'!$F:$Q,6,FALSE),\"\")","v":""},{"$f":"IFERROR(VLOOKUP($A859,'Lista de Precios_Bolívares_S'!$F:$Q,12,FALSE),\"\")","v":""},"",{"$f":"IFERROR(VLOOKUP($A859,'Lista de Precios_USD$_Euro€'!$E:$O,11,FALSE),\"\")","v":""}]
[null,null,null,{"$f":"IFERROR(VLOOKUP($A860,'Lista de Precios_Bolívares_S'!$F:$Q,6,FALSE),\"\")","v":""},{"$f":"IFERROR(VLOOKUP($A860,'Lista de Precios_Bolívares_S'!$F:$Q,12,FALSE),\"\")","v":""},"",{"$f":"IFERROR(VLOOKUP($A860,'Lista de Precios_USD$_Euro€'!$E:$O,11,FALSE),\"\")","v":""}]
[null,null,null,{"$f":"IFERROR(VLOOKUP($A861,'Lista de Precios_Bolívares_S'!$F:$Q,6,FALSE),\"\")","v":""},{"$f":"IFERROR(VLOOKUP($A861,'Lista de Precios_Bolívares_S'!$F:$Q,12,FALSE),\"\")","v":""},"",{"$f":"IFERROR(VLOOKUP($A861,'Lista de Precios_USD$_Euro€'!$E:$O,11,FALSE),\"\")","v":""}]
[null,null,null,{"$f":"IFERROR(VLOOKUP($A862,'Lista de Precios_Bolívares_S'!$F:$Q,6,FALSE),\"\")","v":""},{"$f":"IFERROR(VLOOKUP($A862,'Lista de Precios_Bolívares_S'!$F:$Q,12,FALSE),\"\")","v":""},"",{"$f":"IFERROR(VLOOKUP($A862,'Lista de Precios_USD$_Euro€'!$E:$O,11,FALSE),\"\")","v":""}]
[null,null,null,{"$f":"IFERROR(VLOOKUP($A863,'Lista de Precios_Bolívares_S'!$F:$Q,6,FALSE),\"\")","v":""},{"$f":"IFERROR(VLOOKUP($A863,'Lista de Precios_Bolívares_S'!$F:$Q,12,FALSE),\"\")","v":""},"",{"$f":"IFERROR(VLOOKUP($A863,'Lista de Precios_USD$_Euro€'!$E:$O,11,FALSE),\"\")","v":""}]
[null,null,null,{"$f":"IFERROR(VLOOKUP($A864,'Lista de Precios_Bolívares_S'!$F:$Q,6,FALSE),\"\")","v":""},{"$f":"IFERROR(VLOOKUP($A864,'Lista de Precios_Bolívares_S'!$F:$Q,12,FALSE),\"\")","v":""},"",{"$f":"IFERROR(VLOOKUP($A864,'Lista de Precios_USD$_Euro€'!$E:$O,11,FALSE),\"\")","v":""}]
[null,null,null,{"$f":"IFERROR(VLOOKUP($A865,'Lista de Precios_Bolívares_S'!$F:$Q,6,FALSE),\"\")","v":""},{"$f":"IFERROR(VLOOKUP($A865,'Lista de Precios_Bolívares_S'!$F:$Q,12,FALSE),\"\")","v":""},"",{"$f":"IFERROR(VLOOKUP($A865,'Lista de Precios_USD$_Euro€'!$E:$O,11,FALSE),\"\")","v":""}]
[null,null,null,{"$f":"IFERROR(VLOOKUP($A866,'Lista de Precios_Bolívares_S'!$F:$Q,6,FALSE),\"\")","v":""},{"$f":"IFERROR(VLOOKUP($A866,'Lista de Precios_Bolívares_S'!$F:$Q,12,FALSE),\"\")","v":""},"",{"$f":"IFERROR(VLOOKUP($A866,'Lista de Precios_USD$_Euro€'!$E:$O,11,FALSE),\"\")","v":""}]
[null,null,null,{"$f":"IFERROR(VLOOKUP($A867,'Lista de Precios_Bolívares_S'!$F:$Q,6,FALSE),\"\")","v":""},{"$f":"IFERROR(VLOOKUP($A867,'Lista de Precios_Bolívares_S'!$F:$Q,12,FALSE),\"\")","v":""},"",{"$f":"IFERROR(VLOOKUP($A867,'Lista de Precios_USD$_Euro€'!$E:$O,11,FALSE),\"\")","v":""}]
[null,null,null,{"$f":"IFERROR(VLOOKUP($A868,'Lista de Precios_Bolívares_S'!$F:$Q,6,FALSE),\"\")","v":""},{"$f":"IFERROR(VLOOKUP($A868,'Lista de Precios_Bolívares_S'!$F:$Q,12,FALSE),\"\")","v":""},"",{"$f":"IFERROR(VLOOKUP($A868,'Lista de Precios_USD$_Euro€'!$E:$O,11,FALSE),\"\")","v":""}]
[null,null,null,{"$f":"IFERROR(VLOOKUP($A869,'Lista de Precios_Bolívares_S'!$F:$Q,6,FALSE),\"\")","v":""},{"$f":"IFERROR(VLOOKUP($A869,'Lista de Precios_Bolívares_S'!$F:$Q,12,FALSE),\"\")","v":""},"",{"$f":"IFERROR(VLOOKUP($A869,'Lista de Precios_USD$_Euro€'!$E:$O,11,FALSE),\"\")","v":""}]
[null,null,null,{"$f":"IFERROR(VLOOKUP($A870,'Lista de Precios_Bolívares_S'!$F:$Q,6,FALSE),\"\")","v":""},{"$f":"IFERROR(VLOOKUP($A870,'Lista de Precios_Bolívares_S'!$F:$Q,12,FALSE),\"\")","v":""},"",{"$f":"IFERROR(VLOOKUP($A870,'Lista de Precios_USD$_Euro€'!$E:$O,11,FALSE),\"\")","v":""}]
[null,null,null,{"$f":"IFERROR(VLOOKUP($A871,'Lista de Precios_Bolívares_S'!$F:$Q,6,FALSE),\"\")","v":""},{"$f":"IFERROR(VLOOKUP($A871,'Lista de Precios_Bolívares_S'!$F:$Q,12,FALSE),\"\")","v":""},"",{"$f":"IFERROR(VLOOKUP($A871,'Lista de Precios_USD$_Euro€'!$E:$O,11,FALSE),\"\")","v":""}]
[null,null,null,{"$f":"IFERROR(VLOOKUP($A872,'Lista de Precios_Bolívares_S'!$F:$Q,6,FALSE),\"\")","v":""},{"$f":"IFERROR(VLOOKUP($A872,'Lista de Precios_Bolívares_S'!$F:$Q,12,FALSE),\"\")","v":""},"",{"$f":"IFERROR(VLOOKUP($A872,'Lista de Precios_USD$_Euro€'!$E:$O,11,FALSE),\"\")","v":""}]
[null,null,null,{"$f":"IFERROR(VLOOKUP($A873,'Lista de Precios_Bolívares_S'!$F:$Q,6,FALSE),\"\")","v":""},{"$f":"IFERROR(VLOOKUP($A873,'Lista de Precios_Bolívares_S'!$F:$Q,12,FALSE),\"\")","v":""},"",{"$f":"IFERROR(VLOOKUP($A873,'Lista de Precios_USD$_Euro€'!$E:$O,11,FALSE),\"\")","v":""}]
[null,null,null,{"$f":"IFERROR(VLOOKUP($A874,'Lista de Precios_Bolívares_S'!$F:$Q,6,FALSE),\"\")","v":""},{"$f":"IFERROR(VLOOKUP($A874,'Lista de Precios_Bolívares_S'!$F:$Q,12,FALSE),\"\")","v":""},"",{"$f":"IFERROR(VLOOKUP($A874,'Lista de Precios_USD$_Euro€'!$E:$O,11,FALSE),\"\")","v":""}]
[null,null,null,{"$f":"IFERROR(VLOOKUP($A875,'Lista de Precios_Bolívares_S'!$F:$Q,6,FALSE),\"\")","v":""},{"$f":"IFERROR(VLOOKUP($A875,'Lista de Precios_Bolívares_S'!$F:$Q,12,FALSE),\"\")","v":""},"",{"$f":"IFERROR(VLOOKUP($A875,'Lista de Precios_USD$_Euro€'!$E:$O,11,FALSE),\"\")","v":""}]
[null,null,null,{"$f":"IFERROR(VLOOKUP($A876,'Lista de Precios_Bolívares_S'!$F:$Q,6,FALSE),\"\")","v":""},{"$f":"IFERROR(VLOOKUP($A876,'Lista de Precios_Bolívares_S'!$F:$Q,12,FALSE),\"\")","v":""},"",{"$f":"IFERROR(VLOOKUP($A876,'Lista de Precios_USD$_Euro€'!$E:$O,11,FALSE),\"\")","v":""}]
[null,null,null,{"$f":"IFERROR(VLOOKUP($A877,'Lista de Precios_Bolívares_S'!$F:$Q,6,FALSE),\"\")","v":""},{"$f":"IFERROR(VLOOKUP($A877,'Lista de Precios_Bolívares_S'!$F:$Q,12,FALSE),\"\")","v":""},"",{"$f":"IFERROR(VLOOKUP($A877,'Lista de Precios_USD$_Euro€'!$E:$O,11,FALSE),\"\")","v":""}]
[null,null,null,{"$f":"IFERROR(VLOOKUP($A878,'Lista de Precios_Bolívares_S'!$F:$Q,6,FALSE),\"\")","v":""},{"$f":"IFERROR(VLOOKUP($A878,'Lista de Precios_Bolívares_S'!$F:$Q,12,FALSE),\"\")","v":""},"",{"$f":"IFERROR(VLOOKUP($A878,'Lista de Precios_USD$_Euro€'!$E:$O,11,FALSE),\"\")","v":""}]
[null,null,null,{"$f":"IFERROR(VLOOKUP($A879,'Lista de Precios_Bolívares_S'!$F:$Q,6,FALSE),\"\")","v":""},{"$f":"IFERROR(VLOOKUP($A879,'Lista de Precios_Bolívares_S'!$F:$Q,12,FALSE),\"\")","v":""},"",{"$f":"IFERROR(VLOOKUP($A879,'Lista de Precios_USD$_Euro€'!$E:$O,11,FALSE),\"\")","v":""}]
[null,null,null,{"$f":"IFERROR(VLOOKUP($A880,'Lista de Precios_Bolívares_S'!$F:$Q,6,FALSE),\"\")","v":""},{"$f":"IFERROR(VLOOKUP($A880,'Lista de Precios_Bolívares_S'!$F:$Q,12,FALSE),\"\")","v":""},"",{"$f":"IFERROR(VLOOKUP($A880,'Lista de Precios_USD$_Euro€'!$E:$O,11,FALSE),\"\")","v":""}]
[null,null,null,{"$f":"IFERROR(VLOOKUP($A881,'Lista de Precios_Bolívares_S'!$F:$Q,6,FALSE),\"\")","v":""},{"$f":"IFERROR(VLOOKUP($A881,'Lista de Precios_Bolívares_S'!$F:$Q,12,FALSE),\"\")","v":""},"",{"$f":"IFERROR(VLOOKUP($A881,'Lista de Precios_USD$_Euro€'!$E:$O,11,FALSE),\"\")","v":""}]
[null,null,null,{"$f":"IFERROR(VLOOKUP($A882,'Lista de Precios_Bolívares_S'!$F:$Q,6,FALSE),\"\")","v":""},{"$f":"IFERROR(VLOOKUP($A882,'Lista de Precios_Bolívares_S'!$F:$Q,12,FALSE),\"\")","v":""},"",{"$f":"IFERROR(VLOOKUP($A882,'Lista de Precios_USD$_Euro€'!$E:$O,11,FALSE),\"\")","v":""}]
[null,null,null,{"$f":"IFERROR(VLOOKUP($A883,'Lista de Precios_Bolívares_S'!$F:$Q,6,FALSE),\"\")","v":""},{"$f":"IFERROR(VLOOKUP($A883,'Lista de Precios_Bolívares_S'!$F:$Q,12,FALSE),\"\")","v":""},"",{"$f":"IFERROR(VLOOKUP($A883,'Lista de Precios_USD$_Euro€'!$E:$O,11,FALSE),\"\")","v":""}]
[null,null,null,{"$f":"IFERROR(VLOOKUP($A884,'Lista de Precios_Bolívares_S'!$F:$Q,6,FALSE),\"\")","v":""},{"$f":"IFERROR(VLOOKUP($A884,'Lista de Precios_Bolívares_S'!$F:$Q,12,FALSE),\"\")","v":""},"",{"$f":"IFERROR(VLOOKUP($A884,'Lista de Precios_USD$_Euro€'!$E:$O,11,FALSE),\"\")","v":""}]
[null,null,null,{"$f":"IFERROR(VLOOKUP($A885,'Lista de Precios_Bolívares_S'!$F:$Q,6,FALSE),\"\")","v":""},{"$f":"IFERROR(VLOOKUP($A885,'Lista de Precios_Bolívares_S'!$F:$Q,12,FALSE),\"\")","v":""},"",{"$f":"IFERROR(VLOOKUP($A885,'Lista de Precios_USD$_Euro€'!$E:$O,11,FALSE),\"\")","v":""}]
[null,null,null,{"$f":"IFERROR(VLOOKUP($A886,'Lista de Precios_Bolívares_S'!$F:$Q,6,FALSE),\"\")","v":""},{"$f":"IFERROR(VLOOKUP($A886,'Lista de Precios_Bolívares_S'!$F:$Q,12,FALSE),\"\")","v":""},"",{"$f":"IFERROR(VLOOKUP($A886,'Lista de Precios_USD$_Euro€'!$E:$O,11,FALSE),\"\")","v":""}]
[null,null,null,{"$f":"IFERROR(VLOOKUP($A887,'Lista de Precios_Bolívares_S'!$F:$Q,6,FALSE),\"\")","v":""},{"$f":"IFERROR(VLOOKUP($A887,'Lista de Precios_Bolívares_S'!$F:$Q,12,FALSE),\"\")","v":""},"",{"$f":"IFERROR(VLOOKUP($A887,'Lista de Precios_USD$_Euro€'!$E:$O,11,FALSE),\"\")","v":""}]
[null,null,null,{"$f":"IFERROR(VLOOKUP($A888,'Lista de Precios_Bolívares_S'!$F:$Q,6,FALSE),\"\")","v":""},{"$f":"IFERROR(VLOOKUP($A888,'Lista de Precios_Bolívares_S'!$F:$Q,12,FALSE),\"\")","v":""},"",{"$f":"IFERROR(VLOOKUP($A888,'Lista de Precios_USD$_Euro€'!$E:$O,11,FALSE),\"\")","v":""}]
[null,null,null,{"$f":"IFERROR(VLOOKUP($A889,'Lista de Precios_Bolívares_S'!$F:$Q,6,FALSE),\"\")","v":""},{"$f":"IFERROR(VLOOKUP($A889,'Lista de Precios_Bolívares_S'!$F:$Q,12,FALSE),\"\")","v":""},"",{"$f":"IFERROR(VLOOKUP($A889,'Lista de Precios_USD$_Euro€'!$E:$O,11,FALSE),\"\")","v":""}]
[null,null,null,{"$f":"IFERROR(VLOOKUP($A890,'Lista de Precios_Bolívares_S'!$F:$Q,6,FALSE),\"\")","v":""},{"$f":"IFERROR(VLOOKUP($A890,'Lista de Precios_Bolívares_S'!$F:$Q,12,FALSE),\"\")","v":""},"",{"$f":"IFERROR(VLOOKUP($A890,'Lista de Precios_USD$_Euro€'!$E:$O,11,FALSE),\"\")","v":""}]
[null,null,null,{"$f":"IFERROR(VLOOKUP($A891,'Lista de Precios_Bolívares_S'!$F:$Q,6,FALSE),\"\")","v":""},{"$f":"IFERROR(VLOOKUP($A891,'Lista de Precios_Bolívares_S'!$F:$Q,12,FALSE),\"\")","v":""},"",{"$f":"IFERROR(VLOOKUP($A891,'Lista de Precios_USD$_Euro€'!$E:$O,11,FALSE),\"\")","v":""}]
[null,null,null,{"$f":"IFERROR(VLOOKUP($A892,'Lista de Precios_Bolívares_S'!$F:$Q,6,FALSE),\"\")","v":""},{"$f":"IFERROR(VLOOKUP($A892,'Lista de Precios_Bolívares_S'!$F:$Q,12,FALSE),\"\")","v":""},"",{"$f":"IFERROR(VLOOKUP($A892,'Lista de Precios_USD$_Euro€'!$E:$O,11,FALSE),\"\")","v":""}]
[null,null,null,{"$f":"IFERROR(VLOOKUP($A893,'Lista de Precios_Bolívares_S'!$F:$Q,6,FALSE),\"\")","v":""},{"$f":"IFERROR(VLOOKUP($A893,'Lista de Precios_Bolívares_S'!$F:$Q,12,FALSE),\"\")","v":""},"",{"$f":"IFERROR(VLOOKUP($A893,'Lista de Precios_USD$_Euro€'!$E:$O,11,FALSE),\"\")","v":""}]
[null,null,null,{"$f":"IFERROR(VLOOKUP($A894,'Lista de Precios_Bolívares_S'!$F:$Q,6,FALSE),\"\")","v":""},{"$f":"IFERROR(VLOOKUP($A894,'Lista de Precios_Bolívares_S'!$F:$Q,12,FALSE),\"\")","v":""},"",{"$f":"IFERROR(VLOOKUP($A894,'Lista de Precios_USD$_Euro€'!$E:$O,11,FALSE),\"\")","v":""}]
[null,null,null,{"$f":"IFERROR(VLOOKUP($A895,'Lista de Precios_Bolívares_S'!$F:$Q,6,FALSE),\"\")","v":""},{"$f":"IFERROR(VLOOKUP($A895,'Lista de Precios_Bolívares_S'!$F:$Q,12,FALSE),\"\")","v":""},"",{"$f":"IFERROR(VLOOKUP($A895,'Lista de Precios_USD$_Euro€'!$E:$O,11,FALSE),\"\")","v":""}]
[null,null,null,{"$f":"IFERROR(VLOOKUP($A896,'Lista de Precios_Bolívares_S'!$F:$Q,6,FALSE),\"\")","v":""},{"$f":"IFERROR(VLOOKUP($A896,'Lista de Precios_Bolívares_S'!$F:$Q,12,FALSE),\"\")","v":""},"",{"$f":"IFERROR(VLOOKUP($A896,'Lista de Precios_USD$_Euro€'!$E:$O,11,FALSE),\"\")","v":""}]
[null,null,null,{"$f":"IFERROR(VLOOKUP($A897,'Lista de Precios_Bolívares_S'!$F:$Q,6,FALSE),\"\")","v":""},{"$f":"IFERROR(VLOOKUP($A897,'Lista de Precios_Bolívares_S'!$F:$Q,12,FALSE),\"\")","v":""},"",{"$f":"IFERROR(VLOOKUP($A897,'Lista de Precios_USD$_Euro€'!$E:$O,11,FALSE),\"\")","v":""}]
[null,null,null,{"$f":"IFERROR(VLOOKUP($A898,'Lista de Precios_Bolívares_S'!$F:$Q,6,FALSE),\"\")","v":""},{"$f":"IFERROR(VLOOKUP($A898,'Lista de Precios_Bolívares_S'!$F:$Q,12,FALSE),\"\")","v":""},"",{"$f":"IFERROR(VLOOKUP($A898,'Lista de Precios_USD$_Euro€'!$E:$O,11,FALSE),\"\")","v":""}]
[null,null,null,{"$f":"IFERROR(VLOOKUP($A899,'Lista de Precios_Bolívares_S'!$F:$Q,6,FALSE),\"\")","v":""},{"$f":"IFERROR(VLOOKUP($A899,'Lista de Precios_Bolívares_S'!$F:$Q,12,FALSE),\"\")","v":""},"",{"$f":"IFERROR(VLOOKUP($A899,'Lista de Precios_USD$_Euro€'!$E:$O,11,FALSE),\"\")","v":""}]
[null,null,null,{"$f":"IFERROR(VLOOKUP($A900,'Lista de Precios_Bolívares_S'!$F:$Q,6,FALSE),\"\")","v":""},{"$f":"IFERROR(VLOOKUP($A900,'Lista de Precios_Bolívares_S'!$F:$Q,12,FALSE),\"\")","v":""},"",{"$f":"IFERROR(VLOOKUP($A900,'Lista de Precios_USD$_Euro€'!$E:$O,11,FALSE),\"\")","v":""}]
[null,null,null,{"$f":"IFERROR(VLOOKUP($A901,'Lista de Precios_Bolívares_S'!$F:$Q,6,FALSE),\"\")","v":""},{"$f":"IFERROR(VLOOKUP($A901,'Lista de Precios_Bolívares_S'!$F:$Q,12,FALSE),\"\")","v":""},"",{"$f":"IFERROR(VLOOKUP($A901,'Lista de Precios_USD$_Euro€'!$E:$O,11,FALSE),\"\")","v":""}]
[null,null,null,{"$f":"IFERROR(VLOOKUP($A902,'Lista de Precios_Bolívares_S'!$F:$Q,6,FALSE),\"\")","v":""},{"$f":"IFERROR(VLOOKUP($A902,'Lista de Precios_Bolívares_S'!$F:$Q,12,FALSE),\"\")","v":""},"",{"$f":"IFERROR(VLOOKUP($A902,'Lista de Precios_USD$_Euro€'!$E:$O,11,FALSE),\"\")","v":""}]
[null,null,null,{"$f":"IFERROR(VLOOKUP($A903,'Lista de Precios_Bolívares_S'!$F:$Q,6,FALSE),\"\")","v":""},{"$f":"IFERROR(VLOOKUP($A903,'Lista de Precios_Bolívares_S'!$F:$Q,12,FALSE),\"\")","v":""},"",{"$f":"IFERROR(VLOOKUP($A903,'Lista de Precios_USD$_Euro€'!$E:$O,11,FALSE),\"\")","v":""}]
[null,null,null,{"$f":"IFERROR(VLOOKUP($A904,'Lista de Precios_Bolívares_S'!$F:$Q,6,FALSE),\"\")","v":""},{"$f":"IFERROR(VLOOKUP($A904,'Lista de Precios_Bolívares_S'!$F:$Q,12,FALSE),\"\")","v":""},"",{"$f":"IFERROR(VLOOKUP($A904,'Lista de Precios_USD$_Euro€'!$E:$O,11,FALSE),\"\")","v":""}]
[null,null,null,{"$f":"IFERROR(VLOOKUP($A905,'Lista de Precios_Bolívares_S'!$F:$Q,6,FALSE),\"\")","v":""},{"$f":"IFERROR(VLOOKUP($A905,'Lista de Precios_Bolívares_S'!$F:$Q,12,FALSE),\"\")","v":""},"",{"$f":"IFERROR(VLOOKUP($A905,'Lista de Precios_USD$_Euro€'!$E:$O,11,FALSE),\"\")","v":""}]
[null,null,null,{"$f":"IFERROR(VLOOKUP($A906,'Lista de Precios_Bolívares_S'!$F:$Q,6,FALSE),\"\")","v":""},{"$f":"IFERROR(VLOOKUP($A906,'Lista de Precios_Bolívares_S'!$F:$Q,12,FALSE),\"\")","v":""},"",{"$f":"IFERROR(VLOOKUP($A906,'Lista de Precios_USD$_Euro€'!$E:$O,11,FALSE),\"\")","v":""}]
[null,null,null,{"$f":"IFERROR(VLOOKUP($A907,'Lista de Precios_Bolívares_S'!$F:$Q,6,FALSE),\"\")","v":""},{"$f":"IFERROR(VLOOKUP($A907,'Lista de Precios_Bolívares_S'!$F:$Q,12,FALSE),\"\")","v":""},"",{"$f":"IFERROR(VLOOKUP($A907,'Lista de Precios_USD$_Euro€'!$E:$O,11,FALSE),\"\")","v":""}]
[null,null,null,{"$f":"IFERROR(VLOOKUP($A908,'Lista de Precios_Bolívares_S'!$F:$Q,6,FALSE),\"\")","v":""},{"$f":"IFERROR(VLOOKUP($A908,'Lista de Precios_Bolívares_S'!$F:$Q,12,FALSE),\"\")","v":""},"",{"$f":"IFERROR(VLOOKUP($A908,'Lista de Precios_USD$_Euro€'!$E:$O,11,FALSE),\"\")","v":""}]
[null,null,null,{"$f":"IFERROR(VLOOKUP($A909,'Lista de Precios_Bolívares_S'!$F:$Q,6,FALSE),\"\")","v":""},{"$f":"IFERROR(VLOOKUP($A909,'Lista de Precios_Bolívares_S'!$F:$Q,12,FALSE),\"\")","v":""},"",{"$f":"IFERROR(VLOOKUP($A909,'Lista de Precios_USD$_Euro€'!$E:$O,11,FALSE),\"\")","v":""}]
[null,null,null,{"$f":"IFERROR(VLOOKUP($A910,'Lista de Precios_Bolívares_S'!$F:$Q,6,FALSE),\"\")","v":""},{"$f":"IFERROR(VLOOKUP($A910,'Lista de Precios_Bolívares_S'!$F:$Q,12,FALSE),\"\")","v":""},"",{"$f":"IFERROR(VLOOKUP($A910,'Lista de Precios_USD$_Euro€'!$E:$O,11,FALSE),\"\")","v":""}]
[null,null,null,{"$f":"IFERROR(VLOOKUP($A911,'Lista de Precios_Bolívares_S'!$F:$Q,6,FALSE),\"\")","v":""},{"$f":"IFERROR(VLOOKUP($A911,'Lista de Precios_Bolívares_S'!$F:$Q,12,FALSE),\"\")","v":""},"",{"$f":"IFERROR(VLOOKUP($A911,'Lista de Precios_USD$_Euro€'!$E:$O,11,FALSE),\"\")","v":""}]
[null,null,null,{"$f":"IFERROR(VLOOKUP($A912,'Lista de Precios_Bolívares_S'!$F:$Q,6,FALSE),\"\")","v":""},{"$f":"IFERROR(VLOOKUP($A912,'Lista de Precios_Bolívares_S'!$F:$Q,12,FALSE),\"\")","v":""},"",{"$f":"IFERROR(VLOOKUP($A912,'Lista de Precios_USD$_Euro€'!$E:$O,11,FALSE),\"\")","v":""}]
[null,null,null,{"$f":"IFERROR(VLOOKUP($A913,'Lista de Precios_Bolívares_S'!$F:$Q,6,FALSE),\"\")","v":""},{"$f":"IFERROR(VLOOKUP($A913,'Lista de Precios_Bolívares_S'!$F:$Q,12,FALSE),\"\")","v":""},"",{"$f":"IFERROR(VLOOKUP($A913,'Lista de Precios_USD$_Euro€'!$E:$O,11,FALSE),\"\")","v":""}]
[null,null,null,{"$f":"IFERROR(VLOOKUP($A914,'Lista de Precios_Bolívares_S'!$F:$Q,6,FALSE),\"\")","v":""},{"$f":"IFERROR(VLOOKUP($A914,'Lista de Precios_Bolívares_S'!$F:$Q,12,FALSE),\"\")","v":""},"",{"$f":"IFERROR(VLOOKUP($A914,'Lista de Precios_USD$_Euro€'!$E:$O,11,FALSE),\"\")","v":""}]
[null,null,null,{"$f":"IFERROR(VLOOKUP($A915,'Lista de Precios_Bolívares_S'!$F:$Q,6,FALSE),\"\")","v":""},{"$f":"IFERROR(VLOOKUP($A915,'Lista de Precios_Bolívares_S'!$F:$Q,12,FALSE),\"\")","v":""},"",{"$f":"IFERROR(VLOOKUP($A915,'Lista de Precios_USD$_Euro€'!$E:$O,11,FALSE),\"\")","v":""}]
[null,null,null,{"$f":"IFERROR(VLOOKUP($A916,'Lista de Precios_Bolívares_S'!$F:$Q,6,FALSE),\"\")","v":""},{"$f":"IFERROR(VLOOKUP($A916,'Lista de Precios_Bolívares_S'!$F:$Q,12,FALSE),\"\")","v":""},"",{"$f":"IFERROR(VLOOKUP($A916,'Lista de Precios_USD$_Euro€'!$E:$O,11,FALSE),\"\")","v":""}]
[null,null,null,{"$f":"IFERROR(VLOOKUP($A917,'Lista de Precios_Bolívares_S'!$F:$Q,6,FALSE),\"\")","v":""},{"$f":"IFERROR(VLOOKUP($A917,'Lista de Precios_Bolívares_S'!$F:$Q,12,FALSE),\"\")","v":""},"",{"$f":"IFERROR(VLOOKUP($A917,'Lista de Precios_USD$_Euro€'!$E:$O,11,FALSE),\"\")","v":""}]
[null,null,null,{"$f":"IFERROR(VLOOKUP($A918,'Lista de Precios_Bolívares_S'!$F:$Q,6,FALSE),\"\")","v":""},{"$f":"IFERROR(VLOOKUP($A918,'Lista de Precios_Bolívares_S'!$F:$Q,12,FALSE),\"\")","v":""},"",{"$f":"IFERROR(VLOOKUP($A918,'Lista de Precios_USD$_Euro€'!$E:$O,11,FALSE),\"\")","v":""}]
[null,null,null,{"$f":"IFERROR(VLOOKUP($A919,'Lista de Precios_Bolívares_S'!$F:$Q,6,FALSE),\"\")","v":""},{"$f":"IFERROR(VLOOKUP($A919,'Lista de Precios_Bolívares_S'!$F:$Q,12,FALSE),\"\")","v":""},"",{"$f":"IFERROR(VLOOKUP($A919,'Lista de Precios_USD$_Euro€'!$E:$O,11,FALSE),\"\")","v":""}]
[null,null,null,{"$f":"IFERROR(VLOOKUP($A920,'Lista de Precios_Bolívares_S'!$F:$Q,6,FALSE),\"\")","v":""},{"$f":"IFERROR(VLOOKUP($A920,'Lista de Precios_Bolívares_S'!$F:$Q,12,FALSE),\"\")","v":""},"",{"$f":"IFERROR(VLOOKUP($A920,'Lista de Precios_USD$_Euro€'!$E:$O,11,FALSE),\"\")","v":""}]
[null,null,null,{"$f":"IFERROR(VLOOKUP($A921,'Lista de Precios_Bolívares_S'!$F:$Q,6,FALSE),\"\")","v":""},{"$f":"IFERROR(VLOOKUP($A921,'Lista de Precios_Bolívares_S'!$F:$Q,12,FALSE),\"\")","v":""},{"$f":"IFERROR(IF(ROUND($C921,2)=ROUND($D896,2),ROUND($E896,2),ROUND($C921,2)),\"\")","v":""},{"$f":"IFERROR(VLOOKUP($A921,'Lista de Precios_USD$_Euro€'!$E:$O,11,FALSE),\"\")","v":""}]
[null,null,null,{"$f":"IFERROR(VLOOKUP($A922,'Lista de Precios_Bolívares_S'!$F:$Q,6,FALSE),\"\")","v":""},{"$f":"IFERROR(VLOOKUP($A922,'Lista de Precios_Bolívares_S'!$F:$Q,12,FALSE),\"\")","v":""},"",{"$f":"IFERROR(VLOOKUP($A922,'Lista de Precios_USD$_Euro€'!$E:$O,11,FALSE),\"\")","v":""}]
[null,null,null,{"$f":"IFERROR(VLOOKUP($A923,'Lista de Precios_Bolívares_S'!$F:$Q,6,FALSE),\"\")","v":""},{"$f":"IFERROR(VLOOKUP($A923,'Lista de Precios_Bolívares_S'!$F:$Q,12,FALSE),\"\")","v":""},"",{"$f":"IFERROR(VLOOKUP($A923,'Lista de Precios_USD$_Euro€'!$E:$O,11,FALSE),\"\")","v":""}]
[null,null,null,{"$f":"IFERROR(VLOOKUP($A924,'Lista de Precios_Bolívares_S'!$F:$Q,6,FALSE),\"\")","v":""},{"$f":"IFERROR(VLOOKUP($A924,'Lista de Precios_Bolívares_S'!$F:$Q,12,FALSE),\"\")","v":""},"",{"$f":"IFERROR(VLOOKUP($A924,'Lista de Precios_USD$_Euro€'!$E:$O,11,FALSE),\"\")","v":""}]
[null,null,null,{"$f":"IFERROR(VLOOKUP($A925,'Lista de Precios_Bolívares_S'!$F:$Q,6,FALSE),\"\")","v":""},{"$f":"IFERROR(VLOOKUP($A925,'Lista de Precios_Bolívares_S'!$F:$Q,12,FALSE),\"\")","v":""},"",{"$f":"IFERROR(VLOOKUP($A925,'Lista de Precios_USD$_Euro€'!$E:$O,11,FALSE),\"\")","v":""}]
[null,null,null,{"$f":"IFERROR(VLOOKUP($A926,'Lista de Precios_Bolívares_S'!$F:$Q,6,FALSE),\"\")","v":""},{"$f":"IFERROR(VLOOKUP($A926,'Lista de Precios_Bolívares_S'!$F:$Q,12,FALSE),\"\")","v":""},"",{"$f":"IFERROR(VLOOKUP($A926,'Lista de Precios_USD$_Euro€'!$E:$O,11,FALSE),\"\")","v":""}]
[null,null,null,{"$f":"IFERROR(VLOOKUP($A927,'Lista de Precios_Bolívares_S'!$F:$Q,6,FALSE),\"\")","v":""},{"$f":"IFERROR(VLOOKUP($A927,'Lista de Precios_Bolívares_S'!$F:$Q,12,FALSE),\"\")","v":""},"",{"$f":"IFERROR(VLOOKUP($A927,'Lista de Precios_USD$_Euro€'!$E:$O,11,FALSE),\"\")","v":""}]
[null,null,null,{"$f":"IFERROR(VLOOKUP($A928,'Lista de Precios_Bolívares_S'!$F:$Q,6,FALSE),\"\")","v":""},{"$f":"IFERROR(VLOOKUP($A928,'Lista de Precios_Bolívares_S'!$F:$Q,12,FALSE),\"\")","v":""},"",{"$f":"IFERROR(VLOOKUP($A928,'Lista de Precios_USD$_Euro€'!$E:$O,11,FALSE),\"\")","v":""}]
[null,null,null,{"$f":"IFERROR(VLOOKUP($A929,'Lista de Precios_Bolívares_S'!$F:$Q,6,FALSE),\"\")","v":""},{"$f":"IFERROR(VLOOKUP($A929,'Lista de Precios_Bolívares_S'!$F:$Q,12,FALSE),\"\")","v":""},"",{"$f":"IFERROR(VLOOKUP($A929,'Lista de Precios_USD$_Euro€'!$E:$O,11,FALSE),\"\")","v":""}]
[null,null,null,{"$f":"IFERROR(VLOOKUP($A930,'Lista de Precios_Bolívares_S'!$F:$Q,6,FALSE),\"\")","v":""},{"$f":"IFERROR(VLOOKUP($A930,'Lista de Precios_Bolívares_S'!$F:$Q,12,FALSE),\"\")","v":""},"",{"$f":"IFERROR(VLOOKUP($A930,'Lista de Precios_USD$_Euro€'!$E:$O,11,FALSE),\"\")","v":""}]
[null,null,null,{"$f":"IFERROR(VLOOKUP($A931,'Lista de Precios_Bolívares_S'!$F:$Q,6,FALSE),\"\")","v":""},{"$f":"IFERROR(VLOOKUP($A931,'Lista de Precios_Bolívares_S'!$F:$Q,12,FALSE),\"\")","v":""},"",{"$f":"IFERROR(VLOOKUP($A931,'Lista de Precios_USD$_Euro€'!$E:$O,11,FALSE),\"\")","v":""}]
[null,null,null,{"$f":"IFERROR(VLOOKUP($A932,'Lista de Precios_Bolívares_S'!$F:$Q,6,FALSE),\"\")","v":""},{"$f":"IFERROR(VLOOKUP($A932,'Lista de Precios_Bolívares_S'!$F:$Q,12,FALSE),\"\")","v":""},"",{"$f":"IFERROR(VLOOKUP($A932,'Lista de Precios_USD$_Euro€'!$E:$O,11,FALSE),\"\")","v":""}]
[null,null,null,{"$f":"IFERROR(VLOOKUP($A933,'Lista de Precios_Bolívares_S'!$F:$Q,6,FALSE),\"\")","v":""},{"$f":"IFERROR(VLOOKUP($A933,'Lista de Precios_Bolívares_S'!$F:$Q,12,FALSE),\"\")","v":""},"",{"$f":"IFERROR(VLOOKUP($A933,'Lista de Precios_USD$_Euro€'!$E:$O,11,FALSE),\"\")","v":""}]
[null,null,null,{"$f":"IFERROR(VLOOKUP($A934,'Lista de Precios_Bolívares_S'!$F:$Q,6,FALSE),\"\")","v":""},{"$f":"IFERROR(VLOOKUP($A934,'Lista de Precios_Bolívares_S'!$F:$Q,12,FALSE),\"\")","v":""},"",{"$f":"IFERROR(VLOOKUP($A934,'Lista de Precios_USD$_Euro€'!$E:$O,11,FALSE),\"\")","v":""}]
[null,null,null,{"$f":"IFERROR(VLOOKUP($A935,'Lista de Precios_Bolívares_S'!$F:$Q,6,FALSE),\"\")","v":""},{"$f":"IFERROR(VLOOKUP($A935,'Lista de Precios_Bolívares_S'!$F:$Q,12,FALSE),\"\")","v":""},"",{"$f":"IFERROR(VLOOKUP($A935,'Lista de Precios_USD$_Euro€'!$E:$O,11,FALSE),\"\")","v":""}]
[null,null,null,{"$f":"IFERROR(VLOOKUP($A936,'Lista de Precios_Bolívares_S'!$F:$Q,6,FALSE),\"\")","v":""},{"$f":"IFERROR(VLOOKUP($A936,'Lista de Precios_Bolívares_S'!$F:$Q,12,FALSE),\"\")","v":""},"",{"$f":"IFERROR(VLOOKUP($A936,'Lista de Precios_USD$_Euro€'!$E:$O,11,FALSE),\"\")","v":""}]
[null,null,null,{"$f":"IFERROR(VLOOKUP($A937,'Lista de Precios_Bolívares_S'!$F:$Q,6,FALSE),\"\")","v":""},{"$f":"IFERROR(VLOOKUP($A937,'Lista de Precios_Bolívares_S'!$F:$Q,12,FALSE),\"\")","v":""},"",{"$f":"IFERROR(VLOOKUP($A937,'Lista de Precios_USD$_Euro€'!$E:$O,11,FALSE),\"\")","v":""}]
[null,null,null,{"$f":"IFERROR(VLOOKUP($A938,'Lista de Precios_Bolívares_S'!$F:$Q,6,FALSE),\"\")","v":""},{"$f":"IFERROR(VLOOKUP($A938,'Lista de Precios_Bolívares_S'!$F:$Q,12,FALSE),\"\")","v":""},"",{"$f":"IFERROR(VLOOKUP($A938,'Lista de Precios_USD$_Euro€'!$E:$O,11,FALSE),\"\")","v":""}]
[null,null,null,{"$f":"IFERROR(VLOOKUP($A939,'Lista de Precios_Bolívares_S'!$F:$Q,6,FALSE),\"\")","v":""},{"$f":"IFERROR(VLOOKUP($A939,'Lista de Precios_Bolívares_S'!$F:$Q,12,FALSE),\"\")","v":""},"",{"$f":"IFERROR(VLOOKUP($A939,'Lista de Precios_USD$_Euro€'!$E:$O,11,FALSE),\"\")","v":""}]
[null,null,null,{"$f":"IFERROR(VLOOKUP($A940,'Lista de Precios_Bolívares_S'!$F:$Q,6,FALSE),\"\")","v":""},{"$f":"IFERROR(VLOOKUP($A940,'Lista de Precios_Bolívares_S'!$F:$Q,12,FALSE),\"\")","v":""},"",{"$f":"IFERROR(VLOOKUP($A940,'Lista de Precios_USD$_Euro€'!$E:$O,11,FALSE),\"\")","v":""}]
[null,null,null,{"$f":"IFERROR(VLOOKUP($A941,'Lista de Precios_Bolívares_S'!$F:$Q,6,FALSE),\"\")","v":""},{"$f":"IFERROR(VLOOKUP($A941,'Lista de Precios_Bolívares_S'!$F:$Q,12,FALSE),\"\")","v":""},"",{"$f":"IFERROR(VLOOKUP($A941,'Lista de Precios_USD$_Euro€'!$E:$O,11,FALSE),\"\")","v":""}]
[null,null,null,{"$f":"IFERROR(VLOOKUP($A942,'Lista de Precios_Bolívares_S'!$F:$Q,6,FALSE),\"\")","v":""},{"$f":"IFERROR(VLOOKUP($A942,'Lista de Precios_Bolívares_S'!$F:$Q,12,FALSE),\"\")","v":""},"",{"$f":"IFERROR(VLOOKUP($A942,'Lista de Precios_USD$_Euro€'!$E:$O,11,FALSE),\"\")","v":""}]
[null,null,null,{"$f":"IFERROR(VLOOKUP($A943,'Lista de Precios_Bolívares_S'!$F:$Q,6,FALSE),\"\")","v":""},{"$f":"IFERROR(VLOOKUP($A943,'Lista de Precios_Bolívares_S'!$F:$Q,12,FALSE),\"\")","v":""},"",{"$f":"IFERROR(VLOOKUP($A943,'Lista de Precios_USD$_Euro€'!$E:$O,11,FALSE),\"\")","v":""}]
[null,null,null,{"$f":"IFERROR(VLOOKUP($A944,'Lista de Precios_Bolívares_S'!$F:$Q,6,FALSE),\"\")","v":""},{"$f":"IFERROR(VLOOKUP($A944,'Lista de Precios_Bolívares_S'!$F:$Q,12,FALSE),\"\")","v":""},"",{"$f":"IFERROR(VLOOKUP($A944,'Lista de Precios_USD$_Euro€'!$E:$O,11,FALSE),\"\")","v":""}]
[null,null,null,{"$f":"IFERROR(VLOOKUP($A945,'Lista de Precios_Bolívares_S'!$F:$Q,6,FALSE),\"\")","v":""},{"$f":"IFERROR(VLOOKUP($A945,'Lista de Precios_Bolívares_S'!$F:$Q,12,FALSE),\"\")","v":""},"",{"$f":"IFERROR(VLOOKUP($A945,'Lista de Precios_USD$_Euro€'!$E:$O,11,FALSE),\"\")","v":""}]
[null,null,null,{"$f":"IFERROR(VLOOKUP($A946,'Lista de Precios_Bolívares_S'!$F:$Q,6,FALSE),\"\")","v":""},{"$f":"IFERROR(VLOOKUP($A946,'Lista de Precios_Bolívares_S'!$F:$Q,12,FALSE),\"\")","v":""},"",{"$f":"IFERROR(VLOOKUP($A946,'Lista de Precios_USD$_Euro€'!$E:$O,11,FALSE),\"\")","v":""}]
[null,null,null,{"$f":"IFERROR(VLOOKUP($A947,'Lista de Precios_Bolívares_S'!$F:$Q,6,FALSE),\"\")","v":""},{"$f":"IFERROR(VLOOKUP($A947,'Lista de Precios_Bolívares_S'!$F:$Q,12,FALSE),\"\")","v":""},"",{"$f":"IFERROR(VLOOKUP($A947,'Lista de Precios_USD$_Euro€'!$E:$O,11,FALSE),\"\")","v":""}]
[null,null,null,{"$f":"IFERROR(VLOOKUP($A948,'Lista de Precios_Bolívares_S'!$F:$Q,6,FALSE),\"\")","v":""},{"$f":"IFERROR(VLOOKUP($A948,'Lista de Precios_Bolívares_S'!$F:$Q,12,FALSE),\"\")","v":""},"",{"$f":"IFERROR(VLOOKUP($A948,'Lista de Precios_USD$_Euro€'!$E:$O,11,FALSE),\"\")","v":""}]
[null,null,null,{"$f":"IFERROR(VLOOKUP($A949,'Lista de Precios_Bolívares_S'!$F:$Q,6,FALSE),\"\")","v":""},{"$f":"IFERROR(VLOOKUP($A949,'Lista de Precios_Bolívares_S'!$F:$Q,12,FALSE),\"\")","v":""},"",{"$f":"IFERROR(VLOOKUP($A949,'Lista de Precios_USD$_Euro€'!$E:$O,11,FALSE),\"\")","v":""}]
[null,null,null,{"$f":"IFERROR(VLOOKUP($A950,'Lista de Precios_Bolívares_S'!$F:$Q,6,FALSE),\"\")","v":""},{"$f":"IFERROR(VLOOKUP($A950,'Lista de Precios_Bolívares_S'!$F:$Q,12,FALSE),\"\")","v":""},"",{"$f":"IFERROR(VLOOKUP($A950,'Lista de Precios_USD$_Euro€'!$E:$O,11,FALSE),\"\")","v":""}]
[null,null,null,{"$f":"IFERROR(VLOOKUP($A951,'Lista de Precios_Bolívares_S'!$F:$Q,6,FALSE),\"\")","v":""},{"$f":"IFERROR(VLOOKUP($A951,'Lista de Precios_Bolívares_S'!$F:$Q,12,FALSE),\"\")","v":""},"",{"$f":"IFERROR(VLOOKUP($A951,'Lista de Precios_USD$_Euro€'!$E:$O,11,FALSE),\"\")","v":""}]
[null,null,null,{"$f":"IFERROR(VLOOKUP($A952,'Lista de Precios_Bolívares_S'!$F:$Q,6,FALSE),\"\")","v":""},{"$f":"IFERROR(VLOOKUP($A952,'Lista de Precios_Bolívares_S'!$F:$Q,12,FALSE),\"\")","v":""},"",{"$f":"IFERROR(VLOOKUP($A952,'Lista de Precios_USD$_Euro€'!$E:$O,11,FALSE),\"\")","v":""}]
[null,null,null,{"$f":"IFERROR(VLOOKUP($A953,'Lista de Precios_Bolívares_S'!$F:$Q,6,FALSE),\"\")","v":""},{"$f":"IFERROR(VLOOKUP($A953,'Lista de Precios_Bolívares_S'!$F:$Q,12,FALSE),\"\")","v":""},"",{"$f":"IFERROR(VLOOKUP($A953,'Lista de Precios_USD$_Euro€'!$E:$O,11,FALSE),\"\")","v":""}]
[null,null,null,{"$f":"IFERROR(VLOOKUP($A954,'Lista de Precios_Bolívares_S'!$F:$Q,6,FALSE),\"\")","v":""},{"$f":"IFERROR(VLOOKUP($A954,'Lista de Precios_Bolívares_S'!$F:$Q,12,FALSE),\"\")","v":""},"",{"$f":"IFERROR(VLOOKUP($A954,'Lista de Precios_USD$_Euro€'!$E:$O,11,FALSE),\"\")","v":""}]
[null,null,null,{"$f":"IFERROR(VLOOKUP($A955,'Lista de Precios_Bolívares_S'!$F:$Q,6,FALSE),\"\")","v":""},{"$f":"IFERROR(VLOOKUP($A955,'Lista de Precios_Bolívares_S'!$F:$Q,12,FALSE),\"\")","v":""},"",{"$f":"IFERROR(VLOOKUP($A955,'Lista de Precios_USD$_Euro€'!$E:$O,11,FALSE),\"\")","v":""}]
[null,null,null,{"$f":"IFERROR(VLOOKUP($A956,'Lista de Precios_Bolívares_S'!$F:$Q,6,FALSE),\"\")","v":""},{"$f":"IFERROR(VLOOKUP($A956,'Lista de Precios_Bolívares_S'!$F:$Q,12,FALSE),\"\")","v":""},"",{"$f":"IFERROR(VLOOKUP($A956,'Lista de Precios_USD$_Euro€'!$E:$O,11,FALSE),\"\")","v":""}]
[null,null,null,{"$f":"IFERROR(VLOOKUP($A957,'Lista de Precios_Bolívares_S'!$F:$Q,6,FALSE),\"\")","v":""},{"$f":"IFERROR(VLOOKUP($A957,'Lista de Precios_Bolívares_S'!$F:$Q,12,FALSE),\"\")","v":""},"",{"$f":"IFERROR(VLOOKUP($A957,'Lista de Precios_USD$_Euro€'!$E:$O,11,FALSE),\"\")","v":""}]
[null,null,null,{"$f":"IFERROR(VLOOKUP($A958,'Lista de Precios_Bolívares_S'!$F:$Q,6,FALSE),\"\")","v":""},{"$f":"IFERROR(VLOOKUP($A958,'Lista de Precios_Bolívares_S'!$F:$Q,12,FALSE),\"\")","v":""},"",{"$f":"IFERROR(VLOOKUP($A958,'Lista de Precios_USD$_Euro€'!$E:$O,11,FALSE),\"\")","v":""}]
[null,null,null,{"$f":"IFERROR(VLOOKUP($A959,'Lista de Precios_Bolívares_S'!$F:$Q,6,FALSE),\"\")","v":""},{"$f":"IFERROR(VLOOKUP($A959,'Lista de Precios_Bolívares_S'!$F:$Q,12,FALSE),\"\")","v":""},"",{"$f":"IFERROR(VLOOKUP($A959,'Lista de Precios_USD$_Euro€'!$E:$O,11,FALSE),\"\")","v":""}]
[null,null,null,{"$f":"IFERROR(VLOOKUP($A960,'Lista de Precios_Bolívares_S'!$F:$Q,6,FALSE),\"\")","v":""},{"$f":"IFERROR(VLOOKUP($A960,'Lista de Precios_Bolívares_S'!$F:$Q,12,FALSE),\"\")","v":""},"",{"$f":"IFERROR(VLOOKUP($A960,'Lista de Precios_USD$_Euro€'!$E:$O,11,FALSE),\"\")","v":""}]
[null,null,null,{"$f":"IFERROR(VLOOKUP($A961,'Lista de Precios_Bolívares_S'!$F:$Q,6,FALSE),\"\")","v":""},{"$f":"IFERROR(VLOOKUP($A961,'Lista de Precios_Bolívares_S'!$F:$Q,12,FALSE),\"\")","v":""},"",{"$f":"IFERROR(VLOOKUP($A961,'Lista de Precios_USD$_Euro€'!$E:$O,11,FALSE),\"\")","v":""}]
[null,null,null,{"$f":"IFERROR(VLOOKUP($A962,'Lista de Precios_Bolívares_S'!$F:$Q,6,FALSE),\"\")","v":""},{"$f":"IFERROR(VLOOKUP($A962,'Lista de Precios_Bolívares_S'!$F:$Q,12,FALSE),\"\")","v":""},"",{"$f":"IFERROR(VLOOKUP($A962,'Lista de Precios_USD$_Euro€'!$E:$O,11,FALSE),\"\")","v":""}]
[null,null,null,{"$f":"IFERROR(VLOOKUP($A963,'Lista de Precios_Bolívares_S'!$F:$Q,6,FALSE),\"\")","v":""},{"$f":"IFERROR(VLOOKUP($A963,'Lista de Precios_Bolívares_S'!$F:$Q,12,FALSE),\"\")","v":""},"",{"$f":"IFERROR(VLOOKUP($A963,'Lista de Precios_USD$_Euro€'!$E:$O,11,FALSE),\"\")","v":""}]
[null,null,null,{"$f":"IFERROR(VLOOKUP($A964,'Lista de Precios_Bolívares_S'!$F:$Q,6,FALSE),\"\")","v":""},{"$f":"IFERROR(VLOOKUP($A964,'Lista de Precios_Bolívares_S'!$F:$Q,12,FALSE),\"\")","v":""},"",{"$f":"IFERROR(VLOOKUP($A964,'Lista de Precios_USD$_Euro€'!$E:$O,11,FALSE),\"\")","v":""}]
[null,null,null,{"$f":"IFERROR(VLOOKUP($A965,'Lista de Precios_Bolívares_S'!$F:$Q,6,FALSE),\"\")","v":""},{"$f":"IFERROR(VLOOKUP($A965,'Lista de Precios_Bolívares_S'!$F:$Q,12,FALSE),\"\")","v":""},"",{"$f":"IFERROR(VLOOKUP($A965,'Lista de Precios_USD$_Euro€'!$E:$O,11,FALSE),\"\")","v":""}]
[null,null,null,{"$f":"IFERROR(VLOOKUP($A966,'Lista de Precios_Bolívares_S'!$F:$Q,6,FALSE),\"\")","v":""},{"$f":"IFERROR(VLOOKUP($A966,'Lista de Precios_Bolívares_S'!$F:$Q,12,FALSE),\"\")","v":""},"",{"$f":"IFERROR(VLOOKUP($A966,'Lista de Precios_USD$_Euro€'!$E:$O,11,FALSE),\"\")","v":""}]
[null,null,null,{"$f":"IFERROR(VLOOKUP($A967,'Lista de Precios_Bolívares_S'!$F:$Q,6,FALSE),\"\")","v":""},{"$f":"IFERROR(VLOOKUP($A967,'Lista de Precios_Bolívares_S'!$F:$Q,12,FALSE),\"\")","v":""},"",{"$f":"IFERROR(VLOOKUP($A967,'Lista de Precios_USD$_Euro€'!$E:$O,11,FALSE),\"\")","v":""}]
[null,null,null,{"$f":"IFERROR(VLOOKUP($A968,'Lista de Precios_Bolívares_S'!$F:$Q,6,FALSE),\"\")","v":""},{"$f":"IFERROR(VLOOKUP($A968,'Lista de Precios_Bolívares_S'!$F:$Q,12,FALSE),\"\")","v":""},"",{"$f":"IFERROR(VLOOKUP($A968,'Lista de Precios_USD$_Euro€'!$E:$O,11,FALSE),\"\")","v":""}]
[null,null,null,{"$f":"IFERROR(VLOOKUP($A969,'Lista de Precios_Bolívares_S'!$F:$Q,6,FALSE),\"\")","v":""},{"$f":"IFERROR(VLOOKUP($A969,'Lista de Precios_Bolívares_S'!$F:$Q,12,FALSE),\"\")","v":""},"",{"$f":"IFERROR(VLOOKUP($A969,'Lista de Precios_USD$_Euro€'!$E:$O,11,FALSE),\"\")","v":""}]
[null,null,null,{"$f":"IFERROR(VLOOKUP($A970,'Lista de Precios_Bolívares_S'!$F:$Q,6,FALSE),\"\")","v":""},{"$f":"IFERROR(VLOOKUP($A970,'Lista de Precios_Bolívares_S'!$F:$Q,12,FALSE),\"\")","v":""},"",{"$f":"IFERROR(VLOOKUP($A970,'Lista de Precios_USD$_Euro€'!$E:$O,11,FALSE),\"\")","v":""}]
[null,null,null,{"$f":"IFERROR(VLOOKUP($A971,'Lista de Precios_Bolívares_S'!$F:$Q,6,FALSE),\"\")","v":""},{"$f":"IFERROR(VLOOKUP($A971,'Lista de Precios_Bolívares_S'!$F:$Q,12,FALSE),\"\")","v":""},"",{"$f":"IFERROR(VLOOKUP($A971,'Lista de Precios_USD$_Euro€'!$E:$O,11,FALSE),\"\")","v":""}]
[null,null,null,{"$f":"IFERROR(VLOOKUP($A972,'Lista de Precios_Bolívares_S'!$F:$Q,6,FALSE),\"\")","v":""},{"$f":"IFERROR(VLOOKUP($A972,'Lista de Precios_Bolívares_S'!$F:$Q,12,FALSE),\"\")","v":""},"",{"$f":"IFERROR(VLOOKUP($A972,'Lista de Precios_USD$_Euro€'!$E:$O,11,FALSE),\"\")","v":""}]
[null,null,null,{"$f":"IFERROR(VLOOKUP($A973,'Lista de Precios_Bolívares_S'!$F:$Q,6,FALSE),\"\")","v":""},{"$f":"IFERROR(VLOOKUP($A973,'Lista de Precios_Bolívares_S'!$F:$Q,12,FALSE),\"\")","v":""},"",{"$f":"IFERROR(VLOOKUP($A973,'Lista de Precios_USD$_Euro€'!$E:$O,11,FALSE),\"\")","v":""}]
[null,null,null,{"$f":"IFERROR(VLOOKUP($A974,'Lista de Precios_Bolívares_S'!$F:$Q,6,FALSE),\"\")","v":""},{"$f":"IFERROR(VLOOKUP($A974,'Lista de Precios_Bolívares_S'!$F:$Q,12,FALSE),\"\")","v":""},"",{"$f":"IFERROR(VLOOKUP($A974,'Lista de Precios_USD$_Euro€'!$E:$O,11,FALSE),\"\")","v":""}]
[null,null,null,{"$f":"IFERROR(VLOOKUP($A975,'Lista de Precios_Bolívares_S'!$F:$Q,6,FALSE),\"\")","v":""},{"$f":"IFERROR(VLOOKUP($A975,'Lista de Precios_Bolívares_S'!$F:$Q,12,FALSE),\"\")","v":""},"",{"$f":"IFERROR(VLOOKUP($A975,'Lista de Precios_USD$_Euro€'!$E:$O,11,FALSE),\"\")","v":""}]
[null,null,null,{"$f":"IFERROR(VLOOKUP($A976,'Lista de Precios_Bolívares_S'!$F:$Q,6,FALSE),\"\")","v":""},{"$f":"IFERROR(VLOOKUP($A976,'Lista de Precios_Bolívares_S'!$F:$Q,12,FALSE),\"\")","v":""},"",{"$f":"IFERROR(VLOOKUP($A976,'Lista de Precios_USD$_Euro€'!$E:$O,11,FALSE),\"\")","v":""}]
[null,null,null,{"$f":"IFERROR(VLOOKUP($A977,'Lista de Precios_Bolívares_S'!$F:$Q,6,FALSE),\"\")","v":""},{"$f":"IFERROR(VLOOKUP($A977,'Lista de Precios_Bolívares_S'!$F:$Q,12,FALSE),\"\")","v":""},"",{"$f":"IFERROR(VLOOKUP($A977,'Lista de Precios_USD$_Euro€'!$E:$O,11,FALSE),\"\")","v":""}]
[null,null,null,{"$f":"IFERROR(VLOOKUP($A978,'Lista de Precios_Bolívares_S'!$F:$Q,6,FALSE),\"\")","v":""},{"$f":"IFERROR(VLOOKUP($A978,'Lista de Precios_Bolívares_S'!$F:$Q,12,FALSE),\"\")","v":""},"",{"$f":"IFERROR(VLOOKUP($A978,'Lista de Precios_USD$_Euro€'!$E:$O,11,FALSE),\"\")","v":""}]
[null,null,null,{"$f":"IFERROR(VLOOKUP($A979,'Lista de Precios_Bolívares_S'!$F:$Q,6,FALSE),\"\")","v":""},{"$f":"IFERROR(VLOOKUP($A979,'Lista de Precios_Bolívares_S'!$F:$Q,12,FALSE),\"\")","v":""},"",{"$f":"IFERROR(VLOOKUP($A979,'Lista de Precios_USD$_Euro€'!$E:$O,11,FALSE),\"\")","v":""}]
[null,null,null,{"$f":"IFERROR(VLOOKUP($A980,'Lista de Precios_Bolívares_S'!$F:$Q,6,FALSE),\"\")","v":""},{"$f":"IFERROR(VLOOKUP($A980,'Lista de Precios_Bolívares_S'!$F:$Q,12,FALSE),\"\")","v":""},"",{"$f":"IFERROR(VLOOKUP($A980,'Lista de Precios_USD$_Euro€'!$E:$O,11,FALSE),\"\")","v":""}]
[null,null,null,{"$f":"IFERROR(VLOOKUP($A981,'Lista de Precios_Bolívares_S'!$F:$Q,6,FALSE),\"\")","v":""},{"$f":"IFERROR(VLOOKUP($A981,'Lista de Precios_Bolívares_S'!$F:$Q,12,FALSE),\"\")","v":""},"",{"$f":"IFERROR(VLOOKUP($A981,'Lista de Precios_USD$_Euro€'!$E:$O,11,FALSE),\"\")","v":""}]
[null,null,null,{"$f":"IFERROR(VLOOKUP($A982,'Lista de Precios_Bolívares_S'!$F:$Q,6,FALSE),\"\")","v":""},{"$f":"IFERROR(VLOOKUP($A982,'Lista de Precios_Bolívares_S'!$F:$Q,12,FALSE),\"\")","v":""},"",{"$f":"IFERROR(VLOOKUP($A982,'Lista de Precios_USD$_Euro€'!$E:$O,11,FALSE),\"\")","v":""}]
[null,null,null,{"$f":"IFERROR(VLOOKUP($A983,'Lista de Precios_Bolívares_S'!$F:$Q,6,FALSE),\"\")","v":""},{"$f":"IFERROR(VLOOKUP($A983,'Lista de Precios_Bolívares_S'!$F:$Q,12,FALSE),\"\")","v":""},"",{"$f":"IFERROR(VLOOKUP($A983,'Lista de Precios_USD$_Euro€'!$E:$O,11,FALSE),\"\")","v":""}]
[null,null,null,{"$f":"IFERROR(VLOOKUP($A984,'Lista de Precios_Bolívares_S'!$F:$Q,6,FALSE),\"\")","v":""},{"$f":"IFERROR(VLOOKUP($A984,'Lista de Precios_Bolívares_S'!$F:$Q,12,FALSE),\"\")","v":""},"",{"$f":"IFERROR(VLOOKUP($A984,'Lista de Precios_USD$_Euro€'!$E:$O,11,FALSE),\"\")","v":""}]
[null,null,null,{"$f":"IFERROR(VLOOKUP($A985,'Lista de Precios_Bolívares_S'!$F:$Q,6,FALSE),\"\")","v":""},{"$f":"IFERROR(VLOOKUP($A985,'Lista de Precios_Bolívares_S'!$F:$Q,12,FALSE),\"\")","v":""},{"$f":"IFERROR(IF(ROUND($C985,2)=ROUND($D960,2),ROUND($E960,2),ROUND($C985,2)),\"\")","v":""},{"$f":"IFERROR(VLOOKUP($A985,'Lista de Precios_USD$_Euro€'!$E:$O,11,FALSE),\"\")","v":""}]
[null,null,null,{"$f":"IFERROR(VLOOKUP($A986,'Lista de Precios_Bolívares_S'!$F:$Q,6,FALSE),\"\")","v":""},{"$f":"IFERROR(VLOOKUP($A986,'Lista de Precios_Bolívares_S'!$F:$Q,12,FALSE),\"\")","v":""},"",{"$f":"IFERROR(VLOOKUP($A986,'Lista de Precios_USD$_Euro€'!$E:$O,11,FALSE),\"\")","v":""}]
[null,null,null,{"$f":"IFERROR(VLOOKUP($A987,'Lista de Precios_Bolívares_S'!$F:$Q,6,FALSE),\"\")","v":""},{"$f":"IFERROR(VLOOKUP($A987,'Lista de Precios_Bolívares_S'!$F:$Q,12,FALSE),\"\")","v":""},"",{"$f":"IFERROR(VLOOKUP($A987,'Lista de Precios_USD$_Euro€'!$E:$O,11,FALSE),\"\")","v":""}]
[null,null,null,{"$f":"IFERROR(VLOOKUP($A988,'Lista de Precios_Bolívares_S'!$F:$Q,6,FALSE),\"\")","v":""},{"$f":"IFERROR(VLOOKUP($A988,'Lista de Precios_Bolívares_S'!$F:$Q,12,FALSE),\"\")","v":""},"",{"$f":"IFERROR(VLOOKUP($A988,'Lista de Precios_USD$_Euro€'!$E:$O,11,FALSE),\"\")","v":""}]
[null,null,null,{"$f":"IFERROR(VLOOKUP($A989,'Lista de Precios_Bolívares_S'!$F:$Q,6,FALSE),\"\")","v":""},{"$f":"IFERROR(VLOOKUP($A989,'Lista de Precios_Bolívares_S'!$F:$Q,12,FALSE),\"\")","v":""},"",{"$f":"IFERROR(VLOOKUP($A989,'Lista de Precios_USD$_Euro€'!$E:$O,11,FALSE),\"\")","v":""}]
[null,null,null,{"$f":"IFERROR(VLOOKUP($A990,'Lista de Precios_Bolívares_S'!$F:$Q,6,FALSE),\"\")","v":""},{"$f":"IFERROR(VLOOKUP($A990,'Lista de Precios_Bolívares_S'!$F:$Q,12,FALSE),\"\")","v":""},"",{"$f":"IFERROR(VLOOKUP($A990,'Lista de Precios_USD$_Euro€'!$E:$O,11,FALSE),\"\")","v":""}]
[null,null,null,{"$f":"IFERROR(VLOOKUP($A991,'Lista de Precios_Bolívares_S'!$F:$Q,6,FALSE),\"\")","v":""},{"$f":"IFERROR(VLOOKUP($A991,'Lista de Precios_Bolívares_S'!$F:$Q,12,FALSE),\"\")","v":""},"",{"$f":"IFERROR(VLOOKUP($A991,'Lista de Precios_USD$_Euro€'!$E:$O,11,FALSE),\"\")","v":""}]
[null,null,null,{"$f":"IFERROR(VLOOKUP($A992,'Lista de Precios_Bolívares_S'!$F:$Q,6,FALSE),\"\")","v":""},{"$f":"IFERROR(VLOOKUP($A992,'Lista de Precios_Bolívares_S'!$F:$Q,12,FALSE),\"\")","v":""},"",{"$f":"IFERROR(VLOOKUP($A992,'Lista de Precios_USD$_Euro€'!$E:$O,11,FALSE),\"\")","v":""}]
[null,null,null,{"$f":"IFERROR(VLOOKUP($A993,'Lista de Precios_Bolívares_S'!$F:$Q,6,FALSE),\"\")","v":""},{"$f":"IFERROR(VLOOKUP($A993,'Lista de Precios_Bolívares_S'!$F:$Q,12,FALSE),\"\")","v":""},"",{"$f":"IFERROR(VLOOKUP($A993,'Lista de Precios_USD$_Euro€'!$E:$O,11,FALSE),\"\")","v":""}]
[null,null,null,{"$f":"IFERROR(VLOOKUP($A994,'Lista de Precios_Bolívares_S'!$F:$Q,6,FALSE),\"\")","v":""},{"$f":"IFERROR(VLOOKUP($A994,'Lista de Precios_Bolívares_S'!$F:$Q,12,FALSE),\"\")","v":""},"",{"$f":"IFERROR(VLOOKUP($A994,'Lista de Precios_USD$_Euro€'!$E:$O,11,FALSE),\"\")","v":""}]
[null,null,null,{"$f":"IFERROR(VLOOKUP($A995,'Lista de Precios_Bolívares_S'!$F:$Q,6,FALSE),\"\")","v":""},{"$f":"IFERROR(VLOOKUP($A995,'Lista de Precios_Bolívares_S'!$F:$Q,12,FALSE),\"\")","v":""},"",{"$f":"IFERROR(VLOOKUP($A995,'Lista de Precios_USD$_Euro€'!$E:$O,11,FALSE),\"\")","v":""}]
[null,null,null,{"$f":"IFERROR(VLOOKUP($A996,'Lista de Precios_Bolívares_S'!$F:$Q,6,FALSE),\"\")","v":""},{"$f":"IFERROR(VLOOKUP($A996,'Lista de Precios_Bolívares_S'!$F:$Q,12,FALSE),\"\")","v":""},"",{"$f":"IFERROR(VLOOKUP($A996,'Lista de Precios_USD$_Euro€'!$E:$O,11,FALSE),\"\")","v":""}]
[null,null,null,{"$f":"IFERROR(VLOOKUP($A997,'Lista de Precios_Bolívares_S'!$F:$Q,6,FALSE),\"\")","v":""},{"$f":"IFERROR(VLOOKUP($A997,'Lista de Precios_Bolívares_S'!$F:$Q,12,FALSE),\"\")","v":""},"",{"$f":"IFERROR(VLOOKUP($A997,'Lista de Precios_USD$_Euro€'!$E:$O,11,FALSE),\"\")","v":""}]
[null,null,null,{"$f":"IFERROR(VLOOKUP($A998,'Lista de Precios_Bolívares_S'!$F:$Q,6,FALSE),\"\")","v":""},{"$f":"IFERROR(VLOOKUP($A998,'Lista de Precios_Bolívares_S'!$F:$Q,12,FALSE),\"\")","v":""},"",{"$f":"IFERROR(VLOOKUP($A998,'Lista de Precios_USD$_Euro€'!$E:$O,11,FALSE),\"\")","v":""}]
[null,null,null,{"$f":"IFERROR(VLOOKUP($A999,'Lista de Precios_Bolívares_S'!$F:$Q,6,FALSE),\"\")","v":""},{"$f":"IFERROR(VLOOKUP($A999,'Lista de Precios_Bolívares_S'!$F:$Q,12,FALSE),\"\")","v":""},"",{"$f":"IFERROR(VLOOKUP($A999,'Lista de Precios_USD$_Euro€'!$E:$O,11,FALSE),\"\")","v":""}]
[null,null,null,{"$f":"IFERROR(VLOOKUP($A1000,'Lista de Precios_Bolívares_S'!$F:$Q,6,FALSE),\"\")","v":""},{"$f":"IFERROR(VLOOKUP($A1000,'Lista de Precios_Bolívares_S'!$F:$Q,12,FALSE),\"\")","v":""},"",{"$f":"IFERROR(VLOOKUP($A1000,'Lista de Precios_USD$_Euro€'!$E:$O,11,FALSE),\"\")","v":""}]
[null,null,null,{"$f":"IFERROR(VLOOKUP($A1001,'Lista de Precios_Bolívares_S'!$F:$Q,6,FALSE),\"\")","v":""},{"$f":"IFERROR(VLOOKUP($A1001,'Lista de Precios_Bolívares_S'!$F:$Q,12,FALSE),\"\")","v":""},"",{"$f":"IFERROR(VLOOKUP($A1001,'Lista de Precios_USD$_Euro€'!$E:$O,11,FALSE),\"\")","v":""}]
[null,null,null,{"$f":"IFERROR(VLOOKUP($A1002,'Lista de Precios_Bolívares_S'!$F:$Q,6,FALSE),\"\")","v":""},{"$f":"IFERROR(VLOOKUP($A1002,'Lista de Precios_Bolívares_S'!$F:$Q,12,FALSE),\"\")","v":""},"",{"$f":"IFERROR(VLOOKUP($A1002,'Lista de Precios_USD$_Euro€'!$E:$O,11,FALSE),\"\")","v":""}]
[null,null,null,{"$f":"IFERROR(VLOOKUP($A1003,'Lista de Precios_Bolívares_S'!$F:$Q,6,FALSE),\"\")","v":""},{"$f":"IFERROR(VLOOKUP($A1003,'Lista de Precios_Bolívares_S'!$F:$Q,12,FALSE),\"\")","v":""},"",{"$f":"IFERROR(VLOOKUP($A1003,'Lista de Precios_USD$_Euro€'!$E:$O,11,FALSE),\"\")","v":""}]
[null,null,null,{"$f":"IFERROR(VLOOKUP($A1004,'Lista de Precios_Bolívares_S'!$F:$Q,6,FALSE),\"\")","v":""},{"$f":"IFERROR(VLOOKUP($A1004,'Lista de Precios_Bolívares_S'!$F:$Q,12,FALSE),\"\")","v":""},"",{"$f":"IFERROR(VLOOKUP($A1004,'Lista de Precios_USD$_Euro€'!$E:$O,11,FALSE),\"\")","v":""}]
[null,null,null,{"$f":"IFERROR(VLOOKUP($A1005,'Lista de Precios_Bolívares_S'!$F:$Q,6,FALSE),\"\")","v":""},{"$f":"IFERROR(VLOOKUP($A1005,'Lista de Precios_Bolívares_S'!$F:$Q,12,FALSE),\"\")","v":""},"",{"$f":"IFERROR(VLOOKUP($A1005,'Lista de Precios_USD$_Euro€'!$E:$O,11,FALSE),\"\")","v":""}]
[null,null,null,{"$f":"IFERROR(VLOOKUP($A1006,'Lista de Precios_Bolívares_S'!$F:$Q,6,FALSE),\"\")","v":""},{"$f":"IFERROR(VLOOKUP($A1006,'Lista de Precios_Bolívares_S'!$F:$Q,12,FALSE),\"\")","v":""},"",{"$f":"IFERROR(VLOOKUP($A1006,'Lista de Precios_USD$_Euro€'!$E:$O,11,FALSE),\"\")","v":""}]
[null,null,null,{"$f":"IFERROR(VLOOKUP($A1007,'Lista de Precios_Bolívares_S'!$F:$Q,6,FALSE),\"\")","v":""},{"$f":"IFERROR(VLOOKUP($A1007,'Lista de Precios_Bolívares_S'!$F:$Q,12,FALSE),\"\")","v":""},"",{"$f":"IFERROR(VLOOKUP($A1007,'Lista de Precios_USD$_Euro€'!$E:$O,11,FALSE),\"\")","v":""}]
[null,null,null,{"$f":"IFERROR(VLOOKUP($A1008,'Lista de Precios_Bolívares_S'!$F:$Q,6,FALSE),\"\")","v":""},{"$f":"IFERROR(VLOOKUP($A1008,'Lista de Precios_Bolívares_S'!$F:$Q,12,FALSE),\"\")","v":""},"",{"$f":"IFERROR(VLOOKUP($A1008,'Lista de Precios_USD$_Euro€'!$E:$O,11,FALSE),\"\")","v":""}]
[null,null,null,{"$f":"IFERROR(VLOOKUP($A1009,'Lista de Precios_Bolívares_S'!$F:$Q,6,FALSE),\"\")","v":""},{"$f":"IFERROR(VLOOKUP($A1009,'Lista de Precios_Bolívares_S'!$F:$Q,12,FALSE),\"\")","v":""},"",{"$f":"IFERROR(VLOOKUP($A1009,'Lista de Precios_USD$_Euro€'!$E:$O,11,FALSE),\"\")","v":""}]
[null,null,null,{"$f":"IFERROR(VLOOKUP($A1010,'Lista de Precios_Bolívares_S'!$F:$Q,6,FALSE),\"\")","v":""},{"$f":"IFERROR(VLOOKUP($A1010,'Lista de Precios_Bolívares_S'!$F:$Q,12,FALSE),\"\")","v":""},"",{"$f":"IFERROR(VLOOKUP($A1010,'Lista de Precios_USD$_Euro€'!$E:$O,11,FALSE),\"\")","v":""}]
[null,null,null,{"$f":"IFERROR(VLOOKUP($A1011,'Lista de Precios_Bolívares_S'!$F:$Q,6,FALSE),\"\")","v":""},{"$f":"IFERROR(VLOOKUP($A1011,'Lista de Precios_Bolívares_S'!$F:$Q,12,FALSE),\"\")","v":""},"",{"$f":"IFERROR(VLOOKUP($A1011,'Lista de Precios_USD$_Euro€'!$E:$O,11,FALSE),\"\")","v":""}]
[null,null,null,{"$f":"IFERROR(VLOOKUP($A1012,'Lista de Precios_Bolívares_S'!$F:$Q,6,FALSE),\"\")","v":""},{"$f":"IFERROR(VLOOKUP($A1012,'Lista de Precios_Bolívares_S'!$F:$Q,12,FALSE),\"\")","v":""},"",{"$f":"IFERROR(VLOOKUP($A1012,'Lista de Precios_USD$_Euro€'!$E:$O,11,FALSE),\"\")","v":""}]
[null,null,null,{"$f":"IFERROR(VLOOKUP($A1013,'Lista de Precios_Bolívares_S'!$F:$Q,6,FALSE),\"\")","v":""},{"$f":"IFERROR(VLOOKUP($A1013,'Lista de Precios_Bolívares_S'!$F:$Q,12,FALSE),\"\")","v":""},"",{"$f":"IFERROR(VLOOKUP($A1013,'Lista de Precios_USD$_Euro€'!$E:$O,11,FALSE),\"\")","v":""}]
[null,null,null,{"$f":"IFERROR(VLOOKUP($A1014,'Lista de Precios_Bolívares_S'!$F:$Q,6,FALSE),\"\")","v":""},{"$f":"IFERROR(VLOOKUP($A1014,'Lista de Precios_Bolívares_S'!$F:$Q,12,FALSE),\"\")","v":""},"",{"$f":"IFERROR(VLOOKUP($A1014,'Lista de Precios_USD$_Euro€'!$E:$O,11,FALSE),\"\")","v":""}]
[null,null,null,{"$f":"IFERROR(VLOOKUP($A1015,'Lista de Precios_Bolívares_S'!$F:$Q,6,FALSE),\"\")","v":""},{"$f":"IFERROR(VLOOKUP($A1015,'Lista de Precios_Bolívares_S'!$F:$Q,12,FALSE),\"\")","v":""},"",{"$f":"IFERROR(VLOOKUP($A1015,'Lista de Precios_USD$_Euro€'!$E:$O,11,FALSE),\"\")","v":""}]
[null,null,null,{"$f":"IFERROR(VLOOKUP($A1016,'Lista de Precios_Bolívares_S'!$F:$Q,6,FALSE),\"\")","v":""},{"$f":"IFERROR(VLOOKUP($A1016,'Lista de Precios_Bolívares_S'!$F:$Q,12,FALSE),\"\")","v":""},"",{"$f":"IFERROR(VLOOKUP($A1016,'Lista de Precios_USD$_Euro€'!$E:$O,11,FALSE),\"\")","v":""}]
[null,null,null,{"$f":"IFERROR(VLOOKUP($A1017,'Lista de Precios_Bolívares_S'!$F:$Q,6,FALSE),\"\")","v":""},{"$f":"IFERROR(VLOOKUP($A1017,'Lista de Precios_Bolívares_S'!$F:$Q,12,FALSE),\"\")","v":""},"",{"$f":"IFERROR(VLOOKUP($A1017,'Lista de Precios_USD$_Euro€'!$E:$O,11,FALSE),\"\")","v":""}]
[null,null,null,{"$f":"IFERROR(VLOOKUP($A1018,'Lista de Precios_Bolívares_S'!$F:$Q,6,FALSE),\"\")","v":""},{"$f":"IFERROR(VLOOKUP($A1018,'Lista de Precios_Bolívares_S'!$F:$Q,12,FALSE),\"\")","v":""},"",{"$f":"IFERROR(VLOOKUP($A1018,'Lista de Precios_USD$_Euro€'!$E:$O,11,FALSE),\"\")","v":""}]
[null,null,null,{"$f":"IFERROR(VLOOKUP($A1019,'Lista de Precios_Bolívares_S'!$F:$Q,6,FALSE),\"\")","v":""},{"$f":"IFERROR(VLOOKUP($A1019,'Lista de Precios_Bolívares_S'!$F:$Q,12,FALSE),\"\")","v":""},"",{"$f":"IFERROR(VLOOKUP($A1019,'Lista de Precios_USD$_Euro€'!$E:$O,11,FALSE),\"\")","v":""}]
[null,null,null,{"$f":"IFERROR(VLOOKUP($A1020,'Lista de Precios_Bolívares_S'!$F:$Q,6,FALSE),\"\")","v":""},{"$f":"IFERROR(VLOOKUP($A1020,'Lista de Precios_Bolívares_S'!$F:$Q,12,FALSE),\"\")","v":""},"",{"$f":"IFERROR(VLOOKUP($A1020,'Lista de Precios_USD$_Euro€'!$E:$O,11,FALSE),\"\")","v":""}]
[null,null,null,{"$f":"IFERROR(VLOOKUP($A1021,'Lista de Precios_Bolívares_S'!$F:$Q,6,FALSE),\"\")","v":""},{"$f":"IFERROR(VLOOKUP($A1021,'Lista de Precios_Bolívares_S'!$F:$Q,12,FALSE),\"\")","v":""},"",{"$f":"IFERROR(VLOOKUP($A1021,'Lista de Precios_USD$_Euro€'!$E:$O,11,FALSE),\"\")","v":""}]
[null,null,null,{"$f":"IFERROR(VLOOKUP($A1022,'Lista de Precios_Bolívares_S'!$F:$Q,6,FALSE),\"\")","v":""},{"$f":"IFERROR(VLOOKUP($A1022,'Lista de Precios_Bolívares_S'!$F:$Q,12,FALSE),\"\")","v":""},"",{"$f":"IFERROR(VLOOKUP($A1022,'Lista de Precios_USD$_Euro€'!$E:$O,11,FALSE),\"\")","v":""}]
[null,null,null,{"$f":"IFERROR(VLOOKUP($A1023,'Lista de Precios_Bolívares_S'!$F:$Q,6,FALSE),\"\")","v":""},{"$f":"IFERROR(VLOOKUP($A1023,'Lista de Precios_Bolívares_S'!$F:$Q,12,FALSE),\"\")","v":""},"",{"$f":"IFERROR(VLOOKUP($A1023,'Lista de Precios_USD$_Euro€'!$E:$O,11,FALSE),\"\")","v":""}]
[null,null,null,{"$f":"IFERROR(VLOOKUP($A1024,'Lista de Precios_Bolívares_S'!$F:$Q,6,FALSE),\"\")","v":""},{"$f":"IFERROR(VLOOKUP($A1024,'Lista de Precios_Bolívares_S'!$F:$Q,12,FALSE),\"\")","v":""},"",{"$f":"IFERROR(VLOOKUP($A1024,'Lista de Precios_USD$_Euro€'!$E:$O,11,FALSE),\"\")","v":""}]
[null,null,null,{"$f":"IFERROR(VLOOKUP($A1025,'Lista de Precios_Bolívares_S'!$F:$Q,6,FALSE),\"\")","v":""},{"$f":"IFERROR(VLOOKUP($A1025,'Lista de Precios_Bolívares_S'!$F:$Q,12,FALSE),\"\")","v":""},"",{"$f":"IFERROR(VLOOKUP($A1025,'Lista de Precios_USD$_Euro€'!$E:$O,11,FALSE),\"\")","v":""}]
[null,null,null,{"$f":"IFERROR(VLOOKUP($A1026,'Lista de Precios_Bolívares_S'!$F:$Q,6,FALSE),\"\")","v":""},{"$f":"IFERROR(VLOOKUP($A1026,'Lista de Precios_Bolívares_S'!$F:$Q,12,FALSE),\"\")","v":""},"",{"$f":"IFERROR(VLOOKUP($A1026,'Lista de Precios_USD$_Euro€'!$E:$O,11,FALSE),\"\")","v":""}]
[null,null,null,{"$f":"IFERROR(VLOOKUP($A1027,'Lista de Precios_Bolívares_S'!$F:$Q,6,FALSE),\"\")","v":""},{"$f":"IFERROR(VLOOKUP($A1027,'Lista de Precios_Bolívares_S'!$F:$Q,12,FALSE),\"\")","v":""},"",{"$f":"IFERROR(VLOOKUP($A1027,'Lista de Precios_USD$_Euro€'!$E:$O,11,FALSE),\"\")","v":""}]
[null,null,null,{"$f":"IFERROR(VLOOKUP($A1028,'Lista de Precios_Bolívares_S'!$F:$Q,6,FALSE),\"\")","v":""},{"$f":"IFERROR(VLOOKUP($A1028,'Lista de Precios_Bolívares_S'!$F:$Q,12,FALSE),\"\")","v":""},"",{"$f":"IFERROR(VLOOKUP($A1028,'Lista de Precios_USD$_Euro€'!$E:$O,11,FALSE),\"\")","v":""}]
[null,null,null,{"$f":"IFERROR(VLOOKUP($A1029,'Lista de Precios_Bolívares_S'!$F:$Q,6,FALSE),\"\")","v":""},{"$f":"IFERROR(VLOOKUP($A1029,'Lista de Precios_Bolívares_S'!$F:$Q,12,FALSE),\"\")","v":""},"",{"$f":"IFERROR(VLOOKUP($A1029,'Lista de Precios_USD$_Euro€'!$E:$O,11,FALSE),\"\")","v":""}]
[null,null,null,{"$f":"IFERROR(VLOOKUP($A1030,'Lista de Precios_Bolívares_S'!$F:$Q,6,FALSE),\"\")","v":""},{"$f":"IFERROR(VLOOKUP($A1030,'Lista de Precios_Bolívares_S'!$F:$Q,12,FALSE),\"\")","v":""},"",{"$f":"IFERROR(VLOOKUP($A1030,'Lista de Precios_USD$_Euro€'!$E:$O,11,FALSE),\"\")","v":""}]
[null,null,null,{"$f":"IFERROR(VLOOKUP($A1031,'Lista de Precios_Bolívares_S'!$F:$Q,6,FALSE),\"\")","v":""},{"$f":"IFERROR(VLOOKUP($A1031,'Lista de Precios_Bolívares_S'!$F:$Q,12,FALSE),\"\")","v":""},"",{"$f":"IFERROR(VLOOKUP($A1031,'Lista de Precios_USD$_Euro€'!$E:$O,11,FALSE),\"\")","v":""}]
[null,null,null,{"$f":"IFERROR(VLOOKUP($A1032,'Lista de Precios_Bolívares_S'!$F:$Q,6,FALSE),\"\")","v":""},{"$f":"IFERROR(VLOOKUP($A1032,'Lista de Precios_Bolívares_S'!$F:$Q,12,FALSE),\"\")","v":""},"",{"$f":"IFERROR(VLOOKUP($A1032,'Lista de Precios_USD$_Euro€'!$E:$O,11,FALSE),\"\")","v":""}]
[null,null,null,{"$f":"IFERROR(VLOOKUP($A1033,'Lista de Precios_Bolívares_S'!$F:$Q,6,FALSE),\"\")","v":""},{"$f":"IFERROR(VLOOKUP($A1033,'Lista de Precios_Bolívares_S'!$F:$Q,12,FALSE),\"\")","v":""},"",{"$f":"IFERROR(VLOOKUP($A1033,'Lista de Precios_USD$_Euro€'!$E:$O,11,FALSE),\"\")","v":""}]
[null,null,null,{"$f":"IFERROR(VLOOKUP($A1034,'Lista de Precios_Bolívares_S'!$F:$Q,6,FALSE),\"\")","v":""},{"$f":"IFERROR(VLOOKUP($A1034,'Lista de Precios_Bolívares_S'!$F:$Q,12,FALSE),\"\")","v":""},"",{"$f":"IFERROR(VLOOKUP($A1034,'Lista de Precios_USD$_Euro€'!$E:$O,11,FALSE),\"\")","v":""}]
[null,null,null,{"$f":"IFERROR(VLOOKUP($A1035,'Lista de Precios_Bolívares_S'!$F:$Q,6,FALSE),\"\")","v":""},{"$f":"IFERROR(VLOOKUP($A1035,'Lista de Precios_Bolívares_S'!$F:$Q,12,FALSE),\"\")","v":""},"",{"$f":"IFERROR(VLOOKUP($A1035,'Lista de Precios_USD$_Euro€'!$E:$O,11,FALSE),\"\")","v":""}]
[null,null,null,{"$f":"IFERROR(VLOOKUP($A1036,'Lista de Precios_Bolívares_S'!$F:$Q,6,FALSE),\"\")","v":""},{"$f":"IFERROR(VLOOKUP($A1036,'Lista de Precios_Bolívares_S'!$F:$Q,12,FALSE),\"\")","v":""},"",{"$f":"IFERROR(VLOOKUP($A1036,'Lista de Precios_USD$_Euro€'!$E:$O,11,FALSE),\"\")","v":""}]
[null,null,null,{"$f":"IFERROR(VLOOKUP($A1037,'Lista de Precios_Bolívares_S'!$F:$Q,6,FALSE),\"\")","v":""},{"$f":"IFERROR(VLOOKUP($A1037,'Lista de Precios_Bolívares_S'!$F:$Q,12,FALSE),\"\")","v":""},"",{"$f":"IFERROR(VLOOKUP($A1037,'Lista de Precios_USD$_Euro€'!$E:$O,11,FALSE),\"\")","v":""}]
[null,null,null,{"$f":"IFERROR(VLOOKUP($A1038,'Lista de Precios_Bolívares_S'!$F:$Q,6,FALSE),\"\")","v":""},{"$f":"IFERROR(VLOOKUP($A1038,'Lista de Precios_Bolívares_S'!$F:$Q,12,FALSE),\"\")","v":""},"",{"$f":"IFERROR(VLOOKUP($A1038,'Lista de Precios_USD$_Euro€'!$E:$O,11,FALSE),\"\")","v":""}]
[null,null,null,{"$f":"IFERROR(VLOOKUP($A1039,'Lista de Precios_Bolívares_S'!$F:$Q,6,FALSE),\"\")","v":""},{"$f":"IFERROR(VLOOKUP($A1039,'Lista de Precios_Bolívares_S'!$F:$Q,12,FALSE),\"\")","v":""},"",{"$f":"IFERROR(VLOOKUP($A1039,'Lista de Precios_USD$_Euro€'!$E:$O,11,FALSE),\"\")","v":""}]
[null,null,null,{"$f":"IFERROR(VLOOKUP($A1040,'Lista de Precios_Bolívares_S'!$F:$Q,6,FALSE),\"\")","v":""},{"$f":"IFERROR(VLOOKUP($A1040,'Lista de Precios_Bolívares_S'!$F:$Q,12,FALSE),\"\")","v":""},"",{"$f":"IFERROR(VLOOKUP($A1040,'Lista de Precios_USD$_Euro€'!$E:$O,11,FALSE),\"\")","v":""}]
[null,null,null,{"$f":"IFERROR(VLOOKUP($A1041,'Lista de Precios_Bolívares_S'!$F:$Q,6,FALSE),\"\")","v":""},{"$f":"IFERROR(VLOOKUP($A1041,'Lista de Precios_Bolívares_S'!$F:$Q,12,FALSE),\"\")","v":""},"",{"$f":"IFERROR(VLOOKUP($A1041,'Lista de Precios_USD$_Euro€'!$E:$O,11,FALSE),\"\")","v":""}]
[null,null,null,{"$f":"IFERROR(VLOOKUP($A1042,'Lista de Precios_Bolívares_S'!$F:$Q,6,FALSE),\"\")","v":""},{"$f":"IFERROR(VLOOKUP($A1042,'Lista de Precios_Bolívares_S'!$F:$Q,12,FALSE),\"\")","v":""},"",{"$f":"IFERROR(VLOOKUP($A1042,'Lista de Precios_USD$_Euro€'!$E:$O,11,FALSE),\"\")","v":""}]
[null,null,null,{"$f":"IFERROR(VLOOKUP($A1043,'Lista de Precios_Bolívares_S'!$F:$Q,6,FALSE),\"\")","v":""},{"$f":"IFERROR(VLOOKUP($A1043,'Lista de Precios_Bolívares_S'!$F:$Q,12,FALSE),\"\")","v":""},"",{"$f":"IFERROR(VLOOKUP($A1043,'Lista de Precios_USD$_Euro€'!$E:$O,11,FALSE),\"\")","v":""}]
[null,null,null,{"$f":"IFERROR(VLOOKUP($A1044,'Lista de Precios_Bolívares_S'!$F:$Q,6,FALSE),\"\")","v":""},{"$f":"IFERROR(VLOOKUP($A1044,'Lista de Precios_Bolívares_S'!$F:$Q,12,FALSE),\"\")","v":""},"",{"$f":"IFERROR(VLOOKUP($A1044,'Lista de Precios_USD$_Euro€'!$E:$O,11,FALSE),\"\")","v":""}]
[null,null,null,{"$f":"IFERROR(VLOOKUP($A1045,'Lista de Precios_Bolívares_S'!$F:$Q,6,FALSE),\"\")","v":""},{"$f":"IFERROR(VLOOKUP($A1045,'Lista de Precios_Bolívares_S'!$F:$Q,12,FALSE),\"\")","v":""},"",{"$f":"IFERROR(VLOOKUP($A1045,'Lista de Precios_USD$_Euro€'!$E:$O,11,FALSE),\"\")","v":""}]
[null,null,null,{"$f":"IFERROR(VLOOKUP($A1046,'Lista de Precios_Bolívares_S'!$F:$Q,6,FALSE),\"\")","v":""},{"$f":"IFERROR(VLOOKUP($A1046,'Lista de Precios_Bolívares_S'!$F:$Q,12,FALSE),\"\")","v":""},"",{"$f":"IFERROR(VLOOKUP($A1046,'Lista de Precios_USD$_Euro€'!$E:$O,11,FALSE),\"\")","v":""}]
[null,null,null,{"$f":"IFERROR(VLOOKUP($A1047,'Lista de Precios_Bolívares_S'!$F:$Q,6,FALSE),\"\")","v":""},{"$f":"IFERROR(VLOOKUP($A1047,'Lista de Precios_Bolívares_S'!$F:$Q,12,FALSE),\"\")","v":""},"",{"$f":"IFERROR(VLOOKUP($A1047,'Lista de Precios_USD$_Euro€'!$E:$O,11,FALSE),\"\")","v":""}]
[null,null,null,{"$f":"IFERROR(VLOOKUP($A1048,'Lista de Precios_Bolívares_S'!$F:$Q,6,FALSE),\"\")","v":""},{"$f":"IFERROR(VLOOKUP($A1048,'Lista de Precios_Bolívares_S'!$F:$Q,12,FALSE),\"\")","v":""},"",{"$f":"IFERROR(VLOOKUP($A1048,'Lista de Precios_USD$_Euro€'!$E:$O,11,FALSE),\"\")","v":""}]
[null,null,null,{"$f":"IFERROR(VLOOKUP($A1049,'Lista de Precios_Bolívares_S'!$F:$Q,6,FALSE),\"\")","v":""},{"$f":"IFERROR(VLOOKUP($A1049,'Lista de Precios_Bolívares_S'!$F:$Q,12,FALSE),\"\")","v":""},{"$f":"IFERROR(IF(ROUND($C1049,2)=ROUND($D1024,2),ROUND($E1024,2),ROUND($C1049,2)),\"\")","v":""},{"$f":"IFERROR(VLOOKUP($A1049,'Lista de Precios_USD$_Euro€'!$E:$O,11,FALSE),\"\")","v":""}]
[null,null,null,{"$f":"IFERROR(VLOOKUP($A1050,'Lista de Precios_Bolívares_S'!$F:$Q,6,FALSE),\"\")","v":""},{"$f":"IFERROR(VLOOKUP($A1050,'Lista de Precios_Bolívares_S'!$F:$Q,12,FALSE),\"\")","v":""},"",{"$f":"IFERROR(VLOOKUP($A1050,'Lista de Precios_USD$_Euro€'!$E:$O,11,FALSE),\"\")","v":""}]
[null,null,null,{"$f":"IFERROR(VLOOKUP($A1051,'Lista de Precios_Bolívares_S'!$F:$Q,6,FALSE),\"\")","v":""},{"$f":"IFERROR(VLOOKUP($A1051,'Lista de Precios_Bolívares_S'!$F:$Q,12,FALSE),\"\")","v":""},"",{"$f":"IFERROR(VLOOKUP($A1051,'Lista de Precios_USD$_Euro€'!$E:$O,11,FALSE),\"\")","v":""}]
[null,null,null,{"$f":"IFERROR(VLOOKUP($A1052,'Lista de Precios_Bolívares_S'!$F:$Q,6,FALSE),\"\")","v":""},{"$f":"IFERROR(VLOOKUP($A1052,'Lista de Precios_Bolívares_S'!$F:$Q,12,FALSE),\"\")","v":""},"",{"$f":"IFERROR(VLOOKUP($A1052,'Lista de Precios_USD$_Euro€'!$E:$O,11,FALSE),\"\")","v":""}]
[null,null,null,{"$f":"IFERROR(VLOOKUP($A1053,'Lista de Precios_Bolívares_S'!$F:$Q,6,FALSE),\"\")","v":""},{"$f":"IFERROR(VLOOKUP($A1053,'Lista de Precios_Bolívares_S'!$F:$Q,12,FALSE),\"\")","v":""},"",{"$f":"IFERROR(VLOOKUP($A1053,'Lista de Precios_USD$_Euro€'!$E:$O,11,FALSE),\"\")","v":""}]
[null,null,null,{"$f":"IFERROR(VLOOKUP($A1054,'Lista de Precios_Bolívares_S'!$F:$Q,6,FALSE),\"\")","v":""},{"$f":"IFERROR(VLOOKUP($A1054,'Lista de Precios_Bolívares_S'!$F:$Q,12,FALSE),\"\")","v":""},"",{"$f":"IFERROR(VLOOKUP($A1054,'Lista de Precios_USD$_Euro€'!$E:$O,11,FALSE),\"\")","v":""}]
[null,null,null,{"$f":"IFERROR(VLOOKUP($A1055,'Lista de Precios_Bolívares_S'!$F:$Q,6,FALSE),\"\")","v":""},{"$f":"IFERROR(VLOOKUP($A1055,'Lista de Precios_Bolívares_S'!$F:$Q,12,FALSE),\"\")","v":""},"",{"$f":"IFERROR(VLOOKUP($A1055,'Lista de Precios_USD$_Euro€'!$E:$O,11,FALSE),\"\")","v":""}]
[null,null,null,{"$f":"IFERROR(VLOOKUP($A1056,'Lista de Precios_Bolívares_S'!$F:$Q,6,FALSE),\"\")","v":""},{"$f":"IFERROR(VLOOKUP($A1056,'Lista de Precios_Bolívares_S'!$F:$Q,12,FALSE),\"\")","v":""},"",{"$f":"IFERROR(VLOOKUP($A1056,'Lista de Precios_USD$_Euro€'!$E:$O,11,FALSE),\"\")","v":""}]
[null,null,null,{"$f":"IFERROR(VLOOKUP($A1057,'Lista de Precios_Bolívares_S'!$F:$Q,6,FALSE),\"\")","v":""},{"$f":"IFERROR(VLOOKUP($A1057,'Lista de Precios_Bolívares_S'!$F:$Q,12,FALSE),\"\")","v":""},"",{"$f":"IFERROR(VLOOKUP($A1057,'Lista de Precios_USD$_Euro€'!$E:$O,11,FALSE),\"\")","v":""}]
[null,null,null,{"$f":"IFERROR(VLOOKUP($A1058,'Lista de Precios_Bolívares_S'!$F:$Q,6,FALSE),\"\")","v":""},{"$f":"IFERROR(VLOOKUP($A1058,'Lista de Precios_Bolívares_S'!$F:$Q,12,FALSE),\"\")","v":""},"",{"$f":"IFERROR(VLOOKUP($A1058,'Lista de Precios_USD$_Euro€'!$E:$O,11,FALSE),\"\")","v":""}]
[null,null,null,{"$f":"IFERROR(VLOOKUP($A1059,'Lista de Precios_Bolívares_S'!$F:$Q,6,FALSE),\"\")","v":""},{"$f":"IFERROR(VLOOKUP($A1059,'Lista de Precios_Bolívares_S'!$F:$Q,12,FALSE),\"\")","v":""},"",{"$f":"IFERROR(VLOOKUP($A1059,'Lista de Precios_USD$_Euro€'!$E:$O,11,FALSE),\"\")","v":""}]
[null,null,null,{"$f":"IFERROR(VLOOKUP($A1060,'Lista de Precios_Bolívares_S'!$F:$Q,6,FALSE),\"\")","v":""},{"$f":"IFERROR(VLOOKUP($A1060,'Lista de Precios_Bolívares_S'!$F:$Q,12,FALSE),\"\")","v":""},"",{"$f":"IFERROR(VLOOKUP($A1060,'Lista de Precios_USD$_Euro€'!$E:$O,11,FALSE),\"\")","v":""}]
[null,null,null,{"$f":"IFERROR(VLOOKUP($A1061,'Lista de Precios_Bolívares_S'!$F:$Q,6,FALSE),\"\")","v":""},{"$f":"IFERROR(VLOOKUP($A1061,'Lista de Precios_Bolívares_S'!$F:$Q,12,FALSE),\"\")","v":""},"",{"$f":"IFERROR(VLOOKUP($A1061,'Lista de Precios_USD$_Euro€'!$E:$O,11,FALSE),\"\")","v":""}]
[null,null,null,{"$f":"IFERROR(VLOOKUP($A1062,'Lista de Precios_Bolívares_S'!$F:$Q,6,FALSE),\"\")","v":""},{"$f":"IFERROR(VLOOKUP($A1062,'Lista de Precios_Bolívares_S'!$F:$Q,12,FALSE),\"\")","v":""},"",{"$f":"IFERROR(VLOOKUP($A1062,'Lista de Precios_USD$_Euro€'!$E:$O,11,FALSE),\"\")","v":""}]
[null,null,null,{"$f":"IFERROR(VLOOKUP($A1063,'Lista de Precios_Bolívares_S'!$F:$Q,6,FALSE),\"\")","v":""},{"$f":"IFERROR(VLOOKUP($A1063,'Lista de Precios_Bolívares_S'!$F:$Q,12,FALSE),\"\")","v":""},"",{"$f":"IFERROR(VLOOKUP($A1063,'Lista de Precios_USD$_Euro€'!$E:$O,11,FALSE),\"\")","v":""}]
[null,null,null,{"$f":"IFERROR(VLOOKUP($A1064,'Lista de Precios_Bolívares_S'!$F:$Q,6,FALSE),\"\")","v":""},{"$f":"IFERROR(VLOOKUP($A1064,'Lista de Precios_Bolívares_S'!$F:$Q,12,FALSE),\"\")","v":""},"",{"$f":"IFERROR(VLOOKUP($A1064,'Lista de Precios_USD$_Euro€'!$E:$O,11,FALSE),\"\")","v":""}]
[null,null,null,{"$f":"IFERROR(VLOOKUP($A1065,'Lista de Precios_Bolívares_S'!$F:$Q,6,FALSE),\"\")","v":""},{"$f":"IFERROR(VLOOKUP($A1065,'Lista de Precios_Bolívares_S'!$F:$Q,12,FALSE),\"\")","v":""},"",{"$f":"IFERROR(VLOOKUP($A1065,'Lista de Precios_USD$_Euro€'!$E:$O,11,FALSE),\"\")","v":""}]
[null,null,null,{"$f":"IFERROR(VLOOKUP($A1066,'Lista de Precios_Bolívares_S'!$F:$Q,6,FALSE),\"\")","v":""},{"$f":"IFERROR(VLOOKUP($A1066,'Lista de Precios_Bolívares_S'!$F:$Q,12,FALSE),\"\")","v":""},"",{"$f":"IFERROR(VLOOKUP($A1066,'Lista de Precios_USD$_Euro€'!$E:$O,11,FALSE),\"\")","v":""}]
[null,null,null,{"$f":"IFERROR(VLOOKUP($A1067,'Lista de Precios_Bolívares_S'!$F:$Q,6,FALSE),\"\")","v":""},{"$f":"IFERROR(VLOOKUP($A1067,'Lista de Precios_Bolívares_S'!$F:$Q,12,FALSE),\"\")","v":""},"",{"$f":"IFERROR(VLOOKUP($A1067,'Lista de Precios_USD$_Euro€'!$E:$O,11,FALSE),\"\")","v":""}]
[null,null,null,{"$f":"IFERROR(VLOOKUP($A1068,'Lista de Precios_Bolívares_S'!$F:$Q,6,FALSE),\"\")","v":""},{"$f":"IFERROR(VLOOKUP($A1068,'Lista de Precios_Bolívares_S'!$F:$Q,12,FALSE),\"\")","v":""},"",{"$f":"IFERROR(VLOOKUP($A1068,'Lista de Precios_USD$_Euro€'!$E:$O,11,FALSE),\"\")","v":""}]
[null,null,null,{"$f":"IFERROR(VLOOKUP($A1069,'Lista de Precios_Bolívares_S'!$F:$Q,6,FALSE),\"\")","v":""},{"$f":"IFERROR(VLOOKUP($A1069,'Lista de Precios_Bolívares_S'!$F:$Q,12,FALSE),\"\")","v":""},"",{"$f":"IFERROR(VLOOKUP($A1069,'Lista de Precios_USD$_Euro€'!$E:$O,11,FALSE),\"\")","v":""}]
[null,null,null,{"$f":"IFERROR(VLOOKUP($A1070,'Lista de Precios_Bolívares_S'!$F:$Q,6,FALSE),\"\")","v":""},{"$f":"IFERROR(VLOOKUP($A1070,'Lista de Precios_Bolívares_S'!$F:$Q,12,FALSE),\"\")","v":""},"",{"$f":"IFERROR(VLOOKUP($A1070,'Lista de Precios_USD$_Euro€'!$E:$O,11,FALSE),\"\")","v":""}]
[null,null,null,{"$f":"IFERROR(VLOOKUP($A1071,'Lista de Precios_Bolívares_S'!$F:$Q,6,FALSE),\"\")","v":""},{"$f":"IFERROR(VLOOKUP($A1071,'Lista de Precios_Bolívares_S'!$F:$Q,12,FALSE),\"\")","v":""},"",{"$f":"IFERROR(VLOOKUP($A1071,'Lista de Precios_USD$_Euro€'!$E:$O,11,FALSE),\"\")","v":""}]
[null,null,null,{"$f":"IFERROR(VLOOKUP($A1072,'Lista de Precios_Bolívares_S'!$F:$Q,6,FALSE),\"\")","v":""},{"$f":"IFERROR(VLOOKUP($A1072,'Lista de Precios_Bolívares_S'!$F:$Q,12,FALSE),\"\")","v":""},"",{"$f":"IFERROR(VLOOKUP($A1072,'Lista de Precios_USD$_Euro€'!$E:$O,11,FALSE),\"\")","v":""}]
[null,null,null,{"$f":"IFERROR(VLOOKUP($A1073,'Lista de Precios_Bolívares_S'!$F:$Q,6,FALSE),\"\")","v":""},{"$f":"IFERROR(VLOOKUP($A1073,'Lista de Precios_Bolívares_S'!$F:$Q,12,FALSE),\"\")","v":""},"",{"$f":"IFERROR(VLOOKUP($A1073,'Lista de Precios_USD$_Euro€'!$E:$O,11,FALSE),\"\")","v":""}]
[null,null,null,{"$f":"IFERROR(VLOOKUP($A1074,'Lista de Precios_Bolívares_S'!$F:$Q,6,FALSE),\"\")","v":""},{"$f":"IFERROR(VLOOKUP($A1074,'Lista de Precios_Bolívares_S'!$F:$Q,12,FALSE),\"\")","v":""},"",{"$f":"IFERROR(VLOOKUP($A1074,'Lista de Precios_USD$_Euro€'!$E:$O,11,FALSE),\"\")","v":""}]
[null,null,null,{"$f":"IFERROR(VLOOKUP($A1075,'Lista de Precios_Bolívares_S'!$F:$Q,6,FALSE),\"\")","v":""},{"$f":"IFERROR(VLOOKUP($A1075,'Lista de Precios_Bolívares_S'!$F:$Q,12,FALSE),\"\")","v":""},"",{"$f":"IFERROR(VLOOKUP($A1075,'Lista de Precios_USD$_Euro€'!$E:$O,11,FALSE),\"\")","v":""}]
[null,null,null,{"$f":"IFERROR(VLOOKUP($A1076,'Lista de Precios_Bolívares_S'!$F:$Q,6,FALSE),\"\")","v":""},{"$f":"IFERROR(VLOOKUP($A1076,'Lista de Precios_Bolívares_S'!$F:$Q,12,FALSE),\"\")","v":""},"",{"$f":"IFERROR(VLOOKUP($A1076,'Lista de Precios_USD$_Euro€'!$E:$O,11,FALSE),\"\")","v":""}]
[null,null,null,{"$f":"IFERROR(VLOOKUP($A1077,'Lista de Precios_Bolívares_S'!$F:$Q,6,FALSE),\"\")","v":""},{"$f":"IFERROR(VLOOKUP($A1077,'Lista de Precios_Bolívares_S'!$F:$Q,12,FALSE),\"\")","v":""},"",{"$f":"IFERROR(VLOOKUP($A1077,'Lista de Precios_USD$_Euro€'!$E:$O,11,FALSE),\"\")","v":""}]
[null,null,null,{"$f":"IFERROR(VLOOKUP($A1078,'Lista de Precios_Bolívares_S'!$F:$Q,6,FALSE),\"\")","v":""},{"$f":"IFERROR(VLOOKUP($A1078,'Lista de Precios_Bolívares_S'!$F:$Q,12,FALSE),\"\")","v":""},"",{"$f":"IFERROR(VLOOKUP($A1078,'Lista de Precios_USD$_Euro€'!$E:$O,11,FALSE),\"\")","v":""}]
[null,null,null,{"$f":"IFERROR(VLOOKUP($A1079,'Lista de Precios_Bolívares_S'!$F:$Q,6,FALSE),\"\")","v":""},{"$f":"IFERROR(VLOOKUP($A1079,'Lista de Precios_Bolívares_S'!$F:$Q,12,FALSE),\"\")","v":""},"",{"$f":"IFERROR(VLOOKUP($A1079,'Lista de Precios_USD$_Euro€'!$E:$O,11,FALSE),\"\")","v":""}]
[null,null,null,{"$f":"IFERROR(VLOOKUP($A1080,'Lista de Precios_Bolívares_S'!$F:$Q,6,FALSE),\"\")","v":""},{"$f":"IFERROR(VLOOKUP($A1080,'Lista de Precios_Bolívares_S'!$F:$Q,12,FALSE),\"\")","v":""},"",{"$f":"IFERROR(VLOOKUP($A1080,'Lista de Precios_USD$_Euro€'!$E:$O,11,FALSE),\"\")","v":""}]
[null,null,null,{"$f":"IFERROR(VLOOKUP($A1081,'Lista de Precios_Bolívares_S'!$F:$Q,6,FALSE),\"\")","v":""},{"$f":"IFERROR(VLOOKUP($A1081,'Lista de Precios_Bolívares_S'!$F:$Q,12,FALSE),\"\")","v":""},"",{"$f":"IFERROR(VLOOKUP($A1081,'Lista de Precios_USD$_Euro€'!$E:$O,11,FALSE),\"\")","v":""}]
[null,null,null,{"$f":"IFERROR(VLOOKUP($A1082,'Lista de Precios_Bolívares_S'!$F:$Q,6,FALSE),\"\")","v":""},{"$f":"IFERROR(VLOOKUP($A1082,'Lista de Precios_Bolívares_S'!$F:$Q,12,FALSE),\"\")","v":""},"",{"$f":"IFERROR(VLOOKUP($A1082,'Lista de Precios_USD$_Euro€'!$E:$O,11,FALSE),\"\")","v":""}]
[null,null,null,{"$f":"IFERROR(VLOOKUP($A1083,'Lista de Precios_Bolívares_S'!$F:$Q,6,FALSE),\"\")","v":""},{"$f":"IFERROR(VLOOKUP($A1083,'Lista de Precios_Bolívares_S'!$F:$Q,12,FALSE),\"\")","v":""},"",{"$f":"IFERROR(VLOOKUP($A1083,'Lista de Precios_USD$_Euro€'!$E:$O,11,FALSE),\"\")","v":""}]
[null,null,null,{"$f":"IFERROR(VLOOKUP($A1084,'Lista de Precios_Bolívares_S'!$F:$Q,6,FALSE),\"\")","v":""},{"$f":"IFERROR(VLOOKUP($A1084,'Lista de Precios_Bolívares_S'!$F:$Q,12,FALSE),\"\")","v":""},"",{"$f":"IFERROR(VLOOKUP($A1084,'Lista de Precios_USD$_Euro€'!$E:$O,11,FALSE),\"\")","v":""}]
[null,null,null,{"$f":"IFERROR(VLOOKUP($A1085,'Lista de Precios_Bolívares_S'!$F:$Q,6,FALSE),\"\")","v":""},{"$f":"IFERROR(VLOOKUP($A1085,'Lista de Precios_Bolívares_S'!$F:$Q,12,FALSE),\"\")","v":""},"",{"$f":"IFERROR(VLOOKUP($A1085,'Lista de Precios_USD$_Euro€'!$E:$O,11,FALSE),\"\")","v":""}]
[null,null,null,{"$f":"IFERROR(VLOOKUP($A1086,'Lista de Precios_Bolívares_S'!$F:$Q,6,FALSE),\"\")","v":""},{"$f":"IFERROR(VLOOKUP($A1086,'Lista de Precios_Bolívares_S'!$F:$Q,12,FALSE),\"\")","v":""},"",{"$f":"IFERROR(VLOOKUP($A1086,'Lista de Precios_USD$_Euro€'!$E:$O,11,FALSE),\"\")","v":""}]
[null,null,null,{"$f":"IFERROR(VLOOKUP($A1087,'Lista de Precios_Bolívares_S'!$F:$Q,6,FALSE),\"\")","v":""},{"$f":"IFERROR(VLOOKUP($A1087,'Lista de Precios_Bolívares_S'!$F:$Q,12,FALSE),\"\")","v":""},"",{"$f":"IFERROR(VLOOKUP($A1087,'Lista de Precios_USD$_Euro€'!$E:$O,11,FALSE),\"\")","v":""}]
[null,null,null,{"$f":"IFERROR(VLOOKUP($A1088,'Lista de Precios_Bolívares_S'!$F:$Q,6,FALSE),\"\")","v":""},{"$f":"IFERROR(VLOOKUP($A1088,'Lista de Precios_Bolívares_S'!$F:$Q,12,FALSE),\"\")","v":""},"",{"$f":"IFERROR(VLOOKUP($A1088,'Lista de Precios_USD$_Euro€'!$E:$O,11,FALSE),\"\")","v":""}]
[null,null,null,{"$f":"IFERROR(VLOOKUP($A1089,'Lista de Precios_Bolívares_S'!$F:$Q,6,FALSE),\"\")","v":""},{"$f":"IFERROR(VLOOKUP($A1089,'Lista de Precios_Bolívares_S'!$F:$Q,12,FALSE),\"\")","v":""},"",{"$f":"IFERROR(VLOOKUP($A1089,'Lista de Precios_USD$_Euro€'!$E:$O,11,FALSE),\"\")","v":""}]
[null,null,null,{"$f":"IFERROR(VLOOKUP($A1090,'Lista de Precios_Bolívares_S'!$F:$Q,6,FALSE),\"\")","v":""},{"$f":"IFERROR(VLOOKUP($A1090,'Lista de Precios_Bolívares_S'!$F:$Q,12,FALSE),\"\")","v":""},"",{"$f":"IFERROR(VLOOKUP($A1090,'Lista de Precios_USD$_Euro€'!$E:$O,11,FALSE),\"\")","v":""}]
[null,null,null,{"$f":"IFERROR(VLOOKUP($A1091,'Lista de Precios_Bolívares_S'!$F:$Q,6,FALSE),\"\")","v":""},{"$f":"IFERROR(VLOOKUP($A1091,'Lista de Precios_Bolívares_S'!$F:$Q,12,FALSE),\"\")","v":""},"",{"$f":"IFERROR(VLOOKUP($A1091,'Lista de Precios_USD$_Euro€'!$E:$O,11,FALSE),\"\")","v":""}]
[null,null,null,{"$f":"IFERROR(VLOOKUP($A1092,'Lista de Precios_Bolívares_S'!$F:$Q,6,FALSE),\"\")","v":""},{"$f":"IFERROR(VLOOKUP($A1092,'Lista de Precios_Bolívares_S'!$F:$Q,12,FALSE),\"\")","v":""},"",{"$f":"IFERROR(VLOOKUP($A1092,'Lista de Precios_USD$_Euro€'!$E:$O,11,FALSE),\"\")","v":""}]
[null,null,null,{"$f":"IFERROR(VLOOKUP($A1093,'Lista de Precios_Bolívares_S'!$F:$Q,6,FALSE),\"\")","v":""},{"$f":"IFERROR(VLOOKUP($A1093,'Lista de Precios_Bolívares_S'!$F:$Q,12,FALSE),\"\")","v":""},"",{"$f":"IFERROR(VLOOKUP($A1093,'Lista de Precios_USD$_Euro€'!$E:$O,11,FALSE),\"\")","v":""}]
[null,null,null,{"$f":"IFERROR(VLOOKUP($A1094,'Lista de Precios_Bolívares_S'!$F:$Q,6,FALSE),\"\")","v":""},{"$f":"IFERROR(VLOOKUP($A1094,'Lista de Precios_Bolívares_S'!$F:$Q,12,FALSE),\"\")","v":""},"",{"$f":"IFERROR(VLOOKUP($A1094,'Lista de Precios_USD$_Euro€'!$E:$O,11,FALSE),\"\")","v":""}]
[null,null,null,{"$f":"IFERROR(VLOOKUP($A1095,'Lista de Precios_Bolívares_S'!$F:$Q,6,FALSE),\"\")","v":""},{"$f":"IFERROR(VLOOKUP($A1095,'Lista de Precios_Bolívares_S'!$F:$Q,12,FALSE),\"\")","v":""},"",{"$f":"IFERROR(VLOOKUP($A1095,'Lista de Precios_USD$_Euro€'!$E:$O,11,FALSE),\"\")","v":""}]
[null,null,null,{"$f":"IFERROR(VLOOKUP($A1096,'Lista de Precios_Bolívares_S'!$F:$Q,6,FALSE),\"\")","v":""},{"$f":"IFERROR(VLOOKUP($A1096,'Lista de Precios_Bolívares_S'!$F:$Q,12,FALSE),\"\")","v":""},"",{"$f":"IFERROR(VLOOKUP($A1096,'Lista de Precios_USD$_Euro€'!$E:$O,11,FALSE),\"\")","v":""}]
[null,null,null,{"$f":"IFERROR(VLOOKUP($A1097,'Lista de Precios_Bolívares_S'!$F:$Q,6,FALSE),\"\")","v":""},{"$f":"IFERROR(VLOOKUP($A1097,'Lista de Precios_Bolívares_S'!$F:$Q,12,FALSE),\"\")","v":""},"",{"$f":"IFERROR(VLOOKUP($A1097,'Lista de Precios_USD$_Euro€'!$E:$O,11,FALSE),\"\")","v":""}]
[null,null,null,{"$f":"IFERROR(VLOOKUP($A1098,'Lista de Precios_Bolívares_S'!$F:$Q,6,FALSE),\"\")","v":""},{"$f":"IFERROR(VLOOKUP($A1098,'Lista de Precios_Bolívares_S'!$F:$Q,12,FALSE),\"\")","v":""},"",{"$f":"IFERROR(VLOOKUP($A1098,'Lista de Precios_USD$_Euro€'!$E:$O,11,FALSE),\"\")","v":""}]
[null,null,null,{"$f":"IFERROR(VLOOKUP($A1099,'Lista de Precios_Bolívares_S'!$F:$Q,6,FALSE),\"\")","v":""},{"$f":"IFERROR(VLOOKUP($A1099,'Lista de Precios_Bolívares_S'!$F:$Q,12,FALSE),\"\")","v":""},"",{"$f":"IFERROR(VLOOKUP($A1099,'Lista de Precios_USD$_Euro€'!$E:$O,11,FALSE),\"\")","v":""}]
[null,null,null,{"$f":"IFERROR(VLOOKUP($A1100,'Lista de Precios_Bolívares_S'!$F:$Q,6,FALSE),\"\")","v":""},{"$f":"IFERROR(VLOOKUP($A1100,'Lista de Precios_Bolívares_S'!$F:$Q,12,FALSE),\"\")","v":""},"",{"$f":"IFERROR(VLOOKUP($A1100,'Lista de Precios_USD$_Euro€'!$E:$O,11,FALSE),\"\")","v":""}]
[null,null,null,{"$f":"IFERROR(VLOOKUP($A1101,'Lista de Precios_Bolívares_S'!$F:$Q,6,FALSE),\"\")","v":""},{"$f":"IFERROR(VLOOKUP($A1101,'Lista de Precios_Bolívares_S'!$F:$Q,12,FALSE),\"\")","v":""},"",{"$f":"IFERROR(VLOOKUP($A1101,'Lista de Precios_USD$_Euro€'!$E:$O,11,FALSE),\"\")","v":""}]
[null,null,null,{"$f":"IFERROR(VLOOKUP($A1102,'Lista de Precios_Bolívares_S'!$F:$Q,6,FALSE),\"\")","v":""},{"$f":"IFERROR(VLOOKUP($A1102,'Lista de Precios_Bolívares_S'!$F:$Q,12,FALSE),\"\")","v":""},"",{"$f":"IFERROR(VLOOKUP($A1102,'Lista de Precios_USD$_Euro€'!$E:$O,11,FALSE),\"\")","v":""}]
[null,null,null,{"$f":"IFERROR(VLOOKUP($A1103,'Lista de Precios_Bolívares_S'!$F:$Q,6,FALSE),\"\")","v":""},{"$f":"IFERROR(VLOOKUP($A1103,'Lista de Precios_Bolívares_S'!$F:$Q,12,FALSE),\"\")","v":""},"",{"$f":"IFERROR(VLOOKUP($A1103,'Lista de Precios_USD$_Euro€'!$E:$O,11,FALSE),\"\")","v":""}]
[null,null,null,{"$f":"IFERROR(VLOOKUP($A1104,'Lista de Precios_Bolívares_S'!$F:$Q,6,FALSE),\"\")","v":""},{"$f":"IFERROR(VLOOKUP($A1104,'Lista de Precios_Bolívares_S'!$F:$Q,12,FALSE),\"\")","v":""},"",{"$f":"IFERROR(VLOOKUP($A1104,'Lista de Precios_USD$_Euro€'!$E:$O,11,FALSE),\"\")","v":""}]
[null,null,null,{"$f":"IFERROR(VLOOKUP($A1105,'Lista de Precios_Bolívares_S'!$F:$Q,6,FALSE),\"\")","v":""},{"$f":"IFERROR(VLOOKUP($A1105,'Lista de Precios_Bolívares_S'!$F:$Q,12,FALSE),\"\")","v":""},"",{"$f":"IFERROR(VLOOKUP($A1105,'Lista de Precios_USD$_Euro€'!$E:$O,11,FALSE),\"\")","v":""}]
[null,null,null,{"$f":"IFERROR(VLOOKUP($A1106,'Lista de Precios_Bolívares_S'!$F:$Q,6,FALSE),\"\")","v":""},{"$f":"IFERROR(VLOOKUP($A1106,'Lista de Precios_Bolívares_S'!$F:$Q,12,FALSE),\"\")","v":""},"",{"$f":"IFERROR(VLOOKUP($A1106,'Lista de Precios_USD$_Euro€'!$E:$O,11,FALSE),\"\")","v":""}]
[null,null,null,{"$f":"IFERROR(VLOOKUP($A1107,'Lista de Precios_Bolívares_S'!$F:$Q,6,FALSE),\"\")","v":""},{"$f":"IFERROR(VLOOKUP($A1107,'Lista de Precios_Bolívares_S'!$F:$Q,12,FALSE),\"\")","v":""},"",{"$f":"IFERROR(VLOOKUP($A1107,'Lista de Precios_USD$_Euro€'!$E:$O,11,FALSE),\"\")","v":""}]
[null,null,null,{"$f":"IFERROR(VLOOKUP($A1108,'Lista de Precios_Bolívares_S'!$F:$Q,6,FALSE),\"\")","v":""},{"$f":"IFERROR(VLOOKUP($A1108,'Lista de Precios_Bolívares_S'!$F:$Q,12,FALSE),\"\")","v":""},"",{"$f":"IFERROR(VLOOKUP($A1108,'Lista de Precios_USD$_Euro€'!$E:$O,11,FALSE),\"\")","v":""}]
[null,null,null,{"$f":"IFERROR(VLOOKUP($A1109,'Lista de Precios_Bolívares_S'!$F:$Q,6,FALSE),\"\")","v":""},{"$f":"IFERROR(VLOOKUP($A1109,'Lista de Precios_Bolívares_S'!$F:$Q,12,FALSE),\"\")","v":""},"",{"$f":"IFERROR(VLOOKUP($A1109,'Lista de Precios_USD$_Euro€'!$E:$O,11,FALSE),\"\")","v":""}]
[null,null,null,{"$f":"IFERROR(VLOOKUP($A1110,'Lista de Precios_Bolívares_S'!$F:$Q,6,FALSE),\"\")","v":""},{"$f":"IFERROR(VLOOKUP($A1110,'Lista de Precios_Bolívares_S'!$F:$Q,12,FALSE),\"\")","v":""},"",{"$f":"IFERROR(VLOOKUP($A1110,'Lista de Precios_USD$_Euro€'!$E:$O,11,FALSE),\"\")","v":""}]
[null,null,null,{"$f":"IFERROR(VLOOKUP($A1111,'Lista de Precios_Bolívares_S'!$F:$Q,6,FALSE),\"\")","v":""},{"$f":"IFERROR(VLOOKUP($A1111,'Lista de Precios_Bolívares_S'!$F:$Q,12,FALSE),\"\")","v":""},"",{"$f":"IFERROR(VLOOKUP($A1111,'Lista de Precios_USD$_Euro€'!$E:$O,11,FALSE),\"\")","v":""}]
[null,null,null,{"$f":"IFERROR(VLOOKUP($A1112,'Lista de Precios_Bolívares_S'!$F:$Q,6,FALSE),\"\")","v":""},{"$f":"IFERROR(VLOOKUP($A1112,'Lista de Precios_Bolívares_S'!$F:$Q,12,FALSE),\"\")","v":""},"",{"$f":"IFERROR(VLOOKUP($A1112,'Lista de Precios_USD$_Euro€'!$E:$O,11,FALSE),\"\")","v":""}]
[null,null,null,{"$f":"IFERROR(VLOOKUP($A1113,'Lista de Precios_Bolívares_S'!$F:$Q,6,FALSE),\"\")","v":""},{"$f":"IFERROR(VLOOKUP($A1113,'Lista de Precios_Bolívares_S'!$F:$Q,12,FALSE),\"\")","v":""},{"$f":"IFERROR(IF(ROUND($C1113,2)=ROUND($D1088,2),ROUND($E1088,2),ROUND($C1113,2)),\"\")","v":""},{"$f":"IFERROR(VLOOKUP($A1113,'Lista de Precios_USD$_Euro€'!$E:$O,11,FALSE),\"\")","v":""}]
[null,null,null,{"$f":"IFERROR(VLOOKUP($A1114,'Lista de Precios_Bolívares_S'!$F:$Q,6,FALSE),\"\")","v":""},{"$f":"IFERROR(VLOOKUP($A1114,'Lista de Precios_Bolívares_S'!$F:$Q,12,FALSE),\"\")","v":""},"",{"$f":"IFERROR(VLOOKUP($A1114,'Lista de Precios_USD$_Euro€'!$E:$O,11,FALSE),\"\")","v":""}]
[null,null,null,{"$f":"IFERROR(VLOOKUP($A1115,'Lista de Precios_Bolívares_S'!$F:$Q,6,FALSE),\"\")","v":""},{"$f":"IFERROR(VLOOKUP($A1115,'Lista de Precios_Bolívares_S'!$F:$Q,12,FALSE),\"\")","v":""},"",{"$f":"IFERROR(VLOOKUP($A1115,'Lista de Precios_USD$_Euro€'!$E:$O,11,FALSE),\"\")","v":""}]
[null,null,null,{"$f":"IFERROR(VLOOKUP($A1116,'Lista de Precios_Bolívares_S'!$F:$Q,6,FALSE),\"\")","v":""},{"$f":"IFERROR(VLOOKUP($A1116,'Lista de Precios_Bolívares_S'!$F:$Q,12,FALSE),\"\")","v":""},"",{"$f":"IFERROR(VLOOKUP($A1116,'Lista de Precios_USD$_Euro€'!$E:$O,11,FALSE),\"\")","v":""}]
[null,null,null,{"$f":"IFERROR(VLOOKUP($A1117,'Lista de Precios_Bolívares_S'!$F:$Q,6,FALSE),\"\")","v":""},{"$f":"IFERROR(VLOOKUP($A1117,'Lista de Precios_Bolívares_S'!$F:$Q,12,FALSE),\"\")","v":""},"",{"$f":"IFERROR(VLOOKUP($A1117,'Lista de Precios_USD$_Euro€'!$E:$O,11,FALSE),\"\")","v":""}]
[null,null,null,{"$f":"IFERROR(VLOOKUP($A1118,'Lista de Precios_Bolívares_S'!$F:$Q,6,FALSE),\"\")","v":""},{"$f":"IFERROR(VLOOKUP($A1118,'Lista de Precios_Bolívares_S'!$F:$Q,12,FALSE),\"\")","v":""},"",{"$f":"IFERROR(VLOOKUP($A1118,'Lista de Precios_USD$_Euro€'!$E:$O,11,FALSE),\"\")","v":""}]
[null,null,null,{"$f":"IFERROR(VLOOKUP($A1119,'Lista de Precios_Bolívares_S'!$F:$Q,6,FALSE),\"\")","v":""},{"$f":"IFERROR(VLOOKUP($A1119,'Lista de Precios_Bolívares_S'!$F:$Q,12,FALSE),\"\")","v":""},"",{"$f":"IFERROR(VLOOKUP($A1119,'Lista de Precios_USD$_Euro€'!$E:$O,11,FALSE),\"\")","v":""}]
[null,null,null,{"$f":"IFERROR(VLOOKUP($A1120,'Lista de Precios_Bolívares_S'!$F:$Q,6,FALSE),\"\")","v":""},{"$f":"IFERROR(VLOOKUP($A1120,'Lista de Precios_Bolívares_S'!$F:$Q,12,FALSE),\"\")","v":""},"",{"$f":"IFERROR(VLOOKUP($A1120,'Lista de Precios_USD$_Euro€'!$E:$O,11,FALSE),\"\")","v":""}]
[null,null,null,{"$f":"IFERROR(VLOOKUP($A1121,'Lista de Precios_Bolívares_S'!$F:$Q,6,FALSE),\"\")","v":""},{"$f":"IFERROR(VLOOKUP($A1121,'Lista de Precios_Bolívares_S'!$F:$Q,12,FALSE),\"\")","v":""},"",{"$f":"IFERROR(VLOOKUP($A1121,'Lista de Precios_USD$_Euro€'!$E:$O,11,FALSE),\"\")","v":""}]
[null,null,null,{"$f":"IFERROR(VLOOKUP($A1122,'Lista de Precios_Bolívares_S'!$F:$Q,6,FALSE),\"\")","v":""},{"$f":"IFERROR(VLOOKUP($A1122,'Lista de Precios_Bolívares_S'!$F:$Q,12,FALSE),\"\")","v":""},"",{"$f":"IFERROR(VLOOKUP($A1122,'Lista de Precios_USD$_Euro€'!$E:$O,11,FALSE),\"\")","v":""}]
[null,null,null,{"$f":"IFERROR(VLOOKUP($A1123,'Lista de Precios_Bolívares_S'!$F:$Q,6,FALSE),\"\")","v":""},{"$f":"IFERROR(VLOOKUP($A1123,'Lista de Precios_Bolívares_S'!$F:$Q,12,FALSE),\"\")","v":""},"",{"$f":"IFERROR(VLOOKUP($A1123,'Lista de Precios_USD$_Euro€'!$E:$O,11,FALSE),\"\")","v":""}]
[null,null,null,{"$f":"IFERROR(VLOOKUP($A1124,'Lista de Precios_Bolívares_S'!$F:$Q,6,FALSE),\"\")","v":""},{"$f":"IFERROR(VLOOKUP($A1124,'Lista de Precios_Bolívares_S'!$F:$Q,12,FALSE),\"\")","v":""},"",{"$f":"IFERROR(VLOOKUP($A1124,'Lista de Precios_USD$_Euro€'!$E:$O,11,FALSE),\"\")","v":""}]
[null,null,null,{"$f":"IFERROR(VLOOKUP($A1125,'Lista de Precios_Bolívares_S'!$F:$Q,6,FALSE),\"\")","v":""},{"$f":"IFERROR(VLOOKUP($A1125,'Lista de Precios_Bolívares_S'!$F:$Q,12,FALSE),\"\")","v":""},"",{"$f":"IFERROR(VLOOKUP($A1125,'Lista de Precios_USD$_Euro€'!$E:$O,11,FALSE),\"\")","v":""}]
[null,null,null,{"$f":"IFERROR(VLOOKUP($A1126,'Lista de Precios_Bolívares_S'!$F:$Q,6,FALSE),\"\")","v":""},{"$f":"IFERROR(VLOOKUP($A1126,'Lista de Precios_Bolívares_S'!$F:$Q,12,FALSE),\"\")","v":""},"",{"$f":"IFERROR(VLOOKUP($A1126,'Lista de Precios_USD$_Euro€'!$E:$O,11,FALSE),\"\")","v":""}]
[null,null,null,{"$f":"IFERROR(VLOOKUP($A1127,'Lista de Precios_Bolívares_S'!$F:$Q,6,FALSE),\"\")","v":""},{"$f":"IFERROR(VLOOKUP($A1127,'Lista de Precios_Bolívares_S'!$F:$Q,12,FALSE),\"\")","v":""},"",{"$f":"IFERROR(VLOOKUP($A1127,'Lista de Precios_USD$_Euro€'!$E:$O,11,FALSE),\"\")","v":""}]
[null,null,null,{"$f":"IFERROR(VLOOKUP($A1128,'Lista de Precios_Bolívares_S'!$F:$Q,6,FALSE),\"\")","v":""},{"$f":"IFERROR(VLOOKUP($A1128,'Lista de Precios_Bolívares_S'!$F:$Q,12,FALSE),\"\")","v":""},"",{"$f":"IFERROR(VLOOKUP($A1128,'Lista de Precios_USD$_Euro€'!$E:$O,11,FALSE),\"\")","v":""}]
[null,null,null,{"$f":"IFERROR(VLOOKUP($A1129,'Lista de Precios_Bolívares_S'!$F:$Q,6,FALSE),\"\")","v":""},{"$f":"IFERROR(VLOOKUP($A1129,'Lista de Precios_Bolívares_S'!$F:$Q,12,FALSE),\"\")","v":""},"",{"$f":"IFERROR(VLOOKUP($A1129,'Lista de Precios_USD$_Euro€'!$E:$O,11,FALSE),\"\")","v":""}]
[null,null,null,{"$f":"IFERROR(VLOOKUP($A1130,'Lista de Precios_Bolívares_S'!$F:$Q,6,FALSE),\"\")","v":""},{"$f":"IFERROR(VLOOKUP($A1130,'Lista de Precios_Bolívares_S'!$F:$Q,12,FALSE),\"\")","v":""},"",{"$f":"IFERROR(VLOOKUP($A1130,'Lista de Precios_USD$_Euro€'!$E:$O,11,FALSE),\"\")","v":""}]
[null,null,null,{"$f":"IFERROR(VLOOKUP($A1131,'Lista de Precios_Bolívares_S'!$F:$Q,6,FALSE),\"\")","v":""},{"$f":"IFERROR(VLOOKUP($A1131,'Lista de Precios_Bolívares_S'!$F:$Q,12,FALSE),\"\")","v":""},"",{"$f":"IFERROR(VLOOKUP($A1131,'Lista de Precios_USD$_Euro€'!$E:$O,11,FALSE),\"\")","v":""}]
[null,null,null,{"$f":"IFERROR(VLOOKUP($A1132,'Lista de Precios_Bolívares_S'!$F:$Q,6,FALSE),\"\")","v":""},{"$f":"IFERROR(VLOOKUP($A1132,'Lista de Precios_Bolívares_S'!$F:$Q,12,FALSE),\"\")","v":""},"",{"$f":"IFERROR(VLOOKUP($A1132,'Lista de Precios_USD$_Euro€'!$E:$O,11,FALSE),\"\")","v":""}]
[null,null,null,{"$f":"IFERROR(VLOOKUP($A1133,'Lista de Precios_Bolívares_S'!$F:$Q,6,FALSE),\"\")","v":""},{"$f":"IFERROR(VLOOKUP($A1133,'Lista de Precios_Bolívares_S'!$F:$Q,12,FALSE),\"\")","v":""},"",{"$f":"IFERROR(VLOOKUP($A1133,'Lista de Precios_USD$_Euro€'!$E:$O,11,FALSE),\"\")","v":""}]
[null,null,null,{"$f":"IFERROR(VLOOKUP($A1134,'Lista de Precios_Bolívares_S'!$F:$Q,6,FALSE),\"\")","v":""},{"$f":"IFERROR(VLOOKUP($A1134,'Lista de Precios_Bolívares_S'!$F:$Q,12,FALSE),\"\")","v":""},"",{"$f":"IFERROR(VLOOKUP($A1134,'Lista de Precios_USD$_Euro€'!$E:$O,11,FALSE),\"\")","v":""}]
[null,null,null,{"$f":"IFERROR(VLOOKUP($A1135,'Lista de Precios_Bolívares_S'!$F:$Q,6,FALSE),\"\")","v":""},{"$f":"IFERROR(VLOOKUP($A1135,'Lista de Precios_Bolívares_S'!$F:$Q,12,FALSE),\"\")","v":""},"",{"$f":"IFERROR(VLOOKUP($A1135,'Lista de Precios_USD$_Euro€'!$E:$O,11,FALSE),\"\")","v":""}]
[null,null,null,{"$f":"IFERROR(VLOOKUP($A1136,'Lista de Precios_Bolívares_S'!$F:$Q,6,FALSE),\"\")","v":""},{"$f":"IFERROR(VLOOKUP($A1136,'Lista de Precios_Bolívares_S'!$F:$Q,12,FALSE),\"\")","v":""},"",{"$f":"IFERROR(VLOOKUP($A1136,'Lista de Precios_USD$_Euro€'!$E:$O,11,FALSE),\"\")","v":""}]
[null,null,null,{"$f":"IFERROR(VLOOKUP($A1137,'Lista de Precios_Bolívares_S'!$F:$Q,6,FALSE),\"\")","v":""},{"$f":"IFERROR(VLOOKUP($A1137,'Lista de Precios_Bolívares_S'!$F:$Q,12,FALSE),\"\")","v":""},"",{"$f":"IFERROR(VLOOKUP($A1137,'Lista de Precios_USD$_Euro€'!$E:$O,11,FALSE),\"\")","v":""}]
[null,null,null,{"$f":"IFERROR(VLOOKUP($A1138,'Lista de Precios_Bolívares_S'!$F:$Q,6,FALSE),\"\")","v":""},{"$f":"IFERROR(VLOOKUP($A1138,'Lista de Precios_Bolívares_S'!$F:$Q,12,FALSE),\"\")","v":""},"",{"$f":"IFERROR(VLOOKUP($A1138,'Lista de Precios_USD$_Euro€'!$E:$O,11,FALSE),\"\")","v":""}]
[null,null,null,{"$f":"IFERROR(VLOOKUP($A1139,'Lista de Precios_Bolívares_S'!$F:$Q,6,FALSE),\"\")","v":""},{"$f":"IFERROR(VLOOKUP($A1139,'Lista de Precios_Bolívares_S'!$F:$Q,12,FALSE),\"\")","v":""},"",{"$f":"IFERROR(VLOOKUP($A1139,'Lista de Precios_USD$_Euro€'!$E:$O,11,FALSE),\"\")","v":""}]
[null,null,null,{"$f":"IFERROR(VLOOKUP($A1140,'Lista de Precios_Bolívares_S'!$F:$Q,6,FALSE),\"\")","v":""},{"$f":"IFERROR(VLOOKUP($A1140,'Lista de Precios_Bolívares_S'!$F:$Q,12,FALSE),\"\")","v":""},"",{"$f":"IFERROR(VLOOKUP($A1140,'Lista de Precios_USD$_Euro€'!$E:$O,11,FALSE),\"\")","v":""}]
[null,null,null,{"$f":"IFERROR(VLOOKUP($A1141,'Lista de Precios_Bolívares_S'!$F:$Q,6,FALSE),\"\")","v":""},{"$f":"IFERROR(VLOOKUP($A1141,'Lista de Precios_Bolívares_S'!$F:$Q,12,FALSE),\"\")","v":""},"",{"$f":"IFERROR(VLOOKUP($A1141,'Lista de Precios_USD$_Euro€'!$E:$O,11,FALSE),\"\")","v":""}]
[null,null,null,{"$f":"IFERROR(VLOOKUP($A1142,'Lista de Precios_Bolívares_S'!$F:$Q,6,FALSE),\"\")","v":""},{"$f":"IFERROR(VLOOKUP($A1142,'Lista de Precios_Bolívares_S'!$F:$Q,12,FALSE),\"\")","v":""},"",{"$f":"IFERROR(VLOOKUP($A1142,'Lista de Precios_USD$_Euro€'!$E:$O,11,FALSE),\"\")","v":""}]
[null,null,null,{"$f":"IFERROR(VLOOKUP($A1143,'Lista de Precios_Bolívares_S'!$F:$Q,6,FALSE),\"\")","v":""},{"$f":"IFERROR(VLOOKUP($A1143,'Lista de Precios_Bolívares_S'!$F:$Q,12,FALSE),\"\")","v":""},"",{"$f":"IFERROR(VLOOKUP($A1143,'Lista de Precios_USD$_Euro€'!$E:$O,11,FALSE),\"\")","v":""}]
[null,null,null,{"$f":"IFERROR(VLOOKUP($A1144,'Lista de Precios_Bolívares_S'!$F:$Q,6,FALSE),\"\")","v":""},{"$f":"IFERROR(VLOOKUP($A1144,'Lista de Precios_Bolívares_S'!$F:$Q,12,FALSE),\"\")","v":""},"",{"$f":"IFERROR(VLOOKUP($A1144,'Lista de Precios_USD$_Euro€'!$E:$O,11,FALSE),\"\")","v":""}]
[null,null,null,{"$f":"IFERROR(VLOOKUP($A1145,'Lista de Precios_Bolívares_S'!$F:$Q,6,FALSE),\"\")","v":""},{"$f":"IFERROR(VLOOKUP($A1145,'Lista de Precios_Bolívares_S'!$F:$Q,12,FALSE),\"\")","v":""},"",{"$f":"IFERROR(VLOOKUP($A1145,'Lista de Precios_USD$_Euro€'!$E:$O,11,FALSE),\"\")","v":""}]
[null,null,null,{"$f":"IFERROR(VLOOKUP($A1146,'Lista de Precios_Bolívares_S'!$F:$Q,6,FALSE),\"\")","v":""},{"$f":"IFERROR(VLOOKUP($A1146,'Lista de Precios_Bolívares_S'!$F:$Q,12,FALSE),\"\")","v":""},"",{"$f":"IFERROR(VLOOKUP($A1146,'Lista de Precios_USD$_Euro€'!$E:$O,11,FALSE),\"\")","v":""}]
[null,null,null,{"$f":"IFERROR(VLOOKUP($A1147,'Lista de Precios_Bolívares_S'!$F:$Q,6,FALSE),\"\")","v":""},{"$f":"IFERROR(VLOOKUP($A1147,'Lista de Precios_Bolívares_S'!$F:$Q,12,FALSE),\"\")","v":""},"",{"$f":"IFERROR(VLOOKUP($A1147,'Lista de Precios_USD$_Euro€'!$E:$O,11,FALSE),\"\")","v":""}]
[null,null,null,{"$f":"IFERROR(VLOOKUP($A1148,'Lista de Precios_Bolívares_S'!$F:$Q,6,FALSE),\"\")","v":""},{"$f":"IFERROR(VLOOKUP($A1148,'Lista de Precios_Bolívares_S'!$F:$Q,12,FALSE),\"\")","v":""},"",{"$f":"IFERROR(VLOOKUP($A1148,'Lista de Precios_USD$_Euro€'!$E:$O,11,FALSE),\"\")","v":""}]
[null,null,null,{"$f":"IFERROR(VLOOKUP($A1149,'Lista de Precios_Bolívares_S'!$F:$Q,6,FALSE),\"\")","v":""},{"$f":"IFERROR(VLOOKUP($A1149,'Lista de Precios_Bolívares_S'!$F:$Q,12,FALSE),\"\")","v":""},"",{"$f":"IFERROR(VLOOKUP($A1149,'Lista de Precios_USD$_Euro€'!$E:$O,11,FALSE),\"\")","v":""}]
[null,null,null,{"$f":"IFERROR(VLOOKUP($A1150,'Lista de Precios_Bolívares_S'!$F:$Q,6,FALSE),\"\")","v":""},{"$f":"IFERROR(VLOOKUP($A1150,'Lista de Precios_Bolívares_S'!$F:$Q,12,FALSE),\"\")","v":""},"",{"$f":"IFERROR(VLOOKUP($A1150,'Lista de Precios_USD$_Euro€'!$E:$O,11,FALSE),\"\")","v":""}]
[null,null,null,{"$f":"IFERROR(VLOOKUP($A1151,'Lista de Precios_Bolívares_S'!$F:$Q,6,FALSE),\"\")","v":""},{"$f":"IFERROR(VLOOKUP($A1151,'Lista de Precios_Bolívares_S'!$F:$Q,12,FALSE),\"\")","v":""},"",{"$f":"IFERROR(VLOOKUP($A1151,'Lista de Precios_USD$_Euro€'!$E:$O,11,FALSE),\"\")","v":""}]
[null,null,null,{"$f":"IFERROR(VLOOKUP($A1152,'Lista de Precios_Bolívares_S'!$F:$Q,6,FALSE),\"\")","v":""},{"$f":"IFERROR(VLOOKUP($A1152,'Lista de Precios_Bolívares_S'!$F:$Q,12,FALSE),\"\")","v":""},"",{"$f":"IFERROR(VLOOKUP($A1152,'Lista de Precios_USD$_Euro€'!$E:$O,11,FALSE),\"\")","v":""}]
[null,null,null,{"$f":"IFERROR(VLOOKUP($A1153,'Lista de Precios_Bolívares_S'!$F:$Q,6,FALSE),\"\")","v":""},{"$f":"IFERROR(VLOOKUP($A1153,'Lista de Precios_Bolívares_S'!$F:$Q,12,FALSE),\"\")","v":""},"",{"$f":"IFERROR(VLOOKUP($A1153,'Lista de Precios_USD$_Euro€'!$E:$O,11,FALSE),\"\")","v":""}]
[null,null,null,{"$f":"IFERROR(VLOOKUP($A1154,'Lista de Precios_Bolívares_S'!$F:$Q,6,FALSE),\"\")","v":""},{"$f":"IFERROR(VLOOKUP($A1154,'Lista de Precios_Bolívares_S'!$F:$Q,12,FALSE),\"\")","v":""},"",{"$f":"IFERROR(VLOOKUP($A1154,'Lista de Precios_USD$_Euro€'!$E:$O,11,FALSE),\"\")","v":""}]
[null,null,null,{"$f":"IFERROR(VLOOKUP($A1155,'Lista de Precios_Bolívares_S'!$F:$Q,6,FALSE),\"\")","v":""},{"$f":"IFERROR(VLOOKUP($A1155,'Lista de Precios_Bolívares_S'!$F:$Q,12,FALSE),\"\")","v":""},"",{"$f":"IFERROR(VLOOKUP($A1155,'Lista de Precios_USD$_Euro€'!$E:$O,11,FALSE),\"\")","v":""}]
[null,null,null,{"$f":"IFERROR(VLOOKUP($A1156,'Lista de Precios_Bolívares_S'!$F:$Q,6,FALSE),\"\")","v":""},{"$f":"IFERROR(VLOOKUP($A1156,'Lista de Precios_Bolívares_S'!$F:$Q,12,FALSE),\"\")","v":""},"",{"$f":"IFERROR(VLOOKUP($A1156,'Lista de Precios_USD$_Euro€'!$E:$O,11,FALSE),\"\")","v":""}]
[null,null,null,{"$f":"IFERROR(VLOOKUP($A1157,'Lista de Precios_Bolívares_S'!$F:$Q,6,FALSE),\"\")","v":""},{"$f":"IFERROR(VLOOKUP($A1157,'Lista de Precios_Bolívares_S'!$F:$Q,12,FALSE),\"\")","v":""},"",{"$f":"IFERROR(VLOOKUP($A1157,'Lista de Precios_USD$_Euro€'!$E:$O,11,FALSE),\"\")","v":""}]
[null,null,null,{"$f":"IFERROR(VLOOKUP($A1158,'Lista de Precios_Bolívares_S'!$F:$Q,6,FALSE),\"\")","v":""},{"$f":"IFERROR(VLOOKUP($A1158,'Lista de Precios_Bolívares_S'!$F:$Q,12,FALSE),\"\")","v":""},"",{"$f":"IFERROR(VLOOKUP($A1158,'Lista de Precios_USD$_Euro€'!$E:$O,11,FALSE),\"\")","v":""}]
[null,null,null,{"$f":"IFERROR(VLOOKUP($A1159,'Lista de Precios_Bolívares_S'!$F:$Q,6,FALSE),\"\")","v":""},{"$f":"IFERROR(VLOOKUP($A1159,'Lista de Precios_Bolívares_S'!$F:$Q,12,FALSE),\"\")","v":""},"",{"$f":"IFERROR(VLOOKUP($A1159,'Lista de Precios_USD$_Euro€'!$E:$O,11,FALSE),\"\")","v":""}]
[null,null,null,{"$f":"IFERROR(VLOOKUP($A1160,'Lista de Precios_Bolívares_S'!$F:$Q,6,FALSE),\"\")","v":""},{"$f":"IFERROR(VLOOKUP($A1160,'Lista de Precios_Bolívares_S'!$F:$Q,12,FALSE),\"\")","v":""},"",{"$f":"IFERROR(VLOOKUP($A1160,'Lista de Precios_USD$_Euro€'!$E:$O,11,FALSE),\"\")","v":""}]
[null,null,null,{"$f":"IFERROR(VLOOKUP($A1161,'Lista de Precios_Bolívares_S'!$F:$Q,6,FALSE),\"\")","v":""},{"$f":"IFERROR(VLOOKUP($A1161,'Lista de Precios_Bolívares_S'!$F:$Q,12,FALSE),\"\")","v":""},"",{"$f":"IFERROR(VLOOKUP($A1161,'Lista de Precios_USD$_Euro€'!$E:$O,11,FALSE),\"\")","v":""}]
[null,null,null,{"$f":"IFERROR(VLOOKUP($A1162,'Lista de Precios_Bolívares_S'!$F:$Q,6,FALSE),\"\")","v":""},{"$f":"IFERROR(VLOOKUP($A1162,'Lista de Precios_Bolívares_S'!$F:$Q,12,FALSE),\"\")","v":""},"",{"$f":"IFERROR(VLOOKUP($A1162,'Lista de Precios_USD$_Euro€'!$E:$O,11,FALSE),\"\")","v":""}]
[null,null,null,{"$f":"IFERROR(VLOOKUP($A1163,'Lista de Precios_Bolívares_S'!$F:$Q,6,FALSE),\"\")","v":""},{"$f":"IFERROR(VLOOKUP($A1163,'Lista de Precios_Bolívares_S'!$F:$Q,12,FALSE),\"\")","v":""},"",{"$f":"IFERROR(VLOOKUP($A1163,'Lista de Precios_USD$_Euro€'!$E:$O,11,FALSE),\"\")","v":""}]
[null,null,null,{"$f":"IFERROR(VLOOKUP($A1164,'Lista de Precios_Bolívares_S'!$F:$Q,6,FALSE),\"\")","v":""},{"$f":"IFERROR(VLOOKUP($A1164,'Lista de Precios_Bolívares_S'!$F:$Q,12,FALSE),\"\")","v":""},"",{"$f":"IFERROR(VLOOKUP($A1164,'Lista de Precios_USD$_Euro€'!$E:$O,11,FALSE),\"\")","v":""}]
[null,null,null,{"$f":"IFERROR(VLOOKUP($A1165,'Lista de Precios_Bolívares_S'!$F:$Q,6,FALSE),\"\")","v":""},{"$f":"IFERROR(VLOOKUP($A1165,'Lista de Precios_Bolívares_S'!$F:$Q,12,FALSE),\"\")","v":""},"",{"$f":"IFERROR(VLOOKUP($A1165,'Lista de Precios_USD$_Euro€'!$E:$O,11,FALSE),\"\")","v":""}]
[null,null,null,{"$f":"IFERROR(VLOOKUP($A1166,'Lista de Precios_Bolívares_S'!$F:$Q,6,FALSE),\"\")","v":""},{"$f":"IFERROR(VLOOKUP($A1166,'Lista de Precios_Bolívares_S'!$F:$Q,12,FALSE),\"\")","v":""},"",{"$f":"IFERROR(VLOOKUP($A1166,'Lista de Precios_USD$_Euro€'!$E:$O,11,FALSE),\"\")","v":""}]
[null,null,null,{"$f":"IFERROR(VLOOKUP($A1167,'Lista de Precios_Bolívares_S'!$F:$Q,6,FALSE),\"\")","v":""},{"$f":"IFERROR(VLOOKUP($A1167,'Lista de Precios_Bolívares_S'!$F:$Q,12,FALSE),\"\")","v":""},"",{"$f":"IFERROR(VLOOKUP($A1167,'Lista de Precios_USD$_Euro€'!$E:$O,11,FALSE),\"\")","v":""}]
[null,null,null,{"$f":"IFERROR(VLOOKUP($A1168,'Lista de Precios_Bolívares_S'!$F:$Q,6,FALSE),\"\")","v":""},{"$f":"IFERROR(VLOOKUP($A1168,'Lista de Precios_Bolívares_S'!$F:$Q,12,FALSE),\"\")","v":""},"",{"$f":"IFERROR(VLOOKUP($A1168,'Lista de Precios_USD$_Euro€'!$E:$O,11,FALSE),\"\")","v":""}]
[null,null,null,{"$f":"IFERROR(VLOOKUP($A1169,'Lista de Precios_Bolívares_S'!$F:$Q,6,FALSE),\"\")","v":""},{"$f":"IFERROR(VLOOKUP($A1169,'Lista de Precios_Bolívares_S'!$F:$Q,12,FALSE),\"\")","v":""},"",{"$f":"IFERROR(VLOOKUP($A1169,'Lista de Precios_USD$_Euro€'!$E:$O,11,FALSE),\"\")","v":""}]
[null,null,null,{"$f":"IFERROR(VLOOKUP($A1170,'Lista de Precios_Bolívares_S'!$F:$Q,6,FALSE),\"\")","v":""},{"$f":"IFERROR(VLOOKUP($A1170,'Lista de Precios_Bolívares_S'!$F:$Q,12,FALSE),\"\")","v":""},"",{"$f":"IFERROR(VLOOKUP($A1170,'Lista de Precios_USD$_Euro€'!$E:$O,11,FALSE),\"\")","v":""}]
[null,null,null,{"$f":"IFERROR(VLOOKUP($A1171,'Lista de Precios_Bolívares_S'!$F:$Q,6,FALSE),\"\")","v":""},{"$f":"IFERROR(VLOOKUP($A1171,'Lista de Precios_Bolívares_S'!$F:$Q,12,FALSE),\"\")","v":""},"",{"$f":"IFERROR(VLOOKUP($A1171,'Lista de Precios_USD$_Euro€'!$E:$O,11,FALSE),\"\")","v":""}]
[null,null,null,{"$f":"IFERROR(VLOOKUP($A1172,'Lista de Precios_Bolívares_S'!$F:$Q,6,FALSE),\"\")","v":""},{"$f":"IFERROR(VLOOKUP($A1172,'Lista de Precios_Bolívares_S'!$F:$Q,12,FALSE),\"\")","v":""},"",{"$f":"IFERROR(VLOOKUP($A1172,'Lista de Precios_USD$_Euro€'!$E:$O,11,FALSE),\"\")","v":""}]
[null,null,null,{"$f":"IFERROR(VLOOKUP($A1173,'Lista de Precios_Bolívares_S'!$F:$Q,6,FALSE),\"\")","v":""},{"$f":"IFERROR(VLOOKUP($A1173,'Lista de Precios_Bolívares_S'!$F:$Q,12,FALSE),\"\")","v":""},"",{"$f":"IFERROR(VLOOKUP($A1173,'Lista de Precios_USD$_Euro€'!$E:$O,11,FALSE),\"\")","v":""}]
[null,null,null,{"$f":"IFERROR(VLOOKUP($A1174,'Lista de Precios_Bolívares_S'!$F:$Q,6,FALSE),\"\")","v":""},{"$f":"IFERROR(VLOOKUP($A1174,'Lista de Precios_Bolívares_S'!$F:$Q,12,FALSE),\"\")","v":""},"",{"$f":"IFERROR(VLOOKUP($A1174,'Lista de Precios_USD$_Euro€'!$E:$O,11,FALSE),\"\")","v":""}]
[null,null,null,{"$f":"IFERROR(VLOOKUP($A1175,'Lista de Precios_Bolívares_S'!$F:$Q,6,FALSE),\"\")","v":""},{"$f":"IFERROR(VLOOKUP($A1175,'Lista de Precios_Bolívares_S'!$F:$Q,12,FALSE),\"\")","v":""},"",{"$f":"IFERROR(VLOOKUP($A1175,'Lista de Precios_USD$_Euro€'!$E:$O,11,FALSE),\"\")","v":""}]
[null,null,null,{"$f":"IFERROR(VLOOKUP($A1176,'Lista de Precios_Bolívares_S'!$F:$Q,6,FALSE),\"\")","v":""},{"$f":"IFERROR(VLOOKUP($A1176,'Lista de Precios_Bolívares_S'!$F:$Q,12,FALSE),\"\")","v":""},"",{"$f":"IFERROR(VLOOKUP($A1176,'Lista de Precios_USD$_Euro€'!$E:$O,11,FALSE),\"\")","v":""}]
[null,null,null,{"$f":"IFERROR(VLOOKUP($A1177,'Lista de Precios_Bolívares_S'!$F:$Q,6,FALSE),\"\")","v":""},{"$f":"IFERROR(VLOOKUP($A1177,'Lista de Precios_Bolívares_S'!$F:$Q,12,FALSE),\"\")","v":""},{"$f":"IFERROR(IF(ROUND($C1177,2)=ROUND($D1152,2),ROUND($E1152,2),ROUND($C1177,2)),\"\")","v":""},{"$f":"IFERROR(VLOOKUP($A1177,'Lista de Precios_USD$_Euro€'!$E:$O,11,FALSE),\"\")","v":""}]
[null,null,null,{"$f":"IFERROR(VLOOKUP($A1178,'Lista de Precios_Bolívares_S'!$F:$Q,6,FALSE),\"\")","v":""},{"$f":"IFERROR(VLOOKUP($A1178,'Lista de Precios_Bolívares_S'!$F:$Q,12,FALSE),\"\")","v":""},"",{"$f":"IFERROR(VLOOKUP($A1178,'Lista de Precios_USD$_Euro€'!$E:$O,11,FALSE),\"\")","v":""}]
[null,null,null,{"$f":"IFERROR(VLOOKUP($A1179,'Lista de Precios_Bolívares_S'!$F:$Q,6,FALSE),\"\")","v":""},{"$f":"IFERROR(VLOOKUP($A1179,'Lista de Precios_Bolívares_S'!$F:$Q,12,FALSE),\"\")","v":""},"",{"$f":"IFERROR(VLOOKUP($A1179,'Lista de Precios_USD$_Euro€'!$E:$O,11,FALSE),\"\")","v":""}]
[null,null,null,{"$f":"IFERROR(VLOOKUP($A1180,'Lista de Precios_Bolívares_S'!$F:$Q,6,FALSE),\"\")","v":""},{"$f":"IFERROR(VLOOKUP($A1180,'Lista de Precios_Bolívares_S'!$F:$Q,12,FALSE),\"\")","v":""},"",{"$f":"IFERROR(VLOOKUP($A1180,'Lista de Precios_USD$_Euro€'!$E:$O,11,FALSE),\"\")","v":""}]
[null,null,null,{"$f":"IFERROR(VLOOKUP($A1181,'Lista de Precios_Bolívares_S'!$F:$Q,6,FALSE),\"\")","v":""},{"$f":"IFERROR(VLOOKUP($A1181,'Lista de Precios_Bolívares_S'!$F:$Q,12,FALSE),\"\")","v":""},"",{"$f":"IFERROR(VLOOKUP($A1181,'Lista de Precios_USD$_Euro€'!$E:$O,11,FALSE),\"\")","v":""}]
[null,null,null,{"$f":"IFERROR(VLOOKUP($A1182,'Lista de Precios_Bolívares_S'!$F:$Q,6,FALSE),\"\")","v":""},{"$f":"IFERROR(VLOOKUP($A1182,'Lista de Precios_Bolívares_S'!$F:$Q,12,FALSE),\"\")","v":""},"",{"$f":"IFERROR(VLOOKUP($A1182,'Lista de Precios_USD$_Euro€'!$E:$O,11,FALSE),\"\")","v":""}]
[null,null,null,{"$f":"IFERROR(VLOOKUP($A1183,'Lista de Precios_Bolívares_S'!$F:$Q,6,FALSE),\"\")","v":""},{"$f":"IFERROR(VLOOKUP($A1183,'Lista de Precios_Bolívares_S'!$F:$Q,12,FALSE),\"\")","v":""},"",{"$f":"IFERROR(VLOOKUP($A1183,'Lista de Precios_USD$_Euro€'!$E:$O,11,FALSE),\"\")","v":""}]
[null,null,null,{"$f":"IFERROR(VLOOKUP($A1184,'Lista de Precios_Bolívares_S'!$F:$Q,6,FALSE),\"\")","v":""},{"$f":"IFERROR(VLOOKUP($A1184,'Lista de Precios_Bolívares_S'!$F:$Q,12,FALSE),\"\")","v":""},"",{"$f":"IFERROR(VLOOKUP($A1184,'Lista de Precios_USD$_Euro€'!$E:$O,11,FALSE),\"\")","v":""}]
[null,null,null,{"$f":"IFERROR(VLOOKUP($A1185,'Lista de Precios_Bolívares_S'!$F:$Q,6,FALSE),\"\")","v":""},{"$f":"IFERROR(VLOOKUP($A1185,'Lista de Precios_Bolívares_S'!$F:$Q,12,FALSE),\"\")","v":""},"",{"$f":"IFERROR(VLOOKUP($A1185,'Lista de Precios_USD$_Euro€'!$E:$O,11,FALSE),\"\")","v":""}]
[null,null,null,{"$f":"IFERROR(VLOOKUP($A1186,'Lista de Precios_Bolívares_S'!$F:$Q,6,FALSE),\"\")","v":""},{"$f":"IFERROR(VLOOKUP($A1186,'Lista de Precios_Bolívares_S'!$F:$Q,12,FALSE),\"\")","v":""},"",{"$f":"IFERROR(VLOOKUP($A1186,'Lista de Precios_USD$_Euro€'!$E:$O,11,FALSE),\"\")","v":""}]
[null,null,null,{"$f":"IFERROR(VLOOKUP($A1187,'Lista de Precios_Bolívares_S'!$F:$Q,6,FALSE),\"\")","v":""},{"$f":"IFERROR(VLOOKUP($A1187,'Lista de Precios_Bolívares_S'!$F:$Q,12,FALSE),\"\")","v":""},"",{"$f":"IFERROR(VLOOKUP($A1187,'Lista de Precios_USD$_Euro€'!$E:$O,11,FALSE),\"\")","v":""}]
[null,null,null,{"$f":"IFERROR(VLOOKUP($A1188,'Lista de Precios_Bolívares_S'!$F:$Q,6,FALSE),\"\")","v":""},{"$f":"IFERROR(VLOOKUP($A1188,'Lista de Precios_Bolívares_S'!$F:$Q,12,FALSE),\"\")","v":""},"",{"$f":"IFERROR(VLOOKUP($A1188,'Lista de Precios_USD$_Euro€'!$E:$O,11,FALSE),\"\")","v":""}]
[null,null,null,{"$f":"IFERROR(VLOOKUP($A1189,'Lista de Precios_Bolívares_S'!$F:$Q,6,FALSE),\"\")","v":""},{"$f":"IFERROR(VLOOKUP($A1189,'Lista de Precios_Bolívares_S'!$F:$Q,12,FALSE),\"\")","v":""},"",{"$f":"IFERROR(VLOOKUP($A1189,'Lista de Precios_USD$_Euro€'!$E:$O,11,FALSE),\"\")","v":""}]
[null,null,null,{"$f":"IFERROR(VLOOKUP($A1190,'Lista de Precios_Bolívares_S'!$F:$Q,6,FALSE),\"\")","v":""},{"$f":"IFERROR(VLOOKUP($A1190,'Lista de Precios_Bolívares_S'!$F:$Q,12,FALSE),\"\")","v":""},"",{"$f":"IFERROR(VLOOKUP($A1190,'Lista de Precios_USD$_Euro€'!$E:$O,11,FALSE),\"\")","v":""}]
[null,null,null,{"$f":"IFERROR(VLOOKUP($A1191,'Lista de Precios_Bolívares_S'!$F:$Q,6,FALSE),\"\")","v":""},{"$f":"IFERROR(VLOOKUP($A1191,'Lista de Precios_Bolívares_S'!$F:$Q,12,FALSE),\"\")","v":""},"",{"$f":"IFERROR(VLOOKUP($A1191,'Lista de Precios_USD$_Euro€'!$E:$O,11,FALSE),\"\")","v":""}]
[null,null,null,{"$f":"IFERROR(VLOOKUP($A1192,'Lista de Precios_Bolívares_S'!$F:$Q,6,FALSE),\"\")","v":""},{"$f":"IFERROR(VLOOKUP($A1192,'Lista de Precios_Bolívares_S'!$F:$Q,12,FALSE),\"\")","v":""},"",{"$f":"IFERROR(VLOOKUP($A1192,'Lista de Precios_USD$_Euro€'!$E:$O,11,FALSE),\"\")","v":""}]
[null,null,null,{"$f":"IFERROR(VLOOKUP($A1193,'Lista de Precios_Bolívares_S'!$F:$Q,6,FALSE),\"\")","v":""},{"$f":"IFERROR(VLOOKUP($A1193,'Lista de Precios_Bolívares_S'!$F:$Q,12,FALSE),\"\")","v":""},"",{"$f":"IFERROR(VLOOKUP($A1193,'Lista de Precios_USD$_Euro€'!$E:$O,11,FALSE),\"\")","v":""}]
[null,null,null,{"$f":"IFERROR(VLOOKUP($A1194,'Lista de Precios_Bolívares_S'!$F:$Q,6,FALSE),\"\")","v":""},{"$f":"IFERROR(VLOOKUP($A1194,'Lista de Precios_Bolívares_S'!$F:$Q,12,FALSE),\"\")","v":""},"",{"$f":"IFERROR(VLOOKUP($A1194,'Lista de Precios_USD$_Euro€'!$E:$O,11,FALSE),\"\")","v":""}]
[null,null,null,{"$f":"IFERROR(VLOOKUP($A1195,'Lista de Precios_Bolívares_S'!$F:$Q,6,FALSE),\"\")","v":""},{"$f":"IFERROR(VLOOKUP($A1195,'Lista de Precios_Bolívares_S'!$F:$Q,12,FALSE),\"\")","v":""},"",{"$f":"IFERROR(VLOOKUP($A1195,'Lista de Precios_USD$_Euro€'!$E:$O,11,FALSE),\"\")","v":""}]
[null,null,null,{"$f":"IFERROR(VLOOKUP($A1196,'Lista de Precios_Bolívares_S'!$F:$Q,6,FALSE),\"\")","v":""},{"$f":"IFERROR(VLOOKUP($A1196,'Lista de Precios_Bolívares_S'!$F:$Q,12,FALSE),\"\")","v":""},"",{"$f":"IFERROR(VLOOKUP($A1196,'Lista de Precios_USD$_Euro€'!$E:$O,11,FALSE),\"\")","v":""}]
[null,null,null,{"$f":"IFERROR(VLOOKUP($A1197,'Lista de Precios_Bolívares_S'!$F:$Q,6,FALSE),\"\")","v":""},{"$f":"IFERROR(VLOOKUP($A1197,'Lista de Precios_Bolívares_S'!$F:$Q,12,FALSE),\"\")","v":""},"",{"$f":"IFERROR(VLOOKUP($A1197,'Lista de Precios_USD$_Euro€'!$E:$O,11,FALSE),\"\")","v":""}]
[null,null,null,{"$f":"IFERROR(VLOOKUP($A1198,'Lista de Precios_Bolívares_S'!$F:$Q,6,FALSE),\"\")","v":""},{"$f":"IFERROR(VLOOKUP($A1198,'Lista de Precios_Bolívares_S'!$F:$Q,12,FALSE),\"\")","v":""},"",{"$f":"IFERROR(VLOOKUP($A1198,'Lista de Precios_USD$_Euro€'!$E:$O,11,FALSE),\"\")","v":""}]
[null,null,null,{"$f":"IFERROR(VLOOKUP($A1199,'Lista de Precios_Bolívares_S'!$F:$Q,6,FALSE),\"\")","v":""},{"$f":"IFERROR(VLOOKUP($A1199,'Lista de Precios_Bolívares_S'!$F:$Q,12,FALSE),\"\")","v":""},"",{"$f":"IFERROR(VLOOKUP($A1199,'Lista de Precios_USD$_Euro€'!$E:$O,11,FALSE),\"\")","v":""}]
[null,null,null,{"$f":"IFERROR(VLOOKUP($A1200,'Lista de Precios_Bolívares_S'!$F:$Q,6,FALSE),\"\")","v":""},{"$f":"IFERROR(VLOOKUP($A1200,'Lista de Precios_Bolívares_S'!$F:$Q,12,FALSE),\"\")","v":""},"",{"$f":"IFERROR(VLOOKUP($A1200,'Lista de Precios_USD$_Euro€'!$E:$O,11,FALSE),\"\")","v":""}]
[null,null,null,{"$f":"IFERROR(VLOOKUP($A1201,'Lista de Precios_Bolívares_S'!$F:$Q,6,FALSE),\"\")","v":""},{"$f":"IFERROR(VLOOKUP($A1201,'Lista de Precios_Bolívares_S'!$F:$Q,12,FALSE),\"\")","v":""},"",{"$f":"IFERROR(VLOOKUP($A1201,'Lista de Precios_USD$_Euro€'!$E:$O,11,FALSE),\"\")","v":""}]
[null,null,null,{"$f":"IFERROR(VLOOKUP($A1202,'Lista de Precios_Bolívares_S'!$F:$Q,6,FALSE),\"\")","v":""},{"$f":"IFERROR(VLOOKUP($A1202,'Lista de Precios_Bolívares_S'!$F:$Q,12,FALSE),\"\")","v":""},"",{"$f":"IFERROR(VLOOKUP($A1202,'Lista de Precios_USD$_Euro€'!$E:$O,11,FALSE),\"\")","v":""}]
[null,null,null,{"$f":"IFERROR(VLOOKUP($A1203,'Lista de Precios_Bolívares_S'!$F:$Q,6,FALSE),\"\")","v":""},{"$f":"IFERROR(VLOOKUP($A1203,'Lista de Precios_Bolívares_S'!$F:$Q,12,FALSE),\"\")","v":""},"",{"$f":"IFERROR(VLOOKUP($A1203,'Lista de Precios_USD$_Euro€'!$E:$O,11,FALSE),\"\")","v":""}]
[null,null,null,{"$f":"IFERROR(VLOOKUP($A1204,'Lista de Precios_Bolívares_S'!$F:$Q,6,FALSE),\"\")","v":""},{"$f":"IFERROR(VLOOKUP($A1204,'Lista de Precios_Bolívares_S'!$F:$Q,12,FALSE),\"\")","v":""},"",{"$f":"IFERROR(VLOOKUP($A1204,'Lista de Precios_USD$_Euro€'!$E:$O,11,FALSE),\"\")","v":""}]
[null,null,null,{"$f":"IFERROR(VLOOKUP($A1205,'Lista de Precios_Bolívares_S'!$F:$Q,6,FALSE),\"\")","v":""},{"$f":"IFERROR(VLOOKUP($A1205,'Lista de Precios_Bolívares_S'!$F:$Q,12,FALSE),\"\")","v":""},"",{"$f":"IFERROR(VLOOKUP($A1205,'Lista de Precios_USD$_Euro€'!$E:$O,11,FALSE),\"\")","v":""}]
[null,null,null,{"$f":"IFERROR(VLOOKUP($A1206,'Lista de Precios_Bolívares_S'!$F:$Q,6,FALSE),\"\")","v":""},{"$f":"IFERROR(VLOOKUP($A1206,'Lista de Precios_Bolívares_S'!$F:$Q,12,FALSE),\"\")","v":""},"",{"$f":"IFERROR(VLOOKUP($A1206,'Lista de Precios_USD$_Euro€'!$E:$O,11,FALSE),\"\")","v":""}]
[null,null,null,{"$f":"IFERROR(VLOOKUP($A1207,'Lista de Precios_Bolívares_S'!$F:$Q,6,FALSE),\"\")","v":""},{"$f":"IFERROR(VLOOKUP($A1207,'Lista de Precios_Bolívares_S'!$F:$Q,12,FALSE),\"\")","v":""},"",{"$f":"IFERROR(VLOOKUP($A1207,'Lista de Precios_USD$_Euro€'!$E:$O,11,FALSE),\"\")","v":""}]
[null,null,null,{"$f":"IFERROR(VLOOKUP($A1208,'Lista de Precios_Bolívares_S'!$F:$Q,6,FALSE),\"\")","v":""},{"$f":"IFERROR(VLOOKUP($A1208,'Lista de Precios_Bolívares_S'!$F:$Q,12,FALSE),\"\")","v":""},"",{"$f":"IFERROR(VLOOKUP($A1208,'Lista de Precios_USD$_Euro€'!$E:$O,11,FALSE),\"\")","v":""}]
[null,null,null,{"$f":"IFERROR(VLOOKUP($A1209,'Lista de Precios_Bolívares_S'!$F:$Q,6,FALSE),\"\")","v":""},{"$f":"IFERROR(VLOOKUP($A1209,'Lista de Precios_Bolívares_S'!$F:$Q,12,FALSE),\"\")","v":""},"",{"$f":"IFERROR(VLOOKUP($A1209,'Lista de Precios_USD$_Euro€'!$E:$O,11,FALSE),\"\")","v":""}]
[null,null,null,{"$f":"IFERROR(VLOOKUP($A1210,'Lista de Precios_Bolívares_S'!$F:$Q,6,FALSE),\"\")","v":""},{"$f":"IFERROR(VLOOKUP($A1210,'Lista de Precios_Bolívares_S'!$F:$Q,12,FALSE),\"\")","v":""},"",{"$f":"IFERROR(VLOOKUP($A1210,'Lista de Precios_USD$_Euro€'!$E:$O,11,FALSE),\"\")","v":""}]
[null,null,null,{"$f":"IFERROR(VLOOKUP($A1211,'Lista de Precios_Bolívares_S'!$F:$Q,6,FALSE),\"\")","v":""},{"$f":"IFERROR(VLOOKUP($A1211,'Lista de Precios_Bolívares_S'!$F:$Q,12,FALSE),\"\")","v":""},"",{"$f":"IFERROR(VLOOKUP($A1211,'Lista de Precios_USD$_Euro€'!$E:$O,11,FALSE),\"\")","v":""}]
[null,null,null,{"$f":"IFERROR(VLOOKUP($A1212,'Lista de Precios_Bolívares_S'!$F:$Q,6,FALSE),\"\")","v":""},{"$f":"IFERROR(VLOOKUP($A1212,'Lista de Precios_Bolívares_S'!$F:$Q,12,FALSE),\"\")","v":""},"",{"$f":"IFERROR(VLOOKUP($A1212,'Lista de Precios_USD$_Euro€'!$E:$O,11,FALSE),\"\")","v":""}]
[null,null,null,{"$f":"IFERROR(VLOOKUP($A1213,'Lista de Precios_Bolívares_S'!$F:$Q,6,FALSE),\"\")","v":""},{"$f":"IFERROR(VLOOKUP($A1213,'Lista de Precios_Bolívares_S'!$F:$Q,12,FALSE),\"\")","v":""},"",{"$f":"IFERROR(VLOOKUP($A1213,'Lista de Precios_USD$_Euro€'!$E:$O,11,FALSE),\"\")","v":""}]
[null,null,null,{"$f":"IFERROR(VLOOKUP($A1214,'Lista de Precios_Bolívares_S'!$F:$Q,6,FALSE),\"\")","v":""},{"$f":"IFERROR(VLOOKUP($A1214,'Lista de Precios_Bolívares_S'!$F:$Q,12,FALSE),\"\")","v":""},"",{"$f":"IFERROR(VLOOKUP($A1214,'Lista de Precios_USD$_Euro€'!$E:$O,11,FALSE),\"\")","v":""}]
[null,null,null,{"$f":"IFERROR(VLOOKUP($A1215,'Lista de Precios_Bolívares_S'!$F:$Q,6,FALSE),\"\")","v":""},{"$f":"IFERROR(VLOOKUP($A1215,'Lista de Precios_Bolívares_S'!$F:$Q,12,FALSE),\"\")","v":""},"",{"$f":"IFERROR(VLOOKUP($A1215,'Lista de Precios_USD$_Euro€'!$E:$O,11,FALSE),\"\")","v":""}]
[null,null,null,{"$f":"IFERROR(VLOOKUP($A1216,'Lista de Precios_Bolívares_S'!$F:$Q,6,FALSE),\"\")","v":""},{"$f":"IFERROR(VLOOKUP($A1216,'Lista de Precios_Bolívares_S'!$F:$Q,12,FALSE),\"\")","v":""},"",{"$f":"IFERROR(VLOOKUP($A1216,'Lista de Precios_USD$_Euro€'!$E:$O,11,FALSE),\"\")","v":""}]
[null,null,null,{"$f":"IFERROR(VLOOKUP($A1217,'Lista de Precios_Bolívares_S'!$F:$Q,6,FALSE),\"\")","v":""},{"$f":"IFERROR(VLOOKUP($A1217,'Lista de Precios_Bolívares_S'!$F:$Q,12,FALSE),\"\")","v":""},"",{"$f":"IFERROR(VLOOKUP($A1217,'Lista de Precios_USD$_Euro€'!$E:$O,11,FALSE),\"\")","v":""}]
[null,null,null,{"$f":"IFERROR(VLOOKUP($A1218,'Lista de Precios_Bolívares_S'!$F:$Q,6,FALSE),\"\")","v":""},{"$f":"IFERROR(VLOOKUP($A1218,'Lista de Precios_Bolívares_S'!$F:$Q,12,FALSE),\"\")","v":""},"",{"$f":"IFERROR(VLOOKUP($A1218,'Lista de Precios_USD$_Euro€'!$E:$O,11,FALSE),\"\")","v":""}]
[null,null,null,{"$f":"IFERROR(VLOOKUP($A1219,'Lista de Precios_Bolívares_S'!$F:$Q,6,FALSE),\"\")","v":""},{"$f":"IFERROR(VLOOKUP($A1219,'Lista de Precios_Bolívares_S'!$F:$Q,12,FALSE),\"\")","v":""},"",{"$f":"IFERROR(VLOOKUP($A1219,'Lista de Precios_USD$_Euro€'!$E:$O,11,FALSE),\"\")","v":""}]
[null,null,null,{"$f":"IFERROR(VLOOKUP($A1220,'Lista de Precios_Bolívares_S'!$F:$Q,6,FALSE),\"\")","v":""},{"$f":"IFERROR(VLOOKUP($A1220,'Lista de Precios_Bolívares_S'!$F:$Q,12,FALSE),\"\")","v":""},"",{"$f":"IFERROR(VLOOKUP($A1220,'Lista de Precios_USD$_Euro€'!$E:$O,11,FALSE),\"\")","v":""}]
[null,null,null,{"$f":"IFERROR(VLOOKUP($A1221,'Lista de Precios_Bolívares_S'!$F:$Q,6,FALSE),\"\")","v":""},{"$f":"IFERROR(VLOOKUP($A1221,'Lista de Precios_Bolívares_S'!$F:$Q,12,FALSE),\"\")","v":""},"",{"$f":"IFERROR(VLOOKUP($A1221,'Lista de Precios_USD$_Euro€'!$E:$O,11,FALSE),\"\")","v":""}]
[null,null,null,{"$f":"IFERROR(VLOOKUP($A1222,'Lista de Precios_Bolívares_S'!$F:$Q,6,FALSE),\"\")","v":""},{"$f":"IFERROR(VLOOKUP($A1222,'Lista de Precios_Bolívares_S'!$F:$Q,12,FALSE),\"\")","v":""},"",{"$f":"IFERROR(VLOOKUP($A1222,'Lista de Precios_USD$_Euro€'!$E:$O,11,FALSE),\"\")","v":""}]
[null,null,null,{"$f":"IFERROR(VLOOKUP($A1223,'Lista de Precios_Bolívares_S'!$F:$Q,6,FALSE),\"\")","v":""},{"$f":"IFERROR(VLOOKUP($A1223,'Lista de Precios_Bolívares_S'!$F:$Q,12,FALSE),\"\")","v":""},"",{"$f":"IFERROR(VLOOKUP($A1223,'Lista de Precios_USD$_Euro€'!$E:$O,11,FALSE),\"\")","v":""}]
[null,null,null,{"$f":"IFERROR(VLOOKUP($A1224,'Lista de Precios_Bolívares_S'!$F:$Q,6,FALSE),\"\")","v":""},{"$f":"IFERROR(VLOOKUP($A1224,'Lista de Precios_Bolívares_S'!$F:$Q,12,FALSE),\"\")","v":""},"",{"$f":"IFERROR(VLOOKUP($A1224,'Lista de Precios_USD$_Euro€'!$E:$O,11,FALSE),\"\")","v":""}]
[null,null,null,{"$f":"IFERROR(VLOOKUP($A1225,'Lista de Precios_Bolívares_S'!$F:$Q,6,FALSE),\"\")","v":""},{"$f":"IFERROR(VLOOKUP($A1225,'Lista de Precios_Bolívares_S'!$F:$Q,12,FALSE),\"\")","v":""},"",{"$f":"IFERROR(VLOOKUP($A1225,'Lista de Precios_USD$_Euro€'!$E:$O,11,FALSE),\"\")","v":""}]
[null,null,null,{"$f":"IFERROR(VLOOKUP($A1226,'Lista de Precios_Bolívares_S'!$F:$Q,6,FALSE),\"\")","v":""},{"$f":"IFERROR(VLOOKUP($A1226,'Lista de Precios_Bolívares_S'!$F:$Q,12,FALSE),\"\")","v":""},"",{"$f":"IFERROR(VLOOKUP($A1226,'Lista de Precios_USD$_Euro€'!$E:$O,11,FALSE),\"\")","v":""}]
[null,null,null,{"$f":"IFERROR(VLOOKUP($A1227,'Lista de Precios_Bolívares_S'!$F:$Q,6,FALSE),\"\")","v":""},{"$f":"IFERROR(VLOOKUP($A1227,'Lista de Precios_Bolívares_S'!$F:$Q,12,FALSE),\"\")","v":""},"",{"$f":"IFERROR(VLOOKUP($A1227,'Lista de Precios_USD$_Euro€'!$E:$O,11,FALSE),\"\")","v":""}]
[null,null,null,{"$f":"IFERROR(VLOOKUP($A1228,'Lista de Precios_Bolívares_S'!$F:$Q,6,FALSE),\"\")","v":""},{"$f":"IFERROR(VLOOKUP($A1228,'Lista de Precios_Bolívares_S'!$F:$Q,12,FALSE),\"\")","v":""},"",{"$f":"IFERROR(VLOOKUP($A1228,'Lista de Precios_USD$_Euro€'!$E:$O,11,FALSE),\"\")","v":""}]
[null,null,null,{"$f":"IFERROR(VLOOKUP($A1229,'Lista de Precios_Bolívares_S'!$F:$Q,6,FALSE),\"\")","v":""},{"$f":"IFERROR(VLOOKUP($A1229,'Lista de Precios_Bolívares_S'!$F:$Q,12,FALSE),\"\")","v":""},"",{"$f":"IFERROR(VLOOKUP($A1229,'Lista de Precios_USD$_Euro€'!$E:$O,11,FALSE),\"\")","v":""}]
[null,null,null,{"$f":"IFERROR(VLOOKUP($A1230,'Lista de Precios_Bolívares_S'!$F:$Q,6,FALSE),\"\")","v":""},{"$f":"IFERROR(VLOOKUP($A1230,'Lista de Precios_Bolívares_S'!$F:$Q,12,FALSE),\"\")","v":""},"",{"$f":"IFERROR(VLOOKUP($A1230,'Lista de Precios_USD$_Euro€'!$E:$O,11,FALSE),\"\")","v":""}]
[null,null,null,{"$f":"IFERROR(VLOOKUP($A1231,'Lista de Precios_Bolívares_S'!$F:$Q,6,FALSE),\"\")","v":""},{"$f":"IFERROR(VLOOKUP($A1231,'Lista de Precios_Bolívares_S'!$F:$Q,12,FALSE),\"\")","v":""},"",{"$f":"IFERROR(VLOOKUP($A1231,'Lista de Precios_USD$_Euro€'!$E:$O,11,FALSE),\"\")","v":""}]
[null,null,null,{"$f":"IFERROR(VLOOKUP($A1232,'Lista de Precios_Bolívares_S'!$F:$Q,6,FALSE),\"\")","v":""},{"$f":"IFERROR(VLOOKUP($A1232,'Lista de Precios_Bolívares_S'!$F:$Q,12,FALSE),\"\")","v":""},"",{"$f":"IFERROR(VLOOKUP($A1232,'Lista de Precios_USD$_Euro€'!$E:$O,11,FALSE),\"\")","v":""}]
[null,null,null,{"$f":"IFERROR(VLOOKUP($A1233,'Lista de Precios_Bolívares_S'!$F:$Q,6,FALSE),\"\")","v":""},{"$f":"IFERROR(VLOOKUP($A1233,'Lista de Precios_Bolívares_S'!$F:$Q,12,FALSE),\"\")","v":""},"",{"$f":"IFERROR(VLOOKUP($A1233,'Lista de Precios_USD$_Euro€'!$E:$O,11,FALSE),\"\")","v":""}]
[null,null,null,{"$f":"IFERROR(VLOOKUP($A1234,'Lista de Precios_Bolívares_S'!$F:$Q,6,FALSE),\"\")","v":""},{"$f":"IFERROR(VLOOKUP($A1234,'Lista de Precios_Bolívares_S'!$F:$Q,12,FALSE),\"\")","v":""},"",{"$f":"IFERROR(VLOOKUP($A1234,'Lista de Precios_USD$_Euro€'!$E:$O,11,FALSE),\"\")","v":""}]
[null,null,null,{"$f":"IFERROR(VLOOKUP($A1235,'Lista de Precios_Bolívares_S'!$F:$Q,6,FALSE),\"\")","v":""},{"$f":"IFERROR(VLOOKUP($A1235,'Lista de Precios_Bolívares_S'!$F:$Q,12,FALSE),\"\")","v":""},"",{"$f":"IFERROR(VLOOKUP($A1235,'Lista de Precios_USD$_Euro€'!$E:$O,11,FALSE),\"\")","v":""}]
[null,null,null,{"$f":"IFERROR(VLOOKUP($A1236,'Lista de Precios_Bolívares_S'!$F:$Q,6,FALSE),\"\")","v":""},{"$f":"IFERROR(VLOOKUP($A1236,'Lista de Precios_Bolívares_S'!$F:$Q,12,FALSE),\"\")","v":""},"",{"$f":"IFERROR(VLOOKUP($A1236,'Lista de Precios_USD$_Euro€'!$E:$O,11,FALSE),\"\")","v":""}]
[null,null,null,{"$f":"IFERROR(VLOOKUP($A1237,'Lista de Precios_Bolívares_S'!$F:$Q,6,FALSE),\"\")","v":""},{"$f":"IFERROR(VLOOKUP($A1237,'Lista de Precios_Bolívares_S'!$F:$Q,12,FALSE),\"\")","v":""},"",{"$f":"IFERROR(VLOOKUP($A1237,'Lista de Precios_USD$_Euro€'!$E:$O,11,FALSE),\"\")","v":""}]
[null,null,null,{"$f":"IFERROR(VLOOKUP($A1238,'Lista de Precios_Bolívares_S'!$F:$Q,6,FALSE),\"\")","v":""},{"$f":"IFERROR(VLOOKUP($A1238,'Lista de Precios_Bolívares_S'!$F:$Q,12,FALSE),\"\")","v":""},"",{"$f":"IFERROR(VLOOKUP($A1238,'Lista de Precios_USD$_Euro€'!$E:$O,11,FALSE),\"\")","v":""}]
[null,null,null,{"$f":"IFERROR(VLOOKUP($A1239,'Lista de Precios_Bolívares_S'!$F:$Q,6,FALSE),\"\")","v":""},{"$f":"IFERROR(VLOOKUP($A1239,'Lista de Precios_Bolívares_S'!$F:$Q,12,FALSE),\"\")","v":""},"",{"$f":"IFERROR(VLOOKUP($A1239,'Lista de Precios_USD$_Euro€'!$E:$O,11,FALSE),\"\")","v":""}]
[null,null,null,{"$f":"IFERROR(VLOOKUP($A1240,'Lista de Precios_Bolívares_S'!$F:$Q,6,FALSE),\"\")","v":""},{"$f":"IFERROR(VLOOKUP($A1240,'Lista de Precios_Bolívares_S'!$F:$Q,12,FALSE),\"\")","v":""},"",{"$f":"IFERROR(VLOOKUP($A1240,'Lista de Precios_USD$_Euro€'!$E:$O,11,FALSE),\"\")","v":""}]
[null,null,null,{"$f":"IFERROR(VLOOKUP($A1241,'Lista de Precios_Bolívares_S'!$F:$Q,6,FALSE),\"\")","v":""},{"$f":"IFERROR(VLOOKUP($A1241,'Lista de Precios_Bolívares_S'!$F:$Q,12,FALSE),\"\")","v":""},{"$f":"IFERROR(IF(ROUND($C1241,2)=ROUND($D1216,2),ROUND($E1216,2),ROUND($C1241,2)),\"\")","v":""},{"$f":"IFERROR(VLOOKUP($A1241,'Lista de Precios_USD$_Euro€'!$E:$O,11,FALSE),\"\")","v":""}]
[null,null,null,{"$f":"IFERROR(VLOOKUP($A1242,'Lista de Precios_Bolívares_S'!$F:$Q,6,FALSE),\"\")","v":""},{"$f":"IFERROR(VLOOKUP($A1242,'Lista de Precios_Bolívares_S'!$F:$Q,12,FALSE),\"\")","v":""},"",{"$f":"IFERROR(VLOOKUP($A1242,'Lista de Precios_USD$_Euro€'!$E:$O,11,FALSE),\"\")","v":""}]
[null,null,null,{"$f":"IFERROR(VLOOKUP($A1243,'Lista de Precios_Bolívares_S'!$F:$Q,6,FALSE),\"\")","v":""},{"$f":"IFERROR(VLOOKUP($A1243,'Lista de Precios_Bolívares_S'!$F:$Q,12,FALSE),\"\")","v":""},"",{"$f":"IFERROR(VLOOKUP($A1243,'Lista de Precios_USD$_Euro€'!$E:$O,11,FALSE),\"\")","v":""}]
[null,null,null,{"$f":"IFERROR(VLOOKUP($A1244,'Lista de Precios_Bolívares_S'!$F:$Q,6,FALSE),\"\")","v":""},{"$f":"IFERROR(VLOOKUP($A1244,'Lista de Precios_Bolívares_S'!$F:$Q,12,FALSE),\"\")","v":""},"",{"$f":"IFERROR(VLOOKUP($A1244,'Lista de Precios_USD$_Euro€'!$E:$O,11,FALSE),\"\")","v":""}]
[null,null,null,{"$f":"IFERROR(VLOOKUP($A1245,'Lista de Precios_Bolívares_S'!$F:$Q,6,FALSE),\"\")","v":""},{"$f":"IFERROR(VLOOKUP($A1245,'Lista de Precios_Bolívares_S'!$F:$Q,12,FALSE),\"\")","v":""},"",{"$f":"IFERROR(VLOOKUP($A1245,'Lista de Precios_USD$_Euro€'!$E:$O,11,FALSE),\"\")","v":""}]
[null,null,null,{"$f":"IFERROR(VLOOKUP($A1246,'Lista de Precios_Bolívares_S'!$F:$Q,6,FALSE),\"\")","v":""},{"$f":"IFERROR(VLOOKUP($A1246,'Lista de Precios_Bolívares_S'!$F:$Q,12,FALSE),\"\")","v":""},"",{"$f":"IFERROR(VLOOKUP($A1246,'Lista de Precios_USD$_Euro€'!$E:$O,11,FALSE),\"\")","v":""}]
[null,null,null,{"$f":"IFERROR(VLOOKUP($A1247,'Lista de Precios_Bolívares_S'!$F:$Q,6,FALSE),\"\")","v":""},{"$f":"IFERROR(VLOOKUP($A1247,'Lista de Precios_Bolívares_S'!$F:$Q,12,FALSE),\"\")","v":""},"",{"$f":"IFERROR(VLOOKUP($A1247,'Lista de Precios_USD$_Euro€'!$E:$O,11,FALSE),\"\")","v":""}]
[null,null,null,{"$f":"IFERROR(VLOOKUP($A1248,'Lista de Precios_Bolívares_S'!$F:$Q,6,FALSE),\"\")","v":""},{"$f":"IFERROR(VLOOKUP($A1248,'Lista de Precios_Bolívares_S'!$F:$Q,12,FALSE),\"\")","v":""},"",{"$f":"IFERROR(VLOOKUP($A1248,'Lista de Precios_USD$_Euro€'!$E:$O,11,FALSE),\"\")","v":""}]
[null,null,null,{"$f":"IFERROR(VLOOKUP($A1249,'Lista de Precios_Bolívares_S'!$F:$Q,6,FALSE),\"\")","v":""},{"$f":"IFERROR(VLOOKUP($A1249,'Lista de Precios_Bolívares_S'!$F:$Q,12,FALSE),\"\")","v":""},"",{"$f":"IFERROR(VLOOKUP($A1249,'Lista de Precios_USD$_Euro€'!$E:$O,11,FALSE),\"\")","v":""}]
[null,null,null,{"$f":"IFERROR(VLOOKUP($A1250,'Lista de Precios_Bolívares_S'!$F:$Q,6,FALSE),\"\")","v":""},{"$f":"IFERROR(VLOOKUP($A1250,'Lista de Precios_Bolívares_S'!$F:$Q,12,FALSE),\"\")","v":""},"",{"$f":"IFERROR(VLOOKUP($A1250,'Lista de Precios_USD$_Euro€'!$E:$O,11,FALSE),\"\")","v":""}]
[null,null,null,{"$f":"IFERROR(VLOOKUP($A1251,'Lista de Precios_Bolívares_S'!$F:$Q,6,FALSE),\"\")","v":""},{"$f":"IFERROR(VLOOKUP($A1251,'Lista de Precios_Bolívares_S'!$F:$Q,12,FALSE),\"\")","v":""},"",{"$f":"IFERROR(VLOOKUP($A1251,'Lista de Precios_USD$_Euro€'!$E:$O,11,FALSE),\"\")","v":""}]
[null,null,null,{"$f":"IFERROR(VLOOKUP($A1252,'Lista de Precios_Bolívares_S'!$F:$Q,6,FALSE),\"\")","v":""},{"$f":"IFERROR(VLOOKUP($A1252,'Lista de Precios_Bolívares_S'!$F:$Q,12,FALSE),\"\")","v":""},"",{"$f":"IFERROR(VLOOKUP($A1252,'Lista de Precios_USD$_Euro€'!$E:$O,11,FALSE),\"\")","v":""}]
[null,null,null,{"$f":"IFERROR(VLOOKUP($A1253,'Lista de Precios_Bolívares_S'!$F:$Q,6,FALSE),\"\")","v":""},{"$f":"IFERROR(VLOOKUP($A1253,'Lista de Precios_Bolívares_S'!$F:$Q,12,FALSE),\"\")","v":""},"",{"$f":"IFERROR(VLOOKUP($A1253,'Lista de Precios_USD$_Euro€'!$E:$O,11,FALSE),\"\")","v":""}]
[null,null,null,{"$f":"IFERROR(VLOOKUP($A1254,'Lista de Precios_Bolívares_S'!$F:$Q,6,FALSE),\"\")","v":""},{"$f":"IFERROR(VLOOKUP($A1254,'Lista de Precios_Bolívares_S'!$F:$Q,12,FALSE),\"\")","v":""},"",{"$f":"IFERROR(VLOOKUP($A1254,'Lista de Precios_USD$_Euro€'!$E:$O,11,FALSE),\"\")","v":""}]
[null,null,null,{"$f":"IFERROR(VLOOKUP($A1255,'Lista de Precios_Bolívares_S'!$F:$Q,6,FALSE),\"\")","v":""},{"$f":"IFERROR(VLOOKUP($A1255,'Lista de Precios_Bolívares_S'!$F:$Q,12,FALSE),\"\")","v":""},"",{"$f":"IFERROR(VLOOKUP($A1255,'Lista de Precios_USD$_Euro€'!$E:$O,11,FALSE),\"\")","v":""}]
[null,null,null,{"$f":"IFERROR(VLOOKUP($A1256,'Lista de Precios_Bolívares_S'!$F:$Q,6,FALSE),\"\")","v":""},{"$f":"IFERROR(VLOOKUP($A1256,'Lista de Precios_Bolívares_S'!$F:$Q,12,FALSE),\"\")","v":""},"",{"$f":"IFERROR(VLOOKUP($A1256,'Lista de Precios_USD$_Euro€'!$E:$O,11,FALSE),\"\")","v":""}]
[null,null,null,{"$f":"IFERROR(VLOOKUP($A1257,'Lista de Precios_Bolívares_S'!$F:$Q,6,FALSE),\"\")","v":""},{"$f":"IFERROR(VLOOKUP($A1257,'Lista de Precios_Bolívares_S'!$F:$Q,12,FALSE),\"\")","v":""},"",{"$f":"IFERROR(VLOOKUP($A1257,'Lista de Precios_USD$_Euro€'!$E:$O,11,FALSE),\"\")","v":""}]
[null,null,null,{"$f":"IFERROR(VLOOKUP($A1258,'Lista de Precios_Bolívares_S'!$F:$Q,6,FALSE),\"\")","v":""},{"$f":"IFERROR(VLOOKUP($A1258,'Lista de Precios_Bolívares_S'!$F:$Q,12,FALSE),\"\")","v":""},"",{"$f":"IFERROR(VLOOKUP($A1258,'Lista de Precios_USD$_Euro€'!$E:$O,11,FALSE),\"\")","v":""}]
[null,null,null,{"$f":"IFERROR(VLOOKUP($A1259,'Lista de Precios_Bolívares_S'!$F:$Q,6,FALSE),\"\")","v":""},{"$f":"IFERROR(VLOOKUP($A1259,'Lista de Precios_Bolívares_S'!$F:$Q,12,FALSE),\"\")","v":""},"",{"$f":"IFERROR(VLOOKUP($A1259,'Lista de Precios_USD$_Euro€'!$E:$O,11,FALSE),\"\")","v":""}]
[null,null,null,{"$f":"IFERROR(VLOOKUP($A1260,'Lista de Precios_Bolívares_S'!$F:$Q,6,FALSE),\"\")","v":""},{"$f":"IFERROR(VLOOKUP($A1260,'Lista de Precios_Bolívares_S'!$F:$Q,12,FALSE),\"\")","v":""},"",{"$f":"IFERROR(VLOOKUP($A1260,'Lista de Precios_USD$_Euro€'!$E:$O,11,FALSE),\"\")","v":""}]
[null,null,null,{"$f":"IFERROR(VLOOKUP($A1261,'Lista de Precios_Bolívares_S'!$F:$Q,6,FALSE),\"\")","v":""},{"$f":"IFERROR(VLOOKUP($A1261,'Lista de Precios_Bolívares_S'!$F:$Q,12,FALSE),\"\")","v":""},"",{"$f":"IFERROR(VLOOKUP($A1261,'Lista de Precios_USD$_Euro€'!$E:$O,11,FALSE),\"\")","v":""}]
[null,null,null,{"$f":"IFERROR(VLOOKUP($A1262,'Lista de Precios_Bolívares_S'!$F:$Q,6,FALSE),\"\")","v":""},{"$f":"IFERROR(VLOOKUP($A1262,'Lista de Precios_Bolívares_S'!$F:$Q,12,FALSE),\"\")","v":""},"",{"$f":"IFERROR(VLOOKUP($A1262,'Lista de Precios_USD$_Euro€'!$E:$O,11,FALSE),\"\")","v":""}]
[null,null,null,{"$f":"IFERROR(VLOOKUP($A1263,'Lista de Precios_Bolívares_S'!$F:$Q,6,FALSE),\"\")","v":""},{"$f":"IFERROR(VLOOKUP($A1263,'Lista de Precios_Bolívares_S'!$F:$Q,12,FALSE),\"\")","v":""},"",{"$f":"IFERROR(VLOOKUP($A1263,'Lista de Precios_USD$_Euro€'!$E:$O,11,FALSE),\"\")","v":""}]
[null,null,null,{"$f":"IFERROR(VLOOKUP($A1264,'Lista de Precios_Bolívares_S'!$F:$Q,6,FALSE),\"\")","v":""},{"$f":"IFERROR(VLOOKUP($A1264,'Lista de Precios_Bolívares_S'!$F:$Q,12,FALSE),\"\")","v":""},"",{"$f":"IFERROR(VLOOKUP($A1264,'Lista de Precios_USD$_Euro€'!$E:$O,11,FALSE),\"\")","v":""}]
[null,null,null,{"$f":"IFERROR(VLOOKUP($A1265,'Lista de Precios_Bolívares_S'!$F:$Q,6,FALSE),\"\")","v":""},{"$f":"IFERROR(VLOOKUP($A1265,'Lista de Precios_Bolívares_S'!$F:$Q,12,FALSE),\"\")","v":""},"",{"$f":"IFERROR(VLOOKUP($A1265,'Lista de Precios_USD$_Euro€'!$E:$O,11,FALSE),\"\")","v":""}]
[null,null,null,{"$f":"IFERROR(VLOOKUP($A1266,'Lista de Precios_Bolívares_S'!$F:$Q,6,FALSE),\"\")","v":""},{"$f":"IFERROR(VLOOKUP($A1266,'Lista de Precios_Bolívares_S'!$F:$Q,12,FALSE),\"\")","v":""},"",{"$f":"IFERROR(VLOOKUP($A1266,'Lista de Precios_USD$_Euro€'!$E:$O,11,FALSE),\"\")","v":""}]
[null,null,null,{"$f":"IFERROR(VLOOKUP($A1267,'Lista de Precios_Bolívares_S'!$F:$Q,6,FALSE),\"\")","v":""},{"$f":"IFERROR(VLOOKUP($A1267,'Lista de Precios_Bolívares_S'!$F:$Q,12,FALSE),\"\")","v":""},"",{"$f":"IFERROR(VLOOKUP($A1267,'Lista de Precios_USD$_Euro€'!$E:$O,11,FALSE),\"\")","v":""}]
[null,null,null,{"$f":"IFERROR(VLOOKUP($A1268,'Lista de Precios_Bolívares_S'!$F:$Q,6,FALSE),\"\")","v":""},{"$f":"IFERROR(VLOOKUP($A1268,'Lista de Precios_Bolívares_S'!$F:$Q,12,FALSE),\"\")","v":""},"",{"$f":"IFERROR(VLOOKUP($A1268,'Lista de Precios_USD$_Euro€'!$E:$O,11,FALSE),\"\")","v":""}]
[null,null,null,{"$f":"IFERROR(VLOOKUP($A1269,'Lista de Precios_Bolívares_S'!$F:$Q,6,FALSE),\"\")","v":""},{"$f":"IFERROR(VLOOKUP($A1269,'Lista de Precios_Bolívares_S'!$F:$Q,12,FALSE),\"\")","v":""},"",{"$f":"IFERROR(VLOOKUP($A1269,'Lista de Precios_USD$_Euro€'!$E:$O,11,FALSE),\"\")","v":""}]
[null,null,null,{"$f":"IFERROR(VLOOKUP($A1270,'Lista de Precios_Bolívares_S'!$F:$Q,6,FALSE),\"\")","v":""},{"$f":"IFERROR(VLOOKUP($A1270,'Lista de Precios_Bolívares_S'!$F:$Q,12,FALSE),\"\")","v":""},"",{"$f":"IFERROR(VLOOKUP($A1270,'Lista de Precios_USD$_Euro€'!$E:$O,11,FALSE),\"\")","v":""}]
[null,null,null,{"$f":"IFERROR(VLOOKUP($A1271,'Lista de Precios_Bolívares_S'!$F:$Q,6,FALSE),\"\")","v":""},{"$f":"IFERROR(VLOOKUP($A1271,'Lista de Precios_Bolívares_S'!$F:$Q,12,FALSE),\"\")","v":""},"",{"$f":"IFERROR(VLOOKUP($A1271,'Lista de Precios_USD$_Euro€'!$E:$O,11,FALSE),\"\")","v":""}]
[null,null,null,{"$f":"IFERROR(VLOOKUP($A1272,'Lista de Precios_Bolívares_S'!$F:$Q,6,FALSE),\"\")","v":""},{"$f":"IFERROR(VLOOKUP($A1272,'Lista de Precios_Bolívares_S'!$F:$Q,12,FALSE),\"\")","v":""},"",{"$f":"IFERROR(VLOOKUP($A1272,'Lista de Precios_USD$_Euro€'!$E:$O,11,FALSE),\"\")","v":""}]
[null,null,null,{"$f":"IFERROR(VLOOKUP($A1273,'Lista de Precios_Bolívares_S'!$F:$Q,6,FALSE),\"\")","v":""},{"$f":"IFERROR(VLOOKUP($A1273,'Lista de Precios_Bolívares_S'!$F:$Q,12,FALSE),\"\")","v":""},"",{"$f":"IFERROR(VLOOKUP($A1273,'Lista de Precios_USD$_Euro€'!$E:$O,11,FALSE),\"\")","v":""}]
[null,null,null,{"$f":"IFERROR(VLOOKUP($A1274,'Lista de Precios_Bolívares_S'!$F:$Q,6,FALSE),\"\")","v":""},{"$f":"IFERROR(VLOOKUP($A1274,'Lista de Precios_Bolívares_S'!$F:$Q,12,FALSE),\"\")","v":""},"",{"$f":"IFERROR(VLOOKUP($A1274,'Lista de Precios_USD$_Euro€'!$E:$O,11,FALSE),\"\")","v":""}]
[null,null,null,{"$f":"IFERROR(VLOOKUP($A1275,'Lista de Precios_Bolívares_S'!$F:$Q,6,FALSE),\"\")","v":""},{"$f":"IFERROR(VLOOKUP($A1275,'Lista de Precios_Bolívares_S'!$F:$Q,12,FALSE),\"\")","v":""},"",{"$f":"IFERROR(VLOOKUP($A1275,'Lista de Precios_USD$_Euro€'!$E:$O,11,FALSE),\"\")","v":""}]
[null,null,null,{"$f":"IFERROR(VLOOKUP($A1276,'Lista de Precios_Bolívares_S'!$F:$Q,6,FALSE),\"\")","v":""},{"$f":"IFERROR(VLOOKUP($A1276,'Lista de Precios_Bolívares_S'!$F:$Q,12,FALSE),\"\")","v":""},"",{"$f":"IFERROR(VLOOKUP($A1276,'Lista de Precios_USD$_Euro€'!$E:$O,11,FALSE),\"\")","v":""}]
[null,null,null,{"$f":"IFERROR(VLOOKUP($A1277,'Lista de Precios_Bolívares_S'!$F:$Q,6,FALSE),\"\")","v":""},{"$f":"IFERROR(VLOOKUP($A1277,'Lista de Precios_Bolívares_S'!$F:$Q,12,FALSE),\"\")","v":""},"",{"$f":"IFERROR(VLOOKUP($A1277,'Lista de Precios_USD$_Euro€'!$E:$O,11,FALSE),\"\")","v":""}]
[null,null,null,{"$f":"IFERROR(VLOOKUP($A1278,'Lista de Precios_Bolívares_S'!$F:$Q,6,FALSE),\"\")","v":""},{"$f":"IFERROR(VLOOKUP($A1278,'Lista de Precios_Bolívares_S'!$F:$Q,12,FALSE),\"\")","v":""},"",{"$f":"IFERROR(VLOOKUP($A1278,'Lista de Precios_USD$_Euro€'!$E:$O,11,FALSE),\"\")","v":""}]
[null,null,null,{"$f":"IFERROR(VLOOKUP($A1279,'Lista de Precios_Bolívares_S'!$F:$Q,6,FALSE),\"\")","v":""},{"$f":"IFERROR(VLOOKUP($A1279,'Lista de Precios_Bolívares_S'!$F:$Q,12,FALSE),\"\")","v":""},"",{"$f":"IFERROR(VLOOKUP($A1279,'Lista de Precios_USD$_Euro€'!$E:$O,11,FALSE),\"\")","v":""}]
[null,null,null,{"$f":"IFERROR(VLOOKUP($A1280,'Lista de Precios_Bolívares_S'!$F:$Q,6,FALSE),\"\")","v":""},{"$f":"IFERROR(VLOOKUP($A1280,'Lista de Precios_Bolívares_S'!$F:$Q,12,FALSE),\"\")","v":""},"",{"$f":"IFERROR(VLOOKUP($A1280,'Lista de Precios_USD$_Euro€'!$E:$O,11,FALSE),\"\")","v":""}]
[null,null,null,{"$f":"IFERROR(VLOOKUP($A1281,'Lista de Precios_Bolívares_S'!$F:$Q,6,FALSE),\"\")","v":""},{"$f":"IFERROR(VLOOKUP($A1281,'Lista de Precios_Bolívares_S'!$F:$Q,12,FALSE),\"\")","v":""},"",{"$f":"IFERROR(VLOOKUP($A1281,'Lista de Precios_USD$_Euro€'!$E:$O,11,FALSE),\"\")","v":""}]
[null,null,null,{"$f":"IFERROR(VLOOKUP($A1282,'Lista de Precios_Bolívares_S'!$F:$Q,6,FALSE),\"\")","v":""},{"$f":"IFERROR(VLOOKUP($A1282,'Lista de Precios_Bolívares_S'!$F:$Q,12,FALSE),\"\")","v":""},"",{"$f":"IFERROR(VLOOKUP($A1282,'Lista de Precios_USD$_Euro€'!$E:$O,11,FALSE),\"\")","v":""}]
[null,null,null,{"$f":"IFERROR(VLOOKUP($A1283,'Lista de Precios_Bolívares_S'!$F:$Q,6,FALSE),\"\")","v":""},{"$f":"IFERROR(VLOOKUP($A1283,'Lista de Precios_Bolívares_S'!$F:$Q,12,FALSE),\"\")","v":""},"",{"$f":"IFERROR(VLOOKUP($A1283,'Lista de Precios_USD$_Euro€'!$E:$O,11,FALSE),\"\")","v":""}]
[null,null,null,{"$f":"IFERROR(VLOOKUP($A1284,'Lista de Precios_Bolívares_S'!$F:$Q,6,FALSE),\"\")","v":""},{"$f":"IFERROR(VLOOKUP($A1284,'Lista de Precios_Bolívares_S'!$F:$Q,12,FALSE),\"\")","v":""},"",{"$f":"IFERROR(VLOOKUP($A1284,'Lista de Precios_USD$_Euro€'!$E:$O,11,FALSE),\"\")","v":""}]
[null,null,null,{"$f":"IFERROR(VLOOKUP($A1285,'Lista de Precios_Bolívares_S'!$F:$Q,6,FALSE),\"\")","v":""},{"$f":"IFERROR(VLOOKUP($A1285,'Lista de Precios_Bolívares_S'!$F:$Q,12,FALSE),\"\")","v":""},"",{"$f":"IFERROR(VLOOKUP($A1285,'Lista de Precios_USD$_Euro€'!$E:$O,11,FALSE),\"\")","v":""}]
[null,null,null,{"$f":"IFERROR(VLOOKUP($A1286,'Lista de Precios_Bolívares_S'!$F:$Q,6,FALSE),\"\")","v":""},{"$f":"IFERROR(VLOOKUP($A1286,'Lista de Precios_Bolívares_S'!$F:$Q,12,FALSE),\"\")","v":""},"",{"$f":"IFERROR(VLOOKUP($A1286,'Lista de Precios_USD$_Euro€'!$E:$O,11,FALSE),\"\")","v":""}]
[null,null,null,{"$f":"IFERROR(VLOOKUP($A1287,'Lista de Precios_Bolívares_S'!$F:$Q,6,FALSE),\"\")","v":""},{"$f":"IFERROR(VLOOKUP($A1287,'Lista de Precios_Bolívares_S'!$F:$Q,12,FALSE),\"\")","v":""},"",{"$f":"IFERROR(VLOOKUP($A1287,'Lista de Precios_USD$_Euro€'!$E:$O,11,FALSE),\"\")","v":""}]
[null,null,null,{"$f":"IFERROR(VLOOKUP($A1288,'Lista de Precios_Bolívares_S'!$F:$Q,6,FALSE),\"\")","v":""},{"$f":"IFERROR(VLOOKUP($A1288,'Lista de Precios_Bolívares_S'!$F:$Q,12,FALSE),\"\")","v":""},"",{"$f":"IFERROR(VLOOKUP($A1288,'Lista de Precios_USD$_Euro€'!$E:$O,11,FALSE),\"\")","v":""}]
[null,null,null,{"$f":"IFERROR(VLOOKUP($A1289,'Lista de Precios_Bolívares_S'!$F:$Q,6,FALSE),\"\")","v":""},{"$f":"IFERROR(VLOOKUP($A1289,'Lista de Precios_Bolívares_S'!$F:$Q,12,FALSE),\"\")","v":""},"",{"$f":"IFERROR(VLOOKUP($A1289,'Lista de Precios_USD$_Euro€'!$E:$O,11,FALSE),\"\")","v":""}]
[null,null,null,{"$f":"IFERROR(VLOOKUP($A1290,'Lista de Precios_Bolívares_S'!$F:$Q,6,FALSE),\"\")","v":""},{"$f":"IFERROR(VLOOKUP($A1290,'Lista de Precios_Bolívares_S'!$F:$Q,12,FALSE),\"\")","v":""},"",{"$f":"IFERROR(VLOOKUP($A1290,'Lista de Precios_USD$_Euro€'!$E:$O,11,FALSE),\"\")","v":""}]
[null,null,null,{"$f":"IFERROR(VLOOKUP($A1291,'Lista de Precios_Bolívares_S'!$F:$Q,6,FALSE),\"\")","v":""},{"$f":"IFERROR(VLOOKUP($A1291,'Lista de Precios_Bolívares_S'!$F:$Q,12,FALSE),\"\")","v":""},"",{"$f":"IFERROR(VLOOKUP($A1291,'Lista de Precios_USD$_Euro€'!$E:$O,11,FALSE),\"\")","v":""}]
[null,null,null,{"$f":"IFERROR(VLOOKUP($A1292,'Lista de Precios_Bolívares_S'!$F:$Q,6,FALSE),\"\")","v":""},{"$f":"IFERROR(VLOOKUP($A1292,'Lista de Precios_Bolívares_S'!$F:$Q,12,FALSE),\"\")","v":""},"",{"$f":"IFERROR(VLOOKUP($A1292,'Lista de Precios_USD$_Euro€'!$E:$O,11,FALSE),\"\")","v":""}]
[null,null,null,{"$f":"IFERROR(VLOOKUP($A1293,'Lista de Precios_Bolívares_S'!$F:$Q,6,FALSE),\"\")","v":""},{"$f":"IFERROR(VLOOKUP($A1293,'Lista de Precios_Bolívares_S'!$F:$Q,12,FALSE),\"\")","v":""},"",{"$f":"IFERROR(VLOOKUP($A1293,'Lista de Precios_USD$_Euro€'!$E:$O,11,FALSE),\"\")","v":""}]
[null,null,null,{"$f":"IFERROR(VLOOKUP($A1294,'Lista de Precios_Bolívares_S'!$F:$Q,6,FALSE),\"\")","v":""},{"$f":"IFERROR(VLOOKUP($A1294,'Lista de Precios_Bolívares_S'!$F:$Q,12,FALSE),\"\")","v":""},"",{"$f":"IFERROR(VLOOKUP($A1294,'Lista de Precios_USD$_Euro€'!$E:$O,11,FALSE),\"\")","v":""}]
[null,null,null,{"$f":"IFERROR(VLOOKUP($A1295,'Lista de Precios_Bolívares_S'!$F:$Q,6,FALSE),\"\")","v":""},{"$f":"IFERROR(VLOOKUP($A1295,'Lista de Precios_Bolívares_S'!$F:$Q,12,FALSE),\"\")","v":""},"",{"$f":"IFERROR(VLOOKUP($A1295,'Lista de Precios_USD$_Euro€'!$E:$O,11,FALSE),\"\")","v":""}]
[null,null,null,{"$f":"IFERROR(VLOOKUP($A1296,'Lista de Precios_Bolívares_S'!$F:$Q,6,FALSE),\"\")","v":""},{"$f":"IFERROR(VLOOKUP($A1296,'Lista de Precios_Bolívares_S'!$F:$Q,12,FALSE),\"\")","v":""},"",{"$f":"IFERROR(VLOOKUP($A1296,'Lista de Precios_USD$_Euro€'!$E:$O,11,FALSE),\"\")","v":""}]
[null,null,null,{"$f":"IFERROR(VLOOKUP($A1297,'Lista de Precios_Bolívares_S'!$F:$Q,6,FALSE),\"\")","v":""},{"$f":"IFERROR(VLOOKUP($A1297,'Lista de Precios_Bolívares_S'!$F:$Q,12,FALSE),\"\")","v":""},"",{"$f":"IFERROR(VLOOKUP($A1297,'Lista de Precios_USD$_Euro€'!$E:$O,11,FALSE),\"\")","v":""}]
[null,null,null,{"$f":"IFERROR(VLOOKUP($A1298,'Lista de Precios_Bolívares_S'!$F:$Q,6,FALSE),\"\")","v":""},{"$f":"IFERROR(VLOOKUP($A1298,'Lista de Precios_Bolívares_S'!$F:$Q,12,FALSE),\"\")","v":""},"",{"$f":"IFERROR(VLOOKUP($A1298,'Lista de Precios_USD$_Euro€'!$E:$O,11,FALSE),\"\")","v":""}]
[null,null,null,{"$f":"IFERROR(VLOOKUP($A1299,'Lista de Precios_Bolívares_S'!$F:$Q,6,FALSE),\"\")","v":""},{"$f":"IFERROR(VLOOKUP($A1299,'Lista de Precios_Bolívares_S'!$F:$Q,12,FALSE),\"\")","v":""},"",{"$f":"IFERROR(VLOOKUP($A1299,'Lista de Precios_USD$_Euro€'!$E:$O,11,FALSE),\"\")","v":""}]
[null,null,null,{"$f":"IFERROR(VLOOKUP($A1300,'Lista de Precios_Bolívares_S'!$F:$Q,6,FALSE),\"\")","v":""},{"$f":"IFERROR(VLOOKUP($A1300,'Lista de Precios_Bolívares_S'!$F:$Q,12,FALSE),\"\")","v":""},"",{"$f":"IFERROR(VLOOKUP($A1300,'Lista de Precios_USD$_Euro€'!$E:$O,11,FALSE),\"\")","v":""}]
[null,null,null,{"$f":"IFERROR(VLOOKUP($A1301,'Lista de Precios_Bolívares_S'!$F:$Q,6,FALSE),\"\")","v":""},{"$f":"IFERROR(VLOOKUP($A1301,'Lista de Precios_Bolívares_S'!$F:$Q,12,FALSE),\"\")","v":""},"",{"$f":"IFERROR(VLOOKUP($A1301,'Lista de Precios_USD$_Euro€'!$E:$O,11,FALSE),\"\")","v":""}]
[null,null,null,{"$f":"IFERROR(VLOOKUP($A1302,'Lista de Precios_Bolívares_S'!$F:$Q,6,FALSE),\"\")","v":""},{"$f":"IFERROR(VLOOKUP($A1302,'Lista de Precios_Bolívares_S'!$F:$Q,12,FALSE),\"\")","v":""},"",{"$f":"IFERROR(VLOOKUP($A1302,'Lista de Precios_USD$_Euro€'!$E:$O,11,FALSE),\"\")","v":""}]
[null,null,null,{"$f":"IFERROR(VLOOKUP($A1303,'Lista de Precios_Bolívares_S'!$F:$Q,6,FALSE),\"\")","v":""},{"$f":"IFERROR(VLOOKUP($A1303,'Lista de Precios_Bolívares_S'!$F:$Q,12,FALSE),\"\")","v":""},"",{"$f":"IFERROR(VLOOKUP($A1303,'Lista de Precios_USD$_Euro€'!$E:$O,11,FALSE),\"\")","v":""}]
[null,null,null,{"$f":"IFERROR(VLOOKUP($A1304,'Lista de Precios_Bolívares_S'!$F:$Q,6,FALSE),\"\")","v":""},{"$f":"IFERROR(VLOOKUP($A1304,'Lista de Precios_Bolívares_S'!$F:$Q,12,FALSE),\"\")","v":""},"",{"$f":"IFERROR(VLOOKUP($A1304,'Lista de Precios_USD$_Euro€'!$E:$O,11,FALSE),\"\")","v":""}]
[null,null,null,{"$f":"IFERROR(VLOOKUP($A1305,'Lista de Precios_Bolívares_S'!$F:$Q,6,FALSE),\"\")","v":""},{"$f":"IFERROR(VLOOKUP($A1305,'Lista de Precios_Bolívares_S'!$F:$Q,12,FALSE),\"\")","v":""},{"$f":"IFERROR(IF(ROUND($C1305,2)=ROUND($D1280,2),ROUND($E1280,2),ROUND($C1305,2)),\"\")","v":""},{"$f":"IFERROR(VLOOKUP($A1305,'Lista de Precios_USD$_Euro€'!$E:$O,11,FALSE),\"\")","v":""}]
[null,null,null,{"$f":"IFERROR(VLOOKUP($A1306,'Lista de Precios_Bolívares_S'!$F:$Q,6,FALSE),\"\")","v":""},{"$f":"IFERROR(VLOOKUP($A1306,'Lista de Precios_Bolívares_S'!$F:$Q,12,FALSE),\"\")","v":""},"",{"$f":"IFERROR(VLOOKUP($A1306,'Lista de Precios_USD$_Euro€'!$E:$O,11,FALSE),\"\")","v":""}]
[null,null,null,{"$f":"IFERROR(VLOOKUP($A1307,'Lista de Precios_Bolívares_S'!$F:$Q,6,FALSE),\"\")","v":""},{"$f":"IFERROR(VLOOKUP($A1307,'Lista de Precios_Bolívares_S'!$F:$Q,12,FALSE),\"\")","v":""},"",{"$f":"IFERROR(VLOOKUP($A1307,'Lista de Precios_USD$_Euro€'!$E:$O,11,FALSE),\"\")","v":""}]
[null,null,null,{"$f":"IFERROR(VLOOKUP($A1308,'Lista de Precios_Bolívares_S'!$F:$Q,6,FALSE),\"\")","v":""},{"$f":"IFERROR(VLOOKUP($A1308,'Lista de Precios_Bolívares_S'!$F:$Q,12,FALSE),\"\")","v":""},"",{"$f":"IFERROR(VLOOKUP($A1308,'Lista de Precios_USD$_Euro€'!$E:$O,11,FALSE),\"\")","v":""}]
[null,null,null,{"$f":"IFERROR(VLOOKUP($A1309,'Lista de Precios_Bolívares_S'!$F:$Q,6,FALSE),\"\")","v":""},{"$f":"IFERROR(VLOOKUP($A1309,'Lista de Precios_Bolívares_S'!$F:$Q,12,FALSE),\"\")","v":""},"",{"$f":"IFERROR(VLOOKUP($A1309,'Lista de Precios_USD$_Euro€'!$E:$O,11,FALSE),\"\")","v":""}]
[null,null,null,{"$f":"IFERROR(VLOOKUP($A1310,'Lista de Precios_Bolívares_S'!$F:$Q,6,FALSE),\"\")","v":""},{"$f":"IFERROR(VLOOKUP($A1310,'Lista de Precios_Bolívares_S'!$F:$Q,12,FALSE),\"\")","v":""},"",{"$f":"IFERROR(VLOOKUP($A1310,'Lista de Precios_USD$_Euro€'!$E:$O,11,FALSE),\"\")","v":""}]
[null,null,null,{"$f":"IFERROR(VLOOKUP($A1311,'Lista de Precios_Bolívares_S'!$F:$Q,6,FALSE),\"\")","v":""},{"$f":"IFERROR(VLOOKUP($A1311,'Lista de Precios_Bolívares_S'!$F:$Q,12,FALSE),\"\")","v":""},"",{"$f":"IFERROR(VLOOKUP($A1311,'Lista de Precios_USD$_Euro€'!$E:$O,11,FALSE),\"\")","v":""}]
[null,null,null,{"$f":"IFERROR(VLOOKUP($A1312,'Lista de Precios_Bolívares_S'!$F:$Q,6,FALSE),\"\")","v":""},{"$f":"IFERROR(VLOOKUP($A1312,'Lista de Precios_Bolívares_S'!$F:$Q,12,FALSE),\"\")","v":""},"",{"$f":"IFERROR(VLOOKUP($A1312,'Lista de Precios_USD$_Euro€'!$E:$O,11,FALSE),\"\")","v":""}]
[null,null,null,{"$f":"IFERROR(VLOOKUP($A1313,'Lista de Precios_Bolívares_S'!$F:$Q,6,FALSE),\"\")","v":""},{"$f":"IFERROR(VLOOKUP($A1313,'Lista de Precios_Bolívares_S'!$F:$Q,12,FALSE),\"\")","v":""},"",{"$f":"IFERROR(VLOOKUP($A1313,'Lista de Precios_USD$_Euro€'!$E:$O,11,FALSE),\"\")","v":""}]
[null,null,null,{"$f":"IFERROR(VLOOKUP($A1314,'Lista de Precios_Bolívares_S'!$F:$Q,6,FALSE),\"\")","v":""},{"$f":"IFERROR(VLOOKUP($A1314,'Lista de Precios_Bolívares_S'!$F:$Q,12,FALSE),\"\")","v":""},"",{"$f":"IFERROR(VLOOKUP($A1314,'Lista de Precios_USD$_Euro€'!$E:$O,11,FALSE),\"\")","v":""}]
[null,null,null,{"$f":"IFERROR(VLOOKUP($A1315,'Lista de Precios_Bolívares_S'!$F:$Q,6,FALSE),\"\")","v":""},{"$f":"IFERROR(VLOOKUP($A1315,'Lista de Precios_Bolívares_S'!$F:$Q,12,FALSE),\"\")","v":""},"",{"$f":"IFERROR(VLOOKUP($A1315,'Lista de Precios_USD$_Euro€'!$E:$O,11,FALSE),\"\")","v":""}]
[null,null,null,{"$f":"IFERROR(VLOOKUP($A1316,'Lista de Precios_Bolívares_S'!$F:$Q,6,FALSE),\"\")","v":""},{"$f":"IFERROR(VLOOKUP($A1316,'Lista de Precios_Bolívares_S'!$F:$Q,12,FALSE),\"\")","v":""},"",{"$f":"IFERROR(VLOOKUP($A1316,'Lista de Precios_USD$_Euro€'!$E:$O,11,FALSE),\"\")","v":""}]
[null,null,null,{"$f":"IFERROR(VLOOKUP($A1317,'Lista de Precios_Bolívares_S'!$F:$Q,6,FALSE),\"\")","v":""},{"$f":"IFERROR(VLOOKUP($A1317,'Lista de Precios_Bolívares_S'!$F:$Q,12,FALSE),\"\")","v":""},"",{"$f":"IFERROR(VLOOKUP($A1317,'Lista de Precios_USD$_Euro€'!$E:$O,11,FALSE),\"\")","v":""}]
[null,null,null,{"$f":"IFERROR(VLOOKUP($A1318,'Lista de Precios_Bolívares_S'!$F:$Q,6,FALSE),\"\")","v":""},{"$f":"IFERROR(VLOOKUP($A1318,'Lista de Precios_Bolívares_S'!$F:$Q,12,FALSE),\"\")","v":""},"",{"$f":"IFERROR(VLOOKUP($A1318,'Lista de Precios_USD$_Euro€'!$E:$O,11,FALSE),\"\")","v":""}]
[null,null,null,{"$f":"IFERROR(VLOOKUP($A1319,'Lista de Precios_Bolívares_S'!$F:$Q,6,FALSE),\"\")","v":""},{"$f":"IFERROR(VLOOKUP($A1319,'Lista de Precios_Bolívares_S'!$F:$Q,12,FALSE),\"\")","v":""},"",{"$f":"IFERROR(VLOOKUP($A1319,'Lista de Precios_USD$_Euro€'!$E:$O,11,FALSE),\"\")","v":""}]
[null,null,null,{"$f":"IFERROR(VLOOKUP($A1320,'Lista de Precios_Bolívares_S'!$F:$Q,6,FALSE),\"\")","v":""},{"$f":"IFERROR(VLOOKUP($A1320,'Lista de Precios_Bolívares_S'!$F:$Q,12,FALSE),\"\")","v":""},"",{"$f":"IFERROR(VLOOKUP($A1320,'Lista de Precios_USD$_Euro€'!$E:$O,11,FALSE),\"\")","v":""}]
[null,null,null,{"$f":"IFERROR(VLOOKUP($A1321,'Lista de Precios_Bolívares_S'!$F:$Q,6,FALSE),\"\")","v":""},{"$f":"IFERROR(VLOOKUP($A1321,'Lista de Precios_Bolívares_S'!$F:$Q,12,FALSE),\"\")","v":""},"",{"$f":"IFERROR(VLOOKUP($A1321,'Lista de Precios_USD$_Euro€'!$E:$O,11,FALSE),\"\")","v":""}]
[null,null,null,{"$f":"IFERROR(VLOOKUP($A1322,'Lista de Precios_Bolívares_S'!$F:$Q,6,FALSE),\"\")","v":""},{"$f":"IFERROR(VLOOKUP($A1322,'Lista de Precios_Bolívares_S'!$F:$Q,12,FALSE),\"\")","v":""},"",{"$f":"IFERROR(VLOOKUP($A1322,'Lista de Precios_USD$_Euro€'!$E:$O,11,FALSE),\"\")","v":""}]
[null,null,null,{"$f":"IFERROR(VLOOKUP($A1323,'Lista de Precios_Bolívares_S'!$F:$Q,6,FALSE),\"\")","v":""},{"$f":"IFERROR(VLOOKUP($A1323,'Lista de Precios_Bolívares_S'!$F:$Q,12,FALSE),\"\")","v":""},"",{"$f":"IFERROR(VLOOKUP($A1323,'Lista de Precios_USD$_Euro€'!$E:$O,11,FALSE),\"\")","v":""}]
[null,null,null,{"$f":"IFERROR(VLOOKUP($A1324,'Lista de Precios_Bolívares_S'!$F:$Q,6,FALSE),\"\")","v":""},{"$f":"IFERROR(VLOOKUP($A1324,'Lista de Precios_Bolívares_S'!$F:$Q,12,FALSE),\"\")","v":""},"",{"$f":"IFERROR(VLOOKUP($A1324,'Lista de Precios_USD$_Euro€'!$E:$O,11,FALSE),\"\")","v":""}]
[null,null,null,{"$f":"IFERROR(VLOOKUP($A1325,'Lista de Precios_Bolívares_S'!$F:$Q,6,FALSE),\"\")","v":""},{"$f":"IFERROR(VLOOKUP($A1325,'Lista de Precios_Bolívares_S'!$F:$Q,12,FALSE),\"\")","v":""},"",{"$f":"IFERROR(VLOOKUP($A1325,'Lista de Precios_USD$_Euro€'!$E:$O,11,FALSE),\"\")","v":""}]
[null,null,null,{"$f":"IFERROR(VLOOKUP($A1326,'Lista de Precios_Bolívares_S'!$F:$Q,6,FALSE),\"\")","v":""},{"$f":"IFERROR(VLOOKUP($A1326,'Lista de Precios_Bolívares_S'!$F:$Q,12,FALSE),\"\")","v":""},"",{"$f":"IFERROR(VLOOKUP($A1326,'Lista de Precios_USD$_Euro€'!$E:$O,11,FALSE),\"\")","v":""}]
[null,null,null,{"$f":"IFERROR(VLOOKUP($A1327,'Lista de Precios_Bolívares_S'!$F:$Q,6,FALSE),\"\")","v":""},{"$f":"IFERROR(VLOOKUP($A1327,'Lista de Precios_Bolívares_S'!$F:$Q,12,FALSE),\"\")","v":""},"",{"$f":"IFERROR(VLOOKUP($A1327,'Lista de Precios_USD$_Euro€'!$E:$O,11,FALSE),\"\")","v":""}]
[null,null,null,{"$f":"IFERROR(VLOOKUP($A1328,'Lista de Precios_Bolívares_S'!$F:$Q,6,FALSE),\"\")","v":""},{"$f":"IFERROR(VLOOKUP($A1328,'Lista de Precios_Bolívares_S'!$F:$Q,12,FALSE),\"\")","v":""},"",{"$f":"IFERROR(VLOOKUP($A1328,'Lista de Precios_USD$_Euro€'!$E:$O,11,FALSE),\"\")","v":""}]
[null,null,null,{"$f":"IFERROR(VLOOKUP($A1329,'Lista de Precios_Bolívares_S'!$F:$Q,6,FALSE),\"\")","v":""},{"$f":"IFERROR(VLOOKUP($A1329,'Lista de Precios_Bolívares_S'!$F:$Q,12,FALSE),\"\")","v":""},"",{"$f":"IFERROR(VLOOKUP($A1329,'Lista de Precios_USD$_Euro€'!$E:$O,11,FALSE),\"\")","v":""}]
[null,null,null,{"$f":"IFERROR(VLOOKUP($A1330,'Lista de Precios_Bolívares_S'!$F:$Q,6,FALSE),\"\")","v":""},{"$f":"IFERROR(VLOOKUP($A1330,'Lista de Precios_Bolívares_S'!$F:$Q,12,FALSE),\"\")","v":""},"",{"$f":"IFERROR(VLOOKUP($A1330,'Lista de Precios_USD$_Euro€'!$E:$O,11,FALSE),\"\")","v":""}]
[null,null,null,{"$f":"IFERROR(VLOOKUP($A1331,'Lista de Precios_Bolívares_S'!$F:$Q,6,FALSE),\"\")","v":""},{"$f":"IFERROR(VLOOKUP($A1331,'Lista de Precios_Bolívares_S'!$F:$Q,12,FALSE),\"\")","v":""},"",{"$f":"IFERROR(VLOOKUP($A1331,'Lista de Precios_USD$_Euro€'!$E:$O,11,FALSE),\"\")","v":""}]
[null,null,null,{"$f":"IFERROR(VLOOKUP($A1332,'Lista de Precios_Bolívares_S'!$F:$Q,6,FALSE),\"\")","v":""},{"$f":"IFERROR(VLOOKUP($A1332,'Lista de Precios_Bolívares_S'!$F:$Q,12,FALSE),\"\")","v":""},"",{"$f":"IFERROR(VLOOKUP($A1332,'Lista de Precios_USD$_Euro€'!$E:$O,11,FALSE),\"\")","v":""}]
[null,null,null,{"$f":"IFERROR(VLOOKUP($A1333,'Lista de Precios_Bolívares_S'!$F:$Q,6,FALSE),\"\")","v":""},{"$f":"IFERROR(VLOOKUP($A1333,'Lista de Precios_Bolívares_S'!$F:$Q,12,FALSE),\"\")","v":""},"",{"$f":"IFERROR(VLOOKUP($A1333,'Lista de Precios_USD$_Euro€'!$E:$O,11,FALSE),\"\")","v":""}]
[null,null,null,{"$f":"IFERROR(VLOOKUP($A1334,'Lista de Precios_Bolívares_S'!$F:$Q,6,FALSE),\"\")","v":""},{"$f":"IFERROR(VLOOKUP($A1334,'Lista de Precios_Bolívares_S'!$F:$Q,12,FALSE),\"\")","v":""},"",{"$f":"IFERROR(VLOOKUP($A1334,'Lista de Precios_USD$_Euro€'!$E:$O,11,FALSE),\"\")","v":""}]
[null,null,null,{"$f":"IFERROR(VLOOKUP($A1335,'Lista de Precios_Bolívares_S'!$F:$Q,6,FALSE),\"\")","v":""},{"$f":"IFERROR(VLOOKUP($A1335,'Lista de Precios_Bolívares_S'!$F:$Q,12,FALSE),\"\")","v":""},"",{"$f":"IFERROR(VLOOKUP($A1335,'Lista de Precios_USD$_Euro€'!$E:$O,11,FALSE),\"\")","v":""}]
[null,null,null,{"$f":"IFERROR(VLOOKUP($A1336,'Lista de Precios_Bolívares_S'!$F:$Q,6,FALSE),\"\")","v":""},{"$f":"IFERROR(VLOOKUP($A1336,'Lista de Precios_Bolívares_S'!$F:$Q,12,FALSE),\"\")","v":""},"",{"$f":"IFERROR(VLOOKUP($A1336,'Lista de Precios_USD$_Euro€'!$E:$O,11,FALSE),\"\")","v":""}]
[null,null,null,{"$f":"IFERROR(VLOOKUP($A1337,'Lista de Precios_Bolívares_S'!$F:$Q,6,FALSE),\"\")","v":""},{"$f":"IFERROR(VLOOKUP($A1337,'Lista de Precios_Bolívares_S'!$F:$Q,12,FALSE),\"\")","v":""},"",{"$f":"IFERROR(VLOOKUP($A1337,'Lista de Precios_USD$_Euro€'!$E:$O,11,FALSE),\"\")","v":""}]
[null,null,null,{"$f":"IFERROR(VLOOKUP($A1338,'Lista de Precios_Bolívares_S'!$F:$Q,6,FALSE),\"\")","v":""},{"$f":"IFERROR(VLOOKUP($A1338,'Lista de Precios_Bolívares_S'!$F:$Q,12,FALSE),\"\")","v":""},"",{"$f":"IFERROR(VLOOKUP($A1338,'Lista de Precios_USD$_Euro€'!$E:$O,11,FALSE),\"\")","v":""}]
[null,null,null,{"$f":"IFERROR(VLOOKUP($A1339,'Lista de Precios_Bolívares_S'!$F:$Q,6,FALSE),\"\")","v":""},{"$f":"IFERROR(VLOOKUP($A1339,'Lista de Precios_Bolívares_S'!$F:$Q,12,FALSE),\"\")","v":""},"",{"$f":"IFERROR(VLOOKUP($A1339,'Lista de Precios_USD$_Euro€'!$E:$O,11,FALSE),\"\")","v":""}]
[null,null,null,{"$f":"IFERROR(VLOOKUP($A1340,'Lista de Precios_Bolívares_S'!$F:$Q,6,FALSE),\"\")","v":""},{"$f":"IFERROR(VLOOKUP($A1340,'Lista de Precios_Bolívares_S'!$F:$Q,12,FALSE),\"\")","v":""},"",{"$f":"IFERROR(VLOOKUP($A1340,'Lista de Precios_USD$_Euro€'!$E:$O,11,FALSE),\"\")","v":""}]
[null,null,null,{"$f":"IFERROR(VLOOKUP($A1341,'Lista de Precios_Bolívares_S'!$F:$Q,6,FALSE),\"\")","v":""},{"$f":"IFERROR(VLOOKUP($A1341,'Lista de Precios_Bolívares_S'!$F:$Q,12,FALSE),\"\")","v":""},"",{"$f":"IFERROR(VLOOKUP($A1341,'Lista de Precios_USD$_Euro€'!$E:$O,11,FALSE),\"\")","v":""}]
[null,null,null,{"$f":"IFERROR(VLOOKUP($A1342,'Lista de Precios_Bolívares_S'!$F:$Q,6,FALSE),\"\")","v":""},{"$f":"IFERROR(VLOOKUP($A1342,'Lista de Precios_Bolívares_S'!$F:$Q,12,FALSE),\"\")","v":""},"",{"$f":"IFERROR(VLOOKUP($A1342,'Lista de Precios_USD$_Euro€'!$E:$O,11,FALSE),\"\")","v":""}]
[null,null,null,{"$f":"IFERROR(VLOOKUP($A1343,'Lista de Precios_Bolívares_S'!$F:$Q,6,FALSE),\"\")","v":""},{"$f":"IFERROR(VLOOKUP($A1343,'Lista de Precios_Bolívares_S'!$F:$Q,12,FALSE),\"\")","v":""},"",{"$f":"IFERROR(VLOOKUP($A1343,'Lista de Precios_USD$_Euro€'!$E:$O,11,FALSE),\"\")","v":""}]
[null,null,null,{"$f":"IFERROR(VLOOKUP($A1344,'Lista de Precios_Bolívares_S'!$F:$Q,6,FALSE),\"\")","v":""},{"$f":"IFERROR(VLOOKUP($A1344,'Lista de Precios_Bolívares_S'!$F:$Q,12,FALSE),\"\")","v":""},"",{"$f":"IFERROR(VLOOKUP($A1344,'Lista de Precios_USD$_Euro€'!$E:$O,11,FALSE),\"\")","v":""}]
[null,null,null,{"$f":"IFERROR(VLOOKUP($A1345,'Lista de Precios_Bolívares_S'!$F:$Q,6,FALSE),\"\")","v":""},{"$f":"IFERROR(VLOOKUP($A1345,'Lista de Precios_Bolívares_S'!$F:$Q,12,FALSE),\"\")","v":""},"",{"$f":"IFERROR(VLOOKUP($A1345,'Lista de Precios_USD$_Euro€'!$E:$O,11,FALSE),\"\")","v":""}]
[null,null,null,{"$f":"IFERROR(VLOOKUP($A1346,'Lista de Precios_Bolívares_S'!$F:$Q,6,FALSE),\"\")","v":""},{"$f":"IFERROR(VLOOKUP($A1346,'Lista de Precios_Bolívares_S'!$F:$Q,12,FALSE),\"\")","v":""},"",{"$f":"IFERROR(VLOOKUP($A1346,'Lista de Precios_USD$_Euro€'!$E:$O,11,FALSE),\"\")","v":""}]
[null,null,null,{"$f":"IFERROR(VLOOKUP($A1347,'Lista de Precios_Bolívares_S'!$F:$Q,6,FALSE),\"\")","v":""},{"$f":"IFERROR(VLOOKUP($A1347,'Lista de Precios_Bolívares_S'!$F:$Q,12,FALSE),\"\")","v":""},"",{"$f":"IFERROR(VLOOKUP($A1347,'Lista de Precios_USD$_Euro€'!$E:$O,11,FALSE),\"\")","v":""}]
[null,null,null,{"$f":"IFERROR(VLOOKUP($A1348,'Lista de Precios_Bolívares_S'!$F:$Q,6,FALSE),\"\")","v":""},{"$f":"IFERROR(VLOOKUP($A1348,'Lista de Precios_Bolívares_S'!$F:$Q,12,FALSE),\"\")","v":""},"",{"$f":"IFERROR(VLOOKUP($A1348,'Lista de Precios_USD$_Euro€'!$E:$O,11,FALSE),\"\")","v":""}]
[null,null,null,{"$f":"IFERROR(VLOOKUP($A1349,'Lista de Precios_Bolívares_S'!$F:$Q,6,FALSE),\"\")","v":""},{"$f":"IFERROR(VLOOKUP($A1349,'Lista de Precios_Bolívares_S'!$F:$Q,12,FALSE),\"\")","v":""},"",{"$f":"IFERROR(VLOOKUP($A1349,'Lista de Precios_USD$_Euro€'!$E:$O,11,FALSE),\"\")","v":""}]
[null,null,null,{"$f":"IFERROR(VLOOKUP($A1350,'Lista de Precios_Bolívares_S'!$F:$Q,6,FALSE),\"\")","v":""},{"$f":"IFERROR(VLOOKUP($A1350,'Lista de Precios_Bolívares_S'!$F:$Q,12,FALSE),\"\")","v":""},"",{"$f":"IFERROR(VLOOKUP($A1350,'Lista de Precios_USD$_Euro€'!$E:$O,11,FALSE),\"\")","v":""}]
[null,null,null,{"$f":"IFERROR(VLOOKUP($A1351,'Lista de Precios_Bolívares_S'!$F:$Q,6,FALSE),\"\")","v":""},{"$f":"IFERROR(VLOOKUP($A1351,'Lista de Precios_Bolívares_S'!$F:$Q,12,FALSE),\"\")","v":""},"",{"$f":"IFERROR(VLOOKUP($A1351,'Lista de Precios_USD$_Euro€'!$E:$O,11,FALSE),\"\")","v":""}]
[null,null,null,{"$f":"IFERROR(VLOOKUP($A1352,'Lista de Precios_Bolívares_S'!$F:$Q,6,FALSE),\"\")","v":""},{"$f":"IFERROR(VLOOKUP($A1352,'Lista de Precios_Bolívares_S'!$F:$Q,12,FALSE),\"\")","v":""},"",{"$f":"IFERROR(VLOOKUP($A1352,'Lista de Precios_USD$_Euro€'!$E:$O,11,FALSE),\"\")","v":""}]
[null,null,null,{"$f":"IFERROR(VLOOKUP($A1353,'Lista de Precios_Bolívares_S'!$F:$Q,6,FALSE),\"\")","v":""},{"$f":"IFERROR(VLOOKUP($A1353,'Lista de Precios_Bolívares_S'!$F:$Q,12,FALSE),\"\")","v":""},"",{"$f":"IFERROR(VLOOKUP($A1353,'Lista de Precios_USD$_Euro€'!$E:$O,11,FALSE),\"\")","v":""}]
[null,null,null,{"$f":"IFERROR(VLOOKUP($A1354,'Lista de Precios_Bolívares_S'!$F:$Q,6,FALSE),\"\")","v":""},{"$f":"IFERROR(VLOOKUP($A1354,'Lista de Precios_Bolívares_S'!$F:$Q,12,FALSE),\"\")","v":""},"",{"$f":"IFERROR(VLOOKUP($A1354,'Lista de Precios_USD$_Euro€'!$E:$O,11,FALSE),\"\")","v":""}]
[null,null,null,{"$f":"IFERROR(VLOOKUP($A1355,'Lista de Precios_Bolívares_S'!$F:$Q,6,FALSE),\"\")","v":""},{"$f":"IFERROR(VLOOKUP($A1355,'Lista de Precios_Bolívares_S'!$F:$Q,12,FALSE),\"\")","v":""},"",{"$f":"IFERROR(VLOOKUP($A1355,'Lista de Precios_USD$_Euro€'!$E:$O,11,FALSE),\"\")","v":""}]
[null,null,null,{"$f":"IFERROR(VLOOKUP($A1356,'Lista de Precios_Bolívares_S'!$F:$Q,6,FALSE),\"\")","v":""},{"$f":"IFERROR(VLOOKUP($A1356,'Lista de Precios_Bolívares_S'!$F:$Q,12,FALSE),\"\")","v":""},"",{"$f":"IFERROR(VLOOKUP($A1356,'Lista de Precios_USD$_Euro€'!$E:$O,11,FALSE),\"\")","v":""}]
[null,null,null,{"$f":"IFERROR(VLOOKUP($A1357,'Lista de Precios_Bolívares_S'!$F:$Q,6,FALSE),\"\")","v":""},{"$f":"IFERROR(VLOOKUP($A1357,'Lista de Precios_Bolívares_S'!$F:$Q,12,FALSE),\"\")","v":""},"",{"$f":"IFERROR(VLOOKUP($A1357,'Lista de Precios_USD$_Euro€'!$E:$O,11,FALSE),\"\")","v":""}]
[null,null,null,{"$f":"IFERROR(VLOOKUP($A1358,'Lista de Precios_Bolívares_S'!$F:$Q,6,FALSE),\"\")","v":""},{"$f":"IFERROR(VLOOKUP($A1358,'Lista de Precios_Bolívares_S'!$F:$Q,12,FALSE),\"\")","v":""},"",{"$f":"IFERROR(VLOOKUP($A1358,'Lista de Precios_USD$_Euro€'!$E:$O,11,FALSE),\"\")","v":""}]
[null,null,null,{"$f":"IFERROR(VLOOKUP($A1359,'Lista de Precios_Bolívares_S'!$F:$Q,6,FALSE),\"\")","v":""},{"$f":"IFERROR(VLOOKUP($A1359,'Lista de Precios_Bolívares_S'!$F:$Q,12,FALSE),\"\")","v":""},"",{"$f":"IFERROR(VLOOKUP($A1359,'Lista de Precios_USD$_Euro€'!$E:$O,11,FALSE),\"\")","v":""}]
[null,null,null,{"$f":"IFERROR(VLOOKUP($A1360,'Lista de Precios_Bolívares_S'!$F:$Q,6,FALSE),\"\")","v":""},{"$f":"IFERROR(VLOOKUP($A1360,'Lista de Precios_Bolívares_S'!$F:$Q,12,FALSE),\"\")","v":""},"",{"$f":"IFERROR(VLOOKUP($A1360,'Lista de Precios_USD$_Euro€'!$E:$O,11,FALSE),\"\")","v":""}]
[null,null,null,{"$f":"IFERROR(VLOOKUP($A1361,'Lista de Precios_Bolívares_S'!$F:$Q,6,FALSE),\"\")","v":""},{"$f":"IFERROR(VLOOKUP($A1361,'Lista de Precios_Bolívares_S'!$F:$Q,12,FALSE),\"\")","v":""},"",{"$f":"IFERROR(VLOOKUP($A1361,'Lista de Precios_USD$_Euro€'!$E:$O,11,FALSE),\"\")","v":""}]
[null,null,null,{"$f":"IFERROR(VLOOKUP($A1362,'Lista de Precios_Bolívares_S'!$F:$Q,6,FALSE),\"\")","v":""},{"$f":"IFERROR(VLOOKUP($A1362,'Lista de Precios_Bolívares_S'!$F:$Q,12,FALSE),\"\")","v":""},"",{"$f":"IFERROR(VLOOKUP($A1362,'Lista de Precios_USD$_Euro€'!$E:$O,11,FALSE),\"\")","v":""}]
[null,null,null,{"$f":"IFERROR(VLOOKUP($A1363,'Lista de Precios_Bolívares_S'!$F:$Q,6,FALSE),\"\")","v":""},{"$f":"IFERROR(VLOOKUP($A1363,'Lista de Precios_Bolívares_S'!$F:$Q,12,FALSE),\"\")","v":""},"",{"$f":"IFERROR(VLOOKUP($A1363,'Lista de Precios_USD$_Euro€'!$E:$O,11,FALSE),\"\")","v":""}]
[null,null,null,{"$f":"IFERROR(VLOOKUP($A1364,'Lista de Precios_Bolívares_S'!$F:$Q,6,FALSE),\"\")","v":""},{"$f":"IFERROR(VLOOKUP($A1364,'Lista de Precios_Bolívares_S'!$F:$Q,12,FALSE),\"\")","v":""},"",{"$f":"IFERROR(VLOOKUP($A1364,'Lista de Precios_USD$_Euro€'!$E:$O,11,FALSE),\"\")","v":""}]
[null,null,null,{"$f":"IFERROR(VLOOKUP($A1365,'Lista de Precios_Bolívares_S'!$F:$Q,6,FALSE),\"\")","v":""},{"$f":"IFERROR(VLOOKUP($A1365,'Lista de Precios_Bolívares_S'!$F:$Q,12,FALSE),\"\")","v":""},"",{"$f":"IFERROR(VLOOKUP($A1365,'Lista de Precios_USD$_Euro€'!$E:$O,11,FALSE),\"\")","v":""}]
[null,null,null,{"$f":"IFERROR(VLOOKUP($A1366,'Lista de Precios_Bolívares_S'!$F:$Q,6,FALSE),\"\")","v":""},{"$f":"IFERROR(VLOOKUP($A1366,'Lista de Precios_Bolívares_S'!$F:$Q,12,FALSE),\"\")","v":""},"",{"$f":"IFERROR(VLOOKUP($A1366,'Lista de Precios_USD$_Euro€'!$E:$O,11,FALSE),\"\")","v":""}]
[null,null,null,{"$f":"IFERROR(VLOOKUP($A1367,'Lista de Precios_Bolívares_S'!$F:$Q,6,FALSE),\"\")","v":""},{"$f":"IFERROR(VLOOKUP($A1367,'Lista de Precios_Bolívares_S'!$F:$Q,12,FALSE),\"\")","v":""},"",{"$f":"IFERROR(VLOOKUP($A1367,'Lista de Precios_USD$_Euro€'!$E:$O,11,FALSE),\"\")","v":""}]
[null,null,null,{"$f":"IFERROR(VLOOKUP($A1368,'Lista de Precios_Bolívares_S'!$F:$Q,6,FALSE),\"\")","v":""},{"$f":"IFERROR(VLOOKUP($A1368,'Lista de Precios_Bolívares_S'!$F:$Q,12,FALSE),\"\")","v":""},"",{"$f":"IFERROR(VLOOKUP($A1368,'Lista de Precios_USD$_Euro€'!$E:$O,11,FALSE),\"\")","v":""}]
[null,null,null,{"$f":"IFERROR(VLOOKUP($A1369,'Lista de Precios_Bolívares_S'!$F:$Q,6,FALSE),\"\")","v":""},{"$f":"IFERROR(VLOOKUP($A1369,'Lista de Precios_Bolívares_S'!$F:$Q,12,FALSE),\"\")","v":""},{"$f":"IFERROR(IF(ROUND($C1369,2)=ROUND($D1344,2),ROUND($E1344,2),ROUND($C1369,2)),\"\")","v":""},{"$f":"IFERROR(VLOOKUP($A1369,'Lista de Precios_USD$_Euro€'!$E:$O,11,FALSE),\"\")","v":""}]
[null,null,null,{"$f":"IFERROR(VLOOKUP($A1370,'Lista de Precios_Bolívares_S'!$F:$Q,6,FALSE),\"\")","v":""},{"$f":"IFERROR(VLOOKUP($A1370,'Lista de Precios_Bolívares_S'!$F:$Q,12,FALSE),\"\")","v":""},"",{"$f":"IFERROR(VLOOKUP($A1370,'Lista de Precios_USD$_Euro€'!$E:$O,11,FALSE),\"\")","v":""}]
[null,null,null,{"$f":"IFERROR(VLOOKUP($A1371,'Lista de Precios_Bolívares_S'!$F:$Q,6,FALSE),\"\")","v":""},{"$f":"IFERROR(VLOOKUP($A1371,'Lista de Precios_Bolívares_S'!$F:$Q,12,FALSE),\"\")","v":""},"",{"$f":"IFERROR(VLOOKUP($A1371,'Lista de Precios_USD$_Euro€'!$E:$O,11,FALSE),\"\")","v":""}]
[null,null,null,{"$f":"IFERROR(VLOOKUP($A1372,'Lista de Precios_Bolívares_S'!$F:$Q,6,FALSE),\"\")","v":""},{"$f":"IFERROR(VLOOKUP($A1372,'Lista de Precios_Bolívares_S'!$F:$Q,12,FALSE),\"\")","v":""},"",{"$f":"IFERROR(VLOOKUP($A1372,'Lista de Precios_USD$_Euro€'!$E:$O,11,FALSE),\"\")","v":""}]
[null,null,null,{"$f":"IFERROR(VLOOKUP($A1373,'Lista de Precios_Bolívares_S'!$F:$Q,6,FALSE),\"\")","v":""},{"$f":"IFERROR(VLOOKUP($A1373,'Lista de Precios_Bolívares_S'!$F:$Q,12,FALSE),\"\")","v":""},"",{"$f":"IFERROR(VLOOKUP($A1373,'Lista de Precios_USD$_Euro€'!$E:$O,11,FALSE),\"\")","v":""}]
[null,null,null,{"$f":"IFERROR(VLOOKUP($A1374,'Lista de Precios_Bolívares_S'!$F:$Q,6,FALSE),\"\")","v":""},{"$f":"IFERROR(VLOOKUP($A1374,'Lista de Precios_Bolívares_S'!$F:$Q,12,FALSE),\"\")","v":""},"",{"$f":"IFERROR(VLOOKUP($A1374,'Lista de Precios_USD$_Euro€'!$E:$O,11,FALSE),\"\")","v":""}]
[null,null,null,{"$f":"IFERROR(VLOOKUP($A1375,'Lista de Precios_Bolívares_S'!$F:$Q,6,FALSE),\"\")","v":""},{"$f":"IFERROR(VLOOKUP($A1375,'Lista de Precios_Bolívares_S'!$F:$Q,12,FALSE),\"\")","v":""},"",{"$f":"IFERROR(VLOOKUP($A1375,'Lista de Precios_USD$_Euro€'!$E:$O,11,FALSE),\"\")","v":""}]
[null,null,null,{"$f":"IFERROR(VLOOKUP($A1376,'Lista de Precios_Bolívares_S'!$F:$Q,6,FALSE),\"\")","v":""},{"$f":"IFERROR(VLOOKUP($A1376,'Lista de Precios_Bolívares_S'!$F:$Q,12,FALSE),\"\")","v":""},"",{"$f":"IFERROR(VLOOKUP($A1376,'Lista de Precios_USD$_Euro€'!$E:$O,11,FALSE),\"\")","v":""}]
[null,null,null,{"$f":"IFERROR(VLOOKUP($A1377,'Lista de Precios_Bolívares_S'!$F:$Q,6,FALSE),\"\")","v":""},{"$f":"IFERROR(VLOOKUP($A1377,'Lista de Precios_Bolívares_S'!$F:$Q,12,FALSE),\"\")","v":""},"",{"$f":"IFERROR(VLOOKUP($A1377,'Lista de Precios_USD$_Euro€'!$E:$O,11,FALSE),\"\")","v":""}]
[null,null,null,{"$f":"IFERROR(VLOOKUP($A1378,'Lista de Precios_Bolívares_S'!$F:$Q,6,FALSE),\"\")","v":""},{"$f":"IFERROR(VLOOKUP($A1378,'Lista de Precios_Bolívares_S'!$F:$Q,12,FALSE),\"\")","v":""},"",{"$f":"IFERROR(VLOOKUP($A1378,'Lista de Precios_USD$_Euro€'!$E:$O,11,FALSE),\"\")","v":""}]
[null,null,null,{"$f":"IFERROR(VLOOKUP($A1379,'Lista de Precios_Bolívares_S'!$F:$Q,6,FALSE),\"\")","v":""},{"$f":"IFERROR(VLOOKUP($A1379,'Lista de Precios_Bolívares_S'!$F:$Q,12,FALSE),\"\")","v":""},"",{"$f":"IFERROR(VLOOKUP($A1379,'Lista de Precios_USD$_Euro€'!$E:$O,11,FALSE),\"\")","v":""}]
[null,null,null,{"$f":"IFERROR(VLOOKUP($A1380,'Lista de Precios_Bolívares_S'!$F:$Q,6,FALSE),\"\")","v":""},{"$f":"IFERROR(VLOOKUP($A1380,'Lista de Precios_Bolívares_S'!$F:$Q,12,FALSE),\"\")","v":""},"",{"$f":"IFERROR(VLOOKUP($A1380,'Lista de Precios_USD$_Euro€'!$E:$O,11,FALSE),\"\")","v":""}]
[null,null,null,{"$f":"IFERROR(VLOOKUP($A1381,'Lista de Precios_Bolívares_S'!$F:$Q,6,FALSE),\"\")","v":""},{"$f":"IFERROR(VLOOKUP($A1381,'Lista de Precios_Bolívares_S'!$F:$Q,12,FALSE),\"\")","v":""},"",{"$f":"IFERROR(VLOOKUP($A1381,'Lista de Precios_USD$_Euro€'!$E:$O,11,FALSE),\"\")","v":""}]
[null,null,null,{"$f":"IFERROR(VLOOKUP($A1382,'Lista de Precios_Bolívares_S'!$F:$Q,6,FALSE),\"\")","v":""},{"$f":"IFERROR(VLOOKUP($A1382,'Lista de Precios_Bolívares_S'!$F:$Q,12,FALSE),\"\")","v":""},"",{"$f":"IFERROR(VLOOKUP($A1382,'Lista de Precios_USD$_Euro€'!$E:$O,11,FALSE),\"\")","v":""}]
[null,null,null,{"$f":"IFERROR(VLOOKUP($A1383,'Lista de Precios_Bolívares_S'!$F:$Q,6,FALSE),\"\")","v":""},{"$f":"IFERROR(VLOOKUP($A1383,'Lista de Precios_Bolívares_S'!$F:$Q,12,FALSE),\"\")","v":""},"",{"$f":"IFERROR(VLOOKUP($A1383,'Lista de Precios_USD$_Euro€'!$E:$O,11,FALSE),\"\")","v":""}]
[null,null,null,{"$f":"IFERROR(VLOOKUP($A1384,'Lista de Precios_Bolívares_S'!$F:$Q,6,FALSE),\"\")","v":""},{"$f":"IFERROR(VLOOKUP($A1384,'Lista de Precios_Bolívares_S'!$F:$Q,12,FALSE),\"\")","v":""},"",{"$f":"IFERROR(VLOOKUP($A1384,'Lista de Precios_USD$_Euro€'!$E:$O,11,FALSE),\"\")","v":""}]
[null,null,null,{"$f":"IFERROR(VLOOKUP($A1385,'Lista de Precios_Bolívares_S'!$F:$Q,6,FALSE),\"\")","v":""},{"$f":"IFERROR(VLOOKUP($A1385,'Lista de Precios_Bolívares_S'!$F:$Q,12,FALSE),\"\")","v":""},"",{"$f":"IFERROR(VLOOKUP($A1385,'Lista de Precios_USD$_Euro€'!$E:$O,11,FALSE),\"\")","v":""}]
[null,null,null,{"$f":"IFERROR(VLOOKUP($A1386,'Lista de Precios_Bolívares_S'!$F:$Q,6,FALSE),\"\")","v":""},{"$f":"IFERROR(VLOOKUP($A1386,'Lista de Precios_Bolívares_S'!$F:$Q,12,FALSE),\"\")","v":""},"",{"$f":"IFERROR(VLOOKUP($A1386,'Lista de Precios_USD$_Euro€'!$E:$O,11,FALSE),\"\")","v":""}]
[null,null,null,{"$f":"IFERROR(VLOOKUP($A1387,'Lista de Precios_Bolívares_S'!$F:$Q,6,FALSE),\"\")","v":""},{"$f":"IFERROR(VLOOKUP($A1387,'Lista de Precios_Bolívares_S'!$F:$Q,12,FALSE),\"\")","v":""},"",{"$f":"IFERROR(VLOOKUP($A1387,'Lista de Precios_USD$_Euro€'!$E:$O,11,FALSE),\"\")","v":""}]
[null,null,null,{"$f":"IFERROR(VLOOKUP($A1388,'Lista de Precios_Bolívares_S'!$F:$Q,6,FALSE),\"\")","v":""},{"$f":"IFERROR(VLOOKUP($A1388,'Lista de Precios_Bolívares_S'!$F:$Q,12,FALSE),\"\")","v":""},"",{"$f":"IFERROR(VLOOKUP($A1388,'Lista de Precios_USD$_Euro€'!$E:$O,11,FALSE),\"\")","v":""}]
[null,null,null,{"$f":"IFERROR(VLOOKUP($A1389,'Lista de Precios_Bolívares_S'!$F:$Q,6,FALSE),\"\")","v":""},{"$f":"IFERROR(VLOOKUP($A1389,'Lista de Precios_Bolívares_S'!$F:$Q,12,FALSE),\"\")","v":""},"",{"$f":"IFERROR(VLOOKUP($A1389,'Lista de Precios_USD$_Euro€'!$E:$O,11,FALSE),\"\")","v":""}]
[null,null,null,{"$f":"IFERROR(VLOOKUP($A1390,'Lista de Precios_Bolívares_S'!$F:$Q,6,FALSE),\"\")","v":""},{"$f":"IFERROR(VLOOKUP($A1390,'Lista de Precios_Bolívares_S'!$F:$Q,12,FALSE),\"\")","v":""},"",{"$f":"IFERROR(VLOOKUP($A1390,'Lista de Precios_USD$_Euro€'!$E:$O,11,FALSE),\"\")","v":""}]
[null,null,null,{"$f":"IFERROR(VLOOKUP($A1391,'Lista de Precios_Bolívares_S'!$F:$Q,6,FALSE),\"\")","v":""},{"$f":"IFERROR(VLOOKUP($A1391,'Lista de Precios_Bolívares_S'!$F:$Q,12,FALSE),\"\")","v":""},"",{"$f":"IFERROR(VLOOKUP($A1391,'Lista de Precios_USD$_Euro€'!$E:$O,11,FALSE),\"\")","v":""}]
[null,null,null,{"$f":"IFERROR(VLOOKUP($A1392,'Lista de Precios_Bolívares_S'!$F:$Q,6,FALSE),\"\")","v":""},{"$f":"IFERROR(VLOOKUP($A1392,'Lista de Precios_Bolívares_S'!$F:$Q,12,FALSE),\"\")","v":""},"",{"$f":"IFERROR(VLOOKUP($A1392,'Lista de Precios_USD$_Euro€'!$E:$O,11,FALSE),\"\")","v":""}]
[null,null,null,{"$f":"IFERROR(VLOOKUP($A1393,'Lista de Precios_Bolívares_S'!$F:$Q,6,FALSE),\"\")","v":""},{"$f":"IFERROR(VLOOKUP($A1393,'Lista de Precios_Bolívares_S'!$F:$Q,12,FALSE),\"\")","v":""},"",{"$f":"IFERROR(VLOOKUP($A1393,'Lista de Precios_USD$_Euro€'!$E:$O,11,FALSE),\"\")","v":""}]
[null,null,null,{"$f":"IFERROR(VLOOKUP($A1394,'Lista de Precios_Bolívares_S'!$F:$Q,6,FALSE),\"\")","v":""},{"$f":"IFERROR(VLOOKUP($A1394,'Lista de Precios_Bolívares_S'!$F:$Q,12,FALSE),\"\")","v":""},"",{"$f":"IFERROR(VLOOKUP($A1394,'Lista de Precios_USD$_Euro€'!$E:$O,11,FALSE),\"\")","v":""}]
[null,null,null,{"$f":"IFERROR(VLOOKUP($A1395,'Lista de Precios_Bolívares_S'!$F:$Q,6,FALSE),\"\")","v":""},{"$f":"IFERROR(VLOOKUP($A1395,'Lista de Precios_Bolívares_S'!$F:$Q,12,FALSE),\"\")","v":""},"",{"$f":"IFERROR(VLOOKUP($A1395,'Lista de Precios_USD$_Euro€'!$E:$O,11,FALSE),\"\")","v":""}]
[null,null,null,{"$f":"IFERROR(VLOOKUP($A1396,'Lista de Precios_Bolívares_S'!$F:$Q,6,FALSE),\"\")","v":""},{"$f":"IFERROR(VLOOKUP($A1396,'Lista de Precios_Bolívares_S'!$F:$Q,12,FALSE),\"\")","v":""},"",{"$f":"IFERROR(VLOOKUP($A1396,'Lista de Precios_USD$_Euro€'!$E:$O,11,FALSE),\"\")","v":""}]
[null,null,null,{"$f":"IFERROR(VLOOKUP($A1397,'Lista de Precios_Bolívares_S'!$F:$Q,6,FALSE),\"\")","v":""},{"$f":"IFERROR(VLOOKUP($A1397,'Lista de Precios_Bolívares_S'!$F:$Q,12,FALSE),\"\")","v":""},"",{"$f":"IFERROR(VLOOKUP($A1397,'Lista de Precios_USD$_Euro€'!$E:$O,11,FALSE),\"\")","v":""}]
[null,null,null,{"$f":"IFERROR(VLOOKUP($A1398,'Lista de Precios_Bolívares_S'!$F:$Q,6,FALSE),\"\")","v":""},{"$f":"IFERROR(VLOOKUP($A1398,'Lista de Precios_Bolívares_S'!$F:$Q,12,FALSE),\"\")","v":""},"",{"$f":"IFERROR(VLOOKUP($A1398,'Lista de Precios_USD$_Euro€'!$E:$O,11,FALSE),\"\")","v":""}]
[null,null,null,{"$f":"IFERROR(VLOOKUP($A1399,'Lista de Precios_Bolívares_S'!$F:$Q,6,FALSE),\"\")","v":""},{"$f":"IFERROR(VLOOKUP($A1399,'Lista de Precios_Bolívares_S'!$F:$Q,12,FALSE),\"\")","v":""},"",{"$f":"IFERROR(VLOOKUP($A1399,'Lista de Precios_USD$_Euro€'!$E:$O,11,FALSE),\"\")","v":""}]
[null,null,null,{"$f":"IFERROR(VLOOKUP($A1400,'Lista de Precios_Bolívares_S'!$F:$Q,6,FALSE),\"\")","v":""},{"$f":"IFERROR(VLOOKUP($A1400,'Lista de Precios_Bolívares_S'!$F:$Q,12,FALSE),\"\")","v":""},"",{"$f":"IFERROR(VLOOKUP($A1400,'Lista de Precios_USD$_Euro€'!$E:$O,11,FALSE),\"\")","v":""}]
[null,null,null,{"$f":"IFERROR(VLOOKUP($A1401,'Lista de Precios_Bolívares_S'!$F:$Q,6,FALSE),\"\")","v":""},{"$f":"IFERROR(VLOOKUP($A1401,'Lista de Precios_Bolívares_S'!$F:$Q,12,FALSE),\"\")","v":""},"",{"$f":"IFERROR(VLOOKUP($A1401,'Lista de Precios_USD$_Euro€'!$E:$O,11,FALSE),\"\")","v":""}]
[null,null,null,{"$f":"IFERROR(VLOOKUP($A1402,'Lista de Precios_Bolívares_S'!$F:$Q,6,FALSE),\"\")","v":""},{"$f":"IFERROR(VLOOKUP($A1402,'Lista de Precios_Bolívares_S'!$F:$Q,12,FALSE),\"\")","v":""},"",{"$f":"IFERROR(VLOOKUP($A1402,'Lista de Precios_USD$_Euro€'!$E:$O,11,FALSE),\"\")","v":""}]
[null,null,null,{"$f":"IFERROR(VLOOKUP($A1403,'Lista de Precios_Bolívares_S'!$F:$Q,6,FALSE),\"\")","v":""},{"$f":"IFERROR(VLOOKUP($A1403,'Lista de Precios_Bolívares_S'!$F:$Q,12,FALSE),\"\")","v":""},"",{"$f":"IFERROR(VLOOKUP($A1403,'Lista de Precios_USD$_Euro€'!$E:$O,11,FALSE),\"\")","v":""}]
[null,null,null,{"$f":"IFERROR(VLOOKUP($A1404,'Lista de Precios_Bolívares_S'!$F:$Q,6,FALSE),\"\")","v":""},{"$f":"IFERROR(VLOOKUP($A1404,'Lista de Precios_Bolívares_S'!$F:$Q,12,FALSE),\"\")","v":""},"",{"$f":"IFERROR(VLOOKUP($A1404,'Lista de Precios_USD$_Euro€'!$E:$O,11,FALSE),\"\")","v":""}]
[null,null,null,{"$f":"IFERROR(VLOOKUP($A1405,'Lista de Precios_Bolívares_S'!$F:$Q,6,FALSE),\"\")","v":""},{"$f":"IFERROR(VLOOKUP($A1405,'Lista de Precios_Bolívares_S'!$F:$Q,12,FALSE),\"\")","v":""},"",{"$f":"IFERROR(VLOOKUP($A1405,'Lista de Precios_USD$_Euro€'!$E:$O,11,FALSE),\"\")","v":""}]
[null,null,null,{"$f":"IFERROR(VLOOKUP($A1406,'Lista de Precios_Bolívares_S'!$F:$Q,6,FALSE),\"\")","v":""},{"$f":"IFERROR(VLOOKUP($A1406,'Lista de Precios_Bolívares_S'!$F:$Q,12,FALSE),\"\")","v":""},"",{"$f":"IFERROR(VLOOKUP($A1406,'Lista de Precios_USD$_Euro€'!$E:$O,11,FALSE),\"\")","v":""}]
[null,null,null,{"$f":"IFERROR(VLOOKUP($A1407,'Lista de Precios_Bolívares_S'!$F:$Q,6,FALSE),\"\")","v":""},{"$f":"IFERROR(VLOOKUP($A1407,'Lista de Precios_Bolívares_S'!$F:$Q,12,FALSE),\"\")","v":""},"",{"$f":"IFERROR(VLOOKUP($A1407,'Lista de Precios_USD$_Euro€'!$E:$O,11,FALSE),\"\")","v":""}]
[null,null,null,{"$f":"IFERROR(VLOOKUP($A1408,'Lista de Precios_Bolívares_S'!$F:$Q,6,FALSE),\"\")","v":""},{"$f":"IFERROR(VLOOKUP($A1408,'Lista de Precios_Bolívares_S'!$F:$Q,12,FALSE),\"\")","v":""},"",{"$f":"IFERROR(VLOOKUP($A1408,'Lista de Precios_USD$_Euro€'!$E:$O,11,FALSE),\"\")","v":""}]
[null,null,null,{"$f":"IFERROR(VLOOKUP($A1409,'Lista de Precios_Bolívares_S'!$F:$Q,6,FALSE),\"\")","v":""},{"$f":"IFERROR(VLOOKUP($A1409,'Lista de Precios_Bolívares_S'!$F:$Q,12,FALSE),\"\")","v":""},"",{"$f":"IFERROR(VLOOKUP($A1409,'Lista de Precios_USD$_Euro€'!$E:$O,11,FALSE),\"\")","v":""}]
[null,null,null,{"$f":"IFERROR(VLOOKUP($A1410,'Lista de Precios_Bolívares_S'!$F:$Q,6,FALSE),\"\")","v":""},{"$f":"IFERROR(VLOOKUP($A1410,'Lista de Precios_Bolívares_S'!$F:$Q,12,FALSE),\"\")","v":""},"",{"$f":"IFERROR(VLOOKUP($A1410,'Lista de Precios_USD$_Euro€'!$E:$O,11,FALSE),\"\")","v":""}]
[null,null,null,{"$f":"IFERROR(VLOOKUP($A1411,'Lista de Precios_Bolívares_S'!$F:$Q,6,FALSE),\"\")","v":""},{"$f":"IFERROR(VLOOKUP($A1411,'Lista de Precios_Bolívares_S'!$F:$Q,12,FALSE),\"\")","v":""},"",{"$f":"IFERROR(VLOOKUP($A1411,'Lista de Precios_USD$_Euro€'!$E:$O,11,FALSE),\"\")","v":""}]
[null,null,null,{"$f":"IFERROR(VLOOKUP($A1412,'Lista de Precios_Bolívares_S'!$F:$Q,6,FALSE),\"\")","v":""},{"$f":"IFERROR(VLOOKUP($A1412,'Lista de Precios_Bolívares_S'!$F:$Q,12,FALSE),\"\")","v":""},"",{"$f":"IFERROR(VLOOKUP($A1412,'Lista de Precios_USD$_Euro€'!$E:$O,11,FALSE),\"\")","v":""}]
[null,null,null,{"$f":"IFERROR(VLOOKUP($A1413,'Lista de Precios_Bolívares_S'!$F:$Q,6,FALSE),\"\")","v":""},{"$f":"IFERROR(VLOOKUP($A1413,'Lista de Precios_Bolívares_S'!$F:$Q,12,FALSE),\"\")","v":""},"",{"$f":"IFERROR(VLOOKUP($A1413,'Lista de Precios_USD$_Euro€'!$E:$O,11,FALSE),\"\")","v":""}]
[null,null,null,{"$f":"IFERROR(VLOOKUP($A1414,'Lista de Precios_Bolívares_S'!$F:$Q,6,FALSE),\"\")","v":""},{"$f":"IFERROR(VLOOKUP($A1414,'Lista de Precios_Bolívares_S'!$F:$Q,12,FALSE),\"\")","v":""},"",{"$f":"IFERROR(VLOOKUP($A1414,'Lista de Precios_USD$_Euro€'!$E:$O,11,FALSE),\"\")","v":""}]
[null,null,null,{"$f":"IFERROR(VLOOKUP($A1415,'Lista de Precios_Bolívares_S'!$F:$Q,6,FALSE),\"\")","v":""},{"$f":"IFERROR(VLOOKUP($A1415,'Lista de Precios_Bolívares_S'!$F:$Q,12,FALSE),\"\")","v":""},"",{"$f":"IFERROR(VLOOKUP($A1415,'Lista de Precios_USD$_Euro€'!$E:$O,11,FALSE),\"\")","v":""}]
[null,null,null,{"$f":"IFERROR(VLOOKUP($A1416,'Lista de Precios_Bolívares_S'!$F:$Q,6,FALSE),\"\")","v":""},{"$f":"IFERROR(VLOOKUP($A1416,'Lista de Precios_Bolívares_S'!$F:$Q,12,FALSE),\"\")","v":""},"",{"$f":"IFERROR(VLOOKUP($A1416,'Lista de Precios_USD$_Euro€'!$E:$O,11,FALSE),\"\")","v":""}]
[null,null,null,{"$f":"IFERROR(VLOOKUP($A1417,'Lista de Precios_Bolívares_S'!$F:$Q,6,FALSE),\"\")","v":""},{"$f":"IFERROR(VLOOKUP($A1417,'Lista de Precios_Bolívares_S'!$F:$Q,12,FALSE),\"\")","v":""},"",{"$f":"IFERROR(VLOOKUP($A1417,'Lista de Precios_USD$_Euro€'!$E:$O,11,FALSE),\"\")","v":""}]
[null,null,null,{"$f":"IFERROR(VLOOKUP($A1418,'Lista de Precios_Bolívares_S'!$F:$Q,6,FALSE),\"\")","v":""},{"$f":"IFERROR(VLOOKUP($A1418,'Lista de Precios_Bolívares_S'!$F:$Q,12,FALSE),\"\")","v":""},"",{"$f":"IFERROR(VLOOKUP($A1418,'Lista de Precios_USD$_Euro€'!$E:$O,11,FALSE),\"\")","v":""}]
[null,null,null,{"$f":"IFERROR(VLOOKUP($A1419,'Lista de Precios_Bolívares_S'!$F:$Q,6,FALSE),\"\")","v":""},{"$f":"IFERROR(VLOOKUP($A1419,'Lista de Precios_Bolívares_S'!$F:$Q,12,FALSE),\"\")","v":""},"",{"$f":"IFERROR(VLOOKUP($A1419,'Lista de Precios_USD$_Euro€'!$E:$O,11,FALSE),\"\")","v":""}]
[null,null,null,{"$f":"IFERROR(VLOOKUP($A1420,'Lista de Precios_Bolívares_S'!$F:$Q,6,FALSE),\"\")","v":""},{"$f":"IFERROR(VLOOKUP($A1420,'Lista de Precios_Bolívares_S'!$F:$Q,12,FALSE),\"\")","v":""},"",{"$f":"IFERROR(VLOOKUP($A1420,'Lista de Precios_USD$_Euro€'!$E:$O,11,FALSE),\"\")","v":""}]
[null,null,null,{"$f":"IFERROR(VLOOKUP($A1421,'Lista de Precios_Bolívares_S'!$F:$Q,6,FALSE),\"\")","v":""},{"$f":"IFERROR(VLOOKUP($A1421,'Lista de Precios_Bolívares_S'!$F:$Q,12,FALSE),\"\")","v":""},"",{"$f":"IFERROR(VLOOKUP($A1421,'Lista de Precios_USD$_Euro€'!$E:$O,11,FALSE),\"\")","v":""}]
[null,null,null,{"$f":"IFERROR(VLOOKUP($A1422,'Lista de Precios_Bolívares_S'!$F:$Q,6,FALSE),\"\")","v":""},{"$f":"IFERROR(VLOOKUP($A1422,'Lista de Precios_Bolívares_S'!$F:$Q,12,FALSE),\"\")","v":""},"",{"$f":"IFERROR(VLOOKUP($A1422,'Lista de Precios_USD$_Euro€'!$E:$O,11,FALSE),\"\")","v":""}]
[null,null,null,{"$f":"IFERROR(VLOOKUP($A1423,'Lista de Precios_Bolívares_S'!$F:$Q,6,FALSE),\"\")","v":""},{"$f":"IFERROR(VLOOKUP($A1423,'Lista de Precios_Bolívares_S'!$F:$Q,12,FALSE),\"\")","v":""},"",{"$f":"IFERROR(VLOOKUP($A1423,'Lista de Precios_USD$_Euro€'!$E:$O,11,FALSE),\"\")","v":""}]
[null,null,null,{"$f":"IFERROR(VLOOKUP($A1424,'Lista de Precios_Bolívares_S'!$F:$Q,6,FALSE),\"\")","v":""},{"$f":"IFERROR(VLOOKUP($A1424,'Lista de Precios_Bolívares_S'!$F:$Q,12,FALSE),\"\")","v":""},"",{"$f":"IFERROR(VLOOKUP($A1424,'Lista de Precios_USD$_Euro€'!$E:$O,11,FALSE),\"\")","v":""}]
[null,null,null,{"$f":"IFERROR(VLOOKUP($A1425,'Lista de Precios_Bolívares_S'!$F:$Q,6,FALSE),\"\")","v":""},{"$f":"IFERROR(VLOOKUP($A1425,'Lista de Precios_Bolívares_S'!$F:$Q,12,FALSE),\"\")","v":""},"",{"$f":"IFERROR(VLOOKUP($A1425,'Lista de Precios_USD$_Euro€'!$E:$O,11,FALSE),\"\")","v":""}]
[null,null,null,{"$f":"IFERROR(VLOOKUP($A1426,'Lista de Precios_Bolívares_S'!$F:$Q,6,FALSE),\"\")","v":""},{"$f":"IFERROR(VLOOKUP($A1426,'Lista de Precios_Bolívares_S'!$F:$Q,12,FALSE),\"\")","v":""},"",{"$f":"IFERROR(VLOOKUP($A1426,'Lista de Precios_USD$_Euro€'!$E:$O,11,FALSE),\"\")","v":""}]
[null,null,null,{"$f":"IFERROR(VLOOKUP($A1427,'Lista de Precios_Bolívares_S'!$F:$Q,6,FALSE),\"\")","v":""},{"$f":"IFERROR(VLOOKUP($A1427,'Lista de Precios_Bolívares_S'!$F:$Q,12,FALSE),\"\")","v":""},"",{"$f":"IFERROR(VLOOKUP($A1427,'Lista de Precios_USD$_Euro€'!$E:$O,11,FALSE),\"\")","v":""}]
[null,null,null,{"$f":"IFERROR(VLOOKUP($A1428,'Lista de Precios_Bolívares_S'!$F:$Q,6,FALSE),\"\")","v":""},{"$f":"IFERROR(VLOOKUP($A1428,'Lista de Precios_Bolívares_S'!$F:$Q,12,FALSE),\"\")","v":""},"",{"$f":"IFERROR(VLOOKUP($A1428,'Lista de Precios_USD$_Euro€'!$E:$O,11,FALSE),\"\")","v":""}]
[null,null,null,{"$f":"IFERROR(VLOOKUP($A1429,'Lista de Precios_Bolívares_S'!$F:$Q,6,FALSE),\"\")","v":""},{"$f":"IFERROR(VLOOKUP($A1429,'Lista de Precios_Bolívares_S'!$F:$Q,12,FALSE),\"\")","v":""},"",{"$f":"IFERROR(VLOOKUP($A1429,'Lista de Precios_USD$_Euro€'!$E:$O,11,FALSE),\"\")","v":""}]
[null,null,null,{"$f":"IFERROR(VLOOKUP($A1430,'Lista de Precios_Bolívares_S'!$F:$Q,6,FALSE),\"\")","v":""},{"$f":"IFERROR(VLOOKUP($A1430,'Lista de Precios_Bolívares_S'!$F:$Q,12,FALSE),\"\")","v":""},"",{"$f":"IFERROR(VLOOKUP($A1430,'Lista de Precios_USD$_Euro€'!$E:$O,11,FALSE),\"\")","v":""}]
[null,null,null,{"$f":"IFERROR(VLOOKUP($A1431,'Lista de Precios_Bolívares_S'!$F:$Q,6,FALSE),\"\")","v":""},{"$f":"IFERROR(VLOOKUP($A1431,'Lista de Precios_Bolívares_S'!$F:$Q,12,FALSE),\"\")","v":""},"",{"$f":"IFERROR(VLOOKUP($A1431,'Lista de Precios_USD$_Euro€'!$E:$O,11,FALSE),\"\")","v":""}]
[null,null,null,{"$f":"IFERROR(VLOOKUP($A1432,'Lista de Precios_Bolívares_S'!$F:$Q,6,FALSE),\"\")","v":""},{"$f":"IFERROR(VLOOKUP($A1432,'Lista de Precios_Bolívares_S'!$F:$Q,12,FALSE),\"\")","v":""},"",{"$f":"IFERROR(VLOOKUP($A1432,'Lista de Precios_USD$_Euro€'!$E:$O,11,FALSE),\"\")","v":""}]
[null,null,null,{"$f":"IFERROR(VLOOKUP($A1433,'Lista de Precios_Bolívares_S'!$F:$Q,6,FALSE),\"\")","v":""},{"$f":"IFERROR(VLOOKUP($A1433,'Lista de Precios_Bolívares_S'!$F:$Q,12,FALSE),\"\")","v":""},{"$f":"IFERROR(IF(ROUND($C1433,2)=ROUND($D1408,2),ROUND($E1408,2),ROUND($C1433,2)),\"\")","v":""},{"$f":"IFERROR(VLOOKUP($A1433,'Lista de Precios_USD$_Euro€'!$E:$O,11,FALSE),\"\")","v":""}]
[null,null,null,{"$f":"IFERROR(VLOOKUP($A1434,'Lista de Precios_Bolívares_S'!$F:$Q,6,FALSE),\"\")","v":""},{"$f":"IFERROR(VLOOKUP($A1434,'Lista de Precios_Bolívares_S'!$F:$Q,12,FALSE),\"\")","v":""},"",{"$f":"IFERROR(VLOOKUP($A1434,'Lista de Precios_USD$_Euro€'!$E:$O,11,FALSE),\"\")","v":""}]
[null,null,null,{"$f":"IFERROR(VLOOKUP($A1435,'Lista de Precios_Bolívares_S'!$F:$Q,6,FALSE),\"\")","v":""},{"$f":"IFERROR(VLOOKUP($A1435,'Lista de Precios_Bolívares_S'!$F:$Q,12,FALSE),\"\")","v":""},"",{"$f":"IFERROR(VLOOKUP($A1435,'Lista de Precios_USD$_Euro€'!$E:$O,11,FALSE),\"\")","v":""}]
[null,null,null,{"$f":"IFERROR(VLOOKUP($A1436,'Lista de Precios_Bolívares_S'!$F:$Q,6,FALSE),\"\")","v":""},{"$f":"IFERROR(VLOOKUP($A1436,'Lista de Precios_Bolívares_S'!$F:$Q,12,FALSE),\"\")","v":""},"",{"$f":"IFERROR(VLOOKUP($A1436,'Lista de Precios_USD$_Euro€'!$E:$O,11,FALSE),\"\")","v":""}]
[null,null,null,{"$f":"IFERROR(VLOOKUP($A1437,'Lista de Precios_Bolívares_S'!$F:$Q,6,FALSE),\"\")","v":""},{"$f":"IFERROR(VLOOKUP($A1437,'Lista de Precios_Bolívares_S'!$F:$Q,12,FALSE),\"\")","v":""},"",{"$f":"IFERROR(VLOOKUP($A1437,'Lista de Precios_USD$_Euro€'!$E:$O,11,FALSE),\"\")","v":""}]
[null,null,null,{"$f":"IFERROR(VLOOKUP($A1438,'Lista de Precios_Bolívares_S'!$F:$Q,6,FALSE),\"\")","v":""},{"$f":"IFERROR(VLOOKUP($A1438,'Lista de Precios_Bolívares_S'!$F:$Q,12,FALSE),\"\")","v":""},"",{"$f":"IFERROR(VLOOKUP($A1438,'Lista de Precios_USD$_Euro€'!$E:$O,11,FALSE),\"\")","v":""}]
[null,null,null,{"$f":"IFERROR(VLOOKUP($A1439,'Lista de Precios_Bolívares_S'!$F:$Q,6,FALSE),\"\")","v":""},{"$f":"IFERROR(VLOOKUP($A1439,'Lista de Precios_Bolívares_S'!$F:$Q,12,FALSE),\"\")","v":""},"",{"$f":"IFERROR(VLOOKUP($A1439,'Lista de Precios_USD$_Euro€'!$E:$O,11,FALSE),\"\")","v":""}]
[null,null,null,{"$f":"IFERROR(VLOOKUP($A1440,'Lista de Precios_Bolívares_S'!$F:$Q,6,FALSE),\"\")","v":""},{"$f":"IFERROR(VLOOKUP($A1440,'Lista de Precios_Bolívares_S'!$F:$Q,12,FALSE),\"\")","v":""},"",{"$f":"IFERROR(VLOOKUP($A1440,'Lista de Precios_USD$_Euro€'!$E:$O,11,FALSE),\"\")","v":""}]
[null,null,null,{"$f":"IFERROR(VLOOKUP($A1441,'Lista de Precios_Bolívares_S'!$F:$Q,6,FALSE),\"\")","v":""},{"$f":"IFERROR(VLOOKUP($A1441,'Lista de Precios_Bolívares_S'!$F:$Q,12,FALSE),\"\")","v":""},"",{"$f":"IFERROR(VLOOKUP($A1441,'Lista de Precios_USD$_Euro€'!$E:$O,11,FALSE),\"\")","v":""}]
[null,null,null,{"$f":"IFERROR(VLOOKUP($A1442,'Lista de Precios_Bolívares_S'!$F:$Q,6,FALSE),\"\")","v":""},{"$f":"IFERROR(VLOOKUP($A1442,'Lista de Precios_Bolívares_S'!$F:$Q,12,FALSE),\"\")","v":""},"",{"$f":"IFERROR(VLOOKUP($A1442,'Lista de Precios_USD$_Euro€'!$E:$O,11,FALSE),\"\")","v":""}]
[null,null,null,{"$f":"IFERROR(VLOOKUP($A1443,'Lista de Precios_Bolívares_S'!$F:$Q,6,FALSE),\"\")","v":""},{"$f":"IFERROR(VLOOKUP($A1443,'Lista de Precios_Bolívares_S'!$F:$Q,12,FALSE),\"\")","v":""},"",{"$f":"IFERROR(VLOOKUP($A1443,'Lista de Precios_USD$_Euro€'!$E:$O,11,FALSE),\"\")","v":""}]
[null,null,null,{"$f":"IFERROR(VLOOKUP($A1444,'Lista de Precios_Bolívares_S'!$F:$Q,6,FALSE),\"\")","v":""},{"$f":"IFERROR(VLOOKUP($A1444,'Lista de Precios_Bolívares_S'!$F:$Q,12,FALSE),\"\")","v":""},"",{"$f":"IFERROR(VLOOKUP($A1444,'Lista de Precios_USD$_Euro€'!$E:$O,11,FALSE),\"\")","v":""}]
[null,null,null,{"$f":"IFERROR(VLOOKUP($A1445,'Lista de Precios_Bolívares_S'!$F:$Q,6,FALSE),\"\")","v":""},{"$f":"IFERROR(VLOOKUP($A1445,'Lista de Precios_Bolívares_S'!$F:$Q,12,FALSE),\"\")","v":""},"",{"$f":"IFERROR(VLOOKUP($A1445,'Lista de Precios_USD$_Euro€'!$E:$O,11,FALSE),\"\")","v":""}]
[null,null,null,{"$f":"IFERROR(VLOOKUP($A1446,'Lista de Precios_Bolívares_S'!$F:$Q,6,FALSE),\"\")","v":""},{"$f":"IFERROR(VLOOKUP($A1446,'Lista de Precios_Bolívares_S'!$F:$Q,12,FALSE),\"\")","v":""},"",{"$f":"IFERROR(VLOOKUP($A1446,'Lista de Precios_USD$_Euro€'!$E:$O,11,FALSE),\"\")","v":""}]
[null,null,null,{"$f":"IFERROR(VLOOKUP($A1447,'Lista de Precios_Bolívares_S'!$F:$Q,6,FALSE),\"\")","v":""},{"$f":"IFERROR(VLOOKUP($A1447,'Lista de Precios_Bolívares_S'!$F:$Q,12,FALSE),\"\")","v":""},"",{"$f":"IFERROR(VLOOKUP($A1447,'Lista de Precios_USD$_Euro€'!$E:$O,11,FALSE),\"\")","v":""}]
[null,null,null,{"$f":"IFERROR(VLOOKUP($A1448,'Lista de Precios_Bolívares_S'!$F:$Q,6,FALSE),\"\")","v":""},{"$f":"IFERROR(VLOOKUP($A1448,'Lista de Precios_Bolívares_S'!$F:$Q,12,FALSE),\"\")","v":""},"",{"$f":"IFERROR(VLOOKUP($A1448,'Lista de Precios_USD$_Euro€'!$E:$O,11,FALSE),\"\")","v":""}]
[null,null,null,{"$f":"IFERROR(VLOOKUP($A1449,'Lista de Precios_Bolívares_S'!$F:$Q,6,FALSE),\"\")","v":""},{"$f":"IFERROR(VLOOKUP($A1449,'Lista de Precios_Bolívares_S'!$F:$Q,12,FALSE),\"\")","v":""},"",{"$f":"IFERROR(VLOOKUP($A1449,'Lista de Precios_USD$_Euro€'!$E:$O,11,FALSE),\"\")","v":""}]
[null,null,null,{"$f":"IFERROR(VLOOKUP($A1450,'Lista de Precios_Bolívares_S'!$F:$Q,6,FALSE),\"\")","v":""},{"$f":"IFERROR(VLOOKUP($A1450,'Lista de Precios_Bolívares_S'!$F:$Q,12,FALSE),\"\")","v":""},"",{"$f":"IFERROR(VLOOKUP($A1450,'Lista de Precios_USD$_Euro€'!$E:$O,11,FALSE),\"\")","v":""}]
[null,null,null,{"$f":"IFERROR(VLOOKUP($A1451,'Lista de Precios_Bolívares_S'!$F:$Q,6,FALSE),\"\")","v":""},{"$f":"IFERROR(VLOOKUP($A1451,'Lista de Precios_Bolívares_S'!$F:$Q,12,FALSE),\"\")","v":""},"",{"$f":"IFERROR(VLOOKUP($A1451,'Lista de Precios_USD$_Euro€'!$E:$O,11,FALSE),\"\")","v":""}]
[null,null,null,{"$f":"IFERROR(VLOOKUP($A1452,'Lista de Precios_Bolívares_S'!$F:$Q,6,FALSE),\"\")","v":""},{"$f":"IFERROR(VLOOKUP($A1452,'Lista de Precios_Bolívares_S'!$F:$Q,12,FALSE),\"\")","v":""},"",{"$f":"IFERROR(VLOOKUP($A1452,'Lista de Precios_USD$_Euro€'!$E:$O,11,FALSE),\"\")","v":""}]
[null,null,null,{"$f":"IFERROR(VLOOKUP($A1453,'Lista de Precios_Bolívares_S'!$F:$Q,6,FALSE),\"\")","v":""},{"$f":"IFERROR(VLOOKUP($A1453,'Lista de Precios_Bolívares_S'!$F:$Q,12,FALSE),\"\")","v":""},"",{"$f":"IFERROR(VLOOKUP($A1453,'Lista de Precios_USD$_Euro€'!$E:$O,11,FALSE),\"\")","v":""}]
[null,null,null,{"$f":"IFERROR(VLOOKUP($A1454,'Lista de Precios_Bolívares_S'!$F:$Q,6,FALSE),\"\")","v":""},{"$f":"IFERROR(VLOOKUP($A1454,'Lista de Precios_Bolívares_S'!$F:$Q,12,FALSE),\"\")","v":""},"",{"$f":"IFERROR(VLOOKUP($A1454,'Lista de Precios_USD$_Euro€'!$E:$O,11,FALSE),\"\")","v":""}]
[null,null,null,{"$f":"IFERROR(VLOOKUP($A1455,'Lista de Precios_Bolívares_S'!$F:$Q,6,FALSE),\"\")","v":""},{"$f":"IFERROR(VLOOKUP($A1455,'Lista de Precios_Bolívares_S'!$F:$Q,12,FALSE),\"\")","v":""},"",{"$f":"IFERROR(VLOOKUP($A1455,'Lista de Precios_USD$_Euro€'!$E:$O,11,FALSE),\"\")","v":""}]
[null,null,null,{"$f":"IFERROR(VLOOKUP($A1456,'Lista de Precios_Bolívares_S'!$F:$Q,6,FALSE),\"\")","v":""},{"$f":"IFERROR(VLOOKUP($A1456,'Lista de Precios_Bolívares_S'!$F:$Q,12,FALSE),\"\")","v":""},"",{"$f":"IFERROR(VLOOKUP($A1456,'Lista de Precios_USD$_Euro€'!$E:$O,11,FALSE),\"\")","v":""}]
[null,null,null,{"$f":"IFERROR(VLOOKUP($A1457,'Lista de Precios_Bolívares_S'!$F:$Q,6,FALSE),\"\")","v":""},{"$f":"IFERROR(VLOOKUP($A1457,'Lista de Precios_Bolívares_S'!$F:$Q,12,FALSE),\"\")","v":""},"",{"$f":"IFERROR(VLOOKUP($A1457,'Lista de Precios_USD$_Euro€'!$E:$O,11,FALSE),\"\")","v":""}]
[null,null,null,{"$f":"IFERROR(VLOOKUP($A1458,'Lista de Precios_Bolívares_S'!$F:$Q,6,FALSE),\"\")","v":""},{"$f":"IFERROR(VLOOKUP($A1458,'Lista de Precios_Bolívares_S'!$F:$Q,12,FALSE),\"\")","v":""},"",{"$f":"IFERROR(VLOOKUP($A1458,'Lista de Precios_USD$_Euro€'!$E:$O,11,FALSE),\"\")","v":""}]
[null,null,null,{"$f":"IFERROR(VLOOKUP($A1459,'Lista de Precios_Bolívares_S'!$F:$Q,6,FALSE),\"\")","v":""},{"$f":"IFERROR(VLOOKUP($A1459,'Lista de Precios_Bolívares_S'!$F:$Q,12,FALSE),\"\")","v":""},"",{"$f":"IFERROR(VLOOKUP($A1459,'Lista de Precios_USD$_Euro€'!$E:$O,11,FALSE),\"\")","v":""}]
[null,null,null,{"$f":"IFERROR(VLOOKUP($A1460,'Lista de Precios_Bolívares_S'!$F:$Q,6,FALSE),\"\")","v":""},{"$f":"IFERROR(VLOOKUP($A1460,'Lista de Precios_Bolívares_S'!$F:$Q,12,FALSE),\"\")","v":""},"",{"$f":"IFERROR(VLOOKUP($A1460,'Lista de Precios_USD$_Euro€'!$E:$O,11,FALSE),\"\")","v":""}]
[null,null,null,{"$f":"IFERROR(VLOOKUP($A1461,'Lista de Precios_Bolívares_S'!$F:$Q,6,FALSE),\"\")","v":""},{"$f":"IFERROR(VLOOKUP($A1461,'Lista de Precios_Bolívares_S'!$F:$Q,12,FALSE),\"\")","v":""},"",{"$f":"IFERROR(VLOOKUP($A1461,'Lista de Precios_USD$_Euro€'!$E:$O,11,FALSE),\"\")","v":""}]
[null,null,null,{"$f":"IFERROR(VLOOKUP($A1462,'Lista de Precios_Bolívares_S'!$F:$Q,6,FALSE),\"\")","v":""},{"$f":"IFERROR(VLOOKUP($A1462,'Lista de Precios_Bolívares_S'!$F:$Q,12,FALSE),\"\")","v":""},"",{"$f":"IFERROR(VLOOKUP($A1462,'Lista de Precios_USD$_Euro€'!$E:$O,11,FALSE),\"\")","v":""}]
[null,null,null,{"$f":"IFERROR(VLOOKUP($A1463,'Lista de Precios_Bolívares_S'!$F:$Q,6,FALSE),\"\")","v":""},{"$f":"IFERROR(VLOOKUP($A1463,'Lista de Precios_Bolívares_S'!$F:$Q,12,FALSE),\"\")","v":""},"",{"$f":"IFERROR(VLOOKUP($A1463,'Lista de Precios_USD$_Euro€'!$E:$O,11,FALSE),\"\")","v":""}]
[null,null,null,{"$f":"IFERROR(VLOOKUP($A1464,'Lista de Precios_Bolívares_S'!$F:$Q,6,FALSE),\"\")","v":""},{"$f":"IFERROR(VLOOKUP($A1464,'Lista de Precios_Bolívares_S'!$F:$Q,12,FALSE),\"\")","v":""},"",{"$f":"IFERROR(VLOOKUP($A1464,'Lista de Precios_USD$_Euro€'!$E:$O,11,FALSE),\"\")","v":""}]
[null,null,null,{"$f":"IFERROR(VLOOKUP($A1465,'Lista de Precios_Bolívares_S'!$F:$Q,6,FALSE),\"\")","v":""},{"$f":"IFERROR(VLOOKUP($A1465,'Lista de Precios_Bolívares_S'!$F:$Q,12,FALSE),\"\")","v":""},"",{"$f":"IFERROR(VLOOKUP($A1465,'Lista de Precios_USD$_Euro€'!$E:$O,11,FALSE),\"\")","v":""}]
[null,null,null,{"$f":"IFERROR(VLOOKUP($A1466,'Lista de Precios_Bolívares_S'!$F:$Q,6,FALSE),\"\")","v":""},{"$f":"IFERROR(VLOOKUP($A1466,'Lista de Precios_Bolívares_S'!$F:$Q,12,FALSE),\"\")","v":""},"",{"$f":"IFERROR(VLOOKUP($A1466,'Lista de Precios_USD$_Euro€'!$E:$O,11,FALSE),\"\")","v":""}]
[null,null,null,{"$f":"IFERROR(VLOOKUP($A1467,'Lista de Precios_Bolívares_S'!$F:$Q,6,FALSE),\"\")","v":""},{"$f":"IFERROR(VLOOKUP($A1467,'Lista de Precios_Bolívares_S'!$F:$Q,12,FALSE),\"\")","v":""},"",{"$f":"IFERROR(VLOOKUP($A1467,'Lista de Precios_USD$_Euro€'!$E:$O,11,FALSE),\"\")","v":""}]
[null,null,null,{"$f":"IFERROR(VLOOKUP($A1468,'Lista de Precios_Bolívares_S'!$F:$Q,6,FALSE),\"\")","v":""},{"$f":"IFERROR(VLOOKUP($A1468,'Lista de Precios_Bolívares_S'!$F:$Q,12,FALSE),\"\")","v":""},"",{"$f":"IFERROR(VLOOKUP($A1468,'Lista de Precios_USD$_Euro€'!$E:$O,11,FALSE),\"\")","v":""}]
[null,null,null,{"$f":"IFERROR(VLOOKUP($A1469,'Lista de Precios_Bolívares_S'!$F:$Q,6,FALSE),\"\")","v":""},{"$f":"IFERROR(VLOOKUP($A1469,'Lista de Precios_Bolívares_S'!$F:$Q,12,FALSE),\"\")","v":""},"",{"$f":"IFERROR(VLOOKUP($A1469,'Lista de Precios_USD$_Euro€'!$E:$O,11,FALSE),\"\")","v":""}]
[null,null,null,{"$f":"IFERROR(VLOOKUP($A1470,'Lista de Precios_Bolívares_S'!$F:$Q,6,FALSE),\"\")","v":""},{"$f":"IFERROR(VLOOKUP($A1470,'Lista de Precios_Bolívares_S'!$F:$Q,12,FALSE),\"\")","v":""},"",{"$f":"IFERROR(VLOOKUP($A1470,'Lista de Precios_USD$_Euro€'!$E:$O,11,FALSE),\"\")","v":""}]
[null,null,null,{"$f":"IFERROR(VLOOKUP($A1471,'Lista de Precios_Bolívares_S'!$F:$Q,6,FALSE),\"\")","v":""},{"$f":"IFERROR(VLOOKUP($A1471,'Lista de Precios_Bolívares_S'!$F:$Q,12,FALSE),\"\")","v":""},"",{"$f":"IFERROR(VLOOKUP($A1471,'Lista de Precios_USD$_Euro€'!$E:$O,11,FALSE),\"\")","v":""}]
[null,null,null,{"$f":"IFERROR(VLOOKUP($A1472,'Lista de Precios_Bolívares_S'!$F:$Q,6,FALSE),\"\")","v":""},{"$f":"IFERROR(VLOOKUP($A1472,'Lista de Precios_Bolívares_S'!$F:$Q,12,FALSE),\"\")","v":""},"",{"$f":"IFERROR(VLOOKUP($A1472,'Lista de Precios_USD$_Euro€'!$E:$O,11,FALSE),\"\")","v":""}]
[null,null,null,{"$f":"IFERROR(VLOOKUP($A1473,'Lista de Precios_Bolívares_S'!$F:$Q,6,FALSE),\"\")","v":""},{"$f":"IFERROR(VLOOKUP($A1473,'Lista de Precios_Bolívares_S'!$F:$Q,12,FALSE),\"\")","v":""},"",{"$f":"IFERROR(VLOOKUP($A1473,'Lista de Precios_USD$_Euro€'!$E:$O,11,FALSE),\"\")","v":""}]
[null,null,null,{"$f":"IFERROR(VLOOKUP($A1474,'Lista de Precios_Bolívares_S'!$F:$Q,6,FALSE),\"\")","v":""},{"$f":"IFERROR(VLOOKUP($A1474,'Lista de Precios_Bolívares_S'!$F:$Q,12,FALSE),\"\")","v":""},"",{"$f":"IFERROR(VLOOKUP($A1474,'Lista de Precios_USD$_Euro€'!$E:$O,11,FALSE),\"\")","v":""}]
[null,null,null,{"$f":"IFERROR(VLOOKUP($A1475,'Lista de Precios_Bolívares_S'!$F:$Q,6,FALSE),\"\")","v":""},{"$f":"IFERROR(VLOOKUP($A1475,'Lista de Precios_Bolívares_S'!$F:$Q,12,FALSE),\"\")","v":""},"",{"$f":"IFERROR(VLOOKUP($A1475,'Lista de Precios_USD$_Euro€'!$E:$O,11,FALSE),\"\")","v":""}]
[null,null,null,{"$f":"IFERROR(VLOOKUP($A1476,'Lista de Precios_Bolívares_S'!$F:$Q,6,FALSE),\"\")","v":""},{"$f":"IFERROR(VLOOKUP($A1476,'Lista de Precios_Bolívares_S'!$F:$Q,12,FALSE),\"\")","v":""},"",{"$f":"IFERROR(VLOOKUP($A1476,'Lista de Precios_USD$_Euro€'!$E:$O,11,FALSE),\"\")","v":""}]
[null,null,null,{"$f":"IFERROR(VLOOKUP($A1477,'Lista de Precios_Bolívares_S'!$F:$Q,6,FALSE),\"\")","v":""},{"$f":"IFERROR(VLOOKUP($A1477,'Lista de Precios_Bolívares_S'!$F:$Q,12,FALSE),\"\")","v":""},"",{"$f":"IFERROR(VLOOKUP($A1477,'Lista de Precios_USD$_Euro€'!$E:$O,11,FALSE),\"\")","v":""}]
[null,null,null,{"$f":"IFERROR(VLOOKUP($A1478,'Lista de Precios_Bolívares_S'!$F:$Q,6,FALSE),\"\")","v":""},{"$f":"IFERROR(VLOOKUP($A1478,'Lista de Precios_Bolívares_S'!$F:$Q,12,FALSE),\"\")","v":""},"",{"$f":"IFERROR(VLOOKUP($A1478,'Lista de Precios_USD$_Euro€'!$E:$O,11,FALSE),\"\")","v":""}]
[null,null,null,{"$f":"IFERROR(VLOOKUP($A1479,'Lista de Precios_Bolívares_S'!$F:$Q,6,FALSE),\"\")","v":""},{"$f":"IFERROR(VLOOKUP($A1479,'Lista de Precios_Bolívares_S'!$F:$Q,12,FALSE),\"\")","v":""},"",{"$f":"IFERROR(VLOOKUP($A1479,'Lista de Precios_USD$_Euro€'!$E:$O,11,FALSE),\"\")","v":""}]
[null,null,null,{"$f":"IFERROR(VLOOKUP($A1480,'Lista de Precios_Bolívares_S'!$F:$Q,6,FALSE),\"\")","v":""},{"$f":"IFERROR(VLOOKUP($A1480,'Lista de Precios_Bolívares_S'!$F:$Q,12,FALSE),\"\")","v":""},"",{"$f":"IFERROR(VLOOKUP($A1480,'Lista de Precios_USD$_Euro€'!$E:$O,11,FALSE),\"\")","v":""}]
[null,null,null,{"$f":"IFERROR(VLOOKUP($A1481,'Lista de Precios_Bolívares_S'!$F:$Q,6,FALSE),\"\")","v":""},{"$f":"IFERROR(VLOOKUP($A1481,'Lista de Precios_Bolívares_S'!$F:$Q,12,FALSE),\"\")","v":""},"",{"$f":"IFERROR(VLOOKUP($A1481,'Lista de Precios_USD$_Euro€'!$E:$O,11,FALSE),\"\")","v":""}]
[null,null,null,{"$f":"IFERROR(VLOOKUP($A1482,'Lista de Precios_Bolívares_S'!$F:$Q,6,FALSE),\"\")","v":""},{"$f":"IFERROR(VLOOKUP($A1482,'Lista de Precios_Bolívares_S'!$F:$Q,12,FALSE),\"\")","v":""},"",{"$f":"IFERROR(VLOOKUP($A1482,'Lista de Precios_USD$_Euro€'!$E:$O,11,FALSE),\"\")","v":""}]
[null,null,null,{"$f":"IFERROR(VLOOKUP($A1483,'Lista de Precios_Bolívares_S'!$F:$Q,6,FALSE),\"\")","v":""},{"$f":"IFERROR(VLOOKUP($A1483,'Lista de Precios_Bolívares_S'!$F:$Q,12,FALSE),\"\")","v":""},"",{"$f":"IFERROR(VLOOKUP($A1483,'Lista de Precios_USD$_Euro€'!$E:$O,11,FALSE),\"\")","v":""}]
[null,null,null,{"$f":"IFERROR(VLOOKUP($A1484,'Lista de Precios_Bolívares_S'!$F:$Q,6,FALSE),\"\")","v":""},{"$f":"IFERROR(VLOOKUP($A1484,'Lista de Precios_Bolívares_S'!$F:$Q,12,FALSE),\"\")","v":""},"",{"$f":"IFERROR(VLOOKUP($A1484,'Lista de Precios_USD$_Euro€'!$E:$O,11,FALSE),\"\")","v":""}]
[null,null,null,{"$f":"IFERROR(VLOOKUP($A1485,'Lista de Precios_Bolívares_S'!$F:$Q,6,FALSE),\"\")","v":""},{"$f":"IFERROR(VLOOKUP($A1485,'Lista de Precios_Bolívares_S'!$F:$Q,12,FALSE),\"\")","v":""},"",{"$f":"IFERROR(VLOOKUP($A1485,'Lista de Precios_USD$_Euro€'!$E:$O,11,FALSE),\"\")","v":""}]
[null,null,null,{"$f":"IFERROR(VLOOKUP($A1486,'Lista de Precios_Bolívares_S'!$F:$Q,6,FALSE),\"\")","v":""},{"$f":"IFERROR(VLOOKUP($A1486,'Lista de Precios_Bolívares_S'!$F:$Q,12,FALSE),\"\")","v":""},"",{"$f":"IFERROR(VLOOKUP($A1486,'Lista de Precios_USD$_Euro€'!$E:$O,11,FALSE),\"\")","v":""}]
[null,null,null,{"$f":"IFERROR(VLOOKUP($A1487,'Lista de Precios_Bolívares_S'!$F:$Q,6,FALSE),\"\")","v":""},{"$f":"IFERROR(VLOOKUP($A1487,'Lista de Precios_Bolívares_S'!$F:$Q,12,FALSE),\"\")","v":""},"",{"$f":"IFERROR(VLOOKUP($A1487,'Lista de Precios_USD$_Euro€'!$E:$O,11,FALSE),\"\")","v":""}]
[null,null,null,{"$f":"IFERROR(VLOOKUP($A1488,'Lista de Precios_Bolívares_S'!$F:$Q,6,FALSE),\"\")","v":""},{"$f":"IFERROR(VLOOKUP($A1488,'Lista de Precios_Bolívares_S'!$F:$Q,12,FALSE),\"\")","v":""},"",{"$f":"IFERROR(VLOOKUP($A1488,'Lista de Precios_USD$_Euro€'!$E:$O,11,FALSE),\"\")","v":""}]
[null,null,null,{"$f":"IFERROR(VLOOKUP($A1489,'Lista de Precios_Bolívares_S'!$F:$Q,6,FALSE),\"\")","v":""},{"$f":"IFERROR(VLOOKUP($A1489,'Lista de Precios_Bolívares_S'!$F:$Q,12,FALSE),\"\")","v":""},"",{"$f":"IFERROR(VLOOKUP($A1489,'Lista de Precios_USD$_Euro€'!$E:$O,11,FALSE),\"\")","v":""}]
[null,null,null,{"$f":"IFERROR(VLOOKUP($A1490,'Lista de Precios_Bolívares_S'!$F:$Q,6,FALSE),\"\")","v":""},{"$f":"IFERROR(VLOOKUP($A1490,'Lista de Precios_Bolívares_S'!$F:$Q,12,FALSE),\"\")","v":""},"",{"$f":"IFERROR(VLOOKUP($A1490,'Lista de Precios_USD$_Euro€'!$E:$O,11,FALSE),\"\")","v":""}]
[null,null,null,{"$f":"IFERROR(VLOOKUP($A1491,'Lista de Precios_Bolívares_S'!$F:$Q,6,FALSE),\"\")","v":""},{"$f":"IFERROR(VLOOKUP($A1491,'Lista de Precios_Bolívares_S'!$F:$Q,12,FALSE),\"\")","v":""},"",{"$f":"IFERROR(VLOOKUP($A1491,'Lista de Precios_USD$_Euro€'!$E:$O,11,FALSE),\"\")","v":""}]
[null,null,null,{"$f":"IFERROR(VLOOKUP($A1492,'Lista de Precios_Bolívares_S'!$F:$Q,6,FALSE),\"\")","v":""},{"$f":"IFERROR(VLOOKUP($A1492,'Lista de Precios_Bolívares_S'!$F:$Q,12,FALSE),\"\")","v":""},"",{"$f":"IFERROR(VLOOKUP($A1492,'Lista de Precios_USD$_Euro€'!$E:$O,11,FALSE),\"\")","v":""}]
[null,null,null,{"$f":"IFERROR(VLOOKUP($A1493,'Lista de Precios_Bolívares_S'!$F:$Q,6,FALSE),\"\")","v":""},{"$f":"IFERROR(VLOOKUP($A1493,'Lista de Precios_Bolívares_S'!$F:$Q,12,FALSE),\"\")","v":""},"",{"$f":"IFERROR(VLOOKUP($A1493,'Lista de Precios_USD$_Euro€'!$E:$O,11,FALSE),\"\")","v":""}]
[null,null,null,{"$f":"IFERROR(VLOOKUP($A1494,'Lista de Precios_Bolívares_S'!$F:$Q,6,FALSE),\"\")","v":""},{"$f":"IFERROR(VLOOKUP($A1494,'Lista de Precios_Bolívares_S'!$F:$Q,12,FALSE),\"\")","v":""},"",{"$f":"IFERROR(VLOOKUP($A1494,'Lista de Precios_USD$_Euro€'!$E:$O,11,FALSE),\"\")","v":""}]
[null,null,null,{"$f":"IFERROR(VLOOKUP($A1495,'Lista de Precios_Bolívares_S'!$F:$Q,6,FALSE),\"\")","v":""},{"$f":"IFERROR(VLOOKUP($A1495,'Lista de Precios_Bolívares_S'!$F:$Q,12,FALSE),\"\")","v":""},"",{"$f":"IFERROR(VLOOKUP($A1495,'Lista de Precios_USD$_Euro€'!$E:$O,11,FALSE),\"\")","v":""}]
[null,null,null,{"$f":"IFERROR(VLOOKUP($A1496,'Lista de Precios_Bolívares_S'!$F:$Q,6,FALSE),\"\")","v":""},{"$f":"IFERROR(VLOOKUP($A1496,'Lista de Precios_Bolívares_S'!$F:$Q,12,FALSE),\"\")","v":""},"",{"$f":"IFERROR(VLOOKUP($A1496,'Lista de Precios_USD$_Euro€'!$E:$O,11,FALSE),\"\")","v":""}]
[null,null,null,{"$f":"IFERROR(VLOOKUP($A1497,'Lista de Precios_Bolívares_S'!$F:$Q,6,FALSE),\"\")","v":""},{"$f":"IFERROR(VLOOKUP($A1497,'Lista de Precios_Bolívares_S'!$F:$Q,12,FALSE),\"\")","v":""},{"$f":"IFERROR(IF(ROUND($C1497,2)=ROUND($D1472,2),ROUND($E1472,2),ROUND($C1497,2)),\"\")","v":""},{"$f":"IFERROR(VLOOKUP($A1497,'Lista de Precios_USD$_Euro€'!$E:$O,11,FALSE),\"\")","v":""}]
[null,null,null,{"$f":"IFERROR(VLOOKUP($A1498,'Lista de Precios_Bolívares_S'!$F:$Q,6,FALSE),\"\")","v":""},{"$f":"IFERROR(VLOOKUP($A1498,'Lista de Precios_Bolívares_S'!$F:$Q,12,FALSE),\"\")","v":""},"",{"$f":"IFERROR(VLOOKUP($A1498,'Lista de Precios_USD$_Euro€'!$E:$O,11,FALSE),\"\")","v":""}]
[null,null,null,{"$f":"IFERROR(VLOOKUP($A1499,'Lista de Precios_Bolívares_S'!$F:$Q,6,FALSE),\"\")","v":""},{"$f":"IFERROR(VLOOKUP($A1499,'Lista de Precios_Bolívares_S'!$F:$Q,12,FALSE),\"\")","v":""},"",{"$f":"IFERROR(VLOOKUP($A1499,'Lista de Precios_USD$_Euro€'!$E:$O,11,FALSE),\"\")","v":""}]
[null,null,null,{"$f":"IFERROR(VLOOKUP($A1500,'Lista de Precios_Bolívares_S'!$F:$Q,6,FALSE),\"\")","v":""},{"$f":"IFERROR(VLOOKUP($A1500,'Lista de Precios_Bolívares_S'!$F:$Q,12,FALSE),\"\")","v":""},"",{"$f":"IFERROR(VLOOKUP($A1500,'Lista de Precios_USD$_Euro€'!$E:$O,11,FALSE),\"\")","v":""}]
[null,null,null,{"$f":"IFERROR(VLOOKUP($A1501,'Lista de Precios_Bolívares_S'!$F:$Q,6,FALSE),\"\")","v":""},{"$f":"IFERROR(VLOOKUP($A1501,'Lista de Precios_Bolívares_S'!$F:$Q,12,FALSE),\"\")","v":""},"",{"$f":"IFERROR(VLOOKUP($A1501,'Lista de Precios_USD$_Euro€'!$E:$O,11,FALSE),\"\")","v":""}]
[null,null,null,{"$f":"IFERROR(VLOOKUP($A1502,'Lista de Precios_Bolívares_S'!$F:$Q,6,FALSE),\"\")","v":""},{"$f":"IFERROR(VLOOKUP($A1502,'Lista de Precios_Bolívares_S'!$F:$Q,12,FALSE),\"\")","v":""},"",{"$f":"IFERROR(VLOOKUP($A1502,'Lista de Precios_USD$_Euro€'!$E:$O,11,FALSE),\"\")","v":""}]
[null,null,null,{"$f":"IFERROR(VLOOKUP($A1503,'Lista de Precios_Bolívares_S'!$F:$Q,6,FALSE),\"\")","v":""},{"$f":"IFERROR(VLOOKUP($A1503,'Lista de Precios_Bolívares_S'!$F:$Q,12,FALSE),\"\")","v":""},"",{"$f":"IFERROR(VLOOKUP($A1503,'Lista de Precios_USD$_Euro€'!$E:$O,11,FALSE),\"\")","v":""}]
[null,null,null,{"$f":"IFERROR(VLOOKUP($A1504,'Lista de Precios_Bolívares_S'!$F:$Q,6,FALSE),\"\")","v":""},{"$f":"IFERROR(VLOOKUP($A1504,'Lista de Precios_Bolívares_S'!$F:$Q,12,FALSE),\"\")","v":""},"",{"$f":"IFERROR(VLOOKUP($A1504,'Lista de Precios_USD$_Euro€'!$E:$O,11,FALSE),\"\")","v":""}]
[null,null,null,{"$f":"IFERROR(VLOOKUP($A1505,'Lista de Precios_Bolívares_S'!$F:$Q,6,FALSE),\"\")","v":""},{"$f":"IFERROR(VLOOKUP($A1505,'Lista de Precios_Bolívares_S'!$F:$Q,12,FALSE),\"\")","v":""},"",{"$f":"IFERROR(VLOOKUP($A1505,'Lista de Precios_USD$_Euro€'!$E:$O,11,FALSE),\"\")","v":""}]
[null,null,null,{"$f":"IFERROR(VLOOKUP($A1506,'Lista de Precios_Bolívares_S'!$F:$Q,6,FALSE),\"\")","v":""},{"$f":"IFERROR(VLOOKUP($A1506,'Lista de Precios_Bolívares_S'!$F:$Q,12,FALSE),\"\")","v":""},"",{"$f":"IFERROR(VLOOKUP($A1506,'Lista de Precios_USD$_Euro€'!$E:$O,11,FALSE),\"\")","v":""}]
[null,null,null,{"$f":"IFERROR(VLOOKUP($A1507,'Lista de Precios_Bolívares_S'!$F:$Q,6,FALSE),\"\")","v":""},{"$f":"IFERROR(VLOOKUP($A1507,'Lista de Precios_Bolívares_S'!$F:$Q,12,FALSE),\"\")","v":""},"",{"$f":"IFERROR(VLOOKUP($A1507,'Lista de Precios_USD$_Euro€'!$E:$O,11,FALSE),\"\")","v":""}]
[null,null,null,{"$f":"IFERROR(VLOOKUP($A1508,'Lista de Precios_Bolívares_S'!$F:$Q,6,FALSE),\"\")","v":""},{"$f":"IFERROR(VLOOKUP($A1508,'Lista de Precios_Bolívares_S'!$F:$Q,12,FALSE),\"\")","v":""},"",{"$f":"IFERROR(VLOOKUP($A1508,'Lista de Precios_USD$_Euro€'!$E:$O,11,FALSE),\"\")","v":""}]
[null,null,null,{"$f":"IFERROR(VLOOKUP($A1509,'Lista de Precios_Bolívares_S'!$F:$Q,6,FALSE),\"\")","v":""},{"$f":"IFERROR(VLOOKUP($A1509,'Lista de Precios_Bolívares_S'!$F:$Q,12,FALSE),\"\")","v":""},"",{"$f":"IFERROR(VLOOKUP($A1509,'Lista de Precios_USD$_Euro€'!$E:$O,11,FALSE),\"\")","v":""}]
[null,null,null,{"$f":"IFERROR(VLOOKUP($A1510,'Lista de Precios_Bolívares_S'!$F:$Q,6,FALSE),\"\")","v":""},{"$f":"IFERROR(VLOOKUP($A1510,'Lista de Precios_Bolívares_S'!$F:$Q,12,FALSE),\"\")","v":""},"",{"$f":"IFERROR(VLOOKUP($A1510,'Lista de Precios_USD$_Euro€'!$E:$O,11,FALSE),\"\")","v":""}]
[null,null,null,{"$f":"IFERROR(VLOOKUP($A1511,'Lista de Precios_Bolívares_S'!$F:$Q,6,FALSE),\"\")","v":""},{"$f":"IFERROR(VLOOKUP($A1511,'Lista de Precios_Bolívares_S'!$F:$Q,12,FALSE),\"\")","v":""},"",{"$f":"IFERROR(VLOOKUP($A1511,'Lista de Precios_USD$_Euro€'!$E:$O,11,FALSE),\"\")","v":""}]
[null,null,null,{"$f":"IFERROR(VLOOKUP($A1512,'Lista de Precios_Bolívares_S'!$F:$Q,6,FALSE),\"\")","v":""},{"$f":"IFERROR(VLOOKUP($A1512,'Lista de Precios_Bolívares_S'!$F:$Q,12,FALSE),\"\")","v":""},"",{"$f":"IFERROR(VLOOKUP($A1512,'Lista de Precios_USD$_Euro€'!$E:$O,11,FALSE),\"\")","v":""}]
[null,null,null,{"$f":"IFERROR(VLOOKUP($A1513,'Lista de Precios_Bolívares_S'!$F:$Q,6,FALSE),\"\")","v":""},{"$f":"IFERROR(VLOOKUP($A1513,'Lista de Precios_Bolívares_S'!$F:$Q,12,FALSE),\"\")","v":""},"",{"$f":"IFERROR(VLOOKUP($A1513,'Lista de Precios_USD$_Euro€'!$E:$O,11,FALSE),\"\")","v":""}]
[null,null,null,{"$f":"IFERROR(VLOOKUP($A1514,'Lista de Precios_Bolívares_S'!$F:$Q,6,FALSE),\"\")","v":""},{"$f":"IFERROR(VLOOKUP($A1514,'Lista de Precios_Bolívares_S'!$F:$Q,12,FALSE),\"\")","v":""},"",{"$f":"IFERROR(VLOOKUP($A1514,'Lista de Precios_USD$_Euro€'!$E:$O,11,FALSE),\"\")","v":""}]
[null,null,null,{"$f":"IFERROR(VLOOKUP($A1515,'Lista de Precios_Bolívares_S'!$F:$Q,6,FALSE),\"\")","v":""},{"$f":"IFERROR(VLOOKUP($A1515,'Lista de Precios_Bolívares_S'!$F:$Q,12,FALSE),\"\")","v":""},"",{"$f":"IFERROR(VLOOKUP($A1515,'Lista de Precios_USD$_Euro€'!$E:$O,11,FALSE),\"\")","v":""}]
[null,null,null,{"$f":"IFERROR(VLOOKUP($A1516,'Lista de Precios_Bolívares_S'!$F:$Q,6,FALSE),\"\")","v":""},{"$f":"IFERROR(VLOOKUP($A1516,'Lista de Precios_Bolívares_S'!$F:$Q,12,FALSE),\"\")","v":""},"",{"$f":"IFERROR(VLOOKUP($A1516,'Lista de Precios_USD$_Euro€'!$E:$O,11,FALSE),\"\")","v":""}]
[null,null,null,{"$f":"IFERROR(VLOOKUP($A1517,'Lista de Precios_Bolívares_S'!$F:$Q,6,FALSE),\"\")","v":""},{"$f":"IFERROR(VLOOKUP($A1517,'Lista de Precios_Bolívares_S'!$F:$Q,12,FALSE),\"\")","v":""},"",{"$f":"IFERROR(VLOOKUP($A1517,'Lista de Precios_USD$_Euro€'!$E:$O,11,FALSE),\"\")","v":""}]
[null,null,null,{"$f":"IFERROR(VLOOKUP($A1518,'Lista de Precios_Bolívares_S'!$F:$Q,6,FALSE),\"\")","v":""},{"$f":"IFERROR(VLOOKUP($A1518,'Lista de Precios_Bolívares_S'!$F:$Q,12,FALSE),\"\")","v":""},"",{"$f":"IFERROR(VLOOKUP($A1518,'Lista de Precios_USD$_Euro€'!$E:$O,11,FALSE),\"\")","v":""}]
[null,null,null,{"$f":"IFERROR(VLOOKUP($A1519,'Lista de Precios_Bolívares_S'!$F:$Q,6,FALSE),\"\")","v":""},{"$f":"IFERROR(VLOOKUP($A1519,'Lista de Precios_Bolívares_S'!$F:$Q,12,FALSE),\"\")","v":""},"",{"$f":"IFERROR(VLOOKUP($A1519,'Lista de Precios_USD$_Euro€'!$E:$O,11,FALSE),\"\")","v":""}]
[null,null,null,{"$f":"IFERROR(VLOOKUP($A1520,'Lista de Precios_Bolívares_S'!$F:$Q,6,FALSE),\"\")","v":""},{"$f":"IFERROR(VLOOKUP($A1520,'Lista de Precios_Bolívares_S'!$F:$Q,12,FALSE),\"\")","v":""},"",{"$f":"IFERROR(VLOOKUP($A1520,'Lista de Precios_USD$_Euro€'!$E:$O,11,FALSE),\"\")","v":""}]
[null,null,null,{"$f":"IFERROR(VLOOKUP($A1521,'Lista de Precios_Bolívares_S'!$F:$Q,6,FALSE),\"\")","v":""},{"$f":"IFERROR(VLOOKUP($A1521,'Lista de Precios_Bolívares_S'!$F:$Q,12,FALSE),\"\")","v":""},"",{"$f":"IFERROR(VLOOKUP($A1521,'Lista de Precios_USD$_Euro€'!$E:$O,11,FALSE),\"\")","v":""}]
[null,null,null,{"$f":"IFERROR(VLOOKUP($A1522,'Lista de Precios_Bolívares_S'!$F:$Q,6,FALSE),\"\")","v":""},{"$f":"IFERROR(VLOOKUP($A1522,'Lista de Precios_Bolívares_S'!$F:$Q,12,FALSE),\"\")","v":""},"",{"$f":"IFERROR(VLOOKUP($A1522,'Lista de Precios_USD$_Euro€'!$E:$O,11,FALSE),\"\")","v":""}]
[null,null,null,{"$f":"IFERROR(VLOOKUP($A1523,'Lista de Precios_Bolívares_S'!$F:$Q,6,FALSE),\"\")","v":""},{"$f":"IFERROR(VLOOKUP($A1523,'Lista de Precios_Bolívares_S'!$F:$Q,12,FALSE),\"\")","v":""},"",{"$f":"IFERROR(VLOOKUP($A1523,'Lista de Precios_USD$_Euro€'!$E:$O,11,FALSE),\"\")","v":""}]
[null,null,null,{"$f":"IFERROR(VLOOKUP($A1524,'Lista de Precios_Bolívares_S'!$F:$Q,6,FALSE),\"\")","v":""},{"$f":"IFERROR(VLOOKUP($A1524,'Lista de Precios_Bolívares_S'!$F:$Q,12,FALSE),\"\")","v":""},"",{"$f":"IFERROR(VLOOKUP($A1524,'Lista de Precios_USD$_Euro€'!$E:$O,11,FALSE),\"\")","v":""}]
[null,null,null,{"$f":"IFERROR(VLOOKUP($A1525,'Lista de Precios_Bolívares_S'!$F:$Q,6,FALSE),\"\")","v":""},{"$f":"IFERROR(VLOOKUP($A1525,'Lista de Precios_Bolívares_S'!$F:$Q,12,FALSE),\"\")","v":""},"",{"$f":"IFERROR(VLOOKUP($A1525,'Lista de Precios_USD$_Euro€'!$E:$O,11,FALSE),\"\")","v":""}]
[null,null,null,{"$f":"IFERROR(VLOOKUP($A1526,'Lista de Precios_Bolívares_S'!$F:$Q,6,FALSE),\"\")","v":""},{"$f":"IFERROR(VLOOKUP($A1526,'Lista de Precios_Bolívares_S'!$F:$Q,12,FALSE),\"\")","v":""},"",{"$f":"IFERROR(VLOOKUP($A1526,'Lista de Precios_USD$_Euro€'!$E:$O,11,FALSE),\"\")","v":""}]
[null,null,null,{"$f":"IFERROR(VLOOKUP($A1527,'Lista de Precios_Bolívares_S'!$F:$Q,6,FALSE),\"\")","v":""},{"$f":"IFERROR(VLOOKUP($A1527,'Lista de Precios_Bolívares_S'!$F:$Q,12,FALSE),\"\")","v":""},"",{"$f":"IFERROR(VLOOKUP($A1527,'Lista de Precios_USD$_Euro€'!$E:$O,11,FALSE),\"\")","v":""}]
[null,null,null,{"$f":"IFERROR(VLOOKUP($A1528,'Lista de Precios_Bolívares_S'!$F:$Q,6,FALSE),\"\")","v":""},{"$f":"IFERROR(VLOOKUP($A1528,'Lista de Precios_Bolívares_S'!$F:$Q,12,FALSE),\"\")","v":""},"",{"$f":"IFERROR(VLOOKUP($A1528,'Lista de Precios_USD$_Euro€'!$E:$O,11,FALSE),\"\")","v":""}]
[null,null,null,{"$f":"IFERROR(VLOOKUP($A1529,'Lista de Precios_Bolívares_S'!$F:$Q,6,FALSE),\"\")","v":""},{"$f":"IFERROR(VLOOKUP($A1529,'Lista de Precios_Bolívares_S'!$F:$Q,12,FALSE),\"\")","v":""},"",{"$f":"IFERROR(VLOOKUP($A1529,'Lista de Precios_USD$_Euro€'!$E:$O,11,FALSE),\"\")","v":""}]
[null,null,null,{"$f":"IFERROR(VLOOKUP($A1530,'Lista de Precios_Bolívares_S'!$F:$Q,6,FALSE),\"\")","v":""},{"$f":"IFERROR(VLOOKUP($A1530,'Lista de Precios_Bolívares_S'!$F:$Q,12,FALSE),\"\")","v":""},"",{"$f":"IFERROR(VLOOKUP($A1530,'Lista de Precios_USD$_Euro€'!$E:$O,11,FALSE),\"\")","v":""}]
[null,null,null,{"$f":"IFERROR(VLOOKUP($A1531,'Lista de Precios_Bolívares_S'!$F:$Q,6,FALSE),\"\")","v":""},{"$f":"IFERROR(VLOOKUP($A1531,'Lista de Precios_Bolívares_S'!$F:$Q,12,FALSE),\"\")","v":""},"",{"$f":"IFERROR(VLOOKUP($A1531,'Lista de Precios_USD$_Euro€'!$E:$O,11,FALSE),\"\")","v":""}]
[null,null,null,{"$f":"IFERROR(VLOOKUP($A1532,'Lista de Precios_Bolívares_S'!$F:$Q,6,FALSE),\"\")","v":""},{"$f":"IFERROR(VLOOKUP($A1532,'Lista de Precios_Bolívares_S'!$F:$Q,12,FALSE),\"\")","v":""},"",{"$f":"IFERROR(VLOOKUP($A1532,'Lista de Precios_USD$_Euro€'!$E:$O,11,FALSE),\"\")","v":""}]
[null,null,null,{"$f":"IFERROR(VLOOKUP($A1533,'Lista de Precios_Bolívares_S'!$F:$Q,6,FALSE),\"\")","v":""},{"$f":"IFERROR(VLOOKUP($A1533,'Lista de Precios_Bolívares_S'!$F:$Q,12,FALSE),\"\")","v":""},"",{"$f":"IFERROR(VLOOKUP($A1533,'Lista de Precios_USD$_Euro€'!$E:$O,11,FALSE),\"\")","v":""}]
[null,null,null,{"$f":"IFERROR(VLOOKUP($A1534,'Lista de Precios_Bolívares_S'!$F:$Q,6,FALSE),\"\")","v":""},{"$f":"IFERROR(VLOOKUP($A1534,'Lista de Precios_Bolívares_S'!$F:$Q,12,FALSE),\"\")","v":""},"",{"$f":"IFERROR(VLOOKUP($A1534,'Lista de Precios_USD$_Euro€'!$E:$O,11,FALSE),\"\")","v":""}]
[null,null,null,{"$f":"IFERROR(VLOOKUP($A1535,'Lista de Precios_Bolívares_S'!$F:$Q,6,FALSE),\"\")","v":""},{"$f":"IFERROR(VLOOKUP($A1535,'Lista de Precios_Bolívares_S'!$F:$Q,12,FALSE),\"\")","v":""},"",{"$f":"IFERROR(VLOOKUP($A1535,'Lista de Precios_USD$_Euro€'!$E:$O,11,FALSE),\"\")","v":""}]
[null,null,null,{"$f":"IFERROR(VLOOKUP($A1536,'Lista de Precios_Bolívares_S'!$F:$Q,6,FALSE),\"\")","v":""},{"$f":"IFERROR(VLOOKUP($A1536,'Lista de Precios_Bolívares_S'!$F:$Q,12,FALSE),\"\")","v":""},"",{"$f":"IFERROR(VLOOKUP($A1536,'Lista de Precios_USD$_Euro€'!$E:$O,11,FALSE),\"\")","v":""}]
[null,null,null,{"$f":"IFERROR(VLOOKUP($A1537,'Lista de Precios_Bolívares_S'!$F:$Q,6,FALSE),\"\")","v":""},{"$f":"IFERROR(VLOOKUP($A1537,'Lista de Precios_Bolívares_S'!$F:$Q,12,FALSE),\"\")","v":""},"",{"$f":"IFERROR(VLOOKUP($A1537,'Lista de Precios_USD$_Euro€'!$E:$O,11,FALSE),\"\")","v":""}]
[null,null,null,{"$f":"IFERROR(VLOOKUP($A1538,'Lista de Precios_Bolívares_S'!$F:$Q,6,FALSE),\"\")","v":""},{"$f":"IFERROR(VLOOKUP($A1538,'Lista de Precios_Bolívares_S'!$F:$Q,12,FALSE),\"\")","v":""},"",{"$f":"IFERROR(VLOOKUP($A1538,'Lista de Precios_USD$_Euro€'!$E:$O,11,FALSE),\"\")","v":""}]
[null,null,null,{"$f":"IFERROR(VLOOKUP($A1539,'Lista de Precios_Bolívares_S'!$F:$Q,6,FALSE),\"\")","v":""},{"$f":"IFERROR(VLOOKUP($A1539,'Lista de Precios_Bolívares_S'!$F:$Q,12,FALSE),\"\")","v":""},"",{"$f":"IFERROR(VLOOKUP($A1539,'Lista de Precios_USD$_Euro€'!$E:$O,11,FALSE),\"\")","v":""}]
[null,null,null,{"$f":"IFERROR(VLOOKUP($A1540,'Lista de Precios_Bolívares_S'!$F:$Q,6,FALSE),\"\")","v":""},{"$f":"IFERROR(VLOOKUP($A1540,'Lista de Precios_Bolívares_S'!$F:$Q,12,FALSE),\"\")","v":""},"",{"$f":"IFERROR(VLOOKUP($A1540,'Lista de Precios_USD$_Euro€'!$E:$O,11,FALSE),\"\")","v":""}]
[null,null,null,{"$f":"IFERROR(VLOOKUP($A1541,'Lista de Precios_Bolívares_S'!$F:$Q,6,FALSE),\"\")","v":""},{"$f":"IFERROR(VLOOKUP($A1541,'Lista de Precios_Bolívares_S'!$F:$Q,12,FALSE),\"\")","v":""},"",{"$f":"IFERROR(VLOOKUP($A1541,'Lista de Precios_USD$_Euro€'!$E:$O,11,FALSE),\"\")","v":""}]
[null,null,null,{"$f":"IFERROR(VLOOKUP($A1542,'Lista de Precios_Bolívares_S'!$F:$Q,6,FALSE),\"\")","v":""},{"$f":"IFERROR(VLOOKUP($A1542,'Lista de Precios_Bolívares_S'!$F:$Q,12,FALSE),\"\")","v":""},"",{"$f":"IFERROR(VLOOKUP($A1542,'Lista de Precios_USD$_Euro€'!$E:$O,11,FALSE),\"\")","v":""}]
[null,null,null,{"$f":"IFERROR(VLOOKUP($A1543,'Lista de Precios_Bolívares_S'!$F:$Q,6,FALSE),\"\")","v":""},{"$f":"IFERROR(VLOOKUP($A1543,'Lista de Precios_Bolívares_S'!$F:$Q,12,FALSE),\"\")","v":""},"",{"$f":"IFERROR(VLOOKUP($A1543,'Lista de Precios_USD$_Euro€'!$E:$O,11,FALSE),\"\")","v":""}]
[null,null,null,{"$f":"IFERROR(VLOOKUP($A1544,'Lista de Precios_Bolívares_S'!$F:$Q,6,FALSE),\"\")","v":""},{"$f":"IFERROR(VLOOKUP($A1544,'Lista de Precios_Bolívares_S'!$F:$Q,12,FALSE),\"\")","v":""},"",{"$f":"IFERROR(VLOOKUP($A1544,'Lista de Precios_USD$_Euro€'!$E:$O,11,FALSE),\"\")","v":""}]
[null,null,null,{"$f":"IFERROR(VLOOKUP($A1545,'Lista de Precios_Bolívares_S'!$F:$Q,6,FALSE),\"\")","v":""},{"$f":"IFERROR(VLOOKUP($A1545,'Lista de Precios_Bolívares_S'!$F:$Q,12,FALSE),\"\")","v":""},"",{"$f":"IFERROR(VLOOKUP($A1545,'Lista de Precios_USD$_Euro€'!$E:$O,11,FALSE),\"\")","v":""}]
[null,null,null,{"$f":"IFERROR(VLOOKUP($A1546,'Lista de Precios_Bolívares_S'!$F:$Q,6,FALSE),\"\")","v":""},{"$f":"IFERROR(VLOOKUP($A1546,'Lista de Precios_Bolívares_S'!$F:$Q,12,FALSE),\"\")","v":""},"",{"$f":"IFERROR(VLOOKUP($A1546,'Lista de Precios_USD$_Euro€'!$E:$O,11,FALSE),\"\")","v":""}]
[null,null,null,{"$f":"IFERROR(VLOOKUP($A1547,'Lista de Precios_Bolívares_S'!$F:$Q,6,FALSE),\"\")","v":""},{"$f":"IFERROR(VLOOKUP($A1547,'Lista de Precios_Bolívares_S'!$F:$Q,12,FALSE),\"\")","v":""},"",{"$f":"IFERROR(VLOOKUP($A1547,'Lista de Precios_USD$_Euro€'!$E:$O,11,FALSE),\"\")","v":""}]
[null,null,null,{"$f":"IFERROR(VLOOKUP($A1548,'Lista de Precios_Bolívares_S'!$F:$Q,6,FALSE),\"\")","v":""},{"$f":"IFERROR(VLOOKUP($A1548,'Lista de Precios_Bolívares_S'!$F:$Q,12,FALSE),\"\")","v":""},"",{"$f":"IFERROR(VLOOKUP($A1548,'Lista de Precios_USD$_Euro€'!$E:$O,11,FALSE),\"\")","v":""}]
[null,null,null,{"$f":"IFERROR(VLOOKUP($A1549,'Lista de Precios_Bolívares_S'!$F:$Q,6,FALSE),\"\")","v":""},{"$f":"IFERROR(VLOOKUP($A1549,'Lista de Precios_Bolívares_S'!$F:$Q,12,FALSE),\"\")","v":""},"",{"$f":"IFERROR(VLOOKUP($A1549,'Lista de Precios_USD$_Euro€'!$E:$O,11,FALSE),\"\")","v":""}]
[null,null,null,{"$f":"IFERROR(VLOOKUP($A1550,'Lista de Precios_Bolívares_S'!$F:$Q,6,FALSE),\"\")","v":""},{"$f":"IFERROR(VLOOKUP($A1550,'Lista de Precios_Bolívares_S'!$F:$Q,12,FALSE),\"\")","v":""},"",{"$f":"IFERROR(VLOOKUP($A1550,'Lista de Precios_USD$_Euro€'!$E:$O,11,FALSE),\"\")","v":""}]
[null,null,null,{"$f":"IFERROR(VLOOKUP($A1551,'Lista de Precios_Bolívares_S'!$F:$Q,6,FALSE),\"\")","v":""},{"$f":"IFERROR(VLOOKUP($A1551,'Lista de Precios_Bolívares_S'!$F:$Q,12,FALSE),\"\")","v":""},"",{"$f":"IFERROR(VLOOKUP($A1551,'Lista de Precios_USD$_Euro€'!$E:$O,11,FALSE),\"\")","v":""}]
[null,null,null,{"$f":"IFERROR(VLOOKUP($A1552,'Lista de Precios_Bolívares_S'!$F:$Q,6,FALSE),\"\")","v":""},{"$f":"IFERROR(VLOOKUP($A1552,'Lista de Precios_Bolívares_S'!$F:$Q,12,FALSE),\"\")","v":""},"",{"$f":"IFERROR(VLOOKUP($A1552,'Lista de Precios_USD$_Euro€'!$E:$O,11,FALSE),\"\")","v":""}]
[null,null,null,{"$f":"IFERROR(VLOOKUP($A1553,'Lista de Precios_Bolívares_S'!$F:$Q,6,FALSE),\"\")","v":""},{"$f":"IFERROR(VLOOKUP($A1553,'Lista de Precios_Bolívares_S'!$F:$Q,12,FALSE),\"\")","v":""},"",{"$f":"IFERROR(VLOOKUP($A1553,'Lista de Precios_USD$_Euro€'!$E:$O,11,FALSE),\"\")","v":""}]
[null,null,null,{"$f":"IFERROR(VLOOKUP($A1554,'Lista de Precios_Bolívares_S'!$F:$Q,6,FALSE),\"\")","v":""},{"$f":"IFERROR(VLOOKUP($A1554,'Lista de Precios_Bolívares_S'!$F:$Q,12,FALSE),\"\")","v":""},"",{"$f":"IFERROR(VLOOKUP($A1554,'Lista de Precios_USD$_Euro€'!$E:$O,11,FALSE),\"\")","v":""}]
[null,null,null,{"$f":"IFERROR(VLOOKUP($A1555,'Lista de Precios_Bolívares_S'!$F:$Q,6,FALSE),\"\")","v":""},{"$f":"IFERROR(VLOOKUP($A1555,'Lista de Precios_Bolívares_S'!$F:$Q,12,FALSE),\"\")","v":""},"",{"$f":"IFERROR(VLOOKUP($A1555,'Lista de Precios_USD$_Euro€'!$E:$O,11,FALSE),\"\")","v":""}]
[null,null,null,{"$f":"IFERROR(VLOOKUP($A1556,'Lista de Precios_Bolívares_S'!$F:$Q,6,FALSE),\"\")","v":""},{"$f":"IFERROR(VLOOKUP($A1556,'Lista de Precios_Bolívares_S'!$F:$Q,12,FALSE),\"\")","v":""},"",{"$f":"IFERROR(VLOOKUP($A1556,'Lista de Precios_USD$_Euro€'!$E:$O,11,FALSE),\"\")","v":""}]
[null,null,null,{"$f":"IFERROR(VLOOKUP($A1557,'Lista de Precios_Bolívares_S'!$F:$Q,6,FALSE),\"\")","v":""},{"$f":"IFERROR(VLOOKUP($A1557,'Lista de Precios_Bolívares_S'!$F:$Q,12,FALSE),\"\")","v":""},"",{"$f":"IFERROR(VLOOKUP($A1557,'Lista de Precios_USD$_Euro€'!$E:$O,11,FALSE),\"\")","v":""}]
[null,null,null,{"$f":"IFERROR(VLOOKUP($A1558,'Lista de Precios_Bolívares_S'!$F:$Q,6,FALSE),\"\")","v":""},{"$f":"IFERROR(VLOOKUP($A1558,'Lista de Precios_Bolívares_S'!$F:$Q,12,FALSE),\"\")","v":""},"",{"$f":"IFERROR(VLOOKUP($A1558,'Lista de Precios_USD$_Euro€'!$E:$O,11,FALSE),\"\")","v":""}]
[null,null,null,{"$f":"IFERROR(VLOOKUP($A1559,'Lista de Precios_Bolívares_S'!$F:$Q,6,FALSE),\"\")","v":""},{"$f":"IFERROR(VLOOKUP($A1559,'Lista de Precios_Bolívares_S'!$F:$Q,12,FALSE),\"\")","v":""},"",{"$f":"IFERROR(VLOOKUP($A1559,'Lista de Precios_USD$_Euro€'!$E:$O,11,FALSE),\"\")","v":""}]
[null,null,null,{"$f":"IFERROR(VLOOKUP($A1560,'Lista de Precios_Bolívares_S'!$F:$Q,6,FALSE),\"\")","v":""},{"$f":"IFERROR(VLOOKUP($A1560,'Lista de Precios_Bolívares_S'!$F:$Q,12,FALSE),\"\")","v":""},"",{"$f":"IFERROR(VLOOKUP($A1560,'Lista de Precios_USD$_Euro€'!$E:$O,11,FALSE),\"\")","v":""}]
[null,null,null,{"$f":"IFERROR(VLOOKUP($A1561,'Lista de Precios_Bolívares_S'!$F:$Q,6,FALSE),\"\")","v":""},{"$f":"IFERROR(VLOOKUP($A1561,'Lista de Precios_Bolívares_S'!$F:$Q,12,FALSE),\"\")","v":""},{"$f":"IFERROR(IF(ROUND($C1561,2)=ROUND($D1536,2),ROUND($E1536,2),ROUND($C1561,2)),\"\")","v":""},{"$f":"IFERROR(VLOOKUP($A1561,'Lista de Precios_USD$_Euro€'!$E:$O,11,FALSE),\"\")","v":""}]
[null,null,null,{"$f":"IFERROR(VLOOKUP($A1562,'Lista de Precios_Bolívares_S'!$F:$Q,6,FALSE),\"\")","v":""},{"$f":"IFERROR(VLOOKUP($A1562,'Lista de Precios_Bolívares_S'!$F:$Q,12,FALSE),\"\")","v":""},"",{"$f":"IFERROR(VLOOKUP($A1562,'Lista de Precios_USD$_Euro€'!$E:$O,11,FALSE),\"\")","v":""}]
[null,null,null,{"$f":"IFERROR(VLOOKUP($A1563,'Lista de Precios_Bolívares_S'!$F:$Q,6,FALSE),\"\")","v":""},{"$f":"IFERROR(VLOOKUP($A1563,'Lista de Precios_Bolívares_S'!$F:$Q,12,FALSE),\"\")","v":""},"",{"$f":"IFERROR(VLOOKUP($A1563,'Lista de Precios_USD$_Euro€'!$E:$O,11,FALSE),\"\")","v":""}]
[null,null,null,{"$f":"IFERROR(VLOOKUP($A1564,'Lista de Precios_Bolívares_S'!$F:$Q,6,FALSE),\"\")","v":""},{"$f":"IFERROR(VLOOKUP($A1564,'Lista de Precios_Bolívares_S'!$F:$Q,12,FALSE),\"\")","v":""},"",{"$f":"IFERROR(VLOOKUP($A1564,'Lista de Precios_USD$_Euro€'!$E:$O,11,FALSE),\"\")","v":""}]
[null,null,null,{"$f":"IFERROR(VLOOKUP($A1565,'Lista de Precios_Bolívares_S'!$F:$Q,6,FALSE),\"\")","v":""},{"$f":"IFERROR(VLOOKUP($A1565,'Lista de Precios_Bolívares_S'!$F:$Q,12,FALSE),\"\")","v":""},"",{"$f":"IFERROR(VLOOKUP($A1565,'Lista de Precios_USD$_Euro€'!$E:$O,11,FALSE),\"\")","v":""}]
[null,null,null,{"$f":"IFERROR(VLOOKUP($A1566,'Lista de Precios_Bolívares_S'!$F:$Q,6,FALSE),\"\")","v":""},{"$f":"IFERROR(VLOOKUP($A1566,'Lista de Precios_Bolívares_S'!$F:$Q,12,FALSE),\"\")","v":""},"",{"$f":"IFERROR(VLOOKUP($A1566,'Lista de Precios_USD$_Euro€'!$E:$O,11,FALSE),\"\")","v":""}]
[null,null,null,{"$f":"IFERROR(VLOOKUP($A1567,'Lista de Precios_Bolívares_S'!$F:$Q,6,FALSE),\"\")","v":""},{"$f":"IFERROR(VLOOKUP($A1567,'Lista de Precios_Bolívares_S'!$F:$Q,12,FALSE),\"\")","v":""},"",{"$f":"IFERROR(VLOOKUP($A1567,'Lista de Precios_USD$_Euro€'!$E:$O,11,FALSE),\"\")","v":""}]
[null,null,null,{"$f":"IFERROR(VLOOKUP($A1568,'Lista de Precios_Bolívares_S'!$F:$Q,6,FALSE),\"\")","v":""},{"$f":"IFERROR(VLOOKUP($A1568,'Lista de Precios_Bolívares_S'!$F:$Q,12,FALSE),\"\")","v":""},"",{"$f":"IFERROR(VLOOKUP($A1568,'Lista de Precios_USD$_Euro€'!$E:$O,11,FALSE),\"\")","v":""}]
[null,null,null,{"$f":"IFERROR(VLOOKUP($A1569,'Lista de Precios_Bolívares_S'!$F:$Q,6,FALSE),\"\")","v":""},{"$f":"IFERROR(VLOOKUP($A1569,'Lista de Precios_Bolívares_S'!$F:$Q,12,FALSE),\"\")","v":""},"",{"$f":"IFERROR(VLOOKUP($A1569,'Lista de Precios_USD$_Euro€'!$E:$O,11,FALSE),\"\")","v":""}]
[null,null,null,{"$f":"IFERROR(VLOOKUP($A1570,'Lista de Precios_Bolívares_S'!$F:$Q,6,FALSE),\"\")","v":""},{"$f":"IFERROR(VLOOKUP($A1570,'Lista de Precios_Bolívares_S'!$F:$Q,12,FALSE),\"\")","v":""},"",{"$f":"IFERROR(VLOOKUP($A1570,'Lista de Precios_USD$_Euro€'!$E:$O,11,FALSE),\"\")","v":""}]
[null,null,null,{"$f":"IFERROR(VLOOKUP($A1571,'Lista de Precios_Bolívares_S'!$F:$Q,6,FALSE),\"\")","v":""},{"$f":"IFERROR(VLOOKUP($A1571,'Lista de Precios_Bolívares_S'!$F:$Q,12,FALSE),\"\")","v":""},"",{"$f":"IFERROR(VLOOKUP($A1571,'Lista de Precios_USD$_Euro€'!$E:$O,11,FALSE),\"\")","v":""}]
[null,null,null,{"$f":"IFERROR(VLOOKUP($A1572,'Lista de Precios_Bolívares_S'!$F:$Q,6,FALSE),\"\")","v":""},{"$f":"IFERROR(VLOOKUP($A1572,'Lista de Precios_Bolívares_S'!$F:$Q,12,FALSE),\"\")","v":""},"",{"$f":"IFERROR(VLOOKUP($A1572,'Lista de Precios_USD$_Euro€'!$E:$O,11,FALSE),\"\")","v":""}]
[null,null,null,{"$f":"IFERROR(VLOOKUP($A1573,'Lista de Precios_Bolívares_S'!$F:$Q,6,FALSE),\"\")","v":""},{"$f":"IFERROR(VLOOKUP($A1573,'Lista de Precios_Bolívares_S'!$F:$Q,12,FALSE),\"\")","v":""},"",{"$f":"IFERROR(VLOOKUP($A1573,'Lista de Precios_USD$_Euro€'!$E:$O,11,FALSE),\"\")","v":""}]
[null,null,null,{"$f":"IFERROR(VLOOKUP($A1574,'Lista de Precios_Bolívares_S'!$F:$Q,6,FALSE),\"\")","v":""},{"$f":"IFERROR(VLOOKUP($A1574,'Lista de Precios_Bolívares_S'!$F:$Q,12,FALSE),\"\")","v":""},"",{"$f":"IFERROR(VLOOKUP($A1574,'Lista de Precios_USD$_Euro€'!$E:$O,11,FALSE),\"\")","v":""}]
[null,null,null,{"$f":"IFERROR(VLOOKUP($A1575,'Lista de Precios_Bolívares_S'!$F:$Q,6,FALSE),\"\")","v":""},{"$f":"IFERROR(VLOOKUP($A1575,'Lista de Precios_Bolívares_S'!$F:$Q,12,FALSE),\"\")","v":""},"",{"$f":"IFERROR(VLOOKUP($A1575,'Lista de Precios_USD$_Euro€'!$E:$O,11,FALSE),\"\")","v":""}]
[null,null,null,{"$f":"IFERROR(VLOOKUP($A1576,'Lista de Precios_Bolívares_S'!$F:$Q,6,FALSE),\"\")","v":""},{"$f":"IFERROR(VLOOKUP($A1576,'Lista de Precios_Bolívares_S'!$F:$Q,12,FALSE),\"\")","v":""},"",{"$f":"IFERROR(VLOOKUP($A1576,'Lista de Precios_USD$_Euro€'!$E:$O,11,FALSE),\"\")","v":""}]
[null,null,null,{"$f":"IFERROR(VLOOKUP($A1577,'Lista de Precios_Bolívares_S'!$F:$Q,6,FALSE),\"\")","v":""},{"$f":"IFERROR(VLOOKUP($A1577,'Lista de Precios_Bolívares_S'!$F:$Q,12,FALSE),\"\")","v":""},"",{"$f":"IFERROR(VLOOKUP($A1577,'Lista de Precios_USD$_Euro€'!$E:$O,11,FALSE),\"\")","v":""}]
[null,null,null,{"$f":"IFERROR(VLOOKUP($A1578,'Lista de Precios_Bolívares_S'!$F:$Q,6,FALSE),\"\")","v":""},{"$f":"IFERROR(VLOOKUP($A1578,'Lista de Precios_Bolívares_S'!$F:$Q,12,FALSE),\"\")","v":""},"",{"$f":"IFERROR(VLOOKUP($A1578,'Lista de Precios_USD$_Euro€'!$E:$O,11,FALSE),\"\")","v":""}]
[null,null,null,{"$f":"IFERROR(VLOOKUP($A1579,'Lista de Precios_Bolívares_S'!$F:$Q,6,FALSE),\"\")","v":""},{"$f":"IFERROR(VLOOKUP($A1579,'Lista de Precios_Bolívares_S'!$F:$Q,12,FALSE),\"\")","v":""},"",{"$f":"IFERROR(VLOOKUP($A1579,'Lista de Precios_USD$_Euro€'!$E:$O,11,FALSE),\"\")","v":""}]
[null,null,null,{"$f":"IFERROR(VLOOKUP($A1580,'Lista de Precios_Bolívares_S'!$F:$Q,6,FALSE),\"\")","v":""},{"$f":"IFERROR(VLOOKUP($A1580,'Lista de Precios_Bolívares_S'!$F:$Q,12,FALSE),\"\")","v":""},"",{"$f":"IFERROR(VLOOKUP($A1580,'Lista de Precios_USD$_Euro€'!$E:$O,11,FALSE),\"\")","v":""}]
[null,null,null,{"$f":"IFERROR(VLOOKUP($A1581,'Lista de Precios_Bolívares_S'!$F:$Q,6,FALSE),\"\")","v":""},{"$f":"IFERROR(VLOOKUP($A1581,'Lista de Precios_Bolívares_S'!$F:$Q,12,FALSE),\"\")","v":""},"",{"$f":"IFERROR(VLOOKUP($A1581,'Lista de Precios_USD$_Euro€'!$E:$O,11,FALSE),\"\")","v":""}]
[null,null,null,{"$f":"IFERROR(VLOOKUP($A1582,'Lista de Precios_Bolívares_S'!$F:$Q,6,FALSE),\"\")","v":""},{"$f":"IFERROR(VLOOKUP($A1582,'Lista de Precios_Bolívares_S'!$F:$Q,12,FALSE),\"\")","v":""},"",{"$f":"IFERROR(VLOOKUP($A1582,'Lista de Precios_USD$_Euro€'!$E:$O,11,FALSE),\"\")","v":""}]
[null,null,null,{"$f":"IFERROR(VLOOKUP($A1583,'Lista de Precios_Bolívares_S'!$F:$Q,6,FALSE),\"\")","v":""},{"$f":"IFERROR(VLOOKUP($A1583,'Lista de Precios_Bolívares_S'!$F:$Q,12,FALSE),\"\")","v":""},"",{"$f":"IFERROR(VLOOKUP($A1583,'Lista de Precios_USD$_Euro€'!$E:$O,11,FALSE),\"\")","v":""}]
[null,null,null,{"$f":"IFERROR(VLOOKUP($A1584,'Lista de Precios_Bolívares_S'!$F:$Q,6,FALSE),\"\")","v":""},{"$f":"IFERROR(VLOOKUP($A1584,'Lista de Precios_Bolívares_S'!$F:$Q,12,FALSE),\"\")","v":""},"",{"$f":"IFERROR(VLOOKUP($A1584,'Lista de Precios_USD$_Euro€'!$E:$O,11,FALSE),\"\")","v":""}]
[null,null,null,{"$f":"IFERROR(VLOOKUP($A1585,'Lista de Precios_Bolívares_S'!$F:$Q,6,FALSE),\"\")","v":""},{"$f":"IFERROR(VLOOKUP($A1585,'Lista de Precios_Bolívares_S'!$F:$Q,12,FALSE),\"\")","v":""},"",{"$f":"IFERROR(VLOOKUP($A1585,'Lista de Precios_USD$_Euro€'!$E:$O,11,FALSE),\"\")","v":""}]
[null,null,null,{"$f":"IFERROR(VLOOKUP($A1586,'Lista de Precios_Bolívares_S'!$F:$Q,6,FALSE),\"\")","v":""},{"$f":"IFERROR(VLOOKUP($A1586,'Lista de Precios_Bolívares_S'!$F:$Q,12,FALSE),\"\")","v":""},"",{"$f":"IFERROR(VLOOKUP($A1586,'Lista de Precios_USD$_Euro€'!$E:$O,11,FALSE),\"\")","v":""}]
[null,null,null,{"$f":"IFERROR(VLOOKUP($A1587,'Lista de Precios_Bolívares_S'!$F:$Q,6,FALSE),\"\")","v":""},{"$f":"IFERROR(VLOOKUP($A1587,'Lista de Precios_Bolívares_S'!$F:$Q,12,FALSE),\"\")","v":""},"",{"$f":"IFERROR(VLOOKUP($A1587,'Lista de Precios_USD$_Euro€'!$E:$O,11,FALSE),\"\")","v":""}]
[null,null,null,{"$f":"IFERROR(VLOOKUP($A1588,'Lista de Precios_Bolívares_S'!$F:$Q,6,FALSE),\"\")","v":""},{"$f":"IFERROR(VLOOKUP($A1588,'Lista de Precios_Bolívares_S'!$F:$Q,12,FALSE),\"\")","v":""},"",{"$f":"IFERROR(VLOOKUP($A1588,'Lista de Precios_USD$_Euro€'!$E:$O,11,FALSE),\"\")","v":""}]
[null,null,null,{"$f":"IFERROR(VLOOKUP($A1589,'Lista de Precios_Bolívares_S'!$F:$Q,6,FALSE),\"\")","v":""},{"$f":"IFERROR(VLOOKUP($A1589,'Lista de Precios_Bolívares_S'!$F:$Q,12,FALSE),\"\")","v":""},"",{"$f":"IFERROR(VLOOKUP($A1589,'Lista de Precios_USD$_Euro€'!$E:$O,11,FALSE),\"\")","v":""}]
[null,null,null,{"$f":"IFERROR(VLOOKUP($A1590,'Lista de Precios_Bolívares_S'!$F:$Q,6,FALSE),\"\")","v":""},{"$f":"IFERROR(VLOOKUP($A1590,'Lista de Precios_Bolívares_S'!$F:$Q,12,FALSE),\"\")","v":""},"",{"$f":"IFERROR(VLOOKUP($A1590,'Lista de Precios_USD$_Euro€'!$E:$O,11,FALSE),\"\")","v":""}]
[null,null,null,{"$f":"IFERROR(VLOOKUP($A1591,'Lista de Precios_Bolívares_S'!$F:$Q,6,FALSE),\"\")","v":""},{"$f":"IFERROR(VLOOKUP($A1591,'Lista de Precios_Bolívares_S'!$F:$Q,12,FALSE),\"\")","v":""},"",{"$f":"IFERROR(VLOOKUP($A1591,'Lista de Precios_USD$_Euro€'!$E:$O,11,FALSE),\"\")","v":""}]
[null,null,null,{"$f":"IFERROR(VLOOKUP($A1592,'Lista de Precios_Bolívares_S'!$F:$Q,6,FALSE),\"\")","v":""},{"$f":"IFERROR(VLOOKUP($A1592,'Lista de Precios_Bolívares_S'!$F:$Q,12,FALSE),\"\")","v":""},"",{"$f":"IFERROR(VLOOKUP($A1592,'Lista de Precios_USD$_Euro€'!$E:$O,11,FALSE),\"\")","v":""}]
[null,null,null,{"$f":"IFERROR(VLOOKUP($A1593,'Lista de Precios_Bolívares_S'!$F:$Q,6,FALSE),\"\")","v":""},{"$f":"IFERROR(VLOOKUP($A1593,'Lista de Precios_Bolívares_S'!$F:$Q,12,FALSE),\"\")","v":""},"",{"$f":"IFERROR(VLOOKUP($A1593,'Lista de Precios_USD$_Euro€'!$E:$O,11,FALSE),\"\")","v":""}]
[null,null,null,{"$f":"IFERROR(VLOOKUP($A1594,'Lista de Precios_Bolívares_S'!$F:$Q,6,FALSE),\"\")","v":""},{"$f":"IFERROR(VLOOKUP($A1594,'Lista de Precios_Bolívares_S'!$F:$Q,12,FALSE),\"\")","v":""},"",{"$f":"IFERROR(VLOOKUP($A1594,'Lista de Precios_USD$_Euro€'!$E:$O,11,FALSE),\"\")","v":""}]
[null,null,null,{"$f":"IFERROR(VLOOKUP($A1595,'Lista de Precios_Bolívares_S'!$F:$Q,6,FALSE),\"\")","v":""},{"$f":"IFERROR(VLOOKUP($A1595,'Lista de Precios_Bolívares_S'!$F:$Q,12,FALSE),\"\")","v":""},"",{"$f":"IFERROR(VLOOKUP($A1595,'Lista de Precios_USD$_Euro€'!$E:$O,11,FALSE),\"\")","v":""}]
[null,null,null,{"$f":"IFERROR(VLOOKUP($A1596,'Lista de Precios_Bolívares_S'!$F:$Q,6,FALSE),\"\")","v":""},{"$f":"IFERROR(VLOOKUP($A1596,'Lista de Precios_Bolívares_S'!$F:$Q,12,FALSE),\"\")","v":""},"",{"$f":"IFERROR(VLOOKUP($A1596,'Lista de Precios_USD$_Euro€'!$E:$O,11,FALSE),\"\")","v":""}]
[null,null,null,{"$f":"IFERROR(VLOOKUP($A1597,'Lista de Precios_Bolívares_S'!$F:$Q,6,FALSE),\"\")","v":""},{"$f":"IFERROR(VLOOKUP($A1597,'Lista de Precios_Bolívares_S'!$F:$Q,12,FALSE),\"\")","v":""},"",{"$f":"IFERROR(VLOOKUP($A1597,'Lista de Precios_USD$_Euro€'!$E:$O,11,FALSE),\"\")","v":""}]
[null,null,null,{"$f":"IFERROR(VLOOKUP($A1598,'Lista de Precios_Bolívares_S'!$F:$Q,6,FALSE),\"\")","v":""},{"$f":"IFERROR(VLOOKUP($A1598,'Lista de Precios_Bolívares_S'!$F:$Q,12,FALSE),\"\")","v":""},"",{"$f":"IFERROR(VLOOKUP($A1598,'Lista de Precios_USD$_Euro€'!$E:$O,11,FALSE),\"\")","v":""}]
[null,null,null,{"$f":"IFERROR(VLOOKUP($A1599,'Lista de Precios_Bolívares_S'!$F:$Q,6,FALSE),\"\")","v":""},{"$f":"IFERROR(VLOOKUP($A1599,'Lista de Precios_Bolívares_S'!$F:$Q,12,FALSE),\"\")","v":""},"",{"$f":"IFERROR(VLOOKUP($A1599,'Lista de Precios_USD$_Euro€'!$E:$O,11,FALSE),\"\")","v":""}]
[null,null,null,{"$f":"IFERROR(VLOOKUP($A1600,'Lista de Precios_Bolívares_S'!$F:$Q,6,FALSE),\"\")","v":""},{"$f":"IFERROR(VLOOKUP($A1600,'Lista de Precios_Bolívares_S'!$F:$Q,12,FALSE),\"\")","v":""},"",{"$f":"IFERROR(VLOOKUP($A1600,'Lista de Precios_USD$_Euro€'!$E:$O,11,FALSE),\"\")","v":""}]
[null,null,null,{"$f":"IFERROR(VLOOKUP($A1601,'Lista de Precios_Bolívares_S'!$F:$Q,6,FALSE),\"\")","v":""},{"$f":"IFERROR(VLOOKUP($A1601,'Lista de Precios_Bolívares_S'!$F:$Q,12,FALSE),\"\")","v":""},"",{"$f":"IFERROR(VLOOKUP($A1601,'Lista de Precios_USD$_Euro€'!$E:$O,11,FALSE),\"\")","v":""}]
[null,null,null,{"$f":"IFERROR(VLOOKUP($A1602,'Lista de Precios_Bolívares_S'!$F:$Q,6,FALSE),\"\")","v":""},{"$f":"IFERROR(VLOOKUP($A1602,'Lista de Precios_Bolívares_S'!$F:$Q,12,FALSE),\"\")","v":""},"",{"$f":"IFERROR(VLOOKUP($A1602,'Lista de Precios_USD$_Euro€'!$E:$O,11,FALSE),\"\")","v":""}]
[null,null,null,{"$f":"IFERROR(VLOOKUP($A1603,'Lista de Precios_Bolívares_S'!$F:$Q,6,FALSE),\"\")","v":""},{"$f":"IFERROR(VLOOKUP($A1603,'Lista de Precios_Bolívares_S'!$F:$Q,12,FALSE),\"\")","v":""},"",{"$f":"IFERROR(VLOOKUP($A1603,'Lista de Precios_USD$_Euro€'!$E:$O,11,FALSE),\"\")","v":""}]
[null,null,null,{"$f":"IFERROR(VLOOKUP($A1604,'Lista de Precios_Bolívares_S'!$F:$Q,6,FALSE),\"\")","v":""},{"$f":"IFERROR(VLOOKUP($A1604,'Lista de Precios_Bolívares_S'!$F:$Q,12,FALSE),\"\")","v":""},"",{"$f":"IFERROR(VLOOKUP($A1604,'Lista de Precios_USD$_Euro€'!$E:$O,11,FALSE),\"\")","v":""}]
[null,null,null,{"$f":"IFERROR(VLOOKUP($A1605,'Lista de Precios_Bolívares_S'!$F:$Q,6,FALSE),\"\")","v":""},{"$f":"IFERROR(VLOOKUP($A1605,'Lista de Precios_Bolívares_S'!$F:$Q,12,FALSE),\"\")","v":""},"",{"$f":"IFERROR(VLOOKUP($A1605,'Lista de Precios_USD$_Euro€'!$E:$O,11,FALSE),\"\")","v":""}]
[null,null,null,{"$f":"IFERROR(VLOOKUP($A1606,'Lista de Precios_Bolívares_S'!$F:$Q,6,FALSE),\"\")","v":""},{"$f":"IFERROR(VLOOKUP($A1606,'Lista de Precios_Bolívares_S'!$F:$Q,12,FALSE),\"\")","v":""},"",{"$f":"IFERROR(VLOOKUP($A1606,'Lista de Precios_USD$_Euro€'!$E:$O,11,FALSE),\"\")","v":""}]
[null,null,null,{"$f":"IFERROR(VLOOKUP($A1607,'Lista de Precios_Bolívares_S'!$F:$Q,6,FALSE),\"\")","v":""},{"$f":"IFERROR(VLOOKUP($A1607,'Lista de Precios_Bolívares_S'!$F:$Q,12,FALSE),\"\")","v":""},"",{"$f":"IFERROR(VLOOKUP($A1607,'Lista de Precios_USD$_Euro€'!$E:$O,11,FALSE),\"\")","v":""}]
[null,null,null,{"$f":"IFERROR(VLOOKUP($A1608,'Lista de Precios_Bolívares_S'!$F:$Q,6,FALSE),\"\")","v":""},{"$f":"IFERROR(VLOOKUP($A1608,'Lista de Precios_Bolívares_S'!$F:$Q,12,FALSE),\"\")","v":""},"",{"$f":"IFERROR(VLOOKUP($A1608,'Lista de Precios_USD$_Euro€'!$E:$O,11,FALSE),\"\")","v":""}]
[null,null,null,{"$f":"IFERROR(VLOOKUP($A1609,'Lista de Precios_Bolívares_S'!$F:$Q,6,FALSE),\"\")","v":""},{"$f":"IFERROR(VLOOKUP($A1609,'Lista de Precios_Bolívares_S'!$F:$Q,12,FALSE),\"\")","v":""},"",{"$f":"IFERROR(VLOOKUP($A1609,'Lista de Precios_USD$_Euro€'!$E:$O,11,FALSE),\"\")","v":""}]
[null,null,null,{"$f":"IFERROR(VLOOKUP($A1610,'Lista de Precios_Bolívares_S'!$F:$Q,6,FALSE),\"\")","v":""},{"$f":"IFERROR(VLOOKUP($A1610,'Lista de Precios_Bolívares_S'!$F:$Q,12,FALSE),\"\")","v":""},"",{"$f":"IFERROR(VLOOKUP($A1610,'Lista de Precios_USD$_Euro€'!$E:$O,11,FALSE),\"\")","v":""}]
[null,null,null,{"$f":"IFERROR(VLOOKUP($A1611,'Lista de Precios_Bolívares_S'!$F:$Q,6,FALSE),\"\")","v":""},{"$f":"IFERROR(VLOOKUP($A1611,'Lista de Precios_Bolívares_S'!$F:$Q,12,FALSE),\"\")","v":""},"",{"$f":"IFERROR(VLOOKUP($A1611,'Lista de Precios_USD$_Euro€'!$E:$O,11,FALSE),\"\")","v":""}]
[null,null,null,{"$f":"IFERROR(VLOOKUP($A1612,'Lista de Precios_Bolívares_S'!$F:$Q,6,FALSE),\"\")","v":""},{"$f":"IFERROR(VLOOKUP($A1612,'Lista de Precios_Bolívares_S'!$F:$Q,12,FALSE),\"\")","v":""},"",{"$f":"IFERROR(VLOOKUP($A1612,'Lista de Precios_USD$_Euro€'!$E:$O,11,FALSE),\"\")","v":""}]
[null,null,null,{"$f":"IFERROR(VLOOKUP($A1613,'Lista de Precios_Bolívares_S'!$F:$Q,6,FALSE),\"\")","v":""},{"$f":"IFERROR(VLOOKUP($A1613,'Lista de Precios_Bolívares_S'!$F:$Q,12,FALSE),\"\")","v":""},"",{"$f":"IFERROR(VLOOKUP($A1613,'Lista de Precios_USD$_Euro€'!$E:$O,11,FALSE),\"\")","v":""}]
[null,null,null,{"$f":"IFERROR(VLOOKUP($A1614,'Lista de Precios_Bolívares_S'!$F:$Q,6,FALSE),\"\")","v":""},{"$f":"IFERROR(VLOOKUP($A1614,'Lista de Precios_Bolívares_S'!$F:$Q,12,FALSE),\"\")","v":""},"",{"$f":"IFERROR(VLOOKUP($A1614,'Lista de Precios_USD$_Euro€'!$E:$O,11,FALSE),\"\")","v":""}]
[null,null,null,{"$f":"IFERROR(VLOOKUP($A1615,'Lista de Precios_Bolívares_S'!$F:$Q,6,FALSE),\"\")","v":""},{"$f":"IFERROR(VLOOKUP($A1615,'Lista de Precios_Bolívares_S'!$F:$Q,12,FALSE),\"\")","v":""},"",{"$f":"IFERROR(VLOOKUP($A1615,'Lista de Precios_USD$_Euro€'!$E:$O,11,FALSE),\"\")","v":""}]
[null,null,null,{"$f":"IFERROR(VLOOKUP($A1616,'Lista de Precios_Bolívares_S'!$F:$Q,6,FALSE),\"\")","v":""},{"$f":"IFERROR(VLOOKUP($A1616,'Lista de Precios_Bolívares_S'!$F:$Q,12,FALSE),\"\")","v":""},"",{"$f":"IFERROR(VLOOKUP($A1616,'Lista de Precios_USD$_Euro€'!$E:$O,11,FALSE),\"\")","v":""}]
[null,null,null,{"$f":"IFERROR(VLOOKUP($A1617,'Lista de Precios_Bolívares_S'!$F:$Q,6,FALSE),\"\")","v":""},{"$f":"IFERROR(VLOOKUP($A1617,'Lista de Precios_Bolívares_S'!$F:$Q,12,FALSE),\"\")","v":""},"",{"$f":"IFERROR(VLOOKUP($A1617,'Lista de Precios_USD$_Euro€'!$E:$O,11,FALSE),\"\")","v":""}]
[null,null,null,{"$f":"IFERROR(VLOOKUP($A1618,'Lista de Precios_Bolívares_S'!$F:$Q,6,FALSE),\"\")","v":""},{"$f":"IFERROR(VLOOKUP($A1618,'Lista de Precios_Bolívares_S'!$F:$Q,12,FALSE),\"\")","v":""},"",{"$f":"IFERROR(VLOOKUP($A1618,'Lista de Precios_USD$_Euro€'!$E:$O,11,FALSE),\"\")","v":""}]
[null,null,null,{"$f":"IFERROR(VLOOKUP($A1619,'Lista de Precios_Bolívares_S'!$F:$Q,6,FALSE),\"\")","v":""},{"$f":"IFERROR(VLOOKUP($A1619,'Lista de Precios_Bolívares_S'!$F:$Q,12,FALSE),\"\")","v":""},"",{"$f":"IFERROR(VLOOKUP($A1619,'Lista de Precios_USD$_Euro€'!$E:$O,11,FALSE),\"\")","v":""}]
[null,null,null,{"$f":"IFERROR(VLOOKUP($A1620,'Lista de Precios_Bolívares_S'!$F:$Q,6,FALSE),\"\")","v":""},{"$f":"IFERROR(VLOOKUP($A1620,'Lista de Precios_Bolívares_S'!$F:$Q,12,FALSE),\"\")","v":""},"",{"$f":"IFERROR(VLOOKUP($A1620,'Lista de Precios_USD$_Euro€'!$E:$O,11,FALSE),\"\")","v":""}]
[null,null,null,{"$f":"IFERROR(VLOOKUP($A1621,'Lista de Precios_Bolívares_S'!$F:$Q,6,FALSE),\"\")","v":""},{"$f":"IFERROR(VLOOKUP($A1621,'Lista de Precios_Bolívares_S'!$F:$Q,12,FALSE),\"\")","v":""},"",{"$f":"IFERROR(VLOOKUP($A1621,'Lista de Precios_USD$_Euro€'!$E:$O,11,FALSE),\"\")","v":""}]
[null,null,null,{"$f":"IFERROR(VLOOKUP($A1622,'Lista de Precios_Bolívares_S'!$F:$Q,6,FALSE),\"\")","v":""},{"$f":"IFERROR(VLOOKUP($A1622,'Lista de Precios_Bolívares_S'!$F:$Q,12,FALSE),\"\")","v":""},"",{"$f":"IFERROR(VLOOKUP($A1622,'Lista de Precios_USD$_Euro€'!$E:$O,11,FALSE),\"\")","v":""}]
[null,null,null,{"$f":"IFERROR(VLOOKUP($A1623,'Lista de Precios_Bolívares_S'!$F:$Q,6,FALSE),\"\")","v":""},{"$f":"IFERROR(VLOOKUP($A1623,'Lista de Precios_Bolívares_S'!$F:$Q,12,FALSE),\"\")","v":""},"",{"$f":"IFERROR(VLOOKUP($A1623,'Lista de Precios_USD$_Euro€'!$E:$O,11,FALSE),\"\")","v":""}]
[null,null,null,{"$f":"IFERROR(VLOOKUP($A1624,'Lista de Precios_Bolívares_S'!$F:$Q,6,FALSE),\"\")","v":""},{"$f":"IFERROR(VLOOKUP($A1624,'Lista de Precios_Bolívares_S'!$F:$Q,12,FALSE),\"\")","v":""},"",{"$f":"IFERROR(VLOOKUP($A1624,'Lista de Precios_USD$_Euro€'!$E:$O,11,FALSE),\"\")","v":""}]
[null,null,null,{"$f":"IFERROR(VLOOKUP($A1625,'Lista de Precios_Bolívares_S'!$F:$Q,6,FALSE),\"\")","v":""},{"$f":"IFERROR(VLOOKUP($A1625,'Lista de Precios_Bolívares_S'!$F:$Q,12,FALSE),\"\")","v":""},{"$f":"IFERROR(IF(ROUND($C1625,2)=ROUND($D1600,2),ROUND($E1600,2),ROUND($C1625,2)),\"\")","v":""},{"$f":"IFERROR(VLOOKUP($A1625,'Lista de Precios_USD$_Euro€'!$E:$O,11,FALSE),\"\")","v":""}]
[null,null,null,{"$f":"IFERROR(VLOOKUP($A1626,'Lista de Precios_Bolívares_S'!$F:$Q,6,FALSE),\"\")","v":""},{"$f":"IFERROR(VLOOKUP($A1626,'Lista de Precios_Bolívares_S'!$F:$Q,12,FALSE),\"\")","v":""},"",{"$f":"IFERROR(VLOOKUP($A1626,'Lista de Precios_USD$_Euro€'!$E:$O,11,FALSE),\"\")","v":""}]
[null,null,null,{"$f":"IFERROR(VLOOKUP($A1627,'Lista de Precios_Bolívares_S'!$F:$Q,6,FALSE),\"\")","v":""},{"$f":"IFERROR(VLOOKUP($A1627,'Lista de Precios_Bolívares_S'!$F:$Q,12,FALSE),\"\")","v":""},"",{"$f":"IFERROR(VLOOKUP($A1627,'Lista de Precios_USD$_Euro€'!$E:$O,11,FALSE),\"\")","v":""}]
[null,null,null,{"$f":"IFERROR(VLOOKUP($A1628,'Lista de Precios_Bolívares_S'!$F:$Q,6,FALSE),\"\")","v":""},{"$f":"IFERROR(VLOOKUP($A1628,'Lista de Precios_Bolívares_S'!$F:$Q,12,FALSE),\"\")","v":""},"",{"$f":"IFERROR(VLOOKUP($A1628,'Lista de Precios_USD$_Euro€'!$E:$O,11,FALSE),\"\")","v":""}]
[null,null,null,{"$f":"IFERROR(VLOOKUP($A1629,'Lista de Precios_Bolívares_S'!$F:$Q,6,FALSE),\"\")","v":""},{"$f":"IFERROR(VLOOKUP($A1629,'Lista de Precios_Bolívares_S'!$F:$Q,12,FALSE),\"\")","v":""},"",{"$f":"IFERROR(VLOOKUP($A1629,'Lista de Precios_USD$_Euro€'!$E:$O,11,FALSE),\"\")","v":""}]
[null,null,null,{"$f":"IFERROR(VLOOKUP($A1630,'Lista de Precios_Bolívares_S'!$F:$Q,6,FALSE),\"\")","v":""},{"$f":"IFERROR(VLOOKUP($A1630,'Lista de Precios_Bolívares_S'!$F:$Q,12,FALSE),\"\")","v":""},"",{"$f":"IFERROR(VLOOKUP($A1630,'Lista de Precios_USD$_Euro€'!$E:$O,11,FALSE),\"\")","v":""}]
[null,null,null,{"$f":"IFERROR(VLOOKUP($A1631,'Lista de Precios_Bolívares_S'!$F:$Q,6,FALSE),\"\")","v":""},{"$f":"IFERROR(VLOOKUP($A1631,'Lista de Precios_Bolívares_S'!$F:$Q,12,FALSE),\"\")","v":""},"",{"$f":"IFERROR(VLOOKUP($A1631,'Lista de Precios_USD$_Euro€'!$E:$O,11,FALSE),\"\")","v":""}]
[null,null,null,{"$f":"IFERROR(VLOOKUP($A1632,'Lista de Precios_Bolívares_S'!$F:$Q,6,FALSE),\"\")","v":""},{"$f":"IFERROR(VLOOKUP($A1632,'Lista de Precios_Bolívares_S'!$F:$Q,12,FALSE),\"\")","v":""},"",{"$f":"IFERROR(VLOOKUP($A1632,'Lista de Precios_USD$_Euro€'!$E:$O,11,FALSE),\"\")","v":""}]
[null,null,null,{"$f":"IFERROR(VLOOKUP($A1633,'Lista de Precios_Bolívares_S'!$F:$Q,6,FALSE),\"\")","v":""},{"$f":"IFERROR(VLOOKUP($A1633,'Lista de Precios_Bolívares_S'!$F:$Q,12,FALSE),\"\")","v":""},"",{"$f":"IFERROR(VLOOKUP($A1633,'Lista de Precios_USD$_Euro€'!$E:$O,11,FALSE),\"\")","v":""}]
[null,null,null,{"$f":"IFERROR(VLOOKUP($A1634,'Lista de Precios_Bolívares_S'!$F:$Q,6,FALSE),\"\")","v":""},{"$f":"IFERROR(VLOOKUP($A1634,'Lista de Precios_Bolívares_S'!$F:$Q,12,FALSE),\"\")","v":""},"",{"$f":"IFERROR(VLOOKUP($A1634,'Lista de Precios_USD$_Euro€'!$E:$O,11,FALSE),\"\")","v":""}]
[null,null,null,{"$f":"IFERROR(VLOOKUP($A1635,'Lista de Precios_Bolívares_S'!$F:$Q,6,FALSE),\"\")","v":""},{"$f":"IFERROR(VLOOKUP($A1635,'Lista de Precios_Bolívares_S'!$F:$Q,12,FALSE),\"\")","v":""},"",{"$f":"IFERROR(VLOOKUP($A1635,'Lista de Precios_USD$_Euro€'!$E:$O,11,FALSE),\"\")","v":""}]
[null,null,null,{"$f":"IFERROR(VLOOKUP($A1636,'Lista de Precios_Bolívares_S'!$F:$Q,6,FALSE),\"\")","v":""},{"$f":"IFERROR(VLOOKUP($A1636,'Lista de Precios_Bolívares_S'!$F:$Q,12,FALSE),\"\")","v":""},"",{"$f":"IFERROR(VLOOKUP($A1636,'Lista de Precios_USD$_Euro€'!$E:$O,11,FALSE),\"\")","v":""}]
[null,null,null,{"$f":"IFERROR(VLOOKUP($A1637,'Lista de Precios_Bolívares_S'!$F:$Q,6,FALSE),\"\")","v":""},{"$f":"IFERROR(VLOOKUP($A1637,'Lista de Precios_Bolívares_S'!$F:$Q,12,FALSE),\"\")","v":""},"",{"$f":"IFERROR(VLOOKUP($A1637,'Lista de Precios_USD$_Euro€'!$E:$O,11,FALSE),\"\")","v":""}]
[null,null,null,{"$f":"IFERROR(VLOOKUP($A1638,'Lista de Precios_Bolívares_S'!$F:$Q,6,FALSE),\"\")","v":""},{"$f":"IFERROR(VLOOKUP($A1638,'Lista de Precios_Bolívares_S'!$F:$Q,12,FALSE),\"\")","v":""},"",{"$f":"IFERROR(VLOOKUP($A1638,'Lista de Precios_USD$_Euro€'!$E:$O,11,FALSE),\"\")","v":""}]
[null,null,null,{"$f":"IFERROR(VLOOKUP($A1639,'Lista de Precios_Bolívares_S'!$F:$Q,6,FALSE),\"\")","v":""},{"$f":"IFERROR(VLOOKUP($A1639,'Lista de Precios_Bolívares_S'!$F:$Q,12,FALSE),\"\")","v":""},"",{"$f":"IFERROR(VLOOKUP($A1639,'Lista de Precios_USD$_Euro€'!$E:$O,11,FALSE),\"\")","v":""}]
[null,null,null,{"$f":"IFERROR(VLOOKUP($A1640,'Lista de Precios_Bolívares_S'!$F:$Q,6,FALSE),\"\")","v":""},{"$f":"IFERROR(VLOOKUP($A1640,'Lista de Precios_Bolívares_S'!$F:$Q,12,FALSE),\"\")","v":""},"",{"$f":"IFERROR(VLOOKUP($A1640,'Lista de Precios_USD$_Euro€'!$E:$O,11,FALSE),\"\")","v":""}]
[null,null,null,{"$f":"IFERROR(VLOOKUP($A1641,'Lista de Precios_Bolívares_S'!$F:$Q,6,FALSE),\"\")","v":""},{"$f":"IFERROR(VLOOKUP($A1641,'Lista de Precios_Bolívares_S'!$F:$Q,12,FALSE),\"\")","v":""},"",{"$f":"IFERROR(VLOOKUP($A1641,'Lista de Precios_USD$_Euro€'!$E:$O,11,FALSE),\"\")","v":""}]
[null,null,null,{"$f":"IFERROR(VLOOKUP($A1642,'Lista de Precios_Bolívares_S'!$F:$Q,6,FALSE),\"\")","v":""},{"$f":"IFERROR(VLOOKUP($A1642,'Lista de Precios_Bolívares_S'!$F:$Q,12,FALSE),\"\")","v":""},"",{"$f":"IFERROR(VLOOKUP($A1642,'Lista de Precios_USD$_Euro€'!$E:$O,11,FALSE),\"\")","v":""}]
[null,null,null,{"$f":"IFERROR(VLOOKUP($A1643,'Lista de Precios_Bolívares_S'!$F:$Q,6,FALSE),\"\")","v":""},{"$f":"IFERROR(VLOOKUP($A1643,'Lista de Precios_Bolívares_S'!$F:$Q,12,FALSE),\"\")","v":""},"",{"$f":"IFERROR(VLOOKUP($A1643,'Lista de Precios_USD$_Euro€'!$E:$O,11,FALSE),\"\")","v":""}]
[null,null,null,{"$f":"IFERROR(VLOOKUP($A1644,'Lista de Precios_Bolívares_S'!$F:$Q,6,FALSE),\"\")","v":""},{"$f":"IFERROR(VLOOKUP($A1644,'Lista de Precios_Bolívares_S'!$F:$Q,12,FALSE),\"\")","v":""},"",{"$f":"IFERROR(VLOOKUP($A1644,'Lista de Precios_USD$_Euro€'!$E:$O,11,FALSE),\"\")","v":""}]
[null,null,null,{"$f":"IFERROR(VLOOKUP($A1645,'Lista de Precios_Bolívares_S'!$F:$Q,6,FALSE),\"\")","v":""},{"$f":"IFERROR(VLOOKUP($A1645,'Lista de Precios_Bolívares_S'!$F:$Q,12,FALSE),\"\")","v":""},"",{"$f":"IFERROR(VLOOKUP($A1645,'Lista de Precios_USD$_Euro€'!$E:$O,11,FALSE),\"\")","v":""}]
[null,null,null,{"$f":"IFERROR(VLOOKUP($A1646,'Lista de Precios_Bolívares_S'!$F:$Q,6,FALSE),\"\")","v":""},{"$f":"IFERROR(VLOOKUP($A1646,'Lista de Precios_Bolívares_S'!$F:$Q,12,FALSE),\"\")","v":""},"",{"$f":"IFERROR(VLOOKUP($A1646,'Lista de Precios_USD$_Euro€'!$E:$O,11,FALSE),\"\")","v":""}]
[null,null,null,{"$f":"IFERROR(VLOOKUP($A1647,'Lista de Precios_Bolívares_S'!$F:$Q,6,FALSE),\"\")","v":""},{"$f":"IFERROR(VLOOKUP($A1647,'Lista de Precios_Bolívares_S'!$F:$Q,12,FALSE),\"\")","v":""},"",{"$f":"IFERROR(VLOOKUP($A1647,'Lista de Precios_USD$_Euro€'!$E:$O,11,FALSE),\"\")","v":""}]
[null,null,null,{"$f":"IFERROR(VLOOKUP($A1648,'Lista de Precios_Bolívares_S'!$F:$Q,6,FALSE),\"\")","v":""},{"$f":"IFERROR(VLOOKUP($A1648,'Lista de Precios_Bolívares_S'!$F:$Q,12,FALSE),\"\")","v":""},"",{"$f":"IFERROR(VLOOKUP($A1648,'Lista de Precios_USD$_Euro€'!$E:$O,11,FALSE),\"\")","v":""}]
[null,null,null,{"$f":"IFERROR(VLOOKUP($A1649,'Lista de Precios_Bolívares_S'!$F:$Q,6,FALSE),\"\")","v":""},{"$f":"IFERROR(VLOOKUP($A1649,'Lista de Precios_Bolívares_S'!$F:$Q,12,FALSE),\"\")","v":""},"",{"$f":"IFERROR(VLOOKUP($A1649,'Lista de Precios_USD$_Euro€'!$E:$O,11,FALSE),\"\")","v":""}]
[null,null,null,{"$f":"IFERROR(VLOOKUP($A1650,'Lista de Precios_Bolívares_S'!$F:$Q,6,FALSE),\"\")","v":""},{"$f":"IFERROR(VLOOKUP($A1650,'Lista de Precios_Bolívares_S'!$F:$Q,12,FALSE),\"\")","v":""},"",{"$f":"IFERROR(VLOOKUP($A1650,'Lista de Precios_USD$_Euro€'!$E:$O,11,FALSE),\"\")","v":""}]
[null,null,null,{"$f":"IFERROR(VLOOKUP($A1651,'Lista de Precios_Bolívares_S'!$F:$Q,6,FALSE),\"\")","v":""},{"$f":"IFERROR(VLOOKUP($A1651,'Lista de Precios_Bolívares_S'!$F:$Q,12,FALSE),\"\")","v":""},"",{"$f":"IFERROR(VLOOKUP($A1651,'Lista de Precios_USD$_Euro€'!$E:$O,11,FALSE),\"\")","v":""}]
[null,null,null,{"$f":"IFERROR(VLOOKUP($A1652,'Lista de Precios_Bolívares_S'!$F:$Q,6,FALSE),\"\")","v":""},{"$f":"IFERROR(VLOOKUP($A1652,'Lista de Precios_Bolívares_S'!$F:$Q,12,FALSE),\"\")","v":""},"",{"$f":"IFERROR(VLOOKUP($A1652,'Lista de Precios_USD$_Euro€'!$E:$O,11,FALSE),\"\")","v":""}]
[null,null,null,{"$f":"IFERROR(VLOOKUP($A1653,'Lista de Precios_Bolívares_S'!$F:$Q,6,FALSE),\"\")","v":""},{"$f":"IFERROR(VLOOKUP($A1653,'Lista de Precios_Bolívares_S'!$F:$Q,12,FALSE),\"\")","v":""},"",{"$f":"IFERROR(VLOOKUP($A1653,'Lista de Precios_USD$_Euro€'!$E:$O,11,FALSE),\"\")","v":""}]
[null,null,null,{"$f":"IFERROR(VLOOKUP($A1654,'Lista de Precios_Bolívares_S'!$F:$Q,6,FALSE),\"\")","v":""},{"$f":"IFERROR(VLOOKUP($A1654,'Lista de Precios_Bolívares_S'!$F:$Q,12,FALSE),\"\")","v":""},"",{"$f":"IFERROR(VLOOKUP($A1654,'Lista de Precios_USD$_Euro€'!$E:$O,11,FALSE),\"\")","v":""}]
[null,null,null,{"$f":"IFERROR(VLOOKUP($A1655,'Lista de Precios_Bolívares_S'!$F:$Q,6,FALSE),\"\")","v":""},{"$f":"IFERROR(VLOOKUP($A1655,'Lista de Precios_Bolívares_S'!$F:$Q,12,FALSE),\"\")","v":""},"",{"$f":"IFERROR(VLOOKUP($A1655,'Lista de Precios_USD$_Euro€'!$E:$O,11,FALSE),\"\")","v":""}]
[null,null,null,{"$f":"IFERROR(VLOOKUP($A1656,'Lista de Precios_Bolívares_S'!$F:$Q,6,FALSE),\"\")","v":""},{"$f":"IFERROR(VLOOKUP($A1656,'Lista de Precios_Bolívares_S'!$F:$Q,12,FALSE),\"\")","v":""},"",{"$f":"IFERROR(VLOOKUP($A1656,'Lista de Precios_USD$_Euro€'!$E:$O,11,FALSE),\"\")","v":""}]
[null,null,null,{"$f":"IFERROR(VLOOKUP($A1657,'Lista de Precios_Bolívares_S'!$F:$Q,6,FALSE),\"\")","v":""},{"$f":"IFERROR(VLOOKUP($A1657,'Lista de Precios_Bolívares_S'!$F:$Q,12,FALSE),\"\")","v":""},"",{"$f":"IFERROR(VLOOKUP($A1657,'Lista de Precios_USD$_Euro€'!$E:$O,11,FALSE),\"\")","v":""}]
[null,null,null,{"$f":"IFERROR(VLOOKUP($A1658,'Lista de Precios_Bolívares_S'!$F:$Q,6,FALSE),\"\")","v":""},{"$f":"IFERROR(VLOOKUP($A1658,'Lista de Precios_Bolívares_S'!$F:$Q,12,FALSE),\"\")","v":""},"",{"$f":"IFERROR(VLOOKUP($A1658,'Lista de Precios_USD$_Euro€'!$E:$O,11,FALSE),\"\")","v":""}]
[null,null,null,{"$f":"IFERROR(VLOOKUP($A1659,'Lista de Precios_Bolívares_S'!$F:$Q,6,FALSE),\"\")","v":""},{"$f":"IFERROR(VLOOKUP($A1659,'Lista de Precios_Bolívares_S'!$F:$Q,12,FALSE),\"\")","v":""},"",{"$f":"IFERROR(VLOOKUP($A1659,'Lista de Precios_USD$_Euro€'!$E:$O,11,FALSE),\"\")","v":""}]
[null,null,null,{"$f":"IFERROR(VLOOKUP($A1660,'Lista de Precios_Bolívares_S'!$F:$Q,6,FALSE),\"\")","v":""},{"$f":"IFERROR(VLOOKUP($A1660,'Lista de Precios_Bolívares_S'!$F:$Q,12,FALSE),\"\")","v":""},"",{"$f":"IFERROR(VLOOKUP($A1660,'Lista de Precios_USD$_Euro€'!$E:$O,11,FALSE),\"\")","v":""}]
[null,null,null,{"$f":"IFERROR(VLOOKUP($A1661,'Lista de Precios_Bolívares_S'!$F:$Q,6,FALSE),\"\")","v":""},{"$f":"IFERROR(VLOOKUP($A1661,'Lista de Precios_Bolívares_S'!$F:$Q,12,FALSE),\"\")","v":""},"",{"$f":"IFERROR(VLOOKUP($A1661,'Lista de Precios_USD$_Euro€'!$E:$O,11,FALSE),\"\")","v":""}]
[null,null,null,{"$f":"IFERROR(VLOOKUP($A1662,'Lista de Precios_Bolívares_S'!$F:$Q,6,FALSE),\"\")","v":""},{"$f":"IFERROR(VLOOKUP($A1662,'Lista de Precios_Bolívares_S'!$F:$Q,12,FALSE),\"\")","v":""},"",{"$f":"IFERROR(VLOOKUP($A1662,'Lista de Precios_USD$_Euro€'!$E:$O,11,FALSE),\"\")","v":""}]
[null,null,null,{"$f":"IFERROR(VLOOKUP($A1663,'Lista de Precios_Bolívares_S'!$F:$Q,6,FALSE),\"\")","v":""},{"$f":"IFERROR(VLOOKUP($A1663,'Lista de Precios_Bolívares_S'!$F:$Q,12,FALSE),\"\")","v":""},"",{"$f":"IFERROR(VLOOKUP($A1663,'Lista de Precios_USD$_Euro€'!$E:$O,11,FALSE),\"\")","v":""}]
[null,null,null,{"$f":"IFERROR(VLOOKUP($A1664,'Lista de Precios_Bolívares_S'!$F:$Q,6,FALSE),\"\")","v":""},{"$f":"IFERROR(VLOOKUP($A1664,'Lista de Precios_Bolívares_S'!$F:$Q,12,FALSE),\"\")","v":""},"",{"$f":"IFERROR(VLOOKUP($A1664,'Lista de Precios_USD$_Euro€'!$E:$O,11,FALSE),\"\")","v":""}]
[null,null,null,{"$f":"IFERROR(VLOOKUP($A1665,'Lista de Precios_Bolívares_S'!$F:$Q,6,FALSE),\"\")","v":""},{"$f":"IFERROR(VLOOKUP($A1665,'Lista de Precios_Bolívares_S'!$F:$Q,12,FALSE),\"\")","v":""},"",{"$f":"IFERROR(VLOOKUP($A1665,'Lista de Precios_USD$_Euro€'!$E:$O,11,FALSE),\"\")","v":""}]
[null,null,null,{"$f":"IFERROR(VLOOKUP($A1666,'Lista de Precios_Bolívares_S'!$F:$Q,6,FALSE),\"\")","v":""},{"$f":"IFERROR(VLOOKUP($A1666,'Lista de Precios_Bolívares_S'!$F:$Q,12,FALSE),\"\")","v":""},"",{"$f":"IFERROR(VLOOKUP($A1666,'Lista de Precios_USD$_Euro€'!$E:$O,11,FALSE),\"\")","v":""}]
[null,null,null,{"$f":"IFERROR(VLOOKUP($A1667,'Lista de Precios_Bolívares_S'!$F:$Q,6,FALSE),\"\")","v":""},{"$f":"IFERROR(VLOOKUP($A1667,'Lista de Precios_Bolívares_S'!$F:$Q,12,FALSE),\"\")","v":""},"",{"$f":"IFERROR(VLOOKUP($A1667,'Lista de Precios_USD$_Euro€'!$E:$O,11,FALSE),\"\")","v":""}]
[null,null,null,{"$f":"IFERROR(VLOOKUP($A1668,'Lista de Precios_Bolívares_S'!$F:$Q,6,FALSE),\"\")","v":""},{"$f":"IFERROR(VLOOKUP($A1668,'Lista de Precios_Bolívares_S'!$F:$Q,12,FALSE),\"\")","v":""},"",{"$f":"IFERROR(VLOOKUP($A1668,'Lista de Precios_USD$_Euro€'!$E:$O,11,FALSE),\"\")","v":""}]
[null,null,null,{"$f":"IFERROR(VLOOKUP($A1669,'Lista de Precios_Bolívares_S'!$F:$Q,6,FALSE),\"\")","v":""},{"$f":"IFERROR(VLOOKUP($A1669,'Lista de Precios_Bolívares_S'!$F:$Q,12,FALSE),\"\")","v":""},"",{"$f":"IFERROR(VLOOKUP($A1669,'Lista de Precios_USD$_Euro€'!$E:$O,11,FALSE),\"\")","v":""}]
[null,null,null,{"$f":"IFERROR(VLOOKUP($A1670,'Lista de Precios_Bolívares_S'!$F:$Q,6,FALSE),\"\")","v":""},{"$f":"IFERROR(VLOOKUP($A1670,'Lista de Precios_Bolívares_S'!$F:$Q,12,FALSE),\"\")","v":""},"",{"$f":"IFERROR(VLOOKUP($A1670,'Lista de Precios_USD$_Euro€'!$E:$O,11,FALSE),\"\")","v":""}]
[null,null,null,{"$f":"IFERROR(VLOOKUP($A1671,'Lista de Precios_Bolívares_S'!$F:$Q,6,FALSE),\"\")","v":""},{"$f":"IFERROR(VLOOKUP($A1671,'Lista de Precios_Bolívares_S'!$F:$Q,12,FALSE),\"\")","v":""},"",{"$f":"IFERROR(VLOOKUP($A1671,'Lista de Precios_USD$_Euro€'!$E:$O,11,FALSE),\"\")","v":""}]
[null,null,null,{"$f":"IFERROR(VLOOKUP($A1672,'Lista de Precios_Bolívares_S'!$F:$Q,6,FALSE),\"\")","v":""},{"$f":"IFERROR(VLOOKUP($A1672,'Lista de Precios_Bolívares_S'!$F:$Q,12,FALSE),\"\")","v":""},"",{"$f":"IFERROR(VLOOKUP($A1672,'Lista de Precios_USD$_Euro€'!$E:$O,11,FALSE),\"\")","v":""}]
[null,null,null,{"$f":"IFERROR(VLOOKUP($A1673,'Lista de Precios_Bolívares_S'!$F:$Q,6,FALSE),\"\")","v":""},{"$f":"IFERROR(VLOOKUP($A1673,'Lista de Precios_Bolívares_S'!$F:$Q,12,FALSE),\"\")","v":""},"",{"$f":"IFERROR(VLOOKUP($A1673,'Lista de Precios_USD$_Euro€'!$E:$O,11,FALSE),\"\")","v":""}]
[null,null,null,{"$f":"IFERROR(VLOOKUP($A1674,'Lista de Precios_Bolívares_S'!$F:$Q,6,FALSE),\"\")","v":""},{"$f":"IFERROR(VLOOKUP($A1674,'Lista de Precios_Bolívares_S'!$F:$Q,12,FALSE),\"\")","v":""},"",{"$f":"IFERROR(VLOOKUP($A1674,'Lista de Precios_USD$_Euro€'!$E:$O,11,FALSE),\"\")","v":""}]
[null,null,null,{"$f":"IFERROR(VLOOKUP($A1675,'Lista de Precios_Bolívares_S'!$F:$Q,6,FALSE),\"\")","v":""},{"$f":"IFERROR(VLOOKUP($A1675,'Lista de Precios_Bolívares_S'!$F:$Q,12,FALSE),\"\")","v":""},"",{"$f":"IFERROR(VLOOKUP($A1675,'Lista de Precios_USD$_Euro€'!$E:$O,11,FALSE),\"\")","v":""}]
[null,null,null,{"$f":"IFERROR(VLOOKUP($A1676,'Lista de Precios_Bolívares_S'!$F:$Q,6,FALSE),\"\")","v":""},{"$f":"IFERROR(VLOOKUP($A1676,'Lista de Precios_Bolívares_S'!$F:$Q,12,FALSE),\"\")","v":""},"",{"$f":"IFERROR(VLOOKUP($A1676,'Lista de Precios_USD$_Euro€'!$E:$O,11,FALSE),\"\")","v":""}]
[null,null,null,{"$f":"IFERROR(VLOOKUP($A1677,'Lista de Precios_Bolívares_S'!$F:$Q,6,FALSE),\"\")","v":""},{"$f":"IFERROR(VLOOKUP($A1677,'Lista de Precios_Bolívares_S'!$F:$Q,12,FALSE),\"\")","v":""},"",{"$f":"IFERROR(VLOOKUP($A1677,'Lista de Precios_USD$_Euro€'!$E:$O,11,FALSE),\"\")","v":""}]
[null,null,null,{"$f":"IFERROR(VLOOKUP($A1678,'Lista de Precios_Bolívares_S'!$F:$Q,6,FALSE),\"\")","v":""},{"$f":"IFERROR(VLOOKUP($A1678,'Lista de Precios_Bolívares_S'!$F:$Q,12,FALSE),\"\")","v":""},"",{"$f":"IFERROR(VLOOKUP($A1678,'Lista de Precios_USD$_Euro€'!$E:$O,11,FALSE),\"\")","v":""}]
[null,null,null,{"$f":"IFERROR(VLOOKUP($A1679,'Lista de Precios_Bolívares_S'!$F:$Q,6,FALSE),\"\")","v":""},{"$f":"IFERROR(VLOOKUP($A1679,'Lista de Precios_Bolívares_S'!$F:$Q,12,FALSE),\"\")","v":""},"",{"$f":"IFERROR(VLOOKUP($A1679,'Lista de Precios_USD$_Euro€'!$E:$O,11,FALSE),\"\")","v":""}]
[null,null,null,{"$f":"IFERROR(VLOOKUP($A1680,'Lista de Precios_Bolívares_S'!$F:$Q,6,FALSE),\"\")","v":""},{"$f":"IFERROR(VLOOKUP($A1680,'Lista de Precios_Bolívares_S'!$F:$Q,12,FALSE),\"\")","v":""},"",{"$f":"IFERROR(VLOOKUP($A1680,'Lista de Precios_USD$_Euro€'!$E:$O,11,FALSE),\"\")","v":""}]
[null,null,null,{"$f":"IFERROR(VLOOKUP($A1681,'Lista de Precios_Bolívares_S'!$F:$Q,6,FALSE),\"\")","v":""},{"$f":"IFERROR(VLOOKUP($A1681,'Lista de Precios_Bolívares_S'!$F:$Q,12,FALSE),\"\")","v":""},"",{"$f":"IFERROR(VLOOKUP($A1681,'Lista de Precios_USD$_Euro€'!$E:$O,11,FALSE),\"\")","v":""}]
[null,null,null,{"$f":"IFERROR(VLOOKUP($A1682,'Lista de Precios_Bolívares_S'!$F:$Q,6,FALSE),\"\")","v":""},{"$f":"IFERROR(VLOOKUP($A1682,'Lista de Precios_Bolívares_S'!$F:$Q,12,FALSE),\"\")","v":""},"",{"$f":"IFERROR(VLOOKUP($A1682,'Lista de Precios_USD$_Euro€'!$E:$O,11,FALSE),\"\")","v":""}]
[null,null,null,{"$f":"IFERROR(VLOOKUP($A1683,'Lista de Precios_Bolívares_S'!$F:$Q,6,FALSE),\"\")","v":""},{"$f":"IFERROR(VLOOKUP($A1683,'Lista de Precios_Bolívares_S'!$F:$Q,12,FALSE),\"\")","v":""},"",{"$f":"IFERROR(VLOOKUP($A1683,'Lista de Precios_USD$_Euro€'!$E:$O,11,FALSE),\"\")","v":""}]
[null,null,null,{"$f":"IFERROR(VLOOKUP($A1684,'Lista de Precios_Bolívares_S'!$F:$Q,6,FALSE),\"\")","v":""},{"$f":"IFERROR(VLOOKUP($A1684,'Lista de Precios_Bolívares_S'!$F:$Q,12,FALSE),\"\")","v":""},"",{"$f":"IFERROR(VLOOKUP($A1684,'Lista de Precios_USD$_Euro€'!$E:$O,11,FALSE),\"\")","v":""}]
[null,null,null,{"$f":"IFERROR(VLOOKUP($A1685,'Lista de Precios_Bolívares_S'!$F:$Q,6,FALSE),\"\")","v":""},{"$f":"IFERROR(VLOOKUP($A1685,'Lista de Precios_Bolívares_S'!$F:$Q,12,FALSE),\"\")","v":""},"",{"$f":"IFERROR(VLOOKUP($A1685,'Lista de Precios_USD$_Euro€'!$E:$O,11,FALSE),\"\")","v":""}]
[null,null,null,{"$f":"IFERROR(VLOOKUP($A1686,'Lista de Precios_Bolívares_S'!$F:$Q,6,FALSE),\"\")","v":""},{"$f":"IFERROR(VLOOKUP($A1686,'Lista de Precios_Bolívares_S'!$F:$Q,12,FALSE),\"\")","v":""},"",{"$f":"IFERROR(VLOOKUP($A1686,'Lista de Precios_USD$_Euro€'!$E:$O,11,FALSE),\"\")","v":""}]
[null,null,null,{"$f":"IFERROR(VLOOKUP($A1687,'Lista de Precios_Bolívares_S'!$F:$Q,6,FALSE),\"\")","v":""},{"$f":"IFERROR(VLOOKUP($A1687,'Lista de Precios_Bolívares_S'!$F:$Q,12,FALSE),\"\")","v":""},"",{"$f":"IFERROR(VLOOKUP($A1687,'Lista de Precios_USD$_Euro€'!$E:$O,11,FALSE),\"\")","v":""}]
[null,null,null,{"$f":"IFERROR(VLOOKUP($A1688,'Lista de Precios_Bolívares_S'!$F:$Q,6,FALSE),\"\")","v":""},{"$f":"IFERROR(VLOOKUP($A1688,'Lista de Precios_Bolívares_S'!$F:$Q,12,FALSE),\"\")","v":""},"",{"$f":"IFERROR(VLOOKUP($A1688,'Lista de Precios_USD$_Euro€'!$E:$O,11,FALSE),\"\")","v":""}]
[null,null,null,{"$f":"IFERROR(VLOOKUP($A1689,'Lista de Precios_Bolívares_S'!$F:$Q,6,FALSE),\"\")","v":""},{"$f":"IFERROR(VLOOKUP($A1689,'Lista de Precios_Bolívares_S'!$F:$Q,12,FALSE),\"\")","v":""},{"$f":"IFERROR(IF(ROUND($C1689,2)=ROUND($D1664,2),ROUND($E1664,2),ROUND($C1689,2)),\"\")","v":""},{"$f":"IFERROR(VLOOKUP($A1689,'Lista de Precios_USD$_Euro€'!$E:$O,11,FALSE),\"\")","v":""}]
[null,null,null,{"$f":"IFERROR(VLOOKUP($A1690,'Lista de Precios_Bolívares_S'!$F:$Q,6,FALSE),\"\")","v":""},{"$f":"IFERROR(VLOOKUP($A1690,'Lista de Precios_Bolívares_S'!$F:$Q,12,FALSE),\"\")","v":""},"",{"$f":"IFERROR(VLOOKUP($A1690,'Lista de Precios_USD$_Euro€'!$E:$O,11,FALSE),\"\")","v":""}]
[null,null,null,{"$f":"IFERROR(VLOOKUP($A1691,'Lista de Precios_Bolívares_S'!$F:$Q,6,FALSE),\"\")","v":""},{"$f":"IFERROR(VLOOKUP($A1691,'Lista de Precios_Bolívares_S'!$F:$Q,12,FALSE),\"\")","v":""},"",{"$f":"IFERROR(VLOOKUP($A1691,'Lista de Precios_USD$_Euro€'!$E:$O,11,FALSE),\"\")","v":""}]
[null,null,null,{"$f":"IFERROR(VLOOKUP($A1692,'Lista de Precios_Bolívares_S'!$F:$Q,6,FALSE),\"\")","v":""},{"$f":"IFERROR(VLOOKUP($A1692,'Lista de Precios_Bolívares_S'!$F:$Q,12,FALSE),\"\")","v":""},"",{"$f":"IFERROR(VLOOKUP($A1692,'Lista de Precios_USD$_Euro€'!$E:$O,11,FALSE),\"\")","v":""}]
[null,null,null,{"$f":"IFERROR(VLOOKUP($A1693,'Lista de Precios_Bolívares_S'!$F:$Q,6,FALSE),\"\")","v":""},{"$f":"IFERROR(VLOOKUP($A1693,'Lista de Precios_Bolívares_S'!$F:$Q,12,FALSE),\"\")","v":""},"",{"$f":"IFERROR(VLOOKUP($A1693,'Lista de Precios_USD$_Euro€'!$E:$O,11,FALSE),\"\")","v":""}]
[null,null,null,{"$f":"IFERROR(VLOOKUP($A1694,'Lista de Precios_Bolívares_S'!$F:$Q,6,FALSE),\"\")","v":""},{"$f":"IFERROR(VLOOKUP($A1694,'Lista de Precios_Bolívares_S'!$F:$Q,12,FALSE),\"\")","v":""},"",{"$f":"IFERROR(VLOOKUP($A1694,'Lista de Precios_USD$_Euro€'!$E:$O,11,FALSE),\"\")","v":""}]
[null,null,null,{"$f":"IFERROR(VLOOKUP($A1695,'Lista de Precios_Bolívares_S'!$F:$Q,6,FALSE),\"\")","v":""},{"$f":"IFERROR(VLOOKUP($A1695,'Lista de Precios_Bolívares_S'!$F:$Q,12,FALSE),\"\")","v":""},"",{"$f":"IFERROR(VLOOKUP($A1695,'Lista de Precios_USD$_Euro€'!$E:$O,11,FALSE),\"\")","v":""}]
[null,null,null,{"$f":"IFERROR(VLOOKUP($A1696,'Lista de Precios_Bolívares_S'!$F:$Q,6,FALSE),\"\")","v":""},{"$f":"IFERROR(VLOOKUP($A1696,'Lista de Precios_Bolívares_S'!$F:$Q,12,FALSE),\"\")","v":""},"",{"$f":"IFERROR(VLOOKUP($A1696,'Lista de Precios_USD$_Euro€'!$E:$O,11,FALSE),\"\")","v":""}]
[null,null,null,{"$f":"IFERROR(VLOOKUP($A1697,'Lista de Precios_Bolívares_S'!$F:$Q,6,FALSE),\"\")","v":""},{"$f":"IFERROR(VLOOKUP($A1697,'Lista de Precios_Bolívares_S'!$F:$Q,12,FALSE),\"\")","v":""},"",{"$f":"IFERROR(VLOOKUP($A1697,'Lista de Precios_USD$_Euro€'!$E:$O,11,FALSE),\"\")","v":""}]
[null,null,null,{"$f":"IFERROR(VLOOKUP($A1698,'Lista de Precios_Bolívares_S'!$F:$Q,6,FALSE),\"\")","v":""},{"$f":"IFERROR(VLOOKUP($A1698,'Lista de Precios_Bolívares_S'!$F:$Q,12,FALSE),\"\")","v":""},"",{"$f":"IFERROR(VLOOKUP($A1698,'Lista de Precios_USD$_Euro€'!$E:$O,11,FALSE),\"\")","v":""}]
[null,null,null,{"$f":"IFERROR(VLOOKUP($A1699,'Lista de Precios_Bolívares_S'!$F:$Q,6,FALSE),\"\")","v":""},{"$f":"IFERROR(VLOOKUP($A1699,'Lista de Precios_Bolívares_S'!$F:$Q,12,FALSE),\"\")","v":""},"",{"$f":"IFERROR(VLOOKUP($A1699,'Lista de Precios_USD$_Euro€'!$E:$O,11,FALSE),\"\")","v":""}]
[null,null,null,{"$f":"IFERROR(VLOOKUP($A1700,'Lista de Precios_Bolívares_S'!$F:$Q,6,FALSE),\"\")","v":""},{"$f":"IFERROR(VLOOKUP($A1700,'Lista de Precios_Bolívares_S'!$F:$Q,12,FALSE),\"\")","v":""},"",{"$f":"IFERROR(VLOOKUP($A1700,'Lista de Precios_USD$_Euro€'!$E:$O,11,FALSE),\"\")","v":""}]
[null,null,null,{"$f":"IFERROR(VLOOKUP($A1701,'Lista de Precios_Bolívares_S'!$F:$Q,6,FALSE),\"\")","v":""},{"$f":"IFERROR(VLOOKUP($A1701,'Lista de Precios_Bolívares_S'!$F:$Q,12,FALSE),\"\")","v":""},"",{"$f":"IFERROR(VLOOKUP($A1701,'Lista de Precios_USD$_Euro€'!$E:$O,11,FALSE),\"\")","v":""}]
[null,null,null,{"$f":"IFERROR(VLOOKUP($A1702,'Lista de Precios_Bolívares_S'!$F:$Q,6,FALSE),\"\")","v":""},{"$f":"IFERROR(VLOOKUP($A1702,'Lista de Precios_Bolívares_S'!$F:$Q,12,FALSE),\"\")","v":""},"",{"$f":"IFERROR(VLOOKUP($A1702,'Lista de Precios_USD$_Euro€'!$E:$O,11,FALSE),\"\")","v":""}]
[null,null,null,{"$f":"IFERROR(VLOOKUP($A1703,'Lista de Precios_Bolívares_S'!$F:$Q,6,FALSE),\"\")","v":""},{"$f":"IFERROR(VLOOKUP($A1703,'Lista de Precios_Bolívares_S'!$F:$Q,12,FALSE),\"\")","v":""},"",{"$f":"IFERROR(VLOOKUP($A1703,'Lista de Precios_USD$_Euro€'!$E:$O,11,FALSE),\"\")","v":""}]
[null,null,null,{"$f":"IFERROR(VLOOKUP($A1704,'Lista de Precios_Bolívares_S'!$F:$Q,6,FALSE),\"\")","v":""},{"$f":"IFERROR(VLOOKUP($A1704,'Lista de Precios_Bolívares_S'!$F:$Q,12,FALSE),\"\")","v":""},"",{"$f":"IFERROR(VLOOKUP($A1704,'Lista de Precios_USD$_Euro€'!$E:$O,11,FALSE),\"\")","v":""}]
[null,null,null,{"$f":"IFERROR(VLOOKUP($A1705,'Lista de Precios_Bolívares_S'!$F:$Q,6,FALSE),\"\")","v":""},{"$f":"IFERROR(VLOOKUP($A1705,'Lista de Precios_Bolívares_S'!$F:$Q,12,FALSE),\"\")","v":""},"",{"$f":"IFERROR(VLOOKUP($A1705,'Lista de Precios_USD$_Euro€'!$E:$O,11,FALSE),\"\")","v":""}]
[null,null,null,{"$f":"IFERROR(VLOOKUP($A1706,'Lista de Precios_Bolívares_S'!$F:$Q,6,FALSE),\"\")","v":""},{"$f":"IFERROR(VLOOKUP($A1706,'Lista de Precios_Bolívares_S'!$F:$Q,12,FALSE),\"\")","v":""},"",{"$f":"IFERROR(VLOOKUP($A1706,'Lista de Precios_USD$_Euro€'!$E:$O,11,FALSE),\"\")","v":""}]
[null,null,null,{"$f":"IFERROR(VLOOKUP($A1707,'Lista de Precios_Bolívares_S'!$F:$Q,6,FALSE),\"\")","v":""},{"$f":"IFERROR(VLOOKUP($A1707,'Lista de Precios_Bolívares_S'!$F:$Q,12,FALSE),\"\")","v":""},"",{"$f":"IFERROR(VLOOKUP($A1707,'Lista de Precios_USD$_Euro€'!$E:$O,11,FALSE),\"\")","v":""}]
[null,null,null,{"$f":"IFERROR(VLOOKUP($A1708,'Lista de Precios_Bolívares_S'!$F:$Q,6,FALSE),\"\")","v":""},{"$f":"IFERROR(VLOOKUP($A1708,'Lista de Precios_Bolívares_S'!$F:$Q,12,FALSE),\"\")","v":""},"",{"$f":"IFERROR(VLOOKUP($A1708,'Lista de Precios_USD$_Euro€'!$E:$O,11,FALSE),\"\")","v":""}]
[null,null,null,{"$f":"IFERROR(VLOOKUP($A1709,'Lista de Precios_Bolívares_S'!$F:$Q,6,FALSE),\"\")","v":""},{"$f":"IFERROR(VLOOKUP($A1709,'Lista de Precios_Bolívares_S'!$F:$Q,12,FALSE),\"\")","v":""},"",{"$f":"IFERROR(VLOOKUP($A1709,'Lista de Precios_USD$_Euro€'!$E:$O,11,FALSE),\"\")","v":""}]
[null,null,null,{"$f":"IFERROR(VLOOKUP($A1710,'Lista de Precios_Bolívares_S'!$F:$Q,6,FALSE),\"\")","v":""},{"$f":"IFERROR(VLOOKUP($A1710,'Lista de Precios_Bolívares_S'!$F:$Q,12,FALSE),\"\")","v":""},"",{"$f":"IFERROR(VLOOKUP($A1710,'Lista de Precios_USD$_Euro€'!$E:$O,11,FALSE),\"\")","v":""}]
[null,null,null,{"$f":"IFERROR(VLOOKUP($A1711,'Lista de Precios_Bolívares_S'!$F:$Q,6,FALSE),\"\")","v":""},{"$f":"IFERROR(VLOOKUP($A1711,'Lista de Precios_Bolívares_S'!$F:$Q,12,FALSE),\"\")","v":""},"",{"$f":"IFERROR(VLOOKUP($A1711,'Lista de Precios_USD$_Euro€'!$E:$O,11,FALSE),\"\")","v":""}]
[null,null,null,{"$f":"IFERROR(VLOOKUP($A1712,'Lista de Precios_Bolívares_S'!$F:$Q,6,FALSE),\"\")","v":""},{"$f":"IFERROR(VLOOKUP($A1712,'Lista de Precios_Bolívares_S'!$F:$Q,12,FALSE),\"\")","v":""},"",{"$f":"IFERROR(VLOOKUP($A1712,'Lista de Precios_USD$_Euro€'!$E:$O,11,FALSE),\"\")","v":""}]
[null,null,null,{"$f":"IFERROR(VLOOKUP($A1713,'Lista de Precios_Bolívares_S'!$F:$Q,6,FALSE),\"\")","v":""},{"$f":"IFERROR(VLOOKUP($A1713,'Lista de Precios_Bolívares_S'!$F:$Q,12,FALSE),\"\")","v":""},"",{"$f":"IFERROR(VLOOKUP($A1713,'Lista de Precios_USD$_Euro€'!$E:$O,11,FALSE),\"\")","v":""}]
[null,null,null,{"$f":"IFERROR(VLOOKUP($A1714,'Lista de Precios_Bolívares_S'!$F:$Q,6,FALSE),\"\")","v":""},{"$f":"IFERROR(VLOOKUP($A1714,'Lista de Precios_Bolívares_S'!$F:$Q,12,FALSE),\"\")","v":""},"",{"$f":"IFERROR(VLOOKUP($A1714,'Lista de Precios_USD$_Euro€'!$E:$O,11,FALSE),\"\")","v":""}]
[null,null,null,{"$f":"IFERROR(VLOOKUP($A1715,'Lista de Precios_Bolívares_S'!$F:$Q,6,FALSE),\"\")","v":""},{"$f":"IFERROR(VLOOKUP($A1715,'Lista de Precios_Bolívares_S'!$F:$Q,12,FALSE),\"\")","v":""},"",{"$f":"IFERROR(VLOOKUP($A1715,'Lista de Precios_USD$_Euro€'!$E:$O,11,FALSE),\"\")","v":""}]
[null,null,null,{"$f":"IFERROR(VLOOKUP($A1716,'Lista de Precios_Bolívares_S'!$F:$Q,6,FALSE),\"\")","v":""},{"$f":"IFERROR(VLOOKUP($A1716,'Lista de Precios_Bolívares_S'!$F:$Q,12,FALSE),\"\")","v":""},"",{"$f":"IFERROR(VLOOKUP($A1716,'Lista de Precios_USD$_Euro€'!$E:$O,11,FALSE),\"\")","v":""}]
[null,null,null,{"$f":"IFERROR(VLOOKUP($A1717,'Lista de Precios_Bolívares_S'!$F:$Q,6,FALSE),\"\")","v":""},{"$f":"IFERROR(VLOOKUP($A1717,'Lista de Precios_Bolívares_S'!$F:$Q,12,FALSE),\"\")","v":""},"",{"$f":"IFERROR(VLOOKUP($A1717,'Lista de Precios_USD$_Euro€'!$E:$O,11,FALSE),\"\")","v":""}]
[null,null,null,{"$f":"IFERROR(VLOOKUP($A1718,'Lista de Precios_Bolívares_S'!$F:$Q,6,FALSE),\"\")","v":""},{"$f":"IFERROR(VLOOKUP($A1718,'Lista de Precios_Bolívares_S'!$F:$Q,12,FALSE),\"\")","v":""},"",{"$f":"IFERROR(VLOOKUP($A1718,'Lista de Precios_USD$_Euro€'!$E:$O,11,FALSE),\"\")","v":""}]
[null,null,null,{"$f":"IFERROR(VLOOKUP($A1719,'Lista de Precios_Bolívares_S'!$F:$Q,6,FALSE),\"\")","v":""},{"$f":"IFERROR(VLOOKUP($A1719,'Lista de Precios_Bolívares_S'!$F:$Q,12,FALSE),\"\")","v":""},"",{"$f":"IFERROR(VLOOKUP($A1719,'Lista de Precios_USD$_Euro€'!$E:$O,11,FALSE),\"\")","v":""}]
[null,null,null,{"$f":"IFERROR(VLOOKUP($A1720,'Lista de Precios_Bolívares_S'!$F:$Q,6,FALSE),\"\")","v":""},{"$f":"IFERROR(VLOOKUP($A1720,'Lista de Precios_Bolívares_S'!$F:$Q,12,FALSE),\"\")","v":""},"",{"$f":"IFERROR(VLOOKUP($A1720,'Lista de Precios_USD$_Euro€'!$E:$O,11,FALSE),\"\")","v":""}]
[null,null,null,{"$f":"IFERROR(VLOOKUP($A1721,'Lista de Precios_Bolívares_S'!$F:$Q,6,FALSE),\"\")","v":""},{"$f":"IFERROR(VLOOKUP($A1721,'Lista de Precios_Bolívares_S'!$F:$Q,12,FALSE),\"\")","v":""},"",{"$f":"IFERROR(VLOOKUP($A1721,'Lista de Precios_USD$_Euro€'!$E:$O,11,FALSE),\"\")","v":""}]
[null,null,null,{"$f":"IFERROR(VLOOKUP($A1722,'Lista de Precios_Bolívares_S'!$F:$Q,6,FALSE),\"\")","v":""},{"$f":"IFERROR(VLOOKUP($A1722,'Lista de Precios_Bolívares_S'!$F:$Q,12,FALSE),\"\")","v":""},"",{"$f":"IFERROR(VLOOKUP($A1722,'Lista de Precios_USD$_Euro€'!$E:$O,11,FALSE),\"\")","v":""}]
[null,null,null,{"$f":"IFERROR(VLOOKUP($A1723,'Lista de Precios_Bolívares_S'!$F:$Q,6,FALSE),\"\")","v":""},{"$f":"IFERROR(VLOOKUP($A1723,'Lista de Precios_Bolívares_S'!$F:$Q,12,FALSE),\"\")","v":""},"",{"$f":"IFERROR(VLOOKUP($A1723,'Lista de Precios_USD$_Euro€'!$E:$O,11,FALSE),\"\")","v":""}]
[null,null,null,{"$f":"IFERROR(VLOOKUP($A1724,'Lista de Precios_Bolívares_S'!$F:$Q,6,FALSE),\"\")","v":""},{"$f":"IFERROR(VLOOKUP($A1724,'Lista de Precios_Bolívares_S'!$F:$Q,12,FALSE),\"\")","v":""},"",{"$f":"IFERROR(VLOOKUP($A1724,'Lista de Precios_USD$_Euro€'!$E:$O,11,FALSE),\"\")","v":""}]
[null,null,null,{"$f":"IFERROR(VLOOKUP($A1725,'Lista de Precios_Bolívares_S'!$F:$Q,6,FALSE),\"\")","v":""},{"$f":"IFERROR(VLOOKUP($A1725,'Lista de Precios_Bolívares_S'!$F:$Q,12,FALSE),\"\")","v":""},"",{"$f":"IFERROR(VLOOKUP($A1725,'Lista de Precios_USD$_Euro€'!$E:$O,11,FALSE),\"\")","v":""}]
[null,null,null,{"$f":"IFERROR(VLOOKUP($A1726,'Lista de Precios_Bolívares_S'!$F:$Q,6,FALSE),\"\")","v":""},{"$f":"IFERROR(VLOOKUP($A1726,'Lista de Precios_Bolívares_S'!$F:$Q,12,FALSE),\"\")","v":""},"",{"$f":"IFERROR(VLOOKUP($A1726,'Lista de Precios_USD$_Euro€'!$E:$O,11,FALSE),\"\")","v":""}]
[null,null,null,{"$f":"IFERROR(VLOOKUP($A1727,'Lista de Precios_Bolívares_S'!$F:$Q,6,FALSE),\"\")","v":""},{"$f":"IFERROR(VLOOKUP($A1727,'Lista de Precios_Bolívares_S'!$F:$Q,12,FALSE),\"\")","v":""},"",{"$f":"IFERROR(VLOOKUP($A1727,'Lista de Precios_USD$_Euro€'!$E:$O,11,FALSE),\"\")","v":""}]
[null,null,null,{"$f":"IFERROR(VLOOKUP($A1728,'Lista de Precios_Bolívares_S'!$F:$Q,6,FALSE),\"\")","v":""},{"$f":"IFERROR(VLOOKUP($A1728,'Lista de Precios_Bolívares_S'!$F:$Q,12,FALSE),\"\")","v":""},"",{"$f":"IFERROR(VLOOKUP($A1728,'Lista de Precios_USD$_Euro€'!$E:$O,11,FALSE),\"\")","v":""}]
[null,null,null,{"$f":"IFERROR(VLOOKUP($A1729,'Lista de Precios_Bolívares_S'!$F:$Q,6,FALSE),\"\")","v":""},{"$f":"IFERROR(VLOOKUP($A1729,'Lista de Precios_Bolívares_S'!$F:$Q,12,FALSE),\"\")","v":""},"",{"$f":"IFERROR(VLOOKUP($A1729,'Lista de Precios_USD$_Euro€'!$E:$O,11,FALSE),\"\")","v":""}]
[null,null,null,{"$f":"IFERROR(VLOOKUP($A1730,'Lista de Precios_Bolívares_S'!$F:$Q,6,FALSE),\"\")","v":""},{"$f":"IFERROR(VLOOKUP($A1730,'Lista de Precios_Bolívares_S'!$F:$Q,12,FALSE),\"\")","v":""},"",{"$f":"IFERROR(VLOOKUP($A1730,'Lista de Precios_USD$_Euro€'!$E:$O,11,FALSE),\"\")","v":""}]
[null,null,null,{"$f":"IFERROR(VLOOKUP($A1731,'Lista de Precios_Bolívares_S'!$F:$Q,6,FALSE),\"\")","v":""},{"$f":"IFERROR(VLOOKUP($A1731,'Lista de Precios_Bolívares_S'!$F:$Q,12,FALSE),\"\")","v":""},"",{"$f":"IFERROR(VLOOKUP($A1731,'Lista de Precios_USD$_Euro€'!$E:$O,11,FALSE),\"\")","v":""}]
[null,null,null,{"$f":"IFERROR(VLOOKUP($A1732,'Lista de Precios_Bolívares_S'!$F:$Q,6,FALSE),\"\")","v":""},{"$f":"IFERROR(VLOOKUP($A1732,'Lista de Precios_Bolívares_S'!$F:$Q,12,FALSE),\"\")","v":""},"",{"$f":"IFERROR(VLOOKUP($A1732,'Lista de Precios_USD$_Euro€'!$E:$O,11,FALSE),\"\")","v":""}]
[null,null,null,{"$f":"IFERROR(VLOOKUP($A1733,'Lista de Precios_Bolívares_S'!$F:$Q,6,FALSE),\"\")","v":""},{"$f":"IFERROR(VLOOKUP($A1733,'Lista de Precios_Bolívares_S'!$F:$Q,12,FALSE),\"\")","v":""},"",{"$f":"IFERROR(VLOOKUP($A1733,'Lista de Precios_USD$_Euro€'!$E:$O,11,FALSE),\"\")","v":""}]
[null,null,null,{"$f":"IFERROR(VLOOKUP($A1734,'Lista de Precios_Bolívares_S'!$F:$Q,6,FALSE),\"\")","v":""},{"$f":"IFERROR(VLOOKUP($A1734,'Lista de Precios_Bolívares_S'!$F:$Q,12,FALSE),\"\")","v":""},"",{"$f":"IFERROR(VLOOKUP($A1734,'Lista de Precios_USD$_Euro€'!$E:$O,11,FALSE),\"\")","v":""}]
[null,null,null,{"$f":"IFERROR(VLOOKUP($A1735,'Lista de Precios_Bolívares_S'!$F:$Q,6,FALSE),\"\")","v":""},{"$f":"IFERROR(VLOOKUP($A1735,'Lista de Precios_Bolívares_S'!$F:$Q,12,FALSE),\"\")","v":""},"",{"$f":"IFERROR(VLOOKUP($A1735,'Lista de Precios_USD$_Euro€'!$E:$O,11,FALSE),\"\")","v":""}]
[null,null,null,{"$f":"IFERROR(VLOOKUP($A1736,'Lista de Precios_Bolívares_S'!$F:$Q,6,FALSE),\"\")","v":""},{"$f":"IFERROR(VLOOKUP($A1736,'Lista de Precios_Bolívares_S'!$F:$Q,12,FALSE),\"\")","v":""},"",{"$f":"IFERROR(VLOOKUP($A1736,'Lista de Precios_USD$_Euro€'!$E:$O,11,FALSE),\"\")","v":""}]
[null,null,null,{"$f":"IFERROR(VLOOKUP($A1737,'Lista de Precios_Bolívares_S'!$F:$Q,6,FALSE),\"\")","v":""},{"$f":"IFERROR(VLOOKUP($A1737,'Lista de Precios_Bolívares_S'!$F:$Q,12,FALSE),\"\")","v":""},"",{"$f":"IFERROR(VLOOKUP($A1737,'Lista de Precios_USD$_Euro€'!$E:$O,11,FALSE),\"\")","v":""}]
[null,null,null,{"$f":"IFERROR(VLOOKUP($A1738,'Lista de Precios_Bolívares_S'!$F:$Q,6,FALSE),\"\")","v":""},{"$f":"IFERROR(VLOOKUP($A1738,'Lista de Precios_Bolívares_S'!$F:$Q,12,FALSE),\"\")","v":""},"",{"$f":"IFERROR(VLOOKUP($A1738,'Lista de Precios_USD$_Euro€'!$E:$O,11,FALSE),\"\")","v":""}]
[null,null,null,{"$f":"IFERROR(VLOOKUP($A1739,'Lista de Precios_Bolívares_S'!$F:$Q,6,FALSE),\"\")","v":""},{"$f":"IFERROR(VLOOKUP($A1739,'Lista de Precios_Bolívares_S'!$F:$Q,12,FALSE),\"\")","v":""},"",{"$f":"IFERROR(VLOOKUP($A1739,'Lista de Precios_USD$_Euro€'!$E:$O,11,FALSE),\"\")","v":""}]
[null,null,null,{"$f":"IFERROR(VLOOKUP($A1740,'Lista de Precios_Bolívares_S'!$F:$Q,6,FALSE),\"\")","v":""},{"$f":"IFERROR(VLOOKUP($A1740,'Lista de Precios_Bolívares_S'!$F:$Q,12,FALSE),\"\")","v":""},"",{"$f":"IFERROR(VLOOKUP($A1740,'Lista de Precios_USD$_Euro€'!$E:$O,11,FALSE),\"\")","v":""}]
[null,null,null,{"$f":"IFERROR(VLOOKUP($A1741,'Lista de Precios_Bolívares_S'!$F:$Q,6,FALSE),\"\")","v":""},{"$f":"IFERROR(VLOOKUP($A1741,'Lista de Precios_Bolívares_S'!$F:$Q,12,FALSE),\"\")","v":""},"",{"$f":"IFERROR(VLOOKUP($A1741,'Lista de Precios_USD$_Euro€'!$E:$O,11,FALSE),\"\")","v":""}]
[null,null,null,{"$f":"IFERROR(VLOOKUP($A1742,'Lista de Precios_Bolívares_S'!$F:$Q,6,FALSE),\"\")","v":""},{"$f":"IFERROR(VLOOKUP($A1742,'Lista de Precios_Bolívares_S'!$F:$Q,12,FALSE),\"\")","v":""},"",{"$f":"IFERROR(VLOOKUP($A1742,'Lista de Precios_USD$_Euro€'!$E:$O,11,FALSE),\"\")","v":""}]
[null,null,null,{"$f":"IFERROR(VLOOKUP($A1743,'Lista de Precios_Bolívares_S'!$F:$Q,6,FALSE),\"\")","v":""},{"$f":"IFERROR(VLOOKUP($A1743,'Lista de Precios_Bolívares_S'!$F:$Q,12,FALSE),\"\")","v":""},"",{"$f":"IFERROR(VLOOKUP($A1743,'Lista de Precios_USD$_Euro€'!$E:$O,11,FALSE),\"\")","v":""}]
[null,null,null,{"$f":"IFERROR(VLOOKUP($A1744,'Lista de Precios_Bolívares_S'!$F:$Q,6,FALSE),\"\")","v":""},{"$f":"IFERROR(VLOOKUP($A1744,'Lista de Precios_Bolívares_S'!$F:$Q,12,FALSE),\"\")","v":""},"",{"$f":"IFERROR(VLOOKUP($A1744,'Lista de Precios_USD$_Euro€'!$E:$O,11,FALSE),\"\")","v":""}]
[null,null,null,{"$f":"IFERROR(VLOOKUP($A1745,'Lista de Precios_Bolívares_S'!$F:$Q,6,FALSE),\"\")","v":""},{"$f":"IFERROR(VLOOKUP($A1745,'Lista de Precios_Bolívares_S'!$F:$Q,12,FALSE),\"\")","v":""},"",{"$f":"IFERROR(VLOOKUP($A1745,'Lista de Precios_USD$_Euro€'!$E:$O,11,FALSE),\"\")","v":""}]
[null,null,null,{"$f":"IFERROR(VLOOKUP($A1746,'Lista de Precios_Bolívares_S'!$F:$Q,6,FALSE),\"\")","v":""},{"$f":"IFERROR(VLOOKUP($A1746,'Lista de Precios_Bolívares_S'!$F:$Q,12,FALSE),\"\")","v":""},"",{"$f":"IFERROR(VLOOKUP($A1746,'Lista de Precios_USD$_Euro€'!$E:$O,11,FALSE),\"\")","v":""}]
[null,null,null,{"$f":"IFERROR(VLOOKUP($A1747,'Lista de Precios_Bolívares_S'!$F:$Q,6,FALSE),\"\")","v":""},{"$f":"IFERROR(VLOOKUP($A1747,'Lista de Precios_Bolívares_S'!$F:$Q,12,FALSE),\"\")","v":""},"",{"$f":"IFERROR(VLOOKUP($A1747,'Lista de Precios_USD$_Euro€'!$E:$O,11,FALSE),\"\")","v":""}]
[null,null,null,{"$f":"IFERROR(VLOOKUP($A1748,'Lista de Precios_Bolívares_S'!$F:$Q,6,FALSE),\"\")","v":""},{"$f":"IFERROR(VLOOKUP($A1748,'Lista de Precios_Bolívares_S'!$F:$Q,12,FALSE),\"\")","v":""},"",{"$f":"IFERROR(VLOOKUP($A1748,'Lista de Precios_USD$_Euro€'!$E:$O,11,FALSE),\"\")","v":""}]
[null,null,null,{"$f":"IFERROR(VLOOKUP($A1749,'Lista de Precios_Bolívares_S'!$F:$Q,6,FALSE),\"\")","v":""},{"$f":"IFERROR(VLOOKUP($A1749,'Lista de Precios_Bolívares_S'!$F:$Q,12,FALSE),\"\")","v":""},"",{"$f":"IFERROR(VLOOKUP($A1749,'Lista de Precios_USD$_Euro€'!$E:$O,11,FALSE),\"\")","v":""}]
[null,null,null,{"$f":"IFERROR(VLOOKUP($A1750,'Lista de Precios_Bolívares_S'!$F:$Q,6,FALSE),\"\")","v":""},{"$f":"IFERROR(VLOOKUP($A1750,'Lista de Precios_Bolívares_S'!$F:$Q,12,FALSE),\"\")","v":""},"",{"$f":"IFERROR(VLOOKUP($A1750,'Lista de Precios_USD$_Euro€'!$E:$O,11,FALSE),\"\")","v":""}]
[null,null,null,{"$f":"IFERROR(VLOOKUP($A1751,'Lista de Precios_Bolívares_S'!$F:$Q,6,FALSE),\"\")","v":""},{"$f":"IFERROR(VLOOKUP($A1751,'Lista de Precios_Bolívares_S'!$F:$Q,12,FALSE),\"\")","v":""},"",{"$f":"IFERROR(VLOOKUP($A1751,'Lista de Precios_USD$_Euro€'!$E:$O,11,FALSE),\"\")","v":""}]
[null,null,null,{"$f":"IFERROR(VLOOKUP($A1752,'Lista de Precios_Bolívares_S'!$F:$Q,6,FALSE),\"\")","v":""},{"$f":"IFERROR(VLOOKUP($A1752,'Lista de Precios_Bolívares_S'!$F:$Q,12,FALSE),\"\")","v":""},"",{"$f":"IFERROR(VLOOKUP($A1752,'Lista de Precios_USD$_Euro€'!$E:$O,11,FALSE),\"\")","v":""}]
[null,null,null,{"$f":"IFERROR(VLOOKUP($A1753,'Lista de Precios_Bolívares_S'!$F:$Q,6,FALSE),\"\")","v":""},{"$f":"IFERROR(VLOOKUP($A1753,'Lista de Precios_Bolívares_S'!$F:$Q,12,FALSE),\"\")","v":""},{"$f":"IFERROR(IF(ROUND($C1753,2)=ROUND($D1728,2),ROUND($E1728,2),ROUND($C1753,2)),\"\")","v":""},{"$f":"IFERROR(VLOOKUP($A1753,'Lista de Precios_USD$_Euro€'!$E:$O,11,FALSE),\"\")","v":""}]
[null,null,null,{"$f":"IFERROR(VLOOKUP($A1754,'Lista de Precios_Bolívares_S'!$F:$Q,6,FALSE),\"\")","v":""},{"$f":"IFERROR(VLOOKUP($A1754,'Lista de Precios_Bolívares_S'!$F:$Q,12,FALSE),\"\")","v":""},"",{"$f":"IFERROR(VLOOKUP($A1754,'Lista de Precios_USD$_Euro€'!$E:$O,11,FALSE),\"\")","v":""}]
[null,null,null,{"$f":"IFERROR(VLOOKUP($A1755,'Lista de Precios_Bolívares_S'!$F:$Q,6,FALSE),\"\")","v":""},{"$f":"IFERROR(VLOOKUP($A1755,'Lista de Precios_Bolívares_S'!$F:$Q,12,FALSE),\"\")","v":""},"",{"$f":"IFERROR(VLOOKUP($A1755,'Lista de Precios_USD$_Euro€'!$E:$O,11,FALSE),\"\")","v":""}]
[null,null,null,{"$f":"IFERROR(VLOOKUP($A1756,'Lista de Precios_Bolívares_S'!$F:$Q,6,FALSE),\"\")","v":""},{"$f":"IFERROR(VLOOKUP($A1756,'Lista de Precios_Bolívares_S'!$F:$Q,12,FALSE),\"\")","v":""},"",{"$f":"IFERROR(VLOOKUP($A1756,'Lista de Precios_USD$_Euro€'!$E:$O,11,FALSE),\"\")","v":""}]
[null,null,null,{"$f":"IFERROR(VLOOKUP($A1757,'Lista de Precios_Bolívares_S'!$F:$Q,6,FALSE),\"\")","v":""},{"$f":"IFERROR(VLOOKUP($A1757,'Lista de Precios_Bolívares_S'!$F:$Q,12,FALSE),\"\")","v":""},"",{"$f":"IFERROR(VLOOKUP($A1757,'Lista de Precios_USD$_Euro€'!$E:$O,11,FALSE),\"\")","v":""}]
[null,null,null,{"$f":"IFERROR(VLOOKUP($A1758,'Lista de Precios_Bolívares_S'!$F:$Q,6,FALSE),\"\")","v":""},{"$f":"IFERROR(VLOOKUP($A1758,'Lista de Precios_Bolívares_S'!$F:$Q,12,FALSE),\"\")","v":""},"",{"$f":"IFERROR(VLOOKUP($A1758,'Lista de Precios_USD$_Euro€'!$E:$O,11,FALSE),\"\")","v":""}]
[null,null,null,{"$f":"IFERROR(VLOOKUP($A1759,'Lista de Precios_Bolívares_S'!$F:$Q,6,FALSE),\"\")","v":""},{"$f":"IFERROR(VLOOKUP($A1759,'Lista de Precios_Bolívares_S'!$F:$Q,12,FALSE),\"\")","v":""},"",{"$f":"IFERROR(VLOOKUP($A1759,'Lista de Precios_USD$_Euro€'!$E:$O,11,FALSE),\"\")","v":""}]
[null,null,null,{"$f":"IFERROR(VLOOKUP($A1760,'Lista de Precios_Bolívares_S'!$F:$Q,6,FALSE),\"\")","v":""},{"$f":"IFERROR(VLOOKUP($A1760,'Lista de Precios_Bolívares_S'!$F:$Q,12,FALSE),\"\")","v":""},"",{"$f":"IFERROR(VLOOKUP($A1760,'Lista de Precios_USD$_Euro€'!$E:$O,11,FALSE),\"\")","v":""}]
[null,null,null,{"$f":"IFERROR(VLOOKUP($A1761,'Lista de Precios_Bolívares_S'!$F:$Q,6,FALSE),\"\")","v":""},{"$f":"IFERROR(VLOOKUP($A1761,'Lista de Precios_Bolívares_S'!$F:$Q,12,FALSE),\"\")","v":""},"",{"$f":"IFERROR(VLOOKUP($A1761,'Lista de Precios_USD$_Euro€'!$E:$O,11,FALSE),\"\")","v":""}]
[null,null,null,{"$f":"IFERROR(VLOOKUP($A1762,'Lista de Precios_Bolívares_S'!$F:$Q,6,FALSE),\"\")","v":""},{"$f":"IFERROR(VLOOKUP($A1762,'Lista de Precios_Bolívares_S'!$F:$Q,12,FALSE),\"\")","v":""},"",{"$f":"IFERROR(VLOOKUP($A1762,'Lista de Precios_USD$_Euro€'!$E:$O,11,FALSE),\"\")","v":""}]
[null,null,null,{"$f":"IFERROR(VLOOKUP($A1763,'Lista de Precios_Bolívares_S'!$F:$Q,6,FALSE),\"\")","v":""},{"$f":"IFERROR(VLOOKUP($A1763,'Lista de Precios_Bolívares_S'!$F:$Q,12,FALSE),\"\")","v":""},"",{"$f":"IFERROR(VLOOKUP($A1763,'Lista de Precios_USD$_Euro€'!$E:$O,11,FALSE),\"\")","v":""}]
[null,null,null,{"$f":"IFERROR(VLOOKUP($A1764,'Lista de Precios_Bolívares_S'!$F:$Q,6,FALSE),\"\")","v":""},{"$f":"IFERROR(VLOOKUP($A1764,'Lista de Precios_Bolívares_S'!$F:$Q,12,FALSE),\"\")","v":""},"",{"$f":"IFERROR(VLOOKUP($A1764,'Lista de Precios_USD$_Euro€'!$E:$O,11,FALSE),\"\")","v":""}]
[null,null,null,{"$f":"IFERROR(VLOOKUP($A1765,'Lista de Precios_Bolívares_S'!$F:$Q,6,FALSE),\"\")","v":""},{"$f":"IFERROR(VLOOKUP($A1765,'Lista de Precios_Bolívares_S'!$F:$Q,12,FALSE),\"\")","v":""},"",{"$f":"IFERROR(VLOOKUP($A1765,'Lista de Precios_USD$_Euro€'!$E:$O,11,FALSE),\"\")","v":""}]
[null,null,null,{"$f":"IFERROR(VLOOKUP($A1766,'Lista de Precios_Bolívares_S'!$F:$Q,6,FALSE),\"\")","v":""},{"$f":"IFERROR(VLOOKUP($A1766,'Lista de Precios_Bolívares_S'!$F:$Q,12,FALSE),\"\")","v":""},"",{"$f":"IFERROR(VLOOKUP($A1766,'Lista de Precios_USD$_Euro€'!$E:$O,11,FALSE),\"\")","v":""}]
[null,null,null,{"$f":"IFERROR(VLOOKUP($A1767,'Lista de Precios_Bolívares_S'!$F:$Q,6,FALSE),\"\")","v":""},{"$f":"IFERROR(VLOOKUP($A1767,'Lista de Precios_Bolívares_S'!$F:$Q,12,FALSE),\"\")","v":""},"",{"$f":"IFERROR(VLOOKUP($A1767,'Lista de Precios_USD$_Euro€'!$E:$O,11,FALSE),\"\")","v":""}]
[null,null,null,{"$f":"IFERROR(VLOOKUP($A1768,'Lista de Precios_Bolívares_S'!$F:$Q,6,FALSE),\"\")","v":""},{"$f":"IFERROR(VLOOKUP($A1768,'Lista de Precios_Bolívares_S'!$F:$Q,12,FALSE),\"\")","v":""},"",{"$f":"IFERROR(VLOOKUP($A1768,'Lista de Precios_USD$_Euro€'!$E:$O,11,FALSE),\"\")","v":""}]
[null,null,null,{"$f":"IFERROR(VLOOKUP($A1769,'Lista de Precios_Bolívares_S'!$F:$Q,6,FALSE),\"\")","v":""},{"$f":"IFERROR(VLOOKUP($A1769,'Lista de Precios_Bolívares_S'!$F:$Q,12,FALSE),\"\")","v":""},"",{"$f":"IFERROR(VLOOKUP($A1769,'Lista de Precios_USD$_Euro€'!$E:$O,11,FALSE),\"\")","v":""}]
[null,null,null,{"$f":"IFERROR(VLOOKUP($A1770,'Lista de Precios_Bolívares_S'!$F:$Q,6,FALSE),\"\")","v":""},{"$f":"IFERROR(VLOOKUP($A1770,'Lista de Precios_Bolívares_S'!$F:$Q,12,FALSE),\"\")","v":""},"",{"$f":"IFERROR(VLOOKUP($A1770,'Lista de Precios_USD$_Euro€'!$E:$O,11,FALSE),\"\")","v":""}]
[null,null,null,{"$f":"IFERROR(VLOOKUP($A1771,'Lista de Precios_Bolívares_S'!$F:$Q,6,FALSE),\"\")","v":""},{"$f":"IFERROR(VLOOKUP($A1771,'Lista de Precios_Bolívares_S'!$F:$Q,12,FALSE),\"\")","v":""},"",{"$f":"IFERROR(VLOOKUP($A1771,'Lista de Precios_USD$_Euro€'!$E:$O,11,FALSE),\"\")","v":""}]
[null,null,null,{"$f":"IFERROR(VLOOKUP($A1772,'Lista de Precios_Bolívares_S'!$F:$Q,6,FALSE),\"\")","v":""},{"$f":"IFERROR(VLOOKUP($A1772,'Lista de Precios_Bolívares_S'!$F:$Q,12,FALSE),\"\")","v":""},"",{"$f":"IFERROR(VLOOKUP($A1772,'Lista de Precios_USD$_Euro€'!$E:$O,11,FALSE),\"\")","v":""}]
[null,null,null,{"$f":"IFERROR(VLOOKUP($A1773,'Lista de Precios_Bolívares_S'!$F:$Q,6,FALSE),\"\")","v":""},{"$f":"IFERROR(VLOOKUP($A1773,'Lista de Precios_Bolívares_S'!$F:$Q,12,FALSE),\"\")","v":""},"",{"$f":"IFERROR(VLOOKUP($A1773,'Lista de Precios_USD$_Euro€'!$E:$O,11,FALSE),\"\")","v":""}]
[null,null,null,{"$f":"IFERROR(VLOOKUP($A1774,'Lista de Precios_Bolívares_S'!$F:$Q,6,FALSE),\"\")","v":""},{"$f":"IFERROR(VLOOKUP($A1774,'Lista de Precios_Bolívares_S'!$F:$Q,12,FALSE),\"\")","v":""},"",{"$f":"IFERROR(VLOOKUP($A1774,'Lista de Precios_USD$_Euro€'!$E:$O,11,FALSE),\"\")","v":""}]
[null,null,null,{"$f":"IFERROR(VLOOKUP($A1775,'Lista de Precios_Bolívares_S'!$F:$Q,6,FALSE),\"\")","v":""},{"$f":"IFERROR(VLOOKUP($A1775,'Lista de Precios_Bolívares_S'!$F:$Q,12,FALSE),\"\")","v":""},"",{"$f":"IFERROR(VLOOKUP($A1775,'Lista de Precios_USD$_Euro€'!$E:$O,11,FALSE),\"\")","v":""}]
[null,null,null,{"$f":"IFERROR(VLOOKUP($A1776,'Lista de Precios_Bolívares_S'!$F:$Q,6,FALSE),\"\")","v":""},{"$f":"IFERROR(VLOOKUP($A1776,'Lista de Precios_Bolívares_S'!$F:$Q,12,FALSE),\"\")","v":""},"",{"$f":"IFERROR(VLOOKUP($A1776,'Lista de Precios_USD$_Euro€'!$E:$O,11,FALSE),\"\")","v":""}]
[null,null,null,{"$f":"IFERROR(VLOOKUP($A1777,'Lista de Precios_Bolívares_S'!$F:$Q,6,FALSE),\"\")","v":""},{"$f":"IFERROR(VLOOKUP($A1777,'Lista de Precios_Bolívares_S'!$F:$Q,12,FALSE),\"\")","v":""},"",{"$f":"IFERROR(VLOOKUP($A1777,'Lista de Precios_USD$_Euro€'!$E:$O,11,FALSE),\"\")","v":""}]
[null,null,null,{"$f":"IFERROR(VLOOKUP($A1778,'Lista de Precios_Bolívares_S'!$F:$Q,6,FALSE),\"\")","v":""},{"$f":"IFERROR(VLOOKUP($A1778,'Lista de Precios_Bolívares_S'!$F:$Q,12,FALSE),\"\")","v":""},"",{"$f":"IFERROR(VLOOKUP($A1778,'Lista de Precios_USD$_Euro€'!$E:$O,11,FALSE),\"\")","v":""}]
[null,null,null,{"$f":"IFERROR(VLOOKUP($A1779,'Lista de Precios_Bolívares_S'!$F:$Q,6,FALSE),\"\")","v":""},{"$f":"IFERROR(VLOOKUP($A1779,'Lista de Precios_Bolívares_S'!$F:$Q,12,FALSE),\"\")","v":""},"",{"$f":"IFERROR(VLOOKUP($A1779,'Lista de Precios_USD$_Euro€'!$E:$O,11,FALSE),\"\")","v":""}]
[null,null,null,{"$f":"IFERROR(VLOOKUP($A1780,'Lista de Precios_Bolívares_S'!$F:$Q,6,FALSE),\"\")","v":""},{"$f":"IFERROR(VLOOKUP($A1780,'Lista de Precios_Bolívares_S'!$F:$Q,12,FALSE),\"\")","v":""},"",{"$f":"IFERROR(VLOOKUP($A1780,'Lista de Precios_USD$_Euro€'!$E:$O,11,FALSE),\"\")","v":""}]
[null,null,null,{"$f":"IFERROR(VLOOKUP($A1781,'Lista de Precios_Bolívares_S'!$F:$Q,6,FALSE),\"\")","v":""},{"$f":"IFERROR(VLOOKUP($A1781,'Lista de Precios_Bolívares_S'!$F:$Q,12,FALSE),\"\")","v":""},"",{"$f":"IFERROR(VLOOKUP($A1781,'Lista de Precios_USD$_Euro€'!$E:$O,11,FALSE),\"\")","v":""}]
[null,null,null,{"$f":"IFERROR(VLOOKUP($A1782,'Lista de Precios_Bolívares_S'!$F:$Q,6,FALSE),\"\")","v":""},{"$f":"IFERROR(VLOOKUP($A1782,'Lista de Precios_Bolívares_S'!$F:$Q,12,FALSE),\"\")","v":""},"",{"$f":"IFERROR(VLOOKUP($A1782,'Lista de Precios_USD$_Euro€'!$E:$O,11,FALSE),\"\")","v":""}]
[null,null,null,{"$f":"IFERROR(VLOOKUP($A1783,'Lista de Precios_Bolívares_S'!$F:$Q,6,FALSE),\"\")","v":""},{"$f":"IFERROR(VLOOKUP($A1783,'Lista de Precios_Bolívares_S'!$F:$Q,12,FALSE),\"\")","v":""},"",{"$f":"IFERROR(VLOOKUP($A1783,'Lista de Precios_USD$_Euro€'!$E:$O,11,FALSE),\"\")","v":""}]
[null,null,null,{"$f":"IFERROR(VLOOKUP($A1784,'Lista de Precios_Bolívares_S'!$F:$Q,6,FALSE),\"\")","v":""},{"$f":"IFERROR(VLOOKUP($A1784,'Lista de Precios_Bolívares_S'!$F:$Q,12,FALSE),\"\")","v":""},"",{"$f":"IFERROR(VLOOKUP($A1784,'Lista de Precios_USD$_Euro€'!$E:$O,11,FALSE),\"\")","v":""}]
[null,null,null,{"$f":"IFERROR(VLOOKUP($A1785,'Lista de Precios_Bolívares_S'!$F:$Q,6,FALSE),\"\")","v":""},{"$f":"IFERROR(VLOOKUP($A1785,'Lista de Precios_Bolívares_S'!$F:$Q,12,FALSE),\"\")","v":""},"",{"$f":"IFERROR(VLOOKUP($A1785,'Lista de Precios_USD$_Euro€'!$E:$O,11,FALSE),\"\")","v":""}]
[null,null,null,{"$f":"IFERROR(VLOOKUP($A1786,'Lista de Precios_Bolívares_S'!$F:$Q,6,FALSE),\"\")","v":""},{"$f":"IFERROR(VLOOKUP($A1786,'Lista de Precios_Bolívares_S'!$F:$Q,12,FALSE),\"\")","v":""},"",{"$f":"IFERROR(VLOOKUP($A1786,'Lista de Precios_USD$_Euro€'!$E:$O,11,FALSE),\"\")","v":""}]
[null,null,null,{"$f":"IFERROR(VLOOKUP($A1787,'Lista de Precios_Bolívares_S'!$F:$Q,6,FALSE),\"\")","v":""},{"$f":"IFERROR(VLOOKUP($A1787,'Lista de Precios_Bolívares_S'!$F:$Q,12,FALSE),\"\")","v":""},"",{"$f":"IFERROR(VLOOKUP($A1787,'Lista de Precios_USD$_Euro€'!$E:$O,11,FALSE),\"\")","v":""}]
[null,null,null,{"$f":"IFERROR(VLOOKUP($A1788,'Lista de Precios_Bolívares_S'!$F:$Q,6,FALSE),\"\")","v":""},{"$f":"IFERROR(VLOOKUP($A1788,'Lista de Precios_Bolívares_S'!$F:$Q,12,FALSE),\"\")","v":""},"",{"$f":"IFERROR(VLOOKUP($A1788,'Lista de Precios_USD$_Euro€'!$E:$O,11,FALSE),\"\")","v":""}]
[null,null,null,{"$f":"IFERROR(VLOOKUP($A1789,'Lista de Precios_Bolívares_S'!$F:$Q,6,FALSE),\"\")","v":""},{"$f":"IFERROR(VLOOKUP($A1789,'Lista de Precios_Bolívares_S'!$F:$Q,12,FALSE),\"\")","v":""},"",{"$f":"IFERROR(VLOOKUP($A1789,'Lista de Precios_USD$_Euro€'!$E:$O,11,FALSE),\"\")","v":""}]
[null,null,null,{"$f":"IFERROR(VLOOKUP($A1790,'Lista de Precios_Bolívares_S'!$F:$Q,6,FALSE),\"\")","v":""},{"$f":"IFERROR(VLOOKUP($A1790,'Lista de Precios_Bolívares_S'!$F:$Q,12,FALSE),\"\")","v":""},"",{"$f":"IFERROR(VLOOKUP($A1790,'Lista de Precios_USD$_Euro€'!$E:$O,11,FALSE),\"\")","v":""}]
[null,null,null,{"$f":"IFERROR(VLOOKUP($A1791,'Lista de Precios_Bolívares_S'!$F:$Q,6,FALSE),\"\")","v":""},{"$f":"IFERROR(VLOOKUP($A1791,'Lista de Precios_Bolívares_S'!$F:$Q,12,FALSE),\"\")","v":""},"",{"$f":"IFERROR(VLOOKUP($A1791,'Lista de Precios_USD$_Euro€'!$E:$O,11,FALSE),\"\")","v":""}]
[null,null,null,{"$f":"IFERROR(VLOOKUP($A1792,'Lista de Precios_Bolívares_S'!$F:$Q,6,FALSE),\"\")","v":""},{"$f":"IFERROR(VLOOKUP($A1792,'Lista de Precios_Bolívares_S'!$F:$Q,12,FALSE),\"\")","v":""},"",{"$f":"IFERROR(VLOOKUP($A1792,'Lista de Precios_USD$_Euro€'!$E:$O,11,FALSE),\"\")","v":""}]
[null,null,null,{"$f":"IFERROR(VLOOKUP($A1793,'Lista de Precios_Bolívares_S'!$F:$Q,6,FALSE),\"\")","v":""},{"$f":"IFERROR(VLOOKUP($A1793,'Lista de Precios_Bolívares_S'!$F:$Q,12,FALSE),\"\")","v":""},"",{"$f":"IFERROR(VLOOKUP($A1793,'Lista de Precios_USD$_Euro€'!$E:$O,11,FALSE),\"\")","v":""}]
[null,null,null,{"$f":"IFERROR(VLOOKUP($A1794,'Lista de Precios_Bolívares_S'!$F:$Q,6,FALSE),\"\")","v":""},{"$f":"IFERROR(VLOOKUP($A1794,'Lista de Precios_Bolívares_S'!$F:$Q,12,FALSE),\"\")","v":""},"",{"$f":"IFERROR(VLOOKUP($A1794,'Lista de Precios_USD$_Euro€'!$E:$O,11,FALSE),\"\")","v":""}]
[null,null,null,{"$f":"IFERROR(VLOOKUP($A1795,'Lista de Precios_Bolívares_S'!$F:$Q,6,FALSE),\"\")","v":""},{"$f":"IFERROR(VLOOKUP($A1795,'Lista de Precios_Bolívares_S'!$F:$Q,12,FALSE),\"\")","v":""},"",{"$f":"IFERROR(VLOOKUP($A1795,'Lista de Precios_USD$_Euro€'!$E:$O,11,FALSE),\"\")","v":""}]
[null,null,null,{"$f":"IFERROR(VLOOKUP($A1796,'Lista de Precios_Bolívares_S'!$F:$Q,6,FALSE),\"\")","v":""},{"$f":"IFERROR(VLOOKUP($A1796,'Lista de Precios_Bolívares_S'!$F:$Q,12,FALSE),\"\")","v":""},"",{"$f":"IFERROR(VLOOKUP($A1796,'Lista de Precios_USD$_Euro€'!$E:$O,11,FALSE),\"\")","v":""}]
[null,null,null,{"$f":"IFERROR(VLOOKUP($A1797,'Lista de Precios_Bolívares_S'!$F:$Q,6,FALSE),\"\")","v":""},{"$f":"IFERROR(VLOOKUP($A1797,'Lista de Precios_Bolívares_S'!$F:$Q,12,FALSE),\"\")","v":""},"",{"$f":"IFERROR(VLOOKUP($A1797,'Lista de Precios_USD$_Euro€'!$E:$O,11,FALSE),\"\")","v":""}]
[null,null,null,{"$f":"IFERROR(VLOOKUP($A1798,'Lista de Precios_Bolívares_S'!$F:$Q,6,FALSE),\"\")","v":""},{"$f":"IFERROR(VLOOKUP($A1798,'Lista de Precios_Bolívares_S'!$F:$Q,12,FALSE),\"\")","v":""},"",{"$f":"IFERROR(VLOOKUP($A1798,'Lista de Precios_USD$_Euro€'!$E:$O,11,FALSE),\"\")","v":""}]
[null,null,null,{"$f":"IFERROR(VLOOKUP($A1799,'Lista de Precios_Bolívares_S'!$F:$Q,6,FALSE),\"\")","v":""},{"$f":"IFERROR(VLOOKUP($A1799,'Lista de Precios_Bolívares_S'!$F:$Q,12,FALSE),\"\")","v":""},"",{"$f":"IFERROR(VLOOKUP($A1799,'Lista de Precios_USD$_Euro€'!$E:$O,11,FALSE),\"\")","v":""}]
[null,null,null,{"$f":"IFERROR(VLOOKUP($A1800,'Lista de Precios_Bolívares_S'!$F:$Q,6,FALSE),\"\")","v":""},{"$f":"IFERROR(VLOOKUP($A1800,'Lista de Precios_Bolívares_S'!$F:$Q,12,FALSE),\"\")","v":""},"",{"$f":"IFERROR(VLOOKUP($A1800,'Lista de Precios_USD$_Euro€'!$E:$O,11,FALSE),\"\")","v":""}]
[null,null,null,{"$f":"IFERROR(VLOOKUP($A1801,'Lista de Precios_Bolívares_S'!$F:$Q,6,FALSE),\"\")","v":""},{"$f":"IFERROR(VLOOKUP($A1801,'Lista de Precios_Bolívares_S'!$F:$Q,12,FALSE),\"\")","v":""},"",{"$f":"IFERROR(VLOOKUP($A1801,'Lista de Precios_USD$_Euro€'!$E:$O,11,FALSE),\"\")","v":""}]
[null,null,null,{"$f":"IFERROR(VLOOKUP($A1802,'Lista de Precios_Bolívares_S'!$F:$Q,6,FALSE),\"\")","v":""},{"$f":"IFERROR(VLOOKUP($A1802,'Lista de Precios_Bolívares_S'!$F:$Q,12,FALSE),\"\")","v":""},"",{"$f":"IFERROR(VLOOKUP($A1802,'Lista de Precios_USD$_Euro€'!$E:$O,11,FALSE),\"\")","v":""}]
[null,null,null,{"$f":"IFERROR(VLOOKUP($A1803,'Lista de Precios_Bolívares_S'!$F:$Q,6,FALSE),\"\")","v":""},{"$f":"IFERROR(VLOOKUP($A1803,'Lista de Precios_Bolívares_S'!$F:$Q,12,FALSE),\"\")","v":""},"",{"$f":"IFERROR(VLOOKUP($A1803,'Lista de Precios_USD$_Euro€'!$E:$O,11,FALSE),\"\")","v":""}]
[null,null,null,{"$f":"IFERROR(VLOOKUP($A1804,'Lista de Precios_Bolívares_S'!$F:$Q,6,FALSE),\"\")","v":""},{"$f":"IFERROR(VLOOKUP($A1804,'Lista de Precios_Bolívares_S'!$F:$Q,12,FALSE),\"\")","v":""},"",{"$f":"IFERROR(VLOOKUP($A1804,'Lista de Precios_USD$_Euro€'!$E:$O,11,FALSE),\"\")","v":""}]
[null,null,null,{"$f":"IFERROR(VLOOKUP($A1805,'Lista de Precios_Bolívares_S'!$F:$Q,6,FALSE),\"\")","v":""},{"$f":"IFERROR(VLOOKUP($A1805,'Lista de Precios_Bolívares_S'!$F:$Q,12,FALSE),\"\")","v":""},"",{"$f":"IFERROR(VLOOKUP($A1805,'Lista de Precios_USD$_Euro€'!$E:$O,11,FALSE),\"\")","v":""}]
[null,null,null,{"$f":"IFERROR(VLOOKUP($A1806,'Lista de Precios_Bolívares_S'!$F:$Q,6,FALSE),\"\")","v":""},{"$f":"IFERROR(VLOOKUP($A1806,'Lista de Precios_Bolívares_S'!$F:$Q,12,FALSE),\"\")","v":""},"",{"$f":"IFERROR(VLOOKUP($A1806,'Lista de Precios_USD$_Euro€'!$E:$O,11,FALSE),\"\")","v":""}]
[null,null,null,{"$f":"IFERROR(VLOOKUP($A1807,'Lista de Precios_Bolívares_S'!$F:$Q,6,FALSE),\"\")","v":""},{"$f":"IFERROR(VLOOKUP($A1807,'Lista de Precios_Bolívares_S'!$F:$Q,12,FALSE),\"\")","v":""},"",{"$f":"IFERROR(VLOOKUP($A1807,'Lista de Precios_USD$_Euro€'!$E:$O,11,FALSE),\"\")","v":""}]
[null,null,null,{"$f":"IFERROR(VLOOKUP($A1808,'Lista de Precios_Bolívares_S'!$F:$Q,6,FALSE),\"\")","v":""},{"$f":"IFERROR(VLOOKUP($A1808,'Lista de Precios_Bolívares_S'!$F:$Q,12,FALSE),\"\")","v":""},"",{"$f":"IFERROR(VLOOKUP($A1808,'Lista de Precios_USD$_Euro€'!$E:$O,11,FALSE),\"\")","v":""}]
[null,null,null,{"$f":"IFERROR(VLOOKUP($A1809,'Lista de Precios_Bolívares_S'!$F:$Q,6,FALSE),\"\")","v":""},{"$f":"IFERROR(VLOOKUP($A1809,'Lista de Precios_Bolívares_S'!$F:$Q,12,FALSE),\"\")","v":""},"",{"$f":"IFERROR(VLOOKUP($A1809,'Lista de Precios_USD$_Euro€'!$E:$O,11,FALSE),\"\")","v":""}]
[null,null,null,{"$f":"IFERROR(VLOOKUP($A1810,'Lista de Precios_Bolívares_S'!$F:$Q,6,FALSE),\"\")","v":""},{"$f":"IFERROR(VLOOKUP($A1810,'Lista de Precios_Bolívares_S'!$F:$Q,12,FALSE),\"\")","v":""},"",{"$f":"IFERROR(VLOOKUP($A1810,'Lista de Precios_USD$_Euro€'!$E:$O,11,FALSE),\"\")","v":""}]
[null,null,null,{"$f":"IFERROR(VLOOKUP($A1811,'Lista de Precios_Bolívares_S'!$F:$Q,6,FALSE),\"\")","v":""},{"$f":"IFERROR(VLOOKUP($A1811,'Lista de Precios_Bolívares_S'!$F:$Q,12,FALSE),\"\")","v":""},"",{"$f":"IFERROR(VLOOKUP($A1811,'Lista de Precios_USD$_Euro€'!$E:$O,11,FALSE),\"\")","v":""}]
[null,null,null,{"$f":"IFERROR(VLOOKUP($A1812,'Lista de Precios_Bolívares_S'!$F:$Q,6,FALSE),\"\")","v":""},{"$f":"IFERROR(VLOOKUP($A1812,'Lista de Precios_Bolívares_S'!$F:$Q,12,FALSE),\"\")","v":""},"",{"$f":"IFERROR(VLOOKUP($A1812,'Lista de Precios_USD$_Euro€'!$E:$O,11,FALSE),\"\")","v":""}]
[null,null,null,{"$f":"IFERROR(VLOOKUP($A1813,'Lista de Precios_Bolívares_S'!$F:$Q,6,FALSE),\"\")","v":""},{"$f":"IFERROR(VLOOKUP($A1813,'Lista de Precios_Bolívares_S'!$F:$Q,12,FALSE),\"\")","v":""},"",{"$f":"IFERROR(VLOOKUP($A1813,'Lista de Precios_USD$_Euro€'!$E:$O,11,FALSE),\"\")","v":""}]
[null,null,null,{"$f":"IFERROR(VLOOKUP($A1814,'Lista de Precios_Bolívares_S'!$F:$Q,6,FALSE),\"\")","v":""},{"$f":"IFERROR(VLOOKUP($A1814,'Lista de Precios_Bolívares_S'!$F:$Q,12,FALSE),\"\")","v":""},"",{"$f":"IFERROR(VLOOKUP($A1814,'Lista de Precios_USD$_Euro€'!$E:$O,11,FALSE),\"\")","v":""}]
[null,null,null,{"$f":"IFERROR(VLOOKUP($A1815,'Lista de Precios_Bolívares_S'!$F:$Q,6,FALSE),\"\")","v":""},{"$f":"IFERROR(VLOOKUP($A1815,'Lista de Precios_Bolívares_S'!$F:$Q,12,FALSE),\"\")","v":""},"",{"$f":"IFERROR(VLOOKUP($A1815,'Lista de Precios_USD$_Euro€'!$E:$O,11,FALSE),\"\")","v":""}]
[null,null,null,{"$f":"IFERROR(VLOOKUP($A1816,'Lista de Precios_Bolívares_S'!$F:$Q,6,FALSE),\"\")","v":""},{"$f":"IFERROR(VLOOKUP($A1816,'Lista de Precios_Bolívares_S'!$F:$Q,12,FALSE),\"\")","v":""},"",{"$f":"IFERROR(VLOOKUP($A1816,'Lista de Precios_USD$_Euro€'!$E:$O,11,FALSE),\"\")","v":""}]
[null,null,null,{"$f":"IFERROR(VLOOKUP($A1817,'Lista de Precios_Bolívares_S'!$F:$Q,6,FALSE),\"\")","v":""},{"$f":"IFERROR(VLOOKUP($A1817,'Lista de Precios_Bolívares_S'!$F:$Q,12,FALSE),\"\")","v":""},{"$f":"IFERROR(IF(ROUND($C1817,2)=ROUND($D1792,2),ROUND($E1792,2),ROUND($C1817,2)),\"\")","v":""},{"$f":"IFERROR(VLOOKUP($A1817,'Lista de Precios_USD$_Euro€'!$E:$O,11,FALSE),\"\")","v":""}]
[null,null,null,{"$f":"IFERROR(VLOOKUP($A1818,'Lista de Precios_Bolívares_S'!$F:$Q,6,FALSE),\"\")","v":""},{"$f":"IFERROR(VLOOKUP($A1818,'Lista de Precios_Bolívares_S'!$F:$Q,12,FALSE),\"\")","v":""},"",{"$f":"IFERROR(VLOOKUP($A1818,'Lista de Precios_USD$_Euro€'!$E:$O,11,FALSE),\"\")","v":""}]
[null,null,null,{"$f":"IFERROR(VLOOKUP($A1819,'Lista de Precios_Bolívares_S'!$F:$Q,6,FALSE),\"\")","v":""},{"$f":"IFERROR(VLOOKUP($A1819,'Lista de Precios_Bolívares_S'!$F:$Q,12,FALSE),\"\")","v":""},"",{"$f":"IFERROR(VLOOKUP($A1819,'Lista de Precios_USD$_Euro€'!$E:$O,11,FALSE),\"\")","v":""}]
[null,null,null,{"$f":"IFERROR(VLOOKUP($A1820,'Lista de Precios_Bolívares_S'!$F:$Q,6,FALSE),\"\")","v":""},{"$f":"IFERROR(VLOOKUP($A1820,'Lista de Precios_Bolívares_S'!$F:$Q,12,FALSE),\"\")","v":""},"",{"$f":"IFERROR(VLOOKUP($A1820,'Lista de Precios_USD$_Euro€'!$E:$O,11,FALSE),\"\")","v":""}]
[null,null,null,{"$f":"IFERROR(VLOOKUP($A1821,'Lista de Precios_Bolívares_S'!$F:$Q,6,FALSE),\"\")","v":""},{"$f":"IFERROR(VLOOKUP($A1821,'Lista de Precios_Bolívares_S'!$F:$Q,12,FALSE),\"\")","v":""},"",{"$f":"IFERROR(VLOOKUP($A1821,'Lista de Precios_USD$_Euro€'!$E:$O,11,FALSE),\"\")","v":""}]
[null,null,null,{"$f":"IFERROR(VLOOKUP($A1822,'Lista de Precios_Bolívares_S'!$F:$Q,6,FALSE),\"\")","v":""},{"$f":"IFERROR(VLOOKUP($A1822,'Lista de Precios_Bolívares_S'!$F:$Q,12,FALSE),\"\")","v":""},"",{"$f":"IFERROR(VLOOKUP($A1822,'Lista de Precios_USD$_Euro€'!$E:$O,11,FALSE),\"\")","v":""}]
[null,null,null,{"$f":"IFERROR(VLOOKUP($A1823,'Lista de Precios_Bolívares_S'!$F:$Q,6,FALSE),\"\")","v":""},{"$f":"IFERROR(VLOOKUP($A1823,'Lista de Precios_Bolívares_S'!$F:$Q,12,FALSE),\"\")","v":""},"",{"$f":"IFERROR(VLOOKUP($A1823,'Lista de Precios_USD$_Euro€'!$E:$O,11,FALSE),\"\")","v":""}]
[null,null,null,{"$f":"IFERROR(VLOOKUP($A1824,'Lista de Precios_Bolívares_S'!$F:$Q,6,FALSE),\"\")","v":""},{"$f":"IFERROR(VLOOKUP($A1824,'Lista de Precios_Bolívares_S'!$F:$Q,12,FALSE),\"\")","v":""},"",{"$f":"IFERROR(VLOOKUP($A1824,'Lista de Precios_USD$_Euro€'!$E:$O,11,FALSE),\"\")","v":""}]
[null,null,null,{"$f":"IFERROR(VLOOKUP($A1825,'Lista de Precios_Bolívares_S'!$F:$Q,6,FALSE),\"\")","v":""},{"$f":"IFERROR(VLOOKUP($A1825,'Lista de Precios_Bolívares_S'!$F:$Q,12,FALSE),\"\")","v":""},"",{"$f":"IFERROR(VLOOKUP($A1825,'Lista de Precios_USD$_Euro€'!$E:$O,11,FALSE),\"\")","v":""}]
[null,null,null,{"$f":"IFERROR(VLOOKUP($A1826,'Lista de Precios_Bolívares_S'!$F:$Q,6,FALSE),\"\")","v":""},{"$f":"IFERROR(VLOOKUP($A1826,'Lista de Precios_Bolívares_S'!$F:$Q,12,FALSE),\"\")","v":""},"",{"$f":"IFERROR(VLOOKUP($A1826,'Lista de Precios_USD$_Euro€'!$E:$O,11,FALSE),\"\")","v":""}]
[null,null,null,{"$f":"IFERROR(VLOOKUP($A1827,'Lista de Precios_Bolívares_S'!$F:$Q,6,FALSE),\"\")","v":""},{"$f":"IFERROR(VLOOKUP($A1827,'Lista de Precios_Bolívares_S'!$F:$Q,12,FALSE),\"\")","v":""},"",{"$f":"IFERROR(VLOOKUP($A1827,'Lista de Precios_USD$_Euro€'!$E:$O,11,FALSE),\"\")","v":""}]
[null,null,null,{"$f":"IFERROR(VLOOKUP($A1828,'Lista de Precios_Bolívares_S'!$F:$Q,6,FALSE),\"\")","v":""},{"$f":"IFERROR(VLOOKUP($A1828,'Lista de Precios_Bolívares_S'!$F:$Q,12,FALSE),\"\")","v":""},"",{"$f":"IFERROR(VLOOKUP($A1828,'Lista de Precios_USD$_Euro€'!$E:$O,11,FALSE),\"\")","v":""}]
[null,null,null,{"$f":"IFERROR(VLOOKUP($A1829,'Lista de Precios_Bolívares_S'!$F:$Q,6,FALSE),\"\")","v":""},{"$f":"IFERROR(VLOOKUP($A1829,'Lista de Precios_Bolívares_S'!$F:$Q,12,FALSE),\"\")","v":""},"",{"$f":"IFERROR(VLOOKUP($A1829,'Lista de Precios_USD$_Euro€'!$E:$O,11,FALSE),\"\")","v":""}]
[null,null,null,{"$f":"IFERROR(VLOOKUP($A1830,'Lista de Precios_Bolívares_S'!$F:$Q,6,FALSE),\"\")","v":""},{"$f":"IFERROR(VLOOKUP($A1830,'Lista de Precios_Bolívares_S'!$F:$Q,12,FALSE),\"\")","v":""},"",{"$f":"IFERROR(VLOOKUP($A1830,'Lista de Precios_USD$_Euro€'!$E:$O,11,FALSE),\"\")","v":""}]
[null,null,null,{"$f":"IFERROR(VLOOKUP($A1831,'Lista de Precios_Bolívares_S'!$F:$Q,6,FALSE),\"\")","v":""},{"$f":"IFERROR(VLOOKUP($A1831,'Lista de Precios_Bolívares_S'!$F:$Q,12,FALSE),\"\")","v":""},"",{"$f":"IFERROR(VLOOKUP($A1831,'Lista de Precios_USD$_Euro€'!$E:$O,11,FALSE),\"\")","v":""}]
[null,null,null,{"$f":"IFERROR(VLOOKUP($A1832,'Lista de Precios_Bolívares_S'!$F:$Q,6,FALSE),\"\")","v":""},{"$f":"IFERROR(VLOOKUP($A1832,'Lista de Precios_Bolívares_S'!$F:$Q,12,FALSE),\"\")","v":""},"",{"$f":"IFERROR(VLOOKUP($A1832,'Lista de Precios_USD$_Euro€'!$E:$O,11,FALSE),\"\")","v":""}]
[null,null,null,{"$f":"IFERROR(VLOOKUP($A1833,'Lista de Precios_Bolívares_S'!$F:$Q,6,FALSE),\"\")","v":""},{"$f":"IFERROR(VLOOKUP($A1833,'Lista de Precios_Bolívares_S'!$F:$Q,12,FALSE),\"\")","v":""},"",{"$f":"IFERROR(VLOOKUP($A1833,'Lista de Precios_USD$_Euro€'!$E:$O,11,FALSE),\"\")","v":""}]
[null,null,null,{"$f":"IFERROR(VLOOKUP($A1834,'Lista de Precios_Bolívares_S'!$F:$Q,6,FALSE),\"\")","v":""},{"$f":"IFERROR(VLOOKUP($A1834,'Lista de Precios_Bolívares_S'!$F:$Q,12,FALSE),\"\")","v":""},"",{"$f":"IFERROR(VLOOKUP($A1834,'Lista de Precios_USD$_Euro€'!$E:$O,11,FALSE),\"\")","v":""}]
[null,null,null,{"$f":"IFERROR(VLOOKUP($A1835,'Lista de Precios_Bolívares_S'!$F:$Q,6,FALSE),\"\")","v":""},{"$f":"IFERROR(VLOOKUP($A1835,'Lista de Precios_Bolívares_S'!$F:$Q,12,FALSE),\"\")","v":""},"",{"$f":"IFERROR(VLOOKUP($A1835,'Lista de Precios_USD$_Euro€'!$E:$O,11,FALSE),\"\")","v":""}]
[null,null,null,{"$f":"IFERROR(VLOOKUP($A1836,'Lista de Precios_Bolívares_S'!$F:$Q,6,FALSE),\"\")","v":""},{"$f":"IFERROR(VLOOKUP($A1836,'Lista de Precios_Bolívares_S'!$F:$Q,12,FALSE),\"\")","v":""},"",{"$f":"IFERROR(VLOOKUP($A1836,'Lista de Precios_USD$_Euro€'!$E:$O,11,FALSE),\"\")","v":""}]
[null,null,null,{"$f":"IFERROR(VLOOKUP($A1837,'Lista de Precios_Bolívares_S'!$F:$Q,6,FALSE),\"\")","v":""},{"$f":"IFERROR(VLOOKUP($A1837,'Lista de Precios_Bolívares_S'!$F:$Q,12,FALSE),\"\")","v":""},"",{"$f":"IFERROR(VLOOKUP($A1837,'Lista de Precios_USD$_Euro€'!$E:$O,11,FALSE),\"\")","v":""}]
[null,null,null,{"$f":"IFERROR(VLOOKUP($A1838,'Lista de Precios_Bolívares_S'!$F:$Q,6,FALSE),\"\")","v":""},{"$f":"IFERROR(VLOOKUP($A1838,'Lista de Precios_Bolívares_S'!$F:$Q,12,FALSE),\"\")","v":""},"",{"$f":"IFERROR(VLOOKUP($A1838,'Lista de Precios_USD$_Euro€'!$E:$O,11,FALSE),\"\")","v":""}]
[null,null,null,{"$f":"IFERROR(VLOOKUP($A1839,'Lista de Precios_Bolívares_S'!$F:$Q,6,FALSE),\"\")","v":""},{"$f":"IFERROR(VLOOKUP($A1839,'Lista de Precios_Bolívares_S'!$F:$Q,12,FALSE),\"\")","v":""},"",{"$f":"IFERROR(VLOOKUP($A1839,'Lista de Precios_USD$_Euro€'!$E:$O,11,FALSE),\"\")","v":""}]
[null,null,null,{"$f":"IFERROR(VLOOKUP($A1840,'Lista de Precios_Bolívares_S'!$F:$Q,6,FALSE),\"\")","v":""},{"$f":"IFERROR(VLOOKUP($A1840,'Lista de Precios_Bolívares_S'!$F:$Q,12,FALSE),\"\")","v":""},"",{"$f":"IFERROR(VLOOKUP($A1840,'Lista de Precios_USD$_Euro€'!$E:$O,11,FALSE),\"\")","v":""}]
[null,null,null,{"$f":"IFERROR(VLOOKUP($A1841,'Lista de Precios_Bolívares_S'!$F:$Q,6,FALSE),\"\")","v":""},{"$f":"IFERROR(VLOOKUP($A1841,'Lista de Precios_Bolívares_S'!$F:$Q,12,FALSE),\"\")","v":""},"",{"$f":"IFERROR(VLOOKUP($A1841,'Lista de Precios_USD$_Euro€'!$E:$O,11,FALSE),\"\")","v":""}]
[null,null,null,{"$f":"IFERROR(VLOOKUP($A1842,'Lista de Precios_Bolívares_S'!$F:$Q,6,FALSE),\"\")","v":""},{"$f":"IFERROR(VLOOKUP($A1842,'Lista de Precios_Bolívares_S'!$F:$Q,12,FALSE),\"\")","v":""},"",{"$f":"IFERROR(VLOOKUP($A1842,'Lista de Precios_USD$_Euro€'!$E:$O,11,FALSE),\"\")","v":""}]
[null,null,null,{"$f":"IFERROR(VLOOKUP($A1843,'Lista de Precios_Bolívares_S'!$F:$Q,6,FALSE),\"\")","v":""},{"$f":"IFERROR(VLOOKUP($A1843,'Lista de Precios_Bolívares_S'!$F:$Q,12,FALSE),\"\")","v":""},"",{"$f":"IFERROR(VLOOKUP($A1843,'Lista de Precios_USD$_Euro€'!$E:$O,11,FALSE),\"\")","v":""}]
[null,null,null,{"$f":"IFERROR(VLOOKUP($A1844,'Lista de Precios_Bolívares_S'!$F:$Q,6,FALSE),\"\")","v":""},{"$f":"IFERROR(VLOOKUP($A1844,'Lista de Precios_Bolívares_S'!$F:$Q,12,FALSE),\"\")","v":""},"",{"$f":"IFERROR(VLOOKUP($A1844,'Lista de Precios_USD$_Euro€'!$E:$O,11,FALSE),\"\")","v":""}]
[null,null,null,{"$f":"IFERROR(VLOOKUP($A1845,'Lista de Precios_Bolívares_S'!$F:$Q,6,FALSE),\"\")","v":""},{"$f":"IFERROR(VLOOKUP($A1845,'Lista de Precios_Bolívares_S'!$F:$Q,12,FALSE),\"\")","v":""},"",{"$f":"IFERROR(VLOOKUP($A1845,'Lista de Precios_USD$_Euro€'!$E:$O,11,FALSE),\"\")","v":""}]
[null,null,null,{"$f":"IFERROR(VLOOKUP($A1846,'Lista de Precios_Bolívares_S'!$F:$Q,6,FALSE),\"\")","v":""},{"$f":"IFERROR(VLOOKUP($A1846,'Lista de Precios_Bolívares_S'!$F:$Q,12,FALSE),\"\")","v":""},"",{"$f":"IFERROR(VLOOKUP($A1846,'Lista de Precios_USD$_Euro€'!$E:$O,11,FALSE),\"\")","v":""}]
[null,null,null,{"$f":"IFERROR(VLOOKUP($A1847,'Lista de Precios_Bolívares_S'!$F:$Q,6,FALSE),\"\")","v":""},{"$f":"IFERROR(VLOOKUP($A1847,'Lista de Precios_Bolívares_S'!$F:$Q,12,FALSE),\"\")","v":""},"",{"$f":"IFERROR(VLOOKUP($A1847,'Lista de Precios_USD$_Euro€'!$E:$O,11,FALSE),\"\")","v":""}]
[null,null,null,{"$f":"IFERROR(VLOOKUP($A1848,'Lista de Precios_Bolívares_S'!$F:$Q,6,FALSE),\"\")","v":""},{"$f":"IFERROR(VLOOKUP($A1848,'Lista de Precios_Bolívares_S'!$F:$Q,12,FALSE),\"\")","v":""},"",{"$f":"IFERROR(VLOOKUP($A1848,'Lista de Precios_USD$_Euro€'!$E:$O,11,FALSE),\"\")","v":""}]
[null,null,null,{"$f":"IFERROR(VLOOKUP($A1849,'Lista de Precios_Bolívares_S'!$F:$Q,6,FALSE),\"\")","v":""},{"$f":"IFERROR(VLOOKUP($A1849,'Lista de Precios_Bolívares_S'!$F:$Q,12,FALSE),\"\")","v":""},"",{"$f":"IFERROR(VLOOKUP($A1849,'Lista de Precios_USD$_Euro€'!$E:$O,11,FALSE),\"\")","v":""}]
[null,null,null,{"$f":"IFERROR(VLOOKUP($A1850,'Lista de Precios_Bolívares_S'!$F:$Q,6,FALSE),\"\")","v":""},{"$f":"IFERROR(VLOOKUP($A1850,'Lista de Precios_Bolívares_S'!$F:$Q,12,FALSE),\"\")","v":""},"",{"$f":"IFERROR(VLOOKUP($A1850,'Lista de Precios_USD$_Euro€'!$E:$O,11,FALSE),\"\")","v":""}]
[null,null,null,{"$f":"IFERROR(VLOOKUP($A1851,'Lista de Precios_Bolívares_S'!$F:$Q,6,FALSE),\"\")","v":""},{"$f":"IFERROR(VLOOKUP($A1851,'Lista de Precios_Bolívares_S'!$F:$Q,12,FALSE),\"\")","v":""},"",{"$f":"IFERROR(VLOOKUP($A1851,'Lista de Precios_USD$_Euro€'!$E:$O,11,FALSE),\"\")","v":""}]
[null,null,null,{"$f":"IFERROR(VLOOKUP($A1852,'Lista de Precios_Bolívares_S'!$F:$Q,6,FALSE),\"\")","v":""},{"$f":"IFERROR(VLOOKUP($A1852,'Lista de Precios_Bolívares_S'!$F:$Q,12,FALSE),\"\")","v":""},"",{"$f":"IFERROR(VLOOKUP($A1852,'Lista de Precios_USD$_Euro€'!$E:$O,11,FALSE),\"\")","v":""}]
[null,null,null,{"$f":"IFERROR(VLOOKUP($A1853,'Lista de Precios_Bolívares_S'!$F:$Q,6,FALSE),\"\")","v":""},{"$f":"IFERROR(VLOOKUP($A1853,'Lista de Precios_Bolívares_S'!$F:$Q,12,FALSE),\"\")","v":""},"",{"$f":"IFERROR(VLOOKUP($A1853,'Lista de Precios_USD$_Euro€'!$E:$O,11,FALSE),\"\")","v":""}]
[null,null,null,{"$f":"IFERROR(VLOOKUP($A1854,'Lista de Precios_Bolívares_S'!$F:$Q,6,FALSE),\"\")","v":""},{"$f":"IFERROR(VLOOKUP($A1854,'Lista de Precios_Bolívares_S'!$F:$Q,12,FALSE),\"\")","v":""},"",{"$f":"IFERROR(VLOOKUP($A1854,'Lista de Precios_USD$_Euro€'!$E:$O,11,FALSE),\"\")","v":""}]
[null,null,null,{"$f":"IFERROR(VLOOKUP($A1855,'Lista de Precios_Bolívares_S'!$F:$Q,6,FALSE),\"\")","v":""},{"$f":"IFERROR(VLOOKUP($A1855,'Lista de Precios_Bolívares_S'!$F:$Q,12,FALSE),\"\")","v":""},"",{"$f":"IFERROR(VLOOKUP($A1855,'Lista de Precios_USD$_Euro€'!$E:$O,11,FALSE),\"\")","v":""}]
[null,null,null,{"$f":"IFERROR(VLOOKUP($A1856,'Lista de Precios_Bolívares_S'!$F:$Q,6,FALSE),\"\")","v":""},{"$f":"IFERROR(VLOOKUP($A1856,'Lista de Precios_Bolívares_S'!$F:$Q,12,FALSE),\"\")","v":""},"",{"$f":"IFERROR(VLOOKUP($A1856,'Lista de Precios_USD$_Euro€'!$E:$O,11,FALSE),\"\")","v":""}]
[null,null,null,{"$f":"IFERROR(VLOOKUP($A1857,'Lista de Precios_Bolívares_S'!$F:$Q,6,FALSE),\"\")","v":""},{"$f":"IFERROR(VLOOKUP($A1857,'Lista de Precios_Bolívares_S'!$F:$Q,12,FALSE),\"\")","v":""},"",{"$f":"IFERROR(VLOOKUP($A1857,'Lista de Precios_USD$_Euro€'!$E:$O,11,FALSE),\"\")","v":""}]
[null,null,null,{"$f":"IFERROR(VLOOKUP($A1858,'Lista de Precios_Bolívares_S'!$F:$Q,6,FALSE),\"\")","v":""},{"$f":"IFERROR(VLOOKUP($A1858,'Lista de Precios_Bolívares_S'!$F:$Q,12,FALSE),\"\")","v":""},"",{"$f":"IFERROR(VLOOKUP($A1858,'Lista de Precios_USD$_Euro€'!$E:$O,11,FALSE),\"\")","v":""}]
[null,null,null,{"$f":"IFERROR(VLOOKUP($A1859,'Lista de Precios_Bolívares_S'!$F:$Q,6,FALSE),\"\")","v":""},{"$f":"IFERROR(VLOOKUP($A1859,'Lista de Precios_Bolívares_S'!$F:$Q,12,FALSE),\"\")","v":""},"",{"$f":"IFERROR(VLOOKUP($A1859,'Lista de Precios_USD$_Euro€'!$E:$O,11,FALSE),\"\")","v":""}]
[null,null,null,{"$f":"IFERROR(VLOOKUP($A1860,'Lista de Precios_Bolívares_S'!$F:$Q,6,FALSE),\"\")","v":""},{"$f":"IFERROR(VLOOKUP($A1860,'Lista de Precios_Bolívares_S'!$F:$Q,12,FALSE),\"\")","v":""},"",{"$f":"IFERROR(VLOOKUP($A1860,'Lista de Precios_USD$_Euro€'!$E:$O,11,FALSE),\"\")","v":""}]
[null,null,null,{"$f":"IFERROR(VLOOKUP($A1861,'Lista de Precios_Bolívares_S'!$F:$Q,6,FALSE),\"\")","v":""},{"$f":"IFERROR(VLOOKUP($A1861,'Lista de Precios_Bolívares_S'!$F:$Q,12,FALSE),\"\")","v":""},"",{"$f":"IFERROR(VLOOKUP($A1861,'Lista de Precios_USD$_Euro€'!$E:$O,11,FALSE),\"\")","v":""}]
[null,null,null,{"$f":"IFERROR(VLOOKUP($A1862,'Lista de Precios_Bolívares_S'!$F:$Q,6,FALSE),\"\")","v":""},{"$f":"IFERROR(VLOOKUP($A1862,'Lista de Precios_Bolívares_S'!$F:$Q,12,FALSE),\"\")","v":""},"",{"$f":"IFERROR(VLOOKUP($A1862,'Lista de Precios_USD$_Euro€'!$E:$O,11,FALSE),\"\")","v":""}]
[null,null,null,{"$f":"IFERROR(VLOOKUP($A1863,'Lista de Precios_Bolívares_S'!$F:$Q,6,FALSE),\"\")","v":""},{"$f":"IFERROR(VLOOKUP($A1863,'Lista de Precios_Bolívares_S'!$F:$Q,12,FALSE),\"\")","v":""},"",{"$f":"IFERROR(VLOOKUP($A1863,'Lista de Precios_USD$_Euro€'!$E:$O,11,FALSE),\"\")","v":""}]
[null,null,null,{"$f":"IFERROR(VLOOKUP($A1864,'Lista de Precios_Bolívares_S'!$F:$Q,6,FALSE),\"\")","v":""},{"$f":"IFERROR(VLOOKUP($A1864,'Lista de Precios_Bolívares_S'!$F:$Q,12,FALSE),\"\")","v":""},"",{"$f":"IFERROR(VLOOKUP($A1864,'Lista de Precios_USD$_Euro€'!$E:$O,11,FALSE),\"\")","v":""}]
[null,null,null,{"$f":"IFERROR(VLOOKUP($A1865,'Lista de Precios_Bolívares_S'!$F:$Q,6,FALSE),\"\")","v":""},{"$f":"IFERROR(VLOOKUP($A1865,'Lista de Precios_Bolívares_S'!$F:$Q,12,FALSE),\"\")","v":""},"",{"$f":"IFERROR(VLOOKUP($A1865,'Lista de Precios_USD$_Euro€'!$E:$O,11,FALSE),\"\")","v":""}]
[null,null,null,{"$f":"IFERROR(VLOOKUP($A1866,'Lista de Precios_Bolívares_S'!$F:$Q,6,FALSE),\"\")","v":""},{"$f":"IFERROR(VLOOKUP($A1866,'Lista de Precios_Bolívares_S'!$F:$Q,12,FALSE),\"\")","v":""},"",{"$f":"IFERROR(VLOOKUP($A1866,'Lista de Precios_USD$_Euro€'!$E:$O,11,FALSE),\"\")","v":""}]
[null,null,null,{"$f":"IFERROR(VLOOKUP($A1867,'Lista de Precios_Bolívares_S'!$F:$Q,6,FALSE),\"\")","v":""},{"$f":"IFERROR(VLOOKUP($A1867,'Lista de Precios_Bolívares_S'!$F:$Q,12,FALSE),\"\")","v":""},"",{"$f":"IFERROR(VLOOKUP($A1867,'Lista de Precios_USD$_Euro€'!$E:$O,11,FALSE),\"\")","v":""}]
[null,null,null,{"$f":"IFERROR(VLOOKUP($A1868,'Lista de Precios_Bolívares_S'!$F:$Q,6,FALSE),\"\")","v":""},{"$f":"IFERROR(VLOOKUP($A1868,'Lista de Precios_Bolívares_S'!$F:$Q,12,FALSE),\"\")","v":""},"",{"$f":"IFERROR(VLOOKUP($A1868,'Lista de Precios_USD$_Euro€'!$E:$O,11,FALSE),\"\")","v":""}]
[null,null,null,{"$f":"IFERROR(VLOOKUP($A1869,'Lista de Precios_Bolívares_S'!$F:$Q,6,FALSE),\"\")","v":""},{"$f":"IFERROR(VLOOKUP($A1869,'Lista de Precios_Bolívares_S'!$F:$Q,12,FALSE),\"\")","v":""},"",{"$f":"IFERROR(VLOOKUP($A1869,'Lista de Precios_USD$_Euro€'!$E:$O,11,FALSE),\"\")","v":""}]
[null,null,null,{"$f":"IFERROR(VLOOKUP($A1870,'Lista de Precios_Bolívares_S'!$F:$Q,6,FALSE),\"\")","v":""},{"$f":"IFERROR(VLOOKUP($A1870,'Lista de Precios_Bolívares_S'!$F:$Q,12,FALSE),\"\")","v":""},"",{"$f":"IFERROR(VLOOKUP($A1870,'Lista de Precios_USD$_Euro€'!$E:$O,11,FALSE),\"\")","v":""}]
[null,null,null,{"$f":"IFERROR(VLOOKUP($A1871,'Lista de Precios_Bolívares_S'!$F:$Q,6,FALSE),\"\")","v":""},{"$f":"IFERROR(VLOOKUP($A1871,'Lista de Precios_Bolívares_S'!$F:$Q,12,FALSE),\"\")","v":""},"",{"$f":"IFERROR(VLOOKUP($A1871,'Lista de Precios_USD$_Euro€'!$E:$O,11,FALSE),\"\")","v":""}]
[null,null,null,{"$f":"IFERROR(VLOOKUP($A1872,'Lista de Precios_Bolívares_S'!$F:$Q,6,FALSE),\"\")","v":""},{"$f":"IFERROR(VLOOKUP($A1872,'Lista de Precios_Bolívares_S'!$F:$Q,12,FALSE),\"\")","v":""},"",{"$f":"IFERROR(VLOOKUP($A1872,'Lista de Precios_USD$_Euro€'!$E:$O,11,FALSE),\"\")","v":""}]
[null,null,null,{"$f":"IFERROR(VLOOKUP($A1873,'Lista de Precios_Bolívares_S'!$F:$Q,6,FALSE),\"\")","v":""},{"$f":"IFERROR(VLOOKUP($A1873,'Lista de Precios_Bolívares_S'!$F:$Q,12,FALSE),\"\")","v":""},"",{"$f":"IFERROR(VLOOKUP($A1873,'Lista de Precios_USD$_Euro€'!$E:$O,11,FALSE),\"\")","v":""}]
[null,null,null,{"$f":"IFERROR(VLOOKUP($A1874,'Lista de Precios_Bolívares_S'!$F:$Q,6,FALSE),\"\")","v":""},{"$f":"IFERROR(VLOOKUP($A1874,'Lista de Precios_Bolívares_S'!$F:$Q,12,FALSE),\"\")","v":""},"",{"$f":"IFERROR(VLOOKUP($A1874,'Lista de Precios_USD$_Euro€'!$E:$O,11,FALSE),\"\")","v":""}]
[null,null,null,{"$f":"IFERROR(VLOOKUP($A1875,'Lista de Precios_Bolívares_S'!$F:$Q,6,FALSE),\"\")","v":""},{"$f":"IFERROR(VLOOKUP($A1875,'Lista de Precios_Bolívares_S'!$F:$Q,12,FALSE),\"\")","v":""},"",{"$f":"IFERROR(VLOOKUP($A1875,'Lista de Precios_USD$_Euro€'!$E:$O,11,FALSE),\"\")","v":""}]
[null,null,null,{"$f":"IFERROR(VLOOKUP($A1876,'Lista de Precios_Bolívares_S'!$F:$Q,6,FALSE),\"\")","v":""},{"$f":"IFERROR(VLOOKUP($A1876,'Lista de Precios_Bolívares_S'!$F:$Q,12,FALSE),\"\")","v":""},"",{"$f":"IFERROR(VLOOKUP($A1876,'Lista de Precios_USD$_Euro€'!$E:$O,11,FALSE),\"\")","v":""}]
[null,null,null,{"$f":"IFERROR(VLOOKUP($A1877,'Lista de Precios_Bolívares_S'!$F:$Q,6,FALSE),\"\")","v":""},{"$f":"IFERROR(VLOOKUP($A1877,'Lista de Precios_Bolívares_S'!$F:$Q,12,FALSE),\"\")","v":""},"",{"$f":"IFERROR(VLOOKUP($A1877,'Lista de Precios_USD$_Euro€'!$E:$O,11,FALSE),\"\")","v":""}]
[null,null,null,{"$f":"IFERROR(VLOOKUP($A1878,'Lista de Precios_Bolívares_S'!$F:$Q,6,FALSE),\"\")","v":""},{"$f":"IFERROR(VLOOKUP($A1878,'Lista de Precios_Bolívares_S'!$F:$Q,12,FALSE),\"\")","v":""},"",{"$f":"IFERROR(VLOOKUP($A1878,'Lista de Precios_USD$_Euro€'!$E:$O,11,FALSE),\"\")","v":""}]
[null,null,null,{"$f":"IFERROR(VLOOKUP($A1879,'Lista de Precios_Bolívares_S'!$F:$Q,6,FALSE),\"\")","v":""},{"$f":"IFERROR(VLOOKUP($A1879,'Lista de Precios_Bolívares_S'!$F:$Q,12,FALSE),\"\")","v":""},"",{"$f":"IFERROR(VLOOKUP($A1879,'Lista de Precios_USD$_Euro€'!$E:$O,11,FALSE),\"\")","v":""}]
[null,null,null,{"$f":"IFERROR(VLOOKUP($A1880,'Lista de Precios_Bolívares_S'!$F:$Q,6,FALSE),\"\")","v":""},{"$f":"IFERROR(VLOOKUP($A1880,'Lista de Precios_Bolívares_S'!$F:$Q,12,FALSE),\"\")","v":""},"",{"$f":"IFERROR(VLOOKUP($A1880,'Lista de Precios_USD$_Euro€'!$E:$O,11,FALSE),\"\")","v":""}]
[null,null,null,{"$f":"IFERROR(VLOOKUP($A1881,'Lista de Precios_Bolívares_S'!$F:$Q,6,FALSE),\"\")","v":""},{"$f":"IFERROR(VLOOKUP($A1881,'Lista de Precios_Bolívares_S'!$F:$Q,12,FALSE),\"\")","v":""},{"$f":"IFERROR(IF(ROUND($C1881,2)=ROUND($D1856,2),ROUND($E1856,2),ROUND($C1881,2)),\"\")","v":""},{"$f":"IFERROR(VLOOKUP($A1881,'Lista de Precios_USD$_Euro€'!$E:$O,11,FALSE),\"\")","v":""}]
[null,null,null,{"$f":"IFERROR(VLOOKUP($A1882,'Lista de Precios_Bolívares_S'!$F:$Q,6,FALSE),\"\")","v":""},{"$f":"IFERROR(VLOOKUP($A1882,'Lista de Precios_Bolívares_S'!$F:$Q,12,FALSE),\"\")","v":""},"",{"$f":"IFERROR(VLOOKUP($A1882,'Lista de Precios_USD$_Euro€'!$E:$O,11,FALSE),\"\")","v":""}]
[null,null,null,{"$f":"IFERROR(VLOOKUP($A1883,'Lista de Precios_Bolívares_S'!$F:$Q,6,FALSE),\"\")","v":""},{"$f":"IFERROR(VLOOKUP($A1883,'Lista de Precios_Bolívares_S'!$F:$Q,12,FALSE),\"\")","v":""},"",{"$f":"IFERROR(VLOOKUP($A1883,'Lista de Precios_USD$_Euro€'!$E:$O,11,FALSE),\"\")","v":""}]
[null,null,null,{"$f":"IFERROR(VLOOKUP($A1884,'Lista de Precios_Bolívares_S'!$F:$Q,6,FALSE),\"\")","v":""},{"$f":"IFERROR(VLOOKUP($A1884,'Lista de Precios_Bolívares_S'!$F:$Q,12,FALSE),\"\")","v":""},"",{"$f":"IFERROR(VLOOKUP($A1884,'Lista de Precios_USD$_Euro€'!$E:$O,11,FALSE),\"\")","v":""}]
[null,null,null,{"$f":"IFERROR(VLOOKUP($A1885,'Lista de Precios_Bolívares_S'!$F:$Q,6,FALSE),\"\")","v":""},{"$f":"IFERROR(VLOOKUP($A1885,'Lista de Precios_Bolívares_S'!$F:$Q,12,FALSE),\"\")","v":""},"",{"$f":"IFERROR(VLOOKUP($A1885,'Lista de Precios_USD$_Euro€'!$E:$O,11,FALSE),\"\")","v":""}]
[null,null,null,{"$f":"IFERROR(VLOOKUP($A1886,'Lista de Precios_Bolívares_S'!$F:$Q,6,FALSE),\"\")","v":""},{"$f":"IFERROR(VLOOKUP($A1886,'Lista de Precios_Bolívares_S'!$F:$Q,12,FALSE),\"\")","v":""},"",{"$f":"IFERROR(VLOOKUP($A1886,'Lista de Precios_USD$_Euro€'!$E:$O,11,FALSE),\"\")","v":""}]
[null,null,null,{"$f":"IFERROR(VLOOKUP($A1887,'Lista de Precios_Bolívares_S'!$F:$Q,6,FALSE),\"\")","v":""},{"$f":"IFERROR(VLOOKUP($A1887,'Lista de Precios_Bolívares_S'!$F:$Q,12,FALSE),\"\")","v":""},"",{"$f":"IFERROR(VLOOKUP($A1887,'Lista de Precios_USD$_Euro€'!$E:$O,11,FALSE),\"\")","v":""}]
[null,null,null,{"$f":"IFERROR(VLOOKUP($A1888,'Lista de Precios_Bolívares_S'!$F:$Q,6,FALSE),\"\")","v":""},{"$f":"IFERROR(VLOOKUP($A1888,'Lista de Precios_Bolívares_S'!$F:$Q,12,FALSE),\"\")","v":""},"",{"$f":"IFERROR(VLOOKUP($A1888,'Lista de Precios_USD$_Euro€'!$E:$O,11,FALSE),\"\")","v":""}]
[null,null,null,{"$f":"IFERROR(VLOOKUP($A1889,'Lista de Precios_Bolívares_S'!$F:$Q,6,FALSE),\"\")","v":""},{"$f":"IFERROR(VLOOKUP($A1889,'Lista de Precios_Bolívares_S'!$F:$Q,12,FALSE),\"\")","v":""},"",{"$f":"IFERROR(VLOOKUP($A1889,'Lista de Precios_USD$_Euro€'!$E:$O,11,FALSE),\"\")","v":""}]
[null,null,null,{"$f":"IFERROR(VLOOKUP($A1890,'Lista de Precios_Bolívares_S'!$F:$Q,6,FALSE),\"\")","v":""},{"$f":"IFERROR(VLOOKUP($A1890,'Lista de Precios_Bolívares_S'!$F:$Q,12,FALSE),\"\")","v":""},"",{"$f":"IFERROR(VLOOKUP($A1890,'Lista de Precios_USD$_Euro€'!$E:$O,11,FALSE),\"\")","v":""}]
[null,null,null,{"$f":"IFERROR(VLOOKUP($A1891,'Lista de Precios_Bolívares_S'!$F:$Q,6,FALSE),\"\")","v":""},{"$f":"IFERROR(VLOOKUP($A1891,'Lista de Precios_Bolívares_S'!$F:$Q,12,FALSE),\"\")","v":""},"",{"$f":"IFERROR(VLOOKUP($A1891,'Lista de Precios_USD$_Euro€'!$E:$O,11,FALSE),\"\")","v":""}]
[null,null,null,{"$f":"IFERROR(VLOOKUP($A1892,'Lista de Precios_Bolívares_S'!$F:$Q,6,FALSE),\"\")","v":""},{"$f":"IFERROR(VLOOKUP($A1892,'Lista de Precios_Bolívares_S'!$F:$Q,12,FALSE),\"\")","v":""},"",{"$f":"IFERROR(VLOOKUP($A1892,'Lista de Precios_USD$_Euro€'!$E:$O,11,FALSE),\"\")","v":""}]
[null,null,null,{"$f":"IFERROR(VLOOKUP($A1893,'Lista de Precios_Bolívares_S'!$F:$Q,6,FALSE),\"\")","v":""},{"$f":"IFERROR(VLOOKUP($A1893,'Lista de Precios_Bolívares_S'!$F:$Q,12,FALSE),\"\")","v":""},"",{"$f":"IFERROR(VLOOKUP($A1893,'Lista de Precios_USD$_Euro€'!$E:$O,11,FALSE),\"\")","v":""}]
[null,null,null,{"$f":"IFERROR(VLOOKUP($A1894,'Lista de Precios_Bolívares_S'!$F:$Q,6,FALSE),\"\")","v":""},{"$f":"IFERROR(VLOOKUP($A1894,'Lista de Precios_Bolívares_S'!$F:$Q,12,FALSE),\"\")","v":""},"",{"$f":"IFERROR(VLOOKUP($A1894,'Lista de Precios_USD$_Euro€'!$E:$O,11,FALSE),\"\")","v":""}]
[null,null,null,{"$f":"IFERROR(VLOOKUP($A1895,'Lista de Precios_Bolívares_S'!$F:$Q,6,FALSE),\"\")","v":""},{"$f":"IFERROR(VLOOKUP($A1895,'Lista de Precios_Bolívares_S'!$F:$Q,12,FALSE),\"\")","v":""},"",{"$f":"IFERROR(VLOOKUP($A1895,'Lista de Precios_USD$_Euro€'!$E:$O,11,FALSE),\"\")","v":""}]
[null,null,null,{"$f":"IFERROR(VLOOKUP($A1896,'Lista de Precios_Bolívares_S'!$F:$Q,6,FALSE),\"\")","v":""},{"$f":"IFERROR(VLOOKUP($A1896,'Lista de Precios_Bolívares_S'!$F:$Q,12,FALSE),\"\")","v":""},"",{"$f":"IFERROR(VLOOKUP($A1896,'Lista de Precios_USD$_Euro€'!$E:$O,11,FALSE),\"\")","v":""}]
[null,null,null,{"$f":"IFERROR(VLOOKUP($A1897,'Lista de Precios_Bolívares_S'!$F:$Q,6,FALSE),\"\")","v":""},{"$f":"IFERROR(VLOOKUP($A1897,'Lista de Precios_Bolívares_S'!$F:$Q,12,FALSE),\"\")","v":""},"",{"$f":"IFERROR(VLOOKUP($A1897,'Lista de Precios_USD$_Euro€'!$E:$O,11,FALSE),\"\")","v":""}]
[null,null,null,{"$f":"IFERROR(VLOOKUP($A1898,'Lista de Precios_Bolívares_S'!$F:$Q,6,FALSE),\"\")","v":""},{"$f":"IFERROR(VLOOKUP($A1898,'Lista de Precios_Bolívares_S'!$F:$Q,12,FALSE),\"\")","v":""},"",{"$f":"IFERROR(VLOOKUP($A1898,'Lista de Precios_USD$_Euro€'!$E:$O,11,FALSE),\"\")","v":""}]
[null,null,null,{"$f":"IFERROR(VLOOKUP($A1899,'Lista de Precios_Bolívares_S'!$F:$Q,6,FALSE),\"\")","v":""},{"$f":"IFERROR(VLOOKUP($A1899,'Lista de Precios_Bolívares_S'!$F:$Q,12,FALSE),\"\")","v":""},"",{"$f":"IFERROR(VLOOKUP($A1899,'Lista de Precios_USD$_Euro€'!$E:$O,11,FALSE),\"\")","v":""}]
[null,null,null,{"$f":"IFERROR(VLOOKUP($A1900,'Lista de Precios_Bolívares_S'!$F:$Q,6,FALSE),\"\")","v":""},{"$f":"IFERROR(VLOOKUP($A1900,'Lista de Precios_Bolívares_S'!$F:$Q,12,FALSE),\"\")","v":""},"",{"$f":"IFERROR(VLOOKUP($A1900,'Lista de Precios_USD$_Euro€'!$E:$O,11,FALSE),\"\")","v":""}]
[null,null,null,{"$f":"IFERROR(VLOOKUP($A1901,'Lista de Precios_Bolívares_S'!$F:$Q,6,FALSE),\"\")","v":""},{"$f":"IFERROR(VLOOKUP($A1901,'Lista de Precios_Bolívares_S'!$F:$Q,12,FALSE),\"\")","v":""},"",{"$f":"IFERROR(VLOOKUP($A1901,'Lista de Precios_USD$_Euro€'!$E:$O,11,FALSE),\"\")","v":""}]
[null,null,null,{"$f":"IFERROR(VLOOKUP($A1902,'Lista de Precios_Bolívares_S'!$F:$Q,6,FALSE),\"\")","v":""},{"$f":"IFERROR(VLOOKUP($A1902,'Lista de Precios_Bolívares_S'!$F:$Q,12,FALSE),\"\")","v":""},"",{"$f":"IFERROR(VLOOKUP($A1902,'Lista de Precios_USD$_Euro€'!$E:$O,11,FALSE),\"\")","v":""}]
[null,null,null,{"$f":"IFERROR(VLOOKUP($A1903,'Lista de Precios_Bolívares_S'!$F:$Q,6,FALSE),\"\")","v":""},{"$f":"IFERROR(VLOOKUP($A1903,'Lista de Precios_Bolívares_S'!$F:$Q,12,FALSE),\"\")","v":""},"",{"$f":"IFERROR(VLOOKUP($A1903,'Lista de Precios_USD$_Euro€'!$E:$O,11,FALSE),\"\")","v":""}]
[null,null,null,{"$f":"IFERROR(VLOOKUP($A1904,'Lista de Precios_Bolívares_S'!$F:$Q,6,FALSE),\"\")","v":""},{"$f":"IFERROR(VLOOKUP($A1904,'Lista de Precios_Bolívares_S'!$F:$Q,12,FALSE),\"\")","v":""},"",{"$f":"IFERROR(VLOOKUP($A1904,'Lista de Precios_USD$_Euro€'!$E:$O,11,FALSE),\"\")","v":""}]
[null,null,null,{"$f":"IFERROR(VLOOKUP($A1905,'Lista de Precios_Bolívares_S'!$F:$Q,6,FALSE),\"\")","v":""},{"$f":"IFERROR(VLOOKUP($A1905,'Lista de Precios_Bolívares_S'!$F:$Q,12,FALSE),\"\")","v":""},"",{"$f":"IFERROR(VLOOKUP($A1905,'Lista de Precios_USD$_Euro€'!$E:$O,11,FALSE),\"\")","v":""}]
[null,null,null,{"$f":"IFERROR(VLOOKUP($A1906,'Lista de Precios_Bolívares_S'!$F:$Q,6,FALSE),\"\")","v":""},{"$f":"IFERROR(VLOOKUP($A1906,'Lista de Precios_Bolívares_S'!$F:$Q,12,FALSE),\"\")","v":""},"",{"$f":"IFERROR(VLOOKUP($A1906,'Lista de Precios_USD$_Euro€'!$E:$O,11,FALSE),\"\")","v":""}]
[null,null,null,{"$f":"IFERROR(VLOOKUP($A1907,'Lista de Precios_Bolívares_S'!$F:$Q,6,FALSE),\"\")","v":""},{"$f":"IFERROR(VLOOKUP($A1907,'Lista de Precios_Bolívares_S'!$F:$Q,12,FALSE),\"\")","v":""},"",{"$f":"IFERROR(VLOOKUP($A1907,'Lista de Precios_USD$_Euro€'!$E:$O,11,FALSE),\"\")","v":""}]
[null,null,null,{"$f":"IFERROR(VLOOKUP($A1908,'Lista de Precios_Bolívares_S'!$F:$Q,6,FALSE),\"\")","v":""},{"$f":"IFERROR(VLOOKUP($A1908,'Lista de Precios_Bolívares_S'!$F:$Q,12,FALSE),\"\")","v":""},"",{"$f":"IFERROR(VLOOKUP($A1908,'Lista de Precios_USD$_Euro€'!$E:$O,11,FALSE),\"\")","v":""}]
[null,null,null,{"$f":"IFERROR(VLOOKUP($A1909,'Lista de Precios_Bolívares_S'!$F:$Q,6,FALSE),\"\")","v":""},{"$f":"IFERROR(VLOOKUP($A1909,'Lista de Precios_Bolívares_S'!$F:$Q,12,FALSE),\"\")","v":""},"",{"$f":"IFERROR(VLOOKUP($A1909,'Lista de Precios_USD$_Euro€'!$E:$O,11,FALSE),\"\")","v":""}]
[null,null,null,{"$f":"IFERROR(VLOOKUP($A1910,'Lista de Precios_Bolívares_S'!$F:$Q,6,FALSE),\"\")","v":""},{"$f":"IFERROR(VLOOKUP($A1910,'Lista de Precios_Bolívares_S'!$F:$Q,12,FALSE),\"\")","v":""},"",{"$f":"IFERROR(VLOOKUP($A1910,'Lista de Precios_USD$_Euro€'!$E:$O,11,FALSE),\"\")","v":""}]
[null,null,null,{"$f":"IFERROR(VLOOKUP($A1911,'Lista de Precios_Bolívares_S'!$F:$Q,6,FALSE),\"\")","v":""},{"$f":"IFERROR(VLOOKUP($A1911,'Lista de Precios_Bolívares_S'!$F:$Q,12,FALSE),\"\")","v":""},"",{"$f":"IFERROR(VLOOKUP($A1911,'Lista de Precios_USD$_Euro€'!$E:$O,11,FALSE),\"\")","v":""}]
[null,null,null,{"$f":"IFERROR(VLOOKUP($A1912,'Lista de Precios_Bolívares_S'!$F:$Q,6,FALSE),\"\")","v":""},{"$f":"IFERROR(VLOOKUP($A1912,'Lista de Precios_Bolívares_S'!$F:$Q,12,FALSE),\"\")","v":""},"",{"$f":"IFERROR(VLOOKUP($A1912,'Lista de Precios_USD$_Euro€'!$E:$O,11,FALSE),\"\")","v":""}]
[null,null,null,{"$f":"IFERROR(VLOOKUP($A1913,'Lista de Precios_Bolívares_S'!$F:$Q,6,FALSE),\"\")","v":""},{"$f":"IFERROR(VLOOKUP($A1913,'Lista de Precios_Bolívares_S'!$F:$Q,12,FALSE),\"\")","v":""},"",{"$f":"IFERROR(VLOOKUP($A1913,'Lista de Precios_USD$_Euro€'!$E:$O,11,FALSE),\"\")","v":""}]
[null,null,null,{"$f":"IFERROR(VLOOKUP($A1914,'Lista de Precios_Bolívares_S'!$F:$Q,6,FALSE),\"\")","v":""},{"$f":"IFERROR(VLOOKUP($A1914,'Lista de Precios_Bolívares_S'!$F:$Q,12,FALSE),\"\")","v":""},"",{"$f":"IFERROR(VLOOKUP($A1914,'Lista de Precios_USD$_Euro€'!$E:$O,11,FALSE),\"\")","v":""}]
[null,null,null,{"$f":"IFERROR(VLOOKUP($A1915,'Lista de Precios_Bolívares_S'!$F:$Q,6,FALSE),\"\")","v":""},{"$f":"IFERROR(VLOOKUP($A1915,'Lista de Precios_Bolívares_S'!$F:$Q,12,FALSE),\"\")","v":""},"",{"$f":"IFERROR(VLOOKUP($A1915,'Lista de Precios_USD$_Euro€'!$E:$O,11,FALSE),\"\")","v":""}]
[null,null,null,{"$f":"IFERROR(VLOOKUP($A1916,'Lista de Precios_Bolívares_S'!$F:$Q,6,FALSE),\"\")","v":""},{"$f":"IFERROR(VLOOKUP($A1916,'Lista de Precios_Bolívares_S'!$F:$Q,12,FALSE),\"\")","v":""},"",{"$f":"IFERROR(VLOOKUP($A1916,'Lista de Precios_USD$_Euro€'!$E:$O,11,FALSE),\"\")","v":""}]
[null,null,null,{"$f":"IFERROR(VLOOKUP($A1917,'Lista de Precios_Bolívares_S'!$F:$Q,6,FALSE),\"\")","v":""},{"$f":"IFERROR(VLOOKUP($A1917,'Lista de Precios_Bolívares_S'!$F:$Q,12,FALSE),\"\")","v":""},"",{"$f":"IFERROR(VLOOKUP($A1917,'Lista de Precios_USD$_Euro€'!$E:$O,11,FALSE),\"\")","v":""}]
[null,null,null,{"$f":"IFERROR(VLOOKUP($A1918,'Lista de Precios_Bolívares_S'!$F:$Q,6,FALSE),\"\")","v":""},{"$f":"IFERROR(VLOOKUP($A1918,'Lista de Precios_Bolívares_S'!$F:$Q,12,FALSE),\"\")","v":""},"",{"$f":"IFERROR(VLOOKUP($A1918,'Lista de Precios_USD$_Euro€'!$E:$O,11,FALSE),\"\")","v":""}]
[null,null,null,{"$f":"IFERROR(VLOOKUP($A1919,'Lista de Precios_Bolívares_S'!$F:$Q,6,FALSE),\"\")","v":""},{"$f":"IFERROR(VLOOKUP($A1919,'Lista de Precios_Bolívares_S'!$F:$Q,12,FALSE),\"\")","v":""},"",{"$f":"IFERROR(VLOOKUP($A1919,'Lista de Precios_USD$_Euro€'!$E:$O,11,FALSE),\"\")","v":""}]
[null,null,null,{"$f":"IFERROR(VLOOKUP($A1920,'Lista de Precios_Bolívares_S'!$F:$Q,6,FALSE),\"\")","v":""},{"$f":"IFERROR(VLOOKUP($A1920,'Lista de Precios_Bolívares_S'!$F:$Q,12,FALSE),\"\")","v":""},"",{"$f":"IFERROR(VLOOKUP($A1920,'Lista de Precios_USD$_Euro€'!$E:$O,11,FALSE),\"\")","v":""}]
[null,null,null,{"$f":"IFERROR(VLOOKUP($A1921,'Lista de Precios_Bolívares_S'!$F:$Q,6,FALSE),\"\")","v":""},{"$f":"IFERROR(VLOOKUP($A1921,'Lista de Precios_Bolívares_S'!$F:$Q,12,FALSE),\"\")","v":""},"",{"$f":"IFERROR(VLOOKUP($A1921,'Lista de Precios_USD$_Euro€'!$E:$O,11,FALSE),\"\")","v":""}]
[null,null,null,{"$f":"IFERROR(VLOOKUP($A1922,'Lista de Precios_Bolívares_S'!$F:$Q,6,FALSE),\"\")","v":""},{"$f":"IFERROR(VLOOKUP($A1922,'Lista de Precios_Bolívares_S'!$F:$Q,12,FALSE),\"\")","v":""},"",{"$f":"IFERROR(VLOOKUP($A1922,'Lista de Precios_USD$_Euro€'!$E:$O,11,FALSE),\"\")","v":""}]
[null,null,null,{"$f":"IFERROR(VLOOKUP($A1923,'Lista de Precios_Bolívares_S'!$F:$Q,6,FALSE),\"\")","v":""},{"$f":"IFERROR(VLOOKUP($A1923,'Lista de Precios_Bolívares_S'!$F:$Q,12,FALSE),\"\")","v":""},"",{"$f":"IFERROR(VLOOKUP($A1923,'Lista de Precios_USD$_Euro€'!$E:$O,11,FALSE),\"\")","v":""}]
[null,null,null,{"$f":"IFERROR(VLOOKUP($A1924,'Lista de Precios_Bolívares_S'!$F:$Q,6,FALSE),\"\")","v":""},{"$f":"IFERROR(VLOOKUP($A1924,'Lista de Precios_Bolívares_S'!$F:$Q,12,FALSE),\"\")","v":""},"",{"$f":"IFERROR(VLOOKUP($A1924,'Lista de Precios_USD$_Euro€'!$E:$O,11,FALSE),\"\")","v":""}]
[null,null,null,{"$f":"IFERROR(VLOOKUP($A1925,'Lista de Precios_Bolívares_S'!$F:$Q,6,FALSE),\"\")","v":""},{"$f":"IFERROR(VLOOKUP($A1925,'Lista de Precios_Bolívares_S'!$F:$Q,12,FALSE),\"\")","v":""},"",{"$f":"IFERROR(VLOOKUP($A1925,'Lista de Precios_USD$_Euro€'!$E:$O,11,FALSE),\"\")","v":""}]
[null,null,null,{"$f":"IFERROR(VLOOKUP($A1926,'Lista de Precios_Bolívares_S'!$F:$Q,6,FALSE),\"\")","v":""},{"$f":"IFERROR(VLOOKUP($A1926,'Lista de Precios_Bolívares_S'!$F:$Q,12,FALSE),\"\")","v":""},"",{"$f":"IFERROR(VLOOKUP($A1926,'Lista de Precios_USD$_Euro€'!$E:$O,11,FALSE),\"\")","v":""}]
[null,null,null,{"$f":"IFERROR(VLOOKUP($A1927,'Lista de Precios_Bolívares_S'!$F:$Q,6,FALSE),\"\")","v":""},{"$f":"IFERROR(VLOOKUP($A1927,'Lista de Precios_Bolívares_S'!$F:$Q,12,FALSE),\"\")","v":""},"",{"$f":"IFERROR(VLOOKUP($A1927,'Lista de Precios_USD$_Euro€'!$E:$O,11,FALSE),\"\")","v":""}]
[null,null,null,{"$f":"IFERROR(VLOOKUP($A1928,'Lista de Precios_Bolívares_S'!$F:$Q,6,FALSE),\"\")","v":""},{"$f":"IFERROR(VLOOKUP($A1928,'Lista de Precios_Bolívares_S'!$F:$Q,12,FALSE),\"\")","v":""},"",{"$f":"IFERROR(VLOOKUP($A1928,'Lista de Precios_USD$_Euro€'!$E:$O,11,FALSE),\"\")","v":""}]
[null,null,null,{"$f":"IFERROR(VLOOKUP($A1929,'Lista de Precios_Bolívares_S'!$F:$Q,6,FALSE),\"\")","v":""},{"$f":"IFERROR(VLOOKUP($A1929,'Lista de Precios_Bolívares_S'!$F:$Q,12,FALSE),\"\")","v":""},"",{"$f":"IFERROR(VLOOKUP($A1929,'Lista de Precios_USD$_Euro€'!$E:$O,11,FALSE),\"\")","v":""}]
[null,null,null,{"$f":"IFERROR(VLOOKUP($A1930,'Lista de Precios_Bolívares_S'!$F:$Q,6,FALSE),\"\")","v":""},{"$f":"IFERROR(VLOOKUP($A1930,'Lista de Precios_Bolívares_S'!$F:$Q,12,FALSE),\"\")","v":""},"",{"$f":"IFERROR(VLOOKUP($A1930,'Lista de Precios_USD$_Euro€'!$E:$O,11,FALSE),\"\")","v":""}]
[null,null,null,{"$f":"IFERROR(VLOOKUP($A1931,'Lista de Precios_Bolívares_S'!$F:$Q,6,FALSE),\"\")","v":""},{"$f":"IFERROR(VLOOKUP($A1931,'Lista de Precios_Bolívares_S'!$F:$Q,12,FALSE),\"\")","v":""},"",{"$f":"IFERROR(VLOOKUP($A1931,'Lista de Precios_USD$_Euro€'!$E:$O,11,FALSE),\"\")","v":""}]
[null,null,null,{"$f":"IFERROR(VLOOKUP($A1932,'Lista de Precios_Bolívares_S'!$F:$Q,6,FALSE),\"\")","v":""},{"$f":"IFERROR(VLOOKUP($A1932,'Lista de Precios_Bolívares_S'!$F:$Q,12,FALSE),\"\")","v":""},"",{"$f":"IFERROR(VLOOKUP($A1932,'Lista de Precios_USD$_Euro€'!$E:$O,11,FALSE),\"\")","v":""}]
[null,null,null,{"$f":"IFERROR(VLOOKUP($A1933,'Lista de Precios_Bolívares_S'!$F:$Q,6,FALSE),\"\")","v":""},{"$f":"IFERROR(VLOOKUP($A1933,'Lista de Precios_Bolívares_S'!$F:$Q,12,FALSE),\"\")","v":""},"",{"$f":"IFERROR(VLOOKUP($A1933,'Lista de Precios_USD$_Euro€'!$E:$O,11,FALSE),\"\")","v":""}]
[null,null,null,{"$f":"IFERROR(VLOOKUP($A1934,'Lista de Precios_Bolívares_S'!$F:$Q,6,FALSE),\"\")","v":""},{"$f":"IFERROR(VLOOKUP($A1934,'Lista de Precios_Bolívares_S'!$F:$Q,12,FALSE),\"\")","v":""},"",{"$f":"IFERROR(VLOOKUP($A1934,'Lista de Precios_USD$_Euro€'!$E:$O,11,FALSE),\"\")","v":""}]
[null,null,null,{"$f":"IFERROR(VLOOKUP($A1935,'Lista de Precios_Bolívares_S'!$F:$Q,6,FALSE),\"\")","v":""},{"$f":"IFERROR(VLOOKUP($A1935,'Lista de Precios_Bolívares_S'!$F:$Q,12,FALSE),\"\")","v":""},"",{"$f":"IFERROR(VLOOKUP($A1935,'Lista de Precios_USD$_Euro€'!$E:$O,11,FALSE),\"\")","v":""}]
[null,null,null,{"$f":"IFERROR(VLOOKUP($A1936,'Lista de Precios_Bolívares_S'!$F:$Q,6,FALSE),\"\")","v":""},{"$f":"IFERROR(VLOOKUP($A1936,'Lista de Precios_Bolívares_S'!$F:$Q,12,FALSE),\"\")","v":""},"",{"$f":"IFERROR(VLOOKUP($A1936,'Lista de Precios_USD$_Euro€'!$E:$O,11,FALSE),\"\")","v":""}]
[null,null,null,{"$f":"IFERROR(VLOOKUP($A1937,'Lista de Precios_Bolívares_S'!$F:$Q,6,FALSE),\"\")","v":""},{"$f":"IFERROR(VLOOKUP($A1937,'Lista de Precios_Bolívares_S'!$F:$Q,12,FALSE),\"\")","v":""},"",{"$f":"IFERROR(VLOOKUP($A1937,'Lista de Precios_USD$_Euro€'!$E:$O,11,FALSE),\"\")","v":""}]
[null,null,null,{"$f":"IFERROR(VLOOKUP($A1938,'Lista de Precios_Bolívares_S'!$F:$Q,6,FALSE),\"\")","v":""},{"$f":"IFERROR(VLOOKUP($A1938,'Lista de Precios_Bolívares_S'!$F:$Q,12,FALSE),\"\")","v":""},"",{"$f":"IFERROR(VLOOKUP($A1938,'Lista de Precios_USD$_Euro€'!$E:$O,11,FALSE),\"\")","v":""}]
[null,null,null,{"$f":"IFERROR(VLOOKUP($A1939,'Lista de Precios_Bolívares_S'!$F:$Q,6,FALSE),\"\")","v":""},{"$f":"IFERROR(VLOOKUP($A1939,'Lista de Precios_Bolívares_S'!$F:$Q,12,FALSE),\"\")","v":""},"",{"$f":"IFERROR(VLOOKUP($A1939,'Lista de Precios_USD$_Euro€'!$E:$O,11,FALSE),\"\")","v":""}]
[null,null,null,{"$f":"IFERROR(VLOOKUP($A1940,'Lista de Precios_Bolívares_S'!$F:$Q,6,FALSE),\"\")","v":""},{"$f":"IFERROR(VLOOKUP($A1940,'Lista de Precios_Bolívares_S'!$F:$Q,12,FALSE),\"\")","v":""},"",{"$f":"IFERROR(VLOOKUP($A1940,'Lista de Precios_USD$_Euro€'!$E:$O,11,FALSE),\"\")","v":""}]
[null,null,null,{"$f":"IFERROR(VLOOKUP($A1941,'Lista de Precios_Bolívares_S'!$F:$Q,6,FALSE),\"\")","v":""},{"$f":"IFERROR(VLOOKUP($A1941,'Lista de Precios_Bolívares_S'!$F:$Q,12,FALSE),\"\")","v":""},"",{"$f":"IFERROR(VLOOKUP($A1941,'Lista de Precios_USD$_Euro€'!$E:$O,11,FALSE),\"\")","v":""}]
[null,null,null,{"$f":"IFERROR(VLOOKUP($A1942,'Lista de Precios_Bolívares_S'!$F:$Q,6,FALSE),\"\")","v":""},{"$f":"IFERROR(VLOOKUP($A1942,'Lista de Precios_Bolívares_S'!$F:$Q,12,FALSE),\"\")","v":""},"",{"$f":"IFERROR(VLOOKUP($A1942,'Lista de Precios_USD$_Euro€'!$E:$O,11,FALSE),\"\")","v":""}]
[null,null,null,{"$f":"IFERROR(VLOOKUP($A1943,'Lista de Precios_Bolívares_S'!$F:$Q,6,FALSE),\"\")","v":""},{"$f":"IFERROR(VLOOKUP($A1943,'Lista de Precios_Bolívares_S'!$F:$Q,12,FALSE),\"\")","v":""},"",{"$f":"IFERROR(VLOOKUP($A1943,'Lista de Precios_USD$_Euro€'!$E:$O,11,FALSE),\"\")","v":""}]
[null,null,null,{"$f":"IFERROR(VLOOKUP($A1944,'Lista de Precios_Bolívares_S'!$F:$Q,6,FALSE),\"\")","v":""},{"$f":"IFERROR(VLOOKUP($A1944,'Lista de Precios_Bolívares_S'!$F:$Q,12,FALSE),\"\")","v":""},"",{"$f":"IFERROR(VLOOKUP($A1944,'Lista de Precios_USD$_Euro€'!$E:$O,11,FALSE),\"\")","v":""}]
[null,null,null,{"$f":"IFERROR(VLOOKUP($A1945,'Lista de Precios_Bolívares_S'!$F:$Q,6,FALSE),\"\")","v":""},{"$f":"IFERROR(VLOOKUP($A1945,'Lista de Precios_Bolívares_S'!$F:$Q,12,FALSE),\"\")","v":""},{"$f":"IFERROR(IF(ROUND($C1945,2)=ROUND($D1920,2),ROUND($E1920,2),ROUND($C1945,2)),\"\")","v":""},{"$f":"IFERROR(VLOOKUP($A1945,'Lista de Precios_USD$_Euro€'!$E:$O,11,FALSE),\"\")","v":""}]
[null,null,null,{"$f":"IFERROR(VLOOKUP($A1946,'Lista de Precios_Bolívares_S'!$F:$Q,6,FALSE),\"\")","v":""},{"$f":"IFERROR(VLOOKUP($A1946,'Lista de Precios_Bolívares_S'!$F:$Q,12,FALSE),\"\")","v":""},"",{"$f":"IFERROR(VLOOKUP($A1946,'Lista de Precios_USD$_Euro€'!$E:$O,11,FALSE),\"\")","v":""}]
[null,null,null,{"$f":"IFERROR(VLOOKUP($A1947,'Lista de Precios_Bolívares_S'!$F:$Q,6,FALSE),\"\")","v":""},{"$f":"IFERROR(VLOOKUP($A1947,'Lista de Precios_Bolívares_S'!$F:$Q,12,FALSE),\"\")","v":""},"",{"$f":"IFERROR(VLOOKUP($A1947,'Lista de Precios_USD$_Euro€'!$E:$O,11,FALSE),\"\")","v":""}]
[null,null,null,{"$f":"IFERROR(VLOOKUP($A1948,'Lista de Precios_Bolívares_S'!$F:$Q,6,FALSE),\"\")","v":""},{"$f":"IFERROR(VLOOKUP($A1948,'Lista de Precios_Bolívares_S'!$F:$Q,12,FALSE),\"\")","v":""},"",{"$f":"IFERROR(VLOOKUP($A1948,'Lista de Precios_USD$_Euro€'!$E:$O,11,FALSE),\"\")","v":""}]
[null,null,null,{"$f":"IFERROR(VLOOKUP($A1949,'Lista de Precios_Bolívares_S'!$F:$Q,6,FALSE),\"\")","v":""},{"$f":"IFERROR(VLOOKUP($A1949,'Lista de Precios_Bolívares_S'!$F:$Q,12,FALSE),\"\")","v":""},"",{"$f":"IFERROR(VLOOKUP($A1949,'Lista de Precios_USD$_Euro€'!$E:$O,11,FALSE),\"\")","v":""}]
[null,null,null,{"$f":"IFERROR(VLOOKUP($A1950,'Lista de Precios_Bolívares_S'!$F:$Q,6,FALSE),\"\")","v":""},{"$f":"IFERROR(VLOOKUP($A1950,'Lista de Precios_Bolívares_S'!$F:$Q,12,FALSE),\"\")","v":""},"",{"$f":"IFERROR(VLOOKUP($A1950,'Lista de Precios_USD$_Euro€'!$E:$O,11,FALSE),\"\")","v":""}]
[null,null,null,{"$f":"IFERROR(VLOOKUP($A1951,'Lista de Precios_Bolívares_S'!$F:$Q,6,FALSE),\"\")","v":""},{"$f":"IFERROR(VLOOKUP($A1951,'Lista de Precios_Bolívares_S'!$F:$Q,12,FALSE),\"\")","v":""},"",{"$f":"IFERROR(VLOOKUP($A1951,'Lista de Precios_USD$_Euro€'!$E:$O,11,FALSE),\"\")","v":""}]
[null,null,null,{"$f":"IFERROR(VLOOKUP($A1952,'Lista de Precios_Bolívares_S'!$F:$Q,6,FALSE),\"\")","v":""},{"$f":"IFERROR(VLOOKUP($A1952,'Lista de Precios_Bolívares_S'!$F:$Q,12,FALSE),\"\")","v":""},"",{"$f":"IFERROR(VLOOKUP($A1952,'Lista de Precios_USD$_Euro€'!$E:$O,11,FALSE),\"\")","v":""}]
[null,null,null,{"$f":"IFERROR(VLOOKUP($A1953,'Lista de Precios_Bolívares_S'!$F:$Q,6,FALSE),\"\")","v":""},{"$f":"IFERROR(VLOOKUP($A1953,'Lista de Precios_Bolívares_S'!$F:$Q,12,FALSE),\"\")","v":""},"",{"$f":"IFERROR(VLOOKUP($A1953,'Lista de Precios_USD$_Euro€'!$E:$O,11,FALSE),\"\")","v":""}]
[null,null,null,{"$f":"IFERROR(VLOOKUP($A1954,'Lista de Precios_Bolívares_S'!$F:$Q,6,FALSE),\"\")","v":""},{"$f":"IFERROR(VLOOKUP($A1954,'Lista de Precios_Bolívares_S'!$F:$Q,12,FALSE),\"\")","v":""},"",{"$f":"IFERROR(VLOOKUP($A1954,'Lista de Precios_USD$_Euro€'!$E:$O,11,FALSE),\"\")","v":""}]
[null,null,null,{"$f":"IFERROR(VLOOKUP($A1955,'Lista de Precios_Bolívares_S'!$F:$Q,6,FALSE),\"\")","v":""},{"$f":"IFERROR(VLOOKUP($A1955,'Lista de Precios_Bolívares_S'!$F:$Q,12,FALSE),\"\")","v":""},"",{"$f":"IFERROR(VLOOKUP($A1955,'Lista de Precios_USD$_Euro€'!$E:$O,11,FALSE),\"\")","v":""}]
[null,null,null,{"$f":"IFERROR(VLOOKUP($A1956,'Lista de Precios_Bolívares_S'!$F:$Q,6,FALSE),\"\")","v":""},{"$f":"IFERROR(VLOOKUP($A1956,'Lista de Precios_Bolívares_S'!$F:$Q,12,FALSE),\"\")","v":""},"",{"$f":"IFERROR(VLOOKUP($A1956,'Lista de Precios_USD$_Euro€'!$E:$O,11,FALSE),\"\")","v":""}]
[null,null,null,{"$f":"IFERROR(VLOOKUP($A1957,'Lista de Precios_Bolívares_S'!$F:$Q,6,FALSE),\"\")","v":""},{"$f":"IFERROR(VLOOKUP($A1957,'Lista de Precios_Bolívares_S'!$F:$Q,12,FALSE),\"\")","v":""},"",{"$f":"IFERROR(VLOOKUP($A1957,'Lista de Precios_USD$_Euro€'!$E:$O,11,FALSE),\"\")","v":""}]
[null,null,null,{"$f":"IFERROR(VLOOKUP($A1958,'Lista de Precios_Bolívares_S'!$F:$Q,6,FALSE),\"\")","v":""},{"$f":"IFERROR(VLOOKUP($A1958,'Lista de Precios_Bolívares_S'!$F:$Q,12,FALSE),\"\")","v":""},"",{"$f":"IFERROR(VLOOKUP($A1958,'Lista de Precios_USD$_Euro€'!$E:$O,11,FALSE),\"\")","v":""}]
[null,null,null,{"$f":"IFERROR(VLOOKUP($A1959,'Lista de Precios_Bolívares_S'!$F:$Q,6,FALSE),\"\")","v":""},{"$f":"IFERROR(VLOOKUP($A1959,'Lista de Precios_Bolívares_S'!$F:$Q,12,FALSE),\"\")","v":""},"",{"$f":"IFERROR(VLOOKUP($A1959,'Lista de Precios_USD$_Euro€'!$E:$O,11,FALSE),\"\")","v":""}]
[null,null,null,{"$f":"IFERROR(VLOOKUP($A1960,'Lista de Precios_Bolívares_S'!$F:$Q,6,FALSE),\"\")","v":""},{"$f":"IFERROR(VLOOKUP($A1960,'Lista de Precios_Bolívares_S'!$F:$Q,12,FALSE),\"\")","v":""},"",{"$f":"IFERROR(VLOOKUP($A1960,'Lista de Precios_USD$_Euro€'!$E:$O,11,FALSE),\"\")","v":""}]
[null,null,null,{"$f":"IFERROR(VLOOKUP($A1961,'Lista de Precios_Bolívares_S'!$F:$Q,6,FALSE),\"\")","v":""},{"$f":"IFERROR(VLOOKUP($A1961,'Lista de Precios_Bolívares_S'!$F:$Q,12,FALSE),\"\")","v":""},"",{"$f":"IFERROR(VLOOKUP($A1961,'Lista de Precios_USD$_Euro€'!$E:$O,11,FALSE),\"\")","v":""}]
[null,null,null,{"$f":"IFERROR(VLOOKUP($A1962,'Lista de Precios_Bolívares_S'!$F:$Q,6,FALSE),\"\")","v":""},{"$f":"IFERROR(VLOOKUP($A1962,'Lista de Precios_Bolívares_S'!$F:$Q,12,FALSE),\"\")","v":""},"",{"$f":"IFERROR(VLOOKUP($A1962,'Lista de Precios_USD$_Euro€'!$E:$O,11,FALSE),\"\")","v":""}]
[null,null,null,{"$f":"IFERROR(VLOOKUP($A1963,'Lista de Precios_Bolívares_S'!$F:$Q,6,FALSE),\"\")","v":""},{"$f":"IFERROR(VLOOKUP($A1963,'Lista de Precios_Bolívares_S'!$F:$Q,12,FALSE),\"\")","v":""},"",{"$f":"IFERROR(VLOOKUP($A1963,'Lista de Precios_USD$_Euro€'!$E:$O,11,FALSE),\"\")","v":""}]
[null,null,null,{"$f":"IFERROR(VLOOKUP($A1964,'Lista de Precios_Bolívares_S'!$F:$Q,6,FALSE),\"\")","v":""},{"$f":"IFERROR(VLOOKUP($A1964,'Lista de Precios_Bolívares_S'!$F:$Q,12,FALSE),\"\")","v":""},"",{"$f":"IFERROR(VLOOKUP($A1964,'Lista de Precios_USD$_Euro€'!$E:$O,11,FALSE),\"\")","v":""}]
[null,null,null,{"$f":"IFERROR(VLOOKUP($A1965,'Lista de Precios_Bolívares_S'!$F:$Q,6,FALSE),\"\")","v":""},{"$f":"IFERROR(VLOOKUP($A1965,'Lista de Precios_Bolívares_S'!$F:$Q,12,FALSE),\"\")","v":""},"",{"$f":"IFERROR(VLOOKUP($A1965,'Lista de Precios_USD$_Euro€'!$E:$O,11,FALSE),\"\")","v":""}]
[null,null,null,{"$f":"IFERROR(VLOOKUP($A1966,'Lista de Precios_Bolívares_S'!$F:$Q,6,FALSE),\"\")","v":""},{"$f":"IFERROR(VLOOKUP($A1966,'Lista de Precios_Bolívares_S'!$F:$Q,12,FALSE),\"\")","v":""},"",{"$f":"IFERROR(VLOOKUP($A1966,'Lista de Precios_USD$_Euro€'!$E:$O,11,FALSE),\"\")","v":""}]
[null,null,null,{"$f":"IFERROR(VLOOKUP($A1967,'Lista de Precios_Bolívares_S'!$F:$Q,6,FALSE),\"\")","v":""},{"$f":"IFERROR(VLOOKUP($A1967,'Lista de Precios_Bolívares_S'!$F:$Q,12,FALSE),\"\")","v":""},"",{"$f":"IFERROR(VLOOKUP($A1967,'Lista de Precios_USD$_Euro€'!$E:$O,11,FALSE),\"\")","v":""}]
[null,null,null,{"$f":"IFERROR(VLOOKUP($A1968,'Lista de Precios_Bolívares_S'!$F:$Q,6,FALSE),\"\")","v":""},{"$f":"IFERROR(VLOOKUP($A1968,'Lista de Precios_Bolívares_S'!$F:$Q,12,FALSE),\"\")","v":""},"",{"$f":"IFERROR(VLOOKUP($A1968,'Lista de Precios_USD$_Euro€'!$E:$O,11,FALSE),\"\")","v":""}]
[null,null,null,{"$f":"IFERROR(VLOOKUP($A1969,'Lista de Precios_Bolívares_S'!$F:$Q,6,FALSE),\"\")","v":""},{"$f":"IFERROR(VLOOKUP($A1969,'Lista de Precios_Bolívares_S'!$F:$Q,12,FALSE),\"\")","v":""},"",{"$f":"IFERROR(VLOOKUP($A1969,'Lista de Precios_USD$_Euro€'!$E:$O,11,FALSE),\"\")","v":""}]
[null,null,null,{"$f":"IFERROR(VLOOKUP($A1970,'Lista de Precios_Bolívares_S'!$F:$Q,6,FALSE),\"\")","v":""},{"$f":"IFERROR(VLOOKUP($A1970,'Lista de Precios_Bolívares_S'!$F:$Q,12,FALSE),\"\")","v":""},"",{"$f":"IFERROR(VLOOKUP($A1970,'Lista de Precios_USD$_Euro€'!$E:$O,11,FALSE),\"\")","v":""}]
[null,null,null,{"$f":"IFERROR(VLOOKUP($A1971,'Lista de Precios_Bolívares_S'!$F:$Q,6,FALSE),\"\")","v":""},{"$f":"IFERROR(VLOOKUP($A1971,'Lista de Precios_Bolívares_S'!$F:$Q,12,FALSE),\"\")","v":""},"",{"$f":"IFERROR(VLOOKUP($A1971,'Lista de Precios_USD$_Euro€'!$E:$O,11,FALSE),\"\")","v":""}]
[null,null,null,{"$f":"IFERROR(VLOOKUP($A1972,'Lista de Precios_Bolívares_S'!$F:$Q,6,FALSE),\"\")","v":""},{"$f":"IFERROR(VLOOKUP($A1972,'Lista de Precios_Bolívares_S'!$F:$Q,12,FALSE),\"\")","v":""},"",{"$f":"IFERROR(VLOOKUP($A1972,'Lista de Precios_USD$_Euro€'!$E:$O,11,FALSE),\"\")","v":""}]
[null,null,null,{"$f":"IFERROR(VLOOKUP($A1973,'Lista de Precios_Bolívares_S'!$F:$Q,6,FALSE),\"\")","v":""},{"$f":"IFERROR(VLOOKUP($A1973,'Lista de Precios_Bolívares_S'!$F:$Q,12,FALSE),\"\")","v":""},"",{"$f":"IFERROR(VLOOKUP($A1973,'Lista de Precios_USD$_Euro€'!$E:$O,11,FALSE),\"\")","v":""}]
[null,null,null,{"$f":"IFERROR(VLOOKUP($A1974,'Lista de Precios_Bolívares_S'!$F:$Q,6,FALSE),\"\")","v":""},{"$f":"IFERROR(VLOOKUP($A1974,'Lista de Precios_Bolívares_S'!$F:$Q,12,FALSE),\"\")","v":""},"",{"$f":"IFERROR(VLOOKUP($A1974,'Lista de Precios_USD$_Euro€'!$E:$O,11,FALSE),\"\")","v":""}]
[null,null,null,{"$f":"IFERROR(VLOOKUP($A1975,'Lista de Precios_Bolívares_S'!$F:$Q,6,FALSE),\"\")","v":""},{"$f":"IFERROR(VLOOKUP($A1975,'Lista de Precios_Bolívares_S'!$F:$Q,12,FALSE),\"\")","v":""},"",{"$f":"IFERROR(VLOOKUP($A1975,'Lista de Precios_USD$_Euro€'!$E:$O,11,FALSE),\"\")","v":""}]
[null,null,null,{"$f":"IFERROR(VLOOKUP($A1976,'Lista de Precios_Bolívares_S'!$F:$Q,6,FALSE),\"\")","v":""},{"$f":"IFERROR(VLOOKUP($A1976,'Lista de Precios_Bolívares_S'!$F:$Q,12,FALSE),\"\")","v":""},"",{"$f":"IFERROR(VLOOKUP($A1976,'Lista de Precios_USD$_Euro€'!$E:$O,11,FALSE),\"\")","v":""}]
[null,null,null,{"$f":"IFERROR(VLOOKUP($A1977,'Lista de Precios_Bolívares_S'!$F:$Q,6,FALSE),\"\")","v":""},{"$f":"IFERROR(VLOOKUP($A1977,'Lista de Precios_Bolívares_S'!$F:$Q,12,FALSE),\"\")","v":""},"",{"$f":"IFERROR(VLOOKUP($A1977,'Lista de Precios_USD$_Euro€'!$E:$O,11,FALSE),\"\")","v":""}]
[null,null,null,{"$f":"IFERROR(VLOOKUP($A1978,'Lista de Precios_Bolívares_S'!$F:$Q,6,FALSE),\"\")","v":""},{"$f":"IFERROR(VLOOKUP($A1978,'Lista de Precios_Bolívares_S'!$F:$Q,12,FALSE),\"\")","v":""},"",{"$f":"IFERROR(VLOOKUP($A1978,'Lista de Precios_USD$_Euro€'!$E:$O,11,FALSE),\"\")","v":""}]
[null,null,null,{"$f":"IFERROR(VLOOKUP($A1979,'Lista de Precios_Bolívares_S'!$F:$Q,6,FALSE),\"\")","v":""},{"$f":"IFERROR(VLOOKUP($A1979,'Lista de Precios_Bolívares_S'!$F:$Q,12,FALSE),\"\")","v":""},"",{"$f":"IFERROR(VLOOKUP($A1979,'Lista de Precios_USD$_Euro€'!$E:$O,11,FALSE),\"\")","v":""}]
[null,null,null,{"$f":"IFERROR(VLOOKUP($A1980,'Lista de Precios_Bolívares_S'!$F:$Q,6,FALSE),\"\")","v":""},{"$f":"IFERROR(VLOOKUP($A1980,'Lista de Precios_Bolívares_S'!$F:$Q,12,FALSE),\"\")","v":""},"",{"$f":"IFERROR(VLOOKUP($A1980,'Lista de Precios_USD$_Euro€'!$E:$O,11,FALSE),\"\")","v":""}]
[null,null,null,{"$f":"IFERROR(VLOOKUP($A1981,'Lista de Precios_Bolívares_S'!$F:$Q,6,FALSE),\"\")","v":""},{"$f":"IFERROR(VLOOKUP($A1981,'Lista de Precios_Bolívares_S'!$F:$Q,12,FALSE),\"\")","v":""},"",{"$f":"IFERROR(VLOOKUP($A1981,'Lista de Precios_USD$_Euro€'!$E:$O,11,FALSE),\"\")","v":""}]
[null,null,null,{"$f":"IFERROR(VLOOKUP($A1982,'Lista de Precios_Bolívares_S'!$F:$Q,6,FALSE),\"\")","v":""},{"$f":"IFERROR(VLOOKUP($A1982,'Lista de Precios_Bolívares_S'!$F:$Q,12,FALSE),\"\")","v":""},"",{"$f":"IFERROR(VLOOKUP($A1982,'Lista de Precios_USD$_Euro€'!$E:$O,11,FALSE),\"\")","v":""}]
[null,null,null,{"$f":"IFERROR(VLOOKUP($A1983,'Lista de Precios_Bolívares_S'!$F:$Q,6,FALSE),\"\")","v":""},{"$f":"IFERROR(VLOOKUP($A1983,'Lista de Precios_Bolívares_S'!$F:$Q,12,FALSE),\"\")","v":""},"",{"$f":"IFERROR(VLOOKUP($A1983,'Lista de Precios_USD$_Euro€'!$E:$O,11,FALSE),\"\")","v":""}]
[null,null,null,{"$f":"IFERROR(VLOOKUP($A1984,'Lista de Precios_Bolívares_S'!$F:$Q,6,FALSE),\"\")","v":""},{"$f":"IFERROR(VLOOKUP($A1984,'Lista de Precios_Bolívares_S'!$F:$Q,12,FALSE),\"\")","v":""},"",{"$f":"IFERROR(VLOOKUP($A1984,'Lista de Precios_USD$_Euro€'!$E:$O,11,FALSE),\"\")","v":""}]
[null,null,null,{"$f":"IFERROR(VLOOKUP($A1985,'Lista de Precios_Bolívares_S'!$F:$Q,6,FALSE),\"\")","v":""},{"$f":"IFERROR(VLOOKUP($A1985,'Lista de Precios_Bolívares_S'!$F:$Q,12,FALSE),\"\")","v":""},"",{"$f":"IFERROR(VLOOKUP($A1985,'Lista de Precios_USD$_Euro€'!$E:$O,11,FALSE),\"\")","v":""}]
[null,null,null,{"$f":"IFERROR(VLOOKUP($A1986,'Lista de Precios_Bolívares_S'!$F:$Q,6,FALSE),\"\")","v":""},{"$f":"IFERROR(VLOOKUP($A1986,'Lista de Precios_Bolívares_S'!$F:$Q,12,FALSE),\"\")","v":""},"",{"$f":"IFERROR(VLOOKUP($A1986,'Lista de Precios_USD$_Euro€'!$E:$O,11,FALSE),\"\")","v":""}]
[null,null,null,{"$f":"IFERROR(VLOOKUP($A1987,'Lista de Precios_Bolívares_S'!$F:$Q,6,FALSE),\"\")","v":""},{"$f":"IFERROR(VLOOKUP($A1987,'Lista de Precios_Bolívares_S'!$F:$Q,12,FALSE),\"\")","v":""},"",{"$f":"IFERROR(VLOOKUP($A1987,'Lista de Precios_USD$_Euro€'!$E:$O,11,FALSE),\"\")","v":""}]
[null,null,null,{"$f":"IFERROR(VLOOKUP($A1988,'Lista de Precios_Bolívares_S'!$F:$Q,6,FALSE),\"\")","v":""},{"$f":"IFERROR(VLOOKUP($A1988,'Lista de Precios_Bolívares_S'!$F:$Q,12,FALSE),\"\")","v":""},"",{"$f":"IFERROR(VLOOKUP($A1988,'Lista de Precios_USD$_Euro€'!$E:$O,11,FALSE),\"\")","v":""}]
[null,null,null,{"$f":"IFERROR(VLOOKUP($A1989,'Lista de Precios_Bolívares_S'!$F:$Q,6,FALSE),\"\")","v":""},{"$f":"IFERROR(VLOOKUP($A1989,'Lista de Precios_Bolívares_S'!$F:$Q,12,FALSE),\"\")","v":""},"",{"$f":"IFERROR(VLOOKUP($A1989,'Lista de Precios_USD$_Euro€'!$E:$O,11,FALSE),\"\")","v":""}]
[null,null,null,{"$f":"IFERROR(VLOOKUP($A1990,'Lista de Precios_Bolívares_S'!$F:$Q,6,FALSE),\"\")","v":""},{"$f":"IFERROR(VLOOKUP($A1990,'Lista de Precios_Bolívares_S'!$F:$Q,12,FALSE),\"\")","v":""},"",{"$f":"IFERROR(VLOOKUP($A1990,'Lista de Precios_USD$_Euro€'!$E:$O,11,FALSE),\"\")","v":""}]
[null,null,null,{"$f":"IFERROR(VLOOKUP($A1991,'Lista de Precios_Bolívares_S'!$F:$Q,6,FALSE),\"\")","v":""},{"$f":"IFERROR(VLOOKUP($A1991,'Lista de Precios_Bolívares_S'!$F:$Q,12,FALSE),\"\")","v":""},"",{"$f":"IFERROR(VLOOKUP($A1991,'Lista de Precios_USD$_Euro€'!$E:$O,11,FALSE),\"\")","v":""}]
[null,null,null,{"$f":"IFERROR(VLOOKUP($A1992,'Lista de Precios_Bolívares_S'!$F:$Q,6,FALSE),\"\")","v":""},{"$f":"IFERROR(VLOOKUP($A1992,'Lista de Precios_Bolívares_S'!$F:$Q,12,FALSE),\"\")","v":""},"",{"$f":"IFERROR(VLOOKUP($A1992,'Lista de Precios_USD$_Euro€'!$E:$O,11,FALSE),\"\")","v":""}]
[null,null,null,{"$f":"IFERROR(VLOOKUP($A1993,'Lista de Precios_Bolívares_S'!$F:$Q,6,FALSE),\"\")","v":""},{"$f":"IFERROR(VLOOKUP($A1993,'Lista de Precios_Bolívares_S'!$F:$Q,12,FALSE),\"\")","v":""},"",{"$f":"IFERROR(VLOOKUP($A1993,'Lista de Precios_USD$_Euro€'!$E:$O,11,FALSE),\"\")","v":""}]
[null,null,null,{"$f":"IFERROR(VLOOKUP($A1994,'Lista de Precios_Bolívares_S'!$F:$Q,6,FALSE),\"\")","v":""},{"$f":"IFERROR(VLOOKUP($A1994,'Lista de Precios_Bolívares_S'!$F:$Q,12,FALSE),\"\")","v":""},"",{"$f":"IFERROR(VLOOKUP($A1994,'Lista de Precios_USD$_Euro€'!$E:$O,11,FALSE),\"\")","v":""}]
[null,null,null,{"$f":"IFERROR(VLOOKUP($A1995,'Lista de Precios_Bolívares_S'!$F:$Q,6,FALSE),\"\")","v":""},{"$f":"IFERROR(VLOOKUP($A1995,'Lista de Precios_Bolívares_S'!$F:$Q,12,FALSE),\"\")","v":""},"",{"$f":"IFERROR(VLOOKUP($A1995,'Lista de Precios_USD$_Euro€'!$E:$O,11,FALSE),\"\")","v":""}]
[null,null,null,{"$f":"IFERROR(VLOOKUP($A1996,'Lista de Precios_Bolívares_S'!$F:$Q,6,FALSE),\"\")","v":""},{"$f":"IFERROR(VLOOKUP($A1996,'Lista de Precios_Bolívares_S'!$F:$Q,12,FALSE),\"\")","v":""},"",{"$f":"IFERROR(VLOOKUP($A1996,'Lista de Precios_USD$_Euro€'!$E:$O,11,FALSE),\"\")","v":""}]
[null,null,null,{"$f":"IFERROR(VLOOKUP($A1997,'Lista de Precios_Bolívares_S'!$F:$Q,6,FALSE),\"\")","v":""},{"$f":"IFERROR(VLOOKUP($A1997,'Lista de Precios_Bolívares_S'!$F:$Q,12,FALSE),\"\")","v":""},"",{"$f":"IFERROR(VLOOKUP($A1997,'Lista de Precios_USD$_Euro€'!$E:$O,11,FALSE),\"\")","v":""}]
[null,null,null,{"$f":"IFERROR(VLOOKUP($A1998,'Lista de Precios_Bolívares_S'!$F:$Q,6,FALSE),\"\")","v":""},{"$f":"IFERROR(VLOOKUP($A1998,'Lista de Precios_Bolívares_S'!$F:$Q,12,FALSE),\"\")","v":""},"",{"$f":"IFERROR(VLOOKUP($A1998,'Lista de Precios_USD$_Euro€'!$E:$O,11,FALSE),\"\")","v":""}]
[null,null,null,{"$f":"IFERROR(VLOOKUP($A1999,'Lista de Precios_Bolívares_S'!$F:$Q,6,FALSE),\"\")","v":""},{"$f":"IFERROR(VLOOKUP($A1999,'Lista de Precios_Bolívares_S'!$F:$Q,12,FALSE),\"\")","v":""},"",{"$f":"IFERROR(VLOOKUP($A1999,'Lista de Precios_USD$_Euro€'!$E:$O,11,FALSE),\"\")","v":""}]
[null,null,null,{"$f":"IFERROR(VLOOKUP($A2000,'Lista de Precios_Bolívares_S'!$F:$Q,6,FALSE),\"\")","v":""},{"$f":"IFERROR(VLOOKUP($A2000,'Lista de Precios_Bolívares_S'!$F:$Q,12,FALSE),\"\")","v":""},"",{"$f":"IFERROR(VLOOKUP($A2000,'Lista de Precios_USD$_Euro€'!$E:$O,11,FALSE),\"\")","v":""}]
[null,null,null,{"$f":"IFERROR(VLOOKUP($A2001,'Lista de Precios_Bolívares_S'!$F:$Q,6,FALSE),\"\")","v":""},{"$f":"IFERROR(VLOOKUP($A2001,'Lista de Precios_Bolívares_S'!$F:$Q,12,FALSE),\"\")","v":""},"",{"$f":"IFERROR(VLOOKUP($A2001,'Lista de Precios_USD$_Euro€'!$E:$O,11,FALSE),\"\")","v":""}]
[null,null,null,{"$f":"IFERROR(VLOOKUP($A2002,'Lista de Precios_Bolívares_S'!$F:$Q,6,FALSE),\"\")","v":""},{"$f":"IFERROR(VLOOKUP($A2002,'Lista de Precios_Bolívares_S'!$F:$Q,12,FALSE),\"\")","v":""},"",{"$f":"IFERROR(VLOOKUP($A2002,'Lista de Precios_USD$_Euro€'!$E:$O,11,FALSE),\"\")","v":""}]
[null,null,null,{"$f":"IFERROR(VLOOKUP($A2003,'Lista de Precios_Bolívares_S'!$F:$Q,6,FALSE),\"\")","v":""},{"$f":"IFERROR(VLOOKUP($A2003,'Lista de Precios_Bolívares_S'!$F:$Q,12,FALSE),\"\")","v":""},"",{"$f":"IFERROR(VLOOKUP($A2003,'Lista de Precios_USD$_Euro€'!$E:$O,11,FALSE),\"\")","v":""}]
[null,null,null,{"$f":"IFERROR(VLOOKUP($A2004,'Lista de Precios_Bolívares_S'!$F:$Q,6,FALSE),\"\")","v":""},{"$f":"IFERROR(VLOOKUP($A2004,'Lista de Precios_Bolívares_S'!$F:$Q,12,FALSE),\"\")","v":""},"",{"$f":"IFERROR(VLOOKUP($A2004,'Lista de Precios_USD$_Euro€'!$E:$O,11,FALSE),\"\")","v":""}]
[null,null,null,{"$f":"IFERROR(VLOOKUP($A2005,'Lista de Precios_Bolívares_S'!$F:$Q,6,FALSE),\"\")","v":""},{"$f":"IFERROR(VLOOKUP($A2005,'Lista de Precios_Bolívares_S'!$F:$Q,12,FALSE),\"\")","v":""},"",{"$f":"IFERROR(VLOOKUP($A2005,'Lista de Precios_USD$_Euro€'!$E:$O,11,FALSE),\"\")","v":""}]
[null,null,null,{"$f":"IFERROR(VLOOKUP($A2006,'Lista de Precios_Bolívares_S'!$F:$Q,6,FALSE),\"\")","v":""},{"$f":"IFERROR(VLOOKUP($A2006,'Lista de Precios_Bolívares_S'!$F:$Q,12,FALSE),\"\")","v":""},"",{"$f":"IFERROR(VLOOKUP($A2006,'Lista de Precios_USD$_Euro€'!$E:$O,11,FALSE),\"\")","v":""}]
[null,null,null,{"$f":"IFERROR(VLOOKUP($A2007,'Lista de Precios_Bolívares_S'!$F:$Q,6,FALSE),\"\")","v":""},{"$f":"IFERROR(VLOOKUP($A2007,'Lista de Precios_Bolívares_S'!$F:$Q,12,FALSE),\"\")","v":""},"",{"$f":"IFERROR(VLOOKUP($A2007,'Lista de Precios_USD$_Euro€'!$E:$O,11,FALSE),\"\")","v":""}]
[null,null,null,{"$f":"IFERROR(VLOOKUP($A2008,'Lista de Precios_Bolívares_S'!$F:$Q,6,FALSE),\"\")","v":""},{"$f":"IFERROR(VLOOKUP($A2008,'Lista de Precios_Bolívares_S'!$F:$Q,12,FALSE),\"\")","v":""},"",{"$f":"IFERROR(VLOOKUP($A2008,'Lista de Precios_USD$_Euro€'!$E:$O,11,FALSE),\"\")","v":""}]
[null,null,null,{"$f":"IFERROR(VLOOKUP($A2009,'Lista de Precios_Bolívares_S'!$F:$Q,6,FALSE),\"\")","v":""},{"$f":"IFERROR(VLOOKUP($A2009,'Lista de Precios_Bolívares_S'!$F:$Q,12,FALSE),\"\")","v":""},{"$f":"IFERROR(IF(ROUND($C2009,2)=ROUND($D1984,2),ROUND($E1984,2),ROUND($C2009,2)),\"\")","v":""},{"$f":"IFERROR(VLOOKUP($A2009,'Lista de Precios_USD$_Euro€'!$E:$O,11,FALSE),\"\")","v":""}]
[null,null,null,{"$f":"IFERROR(VLOOKUP($A2010,'Lista de Precios_Bolívares_S'!$F:$Q,6,FALSE),\"\")","v":""},{"$f":"IFERROR(VLOOKUP($A2010,'Lista de Precios_Bolívares_S'!$F:$Q,12,FALSE),\"\")","v":""},"",{"$f":"IFERROR(VLOOKUP($A2010,'Lista de Precios_USD$_Euro€'!$E:$O,11,FALSE),\"\")","v":""}]
[null,null,null,{"$f":"IFERROR(VLOOKUP($A2011,'Lista de Precios_Bolívares_S'!$F:$Q,6,FALSE),\"\")","v":""},{"$f":"IFERROR(VLOOKUP($A2011,'Lista de Precios_Bolívares_S'!$F:$Q,12,FALSE),\"\")","v":""},"",{"$f":"IFERROR(VLOOKUP($A2011,'Lista de Precios_USD$_Euro€'!$E:$O,11,FALSE),\"\")","v":""}]
[null,null,null,{"$f":"IFERROR(VLOOKUP($A2012,'Lista de Precios_Bolívares_S'!$F:$Q,6,FALSE),\"\")","v":""},{"$f":"IFERROR(VLOOKUP($A2012,'Lista de Precios_Bolívares_S'!$F:$Q,12,FALSE),\"\")","v":""},"",{"$f":"IFERROR(VLOOKUP($A2012,'Lista de Precios_USD$_Euro€'!$E:$O,11,FALSE),\"\")","v":""}]
[null,null,null,{"$f":"IFERROR(VLOOKUP($A2013,'Lista de Precios_Bolívares_S'!$F:$Q,6,FALSE),\"\")","v":""},{"$f":"IFERROR(VLOOKUP($A2013,'Lista de Precios_Bolívares_S'!$F:$Q,12,FALSE),\"\")","v":""},"",{"$f":"IFERROR(VLOOKUP($A2013,'Lista de Precios_USD$_Euro€'!$E:$O,11,FALSE),\"\")","v":""}]
[null,null,null,{"$f":"IFERROR(VLOOKUP($A2014,'Lista de Precios_Bolívares_S'!$F:$Q,6,FALSE),\"\")","v":""},{"$f":"IFERROR(VLOOKUP($A2014,'Lista de Precios_Bolívares_S'!$F:$Q,12,FALSE),\"\")","v":""},"",{"$f":"IFERROR(VLOOKUP($A2014,'Lista de Precios_USD$_Euro€'!$E:$O,11,FALSE),\"\")","v":""}]
[null,null,null,{"$f":"IFERROR(VLOOKUP($A2015,'Lista de Precios_Bolívares_S'!$F:$Q,6,FALSE),\"\")","v":""},{"$f":"IFERROR(VLOOKUP($A2015,'Lista de Precios_Bolívares_S'!$F:$Q,12,FALSE),\"\")","v":""},"",{"$f":"IFERROR(VLOOKUP($A2015,'Lista de Precios_USD$_Euro€'!$E:$O,11,FALSE),\"\")","v":""}]
[null,null,null,{"$f":"IFERROR(VLOOKUP($A2016,'Lista de Precios_Bolívares_S'!$F:$Q,6,FALSE),\"\")","v":""},{"$f":"IFERROR(VLOOKUP($A2016,'Lista de Precios_Bolívares_S'!$F:$Q,12,FALSE),\"\")","v":""},"",{"$f":"IFERROR(VLOOKUP($A2016,'Lista de Precios_USD$_Euro€'!$E:$O,11,FALSE),\"\")","v":""}]
[null,null,null,{"$f":"IFERROR(VLOOKUP($A2017,'Lista de Precios_Bolívares_S'!$F:$Q,6,FALSE),\"\")","v":""},{"$f":"IFERROR(VLOOKUP($A2017,'Lista de Precios_Bolívares_S'!$F:$Q,12,FALSE),\"\")","v":""},"",{"$f":"IFERROR(VLOOKUP($A2017,'Lista de Precios_USD$_Euro€'!$E:$O,11,FALSE),\"\")","v":""}]
[null,null,null,{"$f":"IFERROR(VLOOKUP($A2018,'Lista de Precios_Bolívares_S'!$F:$Q,6,FALSE),\"\")","v":""},{"$f":"IFERROR(VLOOKUP($A2018,'Lista de Precios_Bolívares_S'!$F:$Q,12,FALSE),\"\")","v":""},"",{"$f":"IFERROR(VLOOKUP($A2018,'Lista de Precios_USD$_Euro€'!$E:$O,11,FALSE),\"\")","v":""}]
[null,null,null,{"$f":"IFERROR(VLOOKUP($A2019,'Lista de Precios_Bolívares_S'!$F:$Q,6,FALSE),\"\")","v":""},{"$f":"IFERROR(VLOOKUP($A2019,'Lista de Precios_Bolívares_S'!$F:$Q,12,FALSE),\"\")","v":""},"",{"$f":"IFERROR(VLOOKUP($A2019,'Lista de Precios_USD$_Euro€'!$E:$O,11,FALSE),\"\")","v":""}]
[null,null,null,{"$f":"IFERROR(VLOOKUP($A2020,'Lista de Precios_Bolívares_S'!$F:$Q,6,FALSE),\"\")","v":""},{"$f":"IFERROR(VLOOKUP($A2020,'Lista de Precios_Bolívares_S'!$F:$Q,12,FALSE),\"\")","v":""},"",{"$f":"IFERROR(VLOOKUP($A2020,'Lista de Precios_USD$_Euro€'!$E:$O,11,FALSE),\"\")","v":""}]
[null,null,null,{"$f":"IFERROR(VLOOKUP($A2021,'Lista de Precios_Bolívares_S'!$F:$Q,6,FALSE),\"\")","v":""},{"$f":"IFERROR(VLOOKUP($A2021,'Lista de Precios_Bolívares_S'!$F:$Q,12,FALSE),\"\")","v":""},"",{"$f":"IFERROR(VLOOKUP($A2021,'Lista de Precios_USD$_Euro€'!$E:$O,11,FALSE),\"\")","v":""}]
[null,null,null,{"$f":"IFERROR(VLOOKUP($A2022,'Lista de Precios_Bolívares_S'!$F:$Q,6,FALSE),\"\")","v":""},{"$f":"IFERROR(VLOOKUP($A2022,'Lista de Precios_Bolívares_S'!$F:$Q,12,FALSE),\"\")","v":""},"",{"$f":"IFERROR(VLOOKUP($A2022,'Lista de Precios_USD$_Euro€'!$E:$O,11,FALSE),\"\")","v":""}]
[null,null,null,{"$f":"IFERROR(VLOOKUP($A2023,'Lista de Precios_Bolívares_S'!$F:$Q,6,FALSE),\"\")","v":""},{"$f":"IFERROR(VLOOKUP($A2023,'Lista de Precios_Bolívares_S'!$F:$Q,12,FALSE),\"\")","v":""},"",{"$f":"IFERROR(VLOOKUP($A2023,'Lista de Precios_USD$_Euro€'!$E:$O,11,FALSE),\"\")","v":""}]
[null,null,null,{"$f":"IFERROR(VLOOKUP($A2024,'Lista de Precios_Bolívares_S'!$F:$Q,6,FALSE),\"\")","v":""},{"$f":"IFERROR(VLOOKUP($A2024,'Lista de Precios_Bolívares_S'!$F:$Q,12,FALSE),\"\")","v":""},"",{"$f":"IFERROR(VLOOKUP($A2024,'Lista de Precios_USD$_Euro€'!$E:$O,11,FALSE),\"\")","v":""}]
[null,null,null,{"$f":"IFERROR(VLOOKUP($A2025,'Lista de Precios_Bolívares_S'!$F:$Q,6,FALSE),\"\")","v":""},{"$f":"IFERROR(VLOOKUP($A2025,'Lista de Precios_Bolívares_S'!$F:$Q,12,FALSE),\"\")","v":""},"",{"$f":"IFERROR(VLOOKUP($A2025,'Lista de Precios_USD$_Euro€'!$E:$O,11,FALSE),\"\")","v":""}]
[null,null,null,{"$f":"IFERROR(VLOOKUP($A2026,'Lista de Precios_Bolívares_S'!$F:$Q,6,FALSE),\"\")","v":""},{"$f":"IFERROR(VLOOKUP($A2026,'Lista de Precios_Bolívares_S'!$F:$Q,12,FALSE),\"\")","v":""},"",{"$f":"IFERROR(VLOOKUP($A2026,'Lista de Precios_USD$_Euro€'!$E:$O,11,FALSE),\"\")","v":""}]
[null,null,null,{"$f":"IFERROR(VLOOKUP($A2027,'Lista de Precios_Bolívares_S'!$F:$Q,6,FALSE),\"\")","v":""},{"$f":"IFERROR(VLOOKUP($A2027,'Lista de Precios_Bolívares_S'!$F:$Q,12,FALSE),\"\")","v":""},"",{"$f":"IFERROR(VLOOKUP($A2027,'Lista de Precios_USD$_Euro€'!$E:$O,11,FALSE),\"\")","v":""}]
[null,null,null,{"$f":"IFERROR(VLOOKUP($A2028,'Lista de Precios_Bolívares_S'!$F:$Q,6,FALSE),\"\")","v":""},{"$f":"IFERROR(VLOOKUP($A2028,'Lista de Precios_Bolívares_S'!$F:$Q,12,FALSE),\"\")","v":""},"",{"$f":"IFERROR(VLOOKUP($A2028,'Lista de Precios_USD$_Euro€'!$E:$O,11,FALSE),\"\")","v":""}]
[null,null,null,{"$f":"IFERROR(VLOOKUP($A2029,'Lista de Precios_Bolívares_S'!$F:$Q,6,FALSE),\"\")","v":""},{"$f":"IFERROR(VLOOKUP($A2029,'Lista de Precios_Bolívares_S'!$F:$Q,12,FALSE),\"\")","v":""},"",{"$f":"IFERROR(VLOOKUP($A2029,'Lista de Precios_USD$_Euro€'!$E:$O,11,FALSE),\"\")","v":""}]
[null,null,null,{"$f":"IFERROR(VLOOKUP($A2030,'Lista de Precios_Bolívares_S'!$F:$Q,6,FALSE),\"\")","v":""},{"$f":"IFERROR(VLOOKUP($A2030,'Lista de Precios_Bolívares_S'!$F:$Q,12,FALSE),\"\")","v":""},"",{"$f":"IFERROR(VLOOKUP($A2030,'Lista de Precios_USD$_Euro€'!$E:$O,11,FALSE),\"\")","v":""}]
[null,null,null,{"$f":"IFERROR(VLOOKUP($A2031,'Lista de Precios_Bolívares_S'!$F:$Q,6,FALSE),\"\")","v":""},{"$f":"IFERROR(VLOOKUP($A2031,'Lista de Precios_Bolívares_S'!$F:$Q,12,FALSE),\"\")","v":""},"",{"$f":"IFERROR(VLOOKUP($A2031,'Lista de Precios_USD$_Euro€'!$E:$O,11,FALSE),\"\")","v":""}]
[null,null,null,{"$f":"IFERROR(VLOOKUP($A2032,'Lista de Precios_Bolívares_S'!$F:$Q,6,FALSE),\"\")","v":""},{"$f":"IFERROR(VLOOKUP($A2032,'Lista de Precios_Bolívares_S'!$F:$Q,12,FALSE),\"\")","v":""},"",{"$f":"IFERROR(VLOOKUP($A2032,'Lista de Precios_USD$_Euro€'!$E:$O,11,FALSE),\"\")","v":""}]
[null,null,null,{"$f":"IFERROR(VLOOKUP($A2033,'Lista de Precios_Bolívares_S'!$F:$Q,6,FALSE),\"\")","v":""},{"$f":"IFERROR(VLOOKUP($A2033,'Lista de Precios_Bolívares_S'!$F:$Q,12,FALSE),\"\")","v":""},"",{"$f":"IFERROR(VLOOKUP($A2033,'Lista de Precios_USD$_Euro€'!$E:$O,11,FALSE),\"\")","v":""}]
[null,null,null,{"$f":"IFERROR(VLOOKUP($A2034,'Lista de Precios_Bolívares_S'!$F:$Q,6,FALSE),\"\")","v":""},{"$f":"IFERROR(VLOOKUP($A2034,'Lista de Precios_Bolívares_S'!$F:$Q,12,FALSE),\"\")","v":""},"",{"$f":"IFERROR(VLOOKUP($A2034,'Lista de Precios_USD$_Euro€'!$E:$O,11,FALSE),\"\")","v":""}]
[null,null,null,{"$f":"IFERROR(VLOOKUP($A2035,'Lista de Precios_Bolívares_S'!$F:$Q,6,FALSE),\"\")","v":""},{"$f":"IFERROR(VLOOKUP($A2035,'Lista de Precios_Bolívares_S'!$F:$Q,12,FALSE),\"\")","v":""},"",{"$f":"IFERROR(VLOOKUP($A2035,'Lista de Precios_USD$_Euro€'!$E:$O,11,FALSE),\"\")","v":""}]
[null,null,null,{"$f":"IFERROR(VLOOKUP($A2036,'Lista de Precios_Bolívares_S'!$F:$Q,6,FALSE),\"\")","v":""},{"$f":"IFERROR(VLOOKUP($A2036,'Lista de Precios_Bolívares_S'!$F:$Q,12,FALSE),\"\")","v":""},"",{"$f":"IFERROR(VLOOKUP($A2036,'Lista de Precios_USD$_Euro€'!$E:$O,11,FALSE),\"\")","v":""}]
[null,null,null,{"$f":"IFERROR(VLOOKUP($A2037,'Lista de Precios_Bolívares_S'!$F:$Q,6,FALSE),\"\")","v":""},{"$f":"IFERROR(VLOOKUP($A2037,'Lista de Precios_Bolívares_S'!$F:$Q,12,FALSE),\"\")","v":""},"",{"$f":"IFERROR(VLOOKUP($A2037,'Lista de Precios_USD$_Euro€'!$E:$O,11,FALSE),\"\")","v":""}]
[null,null,null,{"$f":"IFERROR(VLOOKUP($A2038,'Lista de Precios_Bolívares_S'!$F:$Q,6,FALSE),\"\")","v":""},{"$f":"IFERROR(VLOOKUP($A2038,'Lista de Precios_Bolívares_S'!$F:$Q,12,FALSE),\"\")","v":""},"",{"$f":"IFERROR(VLOOKUP($A2038,'Lista de Precios_USD$_Euro€'!$E:$O,11,FALSE),\"\")","v":""}]
[null,null,null,{"$f":"IFERROR(VLOOKUP($A2039,'Lista de Precios_Bolívares_S'!$F:$Q,6,FALSE),\"\")","v":""},{"$f":"IFERROR(VLOOKUP($A2039,'Lista de Precios_Bolívares_S'!$F:$Q,12,FALSE),\"\")","v":""},"",{"$f":"IFERROR(VLOOKUP($A2039,'Lista de Precios_USD$_Euro€'!$E:$O,11,FALSE),\"\")","v":""}]
[null,null,null,{"$f":"IFERROR(VLOOKUP($A2040,'Lista de Precios_Bolívares_S'!$F:$Q,6,FALSE),\"\")","v":""},{"$f":"IFERROR(VLOOKUP($A2040,'Lista de Precios_Bolívares_S'!$F:$Q,12,FALSE),\"\")","v":""},"",{"$f":"IFERROR(VLOOKUP($A2040,'Lista de Precios_USD$_Euro€'!$E:$O,11,FALSE),\"\")","v":""}]
[null,null,null,{"$f":"IFERROR(VLOOKUP($A2041,'Lista de Precios_Bolívares_S'!$F:$Q,6,FALSE),\"\")","v":""},{"$f":"IFERROR(VLOOKUP($A2041,'Lista de Precios_Bolívares_S'!$F:$Q,12,FALSE),\"\")","v":""},"",{"$f":"IFERROR(VLOOKUP($A2041,'Lista de Precios_USD$_Euro€'!$E:$O,11,FALSE),\"\")","v":""}]
[null,null,null,{"$f":"IFERROR(VLOOKUP($A2042,'Lista de Precios_Bolívares_S'!$F:$Q,6,FALSE),\"\")","v":""},{"$f":"IFERROR(VLOOKUP($A2042,'Lista de Precios_Bolívares_S'!$F:$Q,12,FALSE),\"\")","v":""},"",{"$f":"IFERROR(VLOOKUP($A2042,'Lista de Precios_USD$_Euro€'!$E:$O,11,FALSE),\"\")","v":""}]
[null,null,null,{"$f":"IFERROR(VLOOKUP($A2043,'Lista de Precios_Bolívares_S'!$F:$Q,6,FALSE),\"\")","v":""},{"$f":"IFERROR(VLOOKUP($A2043,'Lista de Precios_Bolívares_S'!$F:$Q,12,FALSE),\"\")","v":""},"",{"$f":"IFERROR(VLOOKUP($A2043,'Lista de Precios_USD$_Euro€'!$E:$O,11,FALSE),\"\")","v":""}]
[null,null,null,{"$f":"IFERROR(VLOOKUP($A2044,'Lista de Precios_Bolívares_S'!$F:$Q,6,FALSE),\"\")","v":""},{"$f":"IFERROR(VLOOKUP($A2044,'Lista de Precios_Bolívares_S'!$F:$Q,12,FALSE),\"\")","v":""},"",{"$f":"IFERROR(VLOOKUP($A2044,'Lista de Precios_USD$_Euro€'!$E:$O,11,FALSE),\"\")","v":""}]
[null,null,null,{"$f":"IFERROR(VLOOKUP($A2045,'Lista de Precios_Bolívares_S'!$F:$Q,6,FALSE),\"\")","v":""},{"$f":"IFERROR(VLOOKUP($A2045,'Lista de Precios_Bolívares_S'!$F:$Q,12,FALSE),\"\")","v":""},"",{"$f":"IFERROR(VLOOKUP($A2045,'Lista de Precios_USD$_Euro€'!$E:$O,11,FALSE),\"\")","v":""}]
[null,null,null,{"$f":"IFERROR(VLOOKUP($A2046,'Lista de Precios_Bolívares_S'!$F:$Q,6,FALSE),\"\")","v":""},{"$f":"IFERROR(VLOOKUP($A2046,'Lista de Precios_Bolívares_S'!$F:$Q,12,FALSE),\"\")","v":""},"",{"$f":"IFERROR(VLOOKUP($A2046,'Lista de Precios_USD$_Euro€'!$E:$O,11,FALSE),\"\")","v":""}]
[null,null,null,{"$f":"IFERROR(VLOOKUP($A2047,'Lista de Precios_Bolívares_S'!$F:$Q,6,FALSE),\"\")","v":""},{"$f":"IFERROR(VLOOKUP($A2047,'Lista de Precios_Bolívares_S'!$F:$Q,12,FALSE),\"\")","v":""},"",{"$f":"IFERROR(VLOOKUP($A2047,'Lista de Precios_USD$_Euro€'!$E:$O,11,FALSE),\"\")","v":""}]
[null,null,null,{"$f":"IFERROR(VLOOKUP($A2048,'Lista de Precios_Bolívares_S'!$F:$Q,6,FALSE),\"\")","v":""},{"$f":"IFERROR(VLOOKUP($A2048,'Lista de Precios_Bolívares_S'!$F:$Q,12,FALSE),\"\")","v":""},"",{"$f":"IFERROR(VLOOKUP($A2048,'Lista de Precios_USD$_Euro€'!$E:$O,11,FALSE),\"\")","v":""}]
[null,null,null,{"$f":"IFERROR(VLOOKUP($A2049,'Lista de Precios_Bolívares_S'!$F:$Q,6,FALSE),\"\")","v":""},{"$f":"IFERROR(VLOOKUP($A2049,'Lista de Precios_Bolívares_S'!$F:$Q,12,FALSE),\"\")","v":""},"",{"$f":"IFERROR(VLOOKUP($A2049,'Lista de Precios_USD$_Euro€'!$E:$O,11,FALSE),\"\")","v":""}]
[null,null,null,{"$f":"IFERROR(VLOOKUP($A2050,'Lista de Precios_Bolívares_S'!$F:$Q,6,FALSE),\"\")","v":""},{"$f":"IFERROR(VLOOKUP($A2050,'Lista de Precios_Bolívares_S'!$F:$Q,12,FALSE),\"\")","v":""},"",{"$f":"IFERROR(VLOOKUP($A2050,'Lista de Precios_USD$_Euro€'!$E:$O,11,FALSE),\"\")","v":""}]
[null,null,null,{"$f":"IFERROR(VLOOKUP($A2051,'Lista de Precios_Bolívares_S'!$F:$Q,6,FALSE),\"\")","v":""},{"$f":"IFERROR(VLOOKUP($A2051,'Lista de Precios_Bolívares_S'!$F:$Q,12,FALSE),\"\")","v":""},"",{"$f":"IFERROR(VLOOKUP($A2051,'Lista de Precios_USD$_Euro€'!$E:$O,11,FALSE),\"\")","v":""}]
[null,null,null,{"$f":"IFERROR(VLOOKUP($A2052,'Lista de Precios_Bolívares_S'!$F:$Q,6,FALSE),\"\")","v":""},{"$f":"IFERROR(VLOOKUP($A2052,'Lista de Precios_Bolívares_S'!$F:$Q,12,FALSE),\"\")","v":""},"",{"$f":"IFERROR(VLOOKUP($A2052,'Lista de Precios_USD$_Euro€'!$E:$O,11,FALSE),\"\")","v":""}]
[null,null,null,{"$f":"IFERROR(VLOOKUP($A2053,'Lista de Precios_Bolívares_S'!$F:$Q,6,FALSE),\"\")","v":""},{"$f":"IFERROR(VLOOKUP($A2053,'Lista de Precios_Bolívares_S'!$F:$Q,12,FALSE),\"\")","v":""},"",{"$f":"IFERROR(VLOOKUP($A2053,'Lista de Precios_USD$_Euro€'!$E:$O,11,FALSE),\"\")","v":""}]
[null,null,null,{"$f":"IFERROR(VLOOKUP($A2054,'Lista de Precios_Bolívares_S'!$F:$Q,6,FALSE),\"\")","v":""},{"$f":"IFERROR(VLOOKUP($A2054,'Lista de Precios_Bolívares_S'!$F:$Q,12,FALSE),\"\")","v":""},"",{"$f":"IFERROR(VLOOKUP($A2054,'Lista de Precios_USD$_Euro€'!$E:$O,11,FALSE),\"\")","v":""}]
[null,null,null,{"$f":"IFERROR(VLOOKUP($A2055,'Lista de Precios_Bolívares_S'!$F:$Q,6,FALSE),\"\")","v":""},{"$f":"IFERROR(VLOOKUP($A2055,'Lista de Precios_Bolívares_S'!$F:$Q,12,FALSE),\"\")","v":""},"",{"$f":"IFERROR(VLOOKUP($A2055,'Lista de Precios_USD$_Euro€'!$E:$O,11,FALSE),\"\")","v":""}]
[null,null,null,{"$f":"IFERROR(VLOOKUP($A2056,'Lista de Precios_Bolívares_S'!$F:$Q,6,FALSE),\"\")","v":""},{"$f":"IFERROR(VLOOKUP($A2056,'Lista de Precios_Bolívares_S'!$F:$Q,12,FALSE),\"\")","v":""},"",{"$f":"IFERROR(VLOOKUP($A2056,'Lista de Precios_USD$_Euro€'!$E:$O,11,FALSE),\"\")","v":""}]
[null,null,null,{"$f":"IFERROR(VLOOKUP($A2057,'Lista de Precios_Bolívares_S'!$F:$Q,6,FALSE),\"\")","v":""},{"$f":"IFERROR(VLOOKUP($A2057,'Lista de Precios_Bolívares_S'!$F:$Q,12,FALSE),\"\")","v":""},"",{"$f":"IFERROR(VLOOKUP($A2057,'Lista de Precios_USD$_Euro€'!$E:$O,11,FALSE),\"\")","v":""}]
[null,null,null,{"$f":"IFERROR(VLOOKUP($A2058,'Lista de Precios_Bolívares_S'!$F:$Q,6,FALSE),\"\")","v":""},{"$f":"IFERROR(VLOOKUP($A2058,'Lista de Precios_Bolívares_S'!$F:$Q,12,FALSE),\"\")","v":""},"",{"$f":"IFERROR(VLOOKUP($A2058,'Lista de Precios_USD$_Euro€'!$E:$O,11,FALSE),\"\")","v":""}]
[null,null,null,{"$f":"IFERROR(VLOOKUP($A2059,'Lista de Precios_Bolívares_S'!$F:$Q,6,FALSE),\"\")","v":""},{"$f":"IFERROR(VLOOKUP($A2059,'Lista de Precios_Bolívares_S'!$F:$Q,12,FALSE),\"\")","v":""},"",{"$f":"IFERROR(VLOOKUP($A2059,'Lista de Precios_USD$_Euro€'!$E:$O,11,FALSE),\"\")","v":""}]
[null,null,null,{"$f":"IFERROR(VLOOKUP($A2060,'Lista de Precios_Bolívares_S'!$F:$Q,6,FALSE),\"\")","v":""},{"$f":"IFERROR(VLOOKUP($A2060,'Lista de Precios_Bolívares_S'!$F:$Q,12,FALSE),\"\")","v":""},"",{"$f":"IFERROR(VLOOKUP($A2060,'Lista de Precios_USD$_Euro€'!$E:$O,11,FALSE),\"\")","v":""}]
[null,null,null,{"$f":"IFERROR(VLOOKUP($A2061,'Lista de Precios_Bolívares_S'!$F:$Q,6,FALSE),\"\")","v":""},{"$f":"IFERROR(VLOOKUP($A2061,'Lista de Precios_Bolívares_S'!$F:$Q,12,FALSE),\"\")","v":""},"",{"$f":"IFERROR(VLOOKUP($A2061,'Lista de Precios_USD$_Euro€'!$E:$O,11,FALSE),\"\")","v":""}]
[null,null,null,{"$f":"IFERROR(VLOOKUP($A2062,'Lista de Precios_Bolívares_S'!$F:$Q,6,FALSE),\"\")","v":""},{"$f":"IFERROR(VLOOKUP($A2062,'Lista de Precios_Bolívares_S'!$F:$Q,12,FALSE),\"\")","v":""},"",{"$f":"IFERROR(VLOOKUP($A2062,'Lista de Precios_USD$_Euro€'!$E:$O,11,FALSE),\"\")","v":""}]
[null,null,null,{"$f":"IFERROR(VLOOKUP($A2063,'Lista de Precios_Bolívares_S'!$F:$Q,6,FALSE),\"\")","v":""},{"$f":"IFERROR(VLOOKUP($A2063,'Lista de Precios_Bolívares_S'!$F:$Q,12,FALSE),\"\")","v":""},"",{"$f":"IFERROR(VLOOKUP($A2063,'Lista de Precios_USD$_Euro€'!$E:$O,11,FALSE),\"\")","v":""}]
[null,null,null,{"$f":"IFERROR(VLOOKUP($A2064,'Lista de Precios_Bolívares_S'!$F:$Q,6,FALSE),\"\")","v":""},{"$f":"IFERROR(VLOOKUP($A2064,'Lista de Precios_Bolívares_S'!$F:$Q,12,FALSE),\"\")","v":""},"",{"$f":"IFERROR(VLOOKUP($A2064,'Lista de Precios_USD$_Euro€'!$E:$O,11,FALSE),\"\")","v":""}]
[null,null,null,{"$f":"IFERROR(VLOOKUP($A2065,'Lista de Precios_Bolívares_S'!$F:$Q,6,FALSE),\"\")","v":""},{"$f":"IFERROR(VLOOKUP($A2065,'Lista de Precios_Bolívares_S'!$F:$Q,12,FALSE),\"\")","v":""},"",{"$f":"IFERROR(VLOOKUP($A2065,'Lista de Precios_USD$_Euro€'!$E:$O,11,FALSE),\"\")","v":""}]
[null,null,null,{"$f":"IFERROR(VLOOKUP($A2066,'Lista de Precios_Bolívares_S'!$F:$Q,6,FALSE),\"\")","v":""},{"$f":"IFERROR(VLOOKUP($A2066,'Lista de Precios_Bolívares_S'!$F:$Q,12,FALSE),\"\")","v":""},"",{"$f":"IFERROR(VLOOKUP($A2066,'Lista de Precios_USD$_Euro€'!$E:$O,11,FALSE),\"\")","v":""}]
[null,null,null,{"$f":"IFERROR(VLOOKUP($A2067,'Lista de Precios_Bolívares_S'!$F:$Q,6,FALSE),\"\")","v":""},{"$f":"IFERROR(VLOOKUP($A2067,'Lista de Precios_Bolívares_S'!$F:$Q,12,FALSE),\"\")","v":""},"",{"$f":"IFERROR(VLOOKUP($A2067,'Lista de Precios_USD$_Euro€'!$E:$O,11,FALSE),\"\")","v":""}]
[null,null,null,{"$f":"IFERROR(VLOOKUP($A2068,'Lista de Precios_Bolívares_S'!$F:$Q,6,FALSE),\"\")","v":""},{"$f":"IFERROR(VLOOKUP($A2068,'Lista de Precios_Bolívares_S'!$F:$Q,12,FALSE),\"\")","v":""},"",{"$f":"IFERROR(VLOOKUP($A2068,'Lista de Precios_USD$_Euro€'!$E:$O,11,FALSE),\"\")","v":""}]
[null,null,null,{"$f":"IFERROR(VLOOKUP($A2069,'Lista de Precios_Bolívares_S'!$F:$Q,6,FALSE),\"\")","v":""},{"$f":"IFERROR(VLOOKUP($A2069,'Lista de Precios_Bolívares_S'!$F:$Q,12,FALSE),\"\")","v":""},"",{"$f":"IFERROR(VLOOKUP($A2069,'Lista de Precios_USD$_Euro€'!$E:$O,11,FALSE),\"\")","v":""}]
[null,null,null,{"$f":"IFERROR(VLOOKUP($A2070,'Lista de Precios_Bolívares_S'!$F:$Q,6,FALSE),\"\")","v":""},{"$f":"IFERROR(VLOOKUP($A2070,'Lista de Precios_Bolívares_S'!$F:$Q,12,FALSE),\"\")","v":""},"",{"$f":"IFERROR(VLOOKUP($A2070,'Lista de Precios_USD$_Euro€'!$E:$O,11,FALSE),\"\")","v":""}]
[null,null,null,{"$f":"IFERROR(VLOOKUP($A2071,'Lista de Precios_Bolívares_S'!$F:$Q,6,FALSE),\"\")","v":""},{"$f":"IFERROR(VLOOKUP($A2071,'Lista de Precios_Bolívares_S'!$F:$Q,12,FALSE),\"\")","v":""},"",{"$f":"IFERROR(VLOOKUP($A2071,'Lista de Precios_USD$_Euro€'!$E:$O,11,FALSE),\"\")","v":""}]
[null,null,null,{"$f":"IFERROR(VLOOKUP($A2072,'Lista de Precios_Bolívares_S'!$F:$Q,6,FALSE),\"\")","v":""},{"$f":"IFERROR(VLOOKUP($A2072,'Lista de Precios_Bolívares_S'!$F:$Q,12,FALSE),\"\")","v":""},"",{"$f":"IFERROR(VLOOKUP($A2072,'Lista de Precios_USD$_Euro€'!$E:$O,11,FALSE),\"\")","v":""}]
[null,null,null,{"$f":"IFERROR(VLOOKUP($A2073,'Lista de Precios_Bolívares_S'!$F:$Q,6,FALSE),\"\")","v":""},{"$f":"IFERROR(VLOOKUP($A2073,'Lista de Precios_Bolívares_S'!$F:$Q,12,FALSE),\"\")","v":""},{"$f":"IFERROR(IF(ROUND($C2073,2)=ROUND($D2048,2),ROUND($E2048,2),ROUND($C2073,2)),\"\")","v":""},{"$f":"IFERROR(VLOOKUP($A2073,'Lista de Precios_USD$_Euro€'!$E:$O,11,FALSE),\"\")","v":""}]
[null,null,null,{"$f":"IFERROR(VLOOKUP($A2074,'Lista de Precios_Bolívares_S'!$F:$Q,6,FALSE),\"\")","v":""},{"$f":"IFERROR(VLOOKUP($A2074,'Lista de Precios_Bolívares_S'!$F:$Q,12,FALSE),\"\")","v":""},"",{"$f":"IFERROR(VLOOKUP($A2074,'Lista de Precios_USD$_Euro€'!$E:$O,11,FALSE),\"\")","v":""}]
[null,null,null,{"$f":"IFERROR(VLOOKUP($A2075,'Lista de Precios_Bolívares_S'!$F:$Q,6,FALSE),\"\")","v":""},{"$f":"IFERROR(VLOOKUP($A2075,'Lista de Precios_Bolívares_S'!$F:$Q,12,FALSE),\"\")","v":""},"",{"$f":"IFERROR(VLOOKUP($A2075,'Lista de Precios_USD$_Euro€'!$E:$O,11,FALSE),\"\")","v":""}]
[null,null,null,{"$f":"IFERROR(VLOOKUP($A2076,'Lista de Precios_Bolívares_S'!$F:$Q,6,FALSE),\"\")","v":""},{"$f":"IFERROR(VLOOKUP($A2076,'Lista de Precios_Bolívares_S'!$F:$Q,12,FALSE),\"\")","v":""},"",{"$f":"IFERROR(VLOOKUP($A2076,'Lista de Precios_USD$_Euro€'!$E:$O,11,FALSE),\"\")","v":""}]
[null,null,null,{"$f":"IFERROR(VLOOKUP($A2077,'Lista de Precios_Bolívares_S'!$F:$Q,6,FALSE),\"\")","v":""},{"$f":"IFERROR(VLOOKUP($A2077,'Lista de Precios_Bolívares_S'!$F:$Q,12,FALSE),\"\")","v":""},"",{"$f":"IFERROR(VLOOKUP($A2077,'Lista de Precios_USD$_Euro€'!$E:$O,11,FALSE),\"\")","v":""}]
[null,null,null,{"$f":"IFERROR(VLOOKUP($A2078,'Lista de Precios_Bolívares_S'!$F:$Q,6,FALSE),\"\")","v":""},{"$f":"IFERROR(VLOOKUP($A2078,'Lista de Precios_Bolívares_S'!$F:$Q,12,FALSE),\"\")","v":""},"",{"$f":"IFERROR(VLOOKUP($A2078,'Lista de Precios_USD$_Euro€'!$E:$O,11,FALSE),\"\")","v":""}]
[null,null,null,{"$f":"IFERROR(VLOOKUP($A2079,'Lista de Precios_Bolívares_S'!$F:$Q,6,FALSE),\"\")","v":""},{"$f":"IFERROR(VLOOKUP($A2079,'Lista de Precios_Bolívares_S'!$F:$Q,12,FALSE),\"\")","v":""},"",{"$f":"IFERROR(VLOOKUP($A2079,'Lista de Precios_USD$_Euro€'!$E:$O,11,FALSE),\"\")","v":""}]
[null,null,null,{"$f":"IFERROR(VLOOKUP($A2080,'Lista de Precios_Bolívares_S'!$F:$Q,6,FALSE),\"\")","v":""},{"$f":"IFERROR(VLOOKUP($A2080,'Lista de Precios_Bolívares_S'!$F:$Q,12,FALSE),\"\")","v":""},"",{"$f":"IFERROR(VLOOKUP($A2080,'Lista de Precios_USD$_Euro€'!$E:$O,11,FALSE),\"\")","v":""}]
[null,null,null,{"$f":"IFERROR(VLOOKUP($A2081,'Lista de Precios_Bolívares_S'!$F:$Q,6,FALSE),\"\")","v":""},{"$f":"IFERROR(VLOOKUP($A2081,'Lista de Precios_Bolívares_S'!$F:$Q,12,FALSE),\"\")","v":""},"",{"$f":"IFERROR(VLOOKUP($A2081,'Lista de Precios_USD$_Euro€'!$E:$O,11,FALSE),\"\")","v":""}]
[null,null,null,{"$f":"IFERROR(VLOOKUP($A2082,'Lista de Precios_Bolívares_S'!$F:$Q,6,FALSE),\"\")","v":""},{"$f":"IFERROR(VLOOKUP($A2082,'Lista de Precios_Bolívares_S'!$F:$Q,12,FALSE),\"\")","v":""},"",{"$f":"IFERROR(VLOOKUP($A2082,'Lista de Precios_USD$_Euro€'!$E:$O,11,FALSE),\"\")","v":""}]
[null,null,null,{"$f":"IFERROR(VLOOKUP($A2083,'Lista de Precios_Bolívares_S'!$F:$Q,6,FALSE),\"\")","v":""},{"$f":"IFERROR(VLOOKUP($A2083,'Lista de Precios_Bolívares_S'!$F:$Q,12,FALSE),\"\")","v":""},"",{"$f":"IFERROR(VLOOKUP($A2083,'Lista de Precios_USD$_Euro€'!$E:$O,11,FALSE),\"\")","v":""}]
[null,null,null,{"$f":"IFERROR(VLOOKUP($A2084,'Lista de Precios_Bolívares_S'!$F:$Q,6,FALSE),\"\")","v":""},{"$f":"IFERROR(VLOOKUP($A2084,'Lista de Precios_Bolívares_S'!$F:$Q,12,FALSE),\"\")","v":""},"",{"$f":"IFERROR(VLOOKUP($A2084,'Lista de Precios_USD$_Euro€'!$E:$O,11,FALSE),\"\")","v":""}]
[null,null,null,{"$f":"IFERROR(VLOOKUP($A2085,'Lista de Precios_Bolívares_S'!$F:$Q,6,FALSE),\"\")","v":""},{"$f":"IFERROR(VLOOKUP($A2085,'Lista de Precios_Bolívares_S'!$F:$Q,12,FALSE),\"\")","v":""},"",{"$f":"IFERROR(VLOOKUP($A2085,'Lista de Precios_USD$_Euro€'!$E:$O,11,FALSE),\"\")","v":""}]
[null,null,null,{"$f":"IFERROR(VLOOKUP($A2086,'Lista de Precios_Bolívares_S'!$F:$Q,6,FALSE),\"\")","v":""},{"$f":"IFERROR(VLOOKUP($A2086,'Lista de Precios_Bolívares_S'!$F:$Q,12,FALSE),\"\")","v":""},"",{"$f":"IFERROR(VLOOKUP($A2086,'Lista de Precios_USD$_Euro€'!$E:$O,11,FALSE),\"\")","v":""}]
[null,null,null,{"$f":"IFERROR(VLOOKUP($A2087,'Lista de Precios_Bolívares_S'!$F:$Q,6,FALSE),\"\")","v":""},{"$f":"IFERROR(VLOOKUP($A2087,'Lista de Precios_Bolívares_S'!$F:$Q,12,FALSE),\"\")","v":""},"",{"$f":"IFERROR(VLOOKUP($A2087,'Lista de Precios_USD$_Euro€'!$E:$O,11,FALSE),\"\")","v":""}]
[null,null,null,{"$f":"IFERROR(VLOOKUP($A2088,'Lista de Precios_Bolívares_S'!$F:$Q,6,FALSE),\"\")","v":""},{"$f":"IFERROR(VLOOKUP($A2088,'Lista de Precios_Bolívares_S'!$F:$Q,12,FALSE),\"\")","v":""},"",{"$f":"IFERROR(VLOOKUP($A2088,'Lista de Precios_USD$_Euro€'!$E:$O,11,FALSE),\"\")","v":""}]
[null,null,null,{"$f":"IFERROR(VLOOKUP($A2089,'Lista de Precios_Bolívares_S'!$F:$Q,6,FALSE),\"\")","v":""},{"$f":"IFERROR(VLOOKUP($A2089,'Lista de Precios_Bolívares_S'!$F:$Q,12,FALSE),\"\")","v":""},"",{"$f":"IFERROR(VLOOKUP($A2089,'Lista de Precios_USD$_Euro€'!$E:$O,11,FALSE),\"\")","v":""}]
[null,null,null,{"$f":"IFERROR(VLOOKUP($A2090,'Lista de Precios_Bolívares_S'!$F:$Q,6,FALSE),\"\")","v":""},{"$f":"IFERROR(VLOOKUP($A2090,'Lista de Precios_Bolívares_S'!$F:$Q,12,FALSE),\"\")","v":""},"",{"$f":"IFERROR(VLOOKUP($A2090,'Lista de Precios_USD$_Euro€'!$E:$O,11,FALSE),\"\")","v":""}]
[null,null,null,{"$f":"IFERROR(VLOOKUP($A2091,'Lista de Precios_Bolívares_S'!$F:$Q,6,FALSE),\"\")","v":""},{"$f":"IFERROR(VLOOKUP($A2091,'Lista de Precios_Bolívares_S'!$F:$Q,12,FALSE),\"\")","v":""},"",{"$f":"IFERROR(VLOOKUP($A2091,'Lista de Precios_USD$_Euro€'!$E:$O,11,FALSE),\"\")","v":""}]
[null,null,null,{"$f":"IFERROR(VLOOKUP($A2092,'Lista de Precios_Bolívares_S'!$F:$Q,6,FALSE),\"\")","v":""},{"$f":"IFERROR(VLOOKUP($A2092,'Lista de Precios_Bolívares_S'!$F:$Q,12,FALSE),\"\")","v":""},"",{"$f":"IFERROR(VLOOKUP($A2092,'Lista de Precios_USD$_Euro€'!$E:$O,11,FALSE),\"\")","v":""}]
[null,null,null,{"$f":"IFERROR(VLOOKUP($A2093,'Lista de Precios_Bolívares_S'!$F:$Q,6,FALSE),\"\")","v":""},{"$f":"IFERROR(VLOOKUP($A2093,'Lista de Precios_Bolívares_S'!$F:$Q,12,FALSE),\"\")","v":""},"",{"$f":"IFERROR(VLOOKUP($A2093,'Lista de Precios_USD$_Euro€'!$E:$O,11,FALSE),\"\")","v":""}]
[null,null,null,{"$f":"IFERROR(VLOOKUP($A2094,'Lista de Precios_Bolívares_S'!$F:$Q,6,FALSE),\"\")","v":""},{"$f":"IFERROR(VLOOKUP($A2094,'Lista de Precios_Bolívares_S'!$F:$Q,12,FALSE),\"\")","v":""},"",{"$f":"IFERROR(VLOOKUP($A2094,'Lista de Precios_USD$_Euro€'!$E:$O,11,FALSE),\"\")","v":""}]
[null,null,null,{"$f":"IFERROR(VLOOKUP($A2095,'Lista de Precios_Bolívares_S'!$F:$Q,6,FALSE),\"\")","v":""},{"$f":"IFERROR(VLOOKUP($A2095,'Lista de Precios_Bolívares_S'!$F:$Q,12,FALSE),\"\")","v":""},"",{"$f":"IFERROR(VLOOKUP($A2095,'Lista de Precios_USD$_Euro€'!$E:$O,11,FALSE),\"\")","v":""}]
[null,null,null,{"$f":"IFERROR(VLOOKUP($A2096,'Lista de Precios_Bolívares_S'!$F:$Q,6,FALSE),\"\")","v":""},{"$f":"IFERROR(VLOOKUP($A2096,'Lista de Precios_Bolívares_S'!$F:$Q,12,FALSE),\"\")","v":""},"",{"$f":"IFERROR(VLOOKUP($A2096,'Lista de Precios_USD$_Euro€'!$E:$O,11,FALSE),\"\")","v":""}]
[null,null,null,{"$f":"IFERROR(VLOOKUP($A2097,'Lista de Precios_Bolívares_S'!$F:$Q,6,FALSE),\"\")","v":""},{"$f":"IFERROR(VLOOKUP($A2097,'Lista de Precios_Bolívares_S'!$F:$Q,12,FALSE),\"\")","v":""},"",{"$f":"IFERROR(VLOOKUP($A2097,'Lista de Precios_USD$_Euro€'!$E:$O,11,FALSE),\"\")","v":""}]
[null,null,null,{"$f":"IFERROR(VLOOKUP($A2098,'Lista de Precios_Bolívares_S'!$F:$Q,6,FALSE),\"\")","v":""},{"$f":"IFERROR(VLOOKUP($A2098,'Lista de Precios_Bolívares_S'!$F:$Q,12,FALSE),\"\")","v":""},"",{"$f":"IFERROR(VLOOKUP($A2098,'Lista de Precios_USD$_Euro€'!$E:$O,11,FALSE),\"\")","v":""}]
[null,null,null,{"$f":"IFERROR(VLOOKUP($A2099,'Lista de Precios_Bolívares_S'!$F:$Q,6,FALSE),\"\")","v":""},{"$f":"IFERROR(VLOOKUP($A2099,'Lista de Precios_Bolívares_S'!$F:$Q,12,FALSE),\"\")","v":""},"",{"$f":"IFERROR(VLOOKUP($A2099,'Lista de Precios_USD$_Euro€'!$E:$O,11,FALSE),\"\")","v":""}]
[null,null,null,{"$f":"IFERROR(VLOOKUP($A2100,'Lista de Precios_Bolívares_S'!$F:$Q,6,FALSE),\"\")","v":""},{"$f":"IFERROR(VLOOKUP($A2100,'Lista de Precios_Bolívares_S'!$F:$Q,12,FALSE),\"\")","v":""},"",{"$f":"IFERROR(VLOOKUP($A2100,'Lista de Precios_USD$_Euro€'!$E:$O,11,FALSE),\"\")","v":""}]
[null,null,null,{"$f":"IFERROR(VLOOKUP($A2101,'Lista de Precios_Bolívares_S'!$F:$Q,6,FALSE),\"\")","v":""},{"$f":"IFERROR(VLOOKUP($A2101,'Lista de Precios_Bolívares_S'!$F:$Q,12,FALSE),\"\")","v":""},"",{"$f":"IFERROR(VLOOKUP($A2101,'Lista de Precios_USD$_Euro€'!$E:$O,11,FALSE),\"\")","v":""}]
[null,null,null,{"$f":"IFERROR(VLOOKUP($A2102,'Lista de Precios_Bolívares_S'!$F:$Q,6,FALSE),\"\")","v":""},{"$f":"IFERROR(VLOOKUP($A2102,'Lista de Precios_Bolívares_S'!$F:$Q,12,FALSE),\"\")","v":""},"",{"$f":"IFERROR(VLOOKUP($A2102,'Lista de Precios_USD$_Euro€'!$E:$O,11,FALSE),\"\")","v":""}]
[null,null,null,{"$f":"IFERROR(VLOOKUP($A2103,'Lista de Precios_Bolívares_S'!$F:$Q,6,FALSE),\"\")","v":""},{"$f":"IFERROR(VLOOKUP($A2103,'Lista de Precios_Bolívares_S'!$F:$Q,12,FALSE),\"\")","v":""},"",{"$f":"IFERROR(VLOOKUP($A2103,'Lista de Precios_USD$_Euro€'!$E:$O,11,FALSE),\"\")","v":""}]
[null,null,null,{"$f":"IFERROR(VLOOKUP($A2104,'Lista de Precios_Bolívares_S'!$F:$Q,6,FALSE),\"\")","v":""},{"$f":"IFERROR(VLOOKUP($A2104,'Lista de Precios_Bolívares_S'!$F:$Q,12,FALSE),\"\")","v":""},"",{"$f":"IFERROR(VLOOKUP($A2104,'Lista de Precios_USD$_Euro€'!$E:$O,11,FALSE),\"\")","v":""}]
[null,null,null,{"$f":"IFERROR(VLOOKUP($A2105,'Lista de Precios_Bolívares_S'!$F:$Q,6,FALSE),\"\")","v":""},{"$f":"IFERROR(VLOOKUP($A2105,'Lista de Precios_Bolívares_S'!$F:$Q,12,FALSE),\"\")","v":""},"",{"$f":"IFERROR(VLOOKUP($A2105,'Lista de Precios_USD$_Euro€'!$E:$O,11,FALSE),\"\")","v":""}]
[null,null,null,{"$f":"IFERROR(VLOOKUP($A2106,'Lista de Precios_Bolívares_S'!$F:$Q,6,FALSE),\"\")","v":""},{"$f":"IFERROR(VLOOKUP($A2106,'Lista de Precios_Bolívares_S'!$F:$Q,12,FALSE),\"\")","v":""},"",{"$f":"IFERROR(VLOOKUP($A2106,'Lista de Precios_USD$_Euro€'!$E:$O,11,FALSE),\"\")","v":""}]
[null,null,null,{"$f":"IFERROR(VLOOKUP($A2107,'Lista de Precios_Bolívares_S'!$F:$Q,6,FALSE),\"\")","v":""},{"$f":"IFERROR(VLOOKUP($A2107,'Lista de Precios_Bolívares_S'!$F:$Q,12,FALSE),\"\")","v":""},"",{"$f":"IFERROR(VLOOKUP($A2107,'Lista de Precios_USD$_Euro€'!$E:$O,11,FALSE),\"\")","v":""}]
[null,null,null,{"$f":"IFERROR(VLOOKUP($A2108,'Lista de Precios_Bolívares_S'!$F:$Q,6,FALSE),\"\")","v":""},{"$f":"IFERROR(VLOOKUP($A2108,'Lista de Precios_Bolívares_S'!$F:$Q,12,FALSE),\"\")","v":""},"",{"$f":"IFERROR(VLOOKUP($A2108,'Lista de Precios_USD$_Euro€'!$E:$O,11,FALSE),\"\")","v":""}]
[null,null,null,{"$f":"IFERROR(VLOOKUP($A2109,'Lista de Precios_Bolívares_S'!$F:$Q,6,FALSE),\"\")","v":""},{"$f":"IFERROR(VLOOKUP($A2109,'Lista de Precios_Bolívares_S'!$F:$Q,12,FALSE),\"\")","v":""},"",{"$f":"IFERROR(VLOOKUP($A2109,'Lista de Precios_USD$_Euro€'!$E:$O,11,FALSE),\"\")","v":""}]
[null,null,null,{"$f":"IFERROR(VLOOKUP($A2110,'Lista de Precios_Bolívares_S'!$F:$Q,6,FALSE),\"\")","v":""},{"$f":"IFERROR(VLOOKUP($A2110,'Lista de Precios_Bolívares_S'!$F:$Q,12,FALSE),\"\")","v":""},"",{"$f":"IFERROR(VLOOKUP($A2110,'Lista de Precios_USD$_Euro€'!$E:$O,11,FALSE),\"\")","v":""}]
[null,null,null,{"$f":"IFERROR(VLOOKUP($A2111,'Lista de Precios_Bolívares_S'!$F:$Q,6,FALSE),\"\")","v":""},{"$f":"IFERROR(VLOOKUP($A2111,'Lista de Precios_Bolívares_S'!$F:$Q,12,FALSE),\"\")","v":""},"",{"$f":"IFERROR(VLOOKUP($A2111,'Lista de Precios_USD$_Euro€'!$E:$O,11,FALSE),\"\")","v":""}]
[null,null,null,{"$f":"IFERROR(VLOOKUP($A2112,'Lista de Precios_Bolívares_S'!$F:$Q,6,FALSE),\"\")","v":""},{"$f":"IFERROR(VLOOKUP($A2112,'Lista de Precios_Bolívares_S'!$F:$Q,12,FALSE),\"\")","v":""},"",{"$f":"IFERROR(VLOOKUP($A2112,'Lista de Precios_USD$_Euro€'!$E:$O,11,FALSE),\"\")","v":""}]
[null,null,null,{"$f":"IFERROR(VLOOKUP($A2113,'Lista de Precios_Bolívares_S'!$F:$Q,6,FALSE),\"\")","v":""},{"$f":"IFERROR(VLOOKUP($A2113,'Lista de Precios_Bolívares_S'!$F:$Q,12,FALSE),\"\")","v":""},"",{"$f":"IFERROR(VLOOKUP($A2113,'Lista de Precios_USD$_Euro€'!$E:$O,11,FALSE),\"\")","v":""}]
[null,null,null,{"$f":"IFERROR(VLOOKUP($A2114,'Lista de Precios_Bolívares_S'!$F:$Q,6,FALSE),\"\")","v":""},{"$f":"IFERROR(VLOOKUP($A2114,'Lista de Precios_Bolívares_S'!$F:$Q,12,FALSE),\"\")","v":""},"",{"$f":"IFERROR(VLOOKUP($A2114,'Lista de Precios_USD$_Euro€'!$E:$O,11,FALSE),\"\")","v":""}]
[null,null,null,{"$f":"IFERROR(VLOOKUP($A2115,'Lista de Precios_Bolívares_S'!$F:$Q,6,FALSE),\"\")","v":""},{"$f":"IFERROR(VLOOKUP($A2115,'Lista de Precios_Bolívares_S'!$F:$Q,12,FALSE),\"\")","v":""},"",{"$f":"IFERROR(VLOOKUP($A2115,'Lista de Precios_USD$_Euro€'!$E:$O,11,FALSE),\"\")","v":""}]
[null,null,null,{"$f":"IFERROR(VLOOKUP($A2116,'Lista de Precios_Bolívares_S'!$F:$Q,6,FALSE),\"\")","v":""},{"$f":"IFERROR(VLOOKUP($A2116,'Lista de Precios_Bolívares_S'!$F:$Q,12,FALSE),\"\")","v":""},"",{"$f":"IFERROR(VLOOKUP($A2116,'Lista de Precios_USD$_Euro€'!$E:$O,11,FALSE),\"\")","v":""}]
[null,null,null,{"$f":"IFERROR(VLOOKUP($A2117,'Lista de Precios_Bolívares_S'!$F:$Q,6,FALSE),\"\")","v":""},{"$f":"IFERROR(VLOOKUP($A2117,'Lista de Precios_Bolívares_S'!$F:$Q,12,FALSE),\"\")","v":""},"",{"$f":"IFERROR(VLOOKUP($A2117,'Lista de Precios_USD$_Euro€'!$E:$O,11,FALSE),\"\")","v":""}]
[null,null,null,{"$f":"IFERROR(VLOOKUP($A2118,'Lista de Precios_Bolívares_S'!$F:$Q,6,FALSE),\"\")","v":""},{"$f":"IFERROR(VLOOKUP($A2118,'Lista de Precios_Bolívares_S'!$F:$Q,12,FALSE),\"\")","v":""},"",{"$f":"IFERROR(VLOOKUP($A2118,'Lista de Precios_USD$_Euro€'!$E:$O,11,FALSE),\"\")","v":""}]
[null,null,null,{"$f":"IFERROR(VLOOKUP($A2119,'Lista de Precios_Bolívares_S'!$F:$Q,6,FALSE),\"\")","v":""},{"$f":"IFERROR(VLOOKUP($A2119,'Lista de Precios_Bolívares_S'!$F:$Q,12,FALSE),\"\")","v":""},"",{"$f":"IFERROR(VLOOKUP($A2119,'Lista de Precios_USD$_Euro€'!$E:$O,11,FALSE),\"\")","v":""}]
[null,null,null,{"$f":"IFERROR(VLOOKUP($A2120,'Lista de Precios_Bolívares_S'!$F:$Q,6,FALSE),\"\")","v":""},{"$f":"IFERROR(VLOOKUP($A2120,'Lista de Precios_Bolívares_S'!$F:$Q,12,FALSE),\"\")","v":""},"",{"$f":"IFERROR(VLOOKUP($A2120,'Lista de Precios_USD$_Euro€'!$E:$O,11,FALSE),\"\")","v":""}]
[null,null,null,{"$f":"IFERROR(VLOOKUP($A2121,'Lista de Precios_Bolívares_S'!$F:$Q,6,FALSE),\"\")","v":""},{"$f":"IFERROR(VLOOKUP($A2121,'Lista de Precios_Bolívares_S'!$F:$Q,12,FALSE),\"\")","v":""},"",{"$f":"IFERROR(VLOOKUP($A2121,'Lista de Precios_USD$_Euro€'!$E:$O,11,FALSE),\"\")","v":""}]
[null,null,null,{"$f":"IFERROR(VLOOKUP($A2122,'Lista de Precios_Bolívares_S'!$F:$Q,6,FALSE),\"\")","v":""},{"$f":"IFERROR(VLOOKUP($A2122,'Lista de Precios_Bolívares_S'!$F:$Q,12,FALSE),\"\")","v":""},"",{"$f":"IFERROR(VLOOKUP($A2122,'Lista de Precios_USD$_Euro€'!$E:$O,11,FALSE),\"\")","v":""}]
[null,null,null,{"$f":"IFERROR(VLOOKUP($A2123,'Lista de Precios_Bolívares_S'!$F:$Q,6,FALSE),\"\")","v":""},{"$f":"IFERROR(VLOOKUP($A2123,'Lista de Precios_Bolívares_S'!$F:$Q,12,FALSE),\"\")","v":""},"",{"$f":"IFERROR(VLOOKUP($A2123,'Lista de Precios_USD$_Euro€'!$E:$O,11,FALSE),\"\")","v":""}]
[null,null,null,{"$f":"IFERROR(VLOOKUP($A2124,'Lista de Precios_Bolívares_S'!$F:$Q,6,FALSE),\"\")","v":""},{"$f":"IFERROR(VLOOKUP($A2124,'Lista de Precios_Bolívares_S'!$F:$Q,12,FALSE),\"\")","v":""},"",{"$f":"IFERROR(VLOOKUP($A2124,'Lista de Precios_USD$_Euro€'!$E:$O,11,FALSE),\"\")","v":""}]
[null,null,null,{"$f":"IFERROR(VLOOKUP($A2125,'Lista de Precios_Bolívares_S'!$F:$Q,6,FALSE),\"\")","v":""},{"$f":"IFERROR(VLOOKUP($A2125,'Lista de Precios_Bolívares_S'!$F:$Q,12,FALSE),\"\")","v":""},"",{"$f":"IFERROR(VLOOKUP($A2125,'Lista de Precios_USD$_Euro€'!$E:$O,11,FALSE),\"\")","v":""}]
[null,null,null,{"$f":"IFERROR(VLOOKUP($A2126,'Lista de Precios_Bolívares_S'!$F:$Q,6,FALSE),\"\")","v":""},{"$f":"IFERROR(VLOOKUP($A2126,'Lista de Precios_Bolívares_S'!$F:$Q,12,FALSE),\"\")","v":""},"",{"$f":"IFERROR(VLOOKUP($A2126,'Lista de Precios_USD$_Euro€'!$E:$O,11,FALSE),\"\")","v":""}]
[null,null,null,{"$f":"IFERROR(VLOOKUP($A2127,'Lista de Precios_Bolívares_S'!$F:$Q,6,FALSE),\"\")","v":""},{"$f":"IFERROR(VLOOKUP($A2127,'Lista de Precios_Bolívares_S'!$F:$Q,12,FALSE),\"\")","v":""},"",{"$f":"IFERROR(VLOOKUP($A2127,'Lista de Precios_USD$_Euro€'!$E:$O,11,FALSE),\"\")","v":""}]
[null,null,null,{"$f":"IFERROR(VLOOKUP($A2128,'Lista de Precios_Bolívares_S'!$F:$Q,6,FALSE),\"\")","v":""},{"$f":"IFERROR(VLOOKUP($A2128,'Lista de Precios_Bolívares_S'!$F:$Q,12,FALSE),\"\")","v":""},"",{"$f":"IFERROR(VLOOKUP($A2128,'Lista de Precios_USD$_Euro€'!$E:$O,11,FALSE),\"\")","v":""}]
[null,null,null,{"$f":"IFERROR(VLOOKUP($A2129,'Lista de Precios_Bolívares_S'!$F:$Q,6,FALSE),\"\")","v":""},{"$f":"IFERROR(VLOOKUP($A2129,'Lista de Precios_Bolívares_S'!$F:$Q,12,FALSE),\"\")","v":""},"",{"$f":"IFERROR(VLOOKUP($A2129,'Lista de Precios_USD$_Euro€'!$E:$O,11,FALSE),\"\")","v":""}]
[null,null,null,{"$f":"IFERROR(VLOOKUP($A2130,'Lista de Precios_Bolívares_S'!$F:$Q,6,FALSE),\"\")","v":""},{"$f":"IFERROR(VLOOKUP($A2130,'Lista de Precios_Bolívares_S'!$F:$Q,12,FALSE),\"\")","v":""},"",{"$f":"IFERROR(VLOOKUP($A2130,'Lista de Precios_USD$_Euro€'!$E:$O,11,FALSE),\"\")","v":""}]
[null,null,null,{"$f":"IFERROR(VLOOKUP($A2131,'Lista de Precios_Bolívares_S'!$F:$Q,6,FALSE),\"\")","v":""},{"$f":"IFERROR(VLOOKUP($A2131,'Lista de Precios_Bolívares_S'!$F:$Q,12,FALSE),\"\")","v":""},"",{"$f":"IFERROR(VLOOKUP($A2131,'Lista de Precios_USD$_Euro€'!$E:$O,11,FALSE),\"\")","v":""}]
[null,null,null,{"$f":"IFERROR(VLOOKUP($A2132,'Lista de Precios_Bolívares_S'!$F:$Q,6,FALSE),\"\")","v":""},{"$f":"IFERROR(VLOOKUP($A2132,'Lista de Precios_Bolívares_S'!$F:$Q,12,FALSE),\"\")","v":""},"",{"$f":"IFERROR(VLOOKUP($A2132,'Lista de Precios_USD$_Euro€'!$E:$O,11,FALSE),\"\")","v":""}]
[null,null,null,{"$f":"IFERROR(VLOOKUP($A2133,'Lista de Precios_Bolívares_S'!$F:$Q,6,FALSE),\"\")","v":""},{"$f":"IFERROR(VLOOKUP($A2133,'Lista de Precios_Bolívares_S'!$F:$Q,12,FALSE),\"\")","v":""},"",{"$f":"IFERROR(VLOOKUP($A2133,'Lista de Precios_USD$_Euro€'!$E:$O,11,FALSE),\"\")","v":""}]
[null,null,null,{"$f":"IFERROR(VLOOKUP($A2134,'Lista de Precios_Bolívares_S'!$F:$Q,6,FALSE),\"\")","v":""},{"$f":"IFERROR(VLOOKUP($A2134,'Lista de Precios_Bolívares_S'!$F:$Q,12,FALSE),\"\")","v":""},"",{"$f":"IFERROR(VLOOKUP($A2134,'Lista de Precios_USD$_Euro€'!$E:$O,11,FALSE),\"\")","v":""}]
[null,null,null,{"$f":"IFERROR(VLOOKUP($A2135,'Lista de Precios_Bolívares_S'!$F:$Q,6,FALSE),\"\")","v":""},{"$f":"IFERROR(VLOOKUP($A2135,'Lista de Precios_Bolívares_S'!$F:$Q,12,FALSE),\"\")","v":""},"",{"$f":"IFERROR(VLOOKUP($A2135,'Lista de Precios_USD$_Euro€'!$E:$O,11,FALSE),\"\")","v":""}]
[null,null,null,{"$f":"IFERROR(VLOOKUP($A2136,'Lista de Precios_Bolívares_S'!$F:$Q,6,FALSE),\"\")","v":""},{"$f":"IFERROR(VLOOKUP($A2136,'Lista de Precios_Bolívares_S'!$F:$Q,12,FALSE),\"\")","v":""},"",{"$f":"IFERROR(VLOOKUP($A2136,'Lista de Precios_USD$_Euro€'!$E:$O,11,FALSE),\"\")","v":""}]
[null,null,null,{"$f":"IFERROR(VLOOKUP($A2137,'Lista de Precios_Bolívares_S'!$F:$Q,6,FALSE),\"\")","v":""},{"$f":"IFERROR(VLOOKUP($A2137,'Lista de Precios_Bolívares_S'!$F:$Q,12,FALSE),\"\")","v":""},{"$f":"IFERROR(IF(ROUND($C2137,2)=ROUND($D2112,2),ROUND($E2112,2),ROUND($C2137,2)),\"\")","v":""},{"$f":"IFERROR(VLOOKUP($A2137,'Lista de Precios_USD$_Euro€'!$E:$O,11,FALSE),\"\")","v":""}]
[null,null,null,{"$f":"IFERROR(VLOOKUP($A2138,'Lista de Precios_Bolívares_S'!$F:$Q,6,FALSE),\"\")","v":""},{"$f":"IFERROR(VLOOKUP($A2138,'Lista de Precios_Bolívares_S'!$F:$Q,12,FALSE),\"\")","v":""},"",{"$f":"IFERROR(VLOOKUP($A2138,'Lista de Precios_USD$_Euro€'!$E:$O,11,FALSE),\"\")","v":""}]
[null,null,null,{"$f":"IFERROR(VLOOKUP($A2139,'Lista de Precios_Bolívares_S'!$F:$Q,6,FALSE),\"\")","v":""},{"$f":"IFERROR(VLOOKUP($A2139,'Lista de Precios_Bolívares_S'!$F:$Q,12,FALSE),\"\")","v":""},"",{"$f":"IFERROR(VLOOKUP($A2139,'Lista de Precios_USD$_Euro€'!$E:$O,11,FALSE),\"\")","v":""}]
[null,null,null,{"$f":"IFERROR(VLOOKUP($A2140,'Lista de Precios_Bolívares_S'!$F:$Q,6,FALSE),\"\")","v":""},{"$f":"IFERROR(VLOOKUP($A2140,'Lista de Precios_Bolívares_S'!$F:$Q,12,FALSE),\"\")","v":""},"",{"$f":"IFERROR(VLOOKUP($A2140,'Lista de Precios_USD$_Euro€'!$E:$O,11,FALSE),\"\")","v":""}]
[null,null,null,{"$f":"IFERROR(VLOOKUP($A2141,'Lista de Precios_Bolívares_S'!$F:$Q,6,FALSE),\"\")","v":""},{"$f":"IFERROR(VLOOKUP($A2141,'Lista de Precios_Bolívares_S'!$F:$Q,12,FALSE),\"\")","v":""},"",{"$f":"IFERROR(VLOOKUP($A2141,'Lista de Precios_USD$_Euro€'!$E:$O,11,FALSE),\"\")","v":""}]
[null,null,null,{"$f":"IFERROR(VLOOKUP($A2142,'Lista de Precios_Bolívares_S'!$F:$Q,6,FALSE),\"\")","v":""},{"$f":"IFERROR(VLOOKUP($A2142,'Lista de Precios_Bolívares_S'!$F:$Q,12,FALSE),\"\")","v":""},"",{"$f":"IFERROR(VLOOKUP($A2142,'Lista de Precios_USD$_Euro€'!$E:$O,11,FALSE),\"\")","v":""}]
[null,null,null,{"$f":"IFERROR(VLOOKUP($A2143,'Lista de Precios_Bolívares_S'!$F:$Q,6,FALSE),\"\")","v":""},{"$f":"IFERROR(VLOOKUP($A2143,'Lista de Precios_Bolívares_S'!$F:$Q,12,FALSE),\"\")","v":""},"",{"$f":"IFERROR(VLOOKUP($A2143,'Lista de Precios_USD$_Euro€'!$E:$O,11,FALSE),\"\")","v":""}]
[null,null,null,{"$f":"IFERROR(VLOOKUP($A2144,'Lista de Precios_Bolívares_S'!$F:$Q,6,FALSE),\"\")","v":""},{"$f":"IFERROR(VLOOKUP($A2144,'Lista de Precios_Bolívares_S'!$F:$Q,12,FALSE),\"\")","v":""},"",{"$f":"IFERROR(VLOOKUP($A2144,'Lista de Precios_USD$_Euro€'!$E:$O,11,FALSE),\"\")","v":""}]
[null,null,null,{"$f":"IFERROR(VLOOKUP($A2145,'Lista de Precios_Bolívares_S'!$F:$Q,6,FALSE),\"\")","v":""},{"$f":"IFERROR(VLOOKUP($A2145,'Lista de Precios_Bolívares_S'!$F:$Q,12,FALSE),\"\")","v":""},"",{"$f":"IFERROR(VLOOKUP($A2145,'Lista de Precios_USD$_Euro€'!$E:$O,11,FALSE),\"\")","v":""}]
[null,null,null,{"$f":"IFERROR(VLOOKUP($A2146,'Lista de Precios_Bolívares_S'!$F:$Q,6,FALSE),\"\")","v":""},{"$f":"IFERROR(VLOOKUP($A2146,'Lista de Precios_Bolívares_S'!$F:$Q,12,FALSE),\"\")","v":""},"",{"$f":"IFERROR(VLOOKUP($A2146,'Lista de Precios_USD$_Euro€'!$E:$O,11,FALSE),\"\")","v":""}]
[null,null,null,{"$f":"IFERROR(VLOOKUP($A2147,'Lista de Precios_Bolívares_S'!$F:$Q,6,FALSE),\"\")","v":""},{"$f":"IFERROR(VLOOKUP($A2147,'Lista de Precios_Bolívares_S'!$F:$Q,12,FALSE),\"\")","v":""},"",{"$f":"IFERROR(VLOOKUP($A2147,'Lista de Precios_USD$_Euro€'!$E:$O,11,FALSE),\"\")","v":""}]
[null,null,null,{"$f":"IFERROR(VLOOKUP($A2148,'Lista de Precios_Bolívares_S'!$F:$Q,6,FALSE),\"\")","v":""},{"$f":"IFERROR(VLOOKUP($A2148,'Lista de Precios_Bolívares_S'!$F:$Q,12,FALSE),\"\")","v":""},"",{"$f":"IFERROR(VLOOKUP($A2148,'Lista de Precios_USD$_Euro€'!$E:$O,11,FALSE),\"\")","v":""}]
[null,null,null,{"$f":"IFERROR(VLOOKUP($A2149,'Lista de Precios_Bolívares_S'!$F:$Q,6,FALSE),\"\")","v":""},{"$f":"IFERROR(VLOOKUP($A2149,'Lista de Precios_Bolívares_S'!$F:$Q,12,FALSE),\"\")","v":""},"",{"$f":"IFERROR(VLOOKUP($A2149,'Lista de Precios_USD$_Euro€'!$E:$O,11,FALSE),\"\")","v":""}]
[null,null,null,{"$f":"IFERROR(VLOOKUP($A2150,'Lista de Precios_Bolívares_S'!$F:$Q,6,FALSE),\"\")","v":""},{"$f":"IFERROR(VLOOKUP($A2150,'Lista de Precios_Bolívares_S'!$F:$Q,12,FALSE),\"\")","v":""},"",{"$f":"IFERROR(VLOOKUP($A2150,'Lista de Precios_USD$_Euro€'!$E:$O,11,FALSE),\"\")","v":""}]
[null,null,null,{"$f":"IFERROR(VLOOKUP($A2151,'Lista de Precios_Bolívares_S'!$F:$Q,6,FALSE),\"\")","v":""},{"$f":"IFERROR(VLOOKUP($A2151,'Lista de Precios_Bolívares_S'!$F:$Q,12,FALSE),\"\")","v":""},"",{"$f":"IFERROR(VLOOKUP($A2151,'Lista de Precios_USD$_Euro€'!$E:$O,11,FALSE),\"\")","v":""}]
[null,null,null,{"$f":"IFERROR(VLOOKUP($A2152,'Lista de Precios_Bolívares_S'!$F:$Q,6,FALSE),\"\")","v":""},{"$f":"IFERROR(VLOOKUP($A2152,'Lista de Precios_Bolívares_S'!$F:$Q,12,FALSE),\"\")","v":""},"",{"$f":"IFERROR(VLOOKUP($A2152,'Lista de Precios_USD$_Euro€'!$E:$O,11,FALSE),\"\")","v":""}]
[null,null,null,{"$f":"IFERROR(VLOOKUP($A2153,'Lista de Precios_Bolívares_S'!$F:$Q,6,FALSE),\"\")","v":""},{"$f":"IFERROR(VLOOKUP($A2153,'Lista de Precios_Bolívares_S'!$F:$Q,12,FALSE),\"\")","v":""},"",{"$f":"IFERROR(VLOOKUP($A2153,'Lista de Precios_USD$_Euro€'!$E:$O,11,FALSE),\"\")","v":""}]
[null,null,null,{"$f":"IFERROR(VLOOKUP($A2154,'Lista de Precios_Bolívares_S'!$F:$Q,6,FALSE),\"\")","v":""},{"$f":"IFERROR(VLOOKUP($A2154,'Lista de Precios_Bolívares_S'!$F:$Q,12,FALSE),\"\")","v":""},"",{"$f":"IFERROR(VLOOKUP($A2154,'Lista de Precios_USD$_Euro€'!$E:$O,11,FALSE),\"\")","v":""}]
[null,null,null,{"$f":"IFERROR(VLOOKUP($A2155,'Lista de Precios_Bolívares_S'!$F:$Q,6,FALSE),\"\")","v":""},{"$f":"IFERROR(VLOOKUP($A2155,'Lista de Precios_Bolívares_S'!$F:$Q,12,FALSE),\"\")","v":""},"",{"$f":"IFERROR(VLOOKUP($A2155,'Lista de Precios_USD$_Euro€'!$E:$O,11,FALSE),\"\")","v":""}]
[null,null,null,{"$f":"IFERROR(VLOOKUP($A2156,'Lista de Precios_Bolívares_S'!$F:$Q,6,FALSE),\"\")","v":""},{"$f":"IFERROR(VLOOKUP($A2156,'Lista de Precios_Bolívares_S'!$F:$Q,12,FALSE),\"\")","v":""},"",{"$f":"IFERROR(VLOOKUP($A2156,'Lista de Precios_USD$_Euro€'!$E:$O,11,FALSE),\"\")","v":""}]
[null,null,null,{"$f":"IFERROR(VLOOKUP($A2157,'Lista de Precios_Bolívares_S'!$F:$Q,6,FALSE),\"\")","v":""},{"$f":"IFERROR(VLOOKUP($A2157,'Lista de Precios_Bolívares_S'!$F:$Q,12,FALSE),\"\")","v":""},"",{"$f":"IFERROR(VLOOKUP($A2157,'Lista de Precios_USD$_Euro€'!$E:$O,11,FALSE),\"\")","v":""}]
[null,null,null,{"$f":"IFERROR(VLOOKUP($A2158,'Lista de Precios_Bolívares_S'!$F:$Q,6,FALSE),\"\")","v":""},{"$f":"IFERROR(VLOOKUP($A2158,'Lista de Precios_Bolívares_S'!$F:$Q,12,FALSE),\"\")","v":""},"",{"$f":"IFERROR(VLOOKUP($A2158,'Lista de Precios_USD$_Euro€'!$E:$O,11,FALSE),\"\")","v":""}]
[null,null,null,{"$f":"IFERROR(VLOOKUP($A2159,'Lista de Precios_Bolívares_S'!$F:$Q,6,FALSE),\"\")","v":""},{"$f":"IFERROR(VLOOKUP($A2159,'Lista de Precios_Bolívares_S'!$F:$Q,12,FALSE),\"\")","v":""},"",{"$f":"IFERROR(VLOOKUP($A2159,'Lista de Precios_USD$_Euro€'!$E:$O,11,FALSE),\"\")","v":""}]
[null,null,null,{"$f":"IFERROR(VLOOKUP($A2160,'Lista de Precios_Bolívares_S'!$F:$Q,6,FALSE),\"\")","v":""},{"$f":"IFERROR(VLOOKUP($A2160,'Lista de Precios_Bolívares_S'!$F:$Q,12,FALSE),\"\")","v":""},"",{"$f":"IFERROR(VLOOKUP($A2160,'Lista de Precios_USD$_Euro€'!$E:$O,11,FALSE),\"\")","v":""}]
[null,null,null,{"$f":"IFERROR(VLOOKUP($A2161,'Lista de Precios_Bolívares_S'!$F:$Q,6,FALSE),\"\")","v":""},{"$f":"IFERROR(VLOOKUP($A2161,'Lista de Precios_Bolívares_S'!$F:$Q,12,FALSE),\"\")","v":""},"",{"$f":"IFERROR(VLOOKUP($A2161,'Lista de Precios_USD$_Euro€'!$E:$O,11,FALSE),\"\")","v":""}]
[null,null,null,{"$f":"IFERROR(VLOOKUP($A2162,'Lista de Precios_Bolívares_S'!$F:$Q,6,FALSE),\"\")","v":""},{"$f":"IFERROR(VLOOKUP($A2162,'Lista de Precios_Bolívares_S'!$F:$Q,12,FALSE),\"\")","v":""},"",{"$f":"IFERROR(VLOOKUP($A2162,'Lista de Precios_USD$_Euro€'!$E:$O,11,FALSE),\"\")","v":""}]
[null,null,null,{"$f":"IFERROR(VLOOKUP($A2163,'Lista de Precios_Bolívares_S'!$F:$Q,6,FALSE),\"\")","v":""},{"$f":"IFERROR(VLOOKUP($A2163,'Lista de Precios_Bolívares_S'!$F:$Q,12,FALSE),\"\")","v":""},"",{"$f":"IFERROR(VLOOKUP($A2163,'Lista de Precios_USD$_Euro€'!$E:$O,11,FALSE),\"\")","v":""}]
[null,null,null,{"$f":"IFERROR(VLOOKUP($A2164,'Lista de Precios_Bolívares_S'!$F:$Q,6,FALSE),\"\")","v":""},{"$f":"IFERROR(VLOOKUP($A2164,'Lista de Precios_Bolívares_S'!$F:$Q,12,FALSE),\"\")","v":""},"",{"$f":"IFERROR(VLOOKUP($A2164,'Lista de Precios_USD$_Euro€'!$E:$O,11,FALSE),\"\")","v":""}]
[null,null,null,{"$f":"IFERROR(VLOOKUP($A2165,'Lista de Precios_Bolívares_S'!$F:$Q,6,FALSE),\"\")","v":""},{"$f":"IFERROR(VLOOKUP($A2165,'Lista de Precios_Bolívares_S'!$F:$Q,12,FALSE),\"\")","v":""},"",{"$f":"IFERROR(VLOOKUP($A2165,'Lista de Precios_USD$_Euro€'!$E:$O,11,FALSE),\"\")","v":""}]
[null,null,null,{"$f":"IFERROR(VLOOKUP($A2166,'Lista de Precios_Bolívares_S'!$F:$Q,6,FALSE),\"\")","v":""},{"$f":"IFERROR(VLOOKUP($A2166,'Lista de Precios_Bolívares_S'!$F:$Q,12,FALSE),\"\")","v":""},"",{"$f":"IFERROR(VLOOKUP($A2166,'Lista de Precios_USD$_Euro€'!$E:$O,11,FALSE),\"\")","v":""}]
[null,null,null,{"$f":"IFERROR(VLOOKUP($A2167,'Lista de Precios_Bolívares_S'!$F:$Q,6,FALSE),\"\")","v":""},{"$f":"IFERROR(VLOOKUP($A2167,'Lista de Precios_Bolívares_S'!$F:$Q,12,FALSE),\"\")","v":""},"",{"$f":"IFERROR(VLOOKUP($A2167,'Lista de Precios_USD$_Euro€'!$E:$O,11,FALSE),\"\")","v":""}]
[null,null,null,{"$f":"IFERROR(VLOOKUP($A2168,'Lista de Precios_Bolívares_S'!$F:$Q,6,FALSE),\"\")","v":""},{"$f":"IFERROR(VLOOKUP($A2168,'Lista de Precios_Bolívares_S'!$F:$Q,12,FALSE),\"\")","v":""},"",{"$f":"IFERROR(VLOOKUP($A2168,'Lista de Precios_USD$_Euro€'!$E:$O,11,FALSE),\"\")","v":""}]
[null,null,null,{"$f":"IFERROR(VLOOKUP($A2169,'Lista de Precios_Bolívares_S'!$F:$Q,6,FALSE),\"\")","v":""},{"$f":"IFERROR(VLOOKUP($A2169,'Lista de Precios_Bolívares_S'!$F:$Q,12,FALSE),\"\")","v":""},"",{"$f":"IFERROR(VLOOKUP($A2169,'Lista de Precios_USD$_Euro€'!$E:$O,11,FALSE),\"\")","v":""}]
[null,null,null,{"$f":"IFERROR(VLOOKUP($A2170,'Lista de Precios_Bolívares_S'!$F:$Q,6,FALSE),\"\")","v":""},{"$f":"IFERROR(VLOOKUP($A2170,'Lista de Precios_Bolívares_S'!$F:$Q,12,FALSE),\"\")","v":""},"",{"$f":"IFERROR(VLOOKUP($A2170,'Lista de Precios_USD$_Euro€'!$E:$O,11,FALSE),\"\")","v":""}]
[null,null,null,{"$f":"IFERROR(VLOOKUP($A2171,'Lista de Precios_Bolívares_S'!$F:$Q,6,FALSE),\"\")","v":""},{"$f":"IFERROR(VLOOKUP($A2171,'Lista de Precios_Bolívares_S'!$F:$Q,12,FALSE),\"\")","v":""},"",{"$f":"IFERROR(VLOOKUP($A2171,'Lista de Precios_USD$_Euro€'!$E:$O,11,FALSE),\"\")","v":""}]
[null,null,null,{"$f":"IFERROR(VLOOKUP($A2172,'Lista de Precios_Bolívares_S'!$F:$Q,6,FALSE),\"\")","v":""},{"$f":"IFERROR(VLOOKUP($A2172,'Lista de Precios_Bolívares_S'!$F:$Q,12,FALSE),\"\")","v":""},"",{"$f":"IFERROR(VLOOKUP($A2172,'Lista de Precios_USD$_Euro€'!$E:$O,11,FALSE),\"\")","v":""}]
[null,null,null,{"$f":"IFERROR(VLOOKUP($A2173,'Lista de Precios_Bolívares_S'!$F:$Q,6,FALSE),\"\")","v":""},{"$f":"IFERROR(VLOOKUP($A2173,'Lista de Precios_Bolívares_S'!$F:$Q,12,FALSE),\"\")","v":""},"",{"$f":"IFERROR(VLOOKUP($A2173,'Lista de Precios_USD$_Euro€'!$E:$O,11,FALSE),\"\")","v":""}]
[null,null,null,{"$f":"IFERROR(VLOOKUP($A2174,'Lista de Precios_Bolívares_S'!$F:$Q,6,FALSE),\"\")","v":""},{"$f":"IFERROR(VLOOKUP($A2174,'Lista de Precios_Bolívares_S'!$F:$Q,12,FALSE),\"\")","v":""},"",{"$f":"IFERROR(VLOOKUP($A2174,'Lista de Precios_USD$_Euro€'!$E:$O,11,FALSE),\"\")","v":""}]
[null,null,null,{"$f":"IFERROR(VLOOKUP($A2175,'Lista de Precios_Bolívares_S'!$F:$Q,6,FALSE),\"\")","v":""},{"$f":"IFERROR(VLOOKUP($A2175,'Lista de Precios_Bolívares_S'!$F:$Q,12,FALSE),\"\")","v":""},"",{"$f":"IFERROR(VLOOKUP($A2175,'Lista de Precios_USD$_Euro€'!$E:$O,11,FALSE),\"\")","v":""}]
[null,null,null,{"$f":"IFERROR(VLOOKUP($A2176,'Lista de Precios_Bolívares_S'!$F:$Q,6,FALSE),\"\")","v":""},{"$f":"IFERROR(VLOOKUP($A2176,'Lista de Precios_Bolívares_S'!$F:$Q,12,FALSE),\"\")","v":""},"",{"$f":"IFERROR(VLOOKUP($A2176,'Lista de Precios_USD$_Euro€'!$E:$O,11,FALSE),\"\")","v":""}]
[null,null,null,{"$f":"IFERROR(VLOOKUP($A2177,'Lista de Precios_Bolívares_S'!$F:$Q,6,FALSE),\"\")","v":""},{"$f":"IFERROR(VLOOKUP($A2177,'Lista de Precios_Bolívares_S'!$F:$Q,12,FALSE),\"\")","v":""},"",{"$f":"IFERROR(VLOOKUP($A2177,'Lista de Precios_USD$_Euro€'!$E:$O,11,FALSE),\"\")","v":""}]
[null,null,null,{"$f":"IFERROR(VLOOKUP($A2178,'Lista de Precios_Bolívares_S'!$F:$Q,6,FALSE),\"\")","v":""},{"$f":"IFERROR(VLOOKUP($A2178,'Lista de Precios_Bolívares_S'!$F:$Q,12,FALSE),\"\")","v":""},"",{"$f":"IFERROR(VLOOKUP($A2178,'Lista de Precios_USD$_Euro€'!$E:$O,11,FALSE),\"\")","v":""}]
[null,null,null,{"$f":"IFERROR(VLOOKUP($A2179,'Lista de Precios_Bolívares_S'!$F:$Q,6,FALSE),\"\")","v":""},{"$f":"IFERROR(VLOOKUP($A2179,'Lista de Precios_Bolívares_S'!$F:$Q,12,FALSE),\"\")","v":""},"",{"$f":"IFERROR(VLOOKUP($A2179,'Lista de Precios_USD$_Euro€'!$E:$O,11,FALSE),\"\")","v":""}]
[null,null,null,{"$f":"IFERROR(VLOOKUP($A2180,'Lista de Precios_Bolívares_S'!$F:$Q,6,FALSE),\"\")","v":""},{"$f":"IFERROR(VLOOKUP($A2180,'Lista de Precios_Bolívares_S'!$F:$Q,12,FALSE),\"\")","v":""},"",{"$f":"IFERROR(VLOOKUP($A2180,'Lista de Precios_USD$_Euro€'!$E:$O,11,FALSE),\"\")","v":""}]
[null,null,null,{"$f":"IFERROR(VLOOKUP($A2181,'Lista de Precios_Bolívares_S'!$F:$Q,6,FALSE),\"\")","v":""},{"$f":"IFERROR(VLOOKUP($A2181,'Lista de Precios_Bolívares_S'!$F:$Q,12,FALSE),\"\")","v":""},"",{"$f":"IFERROR(VLOOKUP($A2181,'Lista de Precios_USD$_Euro€'!$E:$O,11,FALSE),\"\")","v":""}]
[null,null,null,{"$f":"IFERROR(VLOOKUP($A2182,'Lista de Precios_Bolívares_S'!$F:$Q,6,FALSE),\"\")","v":""},{"$f":"IFERROR(VLOOKUP($A2182,'Lista de Precios_Bolívares_S'!$F:$Q,12,FALSE),\"\")","v":""},"",{"$f":"IFERROR(VLOOKUP($A2182,'Lista de Precios_USD$_Euro€'!$E:$O,11,FALSE),\"\")","v":""}]
[null,null,null,{"$f":"IFERROR(VLOOKUP($A2183,'Lista de Precios_Bolívares_S'!$F:$Q,6,FALSE),\"\")","v":""},{"$f":"IFERROR(VLOOKUP($A2183,'Lista de Precios_Bolívares_S'!$F:$Q,12,FALSE),\"\")","v":""},"",{"$f":"IFERROR(VLOOKUP($A2183,'Lista de Precios_USD$_Euro€'!$E:$O,11,FALSE),\"\")","v":""}]
[null,null,null,{"$f":"IFERROR(VLOOKUP($A2184,'Lista de Precios_Bolívares_S'!$F:$Q,6,FALSE),\"\")","v":""},{"$f":"IFERROR(VLOOKUP($A2184,'Lista de Precios_Bolívares_S'!$F:$Q,12,FALSE),\"\")","v":""},"",{"$f":"IFERROR(VLOOKUP($A2184,'Lista de Precios_USD$_Euro€'!$E:$O,11,FALSE),\"\")","v":""}]
[null,null,null,{"$f":"IFERROR(VLOOKUP($A2185,'Lista de Precios_Bolívares_S'!$F:$Q,6,FALSE),\"\")","v":""},{"$f":"IFERROR(VLOOKUP($A2185,'Lista de Precios_Bolívares_S'!$F:$Q,12,FALSE),\"\")","v":""},"",{"$f":"IFERROR(VLOOKUP($A2185,'Lista de Precios_USD$_Euro€'!$E:$O,11,FALSE),\"\")","v":""}]
[null,null,null,{"$f":"IFERROR(VLOOKUP($A2186,'Lista de Precios_Bolívares_S'!$F:$Q,6,FALSE),\"\")","v":""},{"$f":"IFERROR(VLOOKUP($A2186,'Lista de Precios_Bolívares_S'!$F:$Q,12,FALSE),\"\")","v":""},"",{"$f":"IFERROR(VLOOKUP($A2186,'Lista de Precios_USD$_Euro€'!$E:$O,11,FALSE),\"\")","v":""}]
[null,null,null,{"$f":"IFERROR(VLOOKUP($A2187,'Lista de Precios_Bolívares_S'!$F:$Q,6,FALSE),\"\")","v":""},{"$f":"IFERROR(VLOOKUP($A2187,'Lista de Precios_Bolívares_S'!$F:$Q,12,FALSE),\"\")","v":""},"",{"$f":"IFERROR(VLOOKUP($A2187,'Lista de Precios_USD$_Euro€'!$E:$O,11,FALSE),\"\")","v":""}]
[null,null,null,{"$f":"IFERROR(VLOOKUP($A2188,'Lista de Precios_Bolívares_S'!$F:$Q,6,FALSE),\"\")","v":""},{"$f":"IFERROR(VLOOKUP($A2188,'Lista de Precios_Bolívares_S'!$F:$Q,12,FALSE),\"\")","v":""},"",{"$f":"IFERROR(VLOOKUP($A2188,'Lista de Precios_USD$_Euro€'!$E:$O,11,FALSE),\"\")","v":""}]
[null,null,null,{"$f":"IFERROR(VLOOKUP($A2189,'Lista de Precios_Bolívares_S'!$F:$Q,6,FALSE),\"\")","v":""},{"$f":"IFERROR(VLOOKUP($A2189,'Lista de Precios_Bolívares_S'!$F:$Q,12,FALSE),\"\")","v":""},"",{"$f":"IFERROR(VLOOKUP($A2189,'Lista de Precios_USD$_Euro€'!$E:$O,11,FALSE),\"\")","v":""}]
[null,null,null,{"$f":"IFERROR(VLOOKUP($A2190,'Lista de Precios_Bolívares_S'!$F:$Q,6,FALSE),\"\")","v":""},{"$f":"IFERROR(VLOOKUP($A2190,'Lista de Precios_Bolívares_S'!$F:$Q,12,FALSE),\"\")","v":""},"",{"$f":"IFERROR(VLOOKUP($A2190,'Lista de Precios_USD$_Euro€'!$E:$O,11,FALSE),\"\")","v":""}]
[null,null,null,{"$f":"IFERROR(VLOOKUP($A2191,'Lista de Precios_Bolívares_S'!$F:$Q,6,FALSE),\"\")","v":""},{"$f":"IFERROR(VLOOKUP($A2191,'Lista de Precios_Bolívares_S'!$F:$Q,12,FALSE),\"\")","v":""},"",{"$f":"IFERROR(VLOOKUP($A2191,'Lista de Precios_USD$_Euro€'!$E:$O,11,FALSE),\"\")","v":""}]
[null,null,null,{"$f":"IFERROR(VLOOKUP($A2192,'Lista de Precios_Bolívares_S'!$F:$Q,6,FALSE),\"\")","v":""},{"$f":"IFERROR(VLOOKUP($A2192,'Lista de Precios_Bolívares_S'!$F:$Q,12,FALSE),\"\")","v":""},"",{"$f":"IFERROR(VLOOKUP($A2192,'Lista de Precios_USD$_Euro€'!$E:$O,11,FALSE),\"\")","v":""}]
[null,null,null,{"$f":"IFERROR(VLOOKUP($A2193,'Lista de Precios_Bolívares_S'!$F:$Q,6,FALSE),\"\")","v":""},{"$f":"IFERROR(VLOOKUP($A2193,'Lista de Precios_Bolívares_S'!$F:$Q,12,FALSE),\"\")","v":""},"",{"$f":"IFERROR(VLOOKUP($A2193,'Lista de Precios_USD$_Euro€'!$E:$O,11,FALSE),\"\")","v":""}]
[null,null,null,{"$f":"IFERROR(VLOOKUP($A2194,'Lista de Precios_Bolívares_S'!$F:$Q,6,FALSE),\"\")","v":""},{"$f":"IFERROR(VLOOKUP($A2194,'Lista de Precios_Bolívares_S'!$F:$Q,12,FALSE),\"\")","v":""},"",{"$f":"IFERROR(VLOOKUP($A2194,'Lista de Precios_USD$_Euro€'!$E:$O,11,FALSE),\"\")","v":""}]
[null,null,null,{"$f":"IFERROR(VLOOKUP($A2195,'Lista de Precios_Bolívares_S'!$F:$Q,6,FALSE),\"\")","v":""},{"$f":"IFERROR(VLOOKUP($A2195,'Lista de Precios_Bolívares_S'!$F:$Q,12,FALSE),\"\")","v":""},"",{"$f":"IFERROR(VLOOKUP($A2195,'Lista de Precios_USD$_Euro€'!$E:$O,11,FALSE),\"\")","v":""}]
[null,null,null,{"$f":"IFERROR(VLOOKUP($A2196,'Lista de Precios_Bolívares_S'!$F:$Q,6,FALSE),\"\")","v":""},{"$f":"IFERROR(VLOOKUP($A2196,'Lista de Precios_Bolívares_S'!$F:$Q,12,FALSE),\"\")","v":""},"",{"$f":"IFERROR(VLOOKUP($A2196,'Lista de Precios_USD$_Euro€'!$E:$O,11,FALSE),\"\")","v":""}]
[null,null,null,{"$f":"IFERROR(VLOOKUP($A2197,'Lista de Precios_Bolívares_S'!$F:$Q,6,FALSE),\"\")","v":""},{"$f":"IFERROR(VLOOKUP($A2197,'Lista de Precios_Bolívares_S'!$F:$Q,12,FALSE),\"\")","v":""},"",{"$f":"IFERROR(VLOOKUP($A2197,'Lista de Precios_USD$_Euro€'!$E:$O,11,FALSE),\"\")","v":""}]
[null,null,null,{"$f":"IFERROR(VLOOKUP($A2198,'Lista de Precios_Bolívares_S'!$F:$Q,6,FALSE),\"\")","v":""},{"$f":"IFERROR(VLOOKUP($A2198,'Lista de Precios_Bolívares_S'!$F:$Q,12,FALSE),\"\")","v":""},"",{"$f":"IFERROR(VLOOKUP($A2198,'Lista de Precios_USD$_Euro€'!$E:$O,11,FALSE),\"\")","v":""}]
[null,null,null,{"$f":"IFERROR(VLOOKUP($A2199,'Lista de Precios_Bolívares_S'!$F:$Q,6,FALSE),\"\")","v":""},{"$f":"IFERROR(VLOOKUP($A2199,'Lista de Precios_Bolívares_S'!$F:$Q,12,FALSE),\"\")","v":""},"",{"$f":"IFERROR(VLOOKUP($A2199,'Lista de Precios_USD$_Euro€'!$E:$O,11,FALSE),\"\")","v":""}]
[null,null,null,{"$f":"IFERROR(VLOOKUP($A2200,'Lista de Precios_Bolívares_S'!$F:$Q,6,FALSE),\"\")","v":""},{"$f":"IFERROR(VLOOKUP($A2200,'Lista de Precios_Bolívares_S'!$F:$Q,12,FALSE),\"\")","v":""},"",{"$f":"IFERROR(VLOOKUP($A2200,'Lista de Precios_USD$_Euro€'!$E:$O,11,FALSE),\"\")","v":""}]
[null,null,null,{"$f":"IFERROR(VLOOKUP($A2201,'Lista de Precios_Bolívares_S'!$F:$Q,6,FALSE),\"\")","v":""},{"$f":"IFERROR(VLOOKUP($A2201,'Lista de Precios_Bolívares_S'!$F:$Q,12,FALSE),\"\")","v":""},{"$f":"IFERROR(IF(ROUND($C2201,2)=ROUND($D2176,2),ROUND($E2176,2),ROUND($C2201,2)),\"\")","v":""},{"$f":"IFERROR(VLOOKUP($A2201,'Lista de Precios_USD$_Euro€'!$E:$O,11,FALSE),\"\")","v":""}]
[null,null,null,{"$f":"IFERROR(VLOOKUP($A2202,'Lista de Precios_Bolívares_S'!$F:$Q,6,FALSE),\"\")","v":""},{"$f":"IFERROR(VLOOKUP($A2202,'Lista de Precios_Bolívares_S'!$F:$Q,12,FALSE),\"\")","v":""},"",{"$f":"IFERROR(VLOOKUP($A2202,'Lista de Precios_USD$_Euro€'!$E:$O,11,FALSE),\"\")","v":""}]
[null,null,null,{"$f":"IFERROR(VLOOKUP($A2203,'Lista de Precios_Bolívares_S'!$F:$Q,6,FALSE),\"\")","v":""},{"$f":"IFERROR(VLOOKUP($A2203,'Lista de Precios_Bolívares_S'!$F:$Q,12,FALSE),\"\")","v":""},"",{"$f":"IFERROR(VLOOKUP($A2203,'Lista de Precios_USD$_Euro€'!$E:$O,11,FALSE),\"\")","v":""}]
[null,null,null,{"$f":"IFERROR(VLOOKUP($A2204,'Lista de Precios_Bolívares_S'!$F:$Q,6,FALSE),\"\")","v":""},{"$f":"IFERROR(VLOOKUP($A2204,'Lista de Precios_Bolívares_S'!$F:$Q,12,FALSE),\"\")","v":""},"",{"$f":"IFERROR(VLOOKUP($A2204,'Lista de Precios_USD$_Euro€'!$E:$O,11,FALSE),\"\")","v":""}]
[null,null,null,{"$f":"IFERROR(VLOOKUP($A2205,'Lista de Precios_Bolívares_S'!$F:$Q,6,FALSE),\"\")","v":""},{"$f":"IFERROR(VLOOKUP($A2205,'Lista de Precios_Bolívares_S'!$F:$Q,12,FALSE),\"\")","v":""},"",{"$f":"IFERROR(VLOOKUP($A2205,'Lista de Precios_USD$_Euro€'!$E:$O,11,FALSE),\"\")","v":""}]
[null,null,null,{"$f":"IFERROR(VLOOKUP($A2206,'Lista de Precios_Bolívares_S'!$F:$Q,6,FALSE),\"\")","v":""},{"$f":"IFERROR(VLOOKUP($A2206,'Lista de Precios_Bolívares_S'!$F:$Q,12,FALSE),\"\")","v":""},"",{"$f":"IFERROR(VLOOKUP($A2206,'Lista de Precios_USD$_Euro€'!$E:$O,11,FALSE),\"\")","v":""}]
[null,null,null,{"$f":"IFERROR(VLOOKUP($A2207,'Lista de Precios_Bolívares_S'!$F:$Q,6,FALSE),\"\")","v":""},{"$f":"IFERROR(VLOOKUP($A2207,'Lista de Precios_Bolívares_S'!$F:$Q,12,FALSE),\"\")","v":""},"",{"$f":"IFERROR(VLOOKUP($A2207,'Lista de Precios_USD$_Euro€'!$E:$O,11,FALSE),\"\")","v":""}]
[null,null,null,{"$f":"IFERROR(VLOOKUP($A2208,'Lista de Precios_Bolívares_S'!$F:$Q,6,FALSE),\"\")","v":""},{"$f":"IFERROR(VLOOKUP($A2208,'Lista de Precios_Bolívares_S'!$F:$Q,12,FALSE),\"\")","v":""},"",{"$f":"IFERROR(VLOOKUP($A2208,'Lista de Precios_USD$_Euro€'!$E:$O,11,FALSE),\"\")","v":""}]
[null,null,null,{"$f":"IFERROR(VLOOKUP($A2209,'Lista de Precios_Bolívares_S'!$F:$Q,6,FALSE),\"\")","v":""},{"$f":"IFERROR(VLOOKUP($A2209,'Lista de Precios_Bolívares_S'!$F:$Q,12,FALSE),\"\")","v":""},"",{"$f":"IFERROR(VLOOKUP($A2209,'Lista de Precios_USD$_Euro€'!$E:$O,11,FALSE),\"\")","v":""}]
[null,null,null,{"$f":"IFERROR(VLOOKUP($A2210,'Lista de Precios_Bolívares_S'!$F:$Q,6,FALSE),\"\")","v":""},{"$f":"IFERROR(VLOOKUP($A2210,'Lista de Precios_Bolívares_S'!$F:$Q,12,FALSE),\"\")","v":""},"",{"$f":"IFERROR(VLOOKUP($A2210,'Lista de Precios_USD$_Euro€'!$E:$O,11,FALSE),\"\")","v":""}]
[null,null,null,{"$f":"IFERROR(VLOOKUP($A2211,'Lista de Precios_Bolívares_S'!$F:$Q,6,FALSE),\"\")","v":""},{"$f":"IFERROR(VLOOKUP($A2211,'Lista de Precios_Bolívares_S'!$F:$Q,12,FALSE),\"\")","v":""},"",{"$f":"IFERROR(VLOOKUP($A2211,'Lista de Precios_USD$_Euro€'!$E:$O,11,FALSE),\"\")","v":""}]
[null,null,null,{"$f":"IFERROR(VLOOKUP($A2212,'Lista de Precios_Bolívares_S'!$F:$Q,6,FALSE),\"\")","v":""},{"$f":"IFERROR(VLOOKUP($A2212,'Lista de Precios_Bolívares_S'!$F:$Q,12,FALSE),\"\")","v":""},"",{"$f":"IFERROR(VLOOKUP($A2212,'Lista de Precios_USD$_Euro€'!$E:$O,11,FALSE),\"\")","v":""}]
[null,null,null,{"$f":"IFERROR(VLOOKUP($A2213,'Lista de Precios_Bolívares_S'!$F:$Q,6,FALSE),\"\")","v":""},{"$f":"IFERROR(VLOOKUP($A2213,'Lista de Precios_Bolívares_S'!$F:$Q,12,FALSE),\"\")","v":""},"",{"$f":"IFERROR(VLOOKUP($A2213,'Lista de Precios_USD$_Euro€'!$E:$O,11,FALSE),\"\")","v":""}]
[null,null,null,{"$f":"IFERROR(VLOOKUP($A2214,'Lista de Precios_Bolívares_S'!$F:$Q,6,FALSE),\"\")","v":""},{"$f":"IFERROR(VLOOKUP($A2214,'Lista de Precios_Bolívares_S'!$F:$Q,12,FALSE),\"\")","v":""},"",{"$f":"IFERROR(VLOOKUP($A2214,'Lista de Precios_USD$_Euro€'!$E:$O,11,FALSE),\"\")","v":""}]
[null,null,null,{"$f":"IFERROR(VLOOKUP($A2215,'Lista de Precios_Bolívares_S'!$F:$Q,6,FALSE),\"\")","v":""},{"$f":"IFERROR(VLOOKUP($A2215,'Lista de Precios_Bolívares_S'!$F:$Q,12,FALSE),\"\")","v":""},"",{"$f":"IFERROR(VLOOKUP($A2215,'Lista de Precios_USD$_Euro€'!$E:$O,11,FALSE),\"\")","v":""}]
[null,null,null,{"$f":"IFERROR(VLOOKUP($A2216,'Lista de Precios_Bolívares_S'!$F:$Q,6,FALSE),\"\")","v":""},{"$f":"IFERROR(VLOOKUP($A2216,'Lista de Precios_Bolívares_S'!$F:$Q,12,FALSE),\"\")","v":""},"",{"$f":"IFERROR(VLOOKUP($A2216,'Lista de Precios_USD$_Euro€'!$E:$O,11,FALSE),\"\")","v":""}]
[null,null,null,{"$f":"IFERROR(VLOOKUP($A2217,'Lista de Precios_Bolívares_S'!$F:$Q,6,FALSE),\"\")","v":""},{"$f":"IFERROR(VLOOKUP($A2217,'Lista de Precios_Bolívares_S'!$F:$Q,12,FALSE),\"\")","v":""},"",{"$f":"IFERROR(VLOOKUP($A2217,'Lista de Precios_USD$_Euro€'!$E:$O,11,FALSE),\"\")","v":""}]
[null,null,null,{"$f":"IFERROR(VLOOKUP($A2218,'Lista de Precios_Bolívares_S'!$F:$Q,6,FALSE),\"\")","v":""},{"$f":"IFERROR(VLOOKUP($A2218,'Lista de Precios_Bolívares_S'!$F:$Q,12,FALSE),\"\")","v":""},"",{"$f":"IFERROR(VLOOKUP($A2218,'Lista de Precios_USD$_Euro€'!$E:$O,11,FALSE),\"\")","v":""}]
[null,null,null,{"$f":"IFERROR(VLOOKUP($A2219,'Lista de Precios_Bolívares_S'!$F:$Q,6,FALSE),\"\")","v":""},{"$f":"IFERROR(VLOOKUP($A2219,'Lista de Precios_Bolívares_S'!$F:$Q,12,FALSE),\"\")","v":""},"",{"$f":"IFERROR(VLOOKUP($A2219,'Lista de Precios_USD$_Euro€'!$E:$O,11,FALSE),\"\")","v":""}]
[null,null,null,{"$f":"IFERROR(VLOOKUP($A2220,'Lista de Precios_Bolívares_S'!$F:$Q,6,FALSE),\"\")","v":""},{"$f":"IFERROR(VLOOKUP($A2220,'Lista de Precios_Bolívares_S'!$F:$Q,12,FALSE),\"\")","v":""},"",{"$f":"IFERROR(VLOOKUP($A2220,'Lista de Precios_USD$_Euro€'!$E:$O,11,FALSE),\"\")","v":""}]
[null,null,null,{"$f":"IFERROR(VLOOKUP($A2221,'Lista de Precios_Bolívares_S'!$F:$Q,6,FALSE),\"\")","v":""},{"$f":"IFERROR(VLOOKUP($A2221,'Lista de Precios_Bolívares_S'!$F:$Q,12,FALSE),\"\")","v":""},"",{"$f":"IFERROR(VLOOKUP($A2221,'Lista de Precios_USD$_Euro€'!$E:$O,11,FALSE),\"\")","v":""}]
[null,null,null,{"$f":"IFERROR(VLOOKUP($A2222,'Lista de Precios_Bolívares_S'!$F:$Q,6,FALSE),\"\")","v":""},{"$f":"IFERROR(VLOOKUP($A2222,'Lista de Precios_Bolívares_S'!$F:$Q,12,FALSE),\"\")","v":""},"",{"$f":"IFERROR(VLOOKUP($A2222,'Lista de Precios_USD$_Euro€'!$E:$O,11,FALSE),\"\")","v":""}]
[null,null,null,{"$f":"IFERROR(VLOOKUP($A2223,'Lista de Precios_Bolívares_S'!$F:$Q,6,FALSE),\"\")","v":""},{"$f":"IFERROR(VLOOKUP($A2223,'Lista de Precios_Bolívares_S'!$F:$Q,12,FALSE),\"\")","v":""},"",{"$f":"IFERROR(VLOOKUP($A2223,'Lista de Precios_USD$_Euro€'!$E:$O,11,FALSE),\"\")","v":""}]
[null,null,null,{"$f":"IFERROR(VLOOKUP($A2224,'Lista de Precios_Bolívares_S'!$F:$Q,6,FALSE),\"\")","v":""},{"$f":"IFERROR(VLOOKUP($A2224,'Lista de Precios_Bolívares_S'!$F:$Q,12,FALSE),\"\")","v":""},"",{"$f":"IFERROR(VLOOKUP($A2224,'Lista de Precios_USD$_Euro€'!$E:$O,11,FALSE),\"\")","v":""}]
[null,null,null,{"$f":"IFERROR(VLOOKUP($A2225,'Lista de Precios_Bolívares_S'!$F:$Q,6,FALSE),\"\")","v":""},{"$f":"IFERROR(VLOOKUP($A2225,'Lista de Precios_Bolívares_S'!$F:$Q,12,FALSE),\"\")","v":""},"",{"$f":"IFERROR(VLOOKUP($A2225,'Lista de Precios_USD$_Euro€'!$E:$O,11,FALSE),\"\")","v":""}]
[null,null,null,{"$f":"IFERROR(VLOOKUP($A2226,'Lista de Precios_Bolívares_S'!$F:$Q,6,FALSE),\"\")","v":""},{"$f":"IFERROR(VLOOKUP($A2226,'Lista de Precios_Bolívares_S'!$F:$Q,12,FALSE),\"\")","v":""},"",{"$f":"IFERROR(VLOOKUP($A2226,'Lista de Precios_USD$_Euro€'!$E:$O,11,FALSE),\"\")","v":""}]
[null,null,null,{"$f":"IFERROR(VLOOKUP($A2227,'Lista de Precios_Bolívares_S'!$F:$Q,6,FALSE),\"\")","v":""},{"$f":"IFERROR(VLOOKUP($A2227,'Lista de Precios_Bolívares_S'!$F:$Q,12,FALSE),\"\")","v":""},"",{"$f":"IFERROR(VLOOKUP($A2227,'Lista de Precios_USD$_Euro€'!$E:$O,11,FALSE),\"\")","v":""}]
[null,null,null,{"$f":"IFERROR(VLOOKUP($A2228,'Lista de Precios_Bolívares_S'!$F:$Q,6,FALSE),\"\")","v":""},{"$f":"IFERROR(VLOOKUP($A2228,'Lista de Precios_Bolívares_S'!$F:$Q,12,FALSE),\"\")","v":""},"",{"$f":"IFERROR(VLOOKUP($A2228,'Lista de Precios_USD$_Euro€'!$E:$O,11,FALSE),\"\")","v":""}]
[null,null,null,{"$f":"IFERROR(VLOOKUP($A2229,'Lista de Precios_Bolívares_S'!$F:$Q,6,FALSE),\"\")","v":""},{"$f":"IFERROR(VLOOKUP($A2229,'Lista de Precios_Bolívares_S'!$F:$Q,12,FALSE),\"\")","v":""},"",{"$f":"IFERROR(VLOOKUP($A2229,'Lista de Precios_USD$_Euro€'!$E:$O,11,FALSE),\"\")","v":""}]
[null,null,null,{"$f":"IFERROR(VLOOKUP($A2230,'Lista de Precios_Bolívares_S'!$F:$Q,6,FALSE),\"\")","v":""},{"$f":"IFERROR(VLOOKUP($A2230,'Lista de Precios_Bolívares_S'!$F:$Q,12,FALSE),\"\")","v":""},"",{"$f":"IFERROR(VLOOKUP($A2230,'Lista de Precios_USD$_Euro€'!$E:$O,11,FALSE),\"\")","v":""}]
[null,null,null,{"$f":"IFERROR(VLOOKUP($A2231,'Lista de Precios_Bolívares_S'!$F:$Q,6,FALSE),\"\")","v":""},{"$f":"IFERROR(VLOOKUP($A2231,'Lista de Precios_Bolívares_S'!$F:$Q,12,FALSE),\"\")","v":""},"",{"$f":"IFERROR(VLOOKUP($A2231,'Lista de Precios_USD$_Euro€'!$E:$O,11,FALSE),\"\")","v":""}]
[null,null,null,{"$f":"IFERROR(VLOOKUP($A2232,'Lista de Precios_Bolívares_S'!$F:$Q,6,FALSE),\"\")","v":""},{"$f":"IFERROR(VLOOKUP($A2232,'Lista de Precios_Bolívares_S'!$F:$Q,12,FALSE),\"\")","v":""},"",{"$f":"IFERROR(VLOOKUP($A2232,'Lista de Precios_USD$_Euro€'!$E:$O,11,FALSE),\"\")","v":""}]
[null,null,null,{"$f":"IFERROR(VLOOKUP($A2233,'Lista de Precios_Bolívares_S'!$F:$Q,6,FALSE),\"\")","v":""},{"$f":"IFERROR(VLOOKUP($A2233,'Lista de Precios_Bolívares_S'!$F:$Q,12,FALSE),\"\")","v":""},"",{"$f":"IFERROR(VLOOKUP($A2233,'Lista de Precios_USD$_Euro€'!$E:$O,11,FALSE),\"\")","v":""}]
[null,null,null,{"$f":"IFERROR(VLOOKUP($A2234,'Lista de Precios_Bolívares_S'!$F:$Q,6,FALSE),\"\")","v":""},{"$f":"IFERROR(VLOOKUP($A2234,'Lista de Precios_Bolívares_S'!$F:$Q,12,FALSE),\"\")","v":""},"",{"$f":"IFERROR(VLOOKUP($A2234,'Lista de Precios_USD$_Euro€'!$E:$O,11,FALSE),\"\")","v":""}]
[null,null,null,{"$f":"IFERROR(VLOOKUP($A2235,'Lista de Precios_Bolívares_S'!$F:$Q,6,FALSE),\"\")","v":""},{"$f":"IFERROR(VLOOKUP($A2235,'Lista de Precios_Bolívares_S'!$F:$Q,12,FALSE),\"\")","v":""},"",{"$f":"IFERROR(VLOOKUP($A2235,'Lista de Precios_USD$_Euro€'!$E:$O,11,FALSE),\"\")","v":""}]
[null,null,null,{"$f":"IFERROR(VLOOKUP($A2236,'Lista de Precios_Bolívares_S'!$F:$Q,6,FALSE),\"\")","v":""},{"$f":"IFERROR(VLOOKUP($A2236,'Lista de Precios_Bolívares_S'!$F:$Q,12,FALSE),\"\")","v":""},"",{"$f":"IFERROR(VLOOKUP($A2236,'Lista de Precios_USD$_Euro€'!$E:$O,11,FALSE),\"\")","v":""}]
[null,null,null,{"$f":"IFERROR(VLOOKUP($A2237,'Lista de Precios_Bolívares_S'!$F:$Q,6,FALSE),\"\")","v":""},{"$f":"IFERROR(VLOOKUP($A2237,'Lista de Precios_Bolívares_S'!$F:$Q,12,FALSE),\"\")","v":""},"",{"$f":"IFERROR(VLOOKUP($A2237,'Lista de Precios_USD$_Euro€'!$E:$O,11,FALSE),\"\")","v":""}]
[null,null,null,{"$f":"IFERROR(VLOOKUP($A2238,'Lista de Precios_Bolívares_S'!$F:$Q,6,FALSE),\"\")","v":""},{"$f":"IFERROR(VLOOKUP($A2238,'Lista de Precios_Bolívares_S'!$F:$Q,12,FALSE),\"\")","v":""},"",{"$f":"IFERROR(VLOOKUP($A2238,'Lista de Precios_USD$_Euro€'!$E:$O,11,FALSE),\"\")","v":""}]
[null,null,null,{"$f":"IFERROR(VLOOKUP($A2239,'Lista de Precios_Bolívares_S'!$F:$Q,6,FALSE),\"\")","v":""},{"$f":"IFERROR(VLOOKUP($A2239,'Lista de Precios_Bolívares_S'!$F:$Q,12,FALSE),\"\")","v":""},"",{"$f":"IFERROR(VLOOKUP($A2239,'Lista de Precios_USD$_Euro€'!$E:$O,11,FALSE),\"\")","v":""}]
[null,null,null,{"$f":"IFERROR(VLOOKUP($A2240,'Lista de Precios_Bolívares_S'!$F:$Q,6,FALSE),\"\")","v":""},{"$f":"IFERROR(VLOOKUP($A2240,'Lista de Precios_Bolívares_S'!$F:$Q,12,FALSE),\"\")","v":""},"",{"$f":"IFERROR(VLOOKUP($A2240,'Lista de Precios_USD$_Euro€'!$E:$O,11,FALSE),\"\")","v":""}]
[null,null,null,{"$f":"IFERROR(VLOOKUP($A2241,'Lista de Precios_Bolívares_S'!$F:$Q,6,FALSE),\"\")","v":""},{"$f":"IFERROR(VLOOKUP($A2241,'Lista de Precios_Bolívares_S'!$F:$Q,12,FALSE),\"\")","v":""},"",{"$f":"IFERROR(VLOOKUP($A2241,'Lista de Precios_USD$_Euro€'!$E:$O,11,FALSE),\"\")","v":""}]
[null,null,null,{"$f":"IFERROR(VLOOKUP($A2242,'Lista de Precios_Bolívares_S'!$F:$Q,6,FALSE),\"\")","v":""},{"$f":"IFERROR(VLOOKUP($A2242,'Lista de Precios_Bolívares_S'!$F:$Q,12,FALSE),\"\")","v":""},"",{"$f":"IFERROR(VLOOKUP($A2242,'Lista de Precios_USD$_Euro€'!$E:$O,11,FALSE),\"\")","v":""}]
[null,null,null,{"$f":"IFERROR(VLOOKUP($A2243,'Lista de Precios_Bolívares_S'!$F:$Q,6,FALSE),\"\")","v":""},{"$f":"IFERROR(VLOOKUP($A2243,'Lista de Precios_Bolívares_S'!$F:$Q,12,FALSE),\"\")","v":""},"",{"$f":"IFERROR(VLOOKUP($A2243,'Lista de Precios_USD$_Euro€'!$E:$O,11,FALSE),\"\")","v":""}]
[null,null,null,{"$f":"IFERROR(VLOOKUP($A2244,'Lista de Precios_Bolívares_S'!$F:$Q,6,FALSE),\"\")","v":""},{"$f":"IFERROR(VLOOKUP($A2244,'Lista de Precios_Bolívares_S'!$F:$Q,12,FALSE),\"\")","v":""},"",{"$f":"IFERROR(VLOOKUP($A2244,'Lista de Precios_USD$_Euro€'!$E:$O,11,FALSE),\"\")","v":""}]
[null,null,null,{"$f":"IFERROR(VLOOKUP($A2245,'Lista de Precios_Bolívares_S'!$F:$Q,6,FALSE),\"\")","v":""},{"$f":"IFERROR(VLOOKUP($A2245,'Lista de Precios_Bolívares_S'!$F:$Q,12,FALSE),\"\")","v":""},"",{"$f":"IFERROR(VLOOKUP($A2245,'Lista de Precios_USD$_Euro€'!$E:$O,11,FALSE),\"\")","v":""}]
[null,null,null,{"$f":"IFERROR(VLOOKUP($A2246,'Lista de Precios_Bolívares_S'!$F:$Q,6,FALSE),\"\")","v":""},{"$f":"IFERROR(VLOOKUP($A2246,'Lista de Precios_Bolívares_S'!$F:$Q,12,FALSE),\"\")","v":""},"",{"$f":"IFERROR(VLOOKUP($A2246,'Lista de Precios_USD$_Euro€'!$E:$O,11,FALSE),\"\")","v":""}]
[null,null,null,{"$f":"IFERROR(VLOOKUP($A2247,'Lista de Precios_Bolívares_S'!$F:$Q,6,FALSE),\"\")","v":""},{"$f":"IFERROR(VLOOKUP($A2247,'Lista de Precios_Bolívares_S'!$F:$Q,12,FALSE),\"\")","v":""},"",{"$f":"IFERROR(VLOOKUP($A2247,'Lista de Precios_USD$_Euro€'!$E:$O,11,FALSE),\"\")","v":""}]
[null,null,null,{"$f":"IFERROR(VLOOKUP($A2248,'Lista de Precios_Bolívares_S'!$F:$Q,6,FALSE),\"\")","v":""},{"$f":"IFERROR(VLOOKUP($A2248,'Lista de Precios_Bolívares_S'!$F:$Q,12,FALSE),\"\")","v":""},"",{"$f":"IFERROR(VLOOKUP($A2248,'Lista de Precios_USD$_Euro€'!$E:$O,11,FALSE),\"\")","v":""}]
[null,null,null,{"$f":"IFERROR(VLOOKUP($A2249,'Lista de Precios_Bolívares_S'!$F:$Q,6,FALSE),\"\")","v":""},{"$f":"IFERROR(VLOOKUP($A2249,'Lista de Precios_Bolívares_S'!$F:$Q,12,FALSE),\"\")","v":""},"",{"$f":"IFERROR(VLOOKUP($A2249,'Lista de Precios_USD$_Euro€'!$E:$O,11,FALSE),\"\")","v":""}]
[null,null,null,{"$f":"IFERROR(VLOOKUP($A2250,'Lista de Precios_Bolívares_S'!$F:$Q,6,FALSE),\"\")","v":""},{"$f":"IFERROR(VLOOKUP($A2250,'Lista de Precios_Bolívares_S'!$F:$Q,12,FALSE),\"\")","v":""},"",{"$f":"IFERROR(VLOOKUP($A2250,'Lista de Precios_USD$_Euro€'!$E:$O,11,FALSE),\"\")","v":""}]
[null,null,null,{"$f":"IFERROR(VLOOKUP($A2251,'Lista de Precios_Bolívares_S'!$F:$Q,6,FALSE),\"\")","v":""},{"$f":"IFERROR(VLOOKUP($A2251,'Lista de Precios_Bolívares_S'!$F:$Q,12,FALSE),\"\")","v":""},"",{"$f":"IFERROR(VLOOKUP($A2251,'Lista de Precios_USD$_Euro€'!$E:$O,11,FALSE),\"\")","v":""}]
[null,null,null,{"$f":"IFERROR(VLOOKUP($A2252,'Lista de Precios_Bolívares_S'!$F:$Q,6,FALSE),\"\")","v":""},{"$f":"IFERROR(VLOOKUP($A2252,'Lista de Precios_Bolívares_S'!$F:$Q,12,FALSE),\"\")","v":""},"",{"$f":"IFERROR(VLOOKUP($A2252,'Lista de Precios_USD$_Euro€'!$E:$O,11,FALSE),\"\")","v":""}]
[null,null,null,{"$f":"IFERROR(VLOOKUP($A2253,'Lista de Precios_Bolívares_S'!$F:$Q,6,FALSE),\"\")","v":""},{"$f":"IFERROR(VLOOKUP($A2253,'Lista de Precios_Bolívares_S'!$F:$Q,12,FALSE),\"\")","v":""},"",{"$f":"IFERROR(VLOOKUP($A2253,'Lista de Precios_USD$_Euro€'!$E:$O,11,FALSE),\"\")","v":""}]
[null,null,null,{"$f":"IFERROR(VLOOKUP($A2254,'Lista de Precios_Bolívares_S'!$F:$Q,6,FALSE),\"\")","v":""},{"$f":"IFERROR(VLOOKUP($A2254,'Lista de Precios_Bolívares_S'!$F:$Q,12,FALSE),\"\")","v":""},"",{"$f":"IFERROR(VLOOKUP($A2254,'Lista de Precios_USD$_Euro€'!$E:$O,11,FALSE),\"\")","v":""}]
[null,null,null,{"$f":"IFERROR(VLOOKUP($A2255,'Lista de Precios_Bolívares_S'!$F:$Q,6,FALSE),\"\")","v":""},{"$f":"IFERROR(VLOOKUP($A2255,'Lista de Precios_Bolívares_S'!$F:$Q,12,FALSE),\"\")","v":""},"",{"$f":"IFERROR(VLOOKUP($A2255,'Lista de Precios_USD$_Euro€'!$E:$O,11,FALSE),\"\")","v":""}]
[null,null,null,{"$f":"IFERROR(VLOOKUP($A2256,'Lista de Precios_Bolívares_S'!$F:$Q,6,FALSE),\"\")","v":""},{"$f":"IFERROR(VLOOKUP($A2256,'Lista de Precios_Bolívares_S'!$F:$Q,12,FALSE),\"\")","v":""},"",{"$f":"IFERROR(VLOOKUP($A2256,'Lista de Precios_USD$_Euro€'!$E:$O,11,FALSE),\"\")","v":""}]
[null,null,null,{"$f":"IFERROR(VLOOKUP($A2257,'Lista de Precios_Bolívares_S'!$F:$Q,6,FALSE),\"\")","v":""},{"$f":"IFERROR(VLOOKUP($A2257,'Lista de Precios_Bolívares_S'!$F:$Q,12,FALSE),\"\")","v":""},"",{"$f":"IFERROR(VLOOKUP($A2257,'Lista de Precios_USD$_Euro€'!$E:$O,11,FALSE),\"\")","v":""}]
[null,null,null,{"$f":"IFERROR(VLOOKUP($A2258,'Lista de Precios_Bolívares_S'!$F:$Q,6,FALSE),\"\")","v":""},{"$f":"IFERROR(VLOOKUP($A2258,'Lista de Precios_Bolívares_S'!$F:$Q,12,FALSE),\"\")","v":""},"",{"$f":"IFERROR(VLOOKUP($A2258,'Lista de Precios_USD$_Euro€'!$E:$O,11,FALSE),\"\")","v":""}]
[null,null,null,{"$f":"IFERROR(VLOOKUP($A2259,'Lista de Precios_Bolívares_S'!$F:$Q,6,FALSE),\"\")","v":""},{"$f":"IFERROR(VLOOKUP($A2259,'Lista de Precios_Bolívares_S'!$F:$Q,12,FALSE),\"\")","v":""},"",{"$f":"IFERROR(VLOOKUP($A2259,'Lista de Precios_USD$_Euro€'!$E:$O,11,FALSE),\"\")","v":""}]
[null,null,null,{"$f":"IFERROR(VLOOKUP($A2260,'Lista de Precios_Bolívares_S'!$F:$Q,6,FALSE),\"\")","v":""},{"$f":"IFERROR(VLOOKUP($A2260,'Lista de Precios_Bolívares_S'!$F:$Q,12,FALSE),\"\")","v":""},"",{"$f":"IFERROR(VLOOKUP($A2260,'Lista de Precios_USD$_Euro€'!$E:$O,11,FALSE),\"\")","v":""}]
[null,null,null,{"$f":"IFERROR(VLOOKUP($A2261,'Lista de Precios_Bolívares_S'!$F:$Q,6,FALSE),\"\")","v":""},{"$f":"IFERROR(VLOOKUP($A2261,'Lista de Precios_Bolívares_S'!$F:$Q,12,FALSE),\"\")","v":""},"",{"$f":"IFERROR(VLOOKUP($A2261,'Lista de Precios_USD$_Euro€'!$E:$O,11,FALSE),\"\")","v":""}]
[null,null,null,{"$f":"IFERROR(VLOOKUP($A2262,'Lista de Precios_Bolívares_S'!$F:$Q,6,FALSE),\"\")","v":""},{"$f":"IFERROR(VLOOKUP($A2262,'Lista de Precios_Bolívares_S'!$F:$Q,12,FALSE),\"\")","v":""},"",{"$f":"IFERROR(VLOOKUP($A2262,'Lista de Precios_USD$_Euro€'!$E:$O,11,FALSE),\"\")","v":""}]
[null,null,null,{"$f":"IFERROR(VLOOKUP($A2263,'Lista de Precios_Bolívares_S'!$F:$Q,6,FALSE),\"\")","v":""},{"$f":"IFERROR(VLOOKUP($A2263,'Lista de Precios_Bolívares_S'!$F:$Q,12,FALSE),\"\")","v":""},"",{"$f":"IFERROR(VLOOKUP($A2263,'Lista de Precios_USD$_Euro€'!$E:$O,11,FALSE),\"\")","v":""}]
[null,null,null,{"$f":"IFERROR(VLOOKUP($A2264,'Lista de Precios_Bolívares_S'!$F:$Q,6,FALSE),\"\")","v":""},{"$f":"IFERROR(VLOOKUP($A2264,'Lista de Precios_Bolívares_S'!$F:$Q,12,FALSE),\"\")","v":""},"",{"$f":"IFERROR(VLOOKUP($A2264,'Lista de Precios_USD$_Euro€'!$E:$O,11,FALSE),\"\")","v":""}]
[null,null,null,{"$f":"IFERROR(VLOOKUP($A2265,'Lista de Precios_Bolívares_S'!$F:$Q,6,FALSE),\"\")","v":""},{"$f":"IFERROR(VLOOKUP($A2265,'Lista de Precios_Bolívares_S'!$F:$Q,12,FALSE),\"\")","v":""},{"$f":"IFERROR(IF(ROUND($C2265,2)=ROUND($D2240,2),ROUND($E2240,2),ROUND($C2265,2)),\"\")","v":""},{"$f":"IFERROR(VLOOKUP($A2265,'Lista de Precios_USD$_Euro€'!$E:$O,11,FALSE),\"\")","v":""}]
[null,null,null,{"$f":"IFERROR(VLOOKUP($A2266,'Lista de Precios_Bolívares_S'!$F:$Q,6,FALSE),\"\")","v":""},{"$f":"IFERROR(VLOOKUP($A2266,'Lista de Precios_Bolívares_S'!$F:$Q,12,FALSE),\"\")","v":""},"",{"$f":"IFERROR(VLOOKUP($A2266,'Lista de Precios_USD$_Euro€'!$E:$O,11,FALSE),\"\")","v":""}]
[null,null,null,{"$f":"IFERROR(VLOOKUP($A2267,'Lista de Precios_Bolívares_S'!$F:$Q,6,FALSE),\"\")","v":""},{"$f":"IFERROR(VLOOKUP($A2267,'Lista de Precios_Bolívares_S'!$F:$Q,12,FALSE),\"\")","v":""},"",{"$f":"IFERROR(VLOOKUP($A2267,'Lista de Precios_USD$_Euro€'!$E:$O,11,FALSE),\"\")","v":""}]
[null,null,null,{"$f":"IFERROR(VLOOKUP($A2268,'Lista de Precios_Bolívares_S'!$F:$Q,6,FALSE),\"\")","v":""},{"$f":"IFERROR(VLOOKUP($A2268,'Lista de Precios_Bolívares_S'!$F:$Q,12,FALSE),\"\")","v":""},"",{"$f":"IFERROR(VLOOKUP($A2268,'Lista de Precios_USD$_Euro€'!$E:$O,11,FALSE),\"\")","v":""}]
[null,null,null,{"$f":"IFERROR(VLOOKUP($A2269,'Lista de Precios_Bolívares_S'!$F:$Q,6,FALSE),\"\")","v":""},{"$f":"IFERROR(VLOOKUP($A2269,'Lista de Precios_Bolívares_S'!$F:$Q,12,FALSE),\"\")","v":""},"",{"$f":"IFERROR(VLOOKUP($A2269,'Lista de Precios_USD$_Euro€'!$E:$O,11,FALSE),\"\")","v":""}]
[null,null,null,{"$f":"IFERROR(VLOOKUP($A2270,'Lista de Precios_Bolívares_S'!$F:$Q,6,FALSE),\"\")","v":""},{"$f":"IFERROR(VLOOKUP($A2270,'Lista de Precios_Bolívares_S'!$F:$Q,12,FALSE),\"\")","v":""},"",{"$f":"IFERROR(VLOOKUP($A2270,'Lista de Precios_USD$_Euro€'!$E:$O,11,FALSE),\"\")","v":""}]
[null,null,null,{"$f":"IFERROR(VLOOKUP($A2271,'Lista de Precios_Bolívares_S'!$F:$Q,6,FALSE),\"\")","v":""},{"$f":"IFERROR(VLOOKUP($A2271,'Lista de Precios_Bolívares_S'!$F:$Q,12,FALSE),\"\")","v":""},"",{"$f":"IFERROR(VLOOKUP($A2271,'Lista de Precios_USD$_Euro€'!$E:$O,11,FALSE),\"\")","v":""}]
[null,null,null,{"$f":"IFERROR(VLOOKUP($A2272,'Lista de Precios_Bolívares_S'!$F:$Q,6,FALSE),\"\")","v":""},{"$f":"IFERROR(VLOOKUP($A2272,'Lista de Precios_Bolívares_S'!$F:$Q,12,FALSE),\"\")","v":""},"",{"$f":"IFERROR(VLOOKUP($A2272,'Lista de Precios_USD$_Euro€'!$E:$O,11,FALSE),\"\")","v":""}]
[null,null,null,{"$f":"IFERROR(VLOOKUP($A2273,'Lista de Precios_Bolívares_S'!$F:$Q,6,FALSE),\"\")","v":""},{"$f":"IFERROR(VLOOKUP($A2273,'Lista de Precios_Bolívares_S'!$F:$Q,12,FALSE),\"\")","v":""},"",{"$f":"IFERROR(VLOOKUP($A2273,'Lista de Precios_USD$_Euro€'!$E:$O,11,FALSE),\"\")","v":""}]
[null,null,null,{"$f":"IFERROR(VLOOKUP($A2274,'Lista de Precios_Bolívares_S'!$F:$Q,6,FALSE),\"\")","v":""},{"$f":"IFERROR(VLOOKUP($A2274,'Lista de Precios_Bolívares_S'!$F:$Q,12,FALSE),\"\")","v":""},"",{"$f":"IFERROR(VLOOKUP($A2274,'Lista de Precios_USD$_Euro€'!$E:$O,11,FALSE),\"\")","v":""}]
[null,null,null,{"$f":"IFERROR(VLOOKUP($A2275,'Lista de Precios_Bolívares_S'!$F:$Q,6,FALSE),\"\")","v":""},{"$f":"IFERROR(VLOOKUP($A2275,'Lista de Precios_Bolívares_S'!$F:$Q,12,FALSE),\"\")","v":""},"",{"$f":"IFERROR(VLOOKUP($A2275,'Lista de Precios_USD$_Euro€'!$E:$O,11,FALSE),\"\")","v":""}]
[null,null,null,{"$f":"IFERROR(VLOOKUP($A2276,'Lista de Precios_Bolívares_S'!$F:$Q,6,FALSE),\"\")","v":""},{"$f":"IFERROR(VLOOKUP($A2276,'Lista de Precios_Bolívares_S'!$F:$Q,12,FALSE),\"\")","v":""},"",{"$f":"IFERROR(VLOOKUP($A2276,'Lista de Precios_USD$_Euro€'!$E:$O,11,FALSE),\"\")","v":""}]
[null,null,null,{"$f":"IFERROR(VLOOKUP($A2277,'Lista de Precios_Bolívares_S'!$F:$Q,6,FALSE),\"\")","v":""},{"$f":"IFERROR(VLOOKUP($A2277,'Lista de Precios_Bolívares_S'!$F:$Q,12,FALSE),\"\")","v":""},"",{"$f":"IFERROR(VLOOKUP($A2277,'Lista de Precios_USD$_Euro€'!$E:$O,11,FALSE),\"\")","v":""}]
[null,null,null,{"$f":"IFERROR(VLOOKUP($A2278,'Lista de Precios_Bolívares_S'!$F:$Q,6,FALSE),\"\")","v":""},{"$f":"IFERROR(VLOOKUP($A2278,'Lista de Precios_Bolívares_S'!$F:$Q,12,FALSE),\"\")","v":""},"",{"$f":"IFERROR(VLOOKUP($A2278,'Lista de Precios_USD$_Euro€'!$E:$O,11,FALSE),\"\")","v":""}]
[null,null,null,{"$f":"IFERROR(VLOOKUP($A2279,'Lista de Precios_Bolívares_S'!$F:$Q,6,FALSE),\"\")","v":""},{"$f":"IFERROR(VLOOKUP($A2279,'Lista de Precios_Bolívares_S'!$F:$Q,12,FALSE),\"\")","v":""},"",{"$f":"IFERROR(VLOOKUP($A2279,'Lista de Precios_USD$_Euro€'!$E:$O,11,FALSE),\"\")","v":""}]
[null,null,null,{"$f":"IFERROR(VLOOKUP($A2280,'Lista de Precios_Bolívares_S'!$F:$Q,6,FALSE),\"\")","v":""},{"$f":"IFERROR(VLOOKUP($A2280,'Lista de Precios_Bolívares_S'!$F:$Q,12,FALSE),\"\")","v":""},"",{"$f":"IFERROR(VLOOKUP($A2280,'Lista de Precios_USD$_Euro€'!$E:$O,11,FALSE),\"\")","v":""}]
[null,null,null,{"$f":"IFERROR(VLOOKUP($A2281,'Lista de Precios_Bolívares_S'!$F:$Q,6,FALSE),\"\")","v":""},{"$f":"IFERROR(VLOOKUP($A2281,'Lista de Precios_Bolívares_S'!$F:$Q,12,FALSE),\"\")","v":""},"",{"$f":"IFERROR(VLOOKUP($A2281,'Lista de Precios_USD$_Euro€'!$E:$O,11,FALSE),\"\")","v":""}]
[null,null,null,{"$f":"IFERROR(VLOOKUP($A2282,'Lista de Precios_Bolívares_S'!$F:$Q,6,FALSE),\"\")","v":""},{"$f":"IFERROR(VLOOKUP($A2282,'Lista de Precios_Bolívares_S'!$F:$Q,12,FALSE),\"\")","v":""},"",{"$f":"IFERROR(VLOOKUP($A2282,'Lista de Precios_USD$_Euro€'!$E:$O,11,FALSE),\"\")","v":""}]
[null,null,null,{"$f":"IFERROR(VLOOKUP($A2283,'Lista de Precios_Bolívares_S'!$F:$Q,6,FALSE),\"\")","v":""},{"$f":"IFERROR(VLOOKUP($A2283,'Lista de Precios_Bolívares_S'!$F:$Q,12,FALSE),\"\")","v":""},"",{"$f":"IFERROR(VLOOKUP($A2283,'Lista de Precios_USD$_Euro€'!$E:$O,11,FALSE),\"\")","v":""}]
[null,null,null,{"$f":"IFERROR(VLOOKUP($A2284,'Lista de Precios_Bolívares_S'!$F:$Q,6,FALSE),\"\")","v":""},{"$f":"IFERROR(VLOOKUP($A2284,'Lista de Precios_Bolívares_S'!$F:$Q,12,FALSE),\"\")","v":""},"",{"$f":"IFERROR(VLOOKUP($A2284,'Lista de Precios_USD$_Euro€'!$E:$O,11,FALSE),\"\")","v":""}]
[null,null,null,{"$f":"IFERROR(VLOOKUP($A2285,'Lista de Precios_Bolívares_S'!$F:$Q,6,FALSE),\"\")","v":""},{"$f":"IFERROR(VLOOKUP($A2285,'Lista de Precios_Bolívares_S'!$F:$Q,12,FALSE),\"\")","v":""},"",{"$f":"IFERROR(VLOOKUP($A2285,'Lista de Precios_USD$_Euro€'!$E:$O,11,FALSE),\"\")","v":""}]
[null,null,null,{"$f":"IFERROR(VLOOKUP($A2286,'Lista de Precios_Bolívares_S'!$F:$Q,6,FALSE),\"\")","v":""},{"$f":"IFERROR(VLOOKUP($A2286,'Lista de Precios_Bolívares_S'!$F:$Q,12,FALSE),\"\")","v":""},"",{"$f":"IFERROR(VLOOKUP($A2286,'Lista de Precios_USD$_Euro€'!$E:$O,11,FALSE),\"\")","v":""}]
[null,null,null,{"$f":"IFERROR(VLOOKUP($A2287,'Lista de Precios_Bolívares_S'!$F:$Q,6,FALSE),\"\")","v":""},{"$f":"IFERROR(VLOOKUP($A2287,'Lista de Precios_Bolívares_S'!$F:$Q,12,FALSE),\"\")","v":""},"",{"$f":"IFERROR(VLOOKUP($A2287,'Lista de Precios_USD$_Euro€'!$E:$O,11,FALSE),\"\")","v":""}]
[null,null,null,{"$f":"IFERROR(VLOOKUP($A2288,'Lista de Precios_Bolívares_S'!$F:$Q,6,FALSE),\"\")","v":""},{"$f":"IFERROR(VLOOKUP($A2288,'Lista de Precios_Bolívares_S'!$F:$Q,12,FALSE),\"\")","v":""},"",{"$f":"IFERROR(VLOOKUP($A2288,'Lista de Precios_USD$_Euro€'!$E:$O,11,FALSE),\"\")","v":""}]
[null,null,null,{"$f":"IFERROR(VLOOKUP($A2289,'Lista de Precios_Bolívares_S'!$F:$Q,6,FALSE),\"\")","v":""},{"$f":"IFERROR(VLOOKUP($A2289,'Lista de Precios_Bolívares_S'!$F:$Q,12,FALSE),\"\")","v":""},"",{"$f":"IFERROR(VLOOKUP($A2289,'Lista de Precios_USD$_Euro€'!$E:$O,11,FALSE),\"\")","v":""}]
[null,null,null,{"$f":"IFERROR(VLOOKUP($A2290,'Lista de Precios_Bolívares_S'!$F:$Q,6,FALSE),\"\")","v":""},{"$f":"IFERROR(VLOOKUP($A2290,'Lista de Precios_Bolívares_S'!$F:$Q,12,FALSE),\"\")","v":""},"",{"$f":"IFERROR(VLOOKUP($A2290,'Lista de Precios_USD$_Euro€'!$E:$O,11,FALSE),\"\")","v":""}]
[null,null,null,{"$f":"IFERROR(VLOOKUP($A2291,'Lista de Precios_Bolívares_S'!$F:$Q,6,FALSE),\"\")","v":""},{"$f":"IFERROR(VLOOKUP($A2291,'Lista de Precios_Bolívares_S'!$F:$Q,12,FALSE),\"\")","v":""},"",{"$f":"IFERROR(VLOOKUP($A2291,'Lista de Precios_USD$_Euro€'!$E:$O,11,FALSE),\"\")","v":""}]
[null,null,null,{"$f":"IFERROR(VLOOKUP($A2292,'Lista de Precios_Bolívares_S'!$F:$Q,6,FALSE),\"\")","v":""},{"$f":"IFERROR(VLOOKUP($A2292,'Lista de Precios_Bolívares_S'!$F:$Q,12,FALSE),\"\")","v":""},"",{"$f":"IFERROR(VLOOKUP($A2292,'Lista de Precios_USD$_Euro€'!$E:$O,11,FALSE),\"\")","v":""}]
[null,null,null,{"$f":"IFERROR(VLOOKUP($A2293,'Lista de Precios_Bolívares_S'!$F:$Q,6,FALSE),\"\")","v":""},{"$f":"IFERROR(VLOOKUP($A2293,'Lista de Precios_Bolívares_S'!$F:$Q,12,FALSE),\"\")","v":""},"",{"$f":"IFERROR(VLOOKUP($A2293,'Lista de Precios_USD$_Euro€'!$E:$O,11,FALSE),\"\")","v":""}]
[null,null,null,{"$f":"IFERROR(VLOOKUP($A2294,'Lista de Precios_Bolívares_S'!$F:$Q,6,FALSE),\"\")","v":""},{"$f":"IFERROR(VLOOKUP($A2294,'Lista de Precios_Bolívares_S'!$F:$Q,12,FALSE),\"\")","v":""},"",{"$f":"IFERROR(VLOOKUP($A2294,'Lista de Precios_USD$_Euro€'!$E:$O,11,FALSE),\"\")","v":""}]
[null,null,null,{"$f":"IFERROR(VLOOKUP($A2295,'Lista de Precios_Bolívares_S'!$F:$Q,6,FALSE),\"\")","v":""},{"$f":"IFERROR(VLOOKUP($A2295,'Lista de Precios_Bolívares_S'!$F:$Q,12,FALSE),\"\")","v":""},"",{"$f":"IFERROR(VLOOKUP($A2295,'Lista de Precios_USD$_Euro€'!$E:$O,11,FALSE),\"\")","v":""}]
[null,null,null,{"$f":"IFERROR(VLOOKUP($A2296,'Lista de Precios_Bolívares_S'!$F:$Q,6,FALSE),\"\")","v":""},{"$f":"IFERROR(VLOOKUP($A2296,'Lista de Precios_Bolívares_S'!$F:$Q,12,FALSE),\"\")","v":""},"",{"$f":"IFERROR(VLOOKUP($A2296,'Lista de Precios_USD$_Euro€'!$E:$O,11,FALSE),\"\")","v":""}]
[null,null,null,{"$f":"IFERROR(VLOOKUP($A2297,'Lista de Precios_Bolívares_S'!$F:$Q,6,FALSE),\"\")","v":""},{"$f":"IFERROR(VLOOKUP($A2297,'Lista de Precios_Bolívares_S'!$F:$Q,12,FALSE),\"\")","v":""},"",{"$f":"IFERROR(VLOOKUP($A2297,'Lista de Precios_USD$_Euro€'!$E:$O,11,FALSE),\"\")","v":""}]
[null,null,null,{"$f":"IFERROR(VLOOKUP($A2298,'Lista de Precios_Bolívares_S'!$F:$Q,6,FALSE),\"\")","v":""},{"$f":"IFERROR(VLOOKUP($A2298,'Lista de Precios_Bolívares_S'!$F:$Q,12,FALSE),\"\")","v":""},"",{"$f":"IFERROR(VLOOKUP($A2298,'Lista de Precios_USD$_Euro€'!$E:$O,11,FALSE),\"\")","v":""}]
[null,null,null,{"$f":"IFERROR(VLOOKUP($A2299,'Lista de Precios_Bolívares_S'!$F:$Q,6,FALSE),\"\")","v":""},{"$f":"IFERROR(VLOOKUP($A2299,'Lista de Precios_Bolívares_S'!$F:$Q,12,FALSE),\"\")","v":""},"",{"$f":"IFERROR(VLOOKUP($A2299,'Lista de Precios_USD$_Euro€'!$E:$O,11,FALSE),\"\")","v":""}]
[null,null,null,{"$f":"IFERROR(VLOOKUP($A2300,'Lista de Precios_Bolívares_S'!$F:$Q,6,FALSE),\"\")","v":""},{"$f":"IFERROR(VLOOKUP($A2300,'Lista de Precios_Bolívares_S'!$F:$Q,12,FALSE),\"\")","v":""},"",{"$f":"IFERROR(VLOOKUP($A2300,'Lista de Precios_USD$_Euro€'!$E:$O,11,FALSE),\"\")","v":""}]
[null,null,null,{"$f":"IFERROR(VLOOKUP($A2301,'Lista de Precios_Bolívares_S'!$F:$Q,6,FALSE),\"\")","v":""},{"$f":"IFERROR(VLOOKUP($A2301,'Lista de Precios_Bolívares_S'!$F:$Q,12,FALSE),\"\")","v":""},"",{"$f":"IFERROR(VLOOKUP($A2301,'Lista de Precios_USD$_Euro€'!$E:$O,11,FALSE),\"\")","v":""}]
[null,null,null,{"$f":"IFERROR(VLOOKUP($A2302,'Lista de Precios_Bolívares_S'!$F:$Q,6,FALSE),\"\")","v":""},{"$f":"IFERROR(VLOOKUP($A2302,'Lista de Precios_Bolívares_S'!$F:$Q,12,FALSE),\"\")","v":""},"",{"$f":"IFERROR(VLOOKUP($A2302,'Lista de Precios_USD$_Euro€'!$E:$O,11,FALSE),\"\")","v":""}]
[null,null,null,{"$f":"IFERROR(VLOOKUP($A2303,'Lista de Precios_Bolívares_S'!$F:$Q,6,FALSE),\"\")","v":""},{"$f":"IFERROR(VLOOKUP($A2303,'Lista de Precios_Bolívares_S'!$F:$Q,12,FALSE),\"\")","v":""},"",{"$f":"IFERROR(VLOOKUP($A2303,'Lista de Precios_USD$_Euro€'!$E:$O,11,FALSE),\"\")","v":""}]
[null,null,null,{"$f":"IFERROR(VLOOKUP($A2304,'Lista de Precios_Bolívares_S'!$F:$Q,6,FALSE),\"\")","v":""},{"$f":"IFERROR(VLOOKUP($A2304,'Lista de Precios_Bolívares_S'!$F:$Q,12,FALSE),\"\")","v":""},"",{"$f":"IFERROR(VLOOKUP($A2304,'Lista de Precios_USD$_Euro€'!$E:$O,11,FALSE),\"\")","v":""}]
[null,null,null,{"$f":"IFERROR(VLOOKUP($A2305,'Lista de Precios_Bolívares_S'!$F:$Q,6,FALSE),\"\")","v":""},{"$f":"IFERROR(VLOOKUP($A2305,'Lista de Precios_Bolívares_S'!$F:$Q,12,FALSE),\"\")","v":""},"",{"$f":"IFERROR(VLOOKUP($A2305,'Lista de Precios_USD$_Euro€'!$E:$O,11,FALSE),\"\")","v":""}]
[null,null,null,{"$f":"IFERROR(VLOOKUP($A2306,'Lista de Precios_Bolívares_S'!$F:$Q,6,FALSE),\"\")","v":""},{"$f":"IFERROR(VLOOKUP($A2306,'Lista de Precios_Bolívares_S'!$F:$Q,12,FALSE),\"\")","v":""},"",{"$f":"IFERROR(VLOOKUP($A2306,'Lista de Precios_USD$_Euro€'!$E:$O,11,FALSE),\"\")","v":""}]
[null,null,null,{"$f":"IFERROR(VLOOKUP($A2307,'Lista de Precios_Bolívares_S'!$F:$Q,6,FALSE),\"\")","v":""},{"$f":"IFERROR(VLOOKUP($A2307,'Lista de Precios_Bolívares_S'!$F:$Q,12,FALSE),\"\")","v":""},"",{"$f":"IFERROR(VLOOKUP($A2307,'Lista de Precios_USD$_Euro€'!$E:$O,11,FALSE),\"\")","v":""}]
[null,null,null,{"$f":"IFERROR(VLOOKUP($A2308,'Lista de Precios_Bolívares_S'!$F:$Q,6,FALSE),\"\")","v":""},{"$f":"IFERROR(VLOOKUP($A2308,'Lista de Precios_Bolívares_S'!$F:$Q,12,FALSE),\"\")","v":""},"",{"$f":"IFERROR(VLOOKUP($A2308,'Lista de Precios_USD$_Euro€'!$E:$O,11,FALSE),\"\")","v":""}]
[null,null,null,{"$f":"IFERROR(VLOOKUP($A2309,'Lista de Precios_Bolívares_S'!$F:$Q,6,FALSE),\"\")","v":""},{"$f":"IFERROR(VLOOKUP($A2309,'Lista de Precios_Bolívares_S'!$F:$Q,12,FALSE),\"\")","v":""},"",{"$f":"IFERROR(VLOOKUP($A2309,'Lista de Precios_USD$_Euro€'!$E:$O,11,FALSE),\"\")","v":""}]
[null,null,null,{"$f":"IFERROR(VLOOKUP($A2310,'Lista de Precios_Bolívares_S'!$F:$Q,6,FALSE),\"\")","v":""},{"$f":"IFERROR(VLOOKUP($A2310,'Lista de Precios_Bolívares_S'!$F:$Q,12,FALSE),\"\")","v":""},"",{"$f":"IFERROR(VLOOKUP($A2310,'Lista de Precios_USD$_Euro€'!$E:$O,11,FALSE),\"\")","v":""}]
[null,null,null,{"$f":"IFERROR(VLOOKUP($A2311,'Lista de Precios_Bolívares_S'!$F:$Q,6,FALSE),\"\")","v":""},{"$f":"IFERROR(VLOOKUP($A2311,'Lista de Precios_Bolívares_S'!$F:$Q,12,FALSE),\"\")","v":""},"",{"$f":"IFERROR(VLOOKUP($A2311,'Lista de Precios_USD$_Euro€'!$E:$O,11,FALSE),\"\")","v":""}]
[null,null,null,{"$f":"IFERROR(VLOOKUP($A2312,'Lista de Precios_Bolívares_S'!$F:$Q,6,FALSE),\"\")","v":""},{"$f":"IFERROR(VLOOKUP($A2312,'Lista de Precios_Bolívares_S'!$F:$Q,12,FALSE),\"\")","v":""},"",{"$f":"IFERROR(VLOOKUP($A2312,'Lista de Precios_USD$_Euro€'!$E:$O,11,FALSE),\"\")","v":""}]
[null,null,null,{"$f":"IFERROR(VLOOKUP($A2313,'Lista de Precios_Bolívares_S'!$F:$Q,6,FALSE),\"\")","v":""},{"$f":"IFERROR(VLOOKUP($A2313,'Lista de Precios_Bolívares_S'!$F:$Q,12,FALSE),\"\")","v":""},"",{"$f":"IFERROR(VLOOKUP($A2313,'Lista de Precios_USD$_Euro€'!$E:$O,11,FALSE),\"\")","v":""}]
[null,null,null,{"$f":"IFERROR(VLOOKUP($A2314,'Lista de Precios_Bolívares_S'!$F:$Q,6,FALSE),\"\")","v":""},{"$f":"IFERROR(VLOOKUP($A2314,'Lista de Precios_Bolívares_S'!$F:$Q,12,FALSE),\"\")","v":""},"",{"$f":"IFERROR(VLOOKUP($A2314,'Lista de Precios_USD$_Euro€'!$E:$O,11,FALSE),\"\")","v":""}]
[null,null,null,{"$f":"IFERROR(VLOOKUP($A2315,'Lista de Precios_Bolívares_S'!$F:$Q,6,FALSE),\"\")","v":""},{"$f":"IFERROR(VLOOKUP($A2315,'Lista de Precios_Bolívares_S'!$F:$Q,12,FALSE),\"\")","v":""},"",{"$f":"IFERROR(VLOOKUP($A2315,'Lista de Precios_USD$_Euro€'!$E:$O,11,FALSE),\"\")","v":""}]
[null,null,null,{"$f":"IFERROR(VLOOKUP($A2316,'Lista de Precios_Bolívares_S'!$F:$Q,6,FALSE),\"\")","v":""},{"$f":"IFERROR(VLOOKUP($A2316,'Lista de Precios_Bolívares_S'!$F:$Q,12,FALSE),\"\")","v":""},"",{"$f":"IFERROR(VLOOKUP($A2316,'Lista de Precios_USD$_Euro€'!$E:$O,11,FALSE),\"\")","v":""}]
[null,null,null,{"$f":"IFERROR(VLOOKUP($A2317,'Lista de Precios_Bolívares_S'!$F:$Q,6,FALSE),\"\")","v":""},{"$f":"IFERROR(VLOOKUP($A2317,'Lista de Precios_Bolívares_S'!$F:$Q,12,FALSE),\"\")","v":""},"",{"$f":"IFERROR(VLOOKUP($A2317,'Lista de Precios_USD$_Euro€'!$E:$O,11,FALSE),\"\")","v":""}]
[null,null,null,{"$f":"IFERROR(VLOOKUP($A2318,'Lista de Precios_Bolívares_S'!$F:$Q,6,FALSE),\"\")","v":""},{"$f":"IFERROR(VLOOKUP($A2318,'Lista de Precios_Bolívares_S'!$F:$Q,12,FALSE),\"\")","v":""},"",{"$f":"IFERROR(VLOOKUP($A2318,'Lista de Precios_USD$_Euro€'!$E:$O,11,FALSE),\"\")","v":""}]
[null,null,null,{"$f":"IFERROR(VLOOKUP($A2319,'Lista de Precios_Bolívares_S'!$F:$Q,6,FALSE),\"\")","v":""},{"$f":"IFERROR(VLOOKUP($A2319,'Lista de Precios_Bolívares_S'!$F:$Q,12,FALSE),\"\")","v":""},"",{"$f":"IFERROR(VLOOKUP($A2319,'Lista de Precios_USD$_Euro€'!$E:$O,11,FALSE),\"\")","v":""}]
[null,null,null,{"$f":"IFERROR(VLOOKUP($A2320,'Lista de Precios_Bolívares_S'!$F:$Q,6,FALSE),\"\")","v":""},{"$f":"IFERROR(VLOOKUP($A2320,'Lista de Precios_Bolívares_S'!$F:$Q,12,FALSE),\"\")","v":""},"",{"$f":"IFERROR(VLOOKUP($A2320,'Lista de Precios_USD$_Euro€'!$E:$O,11,FALSE),\"\")","v":""}]
[null,null,null,{"$f":"IFERROR(VLOOKUP($A2321,'Lista de Precios_Bolívares_S'!$F:$Q,6,FALSE),\"\")","v":""},{"$f":"IFERROR(VLOOKUP($A2321,'Lista de Precios_Bolívares_S'!$F:$Q,12,FALSE),\"\")","v":""},"",{"$f":"IFERROR(VLOOKUP($A2321,'Lista de Precios_USD$_Euro€'!$E:$O,11,FALSE),\"\")","v":""}]
[null,null,null,{"$f":"IFERROR(VLOOKUP($A2322,'Lista de Precios_Bolívares_S'!$F:$Q,6,FALSE),\"\")","v":""},{"$f":"IFERROR(VLOOKUP($A2322,'Lista de Precios_Bolívares_S'!$F:$Q,12,FALSE),\"\")","v":""},"",{"$f":"IFERROR(VLOOKUP($A2322,'Lista de Precios_USD$_Euro€'!$E:$O,11,FALSE),\"\")","v":""}]
[null,null,null,{"$f":"IFERROR(VLOOKUP($A2323,'Lista de Precios_Bolívares_S'!$F:$Q,6,FALSE),\"\")","v":""},{"$f":"IFERROR(VLOOKUP($A2323,'Lista de Precios_Bolívares_S'!$F:$Q,12,FALSE),\"\")","v":""},"",{"$f":"IFERROR(VLOOKUP($A2323,'Lista de Precios_USD$_Euro€'!$E:$O,11,FALSE),\"\")","v":""}]
[null,null,null,{"$f":"IFERROR(VLOOKUP($A2324,'Lista de Precios_Bolívares_S'!$F:$Q,6,FALSE),\"\")","v":""},{"$f":"IFERROR(VLOOKUP($A2324,'Lista de Precios_Bolívares_S'!$F:$Q,12,FALSE),\"\")","v":""},"",{"$f":"IFERROR(VLOOKUP($A2324,'Lista de Precios_USD$_Euro€'!$E:$O,11,FALSE),\"\")","v":""}]
[null,null,null,{"$f":"IFERROR(VLOOKUP($A2325,'Lista de Precios_Bolívares_S'!$F:$Q,6,FALSE),\"\")","v":""},{"$f":"IFERROR(VLOOKUP($A2325,'Lista de Precios_Bolívares_S'!$F:$Q,12,FALSE),\"\")","v":""},"",{"$f":"IFERROR(VLOOKUP($A2325,'Lista de Precios_USD$_Euro€'!$E:$O,11,FALSE),\"\")","v":""}]
[null,null,null,{"$f":"IFERROR(VLOOKUP($A2326,'Lista de Precios_Bolívares_S'!$F:$Q,6,FALSE),\"\")","v":""},{"$f":"IFERROR(VLOOKUP($A2326,'Lista de Precios_Bolívares_S'!$F:$Q,12,FALSE),\"\")","v":""},"",{"$f":"IFERROR(VLOOKUP($A2326,'Lista de Precios_USD$_Euro€'!$E:$O,11,FALSE),\"\")","v":""}]
[null,null,null,{"$f":"IFERROR(VLOOKUP($A2327,'Lista de Precios_Bolívares_S'!$F:$Q,6,FALSE),\"\")","v":""},{"$f":"IFERROR(VLOOKUP($A2327,'Lista de Precios_Bolívares_S'!$F:$Q,12,FALSE),\"\")","v":""},"",{"$f":"IFERROR(VLOOKUP($A2327,'Lista de Precios_USD$_Euro€'!$E:$O,11,FALSE),\"\")","v":""}]
[null,null,null,{"$f":"IFERROR(VLOOKUP($A2328,'Lista de Precios_Bolívares_S'!$F:$Q,6,FALSE),\"\")","v":""},{"$f":"IFERROR(VLOOKUP($A2328,'Lista de Precios_Bolívares_S'!$F:$Q,12,FALSE),\"\")","v":""},"",{"$f":"IFERROR(VLOOKUP($A2328,'Lista de Precios_USD$_Euro€'!$E:$O,11,FALSE),\"\")","v":""}]
[null,null,null,{"$f":"IFERROR(VLOOKUP($A2329,'Lista de Precios_Bolívares_S'!$F:$Q,6,FALSE),\"\")","v":""},{"$f":"IFERROR(VLOOKUP($A2329,'Lista de Precios_Bolívares_S'!$F:$Q,12,FALSE),\"\")","v":""},{"$f":"IFERROR(IF(ROUND($C2329,2)=ROUND($D2304,2),ROUND($E2304,2),ROUND($C2329,2)),\"\")","v":""},{"$f":"IFERROR(VLOOKUP($A2329,'Lista de Precios_USD$_Euro€'!$E:$O,11,FALSE),\"\")","v":""}]
[null,null,null,{"$f":"IFERROR(VLOOKUP($A2330,'Lista de Precios_Bolívares_S'!$F:$Q,6,FALSE),\"\")","v":""},{"$f":"IFERROR(VLOOKUP($A2330,'Lista de Precios_Bolívares_S'!$F:$Q,12,FALSE),\"\")","v":""},"",{"$f":"IFERROR(VLOOKUP($A2330,'Lista de Precios_USD$_Euro€'!$E:$O,11,FALSE),\"\")","v":""}]
[null,null,null,{"$f":"IFERROR(VLOOKUP($A2331,'Lista de Precios_Bolívares_S'!$F:$Q,6,FALSE),\"\")","v":""},{"$f":"IFERROR(VLOOKUP($A2331,'Lista de Precios_Bolívares_S'!$F:$Q,12,FALSE),\"\")","v":""},"",{"$f":"IFERROR(VLOOKUP($A2331,'Lista de Precios_USD$_Euro€'!$E:$O,11,FALSE),\"\")","v":""}]
[null,null,null,{"$f":"IFERROR(VLOOKUP($A2332,'Lista de Precios_Bolívares_S'!$F:$Q,6,FALSE),\"\")","v":""},{"$f":"IFERROR(VLOOKUP($A2332,'Lista de Precios_Bolívares_S'!$F:$Q,12,FALSE),\"\")","v":""},"",{"$f":"IFERROR(VLOOKUP($A2332,'Lista de Precios_USD$_Euro€'!$E:$O,11,FALSE),\"\")","v":""}]
[null,null,null,{"$f":"IFERROR(VLOOKUP($A2333,'Lista de Precios_Bolívares_S'!$F:$Q,6,FALSE),\"\")","v":""},{"$f":"IFERROR(VLOOKUP($A2333,'Lista de Precios_Bolívares_S'!$F:$Q,12,FALSE),\"\")","v":""},"",{"$f":"IFERROR(VLOOKUP($A2333,'Lista de Precios_USD$_Euro€'!$E:$O,11,FALSE),\"\")","v":""}]
[null,null,null,{"$f":"IFERROR(VLOOKUP($A2334,'Lista de Precios_Bolívares_S'!$F:$Q,6,FALSE),\"\")","v":""},{"$f":"IFERROR(VLOOKUP($A2334,'Lista de Precios_Bolívares_S'!$F:$Q,12,FALSE),\"\")","v":""},"",{"$f":"IFERROR(VLOOKUP($A2334,'Lista de Precios_USD$_Euro€'!$E:$O,11,FALSE),\"\")","v":""}]
[null,null,null,{"$f":"IFERROR(VLOOKUP($A2335,'Lista de Precios_Bolívares_S'!$F:$Q,6,FALSE),\"\")","v":""},{"$f":"IFERROR(VLOOKUP($A2335,'Lista de Precios_Bolívares_S'!$F:$Q,12,FALSE),\"\")","v":""},"",{"$f":"IFERROR(VLOOKUP($A2335,'Lista de Precios_USD$_Euro€'!$E:$O,11,FALSE),\"\")","v":""}]
[null,null,null,{"$f":"IFERROR(VLOOKUP($A2336,'Lista de Precios_Bolívares_S'!$F:$Q,6,FALSE),\"\")","v":""},{"$f":"IFERROR(VLOOKUP($A2336,'Lista de Precios_Bolívares_S'!$F:$Q,12,FALSE),\"\")","v":""},"",{"$f":"IFERROR(VLOOKUP($A2336,'Lista de Precios_USD$_Euro€'!$E:$O,11,FALSE),\"\")","v":""}]
[null,null,null,{"$f":"IFERROR(VLOOKUP($A2337,'Lista de Precios_Bolívares_S'!$F:$Q,6,FALSE),\"\")","v":""},{"$f":"IFERROR(VLOOKUP($A2337,'Lista de Precios_Bolívares_S'!$F:$Q,12,FALSE),\"\")","v":""},"",{"$f":"IFERROR(VLOOKUP($A2337,'Lista de Precios_USD$_Euro€'!$E:$O,11,FALSE),\"\")","v":""}]
[null,null,null,{"$f":"IFERROR(VLOOKUP($A2338,'Lista de Precios_Bolívares_S'!$F:$Q,6,FALSE),\"\")","v":""},{"$f":"IFERROR(VLOOKUP($A2338,'Lista de Precios_Bolívares_S'!$F:$Q,12,FALSE),\"\")","v":""},"",{"$f":"IFERROR(VLOOKUP($A2338,'Lista de Precios_USD$_Euro€'!$E:$O,11,FALSE),\"\")","v":""}]
[null,null,null,{"$f":"IFERROR(VLOOKUP($A2339,'Lista de Precios_Bolívares_S'!$F:$Q,6,FALSE),\"\")","v":""},{"$f":"IFERROR(VLOOKUP($A2339,'Lista de Precios_Bolívares_S'!$F:$Q,12,FALSE),\"\")","v":""},"",{"$f":"IFERROR(VLOOKUP($A2339,'Lista de Precios_USD$_Euro€'!$E:$O,11,FALSE),\"\")","v":""}]
[null,null,null,{"$f":"IFERROR(VLOOKUP($A2340,'Lista de Precios_Bolívares_S'!$F:$Q,6,FALSE),\"\")","v":""},{"$f":"IFERROR(VLOOKUP($A2340,'Lista de Precios_Bolívares_S'!$F:$Q,12,FALSE),\"\")","v":""},"",{"$f":"IFERROR(VLOOKUP($A2340,'Lista de Precios_USD$_Euro€'!$E:$O,11,FALSE),\"\")","v":""}]
[null,null,null,{"$f":"IFERROR(VLOOKUP($A2341,'Lista de Precios_Bolívares_S'!$F:$Q,6,FALSE),\"\")","v":""},{"$f":"IFERROR(VLOOKUP($A2341,'Lista de Precios_Bolívares_S'!$F:$Q,12,FALSE),\"\")","v":""},"",{"$f":"IFERROR(VLOOKUP($A2341,'Lista de Precios_USD$_Euro€'!$E:$O,11,FALSE),\"\")","v":""}]
[null,null,null,{"$f":"IFERROR(VLOOKUP($A2342,'Lista de Precios_Bolívares_S'!$F:$Q,6,FALSE),\"\")","v":""},{"$f":"IFERROR(VLOOKUP($A2342,'Lista de Precios_Bolívares_S'!$F:$Q,12,FALSE),\"\")","v":""},"",{"$f":"IFERROR(VLOOKUP($A2342,'Lista de Precios_USD$_Euro€'!$E:$O,11,FALSE),\"\")","v":""}]
[null,null,null,{"$f":"IFERROR(VLOOKUP($A2343,'Lista de Precios_Bolívares_S'!$F:$Q,6,FALSE),\"\")","v":""},{"$f":"IFERROR(VLOOKUP($A2343,'Lista de Precios_Bolívares_S'!$F:$Q,12,FALSE),\"\")","v":""},"",{"$f":"IFERROR(VLOOKUP($A2343,'Lista de Precios_USD$_Euro€'!$E:$O,11,FALSE),\"\")","v":""}]
[null,null,null,{"$f":"IFERROR(VLOOKUP($A2344,'Lista de Precios_Bolívares_S'!$F:$Q,6,FALSE),\"\")","v":""},{"$f":"IFERROR(VLOOKUP($A2344,'Lista de Precios_Bolívares_S'!$F:$Q,12,FALSE),\"\")","v":""},"",{"$f":"IFERROR(VLOOKUP($A2344,'Lista de Precios_USD$_Euro€'!$E:$O,11,FALSE),\"\")","v":""}]
[null,null,null,{"$f":"IFERROR(VLOOKUP($A2345,'Lista de Precios_Bolívares_S'!$F:$Q,6,FALSE),\"\")","v":""},{"$f":"IFERROR(VLOOKUP($A2345,'Lista de Precios_Bolívares_S'!$F:$Q,12,FALSE),\"\")","v":""},"",{"$f":"IFERROR(VLOOKUP($A2345,'Lista de Precios_USD$_Euro€'!$E:$O,11,FALSE),\"\")","v":""}]
[null,null,null,{"$f":"IFERROR(VLOOKUP($A2346,'Lista de Precios_Bolívares_S'!$F:$Q,6,FALSE),\"\")","v":""},{"$f":"IFERROR(VLOOKUP($A2346,'Lista de Precios_Bolívares_S'!$F:$Q,12,FALSE),\"\")","v":""},"",{"$f":"IFERROR(VLOOKUP($A2346,'Lista de Precios_USD$_Euro€'!$E:$O,11,FALSE),\"\")","v":""}]
[null,null,null,{"$f":"IFERROR(VLOOKUP($A2347,'Lista de Precios_Bolívares_S'!$F:$Q,6,FALSE),\"\")","v":""},{"$f":"IFERROR(VLOOKUP($A2347,'Lista de Precios_Bolívares_S'!$F:$Q,12,FALSE),\"\")","v":""},"",{"$f":"IFERROR(VLOOKUP($A2347,'Lista de Precios_USD$_Euro€'!$E:$O,11,FALSE),\"\")","v":""}]
[null,null,null,{"$f":"IFERROR(VLOOKUP($A2348,'Lista de Precios_Bolívares_S'!$F:$Q,6,FALSE),\"\")","v":""},{"$f":"IFERROR(VLOOKUP($A2348,'Lista de Precios_Bolívares_S'!$F:$Q,12,FALSE),\"\")","v":""},"",{"$f":"IFERROR(VLOOKUP($A2348,'Lista de Precios_USD$_Euro€'!$E:$O,11,FALSE),\"\")","v":""}]
[null,null,null,{"$f":"IFERROR(VLOOKUP($A2349,'Lista de Precios_Bolívares_S'!$F:$Q,6,FALSE),\"\")","v":""},{"$f":"IFERROR(VLOOKUP($A2349,'Lista de Precios_Bolívares_S'!$F:$Q,12,FALSE),\"\")","v":""},"",{"$f":"IFERROR(VLOOKUP($A2349,'Lista de Precios_USD$_Euro€'!$E:$O,11,FALSE),\"\")","v":""}]
[null,null,null,{"$f":"IFERROR(VLOOKUP($A2350,'Lista de Precios_Bolívares_S'!$F:$Q,6,FALSE),\"\")","v":""},{"$f":"IFERROR(VLOOKUP($A2350,'Lista de Precios_Bolívares_S'!$F:$Q,12,FALSE),\"\")","v":""},"",{"$f":"IFERROR(VLOOKUP($A2350,'Lista de Precios_USD$_Euro€'!$E:$O,11,FALSE),\"\")","v":""}]
[null,null,null,{"$f":"IFERROR(VLOOKUP($A2351,'Lista de Precios_Bolívares_S'!$F:$Q,6,FALSE),\"\")","v":""},{"$f":"IFERROR(VLOOKUP($A2351,'Lista de Precios_Bolívares_S'!$F:$Q,12,FALSE),\"\")","v":""},"",{"$f":"IFERROR(VLOOKUP($A2351,'Lista de Precios_USD$_Euro€'!$E:$O,11,FALSE),\"\")","v":""}]
[null,null,null,{"$f":"IFERROR(VLOOKUP($A2352,'Lista de Precios_Bolívares_S'!$F:$Q,6,FALSE),\"\")","v":""},{"$f":"IFERROR(VLOOKUP($A2352,'Lista de Precios_Bolívares_S'!$F:$Q,12,FALSE),\"\")","v":""},"",{"$f":"IFERROR(VLOOKUP($A2352,'Lista de Precios_USD$_Euro€'!$E:$O,11,FALSE),\"\")","v":""}]
[null,null,null,{"$f":"IFERROR(VLOOKUP($A2353,'Lista de Precios_Bolívares_S'!$F:$Q,6,FALSE),\"\")","v":""},{"$f":"IFERROR(VLOOKUP($A2353,'Lista de Precios_Bolívares_S'!$F:$Q,12,FALSE),\"\")","v":""},"",{"$f":"IFERROR(VLOOKUP($A2353,'Lista de Precios_USD$_Euro€'!$E:$O,11,FALSE),\"\")","v":""}]
[null,null,null,{"$f":"IFERROR(VLOOKUP($A2354,'Lista de Precios_Bolívares_S'!$F:$Q,6,FALSE),\"\")","v":""},{"$f":"IFERROR(VLOOKUP($A2354,'Lista de Precios_Bolívares_S'!$F:$Q,12,FALSE),\"\")","v":""},"",{"$f":"IFERROR(VLOOKUP($A2354,'Lista de Precios_USD$_Euro€'!$E:$O,11,FALSE),\"\")","v":""}]
[null,null,null,{"$f":"IFERROR(VLOOKUP($A2355,'Lista de Precios_Bolívares_S'!$F:$Q,6,FALSE),\"\")","v":""},{"$f":"IFERROR(VLOOKUP($A2355,'Lista de Precios_Bolívares_S'!$F:$Q,12,FALSE),\"\")","v":""},"",{"$f":"IFERROR(VLOOKUP($A2355,'Lista de Precios_USD$_Euro€'!$E:$O,11,FALSE),\"\")","v":""}]
[null,null,null,{"$f":"IFERROR(VLOOKUP($A2356,'Lista de Precios_Bolívares_S'!$F:$Q,6,FALSE),\"\")","v":""},{"$f":"IFERROR(VLOOKUP($A2356,'Lista de Precios_Bolívares_S'!$F:$Q,12,FALSE),\"\")","v":""},"",{"$f":"IFERROR(VLOOKUP($A2356,'Lista de Precios_USD$_Euro€'!$E:$O,11,FALSE),\"\")","v":""}]
[null,null,null,{"$f":"IFERROR(VLOOKUP($A2357,'Lista de Precios_Bolívares_S'!$F:$Q,6,FALSE),\"\")","v":""},{"$f":"IFERROR(VLOOKUP($A2357,'Lista de Precios_Bolívares_S'!$F:$Q,12,FALSE),\"\")","v":""},"",{"$f":"IFERROR(VLOOKUP($A2357,'Lista de Precios_USD$_Euro€'!$E:$O,11,FALSE),\"\")","v":""}]
[null,null,null,{"$f":"IFERROR(VLOOKUP($A2358,'Lista de Precios_Bolívares_S'!$F:$Q,6,FALSE),\"\")","v":""},{"$f":"IFERROR(VLOOKUP($A2358,'Lista de Precios_Bolívares_S'!$F:$Q,12,FALSE),\"\")","v":""},"",{"$f":"IFERROR(VLOOKUP($A2358,'Lista de Precios_USD$_Euro€'!$E:$O,11,FALSE),\"\")","v":""}]
[null,null,null,{"$f":"IFERROR(VLOOKUP($A2359,'Lista de Precios_Bolívares_S'!$F:$Q,6,FALSE),\"\")","v":""},{"$f":"IFERROR(VLOOKUP($A2359,'Lista de Precios_Bolívares_S'!$F:$Q,12,FALSE),\"\")","v":""},"",{"$f":"IFERROR(VLOOKUP($A2359,'Lista de Precios_USD$_Euro€'!$E:$O,11,FALSE),\"\")","v":""}]
[null,null,null,{"$f":"IFERROR(VLOOKUP($A2360,'Lista de Precios_Bolívares_S'!$F:$Q,6,FALSE),\"\")","v":""},{"$f":"IFERROR(VLOOKUP($A2360,'Lista de Precios_Bolívares_S'!$F:$Q,12,FALSE),\"\")","v":""},"",{"$f":"IFERROR(VLOOKUP($A2360,'Lista de Precios_USD$_Euro€'!$E:$O,11,FALSE),\"\")","v":""}]
[null,null,null,{"$f":"IFERROR(VLOOKUP($A2361,'Lista de Precios_Bolívares_S'!$F:$Q,6,FALSE),\"\")","v":""},{"$f":"IFERROR(VLOOKUP($A2361,'Lista de Precios_Bolívares_S'!$F:$Q,12,FALSE),\"\")","v":""},"",{"$f":"IFERROR(VLOOKUP($A2361,'Lista de Precios_USD$_Euro€'!$E:$O,11,FALSE),\"\")","v":""}]
[null,null,null,{"$f":"IFERROR(VLOOKUP($A2362,'Lista de Precios_Bolívares_S'!$F:$Q,6,FALSE),\"\")","v":""},{"$f":"IFERROR(VLOOKUP($A2362,'Lista de Precios_Bolívares_S'!$F:$Q,12,FALSE),\"\")","v":""},"",{"$f":"IFERROR(VLOOKUP($A2362,'Lista de Precios_USD$_Euro€'!$E:$O,11,FALSE),\"\")","v":""}]
[null,null,null,{"$f":"IFERROR(VLOOKUP($A2363,'Lista de Precios_Bolívares_S'!$F:$Q,6,FALSE),\"\")","v":""},{"$f":"IFERROR(VLOOKUP($A2363,'Lista de Precios_Bolívares_S'!$F:$Q,12,FALSE),\"\")","v":""},"",{"$f":"IFERROR(VLOOKUP($A2363,'Lista de Precios_USD$_Euro€'!$E:$O,11,FALSE),\"\")","v":""}]
[null,null,null,{"$f":"IFERROR(VLOOKUP($A2364,'Lista de Precios_Bolívares_S'!$F:$Q,6,FALSE),\"\")","v":""},{"$f":"IFERROR(VLOOKUP($A2364,'Lista de Precios_Bolívares_S'!$F:$Q,12,FALSE),\"\")","v":""},"",{"$f":"IFERROR(VLOOKUP($A2364,'Lista de Precios_USD$_Euro€'!$E:$O,11,FALSE),\"\")","v":""}]
[null,null,null,{"$f":"IFERROR(VLOOKUP($A2365,'Lista de Precios_Bolívares_S'!$F:$Q,6,FALSE),\"\")","v":""},{"$f":"IFERROR(VLOOKUP($A2365,'Lista de Precios_Bolívares_S'!$F:$Q,12,FALSE),\"\")","v":""},"",{"$f":"IFERROR(VLOOKUP($A2365,'Lista de Precios_USD$_Euro€'!$E:$O,11,FALSE),\"\")","v":""}]
[null,null,null,{"$f":"IFERROR(VLOOKUP($A2366,'Lista de Precios_Bolívares_S'!$F:$Q,6,FALSE),\"\")","v":""},{"$f":"IFERROR(VLOOKUP($A2366,'Lista de Precios_Bolívares_S'!$F:$Q,12,FALSE),\"\")","v":""},"",{"$f":"IFERROR(VLOOKUP($A2366,'Lista de Precios_USD$_Euro€'!$E:$O,11,FALSE),\"\")","v":""}]
[null,null,null,{"$f":"IFERROR(VLOOKUP($A2367,'Lista de Precios_Bolívares_S'!$F:$Q,6,FALSE),\"\")","v":""},{"$f":"IFERROR(VLOOKUP($A2367,'Lista de Precios_Bolívares_S'!$F:$Q,12,FALSE),\"\")","v":""},"",{"$f":"IFERROR(VLOOKUP($A2367,'Lista de Precios_USD$_Euro€'!$E:$O,11,FALSE),\"\")","v":""}]
[null,null,null,{"$f":"IFERROR(VLOOKUP($A2368,'Lista de Precios_Bolívares_S'!$F:$Q,6,FALSE),\"\")","v":""},{"$f":"IFERROR(VLOOKUP($A2368,'Lista de Precios_Bolívares_S'!$F:$Q,12,FALSE),\"\")","v":""},"",{"$f":"IFERROR(VLOOKUP($A2368,'Lista de Precios_USD$_Euro€'!$E:$O,11,FALSE),\"\")","v":""}]
[null,null,null,{"$f":"IFERROR(VLOOKUP($A2369,'Lista de Precios_Bolívares_S'!$F:$Q,6,FALSE),\"\")","v":""},{"$f":"IFERROR(VLOOKUP($A2369,'Lista de Precios_Bolívares_S'!$F:$Q,12,FALSE),\"\")","v":""},"",{"$f":"IFERROR(VLOOKUP($A2369,'Lista de Precios_USD$_Euro€'!$E:$O,11,FALSE),\"\")","v":""}]
[null,null,null,{"$f":"IFERROR(VLOOKUP($A2370,'Lista de Precios_Bolívares_S'!$F:$Q,6,FALSE),\"\")","v":""},{"$f":"IFERROR(VLOOKUP($A2370,'Lista de Precios_Bolívares_S'!$F:$Q,12,FALSE),\"\")","v":""},"",{"$f":"IFERROR(VLOOKUP($A2370,'Lista de Precios_USD$_Euro€'!$E:$O,11,FALSE),\"\")","v":""}]
[null,null,null,{"$f":"IFERROR(VLOOKUP($A2371,'Lista de Precios_Bolívares_S'!$F:$Q,6,FALSE),\"\")","v":""},{"$f":"IFERROR(VLOOKUP($A2371,'Lista de Precios_Bolívares_S'!$F:$Q,12,FALSE),\"\")","v":""},"",{"$f":"IFERROR(VLOOKUP($A2371,'Lista de Precios_USD$_Euro€'!$E:$O,11,FALSE),\"\")","v":""}]
[null,null,null,{"$f":"IFERROR(VLOOKUP($A2372,'Lista de Precios_Bolívares_S'!$F:$Q,6,FALSE),\"\")","v":""},{"$f":"IFERROR(VLOOKUP($A2372,'Lista de Precios_Bolívares_S'!$F:$Q,12,FALSE),\"\")","v":""},"",{"$f":"IFERROR(VLOOKUP($A2372,'Lista de Precios_USD$_Euro€'!$E:$O,11,FALSE),\"\")","v":""}]
[null,null,null,{"$f":"IFERROR(VLOOKUP($A2373,'Lista de Precios_Bolívares_S'!$F:$Q,6,FALSE),\"\")","v":""},{"$f":"IFERROR(VLOOKUP($A2373,'Lista de Precios_Bolívares_S'!$F:$Q,12,FALSE),\"\")","v":""},"",{"$f":"IFERROR(VLOOKUP($A2373,'Lista de Precios_USD$_Euro€'!$E:$O,11,FALSE),\"\")","v":""}]
[null,null,null,{"$f":"IFERROR(VLOOKUP($A2374,'Lista de Precios_Bolívares_S'!$F:$Q,6,FALSE),\"\")","v":""},{"$f":"IFERROR(VLOOKUP($A2374,'Lista de Precios_Bolívares_S'!$F:$Q,12,FALSE),\"\")","v":""},"",{"$f":"IFERROR(VLOOKUP($A2374,'Lista de Precios_USD$_Euro€'!$E:$O,11,FALSE),\"\")","v":""}]
[null,null,null,{"$f":"IFERROR(VLOOKUP($A2375,'Lista de Precios_Bolívares_S'!$F:$Q,6,FALSE),\"\")","v":""},{"$f":"IFERROR(VLOOKUP($A2375,'Lista de Precios_Bolívares_S'!$F:$Q,12,FALSE),\"\")","v":""},"",{"$f":"IFERROR(VLOOKUP($A2375,'Lista de Precios_USD$_Euro€'!$E:$O,11,FALSE),\"\")","v":""}]
[null,null,null,{"$f":"IFERROR(VLOOKUP($A2376,'Lista de Precios_Bolívares_S'!$F:$Q,6,FALSE),\"\")","v":""},{"$f":"IFERROR(VLOOKUP($A2376,'Lista de Precios_Bolívares_S'!$F:$Q,12,FALSE),\"\")","v":""},"",{"$f":"IFERROR(VLOOKUP($A2376,'Lista de Precios_USD$_Euro€'!$E:$O,11,FALSE),\"\")","v":""}]
[null,null,null,{"$f":"IFERROR(VLOOKUP($A2377,'Lista de Precios_Bolívares_S'!$F:$Q,6,FALSE),\"\")","v":""},{"$f":"IFERROR(VLOOKUP($A2377,'Lista de Precios_Bolívares_S'!$F:$Q,12,FALSE),\"\")","v":""},"",{"$f":"IFERROR(VLOOKUP($A2377,'Lista de Precios_USD$_Euro€'!$E:$O,11,FALSE),\"\")","v":""}]
[null,null,null,{"$f":"IFERROR(VLOOKUP($A2378,'Lista de Precios_Bolívares_S'!$F:$Q,6,FALSE),\"\")","v":""},{"$f":"IFERROR(VLOOKUP($A2378,'Lista de Precios_Bolívares_S'!$F:$Q,12,FALSE),\"\")","v":""},"",{"$f":"IFERROR(VLOOKUP($A2378,'Lista de Precios_USD$_Euro€'!$E:$O,11,FALSE),\"\")","v":""}]
[null,null,null,{"$f":"IFERROR(VLOOKUP($A2379,'Lista de Precios_Bolívares_S'!$F:$Q,6,FALSE),\"\")","v":""},{"$f":"IFERROR(VLOOKUP($A2379,'Lista de Precios_Bolívares_S'!$F:$Q,12,FALSE),\"\")","v":""},"",{"$f":"IFERROR(VLOOKUP($A2379,'Lista de Precios_USD$_Euro€'!$E:$O,11,FALSE),\"\")","v":""}]
[null,null,null,{"$f":"IFERROR(VLOOKUP($A2380,'Lista de Precios_Bolívares_S'!$F:$Q,6,FALSE),\"\")","v":""},{"$f":"IFERROR(VLOOKUP($A2380,'Lista de Precios_Bolívares_S'!$F:$Q,12,FALSE),\"\")","v":""},"",{"$f":"IFERROR(VLOOKUP($A2380,'Lista de Precios_USD$_Euro€'!$E:$O,11,FALSE),\"\")","v":""}]
[null,null,null,{"$f":"IFERROR(VLOOKUP($A2381,'Lista de Precios_Bolívares_S'!$F:$Q,6,FALSE),\"\")","v":""},{"$f":"IFERROR(VLOOKUP($A2381,'Lista de Precios_Bolívares_S'!$F:$Q,12,FALSE),\"\")","v":""},"",{"$f":"IFERROR(VLOOKUP($A2381,'Lista de Precios_USD$_Euro€'!$E:$O,11,FALSE),\"\")","v":""}]
[null,null,null,{"$f":"IFERROR(VLOOKUP($A2382,'Lista de Precios_Bolívares_S'!$F:$Q,6,FALSE),\"\")","v":""},{"$f":"IFERROR(VLOOKUP($A2382,'Lista de Precios_Bolívares_S'!$F:$Q,12,FALSE),\"\")","v":""},"",{"$f":"IFERROR(VLOOKUP($A2382,'Lista de Precios_USD$_Euro€'!$E:$O,11,FALSE),\"\")","v":""}]
[null,null,null,{"$f":"IFERROR(VLOOKUP($A2383,'Lista de Precios_Bolívares_S'!$F:$Q,6,FALSE),\"\")","v":""},{"$f":"IFERROR(VLOOKUP($A2383,'Lista de Precios_Bolívares_S'!$F:$Q,12,FALSE),\"\")","v":""},"",{"$f":"IFERROR(VLOOKUP($A2383,'Lista de Precios_USD$_Euro€'!$E:$O,11,FALSE),\"\")","v":""}]
[null,null,null,{"$f":"IFERROR(VLOOKUP($A2384,'Lista de Precios_Bolívares_S'!$F:$Q,6,FALSE),\"\")","v":""},{"$f":"IFERROR(VLOOKUP($A2384,'Lista de Precios_Bolívares_S'!$F:$Q,12,FALSE),\"\")","v":""},"",{"$f":"IFERROR(VLOOKUP($A2384,'Lista de Precios_USD$_Euro€'!$E:$O,11,FALSE),\"\")","v":""}]
[null,null,null,{"$f":"IFERROR(VLOOKUP($A2385,'Lista de Precios_Bolívares_S'!$F:$Q,6,FALSE),\"\")","v":""},{"$f":"IFERROR(VLOOKUP($A2385,'Lista de Precios_Bolívares_S'!$F:$Q,12,FALSE),\"\")","v":""},"",{"$f":"IFERROR(VLOOKUP($A2385,'Lista de Precios_USD$_Euro€'!$E:$O,11,FALSE),\"\")","v":""}]
[null,null,null,{"$f":"IFERROR(VLOOKUP($A2386,'Lista de Precios_Bolívares_S'!$F:$Q,6,FALSE),\"\")","v":""},{"$f":"IFERROR(VLOOKUP($A2386,'Lista de Precios_Bolívares_S'!$F:$Q,12,FALSE),\"\")","v":""},"",{"$f":"IFERROR(VLOOKUP($A2386,'Lista de Precios_USD$_Euro€'!$E:$O,11,FALSE),\"\")","v":""}]
[null,null,null,{"$f":"IFERROR(VLOOKUP($A2387,'Lista de Precios_Bolívares_S'!$F:$Q,6,FALSE),\"\")","v":""},{"$f":"IFERROR(VLOOKUP($A2387,'Lista de Precios_Bolívares_S'!$F:$Q,12,FALSE),\"\")","v":""},"",{"$f":"IFERROR(VLOOKUP($A2387,'Lista de Precios_USD$_Euro€'!$E:$O,11,FALSE),\"\")","v":""}]
[null,null,null,{"$f":"IFERROR(VLOOKUP($A2388,'Lista de Precios_Bolívares_S'!$F:$Q,6,FALSE),\"\")","v":""},{"$f":"IFERROR(VLOOKUP($A2388,'Lista de Precios_Bolívares_S'!$F:$Q,12,FALSE),\"\")","v":""},"",{"$f":"IFERROR(VLOOKUP($A2388,'Lista de Precios_USD$_Euro€'!$E:$O,11,FALSE),\"\")","v":""}]
[null,null,null,{"$f":"IFERROR(VLOOKUP($A2389,'Lista de Precios_Bolívares_S'!$F:$Q,6,FALSE),\"\")","v":""},{"$f":"IFERROR(VLOOKUP($A2389,'Lista de Precios_Bolívares_S'!$F:$Q,12,FALSE),\"\")","v":""},"",{"$f":"IFERROR(VLOOKUP($A2389,'Lista de Precios_USD$_Euro€'!$E:$O,11,FALSE),\"\")","v":""}]
[null,null,null,{"$f":"IFERROR(VLOOKUP($A2390,'Lista de Precios_Bolívares_S'!$F:$Q,6,FALSE),\"\")","v":""},{"$f":"IFERROR(VLOOKUP($A2390,'Lista de Precios_Bolívares_S'!$F:$Q,12,FALSE),\"\")","v":""},"",{"$f":"IFERROR(VLOOKUP($A2390,'Lista de Precios_USD$_Euro€'!$E:$O,11,FALSE),\"\")","v":""}]
[null,null,null,{"$f":"IFERROR(VLOOKUP($A2391,'Lista de Precios_Bolívares_S'!$F:$Q,6,FALSE),\"\")","v":""},{"$f":"IFERROR(VLOOKUP($A2391,'Lista de Precios_Bolívares_S'!$F:$Q,12,FALSE),\"\")","v":""},"",{"$f":"IFERROR(VLOOKUP($A2391,'Lista de Precios_USD$_Euro€'!$E:$O,11,FALSE),\"\")","v":""}]
[null,null,null,{"$f":"IFERROR(VLOOKUP($A2392,'Lista de Precios_Bolívares_S'!$F:$Q,6,FALSE),\"\")","v":""},{"$f":"IFERROR(VLOOKUP($A2392,'Lista de Precios_Bolívares_S'!$F:$Q,12,FALSE),\"\")","v":""},"",{"$f":"IFERROR(VLOOKUP($A2392,'Lista de Precios_USD$_Euro€'!$E:$O,11,FALSE),\"\")","v":""}]
[null,null,null,{"$f":"IFERROR(VLOOKUP($A2393,'Lista de Precios_Bolívares_S'!$F:$Q,6,FALSE),\"\")","v":""},{"$f":"IFERROR(VLOOKUP($A2393,'Lista de Precios_Bolívares_S'!$F:$Q,12,FALSE),\"\")","v":""},{"$f":"IFERROR(IF(ROUND($C2393,2)=ROUND($D2368,2),ROUND($E2368,2),ROUND($C2393,2)),\"\")","v":""},{"$f":"IFERROR(VLOOKUP($A2393,'Lista de Precios_USD$_Euro€'!$E:$O,11,FALSE),\"\")","v":""}]
[null,null,null,{"$f":"IFERROR(VLOOKUP($A2394,'Lista de Precios_Bolívares_S'!$F:$Q,6,FALSE),\"\")","v":""},{"$f":"IFERROR(VLOOKUP($A2394,'Lista de Precios_Bolívares_S'!$F:$Q,12,FALSE),\"\")","v":""},"",{"$f":"IFERROR(VLOOKUP($A2394,'Lista de Precios_USD$_Euro€'!$E:$O,11,FALSE),\"\")","v":""}]
[null,null,null,{"$f":"IFERROR(VLOOKUP($A2395,'Lista de Precios_Bolívares_S'!$F:$Q,6,FALSE),\"\")","v":""},{"$f":"IFERROR(VLOOKUP($A2395,'Lista de Precios_Bolívares_S'!$F:$Q,12,FALSE),\"\")","v":""},"",{"$f":"IFERROR(VLOOKUP($A2395,'Lista de Precios_USD$_Euro€'!$E:$O,11,FALSE),\"\")","v":""}]
[null,null,null,{"$f":"IFERROR(VLOOKUP($A2396,'Lista de Precios_Bolívares_S'!$F:$Q,6,FALSE),\"\")","v":""},{"$f":"IFERROR(VLOOKUP($A2396,'Lista de Precios_Bolívares_S'!$F:$Q,12,FALSE),\"\")","v":""},"",{"$f":"IFERROR(VLOOKUP($A2396,'Lista de Precios_USD$_Euro€'!$E:$O,11,FALSE),\"\")","v":""}]
[null,null,null,{"$f":"IFERROR(VLOOKUP($A2397,'Lista de Precios_Bolívares_S'!$F:$Q,6,FALSE),\"\")","v":""},{"$f":"IFERROR(VLOOKUP($A2397,'Lista de Precios_Bolívares_S'!$F:$Q,12,FALSE),\"\")","v":""},"",{"$f":"IFERROR(VLOOKUP($A2397,'Lista de Precios_USD$_Euro€'!$E:$O,11,FALSE),\"\")","v":""}]
[null,null,null,{"$f":"IFERROR(VLOOKUP($A2398,'Lista de Precios_Bolívares_S'!$F:$Q,6,FALSE),\"\")","v":""},{"$f":"IFERROR(VLOOKUP($A2398,'Lista de Precios_Bolívares_S'!$F:$Q,12,FALSE),\"\")","v":""},"",{"$f":"IFERROR(VLOOKUP($A2398,'Lista de Precios_USD$_Euro€'!$E:$O,11,FALSE),\"\")","v":""}]
[null,null,null,{"$f":"IFERROR(VLOOKUP($A2399,'Lista de Precios_Bolívares_S'!$F:$Q,6,FALSE),\"\")","v":""},{"$f":"IFERROR(VLOOKUP($A2399,'Lista de Precios_Bolívares_S'!$F:$Q,12,FALSE),\"\")","v":""},"",{"$f":"IFERROR(VLOOKUP($A2399,'Lista de Precios_USD$_Euro€'!$E:$O,11,FALSE),\"\")","v":""}]
[null,null,null,{"$f":"IFERROR(VLOOKUP($A2400,'Lista de Precios_Bolívares_S'!$F:$Q,6,FALSE),\"\")","v":""},{"$f":"IFERROR(VLOOKUP($A2400,'Lista de Precios_Bolívares_S'!$F:$Q,12,FALSE),\"\")","v":""},"",{"$f":"IFERROR(VLOOKUP($A2400,'Lista de Precios_USD$_Euro€'!$E:$O,11,FALSE),\"\")","v":""}]
[null,null,null,{"$f":"IFERROR(VLOOKUP($A2401,'Lista de Precios_Bolívares_S'!$F:$Q,6,FALSE),\"\")","v":""},{"$f":"IFERROR(VLOOKUP($A2401,'Lista de Precios_Bolívares_S'!$F:$Q,12,FALSE),\"\")","v":""},"",{"$f":"IFERROR(VLOOKUP($A2401,'Lista de Precios_USD$_Euro€'!$E:$O,11,FALSE),\"\")","v":""}]
[null,null,null,{"$f":"IFERROR(VLOOKUP($A2402,'Lista de Precios_Bolívares_S'!$F:$Q,6,FALSE),\"\")","v":""},{"$f":"IFERROR(VLOOKUP($A2402,'Lista de Precios_Bolívares_S'!$F:$Q,12,FALSE),\"\")","v":""},"",{"$f":"IFERROR(VLOOKUP($A2402,'Lista de Precios_USD$_Euro€'!$E:$O,11,FALSE),\"\")","v":""}]
[null,null,null,{"$f":"IFERROR(VLOOKUP($A2403,'Lista de Precios_Bolívares_S'!$F:$Q,6,FALSE),\"\")","v":""},{"$f":"IFERROR(VLOOKUP($A2403,'Lista de Precios_Bolívares_S'!$F:$Q,12,FALSE),\"\")","v":""},"",{"$f":"IFERROR(VLOOKUP($A2403,'Lista de Precios_USD$_Euro€'!$E:$O,11,FALSE),\"\")","v":""}]
[null,null,null,{"$f":"IFERROR(VLOOKUP($A2404,'Lista de Precios_Bolívares_S'!$F:$Q,6,FALSE),\"\")","v":""},{"$f":"IFERROR(VLOOKUP($A2404,'Lista de Precios_Bolívares_S'!$F:$Q,12,FALSE),\"\")","v":""},"",{"$f":"IFERROR(VLOOKUP($A2404,'Lista de Precios_USD$_Euro€'!$E:$O,11,FALSE),\"\")","v":""}]
[null,null,null,{"$f":"IFERROR(VLOOKUP($A2405,'Lista de Precios_Bolívares_S'!$F:$Q,6,FALSE),\"\")","v":""},{"$f":"IFERROR(VLOOKUP($A2405,'Lista de Precios_Bolívares_S'!$F:$Q,12,FALSE),\"\")","v":""},"",{"$f":"IFERROR(VLOOKUP($A2405,'Lista de Precios_USD$_Euro€'!$E:$O,11,FALSE),\"\")","v":""}]
[null,null,null,{"$f":"IFERROR(VLOOKUP($A2406,'Lista de Precios_Bolívares_S'!$F:$Q,6,FALSE),\"\")","v":""},{"$f":"IFERROR(VLOOKUP($A2406,'Lista de Precios_Bolívares_S'!$F:$Q,12,FALSE),\"\")","v":""},"",{"$f":"IFERROR(VLOOKUP($A2406,'Lista de Precios_USD$_Euro€'!$E:$O,11,FALSE),\"\")","v":""}]
[null,null,null,{"$f":"IFERROR(VLOOKUP($A2407,'Lista de Precios_Bolívares_S'!$F:$Q,6,FALSE),\"\")","v":""},{"$f":"IFERROR(VLOOKUP($A2407,'Lista de Precios_Bolívares_S'!$F:$Q,12,FALSE),\"\")","v":""},"",{"$f":"IFERROR(VLOOKUP($A2407,'Lista de Precios_USD$_Euro€'!$E:$O,11,FALSE),\"\")","v":""}]
[null,null,null,{"$f":"IFERROR(VLOOKUP($A2408,'Lista de Precios_Bolívares_S'!$F:$Q,6,FALSE),\"\")","v":""},{"$f":"IFERROR(VLOOKUP($A2408,'Lista de Precios_Bolívares_S'!$F:$Q,12,FALSE),\"\")","v":""},"",{"$f":"IFERROR(VLOOKUP($A2408,'Lista de Precios_USD$_Euro€'!$E:$O,11,FALSE),\"\")","v":""}]
[null,null,null,{"$f":"IFERROR(VLOOKUP($A2409,'Lista de Precios_Bolívares_S'!$F:$Q,6,FALSE),\"\")","v":""},{"$f":"IFERROR(VLOOKUP($A2409,'Lista de Precios_Bolívares_S'!$F:$Q,12,FALSE),\"\")","v":""},"",{"$f":"IFERROR(VLOOKUP($A2409,'Lista de Precios_USD$_Euro€'!$E:$O,11,FALSE),\"\")","v":""}]
[null,null,null,{"$f":"IFERROR(VLOOKUP($A2410,'Lista de Precios_Bolívares_S'!$F:$Q,6,FALSE),\"\")","v":""},{"$f":"IFERROR(VLOOKUP($A2410,'Lista de Precios_Bolívares_S'!$F:$Q,12,FALSE),\"\")","v":""},"",{"$f":"IFERROR(VLOOKUP($A2410,'Lista de Precios_USD$_Euro€'!$E:$O,11,FALSE),\"\")","v":""}]
[null,null,null,{"$f":"IFERROR(VLOOKUP($A2411,'Lista de Precios_Bolívares_S'!$F:$Q,6,FALSE),\"\")","v":""},{"$f":"IFERROR(VLOOKUP($A2411,'Lista de Precios_Bolívares_S'!$F:$Q,12,FALSE),\"\")","v":""},"",{"$f":"IFERROR(VLOOKUP($A2411,'Lista de Precios_USD$_Euro€'!$E:$O,11,FALSE),\"\")","v":""}]
[null,null,null,{"$f":"IFERROR(VLOOKUP($A2412,'Lista de Precios_Bolívares_S'!$F:$Q,6,FALSE),\"\")","v":""},{"$f":"IFERROR(VLOOKUP($A2412,'Lista de Precios_Bolívares_S'!$F:$Q,12,FALSE),\"\")","v":""},"",{"$f":"IFERROR(VLOOKUP($A2412,'Lista de Precios_USD$_Euro€'!$E:$O,11,FALSE),\"\")","v":""}]
[null,null,null,{"$f":"IFERROR(VLOOKUP($A2413,'Lista de Precios_Bolívares_S'!$F:$Q,6,FALSE),\"\")","v":""},{"$f":"IFERROR(VLOOKUP($A2413,'Lista de Precios_Bolívares_S'!$F:$Q,12,FALSE),\"\")","v":""},"",{"$f":"IFERROR(VLOOKUP($A2413,'Lista de Precios_USD$_Euro€'!$E:$O,11,FALSE),\"\")","v":""}]
[null,null,null,{"$f":"IFERROR(VLOOKUP($A2414,'Lista de Precios_Bolívares_S'!$F:$Q,6,FALSE),\"\")","v":""},{"$f":"IFERROR(VLOOKUP($A2414,'Lista de Precios_Bolívares_S'!$F:$Q,12,FALSE),\"\")","v":""},"",{"$f":"IFERROR(VLOOKUP($A2414,'Lista de Precios_USD$_Euro€'!$E:$O,11,FALSE),\"\")","v":""}]
[null,null,null,{"$f":"IFERROR(VLOOKUP($A2415,'Lista de Precios_Bolívares_S'!$F:$Q,6,FALSE),\"\")","v":""},{"$f":"IFERROR(VLOOKUP($A2415,'Lista de Precios_Bolívares_S'!$F:$Q,12,FALSE),\"\")","v":""},"",{"$f":"IFERROR(VLOOKUP($A2415,'Lista de Precios_USD$_Euro€'!$E:$O,11,FALSE),\"\")","v":""}]
[null,null,null,{"$f":"IFERROR(VLOOKUP($A2416,'Lista de Precios_Bolívares_S'!$F:$Q,6,FALSE),\"\")","v":""},{"$f":"IFERROR(VLOOKUP($A2416,'Lista de Precios_Bolívares_S'!$F:$Q,12,FALSE),\"\")","v":""},"",{"$f":"IFERROR(VLOOKUP($A2416,'Lista de Precios_USD$_Euro€'!$E:$O,11,FALSE),\"\")","v":""}]
[null,null,null,{"$f":"IFERROR(VLOOKUP($A2417,'Lista de Precios_Bolívares_S'!$F:$Q,6,FALSE),\"\")","v":""},{"$f":"IFERROR(VLOOKUP($A2417,'Lista de Precios_Bolívares_S'!$F:$Q,12,FALSE),\"\")","v":""},"",{"$f":"IFERROR(VLOOKUP($A2417,'Lista de Precios_USD$_Euro€'!$E:$O,11,FALSE),\"\")","v":""}]
[null,null,null,{"$f":"IFERROR(VLOOKUP($A2418,'Lista de Precios_Bolívares_S'!$F:$Q,6,FALSE),\"\")","v":""},{"$f":"IFERROR(VLOOKUP($A2418,'Lista de Precios_Bolívares_S'!$F:$Q,12,FALSE),\"\")","v":""},"",{"$f":"IFERROR(VLOOKUP($A2418,'Lista de Precios_USD$_Euro€'!$E:$O,11,FALSE),\"\")","v":""}]
[null,null,null,{"$f":"IFERROR(VLOOKUP($A2419,'Lista de Precios_Bolívares_S'!$F:$Q,6,FALSE),\"\")","v":""},{"$f":"IFERROR(VLOOKUP($A2419,'Lista de Precios_Bolívares_S'!$F:$Q,12,FALSE),\"\")","v":""},"",{"$f":"IFERROR(VLOOKUP($A2419,'Lista de Precios_USD$_Euro€'!$E:$O,11,FALSE),\"\")","v":""}]
[null,null,null,{"$f":"IFERROR(VLOOKUP($A2420,'Lista de Precios_Bolívares_S'!$F:$Q,6,FALSE),\"\")","v":""},{"$f":"IFERROR(VLOOKUP($A2420,'Lista de Precios_Bolívares_S'!$F:$Q,12,FALSE),\"\")","v":""},"",{"$f":"IFERROR(VLOOKUP($A2420,'Lista de Precios_USD$_Euro€'!$E:$O,11,FALSE),\"\")","v":""}]
[null,null,null,{"$f":"IFERROR(VLOOKUP($A2421,'Lista de Precios_Bolívares_S'!$F:$Q,6,FALSE),\"\")","v":""},{"$f":"IFERROR(VLOOKUP($A2421,'Lista de Precios_Bolívares_S'!$F:$Q,12,FALSE),\"\")","v":""},"",{"$f":"IFERROR(VLOOKUP($A2421,'Lista de Precios_USD$_Euro€'!$E:$O,11,FALSE),\"\")","v":""}]
[null,null,null,{"$f":"IFERROR(VLOOKUP($A2422,'Lista de Precios_Bolívares_S'!$F:$Q,6,FALSE),\"\")","v":""},{"$f":"IFERROR(VLOOKUP($A2422,'Lista de Precios_Bolívares_S'!$F:$Q,12,FALSE),\"\")","v":""},"",{"$f":"IFERROR(VLOOKUP($A2422,'Lista de Precios_USD$_Euro€'!$E:$O,11,FALSE),\"\")","v":""}]
[null,null,null,{"$f":"IFERROR(VLOOKUP($A2423,'Lista de Precios_Bolívares_S'!$F:$Q,6,FALSE),\"\")","v":""},{"$f":"IFERROR(VLOOKUP($A2423,'Lista de Precios_Bolívares_S'!$F:$Q,12,FALSE),\"\")","v":""},"",{"$f":"IFERROR(VLOOKUP($A2423,'Lista de Precios_USD$_Euro€'!$E:$O,11,FALSE),\"\")","v":""}]
[null,null,null,{"$f":"IFERROR(VLOOKUP($A2424,'Lista de Precios_Bolívares_S'!$F:$Q,6,FALSE),\"\")","v":""},{"$f":"IFERROR(VLOOKUP($A2424,'Lista de Precios_Bolívares_S'!$F:$Q,12,FALSE),\"\")","v":""},"",{"$f":"IFERROR(VLOOKUP($A2424,'Lista de Precios_USD$_Euro€'!$E:$O,11,FALSE),\"\")","v":""}]
[null,null,null,{"$f":"IFERROR(VLOOKUP($A2425,'Lista de Precios_Bolívares_S'!$F:$Q,6,FALSE),\"\")","v":""},{"$f":"IFERROR(VLOOKUP($A2425,'Lista de Precios_Bolívares_S'!$F:$Q,12,FALSE),\"\")","v":""},"",{"$f":"IFERROR(VLOOKUP($A2425,'Lista de Precios_USD$_Euro€'!$E:$O,11,FALSE),\"\")","v":""}]
[null,null,null,{"$f":"IFERROR(VLOOKUP($A2426,'Lista de Precios_Bolívares_S'!$F:$Q,6,FALSE),\"\")","v":""},{"$f":"IFERROR(VLOOKUP($A2426,'Lista de Precios_Bolívares_S'!$F:$Q,12,FALSE),\"\")","v":""},"",{"$f":"IFERROR(VLOOKUP($A2426,'Lista de Precios_USD$_Euro€'!$E:$O,11,FALSE),\"\")","v":""}]
[null,null,null,{"$f":"IFERROR(VLOOKUP($A2427,'Lista de Precios_Bolívares_S'!$F:$Q,6,FALSE),\"\")","v":""},{"$f":"IFERROR(VLOOKUP($A2427,'Lista de Precios_Bolívares_S'!$F:$Q,12,FALSE),\"\")","v":""},"",{"$f":"IFERROR(VLOOKUP($A2427,'Lista de Precios_USD$_Euro€'!$E:$O,11,FALSE),\"\")","v":""}]
[null,null,null,{"$f":"IFERROR(VLOOKUP($A2428,'Lista de Precios_Bolívares_S'!$F:$Q,6,FALSE),\"\")","v":""},{"$f":"IFERROR(VLOOKUP($A2428,'Lista de Precios_Bolívares_S'!$F:$Q,12,FALSE),\"\")","v":""},"",{"$f":"IFERROR(VLOOKUP($A2428,'Lista de Precios_USD$_Euro€'!$E:$O,11,FALSE),\"\")","v":""}]
[null,null,null,{"$f":"IFERROR(VLOOKUP($A2429,'Lista de Precios_Bolívares_S'!$F:$Q,6,FALSE),\"\")","v":""},{"$f":"IFERROR(VLOOKUP($A2429,'Lista de Precios_Bolívares_S'!$F:$Q,12,FALSE),\"\")","v":""},"",{"$f":"IFERROR(VLOOKUP($A2429,'Lista de Precios_USD$_Euro€'!$E:$O,11,FALSE),\"\")","v":""}]
[null,null,null,{"$f":"IFERROR(VLOOKUP($A2430,'Lista de Precios_Bolívares_S'!$F:$Q,6,FALSE),\"\")","v":""},{"$f":"IFERROR(VLOOKUP($A2430,'Lista de Precios_Bolívares_S'!$F:$Q,12,FALSE),\"\")","v":""},"",{"$f":"IFERROR(VLOOKUP($A2430,'Lista de Precios_USD$_Euro€'!$E:$O,11,FALSE),\"\")","v":""}]
[null,null,null,{"$f":"IFERROR(VLOOKUP($A2431,'Lista de Precios_Bolívares_S'!$F:$Q,6,FALSE),\"\")","v":""},{"$f":"IFERROR(VLOOKUP($A2431,'Lista de Precios_Bolívares_S'!$F:$Q,12,FALSE),\"\")","v":""},"",{"$f":"IFERROR(VLOOKUP($A2431,'Lista de Precios_USD$_Euro€'!$E:$O,11,FALSE),\"\")","v":""}]
[null,null,null,{"$f":"IFERROR(VLOOKUP($A2432,'Lista de Precios_Bolívares_S'!$F:$Q,6,FALSE),\"\")","v":""},{"$f":"IFERROR(VLOOKUP($A2432,'Lista de Precios_Bolívares_S'!$F:$Q,12,FALSE),\"\")","v":""},"",{"$f":"IFERROR(VLOOKUP($A2432,'Lista de Precios_USD$_Euro€'!$E:$O,11,FALSE),\"\")","v":""}]
[null,null,null,{"$f":"IFERROR(VLOOKUP($A2433,'Lista de Precios_Bolívares_S'!$F:$Q,6,FALSE),\"\")","v":""},{"$f":"IFERROR(VLOOKUP($A2433,'Lista de Precios_Bolívares_S'!$F:$Q,12,FALSE),\"\")","v":""},"",{"$f":"IFERROR(VLOOKUP($A2433,'Lista de Precios_USD$_Euro€'!$E:$O,11,FALSE),\"\")","v":""}]
[null,null,null,{"$f":"IFERROR(VLOOKUP($A2434,'Lista de Precios_Bolívares_S'!$F:$Q,6,FALSE),\"\")","v":""},{"$f":"IFERROR(VLOOKUP($A2434,'Lista de Precios_Bolívares_S'!$F:$Q,12,FALSE),\"\")","v":""},"",{"$f":"IFERROR(VLOOKUP($A2434,'Lista de Precios_USD$_Euro€'!$E:$O,11,FALSE),\"\")","v":""}]
[null,null,null,{"$f":"IFERROR(VLOOKUP($A2435,'Lista de Precios_Bolívares_S'!$F:$Q,6,FALSE),\"\")","v":""},{"$f":"IFERROR(VLOOKUP($A2435,'Lista de Precios_Bolívares_S'!$F:$Q,12,FALSE),\"\")","v":""},"",{"$f":"IFERROR(VLOOKUP($A2435,'Lista de Precios_USD$_Euro€'!$E:$O,11,FALSE),\"\")","v":""}]
[null,null,null,{"$f":"IFERROR(VLOOKUP($A2436,'Lista de Precios_Bolívares_S'!$F:$Q,6,FALSE),\"\")","v":""},{"$f":"IFERROR(VLOOKUP($A2436,'Lista de Precios_Bolívares_S'!$F:$Q,12,FALSE),\"\")","v":""},"",{"$f":"IFERROR(VLOOKUP($A2436,'Lista de Precios_USD$_Euro€'!$E:$O,11,FALSE),\"\")","v":""}]
[null,null,null,{"$f":"IFERROR(VLOOKUP($A2437,'Lista de Precios_Bolívares_S'!$F:$Q,6,FALSE),\"\")","v":""},{"$f":"IFERROR(VLOOKUP($A2437,'Lista de Precios_Bolívares_S'!$F:$Q,12,FALSE),\"\")","v":""},"",{"$f":"IFERROR(VLOOKUP($A2437,'Lista de Precios_USD$_Euro€'!$E:$O,11,FALSE),\"\")","v":""}]
[null,null,null,{"$f":"IFERROR(VLOOKUP($A2438,'Lista de Precios_Bolívares_S'!$F:$Q,6,FALSE),\"\")","v":""},{"$f":"IFERROR(VLOOKUP($A2438,'Lista de Precios_Bolívares_S'!$F:$Q,12,FALSE),\"\")","v":""},"",{"$f":"IFERROR(VLOOKUP($A2438,'Lista de Precios_USD$_Euro€'!$E:$O,11,FALSE),\"\")","v":""}]
[null,null,null,{"$f":"IFERROR(VLOOKUP($A2439,'Lista de Precios_Bolívares_S'!$F:$Q,6,FALSE),\"\")","v":""},{"$f":"IFERROR(VLOOKUP($A2439,'Lista de Precios_Bolívares_S'!$F:$Q,12,FALSE),\"\")","v":""},"",{"$f":"IFERROR(VLOOKUP($A2439,'Lista de Precios_USD$_Euro€'!$E:$O,11,FALSE),\"\")","v":""}]
[null,null,null,{"$f":"IFERROR(VLOOKUP($A2440,'Lista de Precios_Bolívares_S'!$F:$Q,6,FALSE),\"\")","v":""},{"$f":"IFERROR(VLOOKUP($A2440,'Lista de Precios_Bolívares_S'!$F:$Q,12,FALSE),\"\")","v":""},"",{"$f":"IFERROR(VLOOKUP($A2440,'Lista de Precios_USD$_Euro€'!$E:$O,11,FALSE),\"\")","v":""}]
[null,null,null,{"$f":"IFERROR(VLOOKUP($A2441,'Lista de Precios_Bolívares_S'!$F:$Q,6,FALSE),\"\")","v":""},{"$f":"IFERROR(VLOOKUP($A2441,'Lista de Precios_Bolívares_S'!$F:$Q,12,FALSE),\"\")","v":""},"",{"$f":"IFERROR(VLOOKUP($A2441,'Lista de Precios_USD$_Euro€'!$E:$O,11,FALSE),\"\")","v":""}]
[null,null,null,{"$f":"IFERROR(VLOOKUP($A2442,'Lista de Precios_Bolívares_S'!$F:$Q,6,FALSE),\"\")","v":""},{"$f":"IFERROR(VLOOKUP($A2442,'Lista de Precios_Bolívares_S'!$F:$Q,12,FALSE),\"\")","v":""},"",{"$f":"IFERROR(VLOOKUP($A2442,'Lista de Precios_USD$_Euro€'!$E:$O,11,FALSE),\"\")","v":""}]
[null,null,null,{"$f":"IFERROR(VLOOKUP($A2443,'Lista de Precios_Bolívares_S'!$F:$Q,6,FALSE),\"\")","v":""},{"$f":"IFERROR(VLOOKUP($A2443,'Lista de Precios_Bolívares_S'!$F:$Q,12,FALSE),\"\")","v":""},"",{"$f":"IFERROR(VLOOKUP($A2443,'Lista de Precios_USD$_Euro€'!$E:$O,11,FALSE),\"\")","v":""}]
[null,null,null,{"$f":"IFERROR(VLOOKUP($A2444,'Lista de Precios_Bolívares_S'!$F:$Q,6,FALSE),\"\")","v":""},{"$f":"IFERROR(VLOOKUP($A2444,'Lista de Precios_Bolívares_S'!$F:$Q,12,FALSE),\"\")","v":""},"",{"$f":"IFERROR(VLOOKUP($A2444,'Lista de Precios_USD$_Euro€'!$E:$O,11,FALSE),\"\")","v":""}]
[null,null,null,{"$f":"IFERROR(VLOOKUP($A2445,'Lista de Precios_Bolívares_S'!$F:$Q,6,FALSE),\"\")","v":""},{"$f":"IFERROR(VLOOKUP($A2445,'Lista de Precios_Bolívares_S'!$F:$Q,12,FALSE),\"\")","v":""},"",{"$f":"IFERROR(VLOOKUP($A2445,'Lista de Precios_USD$_Euro€'!$E:$O,11,FALSE),\"\")","v":""}]
[null,null,null,{"$f":"IFERROR(VLOOKUP($A2446,'Lista de Precios_Bolívares_S'!$F:$Q,6,FALSE),\"\")","v":""},{"$f":"IFERROR(VLOOKUP($A2446,'Lista de Precios_Bolívares_S'!$F:$Q,12,FALSE),\"\")","v":""},"",{"$f":"IFERROR(VLOOKUP($A2446,'Lista de Precios_USD$_Euro€'!$E:$O,11,FALSE),\"\")","v":""}]
[null,null,null,{"$f":"IFERROR(VLOOKUP($A2447,'Lista de Precios_Bolívares_S'!$F:$Q,6,FALSE),\"\")","v":""},{"$f":"IFERROR(VLOOKUP($A2447,'Lista de Precios_Bolívares_S'!$F:$Q,12,FALSE),\"\")","v":""},"",{"$f":"IFERROR(VLOOKUP($A2447,'Lista de Precios_USD$_Euro€'!$E:$O,11,FALSE),\"\")","v":""}]
[null,null,null,{"$f":"IFERROR(VLOOKUP($A2448,'Lista de Precios_Bolívares_S'!$F:$Q,6,FALSE),\"\")","v":""},{"$f":"IFERROR(VLOOKUP($A2448,'Lista de Precios_Bolívares_S'!$F:$Q,12,FALSE),\"\")","v":""},"",{"$f":"IFERROR(VLOOKUP($A2448,'Lista de Precios_USD$_Euro€'!$E:$O,11,FALSE),\"\")","v":""}]
[null,null,null,{"$f":"IFERROR(VLOOKUP($A2449,'Lista de Precios_Bolívares_S'!$F:$Q,6,FALSE),\"\")","v":""},{"$f":"IFERROR(VLOOKUP($A2449,'Lista de Precios_Bolívares_S'!$F:$Q,12,FALSE),\"\")","v":""},"",{"$f":"IFERROR(VLOOKUP($A2449,'Lista de Precios_USD$_Euro€'!$E:$O,11,FALSE),\"\")","v":""}]
[null,null,null,{"$f":"IFERROR(VLOOKUP($A2450,'Lista de Precios_Bolívares_S'!$F:$Q,6,FALSE),\"\")","v":""},{"$f":"IFERROR(VLOOKUP($A2450,'Lista de Precios_Bolívares_S'!$F:$Q,12,FALSE),\"\")","v":""},"",{"$f":"IFERROR(VLOOKUP($A2450,'Lista de Precios_USD$_Euro€'!$E:$O,11,FALSE),\"\")","v":""}]
[null,null,null,{"$f":"IFERROR(VLOOKUP($A2451,'Lista de Precios_Bolívares_S'!$F:$Q,6,FALSE),\"\")","v":""},{"$f":"IFERROR(VLOOKUP($A2451,'Lista de Precios_Bolívares_S'!$F:$Q,12,FALSE),\"\")","v":""},"",{"$f":"IFERROR(VLOOKUP($A2451,'Lista de Precios_USD$_Euro€'!$E:$O,11,FALSE),\"\")","v":""}]
[null,null,null,{"$f":"IFERROR(VLOOKUP($A2452,'Lista de Precios_Bolívares_S'!$F:$Q,6,FALSE),\"\")","v":""},{"$f":"IFERROR(VLOOKUP($A2452,'Lista de Precios_Bolívares_S'!$F:$Q,12,FALSE),\"\")","v":""},"",{"$f":"IFERROR(VLOOKUP($A2452,'Lista de Precios_USD$_Euro€'!$E:$O,11,FALSE),\"\")","v":""}]
[null,null,null,{"$f":"IFERROR(VLOOKUP($A2453,'Lista de Precios_Bolívares_S'!$F:$Q,6,FALSE),\"\")","v":""},{"$f":"IFERROR(VLOOKUP($A2453,'Lista de Precios_Bolívares_S'!$F:$Q,12,FALSE),\"\")","v":""},"",{"$f":"IFERROR(VLOOKUP($A2453,'Lista de Precios_USD$_Euro€'!$E:$O,11,FALSE),\"\")","v":""}]
[null,null,null,{"$f":"IFERROR(VLOOKUP($A2454,'Lista de Precios_Bolívares_S'!$F:$Q,6,FALSE),\"\")","v":""},{"$f":"IFERROR(VLOOKUP($A2454,'Lista de Precios_Bolívares_S'!$F:$Q,12,FALSE),\"\")","v":""},"",{"$f":"IFERROR(VLOOKUP($A2454,'Lista de Precios_USD$_Euro€'!$E:$O,11,FALSE),\"\")","v":""}]
[null,null,null,{"$f":"IFERROR(VLOOKUP($A2455,'Lista de Precios_Bolívares_S'!$F:$Q,6,FALSE),\"\")","v":""},{"$f":"IFERROR(VLOOKUP($A2455,'Lista de Precios_Bolívares_S'!$F:$Q,12,FALSE),\"\")","v":""},"",{"$f":"IFERROR(VLOOKUP($A2455,'Lista de Precios_USD$_Euro€'!$E:$O,11,FALSE),\"\")","v":""}]
[null,null,null,{"$f":"IFERROR(VLOOKUP($A2456,'Lista de Precios_Bolívares_S'!$F:$Q,6,FALSE),\"\")","v":""},{"$f":"IFERROR(VLOOKUP($A2456,'Lista de Precios_Bolívares_S'!$F:$Q,12,FALSE),\"\")","v":""},"",{"$f":"IFERROR(VLOOKUP($A2456,'Lista de Precios_USD$_Euro€'!$E:$O,11,FALSE),\"\")","v":""}]
[null,null,null,{"$f":"IFERROR(VLOOKUP($A2457,'Lista de Precios_Bolívares_S'!$F:$Q,6,FALSE),\"\")","v":""},{"$f":"IFERROR(VLOOKUP($A2457,'Lista de Precios_Bolívares_S'!$F:$Q,12,FALSE),\"\")","v":""},{"$f":"IFERROR(IF(ROUND($C2457,2)=ROUND($D2432,2),ROUND($E2432,2),ROUND($C2457,2)),\"\")","v":""},{"$f":"IFERROR(VLOOKUP($A2457,'Lista de Precios_USD$_Euro€'!$E:$O,11,FALSE),\"\")","v":""}]
[null,null,null,{"$f":"IFERROR(VLOOKUP($A2458,'Lista de Precios_Bolívares_S'!$F:$Q,6,FALSE),\"\")","v":""},{"$f":"IFERROR(VLOOKUP($A2458,'Lista de Precios_Bolívares_S'!$F:$Q,12,FALSE),\"\")","v":""},"",{"$f":"IFERROR(VLOOKUP($A2458,'Lista de Precios_USD$_Euro€'!$E:$O,11,FALSE),\"\")","v":""}]
[null,null,null,{"$f":"IFERROR(VLOOKUP($A2459,'Lista de Precios_Bolívares_S'!$F:$Q,6,FALSE),\"\")","v":""},{"$f":"IFERROR(VLOOKUP($A2459,'Lista de Precios_Bolívares_S'!$F:$Q,12,FALSE),\"\")","v":""},"",{"$f":"IFERROR(VLOOKUP($A2459,'Lista de Precios_USD$_Euro€'!$E:$O,11,FALSE),\"\")","v":""}]
[null,null,null,{"$f":"IFERROR(VLOOKUP($A2460,'Lista de Precios_Bolívares_S'!$F:$Q,6,FALSE),\"\")","v":""},{"$f":"IFERROR(VLOOKUP($A2460,'Lista de Precios_Bolívares_S'!$F:$Q,12,FALSE),\"\")","v":""},"",{"$f":"IFERROR(VLOOKUP($A2460,'Lista de Precios_USD$_Euro€'!$E:$O,11,FALSE),\"\")","v":""}]
[null,null,null,{"$f":"IFERROR(VLOOKUP($A2461,'Lista de Precios_Bolívares_S'!$F:$Q,6,FALSE),\"\")","v":""},{"$f":"IFERROR(VLOOKUP($A2461,'Lista de Precios_Bolívares_S'!$F:$Q,12,FALSE),\"\")","v":""},"",{"$f":"IFERROR(VLOOKUP($A2461,'Lista de Precios_USD$_Euro€'!$E:$O,11,FALSE),\"\")","v":""}]
[null,null,null,{"$f":"IFERROR(VLOOKUP($A2462,'Lista de Precios_Bolívares_S'!$F:$Q,6,FALSE),\"\")","v":""},{"$f":"IFERROR(VLOOKUP($A2462,'Lista de Precios_Bolívares_S'!$F:$Q,12,FALSE),\"\")","v":""},"",{"$f":"IFERROR(VLOOKUP($A2462,'Lista de Precios_USD$_Euro€'!$E:$O,11,FALSE),\"\")","v":""}]
[null,null,null,{"$f":"IFERROR(VLOOKUP($A2463,'Lista de Precios_Bolívares_S'!$F:$Q,6,FALSE),\"\")","v":""},{"$f":"IFERROR(VLOOKUP($A2463,'Lista de Precios_Bolívares_S'!$F:$Q,12,FALSE),\"\")","v":""},"",{"$f":"IFERROR(VLOOKUP($A2463,'Lista de Precios_USD$_Euro€'!$E:$O,11,FALSE),\"\")","v":""}]
[null,null,null,{"$f":"IFERROR(VLOOKUP($A2464,'Lista de Precios_Bolívares_S'!$F:$Q,6,FALSE),\"\")","v":""},{"$f":"IFERROR(VLOOKUP($A2464,'Lista de Precios_Bolívares_S'!$F:$Q,12,FALSE),\"\")","v":""},"",{"$f":"IFERROR(VLOOKUP($A2464,'Lista de Precios_USD$_Euro€'!$E:$O,11,FALSE),\"\")","v":""}]
[null,null,null,{"$f":"IFERROR(VLOOKUP($A2465,'Lista de Precios_Bolívares_S'!$F:$Q,6,FALSE),\"\")","v":""},{"$f":"IFERROR(VLOOKUP($A2465,'Lista de Precios_Bolívares_S'!$F:$Q,12,FALSE),\"\")","v":""},"",{"$f":"IFERROR(VLOOKUP($A2465,'Lista de Precios_USD$_Euro€'!$E:$O,11,FALSE),\"\")","v":""}]
[null,null,null,{"$f":"IFERROR(VLOOKUP($A2466,'Lista de Precios_Bolívares_S'!$F:$Q,6,FALSE),\"\")","v":""},{"$f":"IFERROR(VLOOKUP($A2466,'Lista de Precios_Bolívares_S'!$F:$Q,12,FALSE),\"\")","v":""},"",{"$f":"IFERROR(VLOOKUP($A2466,'Lista de Precios_USD$_Euro€'!$E:$O,11,FALSE),\"\")","v":""}]
[null,null,null,{"$f":"IFERROR(VLOOKUP($A2467,'Lista de Precios_Bolívares_S'!$F:$Q,6,FALSE),\"\")","v":""},{"$f":"IFERROR(VLOOKUP($A2467,'Lista de Precios_Bolívares_S'!$F:$Q,12,FALSE),\"\")","v":""},"",{"$f":"IFERROR(VLOOKUP($A2467,'Lista de Precios_USD$_Euro€'!$E:$O,11,FALSE),\"\")","v":""}]
[null,null,null,{"$f":"IFERROR(VLOOKUP($A2468,'Lista de Precios_Bolívares_S'!$F:$Q,6,FALSE),\"\")","v":""},{"$f":"IFERROR(VLOOKUP($A2468,'Lista de Precios_Bolívares_S'!$F:$Q,12,FALSE),\"\")","v":""},"",{"$f":"IFERROR(VLOOKUP($A2468,'Lista de Precios_USD$_Euro€'!$E:$O,11,FALSE),\"\")","v":""}]
[null,null,null,{"$f":"IFERROR(VLOOKUP($A2469,'Lista de Precios_Bolívares_S'!$F:$Q,6,FALSE),\"\")","v":""},{"$f":"IFERROR(VLOOKUP($A2469,'Lista de Precios_Bolívares_S'!$F:$Q,12,FALSE),\"\")","v":""},"",{"$f":"IFERROR(VLOOKUP($A2469,'Lista de Precios_USD$_Euro€'!$E:$O,11,FALSE),\"\")","v":""}]
[null,null,null,{"$f":"IFERROR(VLOOKUP($A2470,'Lista de Precios_Bolívares_S'!$F:$Q,6,FALSE),\"\")","v":""},{"$f":"IFERROR(VLOOKUP($A2470,'Lista de Precios_Bolívares_S'!$F:$Q,12,FALSE),\"\")","v":""},"",{"$f":"IFERROR(VLOOKUP($A2470,'Lista de Precios_USD$_Euro€'!$E:$O,11,FALSE),\"\")","v":""}]
[null,null,null,{"$f":"IFERROR(VLOOKUP($A2471,'Lista de Precios_Bolívares_S'!$F:$Q,6,FALSE),\"\")","v":""},{"$f":"IFERROR(VLOOKUP($A2471,'Lista de Precios_Bolívares_S'!$F:$Q,12,FALSE),\"\")","v":""},"",{"$f":"IFERROR(VLOOKUP($A2471,'Lista de Precios_USD$_Euro€'!$E:$O,11,FALSE),\"\")","v":""}]
[null,null,null,{"$f":"IFERROR(VLOOKUP($A2472,'Lista de Precios_Bolívares_S'!$F:$Q,6,FALSE),\"\")","v":""},{"$f":"IFERROR(VLOOKUP($A2472,'Lista de Precios_Bolívares_S'!$F:$Q,12,FALSE),\"\")","v":""},"",{"$f":"IFERROR(VLOOKUP($A2472,'Lista de Precios_USD$_Euro€'!$E:$O,11,FALSE),\"\")","v":""}]
[null,null,null,{"$f":"IFERROR(VLOOKUP($A2473,'Lista de Precios_Bolívares_S'!$F:$Q,6,FALSE),\"\")","v":""},{"$f":"IFERROR(VLOOKUP($A2473,'Lista de Precios_Bolívares_S'!$F:$Q,12,FALSE),\"\")","v":""},"",{"$f":"IFERROR(VLOOKUP($A2473,'Lista de Precios_USD$_Euro€'!$E:$O,11,FALSE),\"\")","v":""}]
[null,null,null,{"$f":"IFERROR(VLOOKUP($A2474,'Lista de Precios_Bolívares_S'!$F:$Q,6,FALSE),\"\")","v":""},{"$f":"IFERROR(VLOOKUP($A2474,'Lista de Precios_Bolívares_S'!$F:$Q,12,FALSE),\"\")","v":""},"",{"$f":"IFERROR(VLOOKUP($A2474,'Lista de Precios_USD$_Euro€'!$E:$O,11,FALSE),\"\")","v":""}]
[null,null,null,{"$f":"IFERROR(VLOOKUP($A2475,'Lista de Precios_Bolívares_S'!$F:$Q,6,FALSE),\"\")","v":""},{"$f":"IFERROR(VLOOKUP($A2475,'Lista de Precios_Bolívares_S'!$F:$Q,12,FALSE),\"\")","v":""},"",{"$f":"IFERROR(VLOOKUP($A2475,'Lista de Precios_USD$_Euro€'!$E:$O,11,FALSE),\"\")","v":""}]
[null,null,null,{"$f":"IFERROR(VLOOKUP($A2476,'Lista de Precios_Bolívares_S'!$F:$Q,6,FALSE),\"\")","v":""},{"$f":"IFERROR(VLOOKUP($A2476,'Lista de Precios_Bolívares_S'!$F:$Q,12,FALSE),\"\")","v":""},"",{"$f":"IFERROR(VLOOKUP($A2476,'Lista de Precios_USD$_Euro€'!$E:$O,11,FALSE),\"\")","v":""}]
[null,null,null,{"$f":"IFERROR(VLOOKUP($A2477,'Lista de Precios_Bolívares_S'!$F:$Q,6,FALSE),\"\")","v":""},{"$f":"IFERROR(VLOOKUP($A2477,'Lista de Precios_Bolívares_S'!$F:$Q,12,FALSE),\"\")","v":""},"",{"$f":"IFERROR(VLOOKUP($A2477,'Lista de Precios_USD$_Euro€'!$E:$O,11,FALSE),\"\")","v":""}]
[null,null,null,{"$f":"IFERROR(VLOOKUP($A2478,'Lista de Precios_Bolívares_S'!$F:$Q,6,FALSE),\"\")","v":""},{"$f":"IFERROR(VLOOKUP($A2478,'Lista de Precios_Bolívares_S'!$F:$Q,12,FALSE),\"\")","v":""},"",{"$f":"IFERROR(VLOOKUP($A2478,'Lista de Precios_USD$_Euro€'!$E:$O,11,FALSE),\"\")","v":""}]
[null,null,null,{"$f":"IFERROR(VLOOKUP($A2479,'Lista de Precios_Bolívares_S'!$F:$Q,6,FALSE),\"\")","v":""},{"$f":"IFERROR(VLOOKUP($A2479,'Lista de Precios_Bolívares_S'!$F:$Q,12,FALSE),\"\")","v":""},"",{"$f":"IFERROR(VLOOKUP($A2479,'Lista de Precios_USD$_Euro€'!$E:$O,11,FALSE),\"\")","v":""}]
[null,null,null,{"$f":"IFERROR(VLOOKUP($A2480,'Lista de Precios_Bolívares_S'!$F:$Q,6,FALSE),\"\")","v":""},{"$f":"IFERROR(VLOOKUP($A2480,'Lista de Precios_Bolívares_S'!$F:$Q,12,FALSE),\"\")","v":""},"",{"$f":"IFERROR(VLOOKUP($A2480,'Lista de Precios_USD$_Euro€'!$E:$O,11,FALSE),\"\")","v":""}]
[null,null,null,{"$f":"IFERROR(VLOOKUP($A2481,'Lista de Precios_Bolívares_S'!$F:$Q,6,FALSE),\"\")","v":""},{"$f":"IFERROR(VLOOKUP($A2481,'Lista de Precios_Bolívares_S'!$F:$Q,12,FALSE),\"\")","v":""},"",{"$f":"IFERROR(VLOOKUP($A2481,'Lista de Precios_USD$_Euro€'!$E:$O,11,FALSE),\"\")","v":""}]
[null,null,null,{"$f":"IFERROR(VLOOKUP($A2482,'Lista de Precios_Bolívares_S'!$F:$Q,6,FALSE),\"\")","v":""},{"$f":"IFERROR(VLOOKUP($A2482,'Lista de Precios_Bolívares_S'!$F:$Q,12,FALSE),\"\")","v":""},"",{"$f":"IFERROR(VLOOKUP($A2482,'Lista de Precios_USD$_Euro€'!$E:$O,11,FALSE),\"\")","v":""}]
[null,null,null,{"$f":"IFERROR(VLOOKUP($A2483,'Lista de Precios_Bolívares_S'!$F:$Q,6,FALSE),\"\")","v":""},{"$f":"IFERROR(VLOOKUP($A2483,'Lista de Precios_Bolívares_S'!$F:$Q,12,FALSE),\"\")","v":""},"",{"$f":"IFERROR(VLOOKUP($A2483,'Lista de Precios_USD$_Euro€'!$E:$O,11,FALSE),\"\")","v":""}]
[null,null,null,{"$f":"IFERROR(VLOOKUP($A2484,'Lista de Precios_Bolívares_S'!$F:$Q,6,FALSE),\"\")","v":""},{"$f":"IFERROR(VLOOKUP($A2484,'Lista de Precios_Bolívares_S'!$F:$Q,12,FALSE),\"\")","v":""},"",{"$f":"IFERROR(VLOOKUP($A2484,'Lista de Precios_USD$_Euro€'!$E:$O,11,FALSE),\"\")","v":""}]
[null,null,null,{"$f":"IFERROR(VLOOKUP($A2485,'Lista de Precios_Bolívares_S'!$F:$Q,6,FALSE),\"\")","v":""},{"$f":"IFERROR(VLOOKUP($A2485,'Lista de Precios_Bolívares_S'!$F:$Q,12,FALSE),\"\")","v":""},"",{"$f":"IFERROR(VLOOKUP($A2485,'Lista de Precios_USD$_Euro€'!$E:$O,11,FALSE),\"\")","v":""}]
[null,null,null,{"$f":"IFERROR(VLOOKUP($A2486,'Lista de Precios_Bolívares_S'!$F:$Q,6,FALSE),\"\")","v":""},{"$f":"IFERROR(VLOOKUP($A2486,'Lista de Precios_Bolívares_S'!$F:$Q,12,FALSE),\"\")","v":""},"",{"$f":"IFERROR(VLOOKUP($A2486,'Lista de Precios_USD$_Euro€'!$E:$O,11,FALSE),\"\")","v":""}]
[null,null,null,{"$f":"IFERROR(VLOOKUP($A2487,'Lista de Precios_Bolívares_S'!$F:$Q,6,FALSE),\"\")","v":""},{"$f":"IFERROR(VLOOKUP($A2487,'Lista de Precios_Bolívares_S'!$F:$Q,12,FALSE),\"\")","v":""},"",{"$f":"IFERROR(VLOOKUP($A2487,'Lista de Precios_USD$_Euro€'!$E:$O,11,FALSE),\"\")","v":""}]
[null,null,null,{"$f":"IFERROR(VLOOKUP($A2488,'Lista de Precios_Bolívares_S'!$F:$Q,6,FALSE),\"\")","v":""},{"$f":"IFERROR(VLOOKUP($A2488,'Lista de Precios_Bolívares_S'!$F:$Q,12,FALSE),\"\")","v":""},"",{"$f":"IFERROR(VLOOKUP($A2488,'Lista de Precios_USD$_Euro€'!$E:$O,11,FALSE),\"\")","v":""}]
[null,null,null,{"$f":"IFERROR(VLOOKUP($A2489,'Lista de Precios_Bolívares_S'!$F:$Q,6,FALSE),\"\")","v":""},{"$f":"IFERROR(VLOOKUP($A2489,'Lista de Precios_Bolívares_S'!$F:$Q,12,FALSE),\"\")","v":""},"",{"$f":"IFERROR(VLOOKUP($A2489,'Lista de Precios_USD$_Euro€'!$E:$O,11,FALSE),\"\")","v":""}]
[null,null,null,{"$f":"IFERROR(VLOOKUP($A2490,'Lista de Precios_Bolívares_S'!$F:$Q,6,FALSE),\"\")","v":""},{"$f":"IFERROR(VLOOKUP($A2490,'Lista de Precios_Bolívares_S'!$F:$Q,12,FALSE),\"\")","v":""},"",{"$f":"IFERROR(VLOOKUP($A2490,'Lista de Precios_USD$_Euro€'!$E:$O,11,FALSE),\"\")","v":""}]
[null,null,null,{"$f":"IFERROR(VLOOKUP($A2491,'Lista de Precios_Bolívares_S'!$F:$Q,6,FALSE),\"\")","v":""},{"$f":"IFERROR(VLOOKUP($A2491,'Lista de Precios_Bolívares_S'!$F:$Q,12,FALSE),\"\")","v":""},"",{"$f":"IFERROR(VLOOKUP($A2491,'Lista de Precios_USD$_Euro€'!$E:$O,11,FALSE),\"\")","v":""}]
[null,null,null,{"$f":"IFERROR(VLOOKUP($A2492,'Lista de Precios_Bolívares_S'!$F:$Q,6,FALSE),\"\")","v":""},{"$f":"IFERROR(VLOOKUP($A2492,'Lista de Precios_Bolívares_S'!$F:$Q,12,FALSE),\"\")","v":""},"",{"$f":"IFERROR(VLOOKUP($A2492,'Lista de Precios_USD$_Euro€'!$E:$O,11,FALSE),\"\")","v":""}]
[null,null,null,{"$f":"IFERROR(VLOOKUP($A2493,'Lista de Precios_Bolívares_S'!$F:$Q,6,FALSE),\"\")","v":""},{"$f":"IFERROR(VLOOKUP($A2493,'Lista de Precios_Bolívares_S'!$F:$Q,12,FALSE),\"\")","v":""},"",{"$f":"IFERROR(VLOOKUP($A2493,'Lista de Precios_USD$_Euro€'!$E:$O,11,FALSE),\"\")","v":""}]
[null,null,null,{"$f":"IFERROR(VLOOKUP($A2494,'Lista de Precios_Bolívares_S'!$F:$Q,6,FALSE),\"\")","v":""},{"$f":"IFERROR(VLOOKUP($A2494,'Lista de Precios_Bolívares_S'!$F:$Q,12,FALSE),\"\")","v":""},"",{"$f":"IFERROR(VLOOKUP($A2494,'Lista de Precios_USD$_Euro€'!$E:$O,11,FALSE),\"\")","v":""}]
[null,null,null,{"$f":"IFERROR(VLOOKUP($A2495,'Lista de Precios_Bolívares_S'!$F:$Q,6,FALSE),\"\")","v":""},{"$f":"IFERROR(VLOOKUP($A2495,'Lista de Precios_Bolívares_S'!$F:$Q,12,FALSE),\"\")","v":""},"",{"$f":"IFERROR(VLOOKUP($A2495,'Lista de Precios_USD$_Euro€'!$E:$O,11,FALSE),\"\")","v":""}]
[null,null,null,{"$f":"IFERROR(VLOOKUP($A2496,'Lista de Precios_Bolívares_S'!$F:$Q,6,FALSE),\"\")","v":""},{"$f":"IFERROR(VLOOKUP($A2496,'Lista de Precios_Bolívares_S'!$F:$Q,12,FALSE),\"\")","v":""},"",{"$f":"IFERROR(VLOOKUP($A2496,'Lista de Precios_USD$_Euro€'!$E:$O,11,FALSE),\"\")","v":""}]
[null,null,null,{"$f":"IFERROR(VLOOKUP($A2497,'Lista de Precios_Bolívares_S'!$F:$Q,6,FALSE),\"\")","v":""},{"$f":"IFERROR(VLOOKUP($A2497,'Lista de Precios_Bolívares_S'!$F:$Q,12,FALSE),\"\")","v":""},"",{"$f":"IFERROR(VLOOKUP($A2497,'Lista de Precios_USD$_Euro€'!$E:$O,11,FALSE),\"\")","v":""}]
[null,null,null,{"$f":"IFERROR(VLOOKUP($A2498,'Lista de Precios_Bolívares_S'!$F:$Q,6,FALSE),\"\")","v":""},{"$f":"IFERROR(VLOOKUP($A2498,'Lista de Precios_Bolívares_S'!$F:$Q,12,FALSE),\"\")","v":""},"",{"$f":"IFERROR(VLOOKUP($A2498,'Lista de Precios_USD$_Euro€'!$E:$O,11,FALSE),\"\")","v":""}]
[null,null,null,{"$f":"IFERROR(VLOOKUP($A2499,'Lista de Precios_Bolívares_S'!$F:$Q,6,FALSE),\"\")","v":""},{"$f":"IFERROR(VLOOKUP($A2499,'Lista de Precios_Bolívares_S'!$F:$Q,12,FALSE),\"\")","v":""},"",{"$f":"IFERROR(VLOOKUP($A2499,'Lista de Precios_USD$_Euro€'!$E:$O,11,FALSE),\"\")","v":""}]
[null,null,null,{"$f":"IFERROR(VLOOKUP($A2500,'Lista de Precios_Bolívares_S'!$F:$Q,6,FALSE),\"\")","v":""},{"$f":"IFERROR(VLOOKUP($A2500,'Lista de Precios_Bolívares_S'!$F:$Q,12,FALSE),\"\")","v":""},"",{"$f":"IFERROR(VLOOKUP($A2500,'Lista de Precios_USD$_Euro€'!$E:$O,11,FALSE),\"\")","v":""}]
[null,null,null,{"$f":"IFERROR(VLOOKUP($A2501,'Lista de Precios_Bolívares_S'!$F:$Q,6,FALSE),\"\")","v":""},{"$f":"IFERROR(VLOOKUP($A2501,'Lista de Precios_Bolívares_S'!$F:$Q,12,FALSE),\"\")","v":""},"",{"$f":"IFERROR(VLOOKUP($A2501,'Lista de Precios_USD$_Euro€'!$E:$O,11,FALSE),\"\")","v":""}]
[null,null,null,{"$f":"IFERROR(VLOOKUP($A2502,'Lista de Precios_Bolívares_S'!$F:$Q,6,FALSE),\"\")","v":""},{"$f":"IFERROR(VLOOKUP($A2502,'Lista de Precios_Bolívares_S'!$F:$Q,12,FALSE),\"\")","v":""},"",{"$f":"IFERROR(VLOOKUP($A2502,'Lista de Precios_USD$_Euro€'!$E:$O,11,FALSE),\"\")","v":""}]
[null,null,null,{"$f":"IFERROR(VLOOKUP($A2503,'Lista de Precios_Bolívares_S'!$F:$Q,6,FALSE),\"\")","v":""},{"$f":"IFERROR(VLOOKUP($A2503,'Lista de Precios_Bolívares_S'!$F:$Q,12,FALSE),\"\")","v":""},"",{"$f":"IFERROR(VLOOKUP($A2503,'Lista de Precios_USD$_Euro€'!$E:$O,11,FALSE),\"\")","v":""}]
[null,null,null,{"$f":"IFERROR(VLOOKUP($A2504,'Lista de Precios_Bolívares_S'!$F:$Q,6,FALSE),\"\")","v":""},{"$f":"IFERROR(VLOOKUP($A2504,'Lista de Precios_Bolívares_S'!$F:$Q,12,FALSE),\"\")","v":""},"",{"$f":"IFERROR(VLOOKUP($A2504,'Lista de Precios_USD$_Euro€'!$E:$O,11,FALSE),\"\")","v":""}]
[null,null,null,{"$f":"IFERROR(VLOOKUP($A2505,'Lista de Precios_Bolívares_S'!$F:$Q,6,FALSE),\"\")","v":""},{"$f":"IFERROR(VLOOKUP($A2505,'Lista de Precios_Bolívares_S'!$F:$Q,12,FALSE),\"\")","v":""},"",{"$f":"IFERROR(VLOOKUP($A2505,'Lista de Precios_USD$_Euro€'!$E:$O,11,FALSE),\"\")","v":""}]
[null,null,null,{"$f":"IFERROR(VLOOKUP($A2506,'Lista de Precios_Bolívares_S'!$F:$Q,6,FALSE),\"\")","v":""},{"$f":"IFERROR(VLOOKUP($A2506,'Lista de Precios_Bolívares_S'!$F:$Q,12,FALSE),\"\")","v":""},"",{"$f":"IFERROR(VLOOKUP($A2506,'Lista de Precios_USD$_Euro€'!$E:$O,11,FALSE),\"\")","v":""}]
[null,null,null,{"$f":"IFERROR(VLOOKUP($A2507,'Lista de Precios_Bolívares_S'!$F:$Q,6,FALSE),\"\")","v":""},{"$f":"IFERROR(VLOOKUP($A2507,'Lista de Precios_Bolívares_S'!$F:$Q,12,FALSE),\"\")","v":""},"",{"$f":"IFERROR(VLOOKUP($A2507,'Lista de Precios_USD$_Euro€'!$E:$O,11,FALSE),\"\")","v":""}]
[null,null,null,{"$f":"IFERROR(VLOOKUP($A2508,'Lista de Precios_Bolívares_S'!$F:$Q,6,FALSE),\"\")","v":""},{"$f":"IFERROR(VLOOKUP($A2508,'Lista de Precios_Bolívares_S'!$F:$Q,12,FALSE),\"\")","v":""},"",{"$f":"IFERROR(VLOOKUP($A2508,'Lista de Precios_USD$_Euro€'!$E:$O,11,FALSE),\"\")","v":""}]
[null,null,null,{"$f":"IFERROR(VLOOKUP($A2509,'Lista de Precios_Bolívares_S'!$F:$Q,6,FALSE),\"\")","v":""},{"$f":"IFERROR(VLOOKUP($A2509,'Lista de Precios_Bolívares_S'!$F:$Q,12,FALSE),\"\")","v":""},"",{"$f":"IFERROR(VLOOKUP($A2509,'Lista de Precios_USD$_Euro€'!$E:$O,11,FALSE),\"\")","v":""}]
[null,null,null,{"$f":"IFERROR(VLOOKUP($A2510,'Lista de Precios_Bolívares_S'!$F:$Q,6,FALSE),\"\")","v":""},{"$f":"IFERROR(VLOOKUP($A2510,'Lista de Precios_Bolívares_S'!$F:$Q,12,FALSE),\"\")","v":""},"",{"$f":"IFERROR(VLOOKUP($A2510,'Lista de Precios_USD$_Euro€'!$E:$O,11,FALSE),\"\")","v":""}]
[null,null,null,{"$f":"IFERROR(VLOOKUP($A2511,'Lista de Precios_Bolívares_S'!$F:$Q,6,FALSE),\"\")","v":""},{"$f":"IFERROR(VLOOKUP($A2511,'Lista de Precios_Bolívares_S'!$F:$Q,12,FALSE),\"\")","v":""},"",{"$f":"IFERROR(VLOOKUP($A2511,'Lista de Precios_USD$_Euro€'!$E:$O,11,FALSE),\"\")","v":""}]
[null,null,null,{"$f":"IFERROR(VLOOKUP($A2512,'Lista de Precios_Bolívares_S'!$F:$Q,6,FALSE),\"\")","v":""},{"$f":"IFERROR(VLOOKUP($A2512,'Lista de Precios_Bolívares_S'!$F:$Q,12,FALSE),\"\")","v":""},"",{"$f":"IFERROR(VLOOKUP($A2512,'Lista de Precios_USD$_Euro€'!$E:$O,11,FALSE),\"\")","v":""}]
[null,null,null,{"$f":"IFERROR(VLOOKUP($A2513,'Lista de Precios_Bolívares_S'!$F:$Q,6,FALSE),\"\")","v":""},{"$f":"IFERROR(VLOOKUP($A2513,'Lista de Precios_Bolívares_S'!$F:$Q,12,FALSE),\"\")","v":""},"",{"$f":"IFERROR(VLOOKUP($A2513,'Lista de Precios_USD$_Euro€'!$E:$O,11,FALSE),\"\")","v":""}]
[null,null,null,{"$f":"IFERROR(VLOOKUP($A2514,'Lista de Precios_Bolívares_S'!$F:$Q,6,FALSE),\"\")","v":""},{"$f":"IFERROR(VLOOKUP($A2514,'Lista de Precios_Bolívares_S'!$F:$Q,12,FALSE),\"\")","v":""},"",{"$f":"IFERROR(VLOOKUP($A2514,'Lista de Precios_USD$_Euro€'!$E:$O,11,FALSE),\"\")","v":""}]
[null,null,null,{"$f":"IFERROR(VLOOKUP($A2515,'Lista de Precios_Bolívares_S'!$F:$Q,6,FALSE),\"\")","v":""},{"$f":"IFERROR(VLOOKUP($A2515,'Lista de Precios_Bolívares_S'!$F:$Q,12,FALSE),\"\")","v":""},"",{"$f":"IFERROR(VLOOKUP($A2515,'Lista de Precios_USD$_Euro€'!$E:$O,11,FALSE),\"\")","v":""}]
[null,null,null,{"$f":"IFERROR(VLOOKUP($A2516,'Lista de Precios_Bolívares_S'!$F:$Q,6,FALSE),\"\")","v":""},{"$f":"IFERROR(VLOOKUP($A2516,'Lista de Precios_Bolívares_S'!$F:$Q,12,FALSE),\"\")","v":""},"",{"$f":"IFERROR(VLOOKUP($A2516,'Lista de Precios_USD$_Euro€'!$E:$O,11,FALSE),\"\")","v":""}]
[null,null,null,{"$f":"IFERROR(VLOOKUP($A2517,'Lista de Precios_Bolívares_S'!$F:$Q,6,FALSE),\"\")","v":""},{"$f":"IFERROR(VLOOKUP($A2517,'Lista de Precios_Bolívares_S'!$F:$Q,12,FALSE),\"\")","v":""},"",{"$f":"IFERROR(VLOOKUP($A2517,'Lista de Precios_USD$_Euro€'!$E:$O,11,FALSE),\"\")","v":""}]
[null,null,null,{"$f":"IFERROR(VLOOKUP($A2518,'Lista de Precios_Bolívares_S'!$F:$Q,6,FALSE),\"\")","v":""},{"$f":"IFERROR(VLOOKUP($A2518,'Lista de Precios_Bolívares_S'!$F:$Q,12,FALSE),\"\")","v":""},"",{"$f":"IFERROR(VLOOKUP($A2518,'Lista de Precios_USD$_Euro€'!$E:$O,11,FALSE),\"\")","v":""}]
[null,null,null,{"$f":"IFERROR(VLOOKUP($A2519,'Lista de Precios_Bolívares_S'!$F:$Q,6,FALSE),\"\")","v":""},{"$f":"IFERROR(VLOOKUP($A2519,'Lista de Precios_Bolívares_S'!$F:$Q,12,FALSE),\"\")","v":""},"",{"$f":"IFERROR(VLOOKUP($A2519,'Lista de Precios_USD$_Euro€'!$E:$O,11,FALSE),\"\")","v":""}]
[null,null,null,{"$f":"IFERROR(VLOOKUP($A2520,'Lista de Precios_Bolívares_S'!$F:$Q,6,FALSE),\"\")","v":""},{"$f":"IFERROR(VLOOKUP($A2520,'Lista de Precios_Bolívares_S'!$F:$Q,12,FALSE),\"\")","v":""},"",{"$f":"IFERROR(VLOOKUP($A2520,'Lista de Precios_USD$_Euro€'!$E:$O,11,FALSE),\"\")","v":""}]
[null,null,null,{"$f":"IFERROR(VLOOKUP($A2521,'Lista de Precios_Bolívares_S'!$F:$Q,6,FALSE),\"\")","v":""},{"$f":"IFERROR(VLOOKUP($A2521,'Lista de Precios_Bolívares_S'!$F:$Q,12,FALSE),\"\")","v":""},{"$f":"IFERROR(IF(ROUND($C2521,2)=ROUND($D2496,2),ROUND($E2496,2),ROUND($C2521,2)),\"\")","v":""},{"$f":"IFERROR(VLOOKUP($A2521,'Lista de Precios_USD$_Euro€'!$E:$O,11,FALSE),\"\")","v":""}]
[null,null,null,{"$f":"IFERROR(VLOOKUP($A2522,'Lista de Precios_Bolívares_S'!$F:$Q,6,FALSE),\"\")","v":""},{"$f":"IFERROR(VLOOKUP($A2522,'Lista de Precios_Bolívares_S'!$F:$Q,12,FALSE),\"\")","v":""},"",{"$f":"IFERROR(VLOOKUP($A2522,'Lista de Precios_USD$_Euro€'!$E:$O,11,FALSE),\"\")","v":""}]
[null,null,null,{"$f":"IFERROR(VLOOKUP($A2523,'Lista de Precios_Bolívares_S'!$F:$Q,6,FALSE),\"\")","v":""},{"$f":"IFERROR(VLOOKUP($A2523,'Lista de Precios_Bolívares_S'!$F:$Q,12,FALSE),\"\")","v":""},"",{"$f":"IFERROR(VLOOKUP($A2523,'Lista de Precios_USD$_Euro€'!$E:$O,11,FALSE),\"\")","v":""}]
[null,null,null,{"$f":"IFERROR(VLOOKUP($A2524,'Lista de Precios_Bolívares_S'!$F:$Q,6,FALSE),\"\")","v":""},{"$f":"IFERROR(VLOOKUP($A2524,'Lista de Precios_Bolívares_S'!$F:$Q,12,FALSE),\"\")","v":""},"",{"$f":"IFERROR(VLOOKUP($A2524,'Lista de Precios_USD$_Euro€'!$E:$O,11,FALSE),\"\")","v":""}]
[null,null,null,{"$f":"IFERROR(VLOOKUP($A2525,'Lista de Precios_Bolívares_S'!$F:$Q,6,FALSE),\"\")","v":""},{"$f":"IFERROR(VLOOKUP($A2525,'Lista de Precios_Bolívares_S'!$F:$Q,12,FALSE),\"\")","v":""},"",{"$f":"IFERROR(VLOOKUP($A2525,'Lista de Precios_USD$_Euro€'!$E:$O,11,FALSE),\"\")","v":""}]
[null,null,null,{"$f":"IFERROR(VLOOKUP($A2526,'Lista de Precios_Bolívares_S'!$F:$Q,6,FALSE),\"\")","v":""},{"$f":"IFERROR(VLOOKUP($A2526,'Lista de Precios_Bolívares_S'!$F:$Q,12,FALSE),\"\")","v":""},"",{"$f":"IFERROR(VLOOKUP($A2526,'Lista de Precios_USD$_Euro€'!$E:$O,11,FALSE),\"\")","v":""}]
[null,null,null,{"$f":"IFERROR(VLOOKUP($A2527,'Lista de Precios_Bolívares_S'!$F:$Q,6,FALSE),\"\")","v":""},{"$f":"IFERROR(VLOOKUP($A2527,'Lista de Precios_Bolívares_S'!$F:$Q,12,FALSE),\"\")","v":""},"",{"$f":"IFERROR(VLOOKUP($A2527,'Lista de Precios_USD$_Euro€'!$E:$O,11,FALSE),\"\")","v":""}]
[null,null,null,{"$f":"IFERROR(VLOOKUP($A2528,'Lista de Precios_Bolívares_S'!$F:$Q,6,FALSE),\"\")","v":""},{"$f":"IFERROR(VLOOKUP($A2528,'Lista de Precios_Bolívares_S'!$F:$Q,12,FALSE),\"\")","v":""},"",{"$f":"IFERROR(VLOOKUP($A2528,'Lista de Precios_USD$_Euro€'!$E:$O,11,FALSE),\"\")","v":""}]
[null,null,null,{"$f":"IFERROR(VLOOKUP($A2529,'Lista de Precios_Bolívares_S'!$F:$Q,6,FALSE),\"\")","v":""},{"$f":"IFERROR(VLOOKUP($A2529,'Lista de Precios_Bolívares_S'!$F:$Q,12,FALSE),\"\")","v":""},"",{"$f":"IFERROR(VLOOKUP($A2529,'Lista de Precios_USD$_Euro€'!$E:$O,11,FALSE),\"\")","v":""}]
[null,null,null,{"$f":"IFERROR(VLOOKUP($A2530,'Lista de Precios_Bolívares_S'!$F:$Q,6,FALSE),\"\")","v":""},{"$f":"IFERROR(VLOOKUP($A2530,'Lista de Precios_Bolívares_S'!$F:$Q,12,FALSE),\"\")","v":""},"",{"$f":"IFERROR(VLOOKUP($A2530,'Lista de Precios_USD$_Euro€'!$E:$O,11,FALSE),\"\")","v":""}]
[null,null,null,{"$f":"IFERROR(VLOOKUP($A2531,'Lista de Precios_Bolívares_S'!$F:$Q,6,FALSE),\"\")","v":""},{"$f":"IFERROR(VLOOKUP($A2531,'Lista de Precios_Bolívares_S'!$F:$Q,12,FALSE),\"\")","v":""},"",{"$f":"IFERROR(VLOOKUP($A2531,'Lista de Precios_USD$_Euro€'!$E:$O,11,FALSE),\"\")","v":""}]
[null,null,null,{"$f":"IFERROR(VLOOKUP($A2532,'Lista de Precios_Bolívares_S'!$F:$Q,6,FALSE),\"\")","v":""},{"$f":"IFERROR(VLOOKUP($A2532,'Lista de Precios_Bolívares_S'!$F:$Q,12,FALSE),\"\")","v":""},"",{"$f":"IFERROR(VLOOKUP($A2532,'Lista de Precios_USD$_Euro€'!$E:$O,11,FALSE),\"\")","v":""}]
[null,null,null,{"$f":"IFERROR(VLOOKUP($A2533,'Lista de Precios_Bolívares_S'!$F:$Q,6,FALSE),\"\")","v":""},{"$f":"IFERROR(VLOOKUP($A2533,'Lista de Precios_Bolívares_S'!$F:$Q,12,FALSE),\"\")","v":""},"",{"$f":"IFERROR(VLOOKUP($A2533,'Lista de Precios_USD$_Euro€'!$E:$O,11,FALSE),\"\")","v":""}]
[null,null,null,{"$f":"IFERROR(VLOOKUP($A2534,'Lista de Precios_Bolívares_S'!$F:$Q,6,FALSE),\"\")","v":""},{"$f":"IFERROR(VLOOKUP($A2534,'Lista de Precios_Bolívares_S'!$F:$Q,12,FALSE),\"\")","v":""},"",{"$f":"IFERROR(VLOOKUP($A2534,'Lista de Precios_USD$_Euro€'!$E:$O,11,FALSE),\"\")","v":""}]
[null,null,null,{"$f":"IFERROR(VLOOKUP($A2535,'Lista de Precios_Bolívares_S'!$F:$Q,6,FALSE),\"\")","v":""},{"$f":"IFERROR(VLOOKUP($A2535,'Lista de Precios_Bolívares_S'!$F:$Q,12,FALSE),\"\")","v":""},"",{"$f":"IFERROR(VLOOKUP($A2535,'Lista de Precios_USD$_Euro€'!$E:$O,11,FALSE),\"\")","v":""}]
[null,null,null,{"$f":"IFERROR(VLOOKUP($A2536,'Lista de Precios_Bolívares_S'!$F:$Q,6,FALSE),\"\")","v":""},{"$f":"IFERROR(VLOOKUP($A2536,'Lista de Precios_Bolívares_S'!$F:$Q,12,FALSE),\"\")","v":""},"",{"$f":"IFERROR(VLOOKUP($A2536,'Lista de Precios_USD$_Euro€'!$E:$O,11,FALSE),\"\")","v":""}]
[null,null,null,{"$f":"IFERROR(VLOOKUP($A2537,'Lista de Precios_Bolívares_S'!$F:$Q,6,FALSE),\"\")","v":""},{"$f":"IFERROR(VLOOKUP($A2537,'Lista de Precios_Bolívares_S'!$F:$Q,12,FALSE),\"\")","v":""},"",{"$f":"IFERROR(VLOOKUP($A2537,'Lista de Precios_USD$_Euro€'!$E:$O,11,FALSE),\"\")","v":""}]
[null,null,null,{"$f":"IFERROR(VLOOKUP($A2538,'Lista de Precios_Bolívares_S'!$F:$Q,6,FALSE),\"\")","v":""},{"$f":"IFERROR(VLOOKUP($A2538,'Lista de Precios_Bolívares_S'!$F:$Q,12,FALSE),\"\")","v":""},"",{"$f":"IFERROR(VLOOKUP($A2538,'Lista de Precios_USD$_Euro€'!$E:$O,11,FALSE),\"\")","v":""}]
[null,null,null,{"$f":"IFERROR(VLOOKUP($A2539,'Lista de Precios_Bolívares_S'!$F:$Q,6,FALSE),\"\")","v":""},{"$f":"IFERROR(VLOOKUP($A2539,'Lista de Precios_Bolívares_S'!$F:$Q,12,FALSE),\"\")","v":""},"",{"$f":"IFERROR(VLOOKUP($A2539,'Lista de Precios_USD$_Euro€'!$E:$O,11,FALSE),\"\")","v":""}]
[null,null,null,{"$f":"IFERROR(VLOOKUP($A2540,'Lista de Precios_Bolívares_S'!$F:$Q,6,FALSE),\"\")","v":""},{"$f":"IFERROR(VLOOKUP($A2540,'Lista de Precios_Bolívares_S'!$F:$Q,12,FALSE),\"\")","v":""},"",{"$f":"IFERROR(VLOOKUP($A2540,'Lista de Precios_USD$_Euro€'!$E:$O,11,FALSE),\"\")","v":""}]
[null,null,null,{"$f":"IFERROR(VLOOKUP($A2541,'Lista de Precios_Bolívares_S'!$F:$Q,6,FALSE),\"\")","v":""},{"$f":"IFERROR(VLOOKUP($A2541,'Lista de Precios_Bolívares_S'!$F:$Q,12,FALSE),\"\")","v":""},"",{"$f":"IFERROR(VLOOKUP($A2541,'Lista de Precios_USD$_Euro€'!$E:$O,11,FALSE),\"\")","v":""}]
[null,null,null,{"$f":"IFERROR(VLOOKUP($A2542,'Lista de Precios_Bolívares_S'!$F:$Q,6,FALSE),\"\")","v":""},{"$f":"IFERROR(VLOOKUP($A2542,'Lista de Precios_Bolívares_S'!$F:$Q,12,FALSE),\"\")","v":""},"",{"$f":"IFERROR(VLOOKUP($A2542,'Lista de Precios_USD$_Euro€'!$E:$O,11,FALSE),\"\")","v":""}]
[null,null,null,{"$f":"IFERROR(VLOOKUP($A2543,'Lista de Precios_Bolívares_S'!$F:$Q,6,FALSE),\"\")","v":""},{"$f":"IFERROR(VLOOKUP($A2543,'Lista de Precios_Bolívares_S'!$F:$Q,12,FALSE),\"\")","v":""},"",{"$f":"IFERROR(VLOOKUP($A2543,'Lista de Precios_USD$_Euro€'!$E:$O,11,FALSE),\"\")","v":""}]
[null,null,null,{"$f":"IFERROR(VLOOKUP($A2544,'Lista de Precios_Bolívares_S'!$F:$Q,6,FALSE),\"\")","v":""},{"$f":"IFERROR(VLOOKUP($A2544,'Lista de Precios_Bolívares_S'!$F:$Q,12,FALSE),\"\")","v":""},"",{"$f":"IFERROR(VLOOKUP($A2544,'Lista de Precios_USD$_Euro€'!$E:$O,11,FALSE),\"\")","v":""}]
[null,null,null,{"$f":"IFERROR(VLOOKUP($A2545,'Lista de Precios_Bolívares_S'!$F:$Q,6,FALSE),\"\")","v":""},{"$f":"IFERROR(VLOOKUP($A2545,'Lista de Precios_Bolívares_S'!$F:$Q,12,FALSE),\"\")","v":""},"",{"$f":"IFERROR(VLOOKUP($A2545,'Lista de Precios_USD$_Euro€'!$E:$O,11,FALSE),\"\")","v":""}]
[null,null,null,{"$f":"IFERROR(VLOOKUP($A2546,'Lista de Precios_Bolívares_S'!$F:$Q,6,FALSE),\"\")","v":""},{"$f":"IFERROR(VLOOKUP($A2546,'Lista de Precios_Bolívares_S'!$F:$Q,12,FALSE),\"\")","v":""},"",{"$f":"IFERROR(VLOOKUP($A2546,'Lista de Precios_USD$_Euro€'!$E:$O,11,FALSE),\"\")","v":""}]
[null,null,null,{"$f":"IFERROR(VLOOKUP($A2547,'Lista de Precios_Bolívares_S'!$F:$Q,6,FALSE),\"\")","v":""},{"$f":"IFERROR(VLOOKUP($A2547,'Lista de Precios_Bolívares_S'!$F:$Q,12,FALSE),\"\")","v":""},"",{"$f":"IFERROR(VLOOKUP($A2547,'Lista de Precios_USD$_Euro€'!$E:$O,11,FALSE),\"\")","v":""}]
[null,null,null,{"$f":"IFERROR(VLOOKUP($A2548,'Lista de Precios_Bolívares_S'!$F:$Q,6,FALSE),\"\")","v":""},{"$f":"IFERROR(VLOOKUP($A2548,'Lista de Precios_Bolívares_S'!$F:$Q,12,FALSE),\"\")","v":""},"",{"$f":"IFERROR(VLOOKUP($A2548,'Lista de Precios_USD$_Euro€'!$E:$O,11,FALSE),\"\")","v":""}]
[null,null,null,{"$f":"IFERROR(VLOOKUP($A2549,'Lista de Precios_Bolívares_S'!$F:$Q,6,FALSE),\"\")","v":""},{"$f":"IFERROR(VLOOKUP($A2549,'Lista de Precios_Bolívares_S'!$F:$Q,12,FALSE),\"\")","v":""},"",{"$f":"IFERROR(VLOOKUP($A2549,'Lista de Precios_USD$_Euro€'!$E:$O,11,FALSE),\"\")","v":""}]
[null,null,null,{"$f":"IFERROR(VLOOKUP($A2550,'Lista de Precios_Bolívares_S'!$F:$Q,6,FALSE),\"\")","v":""},{"$f":"IFERROR(VLOOKUP($A2550,'Lista de Precios_Bolívares_S'!$F:$Q,12,FALSE),\"\")","v":""},"",{"$f":"IFERROR(VLOOKUP($A2550,'Lista de Precios_USD$_Euro€'!$E:$O,11,FALSE),\"\")","v":""}]
[null,null,null,{"$f":"IFERROR(VLOOKUP($A2551,'Lista de Precios_Bolívares_S'!$F:$Q,6,FALSE),\"\")","v":""},{"$f":"IFERROR(VLOOKUP($A2551,'Lista de Precios_Bolívares_S'!$F:$Q,12,FALSE),\"\")","v":""},"",{"$f":"IFERROR(VLOOKUP($A2551,'Lista de Precios_USD$_Euro€'!$E:$O,11,FALSE),\"\")","v":""}]
[null,null,null,{"$f":"IFERROR(VLOOKUP($A2552,'Lista de Precios_Bolívares_S'!$F:$Q,6,FALSE),\"\")","v":""},{"$f":"IFERROR(VLOOKUP($A2552,'Lista de Precios_Bolívares_S'!$F:$Q,12,FALSE),\"\")","v":""},"",{"$f":"IFERROR(VLOOKUP($A2552,'Lista de Precios_USD$_Euro€'!$E:$O,11,FALSE),\"\")","v":""}]
[null,null,null,{"$f":"IFERROR(VLOOKUP($A2553,'Lista de Precios_Bolívares_S'!$F:$Q,6,FALSE),\"\")","v":""},{"$f":"IFERROR(VLOOKUP($A2553,'Lista de Precios_Bolívares_S'!$F:$Q,12,FALSE),\"\")","v":""},"",{"$f":"IFERROR(VLOOKUP($A2553,'Lista de Precios_USD$_Euro€'!$E:$O,11,FALSE),\"\")","v":""}]
[null,null,null,{"$f":"IFERROR(VLOOKUP($A2554,'Lista de Precios_Bolívares_S'!$F:$Q,6,FALSE),\"\")","v":""},{"$f":"IFERROR(VLOOKUP($A2554,'Lista de Precios_Bolívares_S'!$F:$Q,12,FALSE),\"\")","v":""},"",{"$f":"IFERROR(VLOOKUP($A2554,'Lista de Precios_USD$_Euro€'!$E:$O,11,FALSE),\"\")","v":""}]
[null,null,null,{"$f":"IFERROR(VLOOKUP($A2555,'Lista de Precios_Bolívares_S'!$F:$Q,6,FALSE),\"\")","v":""},{"$f":"IFERROR(VLOOKUP($A2555,'Lista de Precios_Bolívares_S'!$F:$Q,12,FALSE),\"\")","v":""},"",{"$f":"IFERROR(VLOOKUP($A2555,'Lista de Precios_USD$_Euro€'!$E:$O,11,FALSE),\"\")","v":""}]
[null,null,null,{"$f":"IFERROR(VLOOKUP($A2556,'Lista de Precios_Bolívares_S'!$F:$Q,6,FALSE),\"\")","v":""},{"$f":"IFERROR(VLOOKUP($A2556,'Lista de Precios_Bolívares_S'!$F:$Q,12,FALSE),\"\")","v":""},"",{"$f":"IFERROR(VLOOKUP($A2556,'Lista de Precios_USD$_Euro€'!$E:$O,11,FALSE),\"\")","v":""}]
[null,null,null,{"$f":"IFERROR(VLOOKUP($A2557,'Lista de Precios_Bolívares_S'!$F:$Q,6,FALSE),\"\")","v":""},{"$f":"IFERROR(VLOOKUP($A2557,'Lista de Precios_Bolívares_S'!$F:$Q,12,FALSE),\"\")","v":""},"",{"$f":"IFERROR(VLOOKUP($A2557,'Lista de Precios_USD$_Euro€'!$E:$O,11,FALSE),\"\")","v":""}]
[null,null,null,{"$f":"IFERROR(VLOOKUP($A2558,'Lista de Precios_Bolívares_S'!$F:$Q,6,FALSE),\"\")","v":""},{"$f":"IFERROR(VLOOKUP($A2558,'Lista de Precios_Bolívares_S'!$F:$Q,12,FALSE),\"\")","v":""},"",{"$f":"IFERROR(VLOOKUP($A2558,'Lista de Precios_USD$_Euro€'!$E:$O,11,FALSE),\"\")","v":""}]
[null,null,null,{"$f":"IFERROR(VLOOKUP($A2559,'Lista de Precios_Bolívares_S'!$F:$Q,6,FALSE),\"\")","v":""},{"$f":"IFERROR(VLOOKUP($A2559,'Lista de Precios_Bolívares_S'!$F:$Q,12,FALSE),\"\")","v":""},"",{"$f":"IFERROR(VLOOKUP($A2559,'Lista de Precios_USD$_Euro€'!$E:$O,11,FALSE),\"\")","v":""}]
[null,null,null,{"$f":"IFERROR(VLOOKUP($A2560,'Lista de Precios_Bolívares_S'!$F:$Q,6,FALSE),\"\")","v":""},{"$f":"IFERROR(VLOOKUP($A2560,'Lista de Precios_Bolívares_S'!$F:$Q,12,FALSE),\"\")","v":""},"",{"$f":"IFERROR(VLOOKUP($A2560,'Lista de Precios_USD$_Euro€'!$E:$O,11,FALSE),\"\")","v":""}]
[null,null,null,{"$f":"IFERROR(VLOOKUP($A2561,'Lista de Precios_Bolívares_S'!$F:$Q,6,FALSE),\"\")","v":""},{"$f":"IFERROR(VLOOKUP($A2561,'Lista de Precios_Bolívares_S'!$F:$Q,12,FALSE),\"\")","v":""},"",{"$f":"IFERROR(VLOOKUP($A2561,'Lista de Precios_USD$_Euro€'!$E:$O,11,FALSE),\"\")","v":""}]
[null,null,null,{"$f":"IFERROR(VLOOKUP($A2562,'Lista de Precios_Bolívares_S'!$F:$Q,6,FALSE),\"\")","v":""},{"$f":"IFERROR(VLOOKUP($A2562,'Lista de Precios_Bolívares_S'!$F:$Q,12,FALSE),\"\")","v":""},"",{"$f":"IFERROR(VLOOKUP($A2562,'Lista de Precios_USD$_Euro€'!$E:$O,11,FALSE),\"\")","v":""}]
[null,null,null,{"$f":"IFERROR(VLOOKUP($A2563,'Lista de Precios_Bolívares_S'!$F:$Q,6,FALSE),\"\")","v":""},{"$f":"IFERROR(VLOOKUP($A2563,'Lista de Precios_Bolívares_S'!$F:$Q,12,FALSE),\"\")","v":""},"",{"$f":"IFERROR(VLOOKUP($A2563,'Lista de Precios_USD$_Euro€'!$E:$O,11,FALSE),\"\")","v":""}]
[null,null,null,{"$f":"IFERROR(VLOOKUP($A2564,'Lista de Precios_Bolívares_S'!$F:$Q,6,FALSE),\"\")","v":""},{"$f":"IFERROR(VLOOKUP($A2564,'Lista de Precios_Bolívares_S'!$F:$Q,12,FALSE),\"\")","v":""},"",{"$f":"IFERROR(VLOOKUP($A2564,'Lista de Precios_USD$_Euro€'!$E:$O,11,FALSE),\"\")","v":""}]
[null,null,null,{"$f":"IFERROR(VLOOKUP($A2565,'Lista de Precios_Bolívares_S'!$F:$Q,6,FALSE),\"\")","v":""},{"$f":"IFERROR(VLOOKUP($A2565,'Lista de Precios_Bolívares_S'!$F:$Q,12,FALSE),\"\")","v":""},"",{"$f":"IFERROR(VLOOKUP($A2565,'Lista de Precios_USD$_Euro€'!$E:$O,11,FALSE),\"\")","v":""}]
[null,null,null,{"$f":"IFERROR(VLOOKUP($A2566,'Lista de Precios_Bolívares_S'!$F:$Q,6,FALSE),\"\")","v":""},{"$f":"IFERROR(VLOOKUP($A2566,'Lista de Precios_Bolívares_S'!$F:$Q,12,FALSE),\"\")","v":""},"",{"$f":"IFERROR(VLOOKUP($A2566,'Lista de Precios_USD$_Euro€'!$E:$O,11,FALSE),\"\")","v":""}]
[null,null,null,{"$f":"IFERROR(VLOOKUP($A2567,'Lista de Precios_Bolívares_S'!$F:$Q,6,FALSE),\"\")","v":""},{"$f":"IFERROR(VLOOKUP($A2567,'Lista de Precios_Bolívares_S'!$F:$Q,12,FALSE),\"\")","v":""},"",{"$f":"IFERROR(VLOOKUP($A2567,'Lista de Precios_USD$_Euro€'!$E:$O,11,FALSE),\"\")","v":""}]
[null,null,null,{"$f":"IFERROR(VLOOKUP($A2568,'Lista de Precios_Bolívares_S'!$F:$Q,6,FALSE),\"\")","v":""},{"$f":"IFERROR(VLOOKUP($A2568,'Lista de Precios_Bolívares_S'!$F:$Q,12,FALSE),\"\")","v":""},"",{"$f":"IFERROR(VLOOKUP($A2568,'Lista de Precios_USD$_Euro€'!$E:$O,11,FALSE),\"\")","v":""}]
[null,null,null,{"$f":"IFERROR(VLOOKUP($A2569,'Lista de Precios_Bolívares_S'!$F:$Q,6,FALSE),\"\")","v":""},{"$f":"IFERROR(VLOOKUP($A2569,'Lista de Precios_Bolívares_S'!$F:$Q,12,FALSE),\"\")","v":""},"",{"$f":"IFERROR(VLOOKUP($A2569,'Lista de Precios_USD$_Euro€'!$E:$O,11,FALSE),\"\")","v":""}]
[null,null,null,{"$f":"IFERROR(VLOOKUP($A2570,'Lista de Precios_Bolívares_S'!$F:$Q,6,FALSE),\"\")","v":""},{"$f":"IFERROR(VLOOKUP($A2570,'Lista de Precios_Bolívares_S'!$F:$Q,12,FALSE),\"\")","v":""},"",{"$f":"IFERROR(VLOOKUP($A2570,'Lista de Precios_USD$_Euro€'!$E:$O,11,FALSE),\"\")","v":""}]
[null,null,null,{"$f":"IFERROR(VLOOKUP($A2571,'Lista de Precios_Bolívares_S'!$F:$Q,6,FALSE),\"\")","v":""},{"$f":"IFERROR(VLOOKUP($A2571,'Lista de Precios_Bolívares_S'!$F:$Q,12,FALSE),\"\")","v":""},"",{"$f":"IFERROR(VLOOKUP($A2571,'Lista de Precios_USD$_Euro€'!$E:$O,11,FALSE),\"\")","v":""}]
[null,null,null,{"$f":"IFERROR(VLOOKUP($A2572,'Lista de Precios_Bolívares_S'!$F:$Q,6,FALSE),\"\")","v":""},{"$f":"IFERROR(VLOOKUP($A2572,'Lista de Precios_Bolívares_S'!$F:$Q,12,FALSE),\"\")","v":""},"",{"$f":"IFERROR(VLOOKUP($A2572,'Lista de Precios_USD$_Euro€'!$E:$O,11,FALSE),\"\")","v":""}]
[null,null,null,{"$f":"IFERROR(VLOOKUP($A2573,'Lista de Precios_Bolívares_S'!$F:$Q,6,FALSE),\"\")","v":""},{"$f":"IFERROR(VLOOKUP($A2573,'Lista de Precios_Bolívares_S'!$F:$Q,12,FALSE),\"\")","v":""},"",{"$f":"IFERROR(VLOOKUP($A2573,'Lista de Precios_USD$_Euro€'!$E:$O,11,FALSE),\"\")","v":""}]
[null,null,null,{"$f":"IFERROR(VLOOKUP($A2574,'Lista de Precios_Bolívares_S'!$F:$Q,6,FALSE),\"\")","v":""},{"$f":"IFERROR(VLOOKUP($A2574,'Lista de Precios_Bolívares_S'!$F:$Q,12,FALSE),\"\")","v":""},"",{"$f":"IFERROR(VLOOKUP($A2574,'Lista de Precios_USD$_Euro€'!$E:$O,11,FALSE),\"\")","v":""}]
[null,null,null,{"$f":"IFERROR(VLOOKUP($A2575,'Lista de Precios_Bolívares_S'!$F:$Q,6,FALSE),\"\")","v":""},{"$f":"IFERROR(VLOOKUP($A2575,'Lista de Precios_Bolívares_S'!$F:$Q,12,FALSE),\"\")","v":""},"",{"$f":"IFERROR(VLOOKUP($A2575,'Lista de Precios_USD$_Euro€'!$E:$O,11,FALSE),\"\")","v":""}]
[null,null,null,{"$f":"IFERROR(VLOOKUP($A2576,'Lista de Precios_Bolívares_S'!$F:$Q,6,FALSE),\"\")","v":""},{"$f":"IFERROR(VLOOKUP($A2576,'Lista de Precios_Bolívares_S'!$F:$Q,12,FALSE),\"\")","v":""},"",{"$f":"IFERROR(VLOOKUP($A2576,'Lista de Precios_USD$_Euro€'!$E:$O,11,FALSE),\"\")","v":""}]
[null,null,null,{"$f":"IFERROR(VLOOKUP($A2577,'Lista de Precios_Bolívares_S'!$F:$Q,6,FALSE),\"\")","v":""},{"$f":"IFERROR(VLOOKUP($A2577,'Lista de Precios_Bolívares_S'!$F:$Q,12,FALSE),\"\")","v":""},"",{"$f":"IFERROR(VLOOKUP($A2577,'Lista de Precios_USD$_Euro€'!$E:$O,11,FALSE),\"\")","v":""}]
[null,null,null,{"$f":"IFERROR(VLOOKUP($A2578,'Lista de Precios_Bolívares_S'!$F:$Q,6,FALSE),\"\")","v":""},{"$f":"IFERROR(VLOOKUP($A2578,'Lista de Precios_Bolívares_S'!$F:$Q,12,FALSE),\"\")","v":""},"",{"$f":"IFERROR(VLOOKUP($A2578,'Lista de Precios_USD$_Euro€'!$E:$O,11,FALSE),\"\")","v":""}]
[null,null,null,{"$f":"IFERROR(VLOOKUP($A2579,'Lista de Precios_Bolívares_S'!$F:$Q,6,FALSE),\"\")","v":""},{"$f":"IFERROR(VLOOKUP($A2579,'Lista de Precios_Bolívares_S'!$F:$Q,12,FALSE),\"\")","v":""},"",{"$f":"IFERROR(VLOOKUP($A2579,'Lista de Precios_USD$_Euro€'!$E:$O,11,FALSE),\"\")","v":""}]
[null,null,null,{"$f":"IFERROR(VLOOKUP($A2580,'Lista de Precios_Bolívares_S'!$F:$Q,6,FALSE),\"\")","v":""},{"$f":"IFERROR(VLOOKUP($A2580,'Lista de Precios_Bolívares_S'!$F:$Q,12,FALSE),\"\")","v":""},"",{"$f":"IFERROR(VLOOKUP($A2580,'Lista de Precios_USD$_Euro€'!$E:$O,11,FALSE),\"\")","v":""}]
[null,null,null,{"$f":"IFERROR(VLOOKUP($A2581,'Lista de Precios_Bolívares_S'!$F:$Q,6,FALSE),\"\")","v":""},{"$f":"IFERROR(VLOOKUP($A2581,'Lista de Precios_Bolívares_S'!$F:$Q,12,FALSE),\"\")","v":""},"",{"$f":"IFERROR(VLOOKUP($A2581,'Lista de Precios_USD$_Euro€'!$E:$O,11,FALSE),\"\")","v":""}]
[null,null,null,{"$f":"IFERROR(VLOOKUP($A2582,'Lista de Precios_Bolívares_S'!$F:$Q,6,FALSE),\"\")","v":""},{"$f":"IFERROR(VLOOKUP($A2582,'Lista de Precios_Bolívares_S'!$F:$Q,12,FALSE),\"\")","v":""},"",{"$f":"IFERROR(VLOOKUP($A2582,'Lista de Precios_USD$_Euro€'!$E:$O,11,FALSE),\"\")","v":""}]
[null,null,null,{"$f":"IFERROR(VLOOKUP($A2583,'Lista de Precios_Bolívares_S'!$F:$Q,6,FALSE),\"\")","v":""},{"$f":"IFERROR(VLOOKUP($A2583,'Lista de Precios_Bolívares_S'!$F:$Q,12,FALSE),\"\")","v":""},"",{"$f":"IFERROR(VLOOKUP($A2583,'Lista de Precios_USD$_Euro€'!$E:$O,11,FALSE),\"\")","v":""}]
[null,null,null,{"$f":"IFERROR(VLOOKUP($A2584,'Lista de Precios_Bolívares_S'!$F:$Q,6,FALSE),\"\")","v":""},{"$f":"IFERROR(VLOOKUP($A2584,'Lista de Precios_Bolívares_S'!$F:$Q,12,FALSE),\"\")","v":""},"",{"$f":"IFERROR(VLOOKUP($A2584,'Lista de Precios_USD$_Euro€'!$E:$O,11,FALSE),\"\")","v":""}]
[null,null,null,{"$f":"IFERROR(VLOOKUP($A2585,'Lista de Precios_Bolívares_S'!$F:$Q,6,FALSE),\"\")","v":""},{"$f":"IFERROR(VLOOKUP($A2585,'Lista de Precios_Bolívares_S'!$F:$Q,12,FALSE),\"\")","v":""},{"$f":"IFERROR(IF(ROUND($C2585,2)=ROUND($D2560,2),ROUND($E2560,2),ROUND($C2585,2)),\"\")","v":""},{"$f":"IFERROR(VLOOKUP($A2585,'Lista de Precios_USD$_Euro€'!$E:$O,11,FALSE),\"\")","v":""}]
[null,null,null,{"$f":"IFERROR(VLOOKUP($A2586,'Lista de Precios_Bolívares_S'!$F:$Q,6,FALSE),\"\")","v":""},{"$f":"IFERROR(VLOOKUP($A2586,'Lista de Precios_Bolívares_S'!$F:$Q,12,FALSE),\"\")","v":""},"",{"$f":"IFERROR(VLOOKUP($A2586,'Lista de Precios_USD$_Euro€'!$E:$O,11,FALSE),\"\")","v":""}]
[null,null,null,{"$f":"IFERROR(VLOOKUP($A2587,'Lista de Precios_Bolívares_S'!$F:$Q,6,FALSE),\"\")","v":""},{"$f":"IFERROR(VLOOKUP($A2587,'Lista de Precios_Bolívares_S'!$F:$Q,12,FALSE),\"\")","v":""},"",{"$f":"IFERROR(VLOOKUP($A2587,'Lista de Precios_USD$_Euro€'!$E:$O,11,FALSE),\"\")","v":""}]
[null,null,null,{"$f":"IFERROR(VLOOKUP($A2588,'Lista de Precios_Bolívares_S'!$F:$Q,6,FALSE),\"\")","v":""},{"$f":"IFERROR(VLOOKUP($A2588,'Lista de Precios_Bolívares_S'!$F:$Q,12,FALSE),\"\")","v":""},"",{"$f":"IFERROR(VLOOKUP($A2588,'Lista de Precios_USD$_Euro€'!$E:$O,11,FALSE),\"\")","v":""}]
[null,null,null,{"$f":"IFERROR(VLOOKUP($A2589,'Lista de Precios_Bolívares_S'!$F:$Q,6,FALSE),\"\")","v":""},{"$f":"IFERROR(VLOOKUP($A2589,'Lista de Precios_Bolívares_S'!$F:$Q,12,FALSE),\"\")","v":""},"",{"$f":"IFERROR(VLOOKUP($A2589,'Lista de Precios_USD$_Euro€'!$E:$O,11,FALSE),\"\")","v":""}]
[null,null,null,{"$f":"IFERROR(VLOOKUP($A2590,'Lista de Precios_Bolívares_S'!$F:$Q,6,FALSE),\"\")","v":""},{"$f":"IFERROR(VLOOKUP($A2590,'Lista de Precios_Bolívares_S'!$F:$Q,12,FALSE),\"\")","v":""},"",{"$f":"IFERROR(VLOOKUP($A2590,'Lista de Precios_USD$_Euro€'!$E:$O,11,FALSE),\"\")","v":""}]
[null,null,null,{"$f":"IFERROR(VLOOKUP($A2591,'Lista de Precios_Bolívares_S'!$F:$Q,6,FALSE),\"\")","v":""},{"$f":"IFERROR(VLOOKUP($A2591,'Lista de Precios_Bolívares_S'!$F:$Q,12,FALSE),\"\")","v":""},"",{"$f":"IFERROR(VLOOKUP($A2591,'Lista de Precios_USD$_Euro€'!$E:$O,11,FALSE),\"\")","v":""}]
[null,null,null,{"$f":"IFERROR(VLOOKUP($A2592,'Lista de Precios_Bolívares_S'!$F:$Q,6,FALSE),\"\")","v":""},{"$f":"IFERROR(VLOOKUP($A2592,'Lista de Precios_Bolívares_S'!$F:$Q,12,FALSE),\"\")","v":""},"",{"$f":"IFERROR(VLOOKUP($A2592,'Lista de Precios_USD$_Euro€'!$E:$O,11,FALSE),\"\")","v":""}]
[null,null,null,{"$f":"IFERROR(VLOOKUP($A2593,'Lista de Precios_Bolívares_S'!$F:$Q,6,FALSE),\"\")","v":""},{"$f":"IFERROR(VLOOKUP($A2593,'Lista de Precios_Bolívares_S'!$F:$Q,12,FALSE),\"\")","v":""},"",{"$f":"IFERROR(VLOOKUP($A2593,'Lista de Precios_USD$_Euro€'!$E:$O,11,FALSE),\"\")","v":""}]
[null,null,null,{"$f":"IFERROR(VLOOKUP($A2594,'Lista de Precios_Bolívares_S'!$F:$Q,6,FALSE),\"\")","v":""},{"$f":"IFERROR(VLOOKUP($A2594,'Lista de Precios_Bolívares_S'!$F:$Q,12,FALSE),\"\")","v":""},"",{"$f":"IFERROR(VLOOKUP($A2594,'Lista de Precios_USD$_Euro€'!$E:$O,11,FALSE),\"\")","v":""}]
[null,null,null,{"$f":"IFERROR(VLOOKUP($A2595,'Lista de Precios_Bolívares_S'!$F:$Q,6,FALSE),\"\")","v":""},{"$f":"IFERROR(VLOOKUP($A2595,'Lista de Precios_Bolívares_S'!$F:$Q,12,FALSE),\"\")","v":""},"",{"$f":"IFERROR(VLOOKUP($A2595,'Lista de Precios_USD$_Euro€'!$E:$O,11,FALSE),\"\")","v":""}]
[null,null,null,{"$f":"IFERROR(VLOOKUP($A2596,'Lista de Precios_Bolívares_S'!$F:$Q,6,FALSE),\"\")","v":""},{"$f":"IFERROR(VLOOKUP($A2596,'Lista de Precios_Bolívares_S'!$F:$Q,12,FALSE),\"\")","v":""},"",{"$f":"IFERROR(VLOOKUP($A2596,'Lista de Precios_USD$_Euro€'!$E:$O,11,FALSE),\"\")","v":""}]
[null,null,null,{"$f":"IFERROR(VLOOKUP($A2597,'Lista de Precios_Bolívares_S'!$F:$Q,6,FALSE),\"\")","v":""},{"$f":"IFERROR(VLOOKUP($A2597,'Lista de Precios_Bolívares_S'!$F:$Q,12,FALSE),\"\")","v":""},"",{"$f":"IFERROR(VLOOKUP($A2597,'Lista de Precios_USD$_Euro€'!$E:$O,11,FALSE),\"\")","v":""}]
[null,null,null,{"$f":"IFERROR(VLOOKUP($A2598,'Lista de Precios_Bolívares_S'!$F:$Q,6,FALSE),\"\")","v":""},{"$f":"IFERROR(VLOOKUP($A2598,'Lista de Precios_Bolívares_S'!$F:$Q,12,FALSE),\"\")","v":""},"",{"$f":"IFERROR(VLOOKUP($A2598,'Lista de Precios_USD$_Euro€'!$E:$O,11,FALSE),\"\")","v":""}]
[null,null,null,{"$f":"IFERROR(VLOOKUP($A2599,'Lista de Precios_Bolívares_S'!$F:$Q,6,FALSE),\"\")","v":""},{"$f":"IFERROR(VLOOKUP($A2599,'Lista de Precios_Bolívares_S'!$F:$Q,12,FALSE),\"\")","v":""},"",{"$f":"IFERROR(VLOOKUP($A2599,'Lista de Precios_USD$_Euro€'!$E:$O,11,FALSE),\"\")","v":""}]
[null,null,null,{"$f":"IFERROR(VLOOKUP($A2600,'Lista de Precios_Bolívares_S'!$F:$Q,6,FALSE),\"\")","v":""},{"$f":"IFERROR(VLOOKUP($A2600,'Lista de Precios_Bolívares_S'!$F:$Q,12,FALSE),\"\")","v":""},"",{"$f":"IFERROR(VLOOKUP($A2600,'Lista de Precios_USD$_Euro€'!$E:$O,11,FALSE),\"\")","v":""}]
[null,null,null,{"$f":"IFERROR(VLOOKUP($A2601,'Lista de Precios_Bolívares_S'!$F:$Q,6,FALSE),\"\")","v":""},{"$f":"IFERROR(VLOOKUP($A2601,'Lista de Precios_Bolívares_S'!$F:$Q,12,FALSE),\"\")","v":""},"",{"$f":"IFERROR(VLOOKUP($A2601,'Lista de Precios_USD$_Euro€'!$E:$O,11,FALSE),\"\")","v":""}]
[null,null,null,{"$f":"IFERROR(VLOOKUP($A2602,'Lista de Precios_Bolívares_S'!$F:$Q,6,FALSE),\"\")","v":""},{"$f":"IFERROR(VLOOKUP($A2602,'Lista de Precios_Bolívares_S'!$F:$Q,12,FALSE),\"\")","v":""},"",{"$f":"IFERROR(VLOOKUP($A2602,'Lista de Precios_USD$_Euro€'!$E:$O,11,FALSE),\"\")","v":""}]
[null,null,null,{"$f":"IFERROR(VLOOKUP($A2603,'Lista de Precios_Bolívares_S'!$F:$Q,6,FALSE),\"\")","v":""},{"$f":"IFERROR(VLOOKUP($A2603,'Lista de Precios_Bolívares_S'!$F:$Q,12,FALSE),\"\")","v":""},"",{"$f":"IFERROR(VLOOKUP($A2603,'Lista de Precios_USD$_Euro€'!$E:$O,11,FALSE),\"\")","v":""}]
[null,null,null,{"$f":"IFERROR(VLOOKUP($A2604,'Lista de Precios_Bolívares_S'!$F:$Q,6,FALSE),\"\")","v":""},{"$f":"IFERROR(VLOOKUP($A2604,'Lista de Precios_Bolívares_S'!$F:$Q,12,FALSE),\"\")","v":""},"",{"$f":"IFERROR(VLOOKUP($A2604,'Lista de Precios_USD$_Euro€'!$E:$O,11,FALSE),\"\")","v":""}]
[null,null,null,{"$f":"IFERROR(VLOOKUP($A2605,'Lista de Precios_Bolívares_S'!$F:$Q,6,FALSE),\"\")","v":""},{"$f":"IFERROR(VLOOKUP($A2605,'Lista de Precios_Bolívares_S'!$F:$Q,12,FALSE),\"\")","v":""},"",{"$f":"IFERROR(VLOOKUP($A2605,'Lista de Precios_USD$_Euro€'!$E:$O,11,FALSE),\"\")","v":""}]
[null,null,null,{"$f":"IFERROR(VLOOKUP($A2606,'Lista de Precios_Bolívares_S'!$F:$Q,6,FALSE),\"\")","v":""},{"$f":"IFERROR(VLOOKUP($A2606,'Lista de Precios_Bolívares_S'!$F:$Q,12,FALSE),\"\")","v":""},"",{"$f":"IFERROR(VLOOKUP($A2606,'Lista de Precios_USD$_Euro€'!$E:$O,11,FALSE),\"\")","v":""}]
[null,null,null,{"$f":"IFERROR(VLOOKUP($A2607,'Lista de Precios_Bolívares_S'!$F:$Q,6,FALSE),\"\")","v":""},{"$f":"IFERROR(VLOOKUP($A2607,'Lista de Precios_Bolívares_S'!$F:$Q,12,FALSE),\"\")","v":""},"",{"$f":"IFERROR(VLOOKUP($A2607,'Lista de Precios_USD$_Euro€'!$E:$O,11,FALSE),\"\")","v":""}]
[null,null,null,{"$f":"IFERROR(VLOOKUP($A2608,'Lista de Precios_Bolívares_S'!$F:$Q,6,FALSE),\"\")","v":""},{"$f":"IFERROR(VLOOKUP($A2608,'Lista de Precios_Bolívares_S'!$F:$Q,12,FALSE),\"\")","v":""},"",{"$f":"IFERROR(VLOOKUP($A2608,'Lista de Precios_USD$_Euro€'!$E:$O,11,FALSE),\"\")","v":""}]
[null,null,null,{"$f":"IFERROR(VLOOKUP($A2609,'Lista de Precios_Bolívares_S'!$F:$Q,6,FALSE),\"\")","v":""},{"$f":"IFERROR(VLOOKUP($A2609,'Lista de Precios_Bolívares_S'!$F:$Q,12,FALSE),\"\")","v":""},"",{"$f":"IFERROR(VLOOKUP($A2609,'Lista de Precios_USD$_Euro€'!$E:$O,11,FALSE),\"\")","v":""}]
[null,null,null,{"$f":"IFERROR(VLOOKUP($A2610,'Lista de Precios_Bolívares_S'!$F:$Q,6,FALSE),\"\")","v":""},{"$f":"IFERROR(VLOOKUP($A2610,'Lista de Precios_Bolívares_S'!$F:$Q,12,FALSE),\"\")","v":""},"",{"$f":"IFERROR(VLOOKUP($A2610,'Lista de Precios_USD$_Euro€'!$E:$O,11,FALSE),\"\")","v":""}]
[null,null,null,{"$f":"IFERROR(VLOOKUP($A2611,'Lista de Precios_Bolívares_S'!$F:$Q,6,FALSE),\"\")","v":""},{"$f":"IFERROR(VLOOKUP($A2611,'Lista de Precios_Bolívares_S'!$F:$Q,12,FALSE),\"\")","v":""},"",{"$f":"IFERROR(VLOOKUP($A2611,'Lista de Precios_USD$_Euro€'!$E:$O,11,FALSE),\"\")","v":""}]
[null,null,null,{"$f":"IFERROR(VLOOKUP($A2612,'Lista de Precios_Bolívares_S'!$F:$Q,6,FALSE),\"\")","v":""},{"$f":"IFERROR(VLOOKUP($A2612,'Lista de Precios_Bolívares_S'!$F:$Q,12,FALSE),\"\")","v":""},"",{"$f":"IFERROR(VLOOKUP($A2612,'Lista de Precios_USD$_Euro€'!$E:$O,11,FALSE),\"\")","v":""}]
[null,null,null,{"$f":"IFERROR(VLOOKUP($A2613,'Lista de Precios_Bolívares_S'!$F:$Q,6,FALSE),\"\")","v":""},{"$f":"IFERROR(VLOOKUP($A2613,'Lista de Precios_Bolívares_S'!$F:$Q,12,FALSE),\"\")","v":""},"",{"$f":"IFERROR(VLOOKUP($A2613,'Lista de Precios_USD$_Euro€'!$E:$O,11,FALSE),\"\")","v":""}]
[null,null,null,{"$f":"IFERROR(VLOOKUP($A2614,'Lista de Precios_Bolívares_S'!$F:$Q,6,FALSE),\"\")","v":""},{"$f":"IFERROR(VLOOKUP($A2614,'Lista de Precios_Bolívares_S'!$F:$Q,12,FALSE),\"\")","v":""},"",{"$f":"IFERROR(VLOOKUP($A2614,'Lista de Precios_USD$_Euro€'!$E:$O,11,FALSE),\"\")","v":""}]
[null,null,null,{"$f":"IFERROR(VLOOKUP($A2615,'Lista de Precios_Bolívares_S'!$F:$Q,6,FALSE),\"\")","v":""},{"$f":"IFERROR(VLOOKUP($A2615,'Lista de Precios_Bolívares_S'!$F:$Q,12,FALSE),\"\")","v":""},"",{"$f":"IFERROR(VLOOKUP($A2615,'Lista de Precios_USD$_Euro€'!$E:$O,11,FALSE),\"\")","v":""}]
[null,null,null,{"$f":"IFERROR(VLOOKUP($A2616,'Lista de Precios_Bolívares_S'!$F:$Q,6,FALSE),\"\")","v":""},{"$f":"IFERROR(VLOOKUP($A2616,'Lista de Precios_Bolívares_S'!$F:$Q,12,FALSE),\"\")","v":""},"",{"$f":"IFERROR(VLOOKUP($A2616,'Lista de Precios_USD$_Euro€'!$E:$O,11,FALSE),\"\")","v":""}]
[null,null,null,{"$f":"IFERROR(VLOOKUP($A2617,'Lista de Precios_Bolívares_S'!$F:$Q,6,FALSE),\"\")","v":""},{"$f":"IFERROR(VLOOKUP($A2617,'Lista de Precios_Bolívares_S'!$F:$Q,12,FALSE),\"\")","v":""},"",{"$f":"IFERROR(VLOOKUP($A2617,'Lista de Precios_USD$_Euro€'!$E:$O,11,FALSE),\"\")","v":""}]
[null,null,null,{"$f":"IFERROR(VLOOKUP($A2618,'Lista de Precios_Bolívares_S'!$F:$Q,6,FALSE),\"\")","v":""},{"$f":"IFERROR(VLOOKUP($A2618,'Lista de Precios_Bolívares_S'!$F:$Q,12,FALSE),\"\")","v":""},"",{"$f":"IFERROR(VLOOKUP($A2618,'Lista de Precios_USD$_Euro€'!$E:$O,11,FALSE),\"\")","v":""}]
[null,null,null,{"$f":"IFERROR(VLOOKUP($A2619,'Lista de Precios_Bolívares_S'!$F:$Q,6,FALSE),\"\")","v":""},{"$f":"IFERROR(VLOOKUP($A2619,'Lista de Precios_Bolívares_S'!$F:$Q,12,FALSE),\"\")","v":""},"",{"$f":"IFERROR(VLOOKUP($A2619,'Lista de Precios_USD$_Euro€'!$E:$O,11,FALSE),\"\")","v":""}]
[null,null,null,{"$f":"IFERROR(VLOOKUP($A2620,'Lista de Precios_Bolívares_S'!$F:$Q,6,FALSE),\"\")","v":""},{"$f":"IFERROR(VLOOKUP($A2620,'Lista de Precios_Bolívares_S'!$F:$Q,12,FALSE),\"\")","v":""},"",{"$f":"IFERROR(VLOOKUP($A2620,'Lista de Precios_USD$_Euro€'!$E:$O,11,FALSE),\"\")","v":""}]
[null,null,null,{"$f":"IFERROR(VLOOKUP($A2621,'Lista de Precios_Bolívares_S'!$F:$Q,6,FALSE),\"\")","v":""},{"$f":"IFERROR(VLOOKUP($A2621,'Lista de Precios_Bolívares_S'!$F:$Q,12,FALSE),\"\")","v":""},"",{"$f":"IFERROR(VLOOKUP($A2621,'Lista de Precios_USD$_Euro€'!$E:$O,11,FALSE),\"\")","v":""}]
[null,null,null,{"$f":"IFERROR(VLOOKUP($A2622,'Lista de Precios_Bolívares_S'!$F:$Q,6,FALSE),\"\")","v":""},{"$f":"IFERROR(VLOOKUP($A2622,'Lista de Precios_Bolívares_S'!$F:$Q,12,FALSE),\"\")","v":""},"",{"$f":"IFERROR(VLOOKUP($A2622,'Lista de Precios_USD$_Euro€'!$E:$O,11,FALSE),\"\")","v":""}]
[null,null,null,{"$f":"IFERROR(VLOOKUP($A2623,'Lista de Precios_Bolívares_S'!$F:$Q,6,FALSE),\"\")","v":""},{"$f":"IFERROR(VLOOKUP($A2623,'Lista de Precios_Bolívares_S'!$F:$Q,12,FALSE),\"\")","v":""},"",{"$f":"IFERROR(VLOOKUP($A2623,'Lista de Precios_USD$_Euro€'!$E:$O,11,FALSE),\"\")","v":""}]
[null,null,null,{"$f":"IFERROR(VLOOKUP($A2624,'Lista de Precios_Bolívares_S'!$F:$Q,6,FALSE),\"\")","v":""},{"$f":"IFERROR(VLOOKUP($A2624,'Lista de Precios_Bolívares_S'!$F:$Q,12,FALSE),\"\")","v":""},"",{"$f":"IFERROR(VLOOKUP($A2624,'Lista de Precios_USD$_Euro€'!$E:$O,11,FALSE),\"\")","v":""}]
[null,null,null,{"$f":"IFERROR(VLOOKUP($A2625,'Lista de Precios_Bolívares_S'!$F:$Q,6,FALSE),\"\")","v":""},{"$f":"IFERROR(VLOOKUP($A2625,'Lista de Precios_Bolívares_S'!$F:$Q,12,FALSE),\"\")","v":""},"",{"$f":"IFERROR(VLOOKUP($A2625,'Lista de Precios_USD$_Euro€'!$E:$O,11,FALSE),\"\")","v":""}]
[null,null,null,{"$f":"IFERROR(VLOOKUP($A2626,'Lista de Precios_Bolívares_S'!$F:$Q,6,FALSE),\"\")","v":""},{"$f":"IFERROR(VLOOKUP($A2626,'Lista de Precios_Bolívares_S'!$F:$Q,12,FALSE),\"\")","v":""},"",{"$f":"IFERROR(VLOOKUP($A2626,'Lista de Precios_USD$_Euro€'!$E:$O,11,FALSE),\"\")","v":""}]
[null,null,null,{"$f":"IFERROR(VLOOKUP($A2627,'Lista de Precios_Bolívares_S'!$F:$Q,6,FALSE),\"\")","v":""},{"$f":"IFERROR(VLOOKUP($A2627,'Lista de Precios_Bolívares_S'!$F:$Q,12,FALSE),\"\")","v":""},"",{"$f":"IFERROR(VLOOKUP($A2627,'Lista de Precios_USD$_Euro€'!$E:$O,11,FALSE),\"\")","v":""}]
[null,null,null,{"$f":"IFERROR(VLOOKUP($A2628,'Lista de Precios_Bolívares_S'!$F:$Q,6,FALSE),\"\")","v":""},{"$f":"IFERROR(VLOOKUP($A2628,'Lista de Precios_Bolívares_S'!$F:$Q,12,FALSE),\"\")","v":""},"",{"$f":"IFERROR(VLOOKUP($A2628,'Lista de Precios_USD$_Euro€'!$E:$O,11,FALSE),\"\")","v":""}]
[null,null,null,{"$f":"IFERROR(VLOOKUP($A2629,'Lista de Precios_Bolívares_S'!$F:$Q,6,FALSE),\"\")","v":""},{"$f":"IFERROR(VLOOKUP($A2629,'Lista de Precios_Bolívares_S'!$F:$Q,12,FALSE),\"\")","v":""},"",{"$f":"IFERROR(VLOOKUP($A2629,'Lista de Precios_USD$_Euro€'!$E:$O,11,FALSE),\"\")","v":""}]
[null,null,null,{"$f":"IFERROR(VLOOKUP($A2630,'Lista de Precios_Bolívares_S'!$F:$Q,6,FALSE),\"\")","v":""},{"$f":"IFERROR(VLOOKUP($A2630,'Lista de Precios_Bolívares_S'!$F:$Q,12,FALSE),\"\")","v":""},"",{"$f":"IFERROR(VLOOKUP($A2630,'Lista de Precios_USD$_Euro€'!$E:$O,11,FALSE),\"\")","v":""}]
[null,null,null,{"$f":"IFERROR(VLOOKUP($A2631,'Lista de Precios_Bolívares_S'!$F:$Q,6,FALSE),\"\")","v":""},{"$f":"IFERROR(VLOOKUP($A2631,'Lista de Precios_Bolívares_S'!$F:$Q,12,FALSE),\"\")","v":""},"",{"$f":"IFERROR(VLOOKUP($A2631,'Lista de Precios_USD$_Euro€'!$E:$O,11,FALSE),\"\")","v":""}]
[null,null,null,{"$f":"IFERROR(VLOOKUP($A2632,'Lista de Precios_Bolívares_S'!$F:$Q,6,FALSE),\"\")","v":""},{"$f":"IFERROR(VLOOKUP($A2632,'Lista de Precios_Bolívares_S'!$F:$Q,12,FALSE),\"\")","v":""},"",{"$f":"IFERROR(VLOOKUP($A2632,'Lista de Precios_USD$_Euro€'!$E:$O,11,FALSE),\"\")","v":""}]
[null,null,null,{"$f":"IFERROR(VLOOKUP($A2633,'Lista de Precios_Bolívares_S'!$F:$Q,6,FALSE),\"\")","v":""},{"$f":"IFERROR(VLOOKUP($A2633,'Lista de Precios_Bolívares_S'!$F:$Q,12,FALSE),\"\")","v":""},"",{"$f":"IFERROR(VLOOKUP($A2633,'Lista de Precios_USD$_Euro€'!$E:$O,11,FALSE),\"\")","v":""}]
[null,null,null,{"$f":"IFERROR(VLOOKUP($A2634,'Lista de Precios_Bolívares_S'!$F:$Q,6,FALSE),\"\")","v":""},{"$f":"IFERROR(VLOOKUP($A2634,'Lista de Precios_Bolívares_S'!$F:$Q,12,FALSE),\"\")","v":""},"",{"$f":"IFERROR(VLOOKUP($A2634,'Lista de Precios_USD$_Euro€'!$E:$O,11,FALSE),\"\")","v":""}]
[null,null,null,{"$f":"IFERROR(VLOOKUP($A2635,'Lista de Precios_Bolívares_S'!$F:$Q,6,FALSE),\"\")","v":""},{"$f":"IFERROR(VLOOKUP($A2635,'Lista de Precios_Bolívares_S'!$F:$Q,12,FALSE),\"\")","v":""},"",{"$f":"IFERROR(VLOOKUP($A2635,'Lista de Precios_USD$_Euro€'!$E:$O,11,FALSE),\"\")","v":""}]
[null,null,null,{"$f":"IFERROR(VLOOKUP($A2636,'Lista de Precios_Bolívares_S'!$F:$Q,6,FALSE),\"\")","v":""},{"$f":"IFERROR(VLOOKUP($A2636,'Lista de Precios_Bolívares_S'!$F:$Q,12,FALSE),\"\")","v":""},"",{"$f":"IFERROR(VLOOKUP($A2636,'Lista de Precios_USD$_Euro€'!$E:$O,11,FALSE),\"\")","v":""}]
[null,null,null,{"$f":"IFERROR(VLOOKUP($A2637,'Lista de Precios_Bolívares_S'!$F:$Q,6,FALSE),\"\")","v":""},{"$f":"IFERROR(VLOOKUP($A2637,'Lista de Precios_Bolívares_S'!$F:$Q,12,FALSE),\"\")","v":""},"",{"$f":"IFERROR(VLOOKUP($A2637,'Lista de Precios_USD$_Euro€'!$E:$O,11,FALSE),\"\")","v":""}]
[null,null,null,{"$f":"IFERROR(VLOOKUP($A2638,'Lista de Precios_Bolívares_S'!$F:$Q,6,FALSE),\"\")","v":""},{"$f":"IFERROR(VLOOKUP($A2638,'Lista de Precios_Bolívares_S'!$F:$Q,12,FALSE),\"\")","v":""},"",{"$f":"IFERROR(VLOOKUP($A2638,'Lista de Precios_USD$_Euro€'!$E:$O,11,FALSE),\"\")","v":""}]
[null,null,null,{"$f":"IFERROR(VLOOKUP($A2639,'Lista de Precios_Bolívares_S'!$F:$Q,6,FALSE),\"\")","v":""},{"$f":"IFERROR(VLOOKUP($A2639,'Lista de Precios_Bolívares_S'!$F:$Q,12,FALSE),\"\")","v":""},"",{"$f":"IFERROR(VLOOKUP($A2639,'Lista de Precios_USD$_Euro€'!$E:$O,11,FALSE),\"\")","v":""}]
[null,null,null,{"$f":"IFERROR(VLOOKUP($A2640,'Lista de Precios_Bolívares_S'!$F:$Q,6,FALSE),\"\")","v":""},{"$f":"IFERROR(VLOOKUP($A2640,'Lista de Precios_Bolívares_S'!$F:$Q,12,FALSE),\"\")","v":""},"",{"$f":"IFERROR(VLOOKUP($A2640,'Lista de Precios_USD$_Euro€'!$E:$O,11,FALSE),\"\")","v":""}]
[null,null,null,{"$f":"IFERROR(VLOOKUP($A2641,'Lista de Precios_Bolívares_S'!$F:$Q,6,FALSE),\"\")","v":""},{"$f":"IFERROR(VLOOKUP($A2641,'Lista de Precios_Bolívares_S'!$F:$Q,12,FALSE),\"\")","v":""},"",{"$f":"IFERROR(VLOOKUP($A2641,'Lista de Precios_USD$_Euro€'!$E:$O,11,FALSE),\"\")","v":""}]
[null,null,null,{"$f":"IFERROR(VLOOKUP($A2642,'Lista de Precios_Bolívares_S'!$F:$Q,6,FALSE),\"\")","v":""},{"$f":"IFERROR(VLOOKUP($A2642,'Lista de Precios_Bolívares_S'!$F:$Q,12,FALSE),\"\")","v":""},"",{"$f":"IFERROR(VLOOKUP($A2642,'Lista de Precios_USD$_Euro€'!$E:$O,11,FALSE),\"\")","v":""}]
[null,null,null,{"$f":"IFERROR(VLOOKUP($A2643,'Lista de Precios_Bolívares_S'!$F:$Q,6,FALSE),\"\")","v":""},{"$f":"IFERROR(VLOOKUP($A2643,'Lista de Precios_Bolívares_S'!$F:$Q,12,FALSE),\"\")","v":""},"",{"$f":"IFERROR(VLOOKUP($A2643,'Lista de Precios_USD$_Euro€'!$E:$O,11,FALSE),\"\")","v":""}]
[null,null,null,{"$f":"IFERROR(VLOOKUP($A2644,'Lista de Precios_Bolívares_S'!$F:$Q,6,FALSE),\"\")","v":""},{"$f":"IFERROR(VLOOKUP($A2644,'Lista de Precios_Bolívares_S'!$F:$Q,12,FALSE),\"\")","v":""},"",{"$f":"IFERROR(VLOOKUP($A2644,'Lista de Precios_USD$_Euro€'!$E:$O,11,FALSE),\"\")","v":""}]
[null,null,null,{"$f":"IFERROR(VLOOKUP($A2645,'Lista de Precios_Bolívares_S'!$F:$Q,6,FALSE),\"\")","v":""},{"$f":"IFERROR(VLOOKUP($A2645,'Lista de Precios_Bolívares_S'!$F:$Q,12,FALSE),\"\")","v":""},"",{"$f":"IFERROR(VLOOKUP($A2645,'Lista de Precios_USD$_Euro€'!$E:$O,11,FALSE),\"\")","v":""}]
[null,null,null,{"$f":"IFERROR(VLOOKUP($A2646,'Lista de Precios_Bolívares_S'!$F:$Q,6,FALSE),\"\")","v":""},{"$f":"IFERROR(VLOOKUP($A2646,'Lista de Precios_Bolívares_S'!$F:$Q,12,FALSE),\"\")","v":""},"",{"$f":"IFERROR(VLOOKUP($A2646,'Lista de Precios_USD$_Euro€'!$E:$O,11,FALSE),\"\")","v":""}]
[null,null,null,{"$f":"IFERROR(VLOOKUP($A2647,'Lista de Precios_Bolívares_S'!$F:$Q,6,FALSE),\"\")","v":""},{"$f":"IFERROR(VLOOKUP($A2647,'Lista de Precios_Bolívares_S'!$F:$Q,12,FALSE),\"\")","v":""},"",{"$f":"IFERROR(VLOOKUP($A2647,'Lista de Precios_USD$_Euro€'!$E:$O,11,FALSE),\"\")","v":""}]
[null,null,null,{"$f":"IFERROR(VLOOKUP($A2648,'Lista de Precios_Bolívares_S'!$F:$Q,6,FALSE),\"\")","v":""},{"$f":"IFERROR(VLOOKUP($A2648,'Lista de Precios_Bolívares_S'!$F:$Q,12,FALSE),\"\")","v":""},"",{"$f":"IFERROR(VLOOKUP($A2648,'Lista de Precios_USD$_Euro€'!$E:$O,11,FALSE),\"\")","v":""}]
[null,null,null,{"$f":"IFERROR(VLOOKUP($A2649,'Lista de Precios_Bolívares_S'!$F:$Q,6,FALSE),\"\")","v":""},{"$f":"IFERROR(VLOOKUP($A2649,'Lista de Precios_Bolívares_S'!$F:$Q,12,FALSE),\"\")","v":""},{"$f":"IFERROR(IF(ROUND($C2649,2)=ROUND($D2624,2),ROUND($E2624,2),ROUND($C2649,2)),\"\")","v":""},{"$f":"IFERROR(VLOOKUP($A2649,'Lista de Precios_USD$_Euro€'!$E:$O,11,FALSE),\"\")","v":""}]
[null,null,null,{"$f":"IFERROR(VLOOKUP($A2650,'Lista de Precios_Bolívares_S'!$F:$Q,6,FALSE),\"\")","v":""},{"$f":"IFERROR(VLOOKUP($A2650,'Lista de Precios_Bolívares_S'!$F:$Q,12,FALSE),\"\")","v":""},"",{"$f":"IFERROR(VLOOKUP($A2650,'Lista de Precios_USD$_Euro€'!$E:$O,11,FALSE),\"\")","v":""}]
[null,null,null,{"$f":"IFERROR(VLOOKUP($A2651,'Lista de Precios_Bolívares_S'!$F:$Q,6,FALSE),\"\")","v":""},{"$f":"IFERROR(VLOOKUP($A2651,'Lista de Precios_Bolívares_S'!$F:$Q,12,FALSE),\"\")","v":""},"",{"$f":"IFERROR(VLOOKUP($A2651,'Lista de Precios_USD$_Euro€'!$E:$O,11,FALSE),\"\")","v":""}]
[null,null,null,{"$f":"IFERROR(VLOOKUP($A2652,'Lista de Precios_Bolívares_S'!$F:$Q,6,FALSE),\"\")","v":""},{"$f":"IFERROR(VLOOKUP($A2652,'Lista de Precios_Bolívares_S'!$F:$Q,12,FALSE),\"\")","v":""},"",{"$f":"IFERROR(VLOOKUP($A2652,'Lista de Precios_USD$_Euro€'!$E:$O,11,FALSE),\"\")","v":""}]
[null,null,null,{"$f":"IFERROR(VLOOKUP($A2653,'Lista de Precios_Bolívares_S'!$F:$Q,6,FALSE),\"\")","v":""},{"$f":"IFERROR(VLOOKUP($A2653,'Lista de Precios_Bolívares_S'!$F:$Q,12,FALSE),\"\")","v":""},"",{"$f":"IFERROR(VLOOKUP($A2653,'Lista de Precios_USD$_Euro€'!$E:$O,11,FALSE),\"\")","v":""}]
[null,null,null,{"$f":"IFERROR(VLOOKUP($A2654,'Lista de Precios_Bolívares_S'!$F:$Q,6,FALSE),\"\")","v":""},{"$f":"IFERROR(VLOOKUP($A2654,'Lista de Precios_Bolívares_S'!$F:$Q,12,FALSE),\"\")","v":""},"",{"$f":"IFERROR(VLOOKUP($A2654,'Lista de Precios_USD$_Euro€'!$E:$O,11,FALSE),\"\")","v":""}]
[null,null,null,{"$f":"IFERROR(VLOOKUP($A2655,'Lista de Precios_Bolívares_S'!$F:$Q,6,FALSE),\"\")","v":""},{"$f":"IFERROR(VLOOKUP($A2655,'Lista de Precios_Bolívares_S'!$F:$Q,12,FALSE),\"\")","v":""},"",{"$f":"IFERROR(VLOOKUP($A2655,'Lista de Precios_USD$_Euro€'!$E:$O,11,FALSE),\"\")","v":""}]
[null,null,null,{"$f":"IFERROR(VLOOKUP($A2656,'Lista de Precios_Bolívares_S'!$F:$Q,6,FALSE),\"\")","v":""},{"$f":"IFERROR(VLOOKUP($A2656,'Lista de Precios_Bolívares_S'!$F:$Q,12,FALSE),\"\")","v":""},"",{"$f":"IFERROR(VLOOKUP($A2656,'Lista de Precios_USD$_Euro€'!$E:$O,11,FALSE),\"\")","v":""}]
[null,null,null,{"$f":"IFERROR(VLOOKUP($A2657,'Lista de Precios_Bolívares_S'!$F:$Q,6,FALSE),\"\")","v":""},{"$f":"IFERROR(VLOOKUP($A2657,'Lista de Precios_Bolívares_S'!$F:$Q,12,FALSE),\"\")","v":""},"",{"$f":"IFERROR(VLOOKUP($A2657,'Lista de Precios_USD$_Euro€'!$E:$O,11,FALSE),\"\")","v":""}]
[null,null,null,{"$f":"IFERROR(VLOOKUP($A2658,'Lista de Precios_Bolívares_S'!$F:$Q,6,FALSE),\"\")","v":""},{"$f":"IFERROR(VLOOKUP($A2658,'Lista de Precios_Bolívares_S'!$F:$Q,12,FALSE),\"\")","v":""},"",{"$f":"IFERROR(VLOOKUP($A2658,'Lista de Precios_USD$_Euro€'!$E:$O,11,FALSE),\"\")","v":""}]
[null,null,null,{"$f":"IFERROR(VLOOKUP($A2659,'Lista de Precios_Bolívares_S'!$F:$Q,6,FALSE),\"\")","v":""},{"$f":"IFERROR(VLOOKUP($A2659,'Lista de Precios_Bolívares_S'!$F:$Q,12,FALSE),\"\")","v":""},"",{"$f":"IFERROR(VLOOKUP($A2659,'Lista de Precios_USD$_Euro€'!$E:$O,11,FALSE),\"\")","v":""}]
[null,null,null,{"$f":"IFERROR(VLOOKUP($A2660,'Lista de Precios_Bolívares_S'!$F:$Q,6,FALSE),\"\")","v":""},{"$f":"IFERROR(VLOOKUP($A2660,'Lista de Precios_Bolívares_S'!$F:$Q,12,FALSE),\"\")","v":""},"",{"$f":"IFERROR(VLOOKUP($A2660,'Lista de Precios_USD$_Euro€'!$E:$O,11,FALSE),\"\")","v":""}]
[null,null,null,{"$f":"IFERROR(VLOOKUP($A2661,'Lista de Precios_Bolívares_S'!$F:$Q,6,FALSE),\"\")","v":""},{"$f":"IFERROR(VLOOKUP($A2661,'Lista de Precios_Bolívares_S'!$F:$Q,12,FALSE),\"\")","v":""},"",{"$f":"IFERROR(VLOOKUP($A2661,'Lista de Precios_USD$_Euro€'!$E:$O,11,FALSE),\"\")","v":""}]
[null,null,null,{"$f":"IFERROR(VLOOKUP($A2662,'Lista de Precios_Bolívares_S'!$F:$Q,6,FALSE),\"\")","v":""},{"$f":"IFERROR(VLOOKUP($A2662,'Lista de Precios_Bolívares_S'!$F:$Q,12,FALSE),\"\")","v":""},"",{"$f":"IFERROR(VLOOKUP($A2662,'Lista de Precios_USD$_Euro€'!$E:$O,11,FALSE),\"\")","v":""}]
[null,null,null,{"$f":"IFERROR(VLOOKUP($A2663,'Lista de Precios_Bolívares_S'!$F:$Q,6,FALSE),\"\")","v":""},{"$f":"IFERROR(VLOOKUP($A2663,'Lista de Precios_Bolívares_S'!$F:$Q,12,FALSE),\"\")","v":""},"",{"$f":"IFERROR(VLOOKUP($A2663,'Lista de Precios_USD$_Euro€'!$E:$O,11,FALSE),\"\")","v":""}]
[null,null,null,{"$f":"IFERROR(VLOOKUP($A2664,'Lista de Precios_Bolívares_S'!$F:$Q,6,FALSE),\"\")","v":""},{"$f":"IFERROR(VLOOKUP($A2664,'Lista de Precios_Bolívares_S'!$F:$Q,12,FALSE),\"\")","v":""},"",{"$f":"IFERROR(VLOOKUP($A2664,'Lista de Precios_USD$_Euro€'!$E:$O,11,FALSE),\"\")","v":""}]
[null,null,null,{"$f":"IFERROR(VLOOKUP($A2665,'Lista de Precios_Bolívares_S'!$F:$Q,6,FALSE),\"\")","v":""},{"$f":"IFERROR(VLOOKUP($A2665,'Lista de Precios_Bolívares_S'!$F:$Q,12,FALSE),\"\")","v":""},"",{"$f":"IFERROR(VLOOKUP($A2665,'Lista de Precios_USD$_Euro€'!$E:$O,11,FALSE),\"\")","v":""}]
[null,null,null,{"$f":"IFERROR(VLOOKUP($A2666,'Lista de Precios_Bolívares_S'!$F:$Q,6,FALSE),\"\")","v":""},{"$f":"IFERROR(VLOOKUP($A2666,'Lista de Precios_Bolívares_S'!$F:$Q,12,FALSE),\"\")","v":""},"",{"$f":"IFERROR(VLOOKUP($A2666,'Lista de Precios_USD$_Euro€'!$E:$O,11,FALSE),\"\")","v":""}]
[null,null,null,{"$f":"IFERROR(VLOOKUP($A2667,'Lista de Precios_Bolívares_S'!$F:$Q,6,FALSE),\"\")","v":""},{"$f":"IFERROR(VLOOKUP($A2667,'Lista de Precios_Bolívares_S'!$F:$Q,12,FALSE),\"\")","v":""},"",{"$f":"IFERROR(VLOOKUP($A2667,'Lista de Precios_USD$_Euro€'!$E:$O,11,FALSE),\"\")","v":""}]
[null,null,null,{"$f":"IFERROR(VLOOKUP($A2668,'Lista de Precios_Bolívares_S'!$F:$Q,6,FALSE),\"\")","v":""},{"$f":"IFERROR(VLOOKUP($A2668,'Lista de Precios_Bolívares_S'!$F:$Q,12,FALSE),\"\")","v":""},"",{"$f":"IFERROR(VLOOKUP($A2668,'Lista de Precios_USD$_Euro€'!$E:$O,11,FALSE),\"\")","v":""}]
[null,null,null,{"$f":"IFERROR(VLOOKUP($A2669,'Lista de Precios_Bolívares_S'!$F:$Q,6,FALSE),\"\")","v":""},{"$f":"IFERROR(VLOOKUP($A2669,'Lista de Precios_Bolívares_S'!$F:$Q,12,FALSE),\"\")","v":""},"",{"$f":"IFERROR(VLOOKUP($A2669,'Lista de Precios_USD$_Euro€'!$E:$O,11,FALSE),\"\")","v":""}]
[null,null,null,{"$f":"IFERROR(VLOOKUP($A2670,'Lista de Precios_Bolívares_S'!$F:$Q,6,FALSE),\"\")","v":""},{"$f":"IFERROR(VLOOKUP($A2670,'Lista de Precios_Bolívares_S'!$F:$Q,12,FALSE),\"\")","v":""},"",{"$f":"IFERROR(VLOOKUP($A2670,'Lista de Precios_USD$_Euro€'!$E:$O,11,FALSE),\"\")","v":""}]
[null,null,null,{"$f":"IFERROR(VLOOKUP($A2671,'Lista de Precios_Bolívares_S'!$F:$Q,6,FALSE),\"\")","v":""},{"$f":"IFERROR(VLOOKUP($A2671,'Lista de Precios_Bolívares_S'!$F:$Q,12,FALSE),\"\")","v":""},"",{"$f":"IFERROR(VLOOKUP($A2671,'Lista de Precios_USD$_Euro€'!$E:$O,11,FALSE),\"\")","v":""}]
[null,null,null,{"$f":"IFERROR(VLOOKUP($A2672,'Lista de Precios_Bolívares_S'!$F:$Q,6,FALSE),\"\")","v":""},{"$f":"IFERROR(VLOOKUP($A2672,'Lista de Precios_Bolívares_S'!$F:$Q,12,FALSE),\"\")","v":""},"",{"$f":"IFERROR(VLOOKUP($A2672,'Lista de Precios_USD$_Euro€'!$E:$O,11,FALSE),\"\")","v":""}]
[null,null,null,{"$f":"IFERROR(VLOOKUP($A2673,'Lista de Precios_Bolívares_S'!$F:$Q,6,FALSE),\"\")","v":""},{"$f":"IFERROR(VLOOKUP($A2673,'Lista de Precios_Bolívares_S'!$F:$Q,12,FALSE),\"\")","v":""},"",{"$f":"IFERROR(VLOOKUP($A2673,'Lista de Precios_USD$_Euro€'!$E:$O,11,FALSE),\"\")","v":""}]
[null,null,null,{"$f":"IFERROR(VLOOKUP($A2674,'Lista de Precios_Bolívares_S'!$F:$Q,6,FALSE),\"\")","v":""},{"$f":"IFERROR(VLOOKUP($A2674,'Lista de Precios_Bolívares_S'!$F:$Q,12,FALSE),\"\")","v":""},"",{"$f":"IFERROR(VLOOKUP($A2674,'Lista de Precios_USD$_Euro€'!$E:$O,11,FALSE),\"\")","v":""}]
[null,null,null,{"$f":"IFERROR(VLOOKUP($A2675,'Lista de Precios_Bolívares_S'!$F:$Q,6,FALSE),\"\")","v":""},{"$f":"IFERROR(VLOOKUP($A2675,'Lista de Precios_Bolívares_S'!$F:$Q,12,FALSE),\"\")","v":""},"",{"$f":"IFERROR(VLOOKUP($A2675,'Lista de Precios_USD$_Euro€'!$E:$O,11,FALSE),\"\")","v":""}]
[null,null,null,{"$f":"IFERROR(VLOOKUP($A2676,'Lista de Precios_Bolívares_S'!$F:$Q,6,FALSE),\"\")","v":""},{"$f":"IFERROR(VLOOKUP($A2676,'Lista de Precios_Bolívares_S'!$F:$Q,12,FALSE),\"\")","v":""},"",{"$f":"IFERROR(VLOOKUP($A2676,'Lista de Precios_USD$_Euro€'!$E:$O,11,FALSE),\"\")","v":""}]
[null,null,null,{"$f":"IFERROR(VLOOKUP($A2677,'Lista de Precios_Bolívares_S'!$F:$Q,6,FALSE),\"\")","v":""},{"$f":"IFERROR(VLOOKUP($A2677,'Lista de Precios_Bolívares_S'!$F:$Q,12,FALSE),\"\")","v":""},"",{"$f":"IFERROR(VLOOKUP($A2677,'Lista de Precios_USD$_Euro€'!$E:$O,11,FALSE),\"\")","v":""}]
[null,null,null,{"$f":"IFERROR(VLOOKUP($A2678,'Lista de Precios_Bolívares_S'!$F:$Q,6,FALSE),\"\")","v":""},{"$f":"IFERROR(VLOOKUP($A2678,'Lista de Precios_Bolívares_S'!$F:$Q,12,FALSE),\"\")","v":""},"",{"$f":"IFERROR(VLOOKUP($A2678,'Lista de Precios_USD$_Euro€'!$E:$O,11,FALSE),\"\")","v":""}]
[null,null,null,{"$f":"IFERROR(VLOOKUP($A2679,'Lista de Precios_Bolívares_S'!$F:$Q,6,FALSE),\"\")","v":""},{"$f":"IFERROR(VLOOKUP($A2679,'Lista de Precios_Bolívares_S'!$F:$Q,12,FALSE),\"\")","v":""},"",{"$f":"IFERROR(VLOOKUP($A2679,'Lista de Precios_USD$_Euro€'!$E:$O,11,FALSE),\"\")","v":""}]
[null,null,null,{"$f":"IFERROR(VLOOKUP($A2680,'Lista de Precios_Bolívares_S'!$F:$Q,6,FALSE),\"\")","v":""},{"$f":"IFERROR(VLOOKUP($A2680,'Lista de Precios_Bolívares_S'!$F:$Q,12,FALSE),\"\")","v":""},"",{"$f":"IFERROR(VLOOKUP($A2680,'Lista de Precios_USD$_Euro€'!$E:$O,11,FALSE),\"\")","v":""}]
[null,null,null,{"$f":"IFERROR(VLOOKUP($A2681,'Lista de Precios_Bolívares_S'!$F:$Q,6,FALSE),\"\")","v":""},{"$f":"IFERROR(VLOOKUP($A2681,'Lista de Precios_Bolívares_S'!$F:$Q,12,FALSE),\"\")","v":""},"",{"$f":"IFERROR(VLOOKUP($A2681,'Lista de Precios_USD$_Euro€'!$E:$O,11,FALSE),\"\")","v":""}]
[null,null,null,{"$f":"IFERROR(VLOOKUP($A2682,'Lista de Precios_Bolívares_S'!$F:$Q,6,FALSE),\"\")","v":""},{"$f":"IFERROR(VLOOKUP($A2682,'Lista de Precios_Bolívares_S'!$F:$Q,12,FALSE),\"\")","v":""},"",{"$f":"IFERROR(VLOOKUP($A2682,'Lista de Precios_USD$_Euro€'!$E:$O,11,FALSE),\"\")","v":""}]
[null,null,null,{"$f":"IFERROR(VLOOKUP($A2683,'Lista de Precios_Bolívares_S'!$F:$Q,6,FALSE),\"\")","v":""},{"$f":"IFERROR(VLOOKUP($A2683,'Lista de Precios_Bolívares_S'!$F:$Q,12,FALSE),\"\")","v":""},"",{"$f":"IFERROR(VLOOKUP($A2683,'Lista de Precios_USD$_Euro€'!$E:$O,11,FALSE),\"\")","v":""}]
[null,null,null,{"$f":"IFERROR(VLOOKUP($A2684,'Lista de Precios_Bolívares_S'!$F:$Q,6,FALSE),\"\")","v":""},{"$f":"IFERROR(VLOOKUP($A2684,'Lista de Precios_Bolívares_S'!$F:$Q,12,FALSE),\"\")","v":""},"",{"$f":"IFERROR(VLOOKUP($A2684,'Lista de Precios_USD$_Euro€'!$E:$O,11,FALSE),\"\")","v":""}]
[null,null,null,{"$f":"IFERROR(VLOOKUP($A2685,'Lista de Precios_Bolívares_S'!$F:$Q,6,FALSE),\"\")","v":""},{"$f":"IFERROR(VLOOKUP($A2685,'Lista de Precios_Bolívares_S'!$F:$Q,12,FALSE),\"\")","v":""},"",{"$f":"IFERROR(VLOOKUP($A2685,'Lista de Precios_USD$_Euro€'!$E:$O,11,FALSE),\"\")","v":""}]
[null,null,null,{"$f":"IFERROR(VLOOKUP($A2686,'Lista de Precios_Bolívares_S'!$F:$Q,6,FALSE),\"\")","v":""},{"$f":"IFERROR(VLOOKUP($A2686,'Lista de Precios_Bolívares_S'!$F:$Q,12,FALSE),\"\")","v":""},"",{"$f":"IFERROR(VLOOKUP($A2686,'Lista de Precios_USD$_Euro€'!$E:$O,11,FALSE),\"\")","v":""}]
[null,null,null,{"$f":"IFERROR(VLOOKUP($A2687,'Lista de Precios_Bolívares_S'!$F:$Q,6,FALSE),\"\")","v":""},{"$f":"IFERROR(VLOOKUP($A2687,'Lista de Precios_Bolívares_S'!$F:$Q,12,FALSE),\"\")","v":""},"",{"$f":"IFERROR(VLOOKUP($A2687,'Lista de Precios_USD$_Euro€'!$E:$O,11,FALSE),\"\")","v":""}]
[null,null,null,{"$f":"IFERROR(VLOOKUP($A2688,'Lista de Precios_Bolívares_S'!$F:$Q,6,FALSE),\"\")","v":""},{"$f":"IFERROR(VLOOKUP($A2688,'Lista de Precios_Bolívares_S'!$F:$Q,12,FALSE),\"\")","v":""},"",{"$f":"IFERROR(VLOOKUP($A2688,'Lista de Precios_USD$_Euro€'!$E:$O,11,FALSE),\"\")","v":""}]
[null,null,null,{"$f":"IFERROR(VLOOKUP($A2689,'Lista de Precios_Bolívares_S'!$F:$Q,6,FALSE),\"\")","v":""},{"$f":"IFERROR(VLOOKUP($A2689,'Lista de Precios_Bolívares_S'!$F:$Q,12,FALSE),\"\")","v":""},"",{"$f":"IFERROR(VLOOKUP($A2689,'Lista de Precios_USD$_Euro€'!$E:$O,11,FALSE),\"\")","v":""}]
[null,null,null,{"$f":"IFERROR(VLOOKUP($A2690,'Lista de Precios_Bolívares_S'!$F:$Q,6,FALSE),\"\")","v":""},{"$f":"IFERROR(VLOOKUP($A2690,'Lista de Precios_Bolívares_S'!$F:$Q,12,FALSE),\"\")","v":""},"",{"$f":"IFERROR(VLOOKUP($A2690,'Lista de Precios_USD$_Euro€'!$E:$O,11,FALSE),\"\")","v":""}]
[null,null,null,{"$f":"IFERROR(VLOOKUP($A2691,'Lista de Precios_Bolívares_S'!$F:$Q,6,FALSE),\"\")","v":""},{"$f":"IFERROR(VLOOKUP($A2691,'Lista de Precios_Bolívares_S'!$F:$Q,12,FALSE),\"\")","v":""},"",{"$f":"IFERROR(VLOOKUP($A2691,'Lista de Precios_USD$_Euro€'!$E:$O,11,FALSE),\"\")","v":""}]
[null,null,null,{"$f":"IFERROR(VLOOKUP($A2692,'Lista de Precios_Bolívares_S'!$F:$Q,6,FALSE),\"\")","v":""},{"$f":"IFERROR(VLOOKUP($A2692,'Lista de Precios_Bolívares_S'!$F:$Q,12,FALSE),\"\")","v":""},"",{"$f":"IFERROR(VLOOKUP($A2692,'Lista de Precios_USD$_Euro€'!$E:$O,11,FALSE),\"\")","v":""}]
[null,null,null,{"$f":"IFERROR(VLOOKUP($A2693,'Lista de Precios_Bolívares_S'!$F:$Q,6,FALSE),\"\")","v":""},{"$f":"IFERROR(VLOOKUP($A2693,'Lista de Precios_Bolívares_S'!$F:$Q,12,FALSE),\"\")","v":""},"",{"$f":"IFERROR(VLOOKUP($A2693,'Lista de Precios_USD$_Euro€'!$E:$O,11,FALSE),\"\")","v":""}]
[null,null,null,{"$f":"IFERROR(VLOOKUP($A2694,'Lista de Precios_Bolívares_S'!$F:$Q,6,FALSE),\"\")","v":""},{"$f":"IFERROR(VLOOKUP($A2694,'Lista de Precios_Bolívares_S'!$F:$Q,12,FALSE),\"\")","v":""},"",{"$f":"IFERROR(VLOOKUP($A2694,'Lista de Precios_USD$_Euro€'!$E:$O,11,FALSE),\"\")","v":""}]
[null,null,null,{"$f":"IFERROR(VLOOKUP($A2695,'Lista de Precios_Bolívares_S'!$F:$Q,6,FALSE),\"\")","v":""},{"$f":"IFERROR(VLOOKUP($A2695,'Lista de Precios_Bolívares_S'!$F:$Q,12,FALSE),\"\")","v":""},"",{"$f":"IFERROR(VLOOKUP($A2695,'Lista de Precios_USD$_Euro€'!$E:$O,11,FALSE),\"\")","v":""}]
[null,null,null,{"$f":"IFERROR(VLOOKUP($A2696,'Lista de Precios_Bolívares_S'!$F:$Q,6,FALSE),\"\")","v":""},{"$f":"IFERROR(VLOOKUP($A2696,'Lista de Precios_Bolívares_S'!$F:$Q,12,FALSE),\"\")","v":""},"",{"$f":"IFERROR(VLOOKUP($A2696,'Lista de Precios_USD$_Euro€'!$E:$O,11,FALSE),\"\")","v":""}]
[null,null,null,{"$f":"IFERROR(VLOOKUP($A2697,'Lista de Precios_Bolívares_S'!$F:$Q,6,FALSE),\"\")","v":""},{"$f":"IFERROR(VLOOKUP($A2697,'Lista de Precios_Bolívares_S'!$F:$Q,12,FALSE),\"\")","v":""},"",{"$f":"IFERROR(VLOOKUP($A2697,'Lista de Precios_USD$_Euro€'!$E:$O,11,FALSE),\"\")","v":""}]
[null,null,null,{"$f":"IFERROR(VLOOKUP($A2698,'Lista de Precios_Bolívares_S'!$F:$Q,6,FALSE),\"\")","v":""},{"$f":"IFERROR(VLOOKUP($A2698,'Lista de Precios_Bolívares_S'!$F:$Q,12,FALSE),\"\")","v":""},"",{"$f":"IFERROR(VLOOKUP($A2698,'Lista de Precios_USD$_Euro€'!$E:$O,11,FALSE),\"\")","v":""}]
[null,null,null,{"$f":"IFERROR(VLOOKUP($A2699,'Lista de Precios_Bolívares_S'!$F:$Q,6,FALSE),\"\")","v":""},{"$f":"IFERROR(VLOOKUP($A2699,'Lista de Precios_Bolívares_S'!$F:$Q,12,FALSE),\"\")","v":""},"",{"$f":"IFERROR(VLOOKUP($A2699,'Lista de Precios_USD$_Euro€'!$E:$O,11,FALSE),\"\")","v":""}]
[null,null,null,{"$f":"IFERROR(VLOOKUP($A2700,'Lista de Precios_Bolívares_S'!$F:$Q,6,FALSE),\"\")","v":""},{"$f":"IFERROR(VLOOKUP($A2700,'Lista de Precios_Bolívares_S'!$F:$Q,12,FALSE),\"\")","v":""},"",{"$f":"IFERROR(VLOOKUP($A2700,'Lista de Precios_USD$_Euro€'!$E:$O,11,FALSE),\"\")","v":""}]
[null,null,null,{"$f":"IFERROR(VLOOKUP($A2701,'Lista de Precios_Bolívares_S'!$F:$Q,6,FALSE),\"\")","v":""},{"$f":"IFERROR(VLOOKUP($A2701,'Lista de Precios_Bolívares_S'!$F:$Q,12,FALSE),\"\")","v":""},"",{"$f":"IFERROR(VLOOKUP($A2701,'Lista de Precios_USD$_Euro€'!$E:$O,11,FALSE),\"\")","v":""}]
[null,null,null,{"$f":"IFERROR(VLOOKUP($A2702,'Lista de Precios_Bolívares_S'!$F:$Q,6,FALSE),\"\")","v":""},{"$f":"IFERROR(VLOOKUP($A2702,'Lista de Precios_Bolívares_S'!$F:$Q,12,FALSE),\"\")","v":""},"",{"$f":"IFERROR(VLOOKUP($A2702,'Lista de Precios_USD$_Euro€'!$E:$O,11,FALSE),\"\")","v":""}]
[null,null,null,{"$f":"IFERROR(VLOOKUP($A2703,'Lista de Precios_Bolívares_S'!$F:$Q,6,FALSE),\"\")","v":""},{"$f":"IFERROR(VLOOKUP($A2703,'Lista de Precios_Bolívares_S'!$F:$Q,12,FALSE),\"\")","v":""},"",{"$f":"IFERROR(VLOOKUP($A2703,'Lista de Precios_USD$_Euro€'!$E:$O,11,FALSE),\"\")","v":""}]
[null,null,null,{"$f":"IFERROR(VLOOKUP($A2704,'Lista de Precios_Bolívares_S'!$F:$Q,6,FALSE),\"\")","v":""},{"$f":"IFERROR(VLOOKUP($A2704,'Lista de Precios_Bolívares_S'!$F:$Q,12,FALSE),\"\")","v":""},"",{"$f":"IFERROR(VLOOKUP($A2704,'Lista de Precios_USD$_Euro€'!$E:$O,11,FALSE),\"\")","v":""}]
[null,null,null,{"$f":"IFERROR(VLOOKUP($A2705,'Lista de Precios_Bolívares_S'!$F:$Q,6,FALSE),\"\")","v":""},{"$f":"IFERROR(VLOOKUP($A2705,'Lista de Precios_Bolívares_S'!$F:$Q,12,FALSE),\"\")","v":""},"",{"$f":"IFERROR(VLOOKUP($A2705,'Lista de Precios_USD$_Euro€'!$E:$O,11,FALSE),\"\")","v":""}]
[null,null,null,{"$f":"IFERROR(VLOOKUP($A2706,'Lista de Precios_Bolívares_S'!$F:$Q,6,FALSE),\"\")","v":""},{"$f":"IFERROR(VLOOKUP($A2706,'Lista de Precios_Bolívares_S'!$F:$Q,12,FALSE),\"\")","v":""},"",{"$f":"IFERROR(VLOOKUP($A2706,'Lista de Precios_USD$_Euro€'!$E:$O,11,FALSE),\"\")","v":""}]
[null,null,null,{"$f":"IFERROR(VLOOKUP($A2707,'Lista de Precios_Bolívares_S'!$F:$Q,6,FALSE),\"\")","v":""},{"$f":"IFERROR(VLOOKUP($A2707,'Lista de Precios_Bolívares_S'!$F:$Q,12,FALSE),\"\")","v":""},"",{"$f":"IFERROR(VLOOKUP($A2707,'Lista de Precios_USD$_Euro€'!$E:$O,11,FALSE),\"\")","v":""}]
[null,null,null,{"$f":"IFERROR(VLOOKUP($A2708,'Lista de Precios_Bolívares_S'!$F:$Q,6,FALSE),\"\")","v":""},{"$f":"IFERROR(VLOOKUP($A2708,'Lista de Precios_Bolívares_S'!$F:$Q,12,FALSE),\"\")","v":""},"",{"$f":"IFERROR(VLOOKUP($A2708,'Lista de Precios_USD$_Euro€'!$E:$O,11,FALSE),\"\")","v":""}]
[null,null,null,{"$f":"IFERROR(VLOOKUP($A2709,'Lista de Precios_Bolívares_S'!$F:$Q,6,FALSE),\"\")","v":""},{"$f":"IFERROR(VLOOKUP($A2709,'Lista de Precios_Bolívares_S'!$F:$Q,12,FALSE),\"\")","v":""},"",{"$f":"IFERROR(VLOOKUP($A2709,'Lista de Precios_USD$_Euro€'!$E:$O,11,FALSE),\"\")","v":""}]
[null,null,null,{"$f":"IFERROR(VLOOKUP($A2710,'Lista de Precios_Bolívares_S'!$F:$Q,6,FALSE),\"\")","v":""},{"$f":"IFERROR(VLOOKUP($A2710,'Lista de Precios_Bolívares_S'!$F:$Q,12,FALSE),\"\")","v":""},"",{"$f":"IFERROR(VLOOKUP($A2710,'Lista de Precios_USD$_Euro€'!$E:$O,11,FALSE),\"\")","v":""}]
[null,null,null,{"$f":"IFERROR(VLOOKUP($A2711,'Lista de Precios_Bolívares_S'!$F:$Q,6,FALSE),\"\")","v":""},{"$f":"IFERROR(VLOOKUP($A2711,'Lista de Precios_Bolívares_S'!$F:$Q,12,FALSE),\"\")","v":""},"",{"$f":"IFERROR(VLOOKUP($A2711,'Lista de Precios_USD$_Euro€'!$E:$O,11,FALSE),\"\")","v":""}]
[null,null,null,{"$f":"IFERROR(VLOOKUP($A2712,'Lista de Precios_Bolívares_S'!$F:$Q,6,FALSE),\"\")","v":""},{"$f":"IFERROR(VLOOKUP($A2712,'Lista de Precios_Bolívares_S'!$F:$Q,12,FALSE),\"\")","v":""},"",{"$f":"IFERROR(VLOOKUP($A2712,'Lista de Precios_USD$_Euro€'!$E:$O,11,FALSE),\"\")","v":""}]
[null,null,null,{"$f":"IFERROR(VLOOKUP($A2713,'Lista de Precios_Bolívares_S'!$F:$Q,6,FALSE),\"\")","v":""},{"$f":"IFERROR(VLOOKUP($A2713,'Lista de Precios_Bolívares_S'!$F:$Q,12,FALSE),\"\")","v":""},{"$f":"IFERROR(IF(ROUND($C2713,2)=ROUND($D2688,2),ROUND($E2688,2),ROUND($C2713,2)),\"\")","v":""},{"$f":"IFERROR(VLOOKUP($A2713,'Lista de Precios_USD$_Euro€'!$E:$O,11,FALSE),\"\")","v":""}]
[null,null,null,{"$f":"IFERROR(VLOOKUP($A2714,'Lista de Precios_Bolívares_S'!$F:$Q,6,FALSE),\"\")","v":""},{"$f":"IFERROR(VLOOKUP($A2714,'Lista de Precios_Bolívares_S'!$F:$Q,12,FALSE),\"\")","v":""},"",{"$f":"IFERROR(VLOOKUP($A2714,'Lista de Precios_USD$_Euro€'!$E:$O,11,FALSE),\"\")","v":""}]
[null,null,null,{"$f":"IFERROR(VLOOKUP($A2715,'Lista de Precios_Bolívares_S'!$F:$Q,6,FALSE),\"\")","v":""},{"$f":"IFERROR(VLOOKUP($A2715,'Lista de Precios_Bolívares_S'!$F:$Q,12,FALSE),\"\")","v":""},"",{"$f":"IFERROR(VLOOKUP($A2715,'Lista de Precios_USD$_Euro€'!$E:$O,11,FALSE),\"\")","v":""}]
[null,null,null,{"$f":"IFERROR(VLOOKUP($A2716,'Lista de Precios_Bolívares_S'!$F:$Q,6,FALSE),\"\")","v":""},{"$f":"IFERROR(VLOOKUP($A2716,'Lista de Precios_Bolívares_S'!$F:$Q,12,FALSE),\"\")","v":""},"",{"$f":"IFERROR(VLOOKUP($A2716,'Lista de Precios_USD$_Euro€'!$E:$O,11,FALSE),\"\")","v":""}]
[null,null,null,{"$f":"IFERROR(VLOOKUP($A2717,'Lista de Precios_Bolívares_S'!$F:$Q,6,FALSE),\"\")","v":""},{"$f":"IFERROR(VLOOKUP($A2717,'Lista de Precios_Bolívares_S'!$F:$Q,12,FALSE),\"\")","v":""},"",{"$f":"IFERROR(VLOOKUP($A2717,'Lista de Precios_USD$_Euro€'!$E:$O,11,FALSE),\"\")","v":""}]
[null,null,null,{"$f":"IFERROR(VLOOKUP($A2718,'Lista de Precios_Bolívares_S'!$F:$Q,6,FALSE),\"\")","v":""},{"$f":"IFERROR(VLOOKUP($A2718,'Lista de Precios_Bolívares_S'!$F:$Q,12,FALSE),\"\")","v":""},"",{"$f":"IFERROR(VLOOKUP($A2718,'Lista de Precios_USD$_Euro€'!$E:$O,11,FALSE),\"\")","v":""}]
[null,null,null,{"$f":"IFERROR(VLOOKUP($A2719,'Lista de Precios_Bolívares_S'!$F:$Q,6,FALSE),\"\")","v":""},{"$f":"IFERROR(VLOOKUP($A2719,'Lista de Precios_Bolívares_S'!$F:$Q,12,FALSE),\"\")","v":""},"",{"$f":"IFERROR(VLOOKUP($A2719,'Lista de Precios_USD$_Euro€'!$E:$O,11,FALSE),\"\")","v":""}]
[null,null,null,{"$f":"IFERROR(VLOOKUP($A2720,'Lista de Precios_Bolívares_S'!$F:$Q,6,FALSE),\"\")","v":""},{"$f":"IFERROR(VLOOKUP($A2720,'Lista de Precios_Bolívares_S'!$F:$Q,12,FALSE),\"\")","v":""},"",{"$f":"IFERROR(VLOOKUP($A2720,'Lista de Precios_USD$_Euro€'!$E:$O,11,FALSE),\"\")","v":""}]
[null,null,null,{"$f":"IFERROR(VLOOKUP($A2721,'Lista de Precios_Bolívares_S'!$F:$Q,6,FALSE),\"\")","v":""},{"$f":"IFERROR(VLOOKUP($A2721,'Lista de Precios_Bolívares_S'!$F:$Q,12,FALSE),\"\")","v":""},"",{"$f":"IFERROR(VLOOKUP($A2721,'Lista de Precios_USD$_Euro€'!$E:$O,11,FALSE),\"\")","v":""}]
[null,null,null,{"$f":"IFERROR(VLOOKUP($A2722,'Lista de Precios_Bolívares_S'!$F:$Q,6,FALSE),\"\")","v":""},{"$f":"IFERROR(VLOOKUP($A2722,'Lista de Precios_Bolívares_S'!$F:$Q,12,FALSE),\"\")","v":""},"",{"$f":"IFERROR(VLOOKUP($A2722,'Lista de Precios_USD$_Euro€'!$E:$O,11,FALSE),\"\")","v":""}]
[null,null,null,{"$f":"IFERROR(VLOOKUP($A2723,'Lista de Precios_Bolívares_S'!$F:$Q,6,FALSE),\"\")","v":""},{"$f":"IFERROR(VLOOKUP($A2723,'Lista de Precios_Bolívares_S'!$F:$Q,12,FALSE),\"\")","v":""},"",{"$f":"IFERROR(VLOOKUP($A2723,'Lista de Precios_USD$_Euro€'!$E:$O,11,FALSE),\"\")","v":""}]
[null,null,null,{"$f":"IFERROR(VLOOKUP($A2724,'Lista de Precios_Bolívares_S'!$F:$Q,6,FALSE),\"\")","v":""},{"$f":"IFERROR(VLOOKUP($A2724,'Lista de Precios_Bolívares_S'!$F:$Q,12,FALSE),\"\")","v":""},"",{"$f":"IFERROR(VLOOKUP($A2724,'Lista de Precios_USD$_Euro€'!$E:$O,11,FALSE),\"\")","v":""}]
[null,null,null,{"$f":"IFERROR(VLOOKUP($A2725,'Lista de Precios_Bolívares_S'!$F:$Q,6,FALSE),\"\")","v":""},{"$f":"IFERROR(VLOOKUP($A2725,'Lista de Precios_Bolívares_S'!$F:$Q,12,FALSE),\"\")","v":""},"",{"$f":"IFERROR(VLOOKUP($A2725,'Lista de Precios_USD$_Euro€'!$E:$O,11,FALSE),\"\")","v":""}]
[null,null,null,{"$f":"IFERROR(VLOOKUP($A2726,'Lista de Precios_Bolívares_S'!$F:$Q,6,FALSE),\"\")","v":""},{"$f":"IFERROR(VLOOKUP($A2726,'Lista de Precios_Bolívares_S'!$F:$Q,12,FALSE),\"\")","v":""},"",{"$f":"IFERROR(VLOOKUP($A2726,'Lista de Precios_USD$_Euro€'!$E:$O,11,FALSE),\"\")","v":""}]
[null,null,null,{"$f":"IFERROR(VLOOKUP($A2727,'Lista de Precios_Bolívares_S'!$F:$Q,6,FALSE),\"\")","v":""},{"$f":"IFERROR(VLOOKUP($A2727,'Lista de Precios_Bolívares_S'!$F:$Q,12,FALSE),\"\")","v":""},"",{"$f":"IFERROR(VLOOKUP($A2727,'Lista de Precios_USD$_Euro€'!$E:$O,11,FALSE),\"\")","v":""}]
[null,null,null,{"$f":"IFERROR(VLOOKUP($A2728,'Lista de Precios_Bolívares_S'!$F:$Q,6,FALSE),\"\")","v":""},{"$f":"IFERROR(VLOOKUP($A2728,'Lista de Precios_Bolívares_S'!$F:$Q,12,FALSE),\"\")","v":""},"",{"$f":"IFERROR(VLOOKUP($A2728,'Lista de Precios_USD$_Euro€'!$E:$O,11,FALSE),\"\")","v":""}]
[null,null,null,{"$f":"IFERROR(VLOOKUP($A2729,'Lista de Precios_Bolívares_S'!$F:$Q,6,FALSE),\"\")","v":""},{"$f":"IFERROR(VLOOKUP($A2729,'Lista de Precios_Bolívares_S'!$F:$Q,12,FALSE),\"\")","v":""},"",{"$f":"IFERROR(VLOOKUP($A2729,'Lista de Precios_USD$_Euro€'!$E:$O,11,FALSE),\"\")","v":""}]
[null,null,null,{"$f":"IFERROR(VLOOKUP($A2730,'Lista de Precios_Bolívares_S'!$F:$Q,6,FALSE),\"\")","v":""},{"$f":"IFERROR(VLOOKUP($A2730,'Lista de Precios_Bolívares_S'!$F:$Q,12,FALSE),\"\")","v":""},"",{"$f":"IFERROR(VLOOKUP($A2730,'Lista de Precios_USD$_Euro€'!$E:$O,11,FALSE),\"\")","v":""}]
[null,null,null,{"$f":"IFERROR(VLOOKUP($A2731,'Lista de Precios_Bolívares_S'!$F:$Q,6,FALSE),\"\")","v":""},{"$f":"IFERROR(VLOOKUP($A2731,'Lista de Precios_Bolívares_S'!$F:$Q,12,FALSE),\"\")","v":""},"",{"$f":"IFERROR(VLOOKUP($A2731,'Lista de Precios_USD$_Euro€'!$E:$O,11,FALSE),\"\")","v":""}]
[null,null,null,{"$f":"IFERROR(VLOOKUP($A2732,'Lista de Precios_Bolívares_S'!$F:$Q,6,FALSE),\"\")","v":""},{"$f":"IFERROR(VLOOKUP($A2732,'Lista de Precios_Bolívares_S'!$F:$Q,12,FALSE),\"\")","v":""},"",{"$f":"IFERROR(VLOOKUP($A2732,'Lista de Precios_USD$_Euro€'!$E:$O,11,FALSE),\"\")","v":""}]
[null,null,null,{"$f":"IFERROR(VLOOKUP($A2733,'Lista de Precios_Bolívares_S'!$F:$Q,6,FALSE),\"\")","v":""},{"$f":"IFERROR(VLOOKUP($A2733,'Lista de Precios_Bolívares_S'!$F:$Q,12,FALSE),\"\")","v":""},"",{"$f":"IFERROR(VLOOKUP($A2733,'Lista de Precios_USD$_Euro€'!$E:$O,11,FALSE),\"\")","v":""}]
[null,null,null,{"$f":"IFERROR(VLOOKUP($A2734,'Lista de Precios_Bolívares_S'!$F:$Q,6,FALSE),\"\")","v":""},{"$f":"IFERROR(VLOOKUP($A2734,'Lista de Precios_Bolívares_S'!$F:$Q,12,FALSE),\"\")","v":""},"",{"$f":"IFERROR(VLOOKUP($A2734,'Lista de Precios_USD$_Euro€'!$E:$O,11,FALSE),\"\")","v":""}]
[null,null,null,{"$f":"IFERROR(VLOOKUP($A2735,'Lista de Precios_Bolívares_S'!$F:$Q,6,FALSE),\"\")","v":""},{"$f":"IFERROR(VLOOKUP($A2735,'Lista de Precios_Bolívares_S'!$F:$Q,12,FALSE),\"\")","v":""},"",{"$f":"IFERROR(VLOOKUP($A2735,'Lista de Precios_USD$_Euro€'!$E:$O,11,FALSE),\"\")","v":""}]
[null,null,null,{"$f":"IFERROR(VLOOKUP($A2736,'Lista de Precios_Bolívares_S'!$F:$Q,6,FALSE),\"\")","v":""},{"$f":"IFERROR(VLOOKUP($A2736,'Lista de Precios_Bolívares_S'!$F:$Q,12,FALSE),\"\")","v":""},"",{"$f":"IFERROR(VLOOKUP($A2736,'Lista de Precios_USD$_Euro€'!$E:$O,11,FALSE),\"\")","v":""}]
[null,null,null,{"$f":"IFERROR(VLOOKUP($A2737,'Lista de Precios_Bolívares_S'!$F:$Q,6,FALSE),\"\")","v":""},{"$f":"IFERROR(VLOOKUP($A2737,'Lista de Precios_Bolívares_S'!$F:$Q,12,FALSE),\"\")","v":""},"",{"$f":"IFERROR(VLOOKUP($A2737,'Lista de Precios_USD$_Euro€'!$E:$O,11,FALSE),\"\")","v":""}]
[null,null,null,{"$f":"IFERROR(VLOOKUP($A2738,'Lista de Precios_Bolívares_S'!$F:$Q,6,FALSE),\"\")","v":""},{"$f":"IFERROR(VLOOKUP($A2738,'Lista de Precios_Bolívares_S'!$F:$Q,12,FALSE),\"\")","v":""},"",{"$f":"IFERROR(VLOOKUP($A2738,'Lista de Precios_USD$_Euro€'!$E:$O,11,FALSE),\"\")","v":""}]
[null,null,null,{"$f":"IFERROR(VLOOKUP($A2739,'Lista de Precios_Bolívares_S'!$F:$Q,6,FALSE),\"\")","v":""},{"$f":"IFERROR(VLOOKUP($A2739,'Lista de Precios_Bolívares_S'!$F:$Q,12,FALSE),\"\")","v":""},"",{"$f":"IFERROR(VLOOKUP($A2739,'Lista de Precios_USD$_Euro€'!$E:$O,11,FALSE),\"\")","v":""}]
[null,null,null,{"$f":"IFERROR(VLOOKUP($A2740,'Lista de Precios_Bolívares_S'!$F:$Q,6,FALSE),\"\")","v":""},{"$f":"IFERROR(VLOOKUP($A2740,'Lista de Precios_Bolívares_S'!$F:$Q,12,FALSE),\"\")","v":""},"",{"$f":"IFERROR(VLOOKUP($A2740,'Lista de Precios_USD$_Euro€'!$E:$O,11,FALSE),\"\")","v":""}]
[null,null,null,{"$f":"IFERROR(VLOOKUP($A2741,'Lista de Precios_Bolívares_S'!$F:$Q,6,FALSE),\"\")","v":""},{"$f":"IFERROR(VLOOKUP($A2741,'Lista de Precios_Bolívares_S'!$F:$Q,12,FALSE),\"\")","v":""},"",{"$f":"IFERROR(VLOOKUP($A2741,'Lista de Precios_USD$_Euro€'!$E:$O,11,FALSE),\"\")","v":""}]
[null,null,null,{"$f":"IFERROR(VLOOKUP($A2742,'Lista de Precios_Bolívares_S'!$F:$Q,6,FALSE),\"\")","v":""},{"$f":"IFERROR(VLOOKUP($A2742,'Lista de Precios_Bolívares_S'!$F:$Q,12,FALSE),\"\")","v":""},"",{"$f":"IFERROR(VLOOKUP($A2742,'Lista de Precios_USD$_Euro€'!$E:$O,11,FALSE),\"\")","v":""}]
[null,null,null,{"$f":"IFERROR(VLOOKUP($A2743,'Lista de Precios_Bolívares_S'!$F:$Q,6,FALSE),\"\")","v":""},{"$f":"IFERROR(VLOOKUP($A2743,'Lista de Precios_Bolívares_S'!$F:$Q,12,FALSE),\"\")","v":""},"",{"$f":"IFERROR(VLOOKUP($A2743,'Lista de Precios_USD$_Euro€'!$E:$O,11,FALSE),\"\")","v":""}]
[null,null,null,{"$f":"IFERROR(VLOOKUP($A2744,'Lista de Precios_Bolívares_S'!$F:$Q,6,FALSE),\"\")","v":""},{"$f":"IFERROR(VLOOKUP($A2744,'Lista de Precios_Bolívares_S'!$F:$Q,12,FALSE),\"\")","v":""},"",{"$f":"IFERROR(VLOOKUP($A2744,'Lista de Precios_USD$_Euro€'!$E:$O,11,FALSE),\"\")","v":""}]
[null,null,null,{"$f":"IFERROR(VLOOKUP($A2745,'Lista de Precios_Bolívares_S'!$F:$Q,6,FALSE),\"\")","v":""},{"$f":"IFERROR(VLOOKUP($A2745,'Lista de Precios_Bolívares_S'!$F:$Q,12,FALSE),\"\")","v":""},"",{"$f":"IFERROR(VLOOKUP($A2745,'Lista de Precios_USD$_Euro€'!$E:$O,11,FALSE),\"\")","v":""}]
[null,null,null,{"$f":"IFERROR(VLOOKUP($A2746,'Lista de Precios_Bolívares_S'!$F:$Q,6,FALSE),\"\")","v":""},{"$f":"IFERROR(VLOOKUP($A2746,'Lista de Precios_Bolívares_S'!$F:$Q,12,FALSE),\"\")","v":""},"",{"$f":"IFERROR(VLOOKUP($A2746,'Lista de Precios_USD$_Euro€'!$E:$O,11,FALSE),\"\")","v":""}]
[null,null,null,{"$f":"IFERROR(VLOOKUP($A2747,'Lista de Precios_Bolívares_S'!$F:$Q,6,FALSE),\"\")","v":""},{"$f":"IFERROR(VLOOKUP($A2747,'Lista de Precios_Bolívares_S'!$F:$Q,12,FALSE),\"\")","v":""},"",{"$f":"IFERROR(VLOOKUP($A2747,'Lista de Precios_USD$_Euro€'!$E:$O,11,FALSE),\"\")","v":""}]
[null,null,null,{"$f":"IFERROR(VLOOKUP($A2748,'Lista de Precios_Bolívares_S'!$F:$Q,6,FALSE),\"\")","v":""},{"$f":"IFERROR(VLOOKUP($A2748,'Lista de Precios_Bolívares_S'!$F:$Q,12,FALSE),\"\")","v":""},"",{"$f":"IFERROR(VLOOKUP($A2748,'Lista de Precios_USD$_Euro€'!$E:$O,11,FALSE),\"\")","v":""}]
[null,null,null,{"$f":"IFERROR(VLOOKUP($A2749,'Lista de Precios_Bolívares_S'!$F:$Q,6,FALSE),\"\")","v":""},{"$f":"IFERROR(VLOOKUP($A2749,'Lista de Precios_Bolívares_S'!$F:$Q,12,FALSE),\"\")","v":""},"",{"$f":"IFERROR(VLOOKUP($A2749,'Lista de Precios_USD$_Euro€'!$E:$O,11,FALSE),\"\")","v":""}]
[null,null,null,{"$f":"IFERROR(VLOOKUP($A2750,'Lista de Precios_Bolívares_S'!$F:$Q,6,FALSE),\"\")","v":""},{"$f":"IFERROR(VLOOKUP($A2750,'Lista de Precios_Bolívares_S'!$F:$Q,12,FALSE),\"\")","v":""},"",{"$f":"IFERROR(VLOOKUP($A2750,'Lista de Precios_USD$_Euro€'!$E:$O,11,FALSE),\"\")","v":""}]
[null,null,null,{"$f":"IFERROR(VLOOKUP($A2751,'Lista de Precios_Bolívares_S'!$F:$Q,6,FALSE),\"\")","v":""},{"$f":"IFERROR(VLOOKUP($A2751,'Lista de Precios_Bolívares_S'!$F:$Q,12,FALSE),\"\")","v":""},"",{"$f":"IFERROR(VLOOKUP($A2751,'Lista de Precios_USD$_Euro€'!$E:$O,11,FALSE),\"\")","v":""}]
[null,null,null,{"$f":"IFERROR(VLOOKUP($A2752,'Lista de Precios_Bolívares_S'!$F:$Q,6,FALSE),\"\")","v":""},{"$f":"IFERROR(VLOOKUP($A2752,'Lista de Precios_Bolívares_S'!$F:$Q,12,FALSE),\"\")","v":""},"",{"$f":"IFERROR(VLOOKUP($A2752,'Lista de Precios_USD$_Euro€'!$E:$O,11,FALSE),\"\")","v":""}]
[null,null,null,{"$f":"IFERROR(VLOOKUP($A2753,'Lista de Precios_Bolívares_S'!$F:$Q,6,FALSE),\"\")","v":""},{"$f":"IFERROR(VLOOKUP($A2753,'Lista de Precios_Bolívares_S'!$F:$Q,12,FALSE),\"\")","v":""},"",{"$f":"IFERROR(VLOOKUP($A2753,'Lista de Precios_USD$_Euro€'!$E:$O,11,FALSE),\"\")","v":""}]
[null,null,null,{"$f":"IFERROR(VLOOKUP($A2754,'Lista de Precios_Bolívares_S'!$F:$Q,6,FALSE),\"\")","v":""},{"$f":"IFERROR(VLOOKUP($A2754,'Lista de Precios_Bolívares_S'!$F:$Q,12,FALSE),\"\")","v":""},"",{"$f":"IFERROR(VLOOKUP($A2754,'Lista de Precios_USD$_Euro€'!$E:$O,11,FALSE),\"\")","v":""}]
[null,null,null,{"$f":"IFERROR(VLOOKUP($A2755,'Lista de Precios_Bolívares_S'!$F:$Q,6,FALSE),\"\")","v":""},{"$f":"IFERROR(VLOOKUP($A2755,'Lista de Precios_Bolívares_S'!$F:$Q,12,FALSE),\"\")","v":""},"",{"$f":"IFERROR(VLOOKUP($A2755,'Lista de Precios_USD$_Euro€'!$E:$O,11,FALSE),\"\")","v":""}]
[null,null,null,{"$f":"IFERROR(VLOOKUP($A2756,'Lista de Precios_Bolívares_S'!$F:$Q,6,FALSE),\"\")","v":""},{"$f":"IFERROR(VLOOKUP($A2756,'Lista de Precios_Bolívares_S'!$F:$Q,12,FALSE),\"\")","v":""},"",{"$f":"IFERROR(VLOOKUP($A2756,'Lista de Precios_USD$_Euro€'!$E:$O,11,FALSE),\"\")","v":""}]
[null,null,null,{"$f":"IFERROR(VLOOKUP($A2757,'Lista de Precios_Bolívares_S'!$F:$Q,6,FALSE),\"\")","v":""},{"$f":"IFERROR(VLOOKUP($A2757,'Lista de Precios_Bolívares_S'!$F:$Q,12,FALSE),\"\")","v":""},"",{"$f":"IFERROR(VLOOKUP($A2757,'Lista de Precios_USD$_Euro€'!$E:$O,11,FALSE),\"\")","v":""}]
[null,null,null,{"$f":"IFERROR(VLOOKUP($A2758,'Lista de Precios_Bolívares_S'!$F:$Q,6,FALSE),\"\")","v":""},{"$f":"IFERROR(VLOOKUP($A2758,'Lista de Precios_Bolívares_S'!$F:$Q,12,FALSE),\"\")","v":""},"",{"$f":"IFERROR(VLOOKUP($A2758,'Lista de Precios_USD$_Euro€'!$E:$O,11,FALSE),\"\")","v":""}]
[null,null,null,{"$f":"IFERROR(VLOOKUP($A2759,'Lista de Precios_Bolívares_S'!$F:$Q,6,FALSE),\"\")","v":""},{"$f":"IFERROR(VLOOKUP($A2759,'Lista de Precios_Bolívares_S'!$F:$Q,12,FALSE),\"\")","v":""},"",{"$f":"IFERROR(VLOOKUP($A2759,'Lista de Precios_USD$_Euro€'!$E:$O,11,FALSE),\"\")","v":""}]
[null,null,null,{"$f":"IFERROR(VLOOKUP($A2760,'Lista de Precios_Bolívares_S'!$F:$Q,6,FALSE),\"\")","v":""},{"$f":"IFERROR(VLOOKUP($A2760,'Lista de Precios_Bolívares_S'!$F:$Q,12,FALSE),\"\")","v":""},"",{"$f":"IFERROR(VLOOKUP($A2760,'Lista de Precios_USD$_Euro€'!$E:$O,11,FALSE),\"\")","v":""}]
[null,null,null,{"$f":"IFERROR(VLOOKUP($A2761,'Lista de Precios_Bolívares_S'!$F:$Q,6,FALSE),\"\")","v":""},{"$f":"IFERROR(VLOOKUP($A2761,'Lista de Precios_Bolívares_S'!$F:$Q,12,FALSE),\"\")","v":""},"",{"$f":"IFERROR(VLOOKUP($A2761,'Lista de Precios_USD$_Euro€'!$E:$O,11,FALSE),\"\")","v":""}]
[null,null,null,{"$f":"IFERROR(VLOOKUP($A2762,'Lista de Precios_Bolívares_S'!$F:$Q,6,FALSE),\"\")","v":""},{"$f":"IFERROR(VLOOKUP($A2762,'Lista de Precios_Bolívares_S'!$F:$Q,12,FALSE),\"\")","v":""},"",{"$f":"IFERROR(VLOOKUP($A2762,'Lista de Precios_USD$_Euro€'!$E:$O,11,FALSE),\"\")","v":""}]
[null,null,null,{"$f":"IFERROR(VLOOKUP($A2763,'Lista de Precios_Bolívares_S'!$F:$Q,6,FALSE),\"\")","v":""},{"$f":"IFERROR(VLOOKUP($A2763,'Lista de Precios_Bolívares_S'!$F:$Q,12,FALSE),\"\")","v":""},"",{"$f":"IFERROR(VLOOKUP($A2763,'Lista de Precios_USD$_Euro€'!$E:$O,11,FALSE),\"\")","v":""}]
[null,null,null,{"$f":"IFERROR(VLOOKUP($A2764,'Lista de Precios_Bolívares_S'!$F:$Q,6,FALSE),\"\")","v":""},{"$f":"IFERROR(VLOOKUP($A2764,'Lista de Precios_Bolívares_S'!$F:$Q,12,FALSE),\"\")","v":""},"",{"$f":"IFERROR(VLOOKUP($A2764,'Lista de Precios_USD$_Euro€'!$E:$O,11,FALSE),\"\")","v":""}]
[null,null,null,{"$f":"IFERROR(VLOOKUP($A2765,'Lista de Precios_Bolívares_S'!$F:$Q,6,FALSE),\"\")","v":""},{"$f":"IFERROR(VLOOKUP($A2765,'Lista de Precios_Bolívares_S'!$F:$Q,12,FALSE),\"\")","v":""},"",{"$f":"IFERROR(VLOOKUP($A2765,'Lista de Precios_USD$_Euro€'!$E:$O,11,FALSE),\"\")","v":""}]
[null,null,null,{"$f":"IFERROR(VLOOKUP($A2766,'Lista de Precios_Bolívares_S'!$F:$Q,6,FALSE),\"\")","v":""},{"$f":"IFERROR(VLOOKUP($A2766,'Lista de Precios_Bolívares_S'!$F:$Q,12,FALSE),\"\")","v":""},"",{"$f":"IFERROR(VLOOKUP($A2766,'Lista de Precios_USD$_Euro€'!$E:$O,11,FALSE),\"\")","v":""}]
[null,null,null,{"$f":"IFERROR(VLOOKUP($A2767,'Lista de Precios_Bolívares_S'!$F:$Q,6,FALSE),\"\")","v":""},{"$f":"IFERROR(VLOOKUP($A2767,'Lista de Precios_Bolívares_S'!$F:$Q,12,FALSE),\"\")","v":""},"",{"$f":"IFERROR(VLOOKUP($A2767,'Lista de Precios_USD$_Euro€'!$E:$O,11,FALSE),\"\")","v":""}]
[null,null,null,{"$f":"IFERROR(VLOOKUP($A2768,'Lista de Precios_Bolívares_S'!$F:$Q,6,FALSE),\"\")","v":""},{"$f":"IFERROR(VLOOKUP($A2768,'Lista de Precios_Bolívares_S'!$F:$Q,12,FALSE),\"\")","v":""},"",{"$f":"IFERROR(VLOOKUP($A2768,'Lista de Precios_USD$_Euro€'!$E:$O,11,FALSE),\"\")","v":""}]
[null,null,null,{"$f":"IFERROR(VLOOKUP($A2769,'Lista de Precios_Bolívares_S'!$F:$Q,6,FALSE),\"\")","v":""},{"$f":"IFERROR(VLOOKUP($A2769,'Lista de Precios_Bolívares_S'!$F:$Q,12,FALSE),\"\")","v":""},"",{"$f":"IFERROR(VLOOKUP($A2769,'Lista de Precios_USD$_Euro€'!$E:$O,11,FALSE),\"\")","v":""}]
[null,null,null,{"$f":"IFERROR(VLOOKUP($A2770,'Lista de Precios_Bolívares_S'!$F:$Q,6,FALSE),\"\")","v":""},{"$f":"IFERROR(VLOOKUP($A2770,'Lista de Precios_Bolívares_S'!$F:$Q,12,FALSE),\"\")","v":""},"",{"$f":"IFERROR(VLOOKUP($A2770,'Lista de Precios_USD$_Euro€'!$E:$O,11,FALSE),\"\")","v":""}]
[null,null,null,{"$f":"IFERROR(VLOOKUP($A2771,'Lista de Precios_Bolívares_S'!$F:$Q,6,FALSE),\"\")","v":""},{"$f":"IFERROR(VLOOKUP($A2771,'Lista de Precios_Bolívares_S'!$F:$Q,12,FALSE),\"\")","v":""},"",{"$f":"IFERROR(VLOOKUP($A2771,'Lista de Precios_USD$_Euro€'!$E:$O,11,FALSE),\"\")","v":""}]
[null,null,null,{"$f":"IFERROR(VLOOKUP($A2772,'Lista de Precios_Bolívares_S'!$F:$Q,6,FALSE),\"\")","v":""},{"$f":"IFERROR(VLOOKUP($A2772,'Lista de Precios_Bolívares_S'!$F:$Q,12,FALSE),\"\")","v":""},"",{"$f":"IFERROR(VLOOKUP($A2772,'Lista de Precios_USD$_Euro€'!$E:$O,11,FALSE),\"\")","v":""}]
[null,null,null,{"$f":"IFERROR(VLOOKUP($A2773,'Lista de Precios_Bolívares_S'!$F:$Q,6,FALSE),\"\")","v":""},{"$f":"IFERROR(VLOOKUP($A2773,'Lista de Precios_Bolívares_S'!$F:$Q,12,FALSE),\"\")","v":""},"",{"$f":"IFERROR(VLOOKUP($A2773,'Lista de Precios_USD$_Euro€'!$E:$O,11,FALSE),\"\")","v":""}]
[null,null,null,{"$f":"IFERROR(VLOOKUP($A2774,'Lista de Precios_Bolívares_S'!$F:$Q,6,FALSE),\"\")","v":""},{"$f":"IFERROR(VLOOKUP($A2774,'Lista de Precios_Bolívares_S'!$F:$Q,12,FALSE),\"\")","v":""},"",{"$f":"IFERROR(VLOOKUP($A2774,'Lista de Precios_USD$_Euro€'!$E:$O,11,FALSE),\"\")","v":""}]
[null,null,null,{"$f":"IFERROR(VLOOKUP($A2775,'Lista de Precios_Bolívares_S'!$F:$Q,6,FALSE),\"\")","v":""},{"$f":"IFERROR(VLOOKUP($A2775,'Lista de Precios_Bolívares_S'!$F:$Q,12,FALSE),\"\")","v":""},"",{"$f":"IFERROR(VLOOKUP($A2775,'Lista de Precios_USD$_Euro€'!$E:$O,11,FALSE),\"\")","v":""}]
[null,null,null,{"$f":"IFERROR(VLOOKUP($A2776,'Lista de Precios_Bolívares_S'!$F:$Q,6,FALSE),\"\")","v":""},{"$f":"IFERROR(VLOOKUP($A2776,'Lista de Precios_Bolívares_S'!$F:$Q,12,FALSE),\"\")","v":""},"",{"$f":"IFERROR(VLOOKUP($A2776,'Lista de Precios_USD$_Euro€'!$E:$O,11,FALSE),\"\")","v":""}]
[null,null,null,{"$f":"IFERROR(VLOOKUP($A2777,'Lista de Precios_Bolívares_S'!$F:$Q,6,FALSE),\"\")","v":""},{"$f":"IFERROR(VLOOKUP($A2777,'Lista de Precios_Bolívares_S'!$F:$Q,12,FALSE),\"\")","v":""},{"$f":"IFERROR(IF(ROUND($C2777,2)=ROUND($D2752,2),ROUND($E2752,2),ROUND($C2777,2)),\"\")","v":""},{"$f":"IFERROR(VLOOKUP($A2777,'Lista de Precios_USD$_Euro€'!$E:$O,11,FALSE),\"\")","v":""}]
[null,null,null,{"$f":"IFERROR(VLOOKUP($A2778,'Lista de Precios_Bolívares_S'!$F:$Q,6,FALSE),\"\")","v":""},{"$f":"IFERROR(VLOOKUP($A2778,'Lista de Precios_Bolívares_S'!$F:$Q,12,FALSE),\"\")","v":""},"",{"$f":"IFERROR(VLOOKUP($A2778,'Lista de Precios_USD$_Euro€'!$E:$O,11,FALSE),\"\")","v":""}]
[null,null,null,{"$f":"IFERROR(VLOOKUP($A2779,'Lista de Precios_Bolívares_S'!$F:$Q,6,FALSE),\"\")","v":""},{"$f":"IFERROR(VLOOKUP($A2779,'Lista de Precios_Bolívares_S'!$F:$Q,12,FALSE),\"\")","v":""},"",{"$f":"IFERROR(VLOOKUP($A2779,'Lista de Precios_USD$_Euro€'!$E:$O,11,FALSE),\"\")","v":""}]
[null,null,null,{"$f":"IFERROR(VLOOKUP($A2780,'Lista de Precios_Bolívares_S'!$F:$Q,6,FALSE),\"\")","v":""},{"$f":"IFERROR(VLOOKUP($A2780,'Lista de Precios_Bolívares_S'!$F:$Q,12,FALSE),\"\")","v":""},"",{"$f":"IFERROR(VLOOKUP($A2780,'Lista de Precios_USD$_Euro€'!$E:$O,11,FALSE),\"\")","v":""}]
[null,null,null,{"$f":"IFERROR(VLOOKUP($A2781,'Lista de Precios_Bolívares_S'!$F:$Q,6,FALSE),\"\")","v":""},{"$f":"IFERROR(VLOOKUP($A2781,'Lista de Precios_Bolívares_S'!$F:$Q,12,FALSE),\"\")","v":""},"",{"$f":"IFERROR(VLOOKUP($A2781,'Lista de Precios_USD$_Euro€'!$E:$O,11,FALSE),\"\")","v":""}]
[null,null,null,{"$f":"IFERROR(VLOOKUP($A2782,'Lista de Precios_Bolívares_S'!$F:$Q,6,FALSE),\"\")","v":""},{"$f":"IFERROR(VLOOKUP($A2782,'Lista de Precios_Bolívares_S'!$F:$Q,12,FALSE),\"\")","v":""},"",{"$f":"IFERROR(VLOOKUP($A2782,'Lista de Precios_USD$_Euro€'!$E:$O,11,FALSE),\"\")","v":""}]
[null,null,null,{"$f":"IFERROR(VLOOKUP($A2783,'Lista de Precios_Bolívares_S'!$F:$Q,6,FALSE),\"\")","v":""},{"$f":"IFERROR(VLOOKUP($A2783,'Lista de Precios_Bolívares_S'!$F:$Q,12,FALSE),\"\")","v":""},"",{"$f":"IFERROR(VLOOKUP($A2783,'Lista de Precios_USD$_Euro€'!$E:$O,11,FALSE),\"\")","v":""}]
[null,null,null,{"$f":"IFERROR(VLOOKUP($A2784,'Lista de Precios_Bolívares_S'!$F:$Q,6,FALSE),\"\")","v":""},{"$f":"IFERROR(VLOOKUP($A2784,'Lista de Precios_Bolívares_S'!$F:$Q,12,FALSE),\"\")","v":""},"",{"$f":"IFERROR(VLOOKUP($A2784,'Lista de Precios_USD$_Euro€'!$E:$O,11,FALSE),\"\")","v":""}]
[null,null,null,{"$f":"IFERROR(VLOOKUP($A2785,'Lista de Precios_Bolívares_S'!$F:$Q,6,FALSE),\"\")","v":""},{"$f":"IFERROR(VLOOKUP($A2785,'Lista de Precios_Bolívares_S'!$F:$Q,12,FALSE),\"\")","v":""},"",{"$f":"IFERROR(VLOOKUP($A2785,'Lista de Precios_USD$_Euro€'!$E:$O,11,FALSE),\"\")","v":""}]
[null,null,null,{"$f":"IFERROR(VLOOKUP($A2786,'Lista de Precios_Bolívares_S'!$F:$Q,6,FALSE),\"\")","v":""},{"$f":"IFERROR(VLOOKUP($A2786,'Lista de Precios_Bolívares_S'!$F:$Q,12,FALSE),\"\")","v":""},"",{"$f":"IFERROR(VLOOKUP($A2786,'Lista de Precios_USD$_Euro€'!$E:$O,11,FALSE),\"\")","v":""}]
[null,null,null,{"$f":"IFERROR(VLOOKUP($A2787,'Lista de Precios_Bolívares_S'!$F:$Q,6,FALSE),\"\")","v":""},{"$f":"IFERROR(VLOOKUP($A2787,'Lista de Precios_Bolívares_S'!$F:$Q,12,FALSE),\"\")","v":""},"",{"$f":"IFERROR(VLOOKUP($A2787,'Lista de Precios_USD$_Euro€'!$E:$O,11,FALSE),\"\")","v":""}]
[null,null,null,{"$f":"IFERROR(VLOOKUP($A2788,'Lista de Precios_Bolívares_S'!$F:$Q,6,FALSE),\"\")","v":""},{"$f":"IFERROR(VLOOKUP($A2788,'Lista de Precios_Bolívares_S'!$F:$Q,12,FALSE),\"\")","v":""},"",{"$f":"IFERROR(VLOOKUP($A2788,'Lista de Precios_USD$_Euro€'!$E:$O,11,FALSE),\"\")","v":""}]
[null,null,null,{"$f":"IFERROR(VLOOKUP($A2789,'Lista de Precios_Bolívares_S'!$F:$Q,6,FALSE),\"\")","v":""},{"$f":"IFERROR(VLOOKUP($A2789,'Lista de Precios_Bolívares_S'!$F:$Q,12,FALSE),\"\")","v":""},"",{"$f":"IFERROR(VLOOKUP($A2789,'Lista de Precios_USD$_Euro€'!$E:$O,11,FALSE),\"\")","v":""}]
[null,null,null,{"$f":"IFERROR(VLOOKUP($A2790,'Lista de Precios_Bolívares_S'!$F:$Q,6,FALSE),\"\")","v":""},{"$f":"IFERROR(VLOOKUP($A2790,'Lista de Precios_Bolívares_S'!$F:$Q,12,FALSE),\"\")","v":""},"",{"$f":"IFERROR(VLOOKUP($A2790,'Lista de Precios_USD$_Euro€'!$E:$O,11,FALSE),\"\")","v":""}]
[null,null,null,{"$f":"IFERROR(VLOOKUP($A2791,'Lista de Precios_Bolívares_S'!$F:$Q,6,FALSE),\"\")","v":""},{"$f":"IFERROR(VLOOKUP($A2791,'Lista de Precios_Bolívares_S'!$F:$Q,12,FALSE),\"\")","v":""},"",{"$f":"IFERROR(VLOOKUP($A2791,'Lista de Precios_USD$_Euro€'!$E:$O,11,FALSE),\"\")","v":""}]
[null,null,null,{"$f":"IFERROR(VLOOKUP($A2792,'Lista de Precios_Bolívares_S'!$F:$Q,6,FALSE),\"\")","v":""},{"$f":"IFERROR(VLOOKUP($A2792,'Lista de Precios_Bolívares_S'!$F:$Q,12,FALSE),\"\")","v":""},"",{"$f":"IFERROR(VLOOKUP($A2792,'Lista de Precios_USD$_Euro€'!$E:$O,11,FALSE),\"\")","v":""}]
[null,null,null,{"$f":"IFERROR(VLOOKUP($A2793,'Lista de Precios_Bolívares_S'!$F:$Q,6,FALSE),\"\")","v":""},{"$f":"IFERROR(VLOOKUP($A2793,'Lista de Precios_Bolívares_S'!$F:$Q,12,FALSE),\"\")","v":""},"",{"$f":"IFERROR(VLOOKUP($A2793,'Lista de Precios_USD$_Euro€'!$E:$O,11,FALSE),\"\")","v":""}]
[null,null,null,{"$f":"IFERROR(VLOOKUP($A2794,'Lista de Precios_Bolívares_S'!$F:$Q,6,FALSE),\"\")","v":""},{"$f":"IFERROR(VLOOKUP($A2794,'Lista de Precios_Bolívares_S'!$F:$Q,12,FALSE),\"\")","v":""},"",{"$f":"IFERROR(VLOOKUP($A2794,'Lista de Precios_USD$_Euro€'!$E:$O,11,FALSE),\"\")","v":""}]
[null,null,null,{"$f":"IFERROR(VLOOKUP($A2795,'Lista de Precios_Bolívares_S'!$F:$Q,6,FALSE),\"\")","v":""},{"$f":"IFERROR(VLOOKUP($A2795,'Lista de Precios_Bolívares_S'!$F:$Q,12,FALSE),\"\")","v":""},"",{"$f":"IFERROR(VLOOKUP($A2795,'Lista de Precios_USD$_Euro€'!$E:$O,11,FALSE),\"\")","v":""}]
[null,null,null,{"$f":"IFERROR(VLOOKUP($A2796,'Lista de Precios_Bolívares_S'!$F:$Q,6,FALSE),\"\")","v":""},{"$f":"IFERROR(VLOOKUP($A2796,'Lista de Precios_Bolívares_S'!$F:$Q,12,FALSE),\"\")","v":""},"",{"$f":"IFERROR(VLOOKUP($A2796,'Lista de Precios_USD$_Euro€'!$E:$O,11,FALSE),\"\")","v":""}]
[null,null,null,{"$f":"IFERROR(VLOOKUP($A2797,'Lista de Precios_Bolívares_S'!$F:$Q,6,FALSE),\"\")","v":""},{"$f":"IFERROR(VLOOKUP($A2797,'Lista de Precios_Bolívares_S'!$F:$Q,12,FALSE),\"\")","v":""},"",{"$f":"IFERROR(VLOOKUP($A2797,'Lista de Precios_USD$_Euro€'!$E:$O,11,FALSE),\"\")","v":""}]
[null,null,null,{"$f":"IFERROR(VLOOKUP($A2798,'Lista de Precios_Bolívares_S'!$F:$Q,6,FALSE),\"\")","v":""},{"$f":"IFERROR(VLOOKUP($A2798,'Lista de Precios_Bolívares_S'!$F:$Q,12,FALSE),\"\")","v":""},"",{"$f":"IFERROR(VLOOKUP($A2798,'Lista de Precios_USD$_Euro€'!$E:$O,11,FALSE),\"\")","v":""}]
[null,null,null,{"$f":"IFERROR(VLOOKUP($A2799,'Lista de Precios_Bolívares_S'!$F:$Q,6,FALSE),\"\")","v":""},{"$f":"IFERROR(VLOOKUP($A2799,'Lista de Precios_Bolívares_S'!$F:$Q,12,FALSE),\"\")","v":""},"",{"$f":"IFERROR(VLOOKUP($A2799,'Lista de Precios_USD$_Euro€'!$E:$O,11,FALSE),\"\")","v":""}]
[null,null,null,{"$f":"IFERROR(VLOOKUP($A2800,'Lista de Precios_Bolívares_S'!$F:$Q,6,FALSE),\"\")","v":""},{"$f":"IFERROR(VLOOKUP($A2800,'Lista de Precios_Bolívares_S'!$F:$Q,12,FALSE),\"\")","v":""},"",{"$f":"IFERROR(VLOOKUP($A2800,'Lista de Precios_USD$_Euro€'!$E:$O,11,FALSE),\"\")","v":""}]
[null,null,null,{"$f":"IFERROR(VLOOKUP($A2801,'Lista de Precios_Bolívares_S'!$F:$Q,6,FALSE),\"\")","v":""},{"$f":"IFERROR(VLOOKUP($A2801,'Lista de Precios_Bolívares_S'!$F:$Q,12,FALSE),\"\")","v":""},"",{"$f":"IFERROR(VLOOKUP($A2801,'Lista de Precios_USD$_Euro€'!$E:$O,11,FALSE),\"\")","v":""}]
[null,null,null,{"$f":"IFERROR(VLOOKUP($A2802,'Lista de Precios_Bolívares_S'!$F:$Q,6,FALSE),\"\")","v":""},{"$f":"IFERROR(VLOOKUP($A2802,'Lista de Precios_Bolívares_S'!$F:$Q,12,FALSE),\"\")","v":""},"",{"$f":"IFERROR(VLOOKUP($A2802,'Lista de Precios_USD$_Euro€'!$E:$O,11,FALSE),\"\")","v":""}]
[null,null,null,{"$f":"IFERROR(VLOOKUP($A2803,'Lista de Precios_Bolívares_S'!$F:$Q,6,FALSE),\"\")","v":""},{"$f":"IFERROR(VLOOKUP($A2803,'Lista de Precios_Bolívares_S'!$F:$Q,12,FALSE),\"\")","v":""},"",{"$f":"IFERROR(VLOOKUP($A2803,'Lista de Precios_USD$_Euro€'!$E:$O,11,FALSE),\"\")","v":""}]
[null,null,null,{"$f":"IFERROR(VLOOKUP($A2804,'Lista de Precios_Bolívares_S'!$F:$Q,6,FALSE),\"\")","v":""},{"$f":"IFERROR(VLOOKUP($A2804,'Lista de Precios_Bolívares_S'!$F:$Q,12,FALSE),\"\")","v":""},"",{"$f":"IFERROR(VLOOKUP($A2804,'Lista de Precios_USD$_Euro€'!$E:$O,11,FALSE),\"\")","v":""}]
[null,null,null,{"$f":"IFERROR(VLOOKUP($A2805,'Lista de Precios_Bolívares_S'!$F:$Q,6,FALSE),\"\")","v":""},{"$f":"IFERROR(VLOOKUP($A2805,'Lista de Precios_Bolívares_S'!$F:$Q,12,FALSE),\"\")","v":""},"",{"$f":"IFERROR(VLOOKUP($A2805,'Lista de Precios_USD$_Euro€'!$E:$O,11,FALSE),\"\")","v":""}]
[null,null,null,{"$f":"IFERROR(VLOOKUP($A2806,'Lista de Precios_Bolívares_S'!$F:$Q,6,FALSE),\"\")","v":""},{"$f":"IFERROR(VLOOKUP($A2806,'Lista de Precios_Bolívares_S'!$F:$Q,12,FALSE),\"\")","v":""},"",{"$f":"IFERROR(VLOOKUP($A2806,'Lista de Precios_USD$_Euro€'!$E:$O,11,FALSE),\"\")","v":""}]
[null,null,null,{"$f":"IFERROR(VLOOKUP($A2807,'Lista de Precios_Bolívares_S'!$F:$Q,6,FALSE),\"\")","v":""},{"$f":"IFERROR(VLOOKUP($A2807,'Lista de Precios_Bolívares_S'!$F:$Q,12,FALSE),\"\")","v":""},"",{"$f":"IFERROR(VLOOKUP($A2807,'Lista de Precios_USD$_Euro€'!$E:$O,11,FALSE),\"\")","v":""}]
[null,null,null,{"$f":"IFERROR(VLOOKUP($A2808,'Lista de Precios_Bolívares_S'!$F:$Q,6,FALSE),\"\")","v":""},{"$f":"IFERROR(VLOOKUP($A2808,'Lista de Precios_Bolívares_S'!$F:$Q,12,FALSE),\"\")","v":""},"",{"$f":"IFERROR(VLOOKUP($A2808,'Lista de Precios_USD$_Euro€'!$E:$O,11,FALSE),\"\")","v":""}]
[null,null,null,{"$f":"IFERROR(VLOOKUP($A2809,'Lista de Precios_Bolívares_S'!$F:$Q,6,FALSE),\"\")","v":""},{"$f":"IFERROR(VLOOKUP($A2809,'Lista de Precios_Bolívares_S'!$F:$Q,12,FALSE),\"\")","v":""},"",{"$f":"IFERROR(VLOOKUP($A2809,'Lista de Precios_USD$_Euro€'!$E:$O,11,FALSE),\"\")","v":""}]
[null,null,null,{"$f":"IFERROR(VLOOKUP($A2810,'Lista de Precios_Bolívares_S'!$F:$Q,6,FALSE),\"\")","v":""},{"$f":"IFERROR(VLOOKUP($A2810,'Lista de Precios_Bolívares_S'!$F:$Q,12,FALSE),\"\")","v":""},"",{"$f":"IFERROR(VLOOKUP($A2810,'Lista de Precios_USD$_Euro€'!$E:$O,11,FALSE),\"\")","v":""}]
[null,null,null,{"$f":"IFERROR(VLOOKUP($A2811,'Lista de Precios_Bolívares_S'!$F:$Q,6,FALSE),\"\")","v":""},{"$f":"IFERROR(VLOOKUP($A2811,'Lista de Precios_Bolívares_S'!$F:$Q,12,FALSE),\"\")","v":""},"",{"$f":"IFERROR(VLOOKUP($A2811,'Lista de Precios_USD$_Euro€'!$E:$O,11,FALSE),\"\")","v":""}]
[null,null,null,{"$f":"IFERROR(VLOOKUP($A2812,'Lista de Precios_Bolívares_S'!$F:$Q,6,FALSE),\"\")","v":""},{"$f":"IFERROR(VLOOKUP($A2812,'Lista de Precios_Bolívares_S'!$F:$Q,12,FALSE),\"\")","v":""},"",{"$f":"IFERROR(VLOOKUP($A2812,'Lista de Precios_USD$_Euro€'!$E:$O,11,FALSE),\"\")","v":""}]
[null,null,null,{"$f":"IFERROR(VLOOKUP($A2813,'Lista de Precios_Bolívares_S'!$F:$Q,6,FALSE),\"\")","v":""},{"$f":"IFERROR(VLOOKUP($A2813,'Lista de Precios_Bolívares_S'!$F:$Q,12,FALSE),\"\")","v":""},"",{"$f":"IFERROR(VLOOKUP($A2813,'Lista de Precios_USD$_Euro€'!$E:$O,11,FALSE),\"\")","v":""}]
[null,null,null,{"$f":"IFERROR(VLOOKUP($A2814,'Lista de Precios_Bolívares_S'!$F:$Q,6,FALSE),\"\")","v":""},{"$f":"IFERROR(VLOOKUP($A2814,'Lista de Precios_Bolívares_S'!$F:$Q,12,FALSE),\"\")","v":""},"",{"$f":"IFERROR(VLOOKUP($A2814,'Lista de Precios_USD$_Euro€'!$E:$O,11,FALSE),\"\")","v":""}]
[null,null,null,{"$f":"IFERROR(VLOOKUP($A2815,'Lista de Precios_Bolívares_S'!$F:$Q,6,FALSE),\"\")","v":""},{"$f":"IFERROR(VLOOKUP($A2815,'Lista de Precios_Bolívares_S'!$F:$Q,12,FALSE),\"\")","v":""},"",{"$f":"IFERROR(VLOOKUP($A2815,'Lista de Precios_USD$_Euro€'!$E:$O,11,FALSE),\"\")","v":""}]
[null,null,null,{"$f":"IFERROR(VLOOKUP($A2816,'Lista de Precios_Bolívares_S'!$F:$Q,6,FALSE),\"\")","v":""},{"$f":"IFERROR(VLOOKUP($A2816,'Lista de Precios_Bolívares_S'!$F:$Q,12,FALSE),\"\")","v":""},"",{"$f":"IFERROR(VLOOKUP($A2816,'Lista de Precios_USD$_Euro€'!$E:$O,11,FALSE),\"\")","v":""}]
[null,null,null,{"$f":"IFERROR(VLOOKUP($A2817,'Lista de Precios_Bolívares_S'!$F:$Q,6,FALSE),\"\")","v":""},{"$f":"IFERROR(VLOOKUP($A2817,'Lista de Precios_Bolívares_S'!$F:$Q,12,FALSE),\"\")","v":""},"",{"$f":"IFERROR(VLOOKUP($A2817,'Lista de Precios_USD$_Euro€'!$E:$O,11,FALSE),\"\")","v":""}]
[null,null,null,{"$f":"IFERROR(VLOOKUP($A2818,'Lista de Precios_Bolívares_S'!$F:$Q,6,FALSE),\"\")","v":""},{"$f":"IFERROR(VLOOKUP($A2818,'Lista de Precios_Bolívares_S'!$F:$Q,12,FALSE),\"\")","v":""},"",{"$f":"IFERROR(VLOOKUP($A2818,'Lista de Precios_USD$_Euro€'!$E:$O,11,FALSE),\"\")","v":""}]
[null,null,null,{"$f":"IFERROR(VLOOKUP($A2819,'Lista de Precios_Bolívares_S'!$F:$Q,6,FALSE),\"\")","v":""},{"$f":"IFERROR(VLOOKUP($A2819,'Lista de Precios_Bolívares_S'!$F:$Q,12,FALSE),\"\")","v":""},"",{"$f":"IFERROR(VLOOKUP($A2819,'Lista de Precios_USD$_Euro€'!$E:$O,11,FALSE),\"\")","v":""}]
[null,null,null,{"$f":"IFERROR(VLOOKUP($A2820,'Lista de Precios_Bolívares_S'!$F:$Q,6,FALSE),\"\")","v":""},{"$f":"IFERROR(VLOOKUP($A2820,'Lista de Precios_Bolívares_S'!$F:$Q,12,FALSE),\"\")","v":""},"",{"$f":"IFERROR(VLOOKUP($A2820,'Lista de Precios_USD$_Euro€'!$E:$O,11,FALSE),\"\")","v":""}]
[null,null,null,{"$f":"IFERROR(VLOOKUP($A2821,'Lista de Precios_Bolívares_S'!$F:$Q,6,FALSE),\"\")","v":""},{"$f":"IFERROR(VLOOKUP($A2821,'Lista de Precios_Bolívares_S'!$F:$Q,12,FALSE),\"\")","v":""},"",{"$f":"IFERROR(VLOOKUP($A2821,'Lista de Precios_USD$_Euro€'!$E:$O,11,FALSE),\"\")","v":""}]
[null,null,null,{"$f":"IFERROR(VLOOKUP($A2822,'Lista de Precios_Bolívares_S'!$F:$Q,6,FALSE),\"\")","v":""},{"$f":"IFERROR(VLOOKUP($A2822,'Lista de Precios_Bolívares_S'!$F:$Q,12,FALSE),\"\")","v":""},"",{"$f":"IFERROR(VLOOKUP($A2822,'Lista de Precios_USD$_Euro€'!$E:$O,11,FALSE),\"\")","v":""}]
[null,null,null,{"$f":"IFERROR(VLOOKUP($A2823,'Lista de Precios_Bolívares_S'!$F:$Q,6,FALSE),\"\")","v":""},{"$f":"IFERROR(VLOOKUP($A2823,'Lista de Precios_Bolívares_S'!$F:$Q,12,FALSE),\"\")","v":""},"",{"$f":"IFERROR(VLOOKUP($A2823,'Lista de Precios_USD$_Euro€'!$E:$O,11,FALSE),\"\")","v":""}]
[null,null,null,{"$f":"IFERROR(VLOOKUP($A2824,'Lista de Precios_Bolívares_S'!$F:$Q,6,FALSE),\"\")","v":""},{"$f":"IFERROR(VLOOKUP($A2824,'Lista de Precios_Bolívares_S'!$F:$Q,12,FALSE),\"\")","v":""},"",{"$f":"IFERROR(VLOOKUP($A2824,'Lista de Precios_USD$_Euro€'!$E:$O,11,FALSE),\"\")","v":""}]
[null,null,null,{"$f":"IFERROR(VLOOKUP($A2825,'Lista de Precios_Bolívares_S'!$F:$Q,6,FALSE),\"\")","v":""},{"$f":"IFERROR(VLOOKUP($A2825,'Lista de Precios_Bolívares_S'!$F:$Q,12,FALSE),\"\")","v":""},"",{"$f":"IFERROR(VLOOKUP($A2825,'Lista de Precios_USD$_Euro€'!$E:$O,11,FALSE),\"\")","v":""}]
[null,null,null,{"$f":"IFERROR(VLOOKUP($A2826,'Lista de Precios_Bolívares_S'!$F:$Q,6,FALSE),\"\")","v":""},{"$f":"IFERROR(VLOOKUP($A2826,'Lista de Precios_Bolívares_S'!$F:$Q,12,FALSE),\"\")","v":""},"",{"$f":"IFERROR(VLOOKUP($A2826,'Lista de Precios_USD$_Euro€'!$E:$O,11,FALSE),\"\")","v":""}]
[null,null,null,{"$f":"IFERROR(VLOOKUP($A2827,'Lista de Precios_Bolívares_S'!$F:$Q,6,FALSE),\"\")","v":""},{"$f":"IFERROR(VLOOKUP($A2827,'Lista de Precios_Bolívares_S'!$F:$Q,12,FALSE),\"\")","v":""},"",{"$f":"IFERROR(VLOOKUP($A2827,'Lista de Precios_USD$_Euro€'!$E:$O,11,FALSE),\"\")","v":""}]
[null,null,null,{"$f":"IFERROR(VLOOKUP($A2828,'Lista de Precios_Bolívares_S'!$F:$Q,6,FALSE),\"\")","v":""},{"$f":"IFERROR(VLOOKUP($A2828,'Lista de Precios_Bolívares_S'!$F:$Q,12,FALSE),\"\")","v":""},"",{"$f":"IFERROR(VLOOKUP($A2828,'Lista de Precios_USD$_Euro€'!$E:$O,11,FALSE),\"\")","v":""}]
[null,null,null,{"$f":"IFERROR(VLOOKUP($A2829,'Lista de Precios_Bolívares_S'!$F:$Q,6,FALSE),\"\")","v":""},{"$f":"IFERROR(VLOOKUP($A2829,'Lista de Precios_Bolívares_S'!$F:$Q,12,FALSE),\"\")","v":""},"",{"$f":"IFERROR(VLOOKUP($A2829,'Lista de Precios_USD$_Euro€'!$E:$O,11,FALSE),\"\")","v":""}]
[null,null,null,{"$f":"IFERROR(VLOOKUP($A2830,'Lista de Precios_Bolívares_S'!$F:$Q,6,FALSE),\"\")","v":""},{"$f":"IFERROR(VLOOKUP($A2830,'Lista de Precios_Bolívares_S'!$F:$Q,12,FALSE),\"\")","v":""},"",{"$f":"IFERROR(VLOOKUP($A2830,'Lista de Precios_USD$_Euro€'!$E:$O,11,FALSE),\"\")","v":""}]
[null,null,null,{"$f":"IFERROR(VLOOKUP($A2831,'Lista de Precios_Bolívares_S'!$F:$Q,6,FALSE),\"\")","v":""},{"$f":"IFERROR(VLOOKUP($A2831,'Lista de Precios_Bolívares_S'!$F:$Q,12,FALSE),\"\")","v":""},"",{"$f":"IFERROR(VLOOKUP($A2831,'Lista de Precios_USD$_Euro€'!$E:$O,11,FALSE),\"\")","v":""}]
[null,null,null,{"$f":"IFERROR(VLOOKUP($A2832,'Lista de Precios_Bolívares_S'!$F:$Q,6,FALSE),\"\")","v":""},{"$f":"IFERROR(VLOOKUP($A2832,'Lista de Precios_Bolívares_S'!$F:$Q,12,FALSE),\"\")","v":""},"",{"$f":"IFERROR(VLOOKUP($A2832,'Lista de Precios_USD$_Euro€'!$E:$O,11,FALSE),\"\")","v":""}]
[null,null,null,{"$f":"IFERROR(VLOOKUP($A2833,'Lista de Precios_Bolívares_S'!$F:$Q,6,FALSE),\"\")","v":""},{"$f":"IFERROR(VLOOKUP($A2833,'Lista de Precios_Bolívares_S'!$F:$Q,12,FALSE),\"\")","v":""},"",{"$f":"IFERROR(VLOOKUP($A2833,'Lista de Precios_USD$_Euro€'!$E:$O,11,FALSE),\"\")","v":""}]
[null,null,null,{"$f":"IFERROR(VLOOKUP($A2834,'Lista de Precios_Bolívares_S'!$F:$Q,6,FALSE),\"\")","v":""},{"$f":"IFERROR(VLOOKUP($A2834,'Lista de Precios_Bolívares_S'!$F:$Q,12,FALSE),\"\")","v":""},"",{"$f":"IFERROR(VLOOKUP($A2834,'Lista de Precios_USD$_Euro€'!$E:$O,11,FALSE),\"\")","v":""}]
[null,null,null,{"$f":"IFERROR(VLOOKUP($A2835,'Lista de Precios_Bolívares_S'!$F:$Q,6,FALSE),\"\")","v":""},{"$f":"IFERROR(VLOOKUP($A2835,'Lista de Precios_Bolívares_S'!$F:$Q,12,FALSE),\"\")","v":""},"",{"$f":"IFERROR(VLOOKUP($A2835,'Lista de Precios_USD$_Euro€'!$E:$O,11,FALSE),\"\")","v":""}]
[null,null,null,{"$f":"IFERROR(VLOOKUP($A2836,'Lista de Precios_Bolívares_S'!$F:$Q,6,FALSE),\"\")","v":""},{"$f":"IFERROR(VLOOKUP($A2836,'Lista de Precios_Bolívares_S'!$F:$Q,12,FALSE),\"\")","v":""},"",{"$f":"IFERROR(VLOOKUP($A2836,'Lista de Precios_USD$_Euro€'!$E:$O,11,FALSE),\"\")","v":""}]
[null,null,null,{"$f":"IFERROR(VLOOKUP($A2837,'Lista de Precios_Bolívares_S'!$F:$Q,6,FALSE),\"\")","v":""},{"$f":"IFERROR(VLOOKUP($A2837,'Lista de Precios_Bolívares_S'!$F:$Q,12,FALSE),\"\")","v":""},"",{"$f":"IFERROR(VLOOKUP($A2837,'Lista de Precios_USD$_Euro€'!$E:$O,11,FALSE),\"\")","v":""}]
[null,null,null,{"$f":"IFERROR(VLOOKUP($A2838,'Lista de Precios_Bolívares_S'!$F:$Q,6,FALSE),\"\")","v":""},{"$f":"IFERROR(VLOOKUP($A2838,'Lista de Precios_Bolívares_S'!$F:$Q,12,FALSE),\"\")","v":""},"",{"$f":"IFERROR(VLOOKUP($A2838,'Lista de Precios_USD$_Euro€'!$E:$O,11,FALSE),\"\")","v":""}]
[null,null,null,{"$f":"IFERROR(VLOOKUP($A2839,'Lista de Precios_Bolívares_S'!$F:$Q,6,FALSE),\"\")","v":""},{"$f":"IFERROR(VLOOKUP($A2839,'Lista de Precios_Bolívares_S'!$F:$Q,12,FALSE),\"\")","v":""},"",{"$f":"IFERROR(VLOOKUP($A2839,'Lista de Precios_USD$_Euro€'!$E:$O,11,FALSE),\"\")","v":""}]
[null,null,null,{"$f":"IFERROR(VLOOKUP($A2840,'Lista de Precios_Bolívares_S'!$F:$Q,6,FALSE),\"\")","v":""},{"$f":"IFERROR(VLOOKUP($A2840,'Lista de Precios_Bolívares_S'!$F:$Q,12,FALSE),\"\")","v":""},"",{"$f":"IFERROR(VLOOKUP($A2840,'Lista de Precios_USD$_Euro€'!$E:$O,11,FALSE),\"\")","v":""}]
[null,null,null,{"$f":"IFERROR(VLOOKUP($A2841,'Lista de Precios_Bolívares_S'!$F:$Q,6,FALSE),\"\")","v":""},{"$f":"IFERROR(VLOOKUP($A2841,'Lista de Precios_Bolívares_S'!$F:$Q,12,FALSE),\"\")","v":""},{"$f":"IFERROR(IF(ROUND($C2841,2)=ROUND($D2816,2),ROUND($E2816,2),ROUND($C2841,2)),\"\")","v":""},{"$f":"IFERROR(VLOOKUP($A2841,'Lista de Precios_USD$_Euro€'!$E:$O,11,FALSE),\"\")","v":""}]
[null,null,null,{"$f":"IFERROR(VLOOKUP($A2842,'Lista de Precios_Bolívares_S'!$F:$Q,6,FALSE),\"\")","v":""},{"$f":"IFERROR(VLOOKUP($A2842,'Lista de Precios_Bolívares_S'!$F:$Q,12,FALSE),\"\")","v":""},"",{"$f":"IFERROR(VLOOKUP($A2842,'Lista de Precios_USD$_Euro€'!$E:$O,11,FALSE),\"\")","v":""}]
[null,null,null,{"$f":"IFERROR(VLOOKUP($A2843,'Lista de Precios_Bolívares_S'!$F:$Q,6,FALSE),\"\")","v":""},{"$f":"IFERROR(VLOOKUP($A2843,'Lista de Precios_Bolívares_S'!$F:$Q,12,FALSE),\"\")","v":""},"",{"$f":"IFERROR(VLOOKUP($A2843,'Lista de Precios_USD$_Euro€'!$E:$O,11,FALSE),\"\")","v":""}]
[null,null,null,{"$f":"IFERROR(VLOOKUP($A2844,'Lista de Precios_Bolívares_S'!$F:$Q,6,FALSE),\"\")","v":""},{"$f":"IFERROR(VLOOKUP($A2844,'Lista de Precios_Bolívares_S'!$F:$Q,12,FALSE),\"\")","v":""},"",{"$f":"IFERROR(VLOOKUP($A2844,'Lista de Precios_USD$_Euro€'!$E:$O,11,FALSE),\"\")","v":""}]
[null,null,null,{"$f":"IFERROR(VLOOKUP($A2845,'Lista de Precios_Bolívares_S'!$F:$Q,6,FALSE),\"\")","v":""},{"$f":"IFERROR(VLOOKUP($A2845,'Lista de Precios_Bolívares_S'!$F:$Q,12,FALSE),\"\")","v":""},"",{"$f":"IFERROR(VLOOKUP($A2845,'Lista de Precios_USD$_Euro€'!$E:$O,11,FALSE),\"\")","v":""}]
[null,null,null,{"$f":"IFERROR(VLOOKUP($A2846,'Lista de Precios_Bolívares_S'!$F:$Q,6,FALSE),\"\")","v":""},{"$f":"IFERROR(VLOOKUP($A2846,'Lista de Precios_Bolívares_S'!$F:$Q,12,FALSE),\"\")","v":""},"",{"$f":"IFERROR(VLOOKUP($A2846,'Lista de Precios_USD$_Euro€'!$E:$O,11,FALSE),\"\")","v":""}]
[null,null,null,{"$f":"IFERROR(VLOOKUP($A2847,'Lista de Precios_Bolívares_S'!$F:$Q,6,FALSE),\"\")","v":""},{"$f":"IFERROR(VLOOKUP($A2847,'Lista de Precios_Bolívares_S'!$F:$Q,12,FALSE),\"\")","v":""},"",{"$f":"IFERROR(VLOOKUP($A2847,'Lista de Precios_USD$_Euro€'!$E:$O,11,FALSE),\"\")","v":""}]
[null,null,null,{"$f":"IFERROR(VLOOKUP($A2848,'Lista de Precios_Bolívares_S'!$F:$Q,6,FALSE),\"\")","v":""},{"$f":"IFERROR(VLOOKUP($A2848,'Lista de Precios_Bolívares_S'!$F:$Q,12,FALSE),\"\")","v":""},"",{"$f":"IFERROR(VLOOKUP($A2848,'Lista de Precios_USD$_Euro€'!$E:$O,11,FALSE),\"\")","v":""}]
[null,null,null,{"$f":"IFERROR(VLOOKUP($A2849,'Lista de Precios_Bolívares_S'!$F:$Q,6,FALSE),\"\")","v":""},{"$f":"IFERROR(VLOOKUP($A2849,'Lista de Precios_Bolívares_S'!$F:$Q,12,FALSE),\"\")","v":""},"",{"$f":"IFERROR(VLOOKUP($A2849,'Lista de Precios_USD$_Euro€'!$E:$O,11,FALSE),\"\")","v":""}]
[null,null,null,{"$f":"IFERROR(VLOOKUP($A2850,'Lista de Precios_Bolívares_S'!$F:$Q,6,FALSE),\"\")","v":""},{"$f":"IFERROR(VLOOKUP($A2850,'Lista de Precios_Bolívares_S'!$F:$Q,12,FALSE),\"\")","v":""},"",{"$f":"IFERROR(VLOOKUP($A2850,'Lista de Precios_USD$_Euro€'!$E:$O,11,FALSE),\"\")","v":""}]
[null,null,null,{"$f":"IFERROR(VLOOKUP($A2851,'Lista de Precios_Bolívares_S'!$F:$Q,6,FALSE),\"\")","v":""},{"$f":"IFERROR(VLOOKUP($A2851,'Lista de Precios_Bolívares_S'!$F:$Q,12,FALSE),\"\")","v":""},"",{"$f":"IFERROR(VLOOKUP($A2851,'Lista de Precios_USD$_Euro€'!$E:$O,11,FALSE),\"\")","v":""}]
[null,null,null,{"$f":"IFERROR(VLOOKUP($A2852,'Lista de Precios_Bolívares_S'!$F:$Q,6,FALSE),\"\")","v":""},{"$f":"IFERROR(VLOOKUP($A2852,'Lista de Precios_Bolívares_S'!$F:$Q,12,FALSE),\"\")","v":""},"",{"$f":"IFERROR(VLOOKUP($A2852,'Lista de Precios_USD$_Euro€'!$E:$O,11,FALSE),\"\")","v":""}]
[null,null,null,{"$f":"IFERROR(VLOOKUP($A2853,'Lista de Precios_Bolívares_S'!$F:$Q,6,FALSE),\"\")","v":""},{"$f":"IFERROR(VLOOKUP($A2853,'Lista de Precios_Bolívares_S'!$F:$Q,12,FALSE),\"\")","v":""},"",{"$f":"IFERROR(VLOOKUP($A2853,'Lista de Precios_USD$_Euro€'!$E:$O,11,FALSE),\"\")","v":""}]
[null,null,null,{"$f":"IFERROR(VLOOKUP($A2854,'Lista de Precios_Bolívares_S'!$F:$Q,6,FALSE),\"\")","v":""},{"$f":"IFERROR(VLOOKUP($A2854,'Lista de Precios_Bolívares_S'!$F:$Q,12,FALSE),\"\")","v":""},"",{"$f":"IFERROR(VLOOKUP($A2854,'Lista de Precios_USD$_Euro€'!$E:$O,11,FALSE),\"\")","v":""}]
[null,null,null,{"$f":"IFERROR(VLOOKUP($A2855,'Lista de Precios_Bolívares_S'!$F:$Q,6,FALSE),\"\")","v":""},{"$f":"IFERROR(VLOOKUP($A2855,'Lista de Precios_Bolívares_S'!$F:$Q,12,FALSE),\"\")","v":""},"",{"$f":"IFERROR(VLOOKUP($A2855,'Lista de Precios_USD$_Euro€'!$E:$O,11,FALSE),\"\")","v":""}]
[null,null,null,{"$f":"IFERROR(VLOOKUP($A2856,'Lista de Precios_Bolívares_S'!$F:$Q,6,FALSE),\"\")","v":""},{"$f":"IFERROR(VLOOKUP($A2856,'Lista de Precios_Bolívares_S'!$F:$Q,12,FALSE),\"\")","v":""},"",{"$f":"IFERROR(VLOOKUP($A2856,'Lista de Precios_USD$_Euro€'!$E:$O,11,FALSE),\"\")","v":""}]
[null,null,null,{"$f":"IFERROR(VLOOKUP($A2857,'Lista de Precios_Bolívares_S'!$F:$Q,6,FALSE),\"\")","v":""},{"$f":"IFERROR(VLOOKUP($A2857,'Lista de Precios_Bolívares_S'!$F:$Q,12,FALSE),\"\")","v":""},"",{"$f":"IFERROR(VLOOKUP($A2857,'Lista de Precios_USD$_Euro€'!$E:$O,11,FALSE),\"\")","v":""}]
[null,null,null,{"$f":"IFERROR(VLOOKUP($A2858,'Lista de Precios_Bolívares_S'!$F:$Q,6,FALSE),\"\")","v":""},{"$f":"IFERROR(VLOOKUP($A2858,'Lista de Precios_Bolívares_S'!$F:$Q,12,FALSE),\"\")","v":""},"",{"$f":"IFERROR(VLOOKUP($A2858,'Lista de Precios_USD$_Euro€'!$E:$O,11,FALSE),\"\")","v":""}]
[null,null,null,{"$f":"IFERROR(VLOOKUP($A2859,'Lista de Precios_Bolívares_S'!$F:$Q,6,FALSE),\"\")","v":""},{"$f":"IFERROR(VLOOKUP($A2859,'Lista de Precios_Bolívares_S'!$F:$Q,12,FALSE),\"\")","v":""},"",{"$f":"IFERROR(VLOOKUP($A2859,'Lista de Precios_USD$_Euro€'!$E:$O,11,FALSE),\"\")","v":""}]
[null,null,null,{"$f":"IFERROR(VLOOKUP($A2860,'Lista de Precios_Bolívares_S'!$F:$Q,6,FALSE),\"\")","v":""},{"$f":"IFERROR(VLOOKUP($A2860,'Lista de Precios_Bolívares_S'!$F:$Q,12,FALSE),\"\")","v":""},"",{"$f":"IFERROR(VLOOKUP($A2860,'Lista de Precios_USD$_Euro€'!$E:$O,11,FALSE),\"\")","v":""}]
[null,null,null,{"$f":"IFERROR(VLOOKUP($A2861,'Lista de Precios_Bolívares_S'!$F:$Q,6,FALSE),\"\")","v":""},{"$f":"IFERROR(VLOOKUP($A2861,'Lista de Precios_Bolívares_S'!$F:$Q,12,FALSE),\"\")","v":""},"",{"$f":"IFERROR(VLOOKUP($A2861,'Lista de Precios_USD$_Euro€'!$E:$O,11,FALSE),\"\")","v":""}]
[null,null,null,{"$f":"IFERROR(VLOOKUP($A2862,'Lista de Precios_Bolívares_S'!$F:$Q,6,FALSE),\"\")","v":""},{"$f":"IFERROR(VLOOKUP($A2862,'Lista de Precios_Bolívares_S'!$F:$Q,12,FALSE),\"\")","v":""},"",{"$f":"IFERROR(VLOOKUP($A2862,'Lista de Precios_USD$_Euro€'!$E:$O,11,FALSE),\"\")","v":""}]
[null,null,null,{"$f":"IFERROR(VLOOKUP($A2863,'Lista de Precios_Bolívares_S'!$F:$Q,6,FALSE),\"\")","v":""},{"$f":"IFERROR(VLOOKUP($A2863,'Lista de Precios_Bolívares_S'!$F:$Q,12,FALSE),\"\")","v":""},"",{"$f":"IFERROR(VLOOKUP($A2863,'Lista de Precios_USD$_Euro€'!$E:$O,11,FALSE),\"\")","v":""}]
[null,null,null,{"$f":"IFERROR(VLOOKUP($A2864,'Lista de Precios_Bolívares_S'!$F:$Q,6,FALSE),\"\")","v":""},{"$f":"IFERROR(VLOOKUP($A2864,'Lista de Precios_Bolívares_S'!$F:$Q,12,FALSE),\"\")","v":""},"",{"$f":"IFERROR(VLOOKUP($A2864,'Lista de Precios_USD$_Euro€'!$E:$O,11,FALSE),\"\")","v":""}]
[null,null,null,{"$f":"IFERROR(VLOOKUP($A2865,'Lista de Precios_Bolívares_S'!$F:$Q,6,FALSE),\"\")","v":""},{"$f":"IFERROR(VLOOKUP($A2865,'Lista de Precios_Bolívares_S'!$F:$Q,12,FALSE),\"\")","v":""},"",{"$f":"IFERROR(VLOOKUP($A2865,'Lista de Precios_USD$_Euro€'!$E:$O,11,FALSE),\"\")","v":""}]
[null,null,null,{"$f":"IFERROR(VLOOKUP($A2866,'Lista de Precios_Bolívares_S'!$F:$Q,6,FALSE),\"\")","v":""},{"$f":"IFERROR(VLOOKUP($A2866,'Lista de Precios_Bolívares_S'!$F:$Q,12,FALSE),\"\")","v":""},"",{"$f":"IFERROR(VLOOKUP($A2866,'Lista de Precios_USD$_Euro€'!$E:$O,11,FALSE),\"\")","v":""}]
[null,null,null,{"$f":"IFERROR(VLOOKUP($A2867,'Lista de Precios_Bolívares_S'!$F:$Q,6,FALSE),\"\")","v":""},{"$f":"IFERROR(VLOOKUP($A2867,'Lista de Precios_Bolívares_S'!$F:$Q,12,FALSE),\"\")","v":""},"",{"$f":"IFERROR(VLOOKUP($A2867,'Lista de Precios_USD$_Euro€'!$E:$O,11,FALSE),\"\")","v":""}]
[null,null,null,{"$f":"IFERROR(VLOOKUP($A2868,'Lista de Precios_Bolívares_S'!$F:$Q,6,FALSE),\"\")","v":""},{"$f":"IFERROR(VLOOKUP($A2868,'Lista de Precios_Bolívares_S'!$F:$Q,12,FALSE),\"\")","v":""},"",{"$f":"IFERROR(VLOOKUP($A2868,'Lista de Precios_USD$_Euro€'!$E:$O,11,FALSE),\"\")","v":""}]
[null,null,null,{"$f":"IFERROR(VLOOKUP($A2869,'Lista de Precios_Bolívares_S'!$F:$Q,6,FALSE),\"\")","v":""},{"$f":"IFERROR(VLOOKUP($A2869,'Lista de Precios_Bolívares_S'!$F:$Q,12,FALSE),\"\")","v":""},"",{"$f":"IFERROR(VLOOKUP($A2869,'Lista de Precios_USD$_Euro€'!$E:$O,11,FALSE),\"\")","v":""}]
[null,null,null,{"$f":"IFERROR(VLOOKUP($A2870,'Lista de Precios_Bolívares_S'!$F:$Q,6,FALSE),\"\")","v":""},{"$f":"IFERROR(VLOOKUP($A2870,'Lista de Precios_Bolívares_S'!$F:$Q,12,FALSE),\"\")","v":""},"",{"$f":"IFERROR(VLOOKUP($A2870,'Lista de Precios_USD$_Euro€'!$E:$O,11,FALSE),\"\")","v":""}]
[null,null,null,{"$f":"IFERROR(VLOOKUP($A2871,'Lista de Precios_Bolívares_S'!$F:$Q,6,FALSE),\"\")","v":""},{"$f":"IFERROR(VLOOKUP($A2871,'Lista de Precios_Bolívares_S'!$F:$Q,12,FALSE),\"\")","v":""},"",{"$f":"IFERROR(VLOOKUP($A2871,'Lista de Precios_USD$_Euro€'!$E:$O,11,FALSE),\"\")","v":""}]
[null,null,null,{"$f":"IFERROR(VLOOKUP($A2872,'Lista de Precios_Bolívares_S'!$F:$Q,6,FALSE),\"\")","v":""},{"$f":"IFERROR(VLOOKUP($A2872,'Lista de Precios_Bolívares_S'!$F:$Q,12,FALSE),\"\")","v":""},"",{"$f":"IFERROR(VLOOKUP($A2872,'Lista de Precios_USD$_Euro€'!$E:$O,11,FALSE),\"\")","v":""}]
[null,null,null,{"$f":"IFERROR(VLOOKUP($A2873,'Lista de Precios_Bolívares_S'!$F:$Q,6,FALSE),\"\")","v":""},{"$f":"IFERROR(VLOOKUP($A2873,'Lista de Precios_Bolívares_S'!$F:$Q,12,FALSE),\"\")","v":""},"",{"$f":"IFERROR(VLOOKUP($A2873,'Lista de Precios_USD$_Euro€'!$E:$O,11,FALSE),\"\")","v":""}]
[null,null,null,{"$f":"IFERROR(VLOOKUP($A2874,'Lista de Precios_Bolívares_S'!$F:$Q,6,FALSE),\"\")","v":""},{"$f":"IFERROR(VLOOKUP($A2874,'Lista de Precios_Bolívares_S'!$F:$Q,12,FALSE),\"\")","v":""},"",{"$f":"IFERROR(VLOOKUP($A2874,'Lista de Precios_USD$_Euro€'!$E:$O,11,FALSE),\"\")","v":""}]
[null,null,null,{"$f":"IFERROR(VLOOKUP($A2875,'Lista de Precios_Bolívares_S'!$F:$Q,6,FALSE),\"\")","v":""},{"$f":"IFERROR(VLOOKUP($A2875,'Lista de Precios_Bolívares_S'!$F:$Q,12,FALSE),\"\")","v":""},"",{"$f":"IFERROR(VLOOKUP($A2875,'Lista de Precios_USD$_Euro€'!$E:$O,11,FALSE),\"\")","v":""}]
[null,null,null,{"$f":"IFERROR(VLOOKUP($A2876,'Lista de Precios_Bolívares_S'!$F:$Q,6,FALSE),\"\")","v":""},{"$f":"IFERROR(VLOOKUP($A2876,'Lista de Precios_Bolívares_S'!$F:$Q,12,FALSE),\"\")","v":""},"",{"$f":"IFERROR(VLOOKUP($A2876,'Lista de Precios_USD$_Euro€'!$E:$O,11,FALSE),\"\")","v":""}]
[null,null,null,{"$f":"IFERROR(VLOOKUP($A2877,'Lista de Precios_Bolívares_S'!$F:$Q,6,FALSE),\"\")","v":""},{"$f":"IFERROR(VLOOKUP($A2877,'Lista de Precios_Bolívares_S'!$F:$Q,12,FALSE),\"\")","v":""},"",{"$f":"IFERROR(VLOOKUP($A2877,'Lista de Precios_USD$_Euro€'!$E:$O,11,FALSE),\"\")","v":""}]
[null,null,null,{"$f":"IFERROR(VLOOKUP($A2878,'Lista de Precios_Bolívares_S'!$F:$Q,6,FALSE),\"\")","v":""},{"$f":"IFERROR(VLOOKUP($A2878,'Lista de Precios_Bolívares_S'!$F:$Q,12,FALSE),\"\")","v":""},"",{"$f":"IFERROR(VLOOKUP($A2878,'Lista de Precios_USD$_Euro€'!$E:$O,11,FALSE),\"\")","v":""}]
[null,null,null,{"$f":"IFERROR(VLOOKUP($A2879,'Lista de Precios_Bolívares_S'!$F:$Q,6,FALSE),\"\")","v":""},{"$f":"IFERROR(VLOOKUP($A2879,'Lista de Precios_Bolívares_S'!$F:$Q,12,FALSE),\"\")","v":""},"",{"$f":"IFERROR(VLOOKUP($A2879,'Lista de Precios_USD$_Euro€'!$E:$O,11,FALSE),\"\")","v":""}]
[null,null,null,{"$f":"IFERROR(VLOOKUP($A2880,'Lista de Precios_Bolívares_S'!$F:$Q,6,FALSE),\"\")","v":""},{"$f":"IFERROR(VLOOKUP($A2880,'Lista de Precios_Bolívares_S'!$F:$Q,12,FALSE),\"\")","v":""},"",{"$f":"IFERROR(VLOOKUP($A2880,'Lista de Precios_USD$_Euro€'!$E:$O,11,FALSE),\"\")","v":""}]
[null,null,null,{"$f":"IFERROR(VLOOKUP($A2881,'Lista de Precios_Bolívares_S'!$F:$Q,6,FALSE),\"\")","v":""},{"$f":"IFERROR(VLOOKUP($A2881,'Lista de Precios_Bolívares_S'!$F:$Q,12,FALSE),\"\")","v":""},"",{"$f":"IFERROR(VLOOKUP($A2881,'Lista de Precios_USD$_Euro€'!$E:$O,11,FALSE),\"\")","v":""}]
[null,null,null,{"$f":"IFERROR(VLOOKUP($A2882,'Lista de Precios_Bolívares_S'!$F:$Q,6,FALSE),\"\")","v":""},{"$f":"IFERROR(VLOOKUP($A2882,'Lista de Precios_Bolívares_S'!$F:$Q,12,FALSE),\"\")","v":""},"",{"$f":"IFERROR(VLOOKUP($A2882,'Lista de Precios_USD$_Euro€'!$E:$O,11,FALSE),\"\")","v":""}]
[null,null,null,{"$f":"IFERROR(VLOOKUP($A2883,'Lista de Precios_Bolívares_S'!$F:$Q,6,FALSE),\"\")","v":""},{"$f":"IFERROR(VLOOKUP($A2883,'Lista de Precios_Bolívares_S'!$F:$Q,12,FALSE),\"\")","v":""},"",{"$f":"IFERROR(VLOOKUP($A2883,'Lista de Precios_USD$_Euro€'!$E:$O,11,FALSE),\"\")","v":""}]
[null,null,null,{"$f":"IFERROR(VLOOKUP($A2884,'Lista de Precios_Bolívares_S'!$F:$Q,6,FALSE),\"\")","v":""},{"$f":"IFERROR(VLOOKUP($A2884,'Lista de Precios_Bolívares_S'!$F:$Q,12,FALSE),\"\")","v":""},"",{"$f":"IFERROR(VLOOKUP($A2884,'Lista de Precios_USD$_Euro€'!$E:$O,11,FALSE),\"\")","v":""}]
[null,null,null,{"$f":"IFERROR(VLOOKUP($A2885,'Lista de Precios_Bolívares_S'!$F:$Q,6,FALSE),\"\")","v":""},{"$f":"IFERROR(VLOOKUP($A2885,'Lista de Precios_Bolívares_S'!$F:$Q,12,FALSE),\"\")","v":""},"",{"$f":"IFERROR(VLOOKUP($A2885,'Lista de Precios_USD$_Euro€'!$E:$O,11,FALSE),\"\")","v":""}]
[null,null,null,{"$f":"IFERROR(VLOOKUP($A2886,'Lista de Precios_Bolívares_S'!$F:$Q,6,FALSE),\"\")","v":""},{"$f":"IFERROR(VLOOKUP($A2886,'Lista de Precios_Bolívares_S'!$F:$Q,12,FALSE),\"\")","v":""},"",{"$f":"IFERROR(VLOOKUP($A2886,'Lista de Precios_USD$_Euro€'!$E:$O,11,FALSE),\"\")","v":""}]
[null,null,null,{"$f":"IFERROR(VLOOKUP($A2887,'Lista de Precios_Bolívares_S'!$F:$Q,6,FALSE),\"\")","v":""},{"$f":"IFERROR(VLOOKUP($A2887,'Lista de Precios_Bolívares_S'!$F:$Q,12,FALSE),\"\")","v":""},"",{"$f":"IFERROR(VLOOKUP($A2887,'Lista de Precios_USD$_Euro€'!$E:$O,11,FALSE),\"\")","v":""}]
[null,null,null,{"$f":"IFERROR(VLOOKUP($A2888,'Lista de Precios_Bolívares_S'!$F:$Q,6,FALSE),\"\")","v":""},{"$f":"IFERROR(VLOOKUP($A2888,'Lista de Precios_Bolívares_S'!$F:$Q,12,FALSE),\"\")","v":""},"",{"$f":"IFERROR(VLOOKUP($A2888,'Lista de Precios_USD$_Euro€'!$E:$O,11,FALSE),\"\")","v":""}]
[null,null,null,{"$f":"IFERROR(VLOOKUP($A2889,'Lista de Precios_Bolívares_S'!$F:$Q,6,FALSE),\"\")","v":""},{"$f":"IFERROR(VLOOKUP($A2889,'Lista de Precios_Bolívares_S'!$F:$Q,12,FALSE),\"\")","v":""},"",{"$f":"IFERROR(VLOOKUP($A2889,'Lista de Precios_USD$_Euro€'!$E:$O,11,FALSE),\"\")","v":""}]
[null,null,null,{"$f":"IFERROR(VLOOKUP($A2890,'Lista de Precios_Bolívares_S'!$F:$Q,6,FALSE),\"\")","v":""},{"$f":"IFERROR(VLOOKUP($A2890,'Lista de Precios_Bolívares_S'!$F:$Q,12,FALSE),\"\")","v":""},"",{"$f":"IFERROR(VLOOKUP($A2890,'Lista de Precios_USD$_Euro€'!$E:$O,11,FALSE),\"\")","v":""}]
[null,null,null,{"$f":"IFERROR(VLOOKUP($A2891,'Lista de Precios_Bolívares_S'!$F:$Q,6,FALSE),\"\")","v":""},{"$f":"IFERROR(VLOOKUP($A2891,'Lista de Precios_Bolívares_S'!$F:$Q,12,FALSE),\"\")","v":""},"",{"$f":"IFERROR(VLOOKUP($A2891,'Lista de Precios_USD$_Euro€'!$E:$O,11,FALSE),\"\")","v":""}]
[null,null,null,{"$f":"IFERROR(VLOOKUP($A2892,'Lista de Precios_Bolívares_S'!$F:$Q,6,FALSE),\"\")","v":""},{"$f":"IFERROR(VLOOKUP($A2892,'Lista de Precios_Bolívares_S'!$F:$Q,12,FALSE),\"\")","v":""},"",{"$f":"IFERROR(VLOOKUP($A2892,'Lista de Precios_USD$_Euro€'!$E:$O,11,FALSE),\"\")","v":""}]
[null,null,null,{"$f":"IFERROR(VLOOKUP($A2893,'Lista de Precios_Bolívares_S'!$F:$Q,6,FALSE),\"\")","v":""},{"$f":"IFERROR(VLOOKUP($A2893,'Lista de Precios_Bolívares_S'!$F:$Q,12,FALSE),\"\")","v":""},"",{"$f":"IFERROR(VLOOKUP($A2893,'Lista de Precios_USD$_Euro€'!$E:$O,11,FALSE),\"\")","v":""}]
[null,null,null,{"$f":"IFERROR(VLOOKUP($A2894,'Lista de Precios_Bolívares_S'!$F:$Q,6,FALSE),\"\")","v":""},{"$f":"IFERROR(VLOOKUP($A2894,'Lista de Precios_Bolívares_S'!$F:$Q,12,FALSE),\"\")","v":""},"",{"$f":"IFERROR(VLOOKUP($A2894,'Lista de Precios_USD$_Euro€'!$E:$O,11,FALSE),\"\")","v":""}]
[null,null,null,{"$f":"IFERROR(VLOOKUP($A2895,'Lista de Precios_Bolívares_S'!$F:$Q,6,FALSE),\"\")","v":""},{"$f":"IFERROR(VLOOKUP($A2895,'Lista de Precios_Bolívares_S'!$F:$Q,12,FALSE),\"\")","v":""},"",{"$f":"IFERROR(VLOOKUP($A2895,'Lista de Precios_USD$_Euro€'!$E:$O,11,FALSE),\"\")","v":""}]
[null,null,null,{"$f":"IFERROR(VLOOKUP($A2896,'Lista de Precios_Bolívares_S'!$F:$Q,6,FALSE),\"\")","v":""},{"$f":"IFERROR(VLOOKUP($A2896,'Lista de Precios_Bolívares_S'!$F:$Q,12,FALSE),\"\")","v":""},"",{"$f":"IFERROR(VLOOKUP($A2896,'Lista de Precios_USD$_Euro€'!$E:$O,11,FALSE),\"\")","v":""}]
[null,null,null,{"$f":"IFERROR(VLOOKUP($A2897,'Lista de Precios_Bolívares_S'!$F:$Q,6,FALSE),\"\")","v":""},{"$f":"IFERROR(VLOOKUP($A2897,'Lista de Precios_Bolívares_S'!$F:$Q,12,FALSE),\"\")","v":""},"",{"$f":"IFERROR(VLOOKUP($A2897,'Lista de Precios_USD$_Euro€'!$E:$O,11,FALSE),\"\")","v":""}]
[null,null,null,{"$f":"IFERROR(VLOOKUP($A2898,'Lista de Precios_Bolívares_S'!$F:$Q,6,FALSE),\"\")","v":""},{"$f":"IFERROR(VLOOKUP($A2898,'Lista de Precios_Bolívares_S'!$F:$Q,12,FALSE),\"\")","v":""},"",{"$f":"IFERROR(VLOOKUP($A2898,'Lista de Precios_USD$_Euro€'!$E:$O,11,FALSE),\"\")","v":""}]
[null,null,null,{"$f":"IFERROR(VLOOKUP($A2899,'Lista de Precios_Bolívares_S'!$F:$Q,6,FALSE),\"\")","v":""},{"$f":"IFERROR(VLOOKUP($A2899,'Lista de Precios_Bolívares_S'!$F:$Q,12,FALSE),\"\")","v":""},"",{"$f":"IFERROR(VLOOKUP($A2899,'Lista de Precios_USD$_Euro€'!$E:$O,11,FALSE),\"\")","v":""}]
[null,null,null,{"$f":"IFERROR(VLOOKUP($A2900,'Lista de Precios_Bolívares_S'!$F:$Q,6,FALSE),\"\")","v":""},{"$f":"IFERROR(VLOOKUP($A2900,'Lista de Precios_Bolívares_S'!$F:$Q,12,FALSE),\"\")","v":""},"",{"$f":"IFERROR(VLOOKUP($A2900,'Lista de Precios_USD$_Euro€'!$E:$O,11,FALSE),\"\")","v":""}]
[null,null,null,{"$f":"IFERROR(VLOOKUP($A2901,'Lista de Precios_Bolívares_S'!$F:$Q,6,FALSE),\"\")","v":""},{"$f":"IFERROR(VLOOKUP($A2901,'Lista de Precios_Bolívares_S'!$F:$Q,12,FALSE),\"\")","v":""},"",{"$f":"IFERROR(VLOOKUP($A2901,'Lista de Precios_USD$_Euro€'!$E:$O,11,FALSE),\"\")","v":""}]
[null,null,null,{"$f":"IFERROR(VLOOKUP($A2902,'Lista de Precios_Bolívares_S'!$F:$Q,6,FALSE),\"\")","v":""},{"$f":"IFERROR(VLOOKUP($A2902,'Lista de Precios_Bolívares_S'!$F:$Q,12,FALSE),\"\")","v":""},"",{"$f":"IFERROR(VLOOKUP($A2902,'Lista de Precios_USD$_Euro€'!$E:$O,11,FALSE),\"\")","v":""}]
[null,null,null,{"$f":"IFERROR(VLOOKUP($A2903,'Lista de Precios_Bolívares_S'!$F:$Q,6,FALSE),\"\")","v":""},{"$f":"IFERROR(VLOOKUP($A2903,'Lista de Precios_Bolívares_S'!$F:$Q,12,FALSE),\"\")","v":""},"",{"$f":"IFERROR(VLOOKUP($A2903,'Lista de Precios_USD$_Euro€'!$E:$O,11,FALSE),\"\")","v":""}]
[null,null,null,{"$f":"IFERROR(VLOOKUP($A2904,'Lista de Precios_Bolívares_S'!$F:$Q,6,FALSE),\"\")","v":""},{"$f":"IFERROR(VLOOKUP($A2904,'Lista de Precios_Bolívares_S'!$F:$Q,12,FALSE),\"\")","v":""},"",{"$f":"IFERROR(VLOOKUP($A2904,'Lista de Precios_USD$_Euro€'!$E:$O,11,FALSE),\"\")","v":""}]
[null,null,null,{"$f":"IFERROR(VLOOKUP($A2905,'Lista de Precios_Bolívares_S'!$F:$Q,6,FALSE),\"\")","v":""},{"$f":"IFERROR(VLOOKUP($A2905,'Lista de Precios_Bolívares_S'!$F:$Q,12,FALSE),\"\")","v":""},{"$f":"IFERROR(IF(ROUND($C2905,2)=ROUND($D2880,2),ROUND($E2880,2),ROUND($C2905,2)),\"\")","v":""},{"$f":"IFERROR(VLOOKUP($A2905,'Lista de Precios_USD$_Euro€'!$E:$O,11,FALSE),\"\")","v":""}]
[null,null,null,{"$f":"IFERROR(VLOOKUP($A2906,'Lista de Precios_Bolívares_S'!$F:$Q,6,FALSE),\"\")","v":""},{"$f":"IFERROR(VLOOKUP($A2906,'Lista de Precios_Bolívares_S'!$F:$Q,12,FALSE),\"\")","v":""},"",{"$f":"IFERROR(VLOOKUP($A2906,'Lista de Precios_USD$_Euro€'!$E:$O,11,FALSE),\"\")","v":""}]
[null,null,null,{"$f":"IFERROR(VLOOKUP($A2907,'Lista de Precios_Bolívares_S'!$F:$Q,6,FALSE),\"\")","v":""},{"$f":"IFERROR(VLOOKUP($A2907,'Lista de Precios_Bolívares_S'!$F:$Q,12,FALSE),\"\")","v":""},"",{"$f":"IFERROR(VLOOKUP($A2907,'Lista de Precios_USD$_Euro€'!$E:$O,11,FALSE),\"\")","v":""}]
[null,null,null,{"$f":"IFERROR(VLOOKUP($A2908,'Lista de Precios_Bolívares_S'!$F:$Q,6,FALSE),\"\")","v":""},{"$f":"IFERROR(VLOOKUP($A2908,'Lista de Precios_Bolívares_S'!$F:$Q,12,FALSE),\"\")","v":""},"",{"$f":"IFERROR(VLOOKUP($A2908,'Lista de Precios_USD$_Euro€'!$E:$O,11,FALSE),\"\")","v":""}]
[null,null,null,{"$f":"IFERROR(VLOOKUP($A2909,'Lista de Precios_Bolívares_S'!$F:$Q,6,FALSE),\"\")","v":""},{"$f":"IFERROR(VLOOKUP($A2909,'Lista de Precios_Bolívares_S'!$F:$Q,12,FALSE),\"\")","v":""},"",{"$f":"IFERROR(VLOOKUP($A2909,'Lista de Precios_USD$_Euro€'!$E:$O,11,FALSE),\"\")","v":""}]
[null,null,null,{"$f":"IFERROR(VLOOKUP($A2910,'Lista de Precios_Bolívares_S'!$F:$Q,6,FALSE),\"\")","v":""},{"$f":"IFERROR(VLOOKUP($A2910,'Lista de Precios_Bolívares_S'!$F:$Q,12,FALSE),\"\")","v":""},"",{"$f":"IFERROR(VLOOKUP($A2910,'Lista de Precios_USD$_Euro€'!$E:$O,11,FALSE),\"\")","v":""}]
[null,null,null,{"$f":"IFERROR(VLOOKUP($A2911,'Lista de Precios_Bolívares_S'!$F:$Q,6,FALSE),\"\")","v":""},{"$f":"IFERROR(VLOOKUP($A2911,'Lista de Precios_Bolívares_S'!$F:$Q,12,FALSE),\"\")","v":""},"",{"$f":"IFERROR(VLOOKUP($A2911,'Lista de Precios_USD$_Euro€'!$E:$O,11,FALSE),\"\")","v":""}]
[null,null,null,{"$f":"IFERROR(VLOOKUP($A2912,'Lista de Precios_Bolívares_S'!$F:$Q,6,FALSE),\"\")","v":""},{"$f":"IFERROR(VLOOKUP($A2912,'Lista de Precios_Bolívares_S'!$F:$Q,12,FALSE),\"\")","v":""},"",{"$f":"IFERROR(VLOOKUP($A2912,'Lista de Precios_USD$_Euro€'!$E:$O,11,FALSE),\"\")","v":""}]
[null,null,null,{"$f":"IFERROR(VLOOKUP($A2913,'Lista de Precios_Bolívares_S'!$F:$Q,6,FALSE),\"\")","v":""},{"$f":"IFERROR(VLOOKUP($A2913,'Lista de Precios_Bolívares_S'!$F:$Q,12,FALSE),\"\")","v":""},"",{"$f":"IFERROR(VLOOKUP($A2913,'Lista de Precios_USD$_Euro€'!$E:$O,11,FALSE),\"\")","v":""}]
[null,null,null,{"$f":"IFERROR(VLOOKUP($A2914,'Lista de Precios_Bolívares_S'!$F:$Q,6,FALSE),\"\")","v":""},{"$f":"IFERROR(VLOOKUP($A2914,'Lista de Precios_Bolívares_S'!$F:$Q,12,FALSE),\"\")","v":""},"",{"$f":"IFERROR(VLOOKUP($A2914,'Lista de Precios_USD$_Euro€'!$E:$O,11,FALSE),\"\")","v":""}]
[null,null,null,{"$f":"IFERROR(VLOOKUP($A2915,'Lista de Precios_Bolívares_S'!$F:$Q,6,FALSE),\"\")","v":""},{"$f":"IFERROR(VLOOKUP($A2915,'Lista de Precios_Bolívares_S'!$F:$Q,12,FALSE),\"\")","v":""},"",{"$f":"IFERROR(VLOOKUP($A2915,'Lista de Precios_USD$_Euro€'!$E:$O,11,FALSE),\"\")","v":""}]
[null,null,null,{"$f":"IFERROR(VLOOKUP($A2916,'Lista de Precios_Bolívares_S'!$F:$Q,6,FALSE),\"\")","v":""},{"$f":"IFERROR(VLOOKUP($A2916,'Lista de Precios_Bolívares_S'!$F:$Q,12,FALSE),\"\")","v":""},"",{"$f":"IFERROR(VLOOKUP($A2916,'Lista de Precios_USD$_Euro€'!$E:$O,11,FALSE),\"\")","v":""}]
[null,null,null,{"$f":"IFERROR(VLOOKUP($A2917,'Lista de Precios_Bolívares_S'!$F:$Q,6,FALSE),\"\")","v":""},{"$f":"IFERROR(VLOOKUP($A2917,'Lista de Precios_Bolívares_S'!$F:$Q,12,FALSE),\"\")","v":""},"",{"$f":"IFERROR(VLOOKUP($A2917,'Lista de Precios_USD$_Euro€'!$E:$O,11,FALSE),\"\")","v":""}]
[null,null,null,{"$f":"IFERROR(VLOOKUP($A2918,'Lista de Precios_Bolívares_S'!$F:$Q,6,FALSE),\"\")","v":""},{"$f":"IFERROR(VLOOKUP($A2918,'Lista de Precios_Bolívares_S'!$F:$Q,12,FALSE),\"\")","v":""},"",{"$f":"IFERROR(VLOOKUP($A2918,'Lista de Precios_USD$_Euro€'!$E:$O,11,FALSE),\"\")","v":""}]
[null,null,null,{"$f":"IFERROR(VLOOKUP($A2919,'Lista de Precios_Bolívares_S'!$F:$Q,6,FALSE),\"\")","v":""},{"$f":"IFERROR(VLOOKUP($A2919,'Lista de Precios_Bolívares_S'!$F:$Q,12,FALSE),\"\")","v":""},"",{"$f":"IFERROR(VLOOKUP($A2919,'Lista de Precios_USD$_Euro€'!$E:$O,11,FALSE),\"\")","v":""}]
[null,null,null,{"$f":"IFERROR(VLOOKUP($A2920,'Lista de Precios_Bolívares_S'!$F:$Q,6,FALSE),\"\")","v":""},{"$f":"IFERROR(VLOOKUP($A2920,'Lista de Precios_Bolívares_S'!$F:$Q,12,FALSE),\"\")","v":""},"",{"$f":"IFERROR(VLOOKUP($A2920,'Lista de Precios_USD$_Euro€'!$E:$O,11,FALSE),\"\")","v":""}]
[null,null,null,{"$f":"IFERROR(VLOOKUP($A2921,'Lista de Precios_Bolívares_S'!$F:$Q,6,FALSE),\"\")","v":""},{"$f":"IFERROR(VLOOKUP($A2921,'Lista de Precios_Bolívares_S'!$F:$Q,12,FALSE),\"\")","v":""},"",{"$f":"IFERROR(VLOOKUP($A2921,'Lista de Precios_USD$_Euro€'!$E:$O,11,FALSE),\"\")","v":""}]
[null,null,null,{"$f":"IFERROR(VLOOKUP($A2922,'Lista de Precios_Bolívares_S'!$F:$Q,6,FALSE),\"\")","v":""},{"$f":"IFERROR(VLOOKUP($A2922,'Lista de Precios_Bolívares_S'!$F:$Q,12,FALSE),\"\")","v":""},"",{"$f":"IFERROR(VLOOKUP($A2922,'Lista de Precios_USD$_Euro€'!$E:$O,11,FALSE),\"\")","v":""}]
[null,null,null,{"$f":"IFERROR(VLOOKUP($A2923,'Lista de Precios_Bolívares_S'!$F:$Q,6,FALSE),\"\")","v":""},{"$f":"IFERROR(VLOOKUP($A2923,'Lista de Precios_Bolívares_S'!$F:$Q,12,FALSE),\"\")","v":""},"",{"$f":"IFERROR(VLOOKUP($A2923,'Lista de Precios_USD$_Euro€'!$E:$O,11,FALSE),\"\")","v":""}]
[null,null,null,{"$f":"IFERROR(VLOOKUP($A2924,'Lista de Precios_Bolívares_S'!$F:$Q,6,FALSE),\"\")","v":""},{"$f":"IFERROR(VLOOKUP($A2924,'Lista de Precios_Bolívares_S'!$F:$Q,12,FALSE),\"\")","v":""},"",{"$f":"IFERROR(VLOOKUP($A2924,'Lista de Precios_USD$_Euro€'!$E:$O,11,FALSE),\"\")","v":""}]
[null,null,null,{"$f":"IFERROR(VLOOKUP($A2925,'Lista de Precios_Bolívares_S'!$F:$Q,6,FALSE),\"\")","v":""},{"$f":"IFERROR(VLOOKUP($A2925,'Lista de Precios_Bolívares_S'!$F:$Q,12,FALSE),\"\")","v":""},"",{"$f":"IFERROR(VLOOKUP($A2925,'Lista de Precios_USD$_Euro€'!$E:$O,11,FALSE),\"\")","v":""}]
[null,null,null,{"$f":"IFERROR(VLOOKUP($A2926,'Lista de Precios_Bolívares_S'!$F:$Q,6,FALSE),\"\")","v":""},{"$f":"IFERROR(VLOOKUP($A2926,'Lista de Precios_Bolívares_S'!$F:$Q,12,FALSE),\"\")","v":""},"",{"$f":"IFERROR(VLOOKUP($A2926,'Lista de Precios_USD$_Euro€'!$E:$O,11,FALSE),\"\")","v":""}]
[null,null,null,{"$f":"IFERROR(VLOOKUP($A2927,'Lista de Precios_Bolívares_S'!$F:$Q,6,FALSE),\"\")","v":""},{"$f":"IFERROR(VLOOKUP($A2927,'Lista de Precios_Bolívares_S'!$F:$Q,12,FALSE),\"\")","v":""},"",{"$f":"IFERROR(VLOOKUP($A2927,'Lista de Precios_USD$_Euro€'!$E:$O,11,FALSE),\"\")","v":""}]
[null,null,null,{"$f":"IFERROR(VLOOKUP($A2928,'Lista de Precios_Bolívares_S'!$F:$Q,6,FALSE),\"\")","v":""},{"$f":"IFERROR(VLOOKUP($A2928,'Lista de Precios_Bolívares_S'!$F:$Q,12,FALSE),\"\")","v":""},"",{"$f":"IFERROR(VLOOKUP($A2928,'Lista de Precios_USD$_Euro€'!$E:$O,11,FALSE),\"\")","v":""}]
[null,null,null,{"$f":"IFERROR(VLOOKUP($A2929,'Lista de Precios_Bolívares_S'!$F:$Q,6,FALSE),\"\")","v":""},{"$f":"IFERROR(VLOOKUP($A2929,'Lista de Precios_Bolívares_S'!$F:$Q,12,FALSE),\"\")","v":""},"",{"$f":"IFERROR(VLOOKUP($A2929,'Lista de Precios_USD$_Euro€'!$E:$O,11,FALSE),\"\")","v":""}]
[null,null,null,{"$f":"IFERROR(VLOOKUP($A2930,'Lista de Precios_Bolívares_S'!$F:$Q,6,FALSE),\"\")","v":""},{"$f":"IFERROR(VLOOKUP($A2930,'Lista de Precios_Bolívares_S'!$F:$Q,12,FALSE),\"\")","v":""},"",{"$f":"IFERROR(VLOOKUP($A2930,'Lista de Precios_USD$_Euro€'!$E:$O,11,FALSE),\"\")","v":""}]
[null,null,null,{"$f":"IFERROR(VLOOKUP($A2931,'Lista de Precios_Bolívares_S'!$F:$Q,6,FALSE),\"\")","v":""},{"$f":"IFERROR(VLOOKUP($A2931,'Lista de Precios_Bolívares_S'!$F:$Q,12,FALSE),\"\")","v":""},"",{"$f":"IFERROR(VLOOKUP($A2931,'Lista de Precios_USD$_Euro€'!$E:$O,11,FALSE),\"\")","v":""}]
[null,null,null,{"$f":"IFERROR(VLOOKUP($A2932,'Lista de Precios_Bolívares_S'!$F:$Q,6,FALSE),\"\")","v":""},{"$f":"IFERROR(VLOOKUP($A2932,'Lista de Precios_Bolívares_S'!$F:$Q,12,FALSE),\"\")","v":""},"",{"$f":"IFERROR(VLOOKUP($A2932,'Lista de Precios_USD$_Euro€'!$E:$O,11,FALSE),\"\")","v":""}]
[null,null,null,{"$f":"IFERROR(VLOOKUP($A2933,'Lista de Precios_Bolívares_S'!$F:$Q,6,FALSE),\"\")","v":""},{"$f":"IFERROR(VLOOKUP($A2933,'Lista de Precios_Bolívares_S'!$F:$Q,12,FALSE),\"\")","v":""},"",{"$f":"IFERROR(VLOOKUP($A2933,'Lista de Precios_USD$_Euro€'!$E:$O,11,FALSE),\"\")","v":""}]
[null,null,null,{"$f":"IFERROR(VLOOKUP($A2934,'Lista de Precios_Bolívares_S'!$F:$Q,6,FALSE),\"\")","v":""},{"$f":"IFERROR(VLOOKUP($A2934,'Lista de Precios_Bolívares_S'!$F:$Q,12,FALSE),\"\")","v":""},"",{"$f":"IFERROR(VLOOKUP($A2934,'Lista de Precios_USD$_Euro€'!$E:$O,11,FALSE),\"\")","v":""}]
[null,null,null,{"$f":"IFERROR(VLOOKUP($A2935,'Lista de Precios_Bolívares_S'!$F:$Q,6,FALSE),\"\")","v":""},{"$f":"IFERROR(VLOOKUP($A2935,'Lista de Precios_Bolívares_S'!$F:$Q,12,FALSE),\"\")","v":""},"",{"$f":"IFERROR(VLOOKUP($A2935,'Lista de Precios_USD$_Euro€'!$E:$O,11,FALSE),\"\")","v":""}]
[null,null,null,{"$f":"IFERROR(VLOOKUP($A2936,'Lista de Precios_Bolívares_S'!$F:$Q,6,FALSE),\"\")","v":""},{"$f":"IFERROR(VLOOKUP($A2936,'Lista de Precios_Bolívares_S'!$F:$Q,12,FALSE),\"\")","v":""},"",{"$f":"IFERROR(VLOOKUP($A2936,'Lista de Precios_USD$_Euro€'!$E:$O,11,FALSE),\"\")","v":""}]
[null,null,null,{"$f":"IFERROR(VLOOKUP($A2937,'Lista de Precios_Bolívares_S'!$F:$Q,6,FALSE),\"\")","v":""},{"$f":"IFERROR(VLOOKUP($A2937,'Lista de Precios_Bolívares_S'!$F:$Q,12,FALSE),\"\")","v":""},"",{"$f":"IFERROR(VLOOKUP($A2937,'Lista de Precios_USD$_Euro€'!$E:$O,11,FALSE),\"\")","v":""}]
[null,null,null,{"$f":"IFERROR(VLOOKUP($A2938,'Lista de Precios_Bolívares_S'!$F:$Q,6,FALSE),\"\")","v":""},{"$f":"IFERROR(VLOOKUP($A2938,'Lista de Precios_Bolívares_S'!$F:$Q,12,FALSE),\"\")","v":""},"",{"$f":"IFERROR(VLOOKUP($A2938,'Lista de Precios_USD$_Euro€'!$E:$O,11,FALSE),\"\")","v":""}]
[null,null,null,{"$f":"IFERROR(VLOOKUP($A2939,'Lista de Precios_Bolívares_S'!$F:$Q,6,FALSE),\"\")","v":""},{"$f":"IFERROR(VLOOKUP($A2939,'Lista de Precios_Bolívares_S'!$F:$Q,12,FALSE),\"\")","v":""},"",{"$f":"IFERROR(VLOOKUP($A2939,'Lista de Precios_USD$_Euro€'!$E:$O,11,FALSE),\"\")","v":""}]
[null,null,null,{"$f":"IFERROR(VLOOKUP($A2940,'Lista de Precios_Bolívares_S'!$F:$Q,6,FALSE),\"\")","v":""},{"$f":"IFERROR(VLOOKUP($A2940,'Lista de Precios_Bolívares_S'!$F:$Q,12,FALSE),\"\")","v":""},"",{"$f":"IFERROR(VLOOKUP($A2940,'Lista de Precios_USD$_Euro€'!$E:$O,11,FALSE),\"\")","v":""}]
[null,null,null,{"$f":"IFERROR(VLOOKUP($A2941,'Lista de Precios_Bolívares_S'!$F:$Q,6,FALSE),\"\")","v":""},{"$f":"IFERROR(VLOOKUP($A2941,'Lista de Precios_Bolívares_S'!$F:$Q,12,FALSE),\"\")","v":""},"",{"$f":"IFERROR(VLOOKUP($A2941,'Lista de Precios_USD$_Euro€'!$E:$O,11,FALSE),\"\")","v":""}]
[null,null,null,{"$f":"IFERROR(VLOOKUP($A2942,'Lista de Precios_Bolívares_S'!$F:$Q,6,FALSE),\"\")","v":""},{"$f":"IFERROR(VLOOKUP($A2942,'Lista de Precios_Bolívares_S'!$F:$Q,12,FALSE),\"\")","v":""},"",{"$f":"IFERROR(VLOOKUP($A2942,'Lista de Precios_USD$_Euro€'!$E:$O,11,FALSE),\"\")","v":""}]
[null,null,null,{"$f":"IFERROR(VLOOKUP($A2943,'Lista de Precios_Bolívares_S'!$F:$Q,6,FALSE),\"\")","v":""},{"$f":"IFERROR(VLOOKUP($A2943,'Lista de Precios_Bolívares_S'!$F:$Q,12,FALSE),\"\")","v":""},"",{"$f":"IFERROR(VLOOKUP($A2943,'Lista de Precios_USD$_Euro€'!$E:$O,11,FALSE),\"\")","v":""}]
[null,null,null,{"$f":"IFERROR(VLOOKUP($A2944,'Lista de Precios_Bolívares_S'!$F:$Q,6,FALSE),\"\")","v":""},{"$f":"IFERROR(VLOOKUP($A2944,'Lista de Precios_Bolívares_S'!$F:$Q,12,FALSE),\"\")","v":""},"",{"$f":"IFERROR(VLOOKUP($A2944,'Lista de Precios_USD$_Euro€'!$E:$O,11,FALSE),\"\")","v":""}]
[null,null,null,{"$f":"IFERROR(VLOOKUP($A2945,'Lista de Precios_Bolívares_S'!$F:$Q,6,FALSE),\"\")","v":""},{"$f":"IFERROR(VLOOKUP($A2945,'Lista de Precios_Bolívares_S'!$F:$Q,12,FALSE),\"\")","v":""},"",{"$f":"IFERROR(VLOOKUP($A2945,'Lista de Precios_USD$_Euro€'!$E:$O,11,FALSE),\"\")","v":""}]
[null,null,null,{"$f":"IFERROR(VLOOKUP($A2946,'Lista de Precios_Bolívares_S'!$F:$Q,6,FALSE),\"\")","v":""},{"$f":"IFERROR(VLOOKUP($A2946,'Lista de Precios_Bolívares_S'!$F:$Q,12,FALSE),\"\")","v":""},"",{"$f":"IFERROR(VLOOKUP($A2946,'Lista de Precios_USD$_Euro€'!$E:$O,11,FALSE),\"\")","v":""}]
[null,null,null,{"$f":"IFERROR(VLOOKUP($A2947,'Lista de Precios_Bolívares_S'!$F:$Q,6,FALSE),\"\")","v":""},{"$f":"IFERROR(VLOOKUP($A2947,'Lista de Precios_Bolívares_S'!$F:$Q,12,FALSE),\"\")","v":""},"",{"$f":"IFERROR(VLOOKUP($A2947,'Lista de Precios_USD$_Euro€'!$E:$O,11,FALSE),\"\")","v":""}]
[null,null,null,{"$f":"IFERROR(VLOOKUP($A2948,'Lista de Precios_Bolívares_S'!$F:$Q,6,FALSE),\"\")","v":""},{"$f":"IFERROR(VLOOKUP($A2948,'Lista de Precios_Bolívares_S'!$F:$Q,12,FALSE),\"\")","v":""},"",{"$f":"IFERROR(VLOOKUP($A2948,'Lista de Precios_USD$_Euro€'!$E:$O,11,FALSE),\"\")","v":""}]
[null,null,null,{"$f":"IFERROR(VLOOKUP($A2949,'Lista de Precios_Bolívares_S'!$F:$Q,6,FALSE),\"\")","v":""},{"$f":"IFERROR(VLOOKUP($A2949,'Lista de Precios_Bolívares_S'!$F:$Q,12,FALSE),\"\")","v":""},"",{"$f":"IFERROR(VLOOKUP($A2949,'Lista de Precios_USD$_Euro€'!$E:$O,11,FALSE),\"\")","v":""}]
[null,null,null,{"$f":"IFERROR(VLOOKUP($A2950,'Lista de Precios_Bolívares_S'!$F:$Q,6,FALSE),\"\")","v":""},{"$f":"IFERROR(VLOOKUP($A2950,'Lista de Precios_Bolívares_S'!$F:$Q,12,FALSE),\"\")","v":""},"",{"$f":"IFERROR(VLOOKUP($A2950,'Lista de Precios_USD$_Euro€'!$E:$O,11,FALSE),\"\")","v":""}]
[null,null,null,{"$f":"IFERROR(VLOOKUP($A2951,'Lista de Precios_Bolívares_S'!$F:$Q,6,FALSE),\"\")","v":""},{"$f":"IFERROR(VLOOKUP($A2951,'Lista de Precios_Bolívares_S'!$F:$Q,12,FALSE),\"\")","v":""},"",{"$f":"IFERROR(VLOOKUP($A2951,'Lista de Precios_USD$_Euro€'!$E:$O,11,FALSE),\"\")","v":""}]
[null,null,null,{"$f":"IFERROR(VLOOKUP($A2952,'Lista de Precios_Bolívares_S'!$F:$Q,6,FALSE),\"\")","v":""},{"$f":"IFERROR(VLOOKUP($A2952,'Lista de Precios_Bolívares_S'!$F:$Q,12,FALSE),\"\")","v":""},"",{"$f":"IFERROR(VLOOKUP($A2952,'Lista de Precios_USD$_Euro€'!$E:$O,11,FALSE),\"\")","v":""}]
[null,null,null,{"$f":"IFERROR(VLOOKUP($A2953,'Lista de Precios_Bolívares_S'!$F:$Q,6,FALSE),\"\")","v":""},{"$f":"IFERROR(VLOOKUP($A2953,'Lista de Precios_Bolívares_S'!$F:$Q,12,FALSE),\"\")","v":""},"",{"$f":"IFERROR(VLOOKUP($A2953,'Lista de Precios_USD$_Euro€'!$E:$O,11,FALSE),\"\")","v":""}]
[null,null,null,{"$f":"IFERROR(VLOOKUP($A2954,'Lista de Precios_Bolívares_S'!$F:$Q,6,FALSE),\"\")","v":""},{"$f":"IFERROR(VLOOKUP($A2954,'Lista de Precios_Bolívares_S'!$F:$Q,12,FALSE),\"\")","v":""},"",{"$f":"IFERROR(VLOOKUP($A2954,'Lista de Precios_USD$_Euro€'!$E:$O,11,FALSE),\"\")","v":""}]
[null,null,null,{"$f":"IFERROR(VLOOKUP($A2955,'Lista de Precios_Bolívares_S'!$F:$Q,6,FALSE),\"\")","v":""},{"$f":"IFERROR(VLOOKUP($A2955,'Lista de Precios_Bolívares_S'!$F:$Q,12,FALSE),\"\")","v":""},"",{"$f":"IFERROR(VLOOKUP($A2955,'Lista de Precios_USD$_Euro€'!$E:$O,11,FALSE),\"\")","v":""}]
[null,null,null,{"$f":"IFERROR(VLOOKUP($A2956,'Lista de Precios_Bolívares_S'!$F:$Q,6,FALSE),\"\")","v":""},{"$f":"IFERROR(VLOOKUP($A2956,'Lista de Precios_Bolívares_S'!$F:$Q,12,FALSE),\"\")","v":""},"",{"$f":"IFERROR(VLOOKUP($A2956,'Lista de Precios_USD$_Euro€'!$E:$O,11,FALSE),\"\")","v":""}]
[null,null,null,{"$f":"IFERROR(VLOOKUP($A2957,'Lista de Precios_Bolívares_S'!$F:$Q,6,FALSE),\"\")","v":""},{"$f":"IFERROR(VLOOKUP($A2957,'Lista de Precios_Bolívares_S'!$F:$Q,12,FALSE),\"\")","v":""},"",{"$f":"IFERROR(VLOOKUP($A2957,'Lista de Precios_USD$_Euro€'!$E:$O,11,FALSE),\"\")","v":""}]
[null,null,null,{"$f":"IFERROR(VLOOKUP($A2958,'Lista de Precios_Bolívares_S'!$F:$Q,6,FALSE),\"\")","v":""},{"$f":"IFERROR(VLOOKUP($A2958,'Lista de Precios_Bolívares_S'!$F:$Q,12,FALSE),\"\")","v":""},"",{"$f":"IFERROR(VLOOKUP($A2958,'Lista de Precios_USD$_Euro€'!$E:$O,11,FALSE),\"\")","v":""}]
[null,null,null,{"$f":"IFERROR(VLOOKUP($A2959,'Lista de Precios_Bolívares_S'!$F:$Q,6,FALSE),\"\")","v":""},{"$f":"IFERROR(VLOOKUP($A2959,'Lista de Precios_Bolívares_S'!$F:$Q,12,FALSE),\"\")","v":""},"",{"$f":"IFERROR(VLOOKUP($A2959,'Lista de Precios_USD$_Euro€'!$E:$O,11,FALSE),\"\")","v":""}]
[null,null,null,{"$f":"IFERROR(VLOOKUP($A2960,'Lista de Precios_Bolívares_S'!$F:$Q,6,FALSE),\"\")","v":""},{"$f":"IFERROR(VLOOKUP($A2960,'Lista de Precios_Bolívares_S'!$F:$Q,12,FALSE),\"\")","v":""},"",{"$f":"IFERROR(VLOOKUP($A2960,'Lista de Precios_USD$_Euro€'!$E:$O,11,FALSE),\"\")","v":""}]
[null,null,null,{"$f":"IFERROR(VLOOKUP($A2961,'Lista de Precios_Bolívares_S'!$F:$Q,6,FALSE),\"\")","v":""},{"$f":"IFERROR(VLOOKUP($A2961,'Lista de Precios_Bolívares_S'!$F:$Q,12,FALSE),\"\")","v":""},"",{"$f":"IFERROR(VLOOKUP($A2961,'Lista de Precios_USD$_Euro€'!$E:$O,11,FALSE),\"\")","v":""}]
[null,null,null,{"$f":"IFERROR(VLOOKUP($A2962,'Lista de Precios_Bolívares_S'!$F:$Q,6,FALSE),\"\")","v":""},{"$f":"IFERROR(VLOOKUP($A2962,'Lista de Precios_Bolívares_S'!$F:$Q,12,FALSE),\"\")","v":""},"",{"$f":"IFERROR(VLOOKUP($A2962,'Lista de Precios_USD$_Euro€'!$E:$O,11,FALSE),\"\")","v":""}]
[null,null,null,{"$f":"IFERROR(VLOOKUP($A2963,'Lista de Precios_Bolívares_S'!$F:$Q,6,FALSE),\"\")","v":""},{"$f":"IFERROR(VLOOKUP($A2963,'Lista de Precios_Bolívares_S'!$F:$Q,12,FALSE),\"\")","v":""},"",{"$f":"IFERROR(VLOOKUP($A2963,'Lista de Precios_USD$_Euro€'!$E:$O,11,FALSE),\"\")","v":""}]
[null,null,null,{"$f":"IFERROR(VLOOKUP($A2964,'Lista de Precios_Bolívares_S'!$F:$Q,6,FALSE),\"\")","v":""},{"$f":"IFERROR(VLOOKUP($A2964,'Lista de Precios_Bolívares_S'!$F:$Q,12,FALSE),\"\")","v":""},"",{"$f":"IFERROR(VLOOKUP($A2964,'Lista de Precios_USD$_Euro€'!$E:$O,11,FALSE),\"\")","v":""}]
[null,null,null,{"$f":"IFERROR(VLOOKUP($A2965,'Lista de Precios_Bolívares_S'!$F:$Q,6,FALSE),\"\")","v":""},{"$f":"IFERROR(VLOOKUP($A2965,'Lista de Precios_Bolívares_S'!$F:$Q,12,FALSE),\"\")","v":""},"",{"$f":"IFERROR(VLOOKUP($A2965,'Lista de Precios_USD$_Euro€'!$E:$O,11,FALSE),\"\")","v":""}]
[null,null,null,{"$f":"IFERROR(VLOOKUP($A2966,'Lista de Precios_Bolívares_S'!$F:$Q,6,FALSE),\"\")","v":""},{"$f":"IFERROR(VLOOKUP($A2966,'Lista de Precios_Bolívares_S'!$F:$Q,12,FALSE),\"\")","v":""},"",{"$f":"IFERROR(VLOOKUP($A2966,'Lista de Precios_USD$_Euro€'!$E:$O,11,FALSE),\"\")","v":""}]
[null,null,null,{"$f":"IFERROR(VLOOKUP($A2967,'Lista de Precios_Bolívares_S'!$F:$Q,6,FALSE),\"\")","v":""},{"$f":"IFERROR(VLOOKUP($A2967,'Lista de Precios_Bolívares_S'!$F:$Q,12,FALSE),\"\")","v":""},"",{"$f":"IFERROR(VLOOKUP($A2967,'Lista de Precios_USD$_Euro€'!$E:$O,11,FALSE),\"\")","v":""}]
[null,null,null,{"$f":"IFERROR(VLOOKUP($A2968,'Lista de Precios_Bolívares_S'!$F:$Q,6,FALSE),\"\")","v":""},{"$f":"IFERROR(VLOOKUP($A2968,'Lista de Precios_Bolívares_S'!$F:$Q,12,FALSE),\"\")","v":""},"",{"$f":"IFERROR(VLOOKUP($A2968,'Lista de Precios_USD$_Euro€'!$E:$O,11,FALSE),\"\")","v":""}]
[null,null,null,{"$f":"IFERROR(VLOOKUP($A2969,'Lista de Precios_Bolívares_S'!$F:$Q,6,FALSE),\"\")","v":""},{"$f":"IFERROR(VLOOKUP($A2969,'Lista de Precios_Bolívares_S'!$F:$Q,12,FALSE),\"\")","v":""},{"$f":"IFERROR(IF(ROUND($C2969,2)=ROUND($D2944,2),ROUND($E2944,2),ROUND($C2969,2)),\"\")","v":""},{"$f":"IFERROR(VLOOKUP($A2969,'Lista de Precios_USD$_Euro€'!$E:$O,11,FALSE),\"\")","v":""}]
[null,null,null,{"$f":"IFERROR(VLOOKUP($A2970,'Lista de Precios_Bolívares_S'!$F:$Q,6,FALSE),\"\")","v":""},{"$f":"IFERROR(VLOOKUP($A2970,'Lista de Precios_Bolívares_S'!$F:$Q,12,FALSE),\"\")","v":""},"",{"$f":"IFERROR(VLOOKUP($A2970,'Lista de Precios_USD$_Euro€'!$E:$O,11,FALSE),\"\")","v":""}]
[null,null,null,{"$f":"IFERROR(VLOOKUP($A2971,'Lista de Precios_Bolívares_S'!$F:$Q,6,FALSE),\"\")","v":""},{"$f":"IFERROR(VLOOKUP($A2971,'Lista de Precios_Bolívares_S'!$F:$Q,12,FALSE),\"\")","v":""},"",{"$f":"IFERROR(VLOOKUP($A2971,'Lista de Precios_USD$_Euro€'!$E:$O,11,FALSE),\"\")","v":""}]
[null,null,null,{"$f":"IFERROR(VLOOKUP($A2972,'Lista de Precios_Bolívares_S'!$F:$Q,6,FALSE),\"\")","v":""},{"$f":"IFERROR(VLOOKUP($A2972,'Lista de Precios_Bolívares_S'!$F:$Q,12,FALSE),\"\")","v":""},"",{"$f":"IFERROR(VLOOKUP($A2972,'Lista de Precios_USD$_Euro€'!$E:$O,11,FALSE),\"\")","v":""}]
[null,null,null,{"$f":"IFERROR(VLOOKUP($A2973,'Lista de Precios_Bolívares_S'!$F:$Q,6,FALSE),\"\")","v":""},{"$f":"IFERROR(VLOOKUP($A2973,'Lista de Precios_Bolívares_S'!$F:$Q,12,FALSE),\"\")","v":""},"",{"$f":"IFERROR(VLOOKUP($A2973,'Lista de Precios_USD$_Euro€'!$E:$O,11,FALSE),\"\")","v":""}]
[null,null,null,{"$f":"IFERROR(VLOOKUP($A2974,'Lista de Precios_Bolívares_S'!$F:$Q,6,FALSE),\"\")","v":""},{"$f":"IFERROR(VLOOKUP($A2974,'Lista de Precios_Bolívares_S'!$F:$Q,12,FALSE),\"\")","v":""},"",{"$f":"IFERROR(VLOOKUP($A2974,'Lista de Precios_USD$_Euro€'!$E:$O,11,FALSE),\"\")","v":""}]
[null,null,null,{"$f":"IFERROR(VLOOKUP($A2975,'Lista de Precios_Bolívares_S'!$F:$Q,6,FALSE),\"\")","v":""},{"$f":"IFERROR(VLOOKUP($A2975,'Lista de Precios_Bolívares_S'!$F:$Q,12,FALSE),\"\")","v":""},"",{"$f":"IFERROR(VLOOKUP($A2975,'Lista de Precios_USD$_Euro€'!$E:$O,11,FALSE),\"\")","v":""}]
[null,null,null,{"$f":"IFERROR(VLOOKUP($A2976,'Lista de Precios_Bolívares_S'!$F:$Q,6,FALSE),\"\")","v":""},{"$f":"IFERROR(VLOOKUP($A2976,'Lista de Precios_Bolívares_S'!$F:$Q,12,FALSE),\"\")","v":""},"",{"$f":"IFERROR(VLOOKUP($A2976,'Lista de Precios_USD$_Euro€'!$E:$O,11,FALSE),\"\")","v":""}]
[null,null,null,{"$f":"IFERROR(VLOOKUP($A2977,'Lista de Precios_Bolívares_S'!$F:$Q,6,FALSE),\"\")","v":""},{"$f":"IFERROR(VLOOKUP($A2977,'Lista de Precios_Bolívares_S'!$F:$Q,12,FALSE),\"\")","v":""},"",{"$f":"IFERROR(VLOOKUP($A2977,'Lista de Precios_USD$_Euro€'!$E:$O,11,FALSE),\"\")","v":""}]
[null,null,null,{"$f":"IFERROR(VLOOKUP($A2978,'Lista de Precios_Bolívares_S'!$F:$Q,6,FALSE),\"\")","v":""},{"$f":"IFERROR(VLOOKUP($A2978,'Lista de Precios_Bolívares_S'!$F:$Q,12,FALSE),\"\")","v":""},"",{"$f":"IFERROR(VLOOKUP($A2978,'Lista de Precios_USD$_Euro€'!$E:$O,11,FALSE),\"\")","v":""}]
[null,null,null,{"$f":"IFERROR(VLOOKUP($A2979,'Lista de Precios_Bolívares_S'!$F:$Q,6,FALSE),\"\")","v":""},{"$f":"IFERROR(VLOOKUP($A2979,'Lista de Precios_Bolívares_S'!$F:$Q,12,FALSE),\"\")","v":""},"",{"$f":"IFERROR(VLOOKUP($A2979,'Lista de Precios_USD$_Euro€'!$E:$O,11,FALSE),\"\")","v":""}]
[null,null,null,{"$f":"IFERROR(VLOOKUP($A2980,'Lista de Precios_Bolívares_S'!$F:$Q,6,FALSE),\"\")","v":""},{"$f":"IFERROR(VLOOKUP($A2980,'Lista de Precios_Bolívares_S'!$F:$Q,12,FALSE),\"\")","v":""},"",{"$f":"IFERROR(VLOOKUP($A2980,'Lista de Precios_USD$_Euro€'!$E:$O,11,FALSE),\"\")","v":""}]
[null,null,null,{"$f":"IFERROR(VLOOKUP($A2981,'Lista de Precios_Bolívares_S'!$F:$Q,6,FALSE),\"\")","v":""},{"$f":"IFERROR(VLOOKUP($A2981,'Lista de Precios_Bolívares_S'!$F:$Q,12,FALSE),\"\")","v":""},"",{"$f":"IFERROR(VLOOKUP($A2981,'Lista de Precios_USD$_Euro€'!$E:$O,11,FALSE),\"\")","v":""}]
[null,null,null,{"$f":"IFERROR(VLOOKUP($A2982,'Lista de Precios_Bolívares_S'!$F:$Q,6,FALSE),\"\")","v":""},{"$f":"IFERROR(VLOOKUP($A2982,'Lista de Precios_Bolívares_S'!$F:$Q,12,FALSE),\"\")","v":""},"",{"$f":"IFERROR(VLOOKUP($A2982,'Lista de Precios_USD$_Euro€'!$E:$O,11,FALSE),\"\")","v":""}]
[null,null,null,{"$f":"IFERROR(VLOOKUP($A2983,'Lista de Precios_Bolívares_S'!$F:$Q,6,FALSE),\"\")","v":""},{"$f":"IFERROR(VLOOKUP($A2983,'Lista de Precios_Bolívares_S'!$F:$Q,12,FALSE),\"\")","v":""},"",{"$f":"IFERROR(VLOOKUP($A2983,'Lista de Precios_USD$_Euro€'!$E:$O,11,FALSE),\"\")","v":""}]
[null,null,null,{"$f":"IFERROR(VLOOKUP($A2984,'Lista de Precios_Bolívares_S'!$F:$Q,6,FALSE),\"\")","v":""},{"$f":"IFERROR(VLOOKUP($A2984,'Lista de Precios_Bolívares_S'!$F:$Q,12,FALSE),\"\")","v":""},"",{"$f":"IFERROR(VLOOKUP($A2984,'Lista de Precios_USD$_Euro€'!$E:$O,11,FALSE),\"\")","v":""}]
[null,null,null,{"$f":"IFERROR(VLOOKUP($A2985,'Lista de Precios_Bolívares_S'!$F:$Q,6,FALSE),\"\")","v":""},{"$f":"IFERROR(VLOOKUP($A2985,'Lista de Precios_Bolívares_S'!$F:$Q,12,FALSE),\"\")","v":""},"",{"$f":"IFERROR(VLOOKUP($A2985,'Lista de Precios_USD$_Euro€'!$E:$O,11,FALSE),\"\")","v":""}]
[null,null,null,{"$f":"IFERROR(VLOOKUP($A2986,'Lista de Precios_Bolívares_S'!$F:$Q,6,FALSE),\"\")","v":""},{"$f":"IFERROR(VLOOKUP($A2986,'Lista de Precios_Bolívares_S'!$F:$Q,12,FALSE),\"\")","v":""},"",{"$f":"IFERROR(VLOOKUP($A2986,'Lista de Precios_USD$_Euro€'!$E:$O,11,FALSE),\"\")","v":""}]
[null,null,null,{"$f":"IFERROR(VLOOKUP($A2987,'Lista de Precios_Bolívares_S'!$F:$Q,6,FALSE),\"\")","v":""},{"$f":"IFERROR(VLOOKUP($A2987,'Lista de Precios_Bolívares_S'!$F:$Q,12,FALSE),\"\")","v":""},"",{"$f":"IFERROR(VLOOKUP($A2987,'Lista de Precios_USD$_Euro€'!$E:$O,11,FALSE),\"\")","v":""}]
[null,null,null,{"$f":"IFERROR(VLOOKUP($A2988,'Lista de Precios_Bolívares_S'!$F:$Q,6,FALSE),\"\")","v":""},{"$f":"IFERROR(VLOOKUP($A2988,'Lista de Precios_Bolívares_S'!$F:$Q,12,FALSE),\"\")","v":""},"",{"$f":"IFERROR(VLOOKUP($A2988,'Lista de Precios_USD$_Euro€'!$E:$O,11,FALSE),\"\")","v":""}]
[null,null,null,{"$f":"IFERROR(VLOOKUP($A2989,'Lista de Precios_Bolívares_S'!$F:$Q,6,FALSE),\"\")","v":""},{"$f":"IFERROR(VLOOKUP($A2989,'Lista de Precios_Bolívares_S'!$F:$Q,12,FALSE),\"\")","v":""},"",{"$f":"IFERROR(VLOOKUP($A2989,'Lista de Precios_USD$_Euro€'!$E:$O,11,FALSE),\"\")","v":""}]
[null,null,null,{"$f":"IFERROR(VLOOKUP($A2990,'Lista de Precios_Bolívares_S'!$F:$Q,6,FALSE),\"\")","v":""},{"$f":"IFERROR(VLOOKUP($A2990,'Lista de Precios_Bolívares_S'!$F:$Q,12,FALSE),\"\")","v":""},"",{"$f":"IFERROR(VLOOKUP($A2990,'Lista de Precios_USD$_Euro€'!$E:$O,11,FALSE),\"\")","v":""}]
[null,null,null,{"$f":"IFERROR(VLOOKUP($A2991,'Lista de Precios_Bolívares_S'!$F:$Q,6,FALSE),\"\")","v":""},{"$f":"IFERROR(VLOOKUP($A2991,'Lista de Precios_Bolívares_S'!$F:$Q,12,FALSE),\"\")","v":""},"",{"$f":"IFERROR(VLOOKUP($A2991,'Lista de Precios_USD$_Euro€'!$E:$O,11,FALSE),\"\")","v":""}]
[null,null,null,{"$f":"IFERROR(VLOOKUP($A2992,'Lista de Precios_Bolívares_S'!$F:$Q,6,FALSE),\"\")","v":""},{"$f":"IFERROR(VLOOKUP($A2992,'Lista de Precios_Bolívares_S'!$F:$Q,12,FALSE),\"\")","v":""},"",{"$f":"IFERROR(VLOOKUP($A2992,'Lista de Precios_USD$_Euro€'!$E:$O,11,FALSE),\"\")","v":""}]
[null,null,null,{"$f":"IFERROR(VLOOKUP($A2993,'Lista de Precios_Bolívares_S'!$F:$Q,6,FALSE),\"\")","v":""},{"$f":"IFERROR(VLOOKUP($A2993,'Lista de Precios_Bolívares_S'!$F:$Q,12,FALSE),\"\")","v":""},"",{"$f":"IFERROR(VLOOKUP($A2993,'Lista de Precios_USD$_Euro€'!$E:$O,11,FALSE),\"\")","v":""}]
[null,null,null,{"$f":"IFERROR(VLOOKUP($A2994,'Lista de Precios_Bolívares_S'!$F:$Q,6,FALSE),\"\")","v":""},{"$f":"IFERROR(VLOOKUP($A2994,'Lista de Precios_Bolívares_S'!$F:$Q,12,FALSE),\"\")","v":""},"",{"$f":"IFERROR(VLOOKUP($A2994,'Lista de Precios_USD$_Euro€'!$E:$O,11,FALSE),\"\")","v":""}]
[null,null,null,{"$f":"IFERROR(VLOOKUP($A2995,'Lista de Precios_Bolívares_S'!$F:$Q,6,FALSE),\"\")","v":""},{"$f":"IFERROR(VLOOKUP($A2995,'Lista de Precios_Bolívares_S'!$F:$Q,12,FALSE),\"\")","v":""},"",{"$f":"IFERROR(VLOOKUP($A2995,'Lista de Precios_USD$_Euro€'!$E:$O,11,FALSE),\"\")","v":""}]
[null,null,null,{"$f":"IFERROR(VLOOKUP($A2996,'Lista de Precios_Bolívares_S'!$F:$Q,6,FALSE),\"\")","v":""},{"$f":"IFERROR(VLOOKUP($A2996,'Lista de Precios_Bolívares_S'!$F:$Q,12,FALSE),\"\")","v":""},"",{"$f":"IFERROR(VLOOKUP($A2996,'Lista de Precios_USD$_Euro€'!$E:$O,11,FALSE),\"\")","v":""}]
[null,null,null,{"$f":"IFERROR(VLOOKUP($A2997,'Lista de Precios_Bolívares_S'!$F:$Q,6,FALSE),\"\")","v":""},{"$f":"IFERROR(VLOOKUP($A2997,'Lista de Precios_Bolívares_S'!$F:$Q,12,FALSE),\"\")","v":""},"",{"$f":"IFERROR(VLOOKUP($A2997,'Lista de Precios_USD$_Euro€'!$E:$O,11,FALSE),\"\")","v":""}]
[null,null,null,{"$f":"IFERROR(VLOOKUP($A2998,'Lista de Precios_Bolívares_S'!$F:$Q,6,FALSE),\"\")","v":""},{"$f":"IFERROR(VLOOKUP($A2998,'Lista de Precios_Bolívares_S'!$F:$Q,12,FALSE),\"\")","v":""},"",{"$f":"IFERROR(VLOOKUP($A2998,'Lista de Precios_USD$_Euro€'!$E:$O,11,FALSE),\"\")","v":""}]
[null,null,null,{"$f":"IFERROR(VLOOKUP($A2999,'Lista de Precios_Bolívares_S'!$F:$Q,6,FALSE),\"\")","v":""},{"$f":"IFERROR(VLOOKUP($A2999,'Lista de Precios_Bolívares_S'!$F:$Q,12,FALSE),\"\")","v":""},"",{"$f":"IFERROR(VLOOKUP($A2999,'Lista de Precios_USD$_Euro€'!$E:$O,11,FALSE),\"\")","v":""}]
[null,null,null,{"$f":"IFERROR(VLOOKUP($A3000,'Lista de Precios_Bolívares_S'!$F:$Q,6,FALSE),\"\")","v":""},{"$f":"IFERROR(VLOOKUP($A3000,'Lista de Precios_Bolívares_S'!$F:$Q,12,FALSE),\"\")","v":""},"",{"$f":"IFERROR(VLOOKUP($A3000,'Lista de Precios_USD$_Euro€'!$E:$O,11,FALSE),\"\")","v":""}]
[null,null,null,{"$f":"IFERROR(VLOOKUP($A3001,'Lista de Precios_Bolívares_S'!$F:$Q,6,FALSE),\"\")","v":""},{"$f":"IFERROR(VLOOKUP($A3001,'Lista de Precios_Bolívares_S'!$F:$Q,12,FALSE),\"\")","v":""},"",{"$f":"IFERROR(VLOOKUP($A3001,'Lista de Precios_USD$_Euro€'!$E:$O,11,FALSE),\"\")","v":""}]
[null,null,null,{"$f":"IFERROR(VLOOKUP($A3002,'Lista de Precios_Bolívares_S'!$F:$Q,6,FALSE),\"\")","v":""},{"$f":"IFERROR(VLOOKUP($A3002,'Lista de Precios_Bolívares_S'!$F:$Q,12,FALSE),\"\")","v":""},"",{"$f":"IFERROR(VLOOKUP($A3002,'Lista de Precios_USD$_Euro€'!$E:$O,11,FALSE),\"\")","v":""}]
[null,null,null,{"$f":"IFERROR(VLOOKUP($A3003,'Lista de Precios_Bolívares_S'!$F:$Q,6,FALSE),\"\")","v":""},{"$f":"IFERROR(VLOOKUP($A3003,'Lista de Precios_Bolívares_S'!$F:$Q,12,FALSE),\"\")","v":""},"",{"$f":"IFERROR(VLOOKUP($A3003,'Lista de Precios_USD$_Euro€'!$E:$O,11,FALSE),\"\")","v":""}]
[null,null,null,{"$f":"IFERROR(VLOOKUP($A3004,'Lista de Precios_Bolívares_S'!$F:$Q,6,FALSE),\"\")","v":""},{"$f":"IFERROR(VLOOKUP($A3004,'Lista de Precios_Bolívares_S'!$F:$Q,12,FALSE),\"\")","v":""},"",{"$f":"IFERROR(VLOOKUP($A3004,'Lista de Precios_USD$_Euro€'!$E:$O,11,FALSE),\"\")","v":""}]
[null,null,null,{"$f":"IFERROR(VLOOKUP($A3005,'Lista de Precios_Bolívares_S'!$F:$Q,6,FALSE),\"\")","v":""},{"$f":"IFERROR(VLOOKUP($A3005,'Lista de Precios_Bolívares_S'!$F:$Q,12,FALSE),\"\")","v":""},"",{"$f":"IFERROR(VLOOKUP($A3005,'Lista de Precios_USD$_Euro€'!$E:$O,11,FALSE),\"\")","v":""}]
[null,null,null,{"$f":"IFERROR(VLOOKUP($A3006,'Lista de Precios_Bolívares_S'!$F:$Q,6,FALSE),\"\")","v":""},{"$f":"IFERROR(VLOOKUP($A3006,'Lista de Precios_Bolívares_S'!$F:$Q,12,FALSE),\"\")","v":""},"",{"$f":"IFERROR(VLOOKUP($A3006,'Lista de Precios_USD$_Euro€'!$E:$O,11,FALSE),\"\")","v":""}]
[null,null,null,{"$f":"IFERROR(VLOOKUP($A3007,'Lista de Precios_Bolívares_S'!$F:$Q,6,FALSE),\"\")","v":""},{"$f":"IFERROR(VLOOKUP($A3007,'Lista de Precios_Bolívares_S'!$F:$Q,12,FALSE),\"\")","v":""},"",{"$f":"IFERROR(VLOOKUP($A3007,'Lista de Precios_USD$_Euro€'!$E:$O,11,FALSE),\"\")","v":""}]
[null,null,null,{"$f":"IFERROR(VLOOKUP($A3008,'Lista de Precios_Bolívares_S'!$F:$Q,6,FALSE),\"\")","v":""},{"$f":"IFERROR(VLOOKUP($A3008,'Lista de Precios_Bolívares_S'!$F:$Q,12,FALSE),\"\")","v":""},"",{"$f":"IFERROR(VLOOKUP($A3008,'Lista de Precios_USD$_Euro€'!$E:$O,11,FALSE),\"\")","v":""}]
[null,null,null,{"$f":"IFERROR(VLOOKUP($A3009,'Lista de Precios_Bolívares_S'!$F:$Q,6,FALSE),\"\")","v":""},{"$f":"IFERROR(VLOOKUP($A3009,'Lista de Precios_Bolívares_S'!$F:$Q,12,FALSE),\"\")","v":""},"",{"$f":"IFERROR(VLOOKUP($A3009,'Lista de Precios_USD$_Euro€'!$E:$O,11,FALSE),\"\")","v":""}]
[null,null,null,{"$f":"IFERROR(VLOOKUP($A3010,'Lista de Precios_Bolívares_S'!$F:$Q,6,FALSE),\"\")","v":""},{"$f":"IFERROR(VLOOKUP($A3010,'Lista de Precios_Bolívares_S'!$F:$Q,12,FALSE),\"\")","v":""},"",{"$f":"IFERROR(VLOOKUP($A3010,'Lista de Precios_USD$_Euro€'!$E:$O,11,FALSE),\"\")","v":""}]
[null,null,null,{"$f":"IFERROR(VLOOKUP($A3011,'Lista de Precios_Bolívares_S'!$F:$Q,6,FALSE),\"\")","v":""},{"$f":"IFERROR(VLOOKUP($A3011,'Lista de Precios_Bolívares_S'!$F:$Q,12,FALSE),\"\")","v":""},"",{"$f":"IFERROR(VLOOKUP($A3011,'Lista de Precios_USD$_Euro€'!$E:$O,11,FALSE),\"\")","v":""}]
[null,null,null,{"$f":"IFERROR(VLOOKUP($A3012,'Lista de Precios_Bolívares_S'!$F:$Q,6,FALSE),\"\")","v":""},{"$f":"IFERROR(VLOOKUP($A3012,'Lista de Precios_Bolívares_S'!$F:$Q,12,FALSE),\"\")","v":""},"",{"$f":"IFERROR(VLOOKUP($A3012,'Lista de Precios_USD$_Euro€'!$E:$O,11,FALSE),\"\")","v":""}]
[null,null,null,{"$f":"IFERROR(VLOOKUP($A3013,'Lista de Precios_Bolívares_S'!$F:$Q,6,FALSE),\"\")","v":""},{"$f":"IFERROR(VLOOKUP($A3013,'Lista de Precios_Bolívares_S'!$F:$Q,12,FALSE),\"\")","v":""},"",{"$f":"IFERROR(VLOOKUP($A3013,'Lista de Precios_USD$_Euro€'!$E:$O,11,FALSE),\"\")","v":""}]
[null,null,null,{"$f":"IFERROR(VLOOKUP($A3014,'Lista de Precios_Bolívares_S'!$F:$Q,6,FALSE),\"\")","v":""},{"$f":"IFERROR(VLOOKUP($A3014,'Lista de Precios_Bolívares_S'!$F:$Q,12,FALSE),\"\")","v":""},"",{"$f":"IFERROR(VLOOKUP($A3014,'Lista de Precios_USD$_Euro€'!$E:$O,11,FALSE),\"\")","v":""}]
[null,null,null,{"$f":"IFERROR(VLOOKUP($A3015,'Lista de Precios_Bolívares_S'!$F:$Q,6,FALSE),\"\")","v":""},{"$f":"IFERROR(VLOOKUP($A3015,'Lista de Precios_Bolívares_S'!$F:$Q,12,FALSE),\"\")","v":""},"",{"$f":"IFERROR(VLOOKUP($A3015,'Lista de Precios_USD$_Euro€'!$E:$O,11,FALSE),\"\")","v":""}]
[null,null,null,{"$f":"IFERROR(VLOOKUP($A3016,'Lista de Precios_Bolívares_S'!$F:$Q,6,FALSE),\"\")","v":""},{"$f":"IFERROR(VLOOKUP($A3016,'Lista de Precios_Bolívares_S'!$F:$Q,12,FALSE),\"\")","v":""},"",{"$f":"IFERROR(VLOOKUP($A3016,'Lista de Precios_USD$_Euro€'!$E:$O,11,FALSE),\"\")","v":""}]
[null,null,null,{"$f":"IFERROR(VLOOKUP($A3017,'Lista de Precios_Bolívares_S'!$F:$Q,6,FALSE),\"\")","v":""},{"$f":"IFERROR(VLOOKUP($A3017,'Lista de Precios_Bolívares_S'!$F:$Q,12,FALSE),\"\")","v":""},"",{"$f":"IFERROR(VLOOKUP($A3017,'Lista de Precios_USD$_Euro€'!$E:$O,11,FALSE),\"\")","v":""}]
[null,null,null,{"$f":"IFERROR(VLOOKUP($A3018,'Lista de Precios_Bolívares_S'!$F:$Q,6,FALSE),\"\")","v":""},{"$f":"IFERROR(VLOOKUP($A3018,'Lista de Precios_Bolívares_S'!$F:$Q,12,FALSE),\"\")","v":""},"",{"$f":"IFERROR(VLOOKUP($A3018,'Lista de Precios_USD$_Euro€'!$E:$O,11,FALSE),\"\")","v":""}]
[null,null,null,{"$f":"IFERROR(VLOOKUP($A3019,'Lista de Precios_Bolívares_S'!$F:$Q,6,FALSE),\"\")","v":""},{"$f":"IFERROR(VLOOKUP($A3019,'Lista de Precios_Bolívares_S'!$F:$Q,12,FALSE),\"\")","v":""},"",{"$f":"IFERROR(VLOOKUP($A3019,'Lista de Precios_USD$_Euro€'!$E:$O,11,FALSE),\"\")","v":""}]
[null,null,null,{"$f":"IFERROR(VLOOKUP($A3020,'Lista de Precios_Bolívares_S'!$F:$Q,6,FALSE),\"\")","v":""},{"$f":"IFERROR(VLOOKUP($A3020,'Lista de Precios_Bolívares_S'!$F:$Q,12,FALSE),\"\")","v":""},"",{"$f":"IFERROR(VLOOKUP($A3020,'Lista de Precios_USD$_Euro€'!$E:$O,11,FALSE),\"\")","v":""}]
[null,null,null,{"$f":"IFERROR(VLOOKUP($A3021,'Lista de Precios_Bolívares_S'!$F:$Q,6,FALSE),\"\")","v":""},{"$f":"IFERROR(VLOOKUP($A3021,'Lista de Precios_Bolívares_S'!$F:$Q,12,FALSE),\"\")","v":""},"",{"$f":"IFERROR(VLOOKUP($A3021,'Lista de Precios_USD$_Euro€'!$E:$O,11,FALSE),\"\")","v":""}]
[null,null,null,{"$f":"IFERROR(VLOOKUP($A3022,'Lista de Precios_Bolívares_S'!$F:$Q,6,FALSE),\"\")","v":""},{"$f":"IFERROR(VLOOKUP($A3022,'Lista de Precios_Bolívares_S'!$F:$Q,12,FALSE),\"\")","v":""},"",{"$f":"IFERROR(VLOOKUP($A3022,'Lista de Precios_USD$_Euro€'!$E:$O,11,FALSE),\"\")","v":""}]
[null,null,null,{"$f":"IFERROR(VLOOKUP($A3023,'Lista de Precios_Bolívares_S'!$F:$Q,6,FALSE),\"\")","v":""},{"$f":"IFERROR(VLOOKUP($A3023,'Lista de Precios_Bolívares_S'!$F:$Q,12,FALSE),\"\")","v":""},"",{"$f":"IFERROR(VLOOKUP($A3023,'Lista de Precios_USD$_Euro€'!$E:$O,11,FALSE),\"\")","v":""}]
[null,null,null,{"$f":"IFERROR(VLOOKUP($A3024,'Lista de Precios_Bolívares_S'!$F:$Q,6,FALSE),\"\")","v":""},{"$f":"IFERROR(VLOOKUP($A3024,'Lista de Precios_Bolívares_S'!$F:$Q,12,FALSE),\"\")","v":""},"",{"$f":"IFERROR(VLOOKUP($A3024,'Lista de Precios_USD$_Euro€'!$E:$O,11,FALSE),\"\")","v":""}]
[null,null,null,{"$f":"IFERROR(VLOOKUP($A3025,'Lista de Precios_Bolívares_S'!$F:$Q,6,FALSE),\"\")","v":""},{"$f":"IFERROR(VLOOKUP($A3025,'Lista de Precios_Bolívares_S'!$F:$Q,12,FALSE),\"\")","v":""},"",{"$f":"IFERROR(VLOOKUP($A3025,'Lista de Precios_USD$_Euro€'!$E:$O,11,FALSE),\"\")","v":""}]
[null,null,null,{"$f":"IFERROR(VLOOKUP($A3026,'Lista de Precios_Bolívares_S'!$F:$Q,6,FALSE),\"\")","v":""},{"$f":"IFERROR(VLOOKUP($A3026,'Lista de Precios_Bolívares_S'!$F:$Q,12,FALSE),\"\")","v":""},"",{"$f":"IFERROR(VLOOKUP($A3026,'Lista de Precios_USD$_Euro€'!$E:$O,11,FALSE),\"\")","v":""}]
[null,null,null,{"$f":"IFERROR(VLOOKUP($A3027,'Lista de Precios_Bolívares_S'!$F:$Q,6,FALSE),\"\")","v":""},{"$f":"IFERROR(VLOOKUP($A3027,'Lista de Precios_Bolívares_S'!$F:$Q,12,FALSE),\"\")","v":""},"",{"$f":"IFERROR(VLOOKUP($A3027,'Lista de Precios_USD$_Euro€'!$E:$O,11,FALSE),\"\")","v":""}]
[null,null,null,{"$f":"IFERROR(VLOOKUP($A3028,'Lista de Precios_Bolívares_S'!$F:$Q,6,FALSE),\"\")","v":""},{"$f":"IFERROR(VLOOKUP($A3028,'Lista de Precios_Bolívares_S'!$F:$Q,12,FALSE),\"\")","v":""},"",{"$f":"IFERROR(VLOOKUP($A3028,'Lista de Precios_USD$_Euro€'!$E:$O,11,FALSE),\"\")","v":""}]
[null,null,null,{"$f":"IFERROR(VLOOKUP($A3029,'Lista de Precios_Bolívares_S'!$F:$Q,6,FALSE),\"\")","v":""},{"$f":"IFERROR(VLOOKUP($A3029,'Lista de Precios_Bolívares_S'!$F:$Q,12,FALSE),\"\")","v":""},"",{"$f":"IFERROR(VLOOKUP($A3029,'Lista de Precios_USD$_Euro€'!$E:$O,11,FALSE),\"\")","v":""}]
[null,null,null,{"$f":"IFERROR(VLOOKUP($A3030,'Lista de Precios_Bolívares_S'!$F:$Q,6,FALSE),\"\")","v":""},{"$f":"IFERROR(VLOOKUP($A3030,'Lista de Precios_Bolívares_S'!$F:$Q,12,FALSE),\"\")","v":""},"",{"$f":"IFERROR(VLOOKUP($A3030,'Lista de Precios_USD$_Euro€'!$E:$O,11,FALSE),\"\")","v":""}]
[null,null,null,{"$f":"IFERROR(VLOOKUP($A3031,'Lista de Precios_Bolívares_S'!$F:$Q,6,FALSE),\"\")","v":""},{"$f":"IFERROR(VLOOKUP($A3031,'Lista de Precios_Bolívares_S'!$F:$Q,12,FALSE),\"\")","v":""},"",{"$f":"IFERROR(VLOOKUP($A3031,'Lista de Precios_USD$_Euro€'!$E:$O,11,FALSE),\"\")","v":""}]
[null,null,null,{"$f":"IFERROR(VLOOKUP($A3032,'Lista de Precios_Bolívares_S'!$F:$Q,6,FALSE),\"\")","v":""},{"$f":"IFERROR(VLOOKUP($A3032,'Lista de Precios_Bolívares_S'!$F:$Q,12,FALSE),\"\")","v":""},"",{"$f":"IFERROR(VLOOKUP($A3032,'Lista de Precios_USD$_Euro€'!$E:$O,11,FALSE),\"\")","v":""}]
[null,null,null,{"$f":"IFERROR(VLOOKUP($A3033,'Lista de Precios_Bolívares_S'!$F:$Q,6,FALSE),\"\")","v":""},{"$f":"IFERROR(VLOOKUP($A3033,'Lista de Precios_Bolívares_S'!$F:$Q,12,FALSE),\"\")","v":""},{"$f":"IFERROR(IF(ROUND($C3033,2)=ROUND($D3008,2),ROUND($E3008,2),ROUND($C3033,2)),\"\")","v":""},{"$f":"IFERROR(VLOOKUP($A3033,'Lista de Precios_USD$_Euro€'!$E:$O,11,FALSE),\"\")","v":""}]
[null,null,null,{"$f":"IFERROR(VLOOKUP($A3034,'Lista de Precios_Bolívares_S'!$F:$Q,6,FALSE),\"\")","v":""},{"$f":"IFERROR(VLOOKUP($A3034,'Lista de Precios_Bolívares_S'!$F:$Q,12,FALSE),\"\")","v":""},"",{"$f":"IFERROR(VLOOKUP($A3034,'Lista de Precios_USD$_Euro€'!$E:$O,11,FALSE),\"\")","v":""}]
[null,null,null,{"$f":"IFERROR(VLOOKUP($A3035,'Lista de Precios_Bolívares_S'!$F:$Q,6,FALSE),\"\")","v":""},{"$f":"IFERROR(VLOOKUP($A3035,'Lista de Precios_Bolívares_S'!$F:$Q,12,FALSE),\"\")","v":""},"",{"$f":"IFERROR(VLOOKUP($A3035,'Lista de Precios_USD$_Euro€'!$E:$O,11,FALSE),\"\")","v":""}]
[null,null,null,{"$f":"IFERROR(VLOOKUP($A3036,'Lista de Precios_Bolívares_S'!$F:$Q,6,FALSE),\"\")","v":""},{"$f":"IFERROR(VLOOKUP($A3036,'Lista de Precios_Bolívares_S'!$F:$Q,12,FALSE),\"\")","v":""},"",{"$f":"IFERROR(VLOOKUP($A3036,'Lista de Precios_USD$_Euro€'!$E:$O,11,FALSE),\"\")","v":""}]
[null,null,null,{"$f":"IFERROR(VLOOKUP($A3037,'Lista de Precios_Bolívares_S'!$F:$Q,6,FALSE),\"\")","v":""},{"$f":"IFERROR(VLOOKUP($A3037,'Lista de Precios_Bolívares_S'!$F:$Q,12,FALSE),\"\")","v":""},"",{"$f":"IFERROR(VLOOKUP($A3037,'Lista de Precios_USD$_Euro€'!$E:$O,11,FALSE),\"\")","v":""}]
[null,null,null,{"$f":"IFERROR(VLOOKUP($A3038,'Lista de Precios_Bolívares_S'!$F:$Q,6,FALSE),\"\")","v":""},{"$f":"IFERROR(VLOOKUP($A3038,'Lista de Precios_Bolívares_S'!$F:$Q,12,FALSE),\"\")","v":""},"",{"$f":"IFERROR(VLOOKUP($A3038,'Lista de Precios_USD$_Euro€'!$E:$O,11,FALSE),\"\")","v":""}]
[null,null,null,{"$f":"IFERROR(VLOOKUP($A3039,'Lista de Precios_Bolívares_S'!$F:$Q,6,FALSE),\"\")","v":""},{"$f":"IFERROR(VLOOKUP($A3039,'Lista de Precios_Bolívares_S'!$F:$Q,12,FALSE),\"\")","v":""},"",{"$f":"IFERROR(VLOOKUP($A3039,'Lista de Precios_USD$_Euro€'!$E:$O,11,FALSE),\"\")","v":""}]
[null,null,null,{"$f":"IFERROR(VLOOKUP($A3040,'Lista de Precios_Bolívares_S'!$F:$Q,6,FALSE),\"\")","v":""},{"$f":"IFERROR(VLOOKUP($A3040,'Lista de Precios_Bolívares_S'!$F:$Q,12,FALSE),\"\")","v":""},"",{"$f":"IFERROR(VLOOKUP($A3040,'Lista de Precios_USD$_Euro€'!$E:$O,11,FALSE),\"\")","v":""}]
[null,null,null,{"$f":"IFERROR(VLOOKUP($A3041,'Lista de Precios_Bolívares_S'!$F:$Q,6,FALSE),\"\")","v":""},{"$f":"IFERROR(VLOOKUP($A3041,'Lista de Precios_Bolívares_S'!$F:$Q,12,FALSE),\"\")","v":""},"",{"$f":"IFERROR(VLOOKUP($A3041,'Lista de Precios_USD$_Euro€'!$E:$O,11,FALSE),\"\")","v":""}]
[null,null,null,{"$f":"IFERROR(VLOOKUP($A3042,'Lista de Precios_Bolívares_S'!$F:$Q,6,FALSE),\"\")","v":""},{"$f":"IFERROR(VLOOKUP($A3042,'Lista de Precios_Bolívares_S'!$F:$Q,12,FALSE),\"\")","v":""},"",{"$f":"IFERROR(VLOOKUP($A3042,'Lista de Precios_USD$_Euro€'!$E:$O,11,FALSE),\"\")","v":""}]
[null,null,null,{"$f":"IFERROR(VLOOKUP($A3043,'Lista de Precios_Bolívares_S'!$F:$Q,6,FALSE),\"\")","v":""},{"$f":"IFERROR(VLOOKUP($A3043,'Lista de Precios_Bolívares_S'!$F:$Q,12,FALSE),\"\")","v":""},"",{"$f":"IFERROR(VLOOKUP($A3043,'Lista de Precios_USD$_Euro€'!$E:$O,11,FALSE),\"\")","v":""}]
[null,null,null,{"$f":"IFERROR(VLOOKUP($A3044,'Lista de Precios_Bolívares_S'!$F:$Q,6,FALSE),\"\")","v":""},{"$f":"IFERROR(VLOOKUP($A3044,'Lista de Precios_Bolívares_S'!$F:$Q,12,FALSE),\"\")","v":""},"",{"$f":"IFERROR(VLOOKUP($A3044,'Lista de Precios_USD$_Euro€'!$E:$O,11,FALSE),\"\")","v":""}]
[null,null,null,{"$f":"IFERROR(VLOOKUP($A3045,'Lista de Precios_Bolívares_S'!$F:$Q,6,FALSE),\"\")","v":""},{"$f":"IFERROR(VLOOKUP($A3045,'Lista de Precios_Bolívares_S'!$F:$Q,12,FALSE),\"\")","v":""},"",{"$f":"IFERROR(VLOOKUP($A3045,'Lista de Precios_USD$_Euro€'!$E:$O,11,FALSE),\"\")","v":""}]
[null,null,null,{"$f":"IFERROR(VLOOKUP($A3046,'Lista de Precios_Bolívares_S'!$F:$Q,6,FALSE),\"\")","v":""},{"$f":"IFERROR(VLOOKUP($A3046,'Lista de Precios_Bolívares_S'!$F:$Q,12,FALSE),\"\")","v":""},"",{"$f":"IFERROR(VLOOKUP($A3046,'Lista de Precios_USD$_Euro€'!$E:$O,11,FALSE),\"\")","v":""}]
[null,null,null,{"$f":"IFERROR(VLOOKUP($A3047,'Lista de Precios_Bolívares_S'!$F:$Q,6,FALSE),\"\")","v":""},{"$f":"IFERROR(VLOOKUP($A3047,'Lista de Precios_Bolívares_S'!$F:$Q,12,FALSE),\"\")","v":""},"",{"$f":"IFERROR(VLOOKUP($A3047,'Lista de Precios_USD$_Euro€'!$E:$O,11,FALSE),\"\")","v":""}]
[null,null,null,{"$f":"IFERROR(VLOOKUP($A3048,'Lista de Precios_Bolívares_S'!$F:$Q,6,FALSE),\"\")","v":""},{"$f":"IFERROR(VLOOKUP($A3048,'Lista de Precios_Bolívares_S'!$F:$Q,12,FALSE),\"\")","v":""},"",{"$f":"IFERROR(VLOOKUP($A3048,'Lista de Precios_USD$_Euro€'!$E:$O,11,FALSE),\"\")","v":""}]
[null,null,null,{"$f":"IFERROR(VLOOKUP($A3049,'Lista de Precios_Bolívares_S'!$F:$Q,6,FALSE),\"\")","v":""},{"$f":"IFERROR(VLOOKUP($A3049,'Lista de Precios_Bolívares_S'!$F:$Q,12,FALSE),\"\")","v":""},"",{"$f":"IFERROR(VLOOKUP($A3049,'Lista de Precios_USD$_Euro€'!$E:$O,11,FALSE),\"\")","v":""}]
[null,null,null,{"$f":"IFERROR(VLOOKUP($A3050,'Lista de Precios_Bolívares_S'!$F:$Q,6,FALSE),\"\")","v":""},{"$f":"IFERROR(VLOOKUP($A3050,'Lista de Precios_Bolívares_S'!$F:$Q,12,FALSE),\"\")","v":""},"",{"$f":"IFERROR(VLOOKUP($A3050,'Lista de Precios_USD$_Euro€'!$E:$O,11,FALSE),\"\")","v":""}]
[null,null,null,{"$f":"IFERROR(VLOOKUP($A3051,'Lista de Precios_Bolívares_S'!$F:$Q,6,FALSE),\"\")","v":""},{"$f":"IFERROR(VLOOKUP($A3051,'Lista de Precios_Bolívares_S'!$F:$Q,12,FALSE),\"\")","v":""},"",{"$f":"IFERROR(VLOOKUP($A3051,'Lista de Precios_USD$_Euro€'!$E:$O,11,FALSE),\"\")","v":""}]
[null,null,null,{"$f":"IFERROR(VLOOKUP($A3052,'Lista de Precios_Bolívares_S'!$F:$Q,6,FALSE),\"\")","v":""},{"$f":"IFERROR(VLOOKUP($A3052,'Lista de Precios_Bolívares_S'!$F:$Q,12,FALSE),\"\")","v":""},"",{"$f":"IFERROR(VLOOKUP($A3052,'Lista de Precios_USD$_Euro€'!$E:$O,11,FALSE),\"\")","v":""}]
[null,null,null,{"$f":"IFERROR(VLOOKUP($A3053,'Lista de Precios_Bolívares_S'!$F:$Q,6,FALSE),\"\")","v":""},{"$f":"IFERROR(VLOOKUP($A3053,'Lista de Precios_Bolívares_S'!$F:$Q,12,FALSE),\"\")","v":""},"",{"$f":"IFERROR(VLOOKUP($A3053,'Lista de Precios_USD$_Euro€'!$E:$O,11,FALSE),\"\")","v":""}]
[null,null,null,{"$f":"IFERROR(VLOOKUP($A3054,'Lista de Precios_Bolívares_S'!$F:$Q,6,FALSE),\"\")","v":""},{"$f":"IFERROR(VLOOKUP($A3054,'Lista de Precios_Bolívares_S'!$F:$Q,12,FALSE),\"\")","v":""},"",{"$f":"IFERROR(VLOOKUP($A3054,'Lista de Precios_USD$_Euro€'!$E:$O,11,FALSE),\"\")","v":""}]
[null,null,null,{"$f":"IFERROR(VLOOKUP($A3055,'Lista de Precios_Bolívares_S'!$F:$Q,6,FALSE),\"\")","v":""},{"$f":"IFERROR(VLOOKUP($A3055,'Lista de Precios_Bolívares_S'!$F:$Q,12,FALSE),\"\")","v":""},"",{"$f":"IFERROR(VLOOKUP($A3055,'Lista de Precios_USD$_Euro€'!$E:$O,11,FALSE),\"\")","v":""}]
[null,null,null,{"$f":"IFERROR(VLOOKUP($A3056,'Lista de Precios_Bolívares_S'!$F:$Q,6,FALSE),\"\")","v":""},{"$f":"IFERROR(VLOOKUP($A3056,'Lista de Precios_Bolívares_S'!$F:$Q,12,FALSE),\"\")","v":""},"",{"$f":"IFERROR(VLOOKUP($A3056,'Lista de Precios_USD$_Euro€'!$E:$O,11,FALSE),\"\")","v":""}]
[null,null,null,{"$f":"IFERROR(VLOOKUP($A3057,'Lista de Precios_Bolívares_S'!$F:$Q,6,FALSE),\"\")","v":""},{"$f":"IFERROR(VLOOKUP($A3057,'Lista de Precios_Bolívares_S'!$F:$Q,12,FALSE),\"\")","v":""},"",{"$f":"IFERROR(VLOOKUP($A3057,'Lista de Precios_USD$_Euro€'!$E:$O,11,FALSE),\"\")","v":""}]
[null,null,null,{"$f":"IFERROR(VLOOKUP($A3058,'Lista de Precios_Bolívares_S'!$F:$Q,6,FALSE),\"\")","v":""},{"$f":"IFERROR(VLOOKUP($A3058,'Lista de Precios_Bolívares_S'!$F:$Q,12,FALSE),\"\")","v":""},"",{"$f":"IFERROR(VLOOKUP($A3058,'Lista de Precios_USD$_Euro€'!$E:$O,11,FALSE),\"\")","v":""}]
[null,null,null,{"$f":"IFERROR(VLOOKUP($A3059,'Lista de Precios_Bolívares_S'!$F:$Q,6,FALSE),\"\")","v":""},{"$f":"IFERROR(VLOOKUP($A3059,'Lista de Precios_Bolívares_S'!$F:$Q,12,FALSE),\"\")","v":""},"",{"$f":"IFERROR(VLOOKUP($A3059,'Lista de Precios_USD$_Euro€'!$E:$O,11,FALSE),\"\")","v":""}]
[null,null,null,{"$f":"IFERROR(VLOOKUP($A3060,'Lista de Precios_Bolívares_S'!$F:$Q,6,FALSE),\"\")","v":""},{"$f":"IFERROR(VLOOKUP($A3060,'Lista de Precios_Bolívares_S'!$F:$Q,12,FALSE),\"\")","v":""},"",{"$f":"IFERROR(VLOOKUP($A3060,'Lista de Precios_USD$_Euro€'!$E:$O,11,FALSE),\"\")","v":""}]
[null,null,null,{"$f":"IFERROR(VLOOKUP($A3061,'Lista de Precios_Bolívares_S'!$F:$Q,6,FALSE),\"\")","v":""},{"$f":"IFERROR(VLOOKUP($A3061,'Lista de Precios_Bolívares_S'!$F:$Q,12,FALSE),\"\")","v":""},"",{"$f":"IFERROR(VLOOKUP($A3061,'Lista de Precios_USD$_Euro€'!$E:$O,11,FALSE),\"\")","v":""}]
[null,null,null,{"$f":"IFERROR(VLOOKUP($A3062,'Lista de Precios_Bolívares_S'!$F:$Q,6,FALSE),\"\")","v":""},{"$f":"IFERROR(VLOOKUP($A3062,'Lista de Precios_Bolívares_S'!$F:$Q,12,FALSE),\"\")","v":""},"",{"$f":"IFERROR(VLOOKUP($A3062,'Lista de Precios_USD$_Euro€'!$E:$O,11,FALSE),\"\")","v":""}]
[null,null,null,{"$f":"IFERROR(VLOOKUP($A3063,'Lista de Precios_Bolívares_S'!$F:$Q,6,FALSE),\"\")","v":""},{"$f":"IFERROR(VLOOKUP($A3063,'Lista de Precios_Bolívares_S'!$F:$Q,12,FALSE),\"\")","v":""},"",{"$f":"IFERROR(VLOOKUP($A3063,'Lista de Precios_USD$_Euro€'!$E:$O,11,FALSE),\"\")","v":""}]
[null,null,null,{"$f":"IFERROR(VLOOKUP($A3064,'Lista de Precios_Bolívares_S'!$F:$Q,6,FALSE),\"\")","v":""},{"$f":"IFERROR(VLOOKUP($A3064,'Lista de Precios_Bolívares_S'!$F:$Q,12,FALSE),\"\")","v":""},"",{"$f":"IFERROR(VLOOKUP($A3064,'Lista de Precios_USD$_Euro€'!$E:$O,11,FALSE),\"\")","v":""}]
[null,null,null,{"$f":"IFERROR(VLOOKUP($A3065,'Lista de Precios_Bolívares_S'!$F:$Q,6,FALSE),\"\")","v":""},{"$f":"IFERROR(VLOOKUP($A3065,'Lista de Precios_Bolívares_S'!$F:$Q,12,FALSE),\"\")","v":""},"",{"$f":"IFERROR(VLOOKUP($A3065,'Lista de Precios_USD$_Euro€'!$E:$O,11,FALSE),\"\")","v":""}]
[null,null,null,{"$f":"IFERROR(VLOOKUP($A3066,'Lista de Precios_Bolívares_S'!$F:$Q,6,FALSE),\"\")","v":""},{"$f":"IFERROR(VLOOKUP($A3066,'Lista de Precios_Bolívares_S'!$F:$Q,12,FALSE),\"\")","v":""},"",{"$f":"IFERROR(VLOOKUP($A3066,'Lista de Precios_USD$_Euro€'!$E:$O,11,FALSE),\"\")","v":""}]
[null,null,null,{"$f":"IFERROR(VLOOKUP($A3067,'Lista de Precios_Bolívares_S'!$F:$Q,6,FALSE),\"\")","v":""},{"$f":"IFERROR(VLOOKUP($A3067,'Lista de Precios_Bolívares_S'!$F:$Q,12,FALSE),\"\")","v":""},"",{"$f":"IFERROR(VLOOKUP($A3067,'Lista de Precios_USD$_Euro€'!$E:$O,11,FALSE),\"\")","v":""}]
[null,null,null,{"$f":"IFERROR(VLOOKUP($A3068,'Lista de Precios_Bolívares_S'!$F:$Q,6,FALSE),\"\")","v":""},{"$f":"IFERROR(VLOOKUP($A3068,'Lista de Precios_Bolívares_S'!$F:$Q,12,FALSE),\"\")","v":""},"",{"$f":"IFERROR(VLOOKUP($A3068,'Lista de Precios_USD$_Euro€'!$E:$O,11,FALSE),\"\")","v":""}]
[null,null,null,{"$f":"IFERROR(VLOOKUP($A3069,'Lista de Precios_Bolívares_S'!$F:$Q,6,FALSE),\"\")","v":""},{"$f":"IFERROR(VLOOKUP($A3069,'Lista de Precios_Bolívares_S'!$F:$Q,12,FALSE),\"\")","v":""},"",{"$f":"IFERROR(VLOOKUP($A3069,'Lista de Precios_USD$_Euro€'!$E:$O,11,FALSE),\"\")","v":""}]
[null,null,null,{"$f":"IFERROR(VLOOKUP($A3070,'Lista de Precios_Bolívares_S'!$F:$Q,6,FALSE),\"\")","v":""},{"$f":"IFERROR(VLOOKUP($A3070,'Lista de Precios_Bolívares_S'!$F:$Q,12,FALSE),\"\")","v":""},"",{"$f":"IFERROR(VLOOKUP($A3070,'Lista de Precios_USD$_Euro€'!$E:$O,11,FALSE),\"\")","v":""}]
[null,null,null,{"$f":"IFERROR(VLOOKUP($A3071,'Lista de Precios_Bolívares_S'!$F:$Q,6,FALSE),\"\")","v":""},{"$f":"IFERROR(VLOOKUP($A3071,'Lista de Precios_Bolívares_S'!$F:$Q,12,FALSE),\"\")","v":""},"",{"$f":"IFERROR(VLOOKUP($A3071,'Lista de Precios_USD$_Euro€'!$E:$O,11,FALSE),\"\")","v":""}]
[null,null,null,{"$f":"IFERROR(VLOOKUP($A3072,'Lista de Precios_Bolívares_S'!$F:$Q,6,FALSE),\"\")","v":""},{"$f":"IFERROR(VLOOKUP($A3072,'Lista de Precios_Bolívares_S'!$F:$Q,12,FALSE),\"\")","v":""},"",{"$f":"IFERROR(VLOOKUP($A3072,'Lista de Precios_USD$_Euro€'!$E:$O,11,FALSE),\"\")","v":""}]
[null,null,null,{"$f":"IFERROR(VLOOKUP($A3073,'Lista de Precios_Bolívares_S'!$F:$Q,6,FALSE),\"\")","v":""},{"$f":"IFERROR(VLOOKUP($A3073,'Lista de Precios_Bolívares_S'!$F:$Q,12,FALSE),\"\")","v":""},"",{"$f":"IFERROR(VLOOKUP($A3073,'Lista de Precios_USD$_Euro€'!$E:$O,11,FALSE),\"\")","v":""}]
[null,null,null,{"$f":"IFERROR(VLOOKUP($A3074,'Lista de Precios_Bolívares_S'!$F:$Q,6,FALSE),\"\")","v":""},{"$f":"IFERROR(VLOOKUP($A3074,'Lista de Precios_Bolívares_S'!$F:$Q,12,FALSE),\"\")","v":""},"",{"$f":"IFERROR(VLOOKUP($A3074,'Lista de Precios_USD$_Euro€'!$E:$O,11,FALSE),\"\")","v":""}]
[null,null,null,{"$f":"IFERROR(VLOOKUP($A3075,'Lista de Precios_Bolívares_S'!$F:$Q,6,FALSE),\"\")","v":""},{"$f":"IFERROR(VLOOKUP($A3075,'Lista de Precios_Bolívares_S'!$F:$Q,12,FALSE),\"\")","v":""},"",{"$f":"IFERROR(VLOOKUP($A3075,'Lista de Precios_USD$_Euro€'!$E:$O,11,FALSE),\"\")","v":""}]
[null,null,null,{"$f":"IFERROR(VLOOKUP($A3076,'Lista de Precios_Bolívares_S'!$F:$Q,6,FALSE),\"\")","v":""},{"$f":"IFERROR(VLOOKUP($A3076,'Lista de Precios_Bolívares_S'!$F:$Q,12,FALSE),\"\")","v":""},"",{"$f":"IFERROR(VLOOKUP($A3076,'Lista de Precios_USD$_Euro€'!$E:$O,11,FALSE),\"\")","v":""}]
[null,null,null,{"$f":"IFERROR(VLOOKUP($A3077,'Lista de Precios_Bolívares_S'!$F:$Q,6,FALSE),\"\")","v":""},{"$f":"IFERROR(VLOOKUP($A3077,'Lista de Precios_Bolívares_S'!$F:$Q,12,FALSE),\"\")","v":""},"",{"$f":"IFERROR(VLOOKUP($A3077,'Lista de Precios_USD$_Euro€'!$E:$O,11,FALSE),\"\")","v":""}]
[null,null,null,{"$f":"IFERROR(VLOOKUP($A3078,'Lista de Precios_Bolívares_S'!$F:$Q,6,FALSE),\"\")","v":""},{"$f":"IFERROR(VLOOKUP($A3078,'Lista de Precios_Bolívares_S'!$F:$Q,12,FALSE),\"\")","v":""},"",{"$f":"IFERROR(VLOOKUP($A3078,'Lista de Precios_USD$_Euro€'!$E:$O,11,FALSE),\"\")","v":""}]
[null,null,null,{"$f":"IFERROR(VLOOKUP($A3079,'Lista de Precios_Bolívares_S'!$F:$Q,6,FALSE),\"\")","v":""},{"$f":"IFERROR(VLOOKUP($A3079,'Lista de Precios_Bolívares_S'!$F:$Q,12,FALSE),\"\")","v":""},"",{"$f":"IFERROR(VLOOKUP($A3079,'Lista de Precios_USD$_Euro€'!$E:$O,11,FALSE),\"\")","v":""}]
[null,null,null,{"$f":"IFERROR(VLOOKUP($A3080,'Lista de Precios_Bolívares_S'!$F:$Q,6,FALSE),\"\")","v":""},{"$f":"IFERROR(VLOOKUP($A3080,'Lista de Precios_Bolívares_S'!$F:$Q,12,FALSE),\"\")","v":""},"",{"$f":"IFERROR(VLOOKUP($A3080,'Lista de Precios_USD$_Euro€'!$E:$O,11,FALSE),\"\")","v":""}]
[null,null,null,{"$f":"IFERROR(VLOOKUP($A3081,'Lista de Precios_Bolívares_S'!$F:$Q,6,FALSE),\"\")","v":""},{"$f":"IFERROR(VLOOKUP($A3081,'Lista de Precios_Bolívares_S'!$F:$Q,12,FALSE),\"\")","v":""},"",{"$f":"IFERROR(VLOOKUP($A3081,'Lista de Precios_USD$_Euro€'!$E:$O,11,FALSE),\"\")","v":""}]
[null,null,null,{"$f":"IFERROR(VLOOKUP($A3082,'Lista de Precios_Bolívares_S'!$F:$Q,6,FALSE),\"\")","v":""},{"$f":"IFERROR(VLOOKUP($A3082,'Lista de Precios_Bolívares_S'!$F:$Q,12,FALSE),\"\")","v":""},"",{"$f":"IFERROR(VLOOKUP($A3082,'Lista de Precios_USD$_Euro€'!$E:$O,11,FALSE),\"\")","v":""}]
[null,null,null,{"$f":"IFERROR(VLOOKUP($A3083,'Lista de Precios_Bolívares_S'!$F:$Q,6,FALSE),\"\")","v":""},{"$f":"IFERROR(VLOOKUP($A3083,'Lista de Precios_Bolívares_S'!$F:$Q,12,FALSE),\"\")","v":""},"",{"$f":"IFERROR(VLOOKUP($A3083,'Lista de Precios_USD$_Euro€'!$E:$O,11,FALSE),\"\")","v":""}]
[null,null,null,{"$f":"IFERROR(VLOOKUP($A3084,'Lista de Precios_Bolívares_S'!$F:$Q,6,FALSE),\"\")","v":""},{"$f":"IFERROR(VLOOKUP($A3084,'Lista de Precios_Bolívares_S'!$F:$Q,12,FALSE),\"\")","v":""},"",{"$f":"IFERROR(VLOOKUP($A3084,'Lista de Precios_USD$_Euro€'!$E:$O,11,FALSE),\"\")","v":""}]
[null,null,null,{"$f":"IFERROR(VLOOKUP($A3085,'Lista de Precios_Bolívares_S'!$F:$Q,6,FALSE),\"\")","v":""},{"$f":"IFERROR(VLOOKUP($A3085,'Lista de Precios_Bolívares_S'!$F:$Q,12,FALSE),\"\")","v":""},"",{"$f":"IFERROR(VLOOKUP($A3085,'Lista de Precios_USD$_Euro€'!$E:$O,11,FALSE),\"\")","v":""}]
[null,null,null,{"$f":"IFERROR(VLOOKUP($A3086,'Lista de Precios_Bolívares_S'!$F:$Q,6,FALSE),\"\")","v":""},{"$f":"IFERROR(VLOOKUP($A3086,'Lista de Precios_Bolívares_S'!$F:$Q,12,FALSE),\"\")","v":""},"",{"$f":"IFERROR(VLOOKUP($A3086,'Lista de Precios_USD$_Euro€'!$E:$O,11,FALSE),\"\")","v":""}]
[null,null,null,{"$f":"IFERROR(VLOOKUP($A3087,'Lista de Precios_Bolívares_S'!$F:$Q,6,FALSE),\"\")","v":""},{"$f":"IFERROR(VLOOKUP($A3087,'Lista de Precios_Bolívares_S'!$F:$Q,12,FALSE),\"\")","v":""},"",{"$f":"IFERROR(VLOOKUP($A3087,'Lista de Precios_USD$_Euro€'!$E:$O,11,FALSE),\"\")","v":""}]
[null,null,null,{"$f":"IFERROR(VLOOKUP($A3088,'Lista de Precios_Bolívares_S'!$F:$Q,6,FALSE),\"\")","v":""},{"$f":"IFERROR(VLOOKUP($A3088,'Lista de Precios_Bolívares_S'!$F:$Q,12,FALSE),\"\")","v":""},"",{"$f":"IFERROR(VLOOKUP($A3088,'Lista de Precios_USD$_Euro€'!$E:$O,11,FALSE),\"\")","v":""}]
[null,null,null,{"$f":"IFERROR(VLOOKUP($A3089,'Lista de Precios_Bolívares_S'!$F:$Q,6,FALSE),\"\")","v":""},{"$f":"IFERROR(VLOOKUP($A3089,'Lista de Precios_Bolívares_S'!$F:$Q,12,FALSE),\"\")","v":""},"",{"$f":"IFERROR(VLOOKUP($A3089,'Lista de Precios_USD$_Euro€'!$E:$O,11,FALSE),\"\")","v":""}]
[null,null,null,{"$f":"IFERROR(VLOOKUP($A3090,'Lista de Precios_Bolívares_S'!$F:$Q,6,FALSE),\"\")","v":""},{"$f":"IFERROR(VLOOKUP($A3090,'Lista de Precios_Bolívares_S'!$F:$Q,12,FALSE),\"\")","v":""},"",{"$f":"IFERROR(VLOOKUP($A3090,'Lista de Precios_USD$_Euro€'!$E:$O,11,FALSE),\"\")","v":""}]
[null,null,null,{"$f":"IFERROR(VLOOKUP($A3091,'Lista de Precios_Bolívares_S'!$F:$Q,6,FALSE),\"\")","v":""},{"$f":"IFERROR(VLOOKUP($A3091,'Lista de Precios_Bolívares_S'!$F:$Q,12,FALSE),\"\")","v":""},"",{"$f":"IFERROR(VLOOKUP($A3091,'Lista de Precios_USD$_Euro€'!$E:$O,11,FALSE),\"\")","v":""}]
[null,null,null,{"$f":"IFERROR(VLOOKUP($A3092,'Lista de Precios_Bolívares_S'!$F:$Q,6,FALSE),\"\")","v":""},{"$f":"IFERROR(VLOOKUP($A3092,'Lista de Precios_Bolívares_S'!$F:$Q,12,FALSE),\"\")","v":""},"",{"$f":"IFERROR(VLOOKUP($A3092,'Lista de Precios_USD$_Euro€'!$E:$O,11,FALSE),\"\")","v":""}]
[null,null,null,{"$f":"IFERROR(VLOOKUP($A3093,'Lista de Precios_Bolívares_S'!$F:$Q,6,FALSE),\"\")","v":""},{"$f":"IFERROR(VLOOKUP($A3093,'Lista de Precios_Bolívares_S'!$F:$Q,12,FALSE),\"\")","v":""},"",{"$f":"IFERROR(VLOOKUP($A3093,'Lista de Precios_USD$_Euro€'!$E:$O,11,FALSE),\"\")","v":""}]
[null,null,null,{"$f":"IFERROR(VLOOKUP($A3094,'Lista de Precios_Bolívares_S'!$F:$Q,6,FALSE),\"\")","v":""},{"$f":"IFERROR(VLOOKUP($A3094,'Lista de Precios_Bolívares_S'!$F:$Q,12,FALSE),\"\")","v":""},"",{"$f":"IFERROR(VLOOKUP($A3094,'Lista de Precios_USD$_Euro€'!$E:$O,11,FALSE),\"\")","v":""}]
[null,null,null,{"$f":"IFERROR(VLOOKUP($A3095,'Lista de Precios_Bolívares_S'!$F:$Q,6,FALSE),\"\")","v":""},{"$f":"IFERROR(VLOOKUP($A3095,'Lista de Precios_Bolívares_S'!$F:$Q,12,FALSE),\"\")","v":""},"",{"$f":"IFERROR(VLOOKUP($A3095,'Lista de Precios_USD$_Euro€'!$E:$O,11,FALSE),\"\")","v":""}]
[null,null,null,{"$f":"IFERROR(VLOOKUP($A3096,'Lista de Precios_Bolívares_S'!$F:$Q,6,FALSE),\"\")","v":""},{"$f":"IFERROR(VLOOKUP($A3096,'Lista de Precios_Bolívares_S'!$F:$Q,12,FALSE),\"\")","v":""},"",{"$f":"IFERROR(VLOOKUP($A3096,'Lista de Precios_USD$_Euro€'!$E:$O,11,FALSE),\"\")","v":""}]
[null,null,null,{"$f":"IFERROR(VLOOKUP($A3097,'Lista de Precios_Bolívares_S'!$F:$Q,6,FALSE),\"\")","v":""},{"$f":"IFERROR(VLOOKUP($A3097,'Lista de Precios_Bolívares_S'!$F:$Q,12,FALSE),\"\")","v":""},{"$f":"IFERROR(IF(ROUND($C3097,2)=ROUND($D3072,2),ROUND($E3072,2),ROUND($C3097,2)),\"\")","v":""},{"$f":"IFERROR(VLOOKUP($A3097,'Lista de Precios_USD$_Euro€'!$E:$O,11,FALSE),\"\")","v":""}]
[null,null,null,{"$f":"IFERROR(VLOOKUP($A3098,'Lista de Precios_Bolívares_S'!$F:$Q,6,FALSE),\"\")","v":""},{"$f":"IFERROR(VLOOKUP($A3098,'Lista de Precios_Bolívares_S'!$F:$Q,12,FALSE),\"\")","v":""},"",{"$f":"IFERROR(VLOOKUP($A3098,'Lista de Precios_USD$_Euro€'!$E:$O,11,FALSE),\"\")","v":""}]
[null,null,null,{"$f":"IFERROR(VLOOKUP($A3099,'Lista de Precios_Bolívares_S'!$F:$Q,6,FALSE),\"\")","v":""},{"$f":"IFERROR(VLOOKUP($A3099,'Lista de Precios_Bolívares_S'!$F:$Q,12,FALSE),\"\")","v":""},"",{"$f":"IFERROR(VLOOKUP($A3099,'Lista de Precios_USD$_Euro€'!$E:$O,11,FALSE),\"\")","v":""}]
[null,null,null,{"$f":"IFERROR(VLOOKUP($A3100,'Lista de Precios_Bolívares_S'!$F:$Q,6,FALSE),\"\")","v":""},{"$f":"IFERROR(VLOOKUP($A3100,'Lista de Precios_Bolívares_S'!$F:$Q,12,FALSE),\"\")","v":""},"",{"$f":"IFERROR(VLOOKUP($A3100,'Lista de Precios_USD$_Euro€'!$E:$O,11,FALSE),\"\")","v":""}]
[null,null,null,{"$f":"IFERROR(VLOOKUP($A3101,'Lista de Precios_Bolívares_S'!$F:$Q,6,FALSE),\"\")","v":""},{"$f":"IFERROR(VLOOKUP($A3101,'Lista de Precios_Bolívares_S'!$F:$Q,12,FALSE),\"\")","v":""},"",{"$f":"IFERROR(VLOOKUP($A3101,'Lista de Precios_USD$_Euro€'!$E:$O,11,FALSE),\"\")","v":""}]
[null,null,null,{"$f":"IFERROR(VLOOKUP($A3102,'Lista de Precios_Bolívares_S'!$F:$Q,6,FALSE),\"\")","v":""},{"$f":"IFERROR(VLOOKUP($A3102,'Lista de Precios_Bolívares_S'!$F:$Q,12,FALSE),\"\")","v":""},"",{"$f":"IFERROR(VLOOKUP($A3102,'Lista de Precios_USD$_Euro€'!$E:$O,11,FALSE),\"\")","v":""}]
[null,null,null,{"$f":"IFERROR(VLOOKUP($A3103,'Lista de Precios_Bolívares_S'!$F:$Q,6,FALSE),\"\")","v":""},{"$f":"IFERROR(VLOOKUP($A3103,'Lista de Precios_Bolívares_S'!$F:$Q,12,FALSE),\"\")","v":""},"",{"$f":"IFERROR(VLOOKUP($A3103,'Lista de Precios_USD$_Euro€'!$E:$O,11,FALSE),\"\")","v":""}]
[null,null,null,{"$f":"IFERROR(VLOOKUP($A3104,'Lista de Precios_Bolívares_S'!$F:$Q,6,FALSE),\"\")","v":""},{"$f":"IFERROR(VLOOKUP($A3104,'Lista de Precios_Bolívares_S'!$F:$Q,12,FALSE),\"\")","v":""},"",{"$f":"IFERROR(VLOOKUP($A3104,'Lista de Precios_USD$_Euro€'!$E:$O,11,FALSE),\"\")","v":""}]
[null,null,null,{"$f":"IFERROR(VLOOKUP($A3105,'Lista de Precios_Bolívares_S'!$F:$Q,6,FALSE),\"\")","v":""},{"$f":"IFERROR(VLOOKUP($A3105,'Lista de Precios_Bolívares_S'!$F:$Q,12,FALSE),\"\")","v":""},"",{"$f":"IFERROR(VLOOKUP($A3105,'Lista de Precios_USD$_Euro€'!$E:$O,11,FALSE),\"\")","v":""}]
[null,null,null,{"$f":"IFERROR(VLOOKUP($A3106,'Lista de Precios_Bolívares_S'!$F:$Q,6,FALSE),\"\")","v":""},{"$f":"IFERROR(VLOOKUP($A3106,'Lista de Precios_Bolívares_S'!$F:$Q,12,FALSE),\"\")","v":""},"",{"$f":"IFERROR(VLOOKUP($A3106,'Lista de Precios_USD$_Euro€'!$E:$O,11,FALSE),\"\")","v":""}]
[null,null,null,{"$f":"IFERROR(VLOOKUP($A3107,'Lista de Precios_Bolívares_S'!$F:$Q,6,FALSE),\"\")","v":""},{"$f":"IFERROR(VLOOKUP($A3107,'Lista de Precios_Bolívares_S'!$F:$Q,12,FALSE),\"\")","v":""},"",{"$f":"IFERROR(VLOOKUP($A3107,'Lista de Precios_USD$_Euro€'!$E:$O,11,FALSE),\"\")","v":""}]
[null,null,null,{"$f":"IFERROR(VLOOKUP($A3108,'Lista de Precios_Bolívares_S'!$F:$Q,6,FALSE),\"\")","v":""},{"$f":"IFERROR(VLOOKUP($A3108,'Lista de Precios_Bolívares_S'!$F:$Q,12,FALSE),\"\")","v":""},"",{"$f":"IFERROR(VLOOKUP($A3108,'Lista de Precios_USD$_Euro€'!$E:$O,11,FALSE),\"\")","v":""}]
[null,null,null,{"$f":"IFERROR(VLOOKUP($A3109,'Lista de Precios_Bolívares_S'!$F:$Q,6,FALSE),\"\")","v":""},{"$f":"IFERROR(VLOOKUP($A3109,'Lista de Precios_Bolívares_S'!$F:$Q,12,FALSE),\"\")","v":""},"",{"$f":"IFERROR(VLOOKUP($A3109,'Lista de Precios_USD$_Euro€'!$E:$O,11,FALSE),\"\")","v":""}]
[null,null,null,{"$f":"IFERROR(VLOOKUP($A3110,'Lista de Precios_Bolívares_S'!$F:$Q,6,FALSE),\"\")","v":""},{"$f":"IFERROR(VLOOKUP($A3110,'Lista de Precios_Bolívares_S'!$F:$Q,12,FALSE),\"\")","v":""},"",{"$f":"IFERROR(VLOOKUP($A3110,'Lista de Precios_USD$_Euro€'!$E:$O,11,FALSE),\"\")","v":""}]
[null,null,null,{"$f":"IFERROR(VLOOKUP($A3111,'Lista de Precios_Bolívares_S'!$F:$Q,6,FALSE),\"\")","v":""},{"$f":"IFERROR(VLOOKUP($A3111,'Lista de Precios_Bolívares_S'!$F:$Q,12,FALSE),\"\")","v":""},"",{"$f":"IFERROR(VLOOKUP($A3111,'Lista de Precios_USD$_Euro€'!$E:$O,11,FALSE),\"\")","v":""}]
[null,null,null,{"$f":"IFERROR(VLOOKUP($A3112,'Lista de Precios_Bolívares_S'!$F:$Q,6,FALSE),\"\")","v":""},{"$f":"IFERROR(VLOOKUP($A3112,'Lista de Precios_Bolívares_S'!$F:$Q,12,FALSE),\"\")","v":""},"",{"$f":"IFERROR(VLOOKUP($A3112,'Lista de Precios_USD$_Euro€'!$E:$O,11,FALSE),\"\")","v":""}]

{"sheet":"CLIENTE","index":4,"n_rows":4747,"n_cols":49,"rows_kept":1125,"cut":true,"hidden":true,"merged":[],"bounds":{"rows_first":500,"rows_last":125,"rows_between":500,"halvings":2}}
["CodCliente","Vendedor","Razon_Social","Denominacion_Comercial","Apertura_Cliente","Nombre_De_la_Firma","Direccion_Fiscal1","Direccion_Fiscal2","Direccion_Fiscal3","Telefono1","Telefono2","Correo_Electronico_Cliente","DESTINO","ESTATUS3","ESTATUS2","ESTATUS1","ESTATUS_ACTUAL","REPRESENTANTE_LEGAL_1","REPRESENTANTE_LEGAL_2","REPRESENTANTE_LEGAL_3","Direccion_Entrega1","Direccion_Entrega2","Direccion_Entrega3","Estatus_5","Estatus_4","Telefono_1","Telefono_2","Observacion1","Observacion2","Dias_Caja","RIF_Cliente","No_Licencia_Licores","LimiteCredito","BLOQUEO","CodCondicionesPago","CondicionesPago","CodZona","Zona","Categoria","CodAreaPublicidad","AreaPublicidad","ListaDePrecio","DescListaDePrecio","ListaPrecio(Contrato)","DescListaPrecio(Contrato)","NoContenedor","CodVendedor","SupervisorVendedor","OBSERVACIONES "]
["10894358","71 - OFICINA","NELSON CENTENO","NELSON CENTENO"," ","NELSON CENTENO","ZONA INDUSTRIAL TERRINCA","GALPON 6-A GUATIRE","EDO.MIRANDA","(0212) 3444622"," "," ","GUATIRE"," "," "," "," ","NELSON CENTENO"," "," ","NELSON CENTENO","ZONA INDUSTRIAL TERRINCA GALPON 6-A","GUATIRE EDO. MIRANDA"," "," ","(0212) 3444622"," "," "," ",null,"V-1089435-8","PARTICULAR","1600","No","05","CREDITO 5 DIAS","71","OFICINA","07","31","PARTICULAR","01","OFF PREMISSE","01","OFF PREMISSE"," ","71","71 - OFICINA",{"$f":"CONCATENATE(AB2,\" \",AC2)","v":"   "}]
["115609951","71 - OFICINA","JOSE LUIS FERREIRA","JOSE LUIS FERREIRA"," ","JOSE LUIS FERREIRA","AV. FRANCISCO DE MIRANDA","EDIF, PARQUE CRISTAL TORRE ESTE,","PISO 8 OFIC 8-12"," "," "," ","CARACAS","LOS PALOS GRANDES"," "," "," "," "," "," ","JOSE LUIS FERREIRA","OFICINA LOS PALOS GRANDE","DINAMICA"," "," "," "," ","OFICINA LOS PALOS GRANDES","DINAMICA",null,"V-11560995-1","PARTICULAR","7500","No","05","CREDITO 5 DIAS","71","OFICINA","07","31","PARTICULAR","11","FRANQUICIAS PROLICOR,C.A.","11","FRANQUICIAS PROLICOR,C.A."," ","71","71 - OFICINA","OFICINA LOS PALOS GRANDES DINAMICA"]
["13824118","70 - COMPRA/PERSONAL","ADRIANA ALVES","ADRIANA ALVES"," ","ADRIANA ALVES","CALLE 10 CON 11 EDIF.","PLASENCIA LA URBINA"," ","0212-242.11.11"," "," ","CARACAS"," "," "," "," ","ADRIANA ALVES"," "," ","ADRIANA ALVES","CALLE 10 CON 11 EDIFICIO","PLASENCIA LA URBINA"," "," ","2421111"," "," "," ",null,"V-1382411-8","PARTICULAR","7500","No","00","CONTADO","70","PERSONAL EMPLEADO","07","25","EMPLEADOS","10","PROLICOR,C.A","10","PROLICOR,C.A"," ","70","70 - EMPLEADOS","   "]
["14757320","09 - CLIENTE INHABILITADO","THAINA LUNA","THAINA LUNA"," ","THAINA LUNA","QUINTA CRESPO RESIDENCIA IMATACA","AL LADO DE ELMESON DE JAVIER"," "," "," "," "," "," "," "," "," "," "," "," ","THAINA LUNA","QUITAN CRESPO RESIDENCIA IMATACA AL","LADO DE EL MENSO DE JAVIER"," "," "," "," "," "," ",null,"14757320"," ","89250","No","05","CREDITO 5 DIAS","09","CLIENTE INHABILITADO"," "," ",null,"00","ESTANDAR","00","ESTANDAR","09","09","71-OFICINA - OFF","   "]
["17531891","70 - COMPRA/PERSONAL","ANGEL MARTINEZ","ANGEL MARTINEZ","23-12-16","ANGEL MARTINEZ","ZONA INDUSTRIAL TERRINCA, GALPON Nº","6-A, GUATIRE EDO. MIRANDA"," ","0212-242.11.11"," "," ","CARACAS"," "," "," "," ","ANGEL MARTINEZ"," "," ","ANGEL MARTINEZ","ZONA INDUSTRIAL TERRINCA, GALPON Nº","6-A, GUATIRE EDO. MIRANDA"," "," ","0212-242.11.11"," ","EJECUTIVO DE VENTAS","VACACIONISTA",null,"V-1753189-1","PARTICULAR","1","No","00","CONTADO","70","PERSONAL EMPLEADO","07","25","EMPLEADOS","10","PROLICOR,C.A","10","PROLICOR,C.A","70","70","70 - EMPLEADOS","EJECUTIVO DE VENTAS VACACIONISTA"]
["295737025","09 - CLIENTE INHABILITADO","CENTRO HIPICO GRAN ESTEFANI 3001 CA","CENTRO HIPICO GRAN ESTEFANI 3001 CA"," ","CENTRO HIPICO GRAN ESTEFANI 3001 CA","CALLESEGUNDA DE VISTA ALEGRE EDIF","MAGO PISO PB APT LOCAL No 1 URB"," ","0212 242.23.46"," "," "," "," "," "," ","CLTE INHAB COD 09 240919 WP","JUAQUIN GONCALVES","DE SOUSA"," ","CENTRO HIPICO GRAN ESTEFANI 3001 CA"," "," "," "," ","0212. 472.23.46"," ","TRASPASO AL SUP 03","CARLOS DA SILVA 01-08-13",null,"J295737025","MM-767","15000","Sí","00","CONTADO","20","CENTRO DE CARACAS","05","23","ABASTOS PEQUEÑOS/BODEGAS","01","OFF PREMISSE","01","OFF PREMISSE","09","09","09 - CLIENTE INHABILITADO","TRASPASO AL SUP 03 CARLOS DA SILVA 01-08-13"]
["E001",null,"INDUSTRIA LICORERA DE CALDAS","INDUSTRIA LICORERA DE CALDAS"," ","INDUSTRIA LICORERA DE CALDAS"," "," "," "," "," "," "," "," "," "," "," "," "," "," ","INDUSTRIA LICORERA DE CALDAS"," "," "," "," "," "," "," "," ",null," ","E001","43750","No","21","CREDITO 21 DIAS"," ",null,"06"," ",null,"00","ESTANDAR","00","ESTANDAR"," ",""," ","   "]
["E001176784","09 - CLIENTE INHABILITADO","MANUEL DE FREITAS ASCENCAO","MANUEL DE FREITAS ASCENCAO"," ","MANUEL DE FREITAS ASCENCAO","SEGUNDA CALLE EL CEMENTERIO, BARRIO","AQUÍ ES. PARIATA. MAIQUETIA-LA GU","AIRA-EDO.VARGAS","(0212) 3322281","(0212) 3322281"," ","LA GUAIRA"," "," "," ","BAJA FRECUENCIA DE COMPRA 12/03/14","MANUEL DE FREITAS","ASCENCAO"," ","MANUEL DE FREITAS ASCENCAO","SEGUNDA CALLE EL CEMENTERIO, BARRIO","AQUÍ ES. PARIATA. MAIQUETIA-LA GU","AIRA-EDO.VARGAS"," ","(0212) 3322281"," "," "," ",null,"E-00117678-4","M-N 62","15000","Sí","00","CONTADO","14","LITORAL CENTRAL","05","23","ABASTOS PEQUEÑOS/BODEGAS","01","OFF PREMISSE","01","OFF PREMISSE"," ","09","09 - CLIENTE INHABILITADO","   "]
["E002",null,"SOGRAPE VINHOS","SOGRAPE VINHOS"," ","SOGRAPE VINHOS"," "," "," "," "," "," "," "," "," "," "," "," "," "," ","SOGRAPE VINHOS"," "," "," "," "," "," "," "," ",null," ","E002","43750","No","01","PREPAGO"," ",null,"06"," ",null,"00","ESTANDAR","00","ESTANDAR"," ",""," ","   "]
["E002203440","09 - CLIENTE INHABILITADO","ATILIO M. CICCARIELLO","ABASTOS CICCARIELLO"," ","ABASTOS CICCARIELLO","AVENIDA MARIA TERESA TORO ESQUNA","CUBA EDIF. CARLOS LOCAL \"A\" LAS","ACACIAS","(0212) 633-02-89"," "," ","CARACAS"," "," "," ","CAMBIO DE ZONA 24 A 09 250222 ST","ATILIO CICCARIELLO"," "," ","ABASTOS CICCARIELLO","AVENIDA MARIA TERESA TORO ESQUNA CU","CUBA EDIF. CARLOS LOCAL \"A\" LAS","ACACIAS"," ","(0212) 633-02-89"," ","RECIBE DE LUNES A VIERNES","11 AM  A 1 PM Y 3 A 5 PM","VIERNES","E-00220344-0","MN-4992","15000","No","05","CREDITO 5 DIAS","09","CLIENTE INHABILITADO","06","23","ABASTOS PEQUEÑOS/BODEGAS","01","OFF PREMISSE","01","OFF PREMISSE","09","09","09 - CLIENTE INHABILITADO","RECIBE DE LUNES A VIERNES 11 AM  A 1 PM Y 3 A 5 PM"]
["E003",null,"DE KUYPER ROYAL DISTILLERIES","DE KUYPER ROYAL DISTILLERIES"," ","DE KUYPER ROYAL DISTILLERIES"," "," "," "," "," "," "," "," "," "," "," "," "," "," ","DE KUYPER ROYAL DISTILLERIES"," "," "," "," "," "," "," "," ",null," "," ","43750","No","01","PREPAGO"," ",null,"06"," ",null,"00","ESTANDAR","00","ESTANDAR"," ",""," ","   "]
["E004",null,"ALIANCA-VINHOS DE PORTUGAL, S.A","ALIANCA-VINHOS DE PORTUGAL, S.A"," ","ALIANCA-VINHOS DE PORTUGAL, S.A"," "," "," "," "," "," "," "," "," "," "," "," "," "," ","ALIANCA-VINHOS DE PORTUGAL, S.A"," "," "," "," "," "," "," "," ",null," "," ","43750","No","01","PREPAGO"," ",null,"06"," ",null,"00","ESTANDAR","00","ESTANDAR"," ",""," ","   "]
["E005",null,"VIÑA MISIONES DE RENGO, S.A","VIÑA MISIONES DE RENGO, S.A"," ","VIÑA MISIONES DE RENGO, S.A"," "," "," "," "," "," "," "," "," "," "," "," "," "," ","VIÑA MISIONES DE RENGO, S.A"," "," "," "," "," "," "," "," ",null," "," ","43750","No","01","PREPAGO"," ",null,"06"," ",null,"00","ESTANDAR","00","ESTANDAR"," ",""," ","   "]
["E005065251","02 - REQUENA JOHAN - OFF","BODEGA COROMOTO","BODEGA COROMOTO"," ","BODEGA COROMOTO","CALLE EL PROGRESO Nº 15SAN PEDRO DE"," LOS ALTOS"," "," "," "," ","LOS TEQUES"," "," "," "," ","ANTONIO DE ABREU"," "," ","BODEGA COROMOTO","CALLE EL PROGRESO Nº 15SAN PEDRO DE"," LOS ALTOS"," "," "," "," "," "," ",null,"E-00506525-1","M-N 3643","89250","No","05","CREDITO 5 DIAS","25","LOS TEQUES","05","25","EMPLEADOS","01","OFF PREMISSE","01","OFF PREMISSE"," ","02"," ","   "]
["E006",null,"BODEGAS WILLIANS & HUMBERT S.A.U","BODEGAS WILLIANS & HUMBERT S.A.U"," ","BODEGAS WILLIANS & HUMBERT S.A.U"," "," "," "," "," "," "," "," "," "," "," "," "," "," ","BODEGAS WILLIANS & HUMBERT S.A.U"," "," "," "," "," "," "," "," ",null," "," ","43750","No","01","PREPAGO"," ",null,"06"," ",null,"00","ESTANDAR","00","ESTANDAR"," ",""," ","   "]
["E006389794","09 - CLIENTE INHABILITADO","VIRGILIO HERNANDEZ GARCIA","ABASTOS LILIBETTY"," ","VIRGILIO HERNANDEZ GARCIA","CARRETERA NACIONAL GUATIRE ARAIRAE","SECTOR EL DESVIO. ESTADO MIRANDA"," ","0212 - 341.29.29"," "," ","GUATIRE"," "," "," ","BLOQ.3CD 010813-040814","VIRGILIO H GARCIA","JOSE LUIS GUERRA"," ","ABASTOS LILIBETTY","CARRETERA NACIONAL GUATIRE ARAIRASE","CTOR EL DESVIO ARAIRA-EDO.MIRANDA"," "," ","0416 - 834.12.08"," ","NO RECIBE LOS VIERNES,","RECIBE EN LA MAÑANA","MIERCOLES","E-00638979-4","M-N 457","15000","Sí","00","CONTADO","11","GUARENAS","05","23","ABASTOS PEQUEÑOS/BODEGAS","01","OFF PREMISSE","01","OFF PREMISSE","09","09","09 - CLIENTE INHABILITADO","NO RECIBE LOS VIERNES, RECIBE EN LA MAÑANA"]
["E006704541","09 - CLIENTE INHABILITADO","FRANCISCO PINTO DA SILVA","FUENTE DE SODA FLOR DE CAMPO"," ","FRANCISCO PINTO DA SILVA","AVENIDA BARALT ENTRE ESQ. MIRANDA A","MADERERO EL SILENCIO"," ","(0212) 481.55.31","(0424) 247.49.29","franpintoh@hotmail.com","CARACAS"," "," ","CAMBIO DE ZONA 33 A 09 16/9/19 GT","CAMBIO V- 33 A V-09 17/09/2019","FRANCISCO PINTO DA S","ILVA"," ","FUENTE DE SODA FLOR DEL CAMPO","AVENIDA BARALT ENTRE ESQ. MIRANDA A","MADERERO EL SILENCIO"," ","2CD 011215/28/12/16 HP20 LA/HD"," "," ","RECIBE LOS VIERNES"," 9:00 AM A 7:00 PM","MIERCOLES","E-00670454-1","C 4844","0","Sí","00","CONTADO","09","CLIENTE INHABILITADO","04","06","BAR/TABER./S. BAR/PUB/TAS","02","ON PREMISSE","02","ON PREMISSE","09","09","09 - CLIENTE INHABILITADO","RECIBE LOS VIERNES  9:00 AM A 7:00 PM"]
["E006794141","02 - REQUENA JOHAN - OFF","LICORERIA OXIRIS","LICORERIA OXIRIS"," ","LICORERIA OXIRIS","AV PRINCIPAL PLAYA VERDE FRENTE PLA","CATIA LA MAR"," ","3526079"," "," ","LA GUAIRA"," "," "," "," ","JHONNY CASTELLANOS M","ARTINEZ"," ","LICORERIA OXIRIS","AV.PRINCIPAL PLAYA VERDE FRENTE","PLAYA CULITO CATIA LA MAR"," "," "," "," ","NO RECIBE LOS VIERNES","CAMBIO DE RIF POR J295864",null,"E-00679414-1","M-M 888","89250","No","00","CONTADO","02",null,"05"," ",null,"01","OFF PREMISSE","01","OFF PREMISSE"," ","02"," ","NO RECIBE LOS VIERNES CAMBIO DE RIF POR J295864"]
["E007",null,"VIÑA VALDIVIESO, S.A","VIÑA VALDIVIESO, S.A"," ","VIÑA VALDIVIESO, S.A"," "," "," "," "," "," "," "," "," "," "," "," "," "," ","VIÑA VALDIVIESO, S.A"," "," "," "," "," "," "," "," ",null," "," ","43750","No","01","PREPAGO"," ",null,"06"," ",null,"00","ESTANDAR","00","ESTANDAR"," ",""," ","   "]
["E007068797","09 - CLIENTE INHABILITADO","MANUEL BALSA RODRIGUEZ","ABASTOS EL CARMEN"," ","MANUEL BALSA RODRIGUEZ","CALLE EULALIA BUROZ. CON CALLE EL","CARMEN. CASA SIN NRO. SECTOR CALLE","EL CARMEN. MAMPORAL.","0234 - 3423663"," "," ","BARLOVENTO"," "," "," ","CAMBIO DE ZONA 12 A 09 020821 YP","MANUEL BALSA R"," "," ","ABASTOS EL CARMEN","CALLE EULALIA BUROZ. CON CALLE EL","CARMEN. CASA SIN NRO. SECTOR CALLE","EL CARMEN. MAMPORAL."," ","0234 3423663"," ","CERRADO MIERCOLES"," ","LUNES","E-00706879-7","M-N 331 M-Y","15000","No","05","CREDITO 5 DIAS","09","CLIENTE INHABILITADO","05","18","LICORERIAS/BODEGONES","02","ON PREMISSE","02","ON PREMISSE","09","09","09 - CLIENTE INHABILITADO","CERRADO MIERCOLES  "]
["E007690358","11 - PEREIRA GENARO","LICORERIA PORTO MONIZ,C.A.","LICORERIA PORTO MONIZ,C.A."," ","GONCALVES T JOSE F","FINAL CALLE AFRICA CON FRATERNIDADT","ACARIGUA DE MANPORAL-EDO.MIRANDA"," ","(0234) 342.10.35","(0414) 298.47.12","distportomonit@hotmail.com","BARLOVENTO"," "," "," CAMBIO DE ZONA 14 A 09 020821 YP","CAMBIO DE ZONA 09 A 12 26/06/23 YR","FERNANDO CONCARBE"," "," ","LICORERIA PORTO MONIZ,C.A.","FINAL CALLE AFRICA CON FRATERNIDADT","ACARIGUA DE MANPORAL-EDO.MIRANDA"," "," "," "," ","RECIBE LUNES A VIERNES"," 08:00 AM A 06:00 PM","LUNES","E-00769035-8","M-M 570","89250","No","05","CREDITO 5 DIAS","09","CLIENTE INHABILITADO","05","20","DELICATESES/FRIGO/CHARCUT","01","OFF PREMISSE","01","OFF PREMISSE","11","11","01 - GUERRERO SALVADOR - OFF","RECIBE LUNES A VIERNES  08:00 AM A 06:00 PM"]
["E008",null,"VITI-VINICOLA CERESER LTDA","VITI-VINICOLA CERESER LTDA"," ","VITI-VINICOLA CERESER LTDA"," "," "," "," "," "," "," "," "," "," "," "," "," "," ","VITI-VINICOLA CERESER LTDA"," "," "," "," "," "," "," "," ",null," "," ","43750","No","01","PREPAGO"," ",null,"06"," ",null,"00","ESTANDAR","00","ESTANDAR"," ",""," ","   "]
["E009",null,"AMERICO COELHO REIVAS SUCRE, S.A","AMERICO COELHO REIVAS SUCRE, S.A"," ","AMERICO COELHO REIVAS SUCRE, S.A"," "," "," "," "," "," "," "," "," "," "," "," "," "," ","AMERICO COELHO REIVAS SUCRE, S.A"," "," "," "," "," "," "," "," ",null," "," ","43750","No","01","PREPAGO"," ",null,"06"," ",null,"00","ESTANDAR","00","ESTANDAR"," ",""," ","   "]
["E009481616","71 - OFICINA","AMERICO CATANHO DA SILVA","AMERICO CATANHO DA SILVA"," ","AMERICO CATANHO DA SILVA","CALLE 10 CON 11 EDIF.PLASENCIA","LA URBINA"," ","(0212) 2421111"," "," ","CARACAS"," "," "," "," ","AMERICO CATANHO"," "," ","AMERICO CATANHO DA SILVA","CALLE 10 CON 11 EDIF PLASENCIA","LA URBINA"," "," ","(0212) 2421111"," ","DESPACHAR EN OFICINA"," ","CONTADO","E-00948161-6","PARTICULAR","15000","No","00","CONTADO","71","OFICINA","07","25","EMPLEADOS","19","SUCU-PROLI-CO-DISTR CILCA","19","SUCU-PROLI-CO-DISTR CILCA"," ","71","71 - OFICINA","DESPACHAR EN OFICINA  "]
["E009877420","02 - REQUENA JOHAN - OFF","JOSE M. CABRAL(ABASTO Y FRUT.BRISOL","JOSE M. CABRAL(ABASTO Y FRUT.BRISOL"," ","JOSE MARIA CABRAL(ABASTO Y FRUT.BRISOL)","AVENIDA BOLIVAR EDIFICIO NEVES LOCA","L Nº 3LOS TEQUES-MNPIO.GUAICAIPURO-","EDO.MIRANDA","3214303"," "," ","LOS TEQUES"," "," "," "," ","JOSE MARIA CABRAL"," "," ","JOSE M. CABRAL(ABASTO Y FRUT.BRISOL","AVENIDA BOLIVAR EDIFICIO NEVES LOCA","L Nº 3LOS TEQUES-MNPIO.GUAICAIPURO-","EDO.MIRANDA"," "," "," ","TRASPASO ZONA 02. SEGUN","SOLICITUD 22/02/11",null,"E-00987742-0","M-N 048","89250","No","05","CREDITO 5 DIAS","25","LOS TEQUES","05","23","ABASTOS PEQUEÑOS/BODEGAS","01","OFF PREMISSE","01","OFF PREMISSE"," ","02"," ","TRASPASO ZONA 02. SEGUN SOLICITUD 22/02/11"]
["E010",null,"ANGOSTURA LIMITED","ANGOSTURA LIMITED"," ","ANGOSTURA LIMITED"," "," "," "," "," "," "," "," "," "," "," "," "," "," ","ANGOSTURA LIMITED"," "," "," "," "," "," "," "," ",null," "," ","43750","No","01","PREPAGO"," ",null,"06"," ",null,"00","ESTANDAR","00","ESTANDAR"," ",""," ","   "]
["E010301036","09 - CLIENTE INHABILITADO","CRUZ MARIA TEJANO DE VALAY","LICORERIA CRUZ MARIA"," ","PICO PICO HUGO TAJANO","CARRETERA SANTA TERESA (LA RAIZA)","ENTRADA ACARACAS TUY=SECTOR","EL MANGUITO 3","0414-911.22.39"," "," ","VALLE DEL TUY"," "," "," "," ","HUGO TRAJANO PICO"," "," ","AB/ CRUZ MARIA TEJADA","CARRETERA SANTA TERESA (LA RAIZA)","ENTRADA ACARACAS TUY=SECTOR EL","MANGUITO 3"," "," "," ","TRASP.SUP.02 CARLOS G.","08-08-2013","MARTES","E-01030103-6","039 MN 34D","15000","Sí","00","CONTADO","14","LITORAL CENTRAL","05","18","LICORERIAS/BODEGONES","01","OFF PREMISSE","01","OFF PREMISSE"," ","09","09 - CLIENTE INHABILITADO","TRASP.SUP.02 CARLOS G. 08-08-2013"]
["E010310418","09 - CLIENTE INHABILITADO","ADELINO EUSEBIO CARDOSO BAPTISTA","ADELINO EUSEBIO CARDOSO BAPTISTA"," ","ADELINO EUSEBIO CARDOSO BAPTISTA (INVERSIONES BOULEVARD 24)","URBANIZACION CARTANAL VIEJO, CALLE","PRINCIPAL, LOCAL 30, SANTA TERESA","DEL TUY MUNICIPIO INDEPENDENCIA EDO","(0239) 232.13.19","(0412) 016.22.51"," ","STA TERESA DEL TUY","MIRANDA"," ","BLOQ MAYOR 46 DIAS SEGUI 240222 MYZ","CAMBIO DE ZONA 21 A 09 06/12/22 ST","ADELINO EUSEBIO","CARDOSO BAPTISTA"," ","INVERSIONES BOULEVARD 24","URBANIZACION CARTANAL,SECTOR 1,AVEN","IDA 4,CASA N°38,PASANDO AUTOMERCADO"," CARDOSO"," ","(0239) 232-13-12"," ","RECIBE LUNES A SABADO"," 9:00 AM A 9:00 PM","DE LUNES A VIERNES","E-01031041-8","039-MY-968","15000","Sí","05","CREDITO 5 DIAS","09","CLIENTE INHABILITADO","01","18","LICORERIAS/BODEGONES","01","OFF PREMISSE","01","OFF PREMISSE","09","09","09 - CLIENTE INHABILITADO","RECIBE LUNES A SABADO  9:00 AM A 9:00 PM"]
["E011",null,"SOVIDIS","SOVIDIS"," ","SOVIDIS"," "," "," "," "," "," "," "," "," "," "," "," "," "," ","SOVIDIS"," "," "," "," "," "," "," "," ",null," "," ","43750","No","01","PREPAGO"," ",null,"06"," ",null,"00","ESTANDAR","00","ESTANDAR"," ",""," ","   "]
["E012",null,"CHATEAU LOS BOLDOS LIMITADA","CHATEAU LOS BOLDOS LIMITADA"," ","CHATEAU LOS BOLDOS LIMITADA"," "," "," "," "," "," "," "," "," "," "," "," "," "," ","CHATEAU LOS BOLDOS LIMITADA"," "," "," "," "," "," "," "," ",null," "," ","43750","No","01","PREPAGO"," ",null,"06"," ",null,"00","ESTANDAR","00","ESTANDAR"," ",""," ","   "]
["E013","71 - OFICINA","WILLIAM GRANT & SONS DISTILLERS","WILLIAM GRANT & SONS DISTILLERS"," ","WILLIAM GRANT & SONS DISTILLERS LTD","CUSTOMER SERVICE CENTRE, PHOENIX","CRESCENT, STRATHCLYDE BUSINESS PAR","C BELLSHILL, SCOTLAND ML4 3AN"," "," "," "," "," "," "," "," "," "," "," ","WILLIAM GRANT & SONS DISTILLERS","CUSTOMER SERVICE CENTRE, PHOENIX","CRESCENT, STRATHCLYDE BUSINESS PAR","C BELLSHILL, SCOTLAND ML4 3AN"," "," "," "," "," ",null," "," ","999999999999999999","No","00","CONTADO","71","OFICINA","06","26","FINANCIEROS","00","ESTANDAR","00","ESTANDAR"," ","71"," ","   "]
["E014",null,"VITIVINICOLA DEL MAIPO S.A","VITIVINICOLA DEL MAIPO S.A"," ","VITIVINICOLA DEL MAIPO S.A"," "," "," "," "," "," "," "," "," "," "," ","VIVIANA HORTA"," "," ","VITIVINICOLA DEL MAIPO S.A"," "," "," "," "," "," "," "," ",null," "," ","43750","No","01","PREPAGO"," ",null,"06"," ",null,"00","ESTANDAR","00","ESTANDAR"," ",""," ","   "]
["E015",null,"DEL BUONO S.A","DEL BUONO S.A"," ","DEL BUONO S.A"," "," "," ","054-11-43746974"," "," "," "," "," "," "," "," "," "," ","DEL BUONO S.A"," "," "," "," "," "," "," "," ",null," "," ","43750","No","01","PREPAGO"," ",null,"06"," ",null,"00","ESTANDAR","00","ESTANDAR"," ",""," ","   "]
["E016",null,"FRATELLI BRANCA DESTILERIAS S.A","FRATELLI BRANCA DESTILERIAS S.A"," ","FRATELLI BRANCA DESTILERIAS S.A"," "," "," ","03327-442500"," "," "," "," "," "," "," "," "," "," ","FRATELLI BRANCA DESTILERIAS S.A"," "," "," "," "," "," "," "," ",null," "," ","43750","No","01","PREPAGO"," ",null,"06"," ",null,"00","ESTANDAR","00","ESTANDAR"," ",""," ","   "]
["E017",null,"LES CHAIS DU SUD","LES CHAIS DU SUD"," ","LES CHAIS DU SUD"," "," "," ","+33467809090"," "," "," "," "," "," "," "," "," "," ","LES CHAIS DU SUD"," "," "," "," "," "," "," "," ",null," "," ","43750","No","01","PREPAGO"," ",null,"06"," ",null,"00","ESTANDAR","00","ESTANDAR"," ",""," ","   "]
["E018","71 - OFICINA","DISTELL LIMITED","DISTELL LIMITED"," ","DISTELL LIMITED"," "," "," ","+2702108097000"," "," "," "," "," "," "," "," "," "," ","DISTELL LIMITED"," "," "," "," "," "," "," "," ",null," "," ","999999999999999999","No","00","CONTADO","71","OFICINA","06","26","FINANCIEROS","00","ESTANDAR","00","ESTANDAR"," ","71"," ","   "]
["E019",null,"JF HILLEBRAND","JF HILLEBRAND"," ","JF HILLEBRAND"," "," "," "," "," "," "," "," "," "," "," "," "," "," ","JF HILLEBRAND"," "," "," "," "," "," "," "," ",null," "," ","43750","No","01","PREPAGO"," ",null,"06"," ",null,"00","ESTANDAR","00","ESTANDAR"," ",""," ","   "]
["E020",null,"LEE PRIMIUM LTD","LEE PRIMIUM LTD"," ","LEE PRIMIUM LTD"," "," "," "," "," "," "," "," "," "," "," "," "," "," ","LEE PRIMIUM LTD"," "," "," "," "," "," "," "," ",null," "," ","43750","No","01","PREPAGO"," ",null,"06"," ",null,"00","ESTANDAR","00","ESTANDAR"," ",""," ","   "]
["E021",null,"HMA CREATIVE","HMA CREATIVE"," ","HMA CREATIVE"," "," "," "," "," "," "," "," "," "," "," "," "," "," ","HMA CREATIVE"," "," "," "," "," "," "," "," ",null," "," ","43750","No","01","PREPAGO"," ",null,"06"," ",null,"00","ESTANDAR","00","ESTANDAR"," ",""," ","   "]
["E022",null,"PETER MERTES GMGH & CO","PETER MERTES GMGH & CO"," ","PETER MERTES GMGH & CO"," "," "," "," "," "," "," "," "," "," "," "," "," "," ","PETER MERTES GMGH & CO"," "," "," "," "," "," "," "," ",null," "," ","43750","No","01","PREPAGO"," ",null,"06"," ",null,"00","ESTANDAR","00","ESTANDAR"," ",""," ","   "]
["E023",null,"AEROINFLABLES GROUP S.A C.I","AEROINFLABLES GROUP S.A C.I"," ","AEROINFLABLES GROUP S.A C.I"," "," "," "," "," "," "," "," "," "," "," "," "," "," ","AEROINFLABLES GROUP S.A C.I"," "," "," "," "," "," "," "," ",null," "," ","43750","No","01","PREPAGO"," ",null,"06"," ",null,"00","ESTANDAR","00","ESTANDAR"," ",""," ","   "]
["E024",null,"CARIBBEAN LABEL CRAFTS LTD","CARIBBEAN LABEL CRAFTS LTD"," ","CARIBBEAN LABEL CRAFTS LTD"," "," "," "," "," "," "," "," "," "," "," "," "," "," ","CARIBBEAN LABEL CRAFTS LTD"," "," "," "," "," "," "," "," ",null," "," ","43750","No","01","PREPAGO"," ",null,"06"," ",null,"00","ESTANDAR","00","ESTANDAR"," ",""," ","   "]
["E025",null,"BODEGAS TAMARI S.A","BODEGAS TAMARI S.A"," ","BODEGAS TAMARI S.A"," "," "," "," "," "," "," "," "," "," "," "," "," "," ","BODEGAS TAMARI S.A"," "," "," "," "," "," "," "," ",null," "," ","43750","No","01","PREPAGO"," ",null,"06"," ",null,"00","ESTANDAR","00","ESTANDAR"," ",""," ","   "]
["E026",null,"BODEGAS FRANCO-ESPAÑOLAS, S.A","BODEGAS FRANCO-ESPAÑOLAS, S.A"," ","BODEGAS FRANCO-ESPAÑOLAS, S.A"," "," "," "," "," "," "," "," "," "," "," "," "," "," ","BODEGAS FRANCO-ESPAÑOLAS, S.A"," "," "," "," "," "," "," "," ",null," "," ","43750","No","01","PREPAGO"," ",null,"06"," ",null,"00","ESTANDAR","00","ESTANDAR"," ",""," ","   "]
["E027",null,"FEDERICO PATERNINA, S.A","FEDERICO PATERNINA, S.A"," ","FEDERICO PATERNINA, S.A"," "," "," "," "," "," "," "," "," "," "," "," "," "," ","FEDERICO PATERNINA, S.A"," "," "," "," "," "," "," "," ",null," "," ","43750","No","01","PREPAGO"," ",null,"06"," ",null,"00","ESTANDAR","00","ESTANDAR"," ",""," ","   "]
["E028",null,"SABIA, S.A","SABIA, S.A"," ","SABIA, S.A"," "," "," "," "," "," "," "," "," "," "," "," "," "," ","SABIA, S.A"," "," "," "," "," "," "," "," ",null," "," ","43750","No","01","PREPAGO"," ",null,"06"," ",null,"00","ESTANDAR","00","ESTANDAR"," ",""," ","   "]
["E029",null,"SOCIETE DES VINS EL SPIRITUEUX LAMA","SOCIETE DES VINS EL SPIRITUEUX LAMA"," ","SOCIETE DES VINS EL SPIRITUEUX LAMA"," "," "," "," "," "," "," "," "," "," "," "," "," "," ","SOCIETE DES VINS EL SPIRITUEUX LAMA"," "," "," "," "," "," "," "," ",null," "," ","43750","No","01","PREPAGO"," ",null,"06"," ",null,"00","ESTANDAR","00","ESTANDAR"," ",""," ","   "]
["E030",null,"BELOW ZERO MARKETING","BELOW ZERO MARKETING"," ","BELOW ZERO MARKETING"," "," "," "," "," "," "," "," "," "," "," "," "," "," ","BELOW ZERO MARKETING"," "," "," "," "," "," "," "," ",null," "," ","43750","No","01","PREPAGO"," ",null,"06"," ",null,"00","ESTANDAR","00","ESTANDAR"," ",""," ","   "]
["E031",null,"VIÑA SAN PEDRO TARAPACA S.A","VIÑA SAN PEDRO TARAPACA S.A"," ","VIÑA SAN PEDRO TARAPACA S.A","VITACURA 2670 P16","VITACURA - SANTIAGO - CHILE"," "," "," ","SWIFT MPANPAPA ABA 026002561 DIRECCION TORRES DE LAS AMERICAS, PUNTA PACIFICA CIUDAD PANAMA REPUBLICA DE PANAMA"," "," "," "," "," "," "," "," ","VIÑA SAN PEDRO TARAPACA S.A"," "," "," "," "," "," ","BANCO MERCANTIL, S.A","CUENTA 30025400",null," "," ","43750","No","01","PREPAGO"," ",null,"06"," ",null,"00","ESTANDAR","00","ESTANDAR"," ",""," ","BANCO MERCANTIL, S.A CUENTA 30025400"]
["E032",null,"BODEGAS Y VIÑEDOS CORDORNIU RAVENT","BODEGAS Y VIÑEDOS CORDORNIU RAVENT"," ","BODEGAS Y VIÑEDOS CORDORNIU RAVENT"," "," "," "," "," "," "," "," "," "," "," "," "," "," ","BODEGAS Y VIÑEDOS CORDORNIU RAVENT"," "," "," "," "," "," "," "," ",null," "," ","43750","No","01","PREPAGO"," ",null,"06"," ",null,"00","ESTANDAR","00","ESTANDAR"," ",""," ","   "]
["E033",null,"CODORNIU ESPAÑA, S.A.","CODORNIU ESPAÑA, S.A."," ","CODORNIU ESPAÑA, S.A.","AVINGUDA DELS PAISOS CATALANS 38","2º E-08950. ESPLUGUES DE LLOBREGAT","(BCN), SPAIN","+34935051564","+34938910850","f.serrat@codorniu.com"," "," "," "," "," ","FELIP SERRAT"," "," ","CODORNIU ESPAÑA, S.A."," "," "," "," "," "," ","a.casanovas@codorniu.es"," ",null," "," ","43750","No","01","PREPAGO"," ",null,"06"," ",null,"00","ESTANDAR","00","ESTANDAR"," ",""," ","a.casanovas@codorniu.es  "]
["E034",null,"INFORMATICS SYSTEMS NYC, INS","INFORMATICS SYSTEMS NYC, INS"," ","INFORMATICS SYSTEMS NYC, INS"," "," "," "," "," "," "," "," "," "," "," "," "," "," ","INFORMATICS SYSTEMS NYC, INS"," "," "," "," "," "," "," "," ",null," "," ","43750","No","01","PREPAGO"," ",null,"06"," ",null,"00","ESTANDAR","00","ESTANDAR"," ",""," ","   "]
["E035",null,"FINCA LA CELIA, C.A.","FINCA LA CELIA, C.A."," ","FINCA LA CELIA, C.A."," "," "," "," "," "," "," "," "," "," "," "," "," "," ","FINCA LA CELIA, C.A."," "," "," "," "," "," "," "," ",null," "," ","43750","No","01","PREPAGO"," ",null,"06"," ",null,"00","ESTANDAR","00","ESTANDAR"," ",""," ","   "]
["E036",null,"TAPOPLASTIC DE ARANDAS SA DE CV","TAPOPLASTIC DE ARANDAS SA DE CV"," ","TAPOPLASTIC DE ARANDAS SA DE CV"," "," "," "," "," "," "," "," "," "," "," "," "," "," ","TAPOPLASTIC DE ARANDAS SA DE CV"," "," "," "," "," "," "," "," ",null," "," ","43750","No","01","PREPAGO"," ",null,"06"," ",null,"00","ESTANDAR","00","ESTANDAR"," ",""," ","   "]
["E037",null,"VIÑA CASAL DE GORCHS","VIÑA CASAL DE GORCHS"," ","VIÑA CASAL DE GORCHS"," "," "," "," "," "," "," "," "," "," "," "," "," "," ","VIÑA CASAL DE GORCHS"," "," "," "," "," "," "," "," ",null," "," ","43750","No","01","PREPAGO"," ",null,"06"," ",null,"00","ESTANDAR","00","ESTANDAR"," ",""," ","   "]
["E038",null,"CODORNIU ARGENTINA S.A.","CODORNIU ARGENTINA S.A."," ","CODORNIU ARGENTINA S.A.","TALCAHUANO 833 Piso:8 Dpto:B","1013-CIUDAD AUTONOMA BUENOS AIRES."," ","+54 261 4989554"," ","e.viluron@codorniu.com"," "," "," "," "," ","ELIZABETH VILORUN"," "," ","CODORNIU ARGENTINA S.A."," "," "," "," "," "," "," "," ",null," "," ","43750","No","01","PREPAGO"," ",null,"06"," ",null,"00","ESTANDAR","00","ESTANDAR"," ",""," ","   "]
["E039",null,"GEPROCOR SAM","GEPROCOR SAM"," ","GEPROCOR SAM"," "," "," "," "," "," "," "," "," "," "," "," "," "," ","GEPROCOR SAM"," "," "," "," "," "," "," "," ",null," "," ","43750","No","01","PREPAGO"," ",null,"06"," ",null,"00","ESTANDAR","00","ESTANDAR"," ",""," ","   "]
["E040",null,"TOG INTERNATIONAL SERVICES LTD","TOG INTERNATIONAL SERVICES LTD"," ","TOG INTERNATIONAL SERVICES LTD"," "," "," "," "," "," "," "," "," "," "," "," "," "," ","TOG INTERNATIONAL SERVICES LTD"," "," "," "," "," "," "," "," ",null," "," ","43750","No","01","PREPAGO"," ",null,"06"," ",null,"00","ESTANDAR","00","ESTANDAR"," ",""," ","   "]
["E041",null,"CHANGSHU JIANHUA MOULD TECHNOLOGYC","CHANGSHU JIANHUA MOULD TECHNOLOGYC"," ","CHANGSHU JIANHUA MOULD TECHNOLOGYC"," "," "," "," "," "," "," "," "," "," "," "," "," "," ","CHANGSHU JIANHUA MOULD TECHNOLOGYC"," "," "," "," "," "," "," "," ",null," "," ","43750","No","01","PREPAGO"," ",null,"06"," ",null,"00","ESTANDAR","00","ESTANDAR"," ",""," ","   "]
["E1067827","36  CLIENT-CORPORAT-OFIC.","MANUEL PEREIRA","MANUEL PEREIRA"," ","MANUEL PEREIRA","PRADOS DEL ESTE"," "," ","0414-277-4987","120219"," ","CARACAS"," "," "," "," ","LUCY DE ABREU"," "," ","MANUEL PEREIRA","CALLE 10 CON ESQUINA CALLE 11","EDF PLASENCIA  LA URBINA","PETARE ESTADO MIRANDA"," ","04142774987"," ","RECIBE DE LUNES A VIERNES","DE 8:00 AM A 4:00 PM","JUEVES Y VIERNES","E-1067827","PARTICULAR","89250","No","05","CREDITO 5 DIAS","36","VTAS.CORPORATIVAS","07","31","PARTICULAR","01","OFF PREMISSE","01","OFF PREMISSE","36","36"," ","RECIBE DE LUNES A VIERNES DE 8:00 AM A 4:00 PM"]
["E736968","71 - OFICINA","MONICA BRANDES","MONICA BRANDES"," ","MONICA BRANDES","TERRAZAS DEL AVILA"," "," "," ","20/05/19"," "," "," "," "," "," ","LUCY DE ABREU"," "," ","MONICA BRANDES","LA URBINA CALLE 10 CON CALLE 11","EDF. PLASENCIA LA URBINA","MNC. SUCRE PETARE  ESTADO MIRANDA"," "," "," ","RECIBE DE LUNES A VIERNES","DE 8 AM A 4 PM",null,"E-73696-8","PARTICULAR","7500","No","00","CONTADO","71","OFICINA","07","31","PARTICULAR","01","OFF PREMISSE","01","OFF PREMISSE","71","71","71 - OFICINA","RECIBE DE LUNES A VIERNES DE 8 AM A 4 PM"]
["E803391044","09 - CLIENTE INHABILITADO","QUAN FENG FENG","BAR REST. LA FAVORITA CHINA 952"," ","QUANFENG FENG(B/R/LA FAVORITA CHINA 952)","AVENIDA RAFAEL AREVALO GONCALEZMNCP",".PAEZ-RIO CHICO-EDO.MIRANDA"," ","414/3447929"," "," ","RIO CHICO"," "," "," "," ","QUAN FENG FENG"," "," ","BAR REST. LA FAVORITA CHINA 952","AVENIDA RAFAEL AREVALO GONCALEZMNCP",".PAEZ-RIO CHICO-EDO.MIRANDA"," "," "," "," "," "," ",null,"E-80339104-4","M-N 1155","15000","Sí","00","CONTADO","12","BARLOVENTO","04","07","RESTAURANTES","01","OFF PREMISSE","01","OFF PREMISSE","09","09","09 - CLIENTE INHABILITADO","   "]
["E805846847","13 - GUDIÑO FABIAN","JUVENAL FERREIRA DE ABREU","SUPERMERCADO ACUARIO"," ","JUVENAL FERREIRA DE ABREU","AVENIDA TAMANACO CON CALLE TIUNA,","EDIF.CASTELMONTE LOCAL B-1 EL","LLANITO PETARE EDO.MIRANDA.","(0212) 257.72.97","(0424) 209.69.55"," ","CARACAS"," "," "," "," ","JUVENAL FERREIRA DE","ABREU"," ","SUPERMERCADO ACUARIO","AVENIDA TAMANACO CON CALLE TIUNA,","EDIF.CASTELMONTE LOCAL B-1 EL","LLANITO PETARE EDO.MIRANDA."," ","0212-257.72.97"," ","RECIBE LUNES A VIERNES"," 9:00 AM A 4:00 PM","MARTES","E-80584684-7","00043/2019","89250","No","05","CREDITO 5 DIAS","13","PETARE","05","23","ABASTOS PEQUEÑOS/BODEGAS","01","OFF PREMISSE","01","OFF PREMISSE","13","13","01 - CARLOS DA SILVA - OFF","RECIBE LUNES A VIERNES  9:00 AM A 4:00 PM"]
["E81044373","60 - SKO CARVAJAL EDUARDO","SORIA VARGAS LUIS ALBERTO","NULL"," ","SORIA VARGAS LUIS ALBERTO","ZONA INDUSTRIAL TERRINCA GALPON 6-A","GUATIRE-MNCP.AUTONOMO ZAMORA-EDO.MI","RANDA","0414/2505555"," "," ","CARACAS"," "," "," "," ","SORIA VARGAS LUIS AL","BERTO"," ","NULL","ZONA INDUSTRIAL TERRINCA GALPON 6-A","GUATIRE-MNCP.AUTONOMO ZAMORA-EDO.MI","RANDA"," "," "," "," "," ",null,"E-E8104437-3","PARTICULAR","0","Sí","00","CONTADO","60",null,"05","25","EMPLEADOS","01","OFF PREMISSE","01","OFF PREMISSE"," ","60"," ","   "]
["E810566550","09 - CLIENTE INHABILITADO","JOSE GONCALVES RABIM","ABASTOS LOS GUAYABITOS"," ","JOSE MANUEL REIS F.(AB.LOS GUAYABITOS)","CARRETERA LOS GUAYABITOS BARUTABARU","TA"," "," "," "," ","CARACAS"," "," ","BLOQ. CLIENTE MOROSO","BAJA FRECUENCIA DE COMPRA 12/03/14","JOSE MANUEL REIS FER","NANDEZ"," ","ABASTOS LOS GUAYABITOS","CARRETERA LOS GUAYABITOS BARUTABARU","TA"," "," "," "," "," "," ",null,"E-81056655-0","M-N 5643","15000","Sí","00","CONTADO","15","BARUTA","05","23","ABASTOS PEQUEÑOS/BODEGAS","01","OFF PREMISSE","01","OFF PREMISSE","09","09","09 - CLIENTE INHABILITADO",{"$f":"CONCATENATE(AB66,\" \",AC66)","v":"   "}]
["E810721483","09 - CLIENTE INHABILITADO","DUARTE SAMUEL NEVES DA SIVA","DUARTE SAMUEL NEVES DA SIVA"," ","ABASTOMLOS ALMENDRONES DE CUA","CALLE PRINCIPAL DE QDA DE CUA","ABASTO LOS ALMENDRONES","CTA RESV ARAGUANEY","02392128652"," "," ","CUA"," "," "," "," ","DUARTE S. DA SILVA","NEVES ANTONIO VICENT"," ","DUARTE SAMUEL NEVES DA SILVA","CALLE PRINCIPAL DE QDA DE CUA","CTO RES ARAGUANEY","ABASTO LOS ALMENDRONES"," ","02392128652"," ","PASADO ZONA 01.SUP JHONNY","R. S/SOLIC DEL 11/03/11",null,"E-81072148-3","M-N567","15000","No","05","CREDITO 5 DIAS","14","LITORAL CENTRAL","05","18","LICORERIAS/BODEGONES","01","OFF PREMISSE","01","OFF PREMISSE"," ","09","09 - CLIENTE INHABILITADO","PASADO ZONA 01.SUP JHONNY R. S/SOLIC DEL 11/03/11"]
["E81104219","71 - OFICINA","HELIO MACIEL DE ASSIS","HELIO MACIEL DE ASSIS","17/12/2021","HELIO MACIEL DE ASSIS","AV. JOSE ANTONIO PAEZ, RESIDENCIAS","BOSQUE PINAR EL PARAISO CARACAS"," "," "," "," "," "," "," "," "," "," "," "," ","HELIO MACIEL DE ASSIS","AV. JOSE ANTONIO PAEZ, RESIDENCIAS","BOSQUE PINAR EL PARAISO CARACAS"," "," "," "," "," "," ",null,"E-8110421-9"," ","15000","No","00","CONTADO","71","OFICINA","07"," ",null,"00","ESTANDAR","00","ESTANDAR","71","71","71 - EMPRESA","   "]
["E811715886","09 - CLIENTE INHABILITADO","FELIPE MANUEL BARBOSA","DISTRIBUIDORA COCO FRIO"," ","FELIPE M.BARBOSA TEIXEIRA(DIST.COCO FRIO","AVENIDA BARLOVENTO ENTRADA DE HIGUE","ROTEHIGUEROTE MUNICIPO BRION"," "," "," "," ","HIGUEROTE"," "," "," "," ","FELIPE MANUEL BARBOS","A"," ","DISTRIBUIDORA COCO FRIO","AVENIDA BARLOVENTO ENTRADA DE HIGUE","ROTEHIGUEROTE MUNICIPO BRION"," "," "," "," ","CAMBIO DE RAZON","POR J299156728",null,"E-81171588-6","M-M 667","15000","No","00","CONTADO","12","BARLOVENTO","05","18","LICORERIAS/BODEGONES","01","OFF PREMISSE","01","OFF PREMISSE"," ","09","09 - CLIENTE INHABILITADO","CAMBIO DE RAZON POR J299156728"]
["E811725067","02 - REQUENA JOHAN - OFF","MANUEL FERNANDEZ L. (AB MONTOVANI)","ABASTOS MANTOVANI"," ","MANUEL FERNANDEZ L. (ABASTOS MONTOVANI)","AVENIDA ATLANTICO,ENTRE 6TA Y 7MA A","VENIDAFRENTE A  CAUCHOS PIRELLI CAT","IA"," "," "," ","CARACAS"," "," "," "," ","FERNANDEZ LUCAS MANU","EL"," ","ABASTOS MANTOVANI","AVENIDA ATLANTICO,ENTRE 6TA Y 7MA A","VENIDAFRENTE A  CAUCHOS PIRELLI CAT","IA"," "," "," ","TRASP. SUP 02-CARLOS GON.","S/S FECHA 02/08/2013",null,"E-81172506-7","M-N 4403","89250","Sí","05","CREDITO 5 DIAS","22","CATIA-JUNQUITO","05","23","ABASTOS PEQUEÑOS/BODEGAS","01","OFF PREMISSE","01","OFF PREMISSE"," ","02"," ","TRASP. SUP 02-CARLOS GON. S/S FECHA 02/08/2013"]
["E811747630","21 - CAÑONGO SAUL","MARCELINO DE ABREU","MARC. DE ABREU(C/SOU VENIR EL VAIVE"," ","MARCELINO DE ABREU(C/SOU VENIR EL VAIVEN","AVENIDA LAMAS N-24.FRENTE S/M CENTR","AL TUY SANTA TERESA"," ","(0239) 231.10.11","(0414) 106.60.89"," ","STA. TERESA"," "," "," "," ","MARCELINO DE ABREU"," "," ","MARC. DE ABREU(C/SOU VENIR EL VAIVE","AVENIDA LAMAS N-24.FRENTE S/M CENTR","AL TUYSANTA TERESA"," "," ","(0239) 231-10-11"," ","RECIBE  LUNES A VIERNES"," 9:00 AM A 6:00 PM","MARTES","E-81174763-0","039-MY-948","89250","No","05","CREDITO 5 DIAS","27","VALLES DEL TUY-27","06","23","ABASTOS PEQUEÑOS/BODEGAS","01","OFF PREMISSE","01","OFF PREMISSE","21","21","02 - VICTOR TORRES - OFF","RECIBE  LUNES A VIERNES  9:00 AM A 6:00 PM"]
["E811747648","09 - CLIENTE INHABILITADO","DE ABREU JOSE SEVERINO","ABASTOS MONTE CLARO"," ","DE ABREU JOSE SEVERINO","CALLE BOLIVAR ENTRADA AL PUEBLOCUPI","RA"," ","(0234)887.91.53"," "," ","BARLOVENTO"," "," "," "," ","DE ABREU JOSE SEVERI","NO"," ","ABASTOS MONTE CLARO","CALLE BOLIVAR ENTRADA AL PUEBLOCUPI","RA"," "," ","(0234)887.91.53"," ","CLIENTE EN CUPIRA C/ZONA","SUP-01 S/S FECHA 23/07/13",null,"E-81174764-8","039 MN 780","15000","Sí","00","CONTADO","12","BARLOVENTO","05","23","ABASTOS PEQUEÑOS/BODEGAS","01","OFF PREMISSE","01","OFF PREMISSE"," ","09","09 - CLIENTE INHABILITADO","CLIENTE EN CUPIRA C/ZONA SUP-01 S/S FECHA 23/07/13"]
["E812141158","09 - CLIENTE INHABILITADO","ABASTOS CENELDA F.P, CECILIA PEREIR","ABASTOS CENELDA F.P, CECILIA PEREIR"," ","ABASTOS CENELDA F.P, CECILIA PEREIR","KM.1 CARRETERA PETARE SANTA LUCIA C","ERCA OFICINASCENTRAL MADEIRENSE PET","ARE"," "," "," ","CARACAS"," "," "," ","CAMBIO DE ZONA DE 13 A 09 141021 ST","CECILIA PEREIRA S."," "," ","ABASTOS CENELDA F.P, CECILIA PEREIR","KM.1 CARRETERA PETARE SANTA LUCIA C","ERCA OFICINASCENTRAL MADEIRENSE PET","ARE"," "," "," ","RECIDE DE LUNES A VIERNES","9:00 AM A 4:00 PM","LUNES","E812141158","M-N6642","15000","No","05","CREDITO 5 DIAS","09","CLIENTE INHABILITADO","05","23","ABASTOS PEQUEÑOS/BODEGAS","01","OFF PREMISSE","01","OFF PREMISSE","09","09","09 - CLIENTE INHABILITADO","RECIDE DE LUNES A VIERNES 9:00 AM A 4:00 PM"]
["E812359277","09 - CLIENTE INHABILITADO","JOSE DOMINGO LEANDRO  DE SOUSA","INVERSIONES EL NOGAL J.D.L."," ","JOSE DOMINGO LEANDRO  DE SOUSA","CARRETERA NACIONAL PETARE-STA.LUCIA","SECTOR EL NOGAL, LOCAL S/N, SANTA","LUCIA EDO. MIRANDA","0416 - 824.48.68"," "," ","SANTA LUCIA"," "," ","NO QUIERE COMPRAR MAS 10/03/2014","CAMBIO A LA ZONA 09 23-09-19 YM","LEANDRO JOSE"," "," ","INVERSIONES EL NOGAL J.D. L.","CARRETERA NACIONAL PETARE-STA.LUCIA","SECTOR EL NOGAL, LOCAL S/N, SANTA","LUCIA EDO. MIRANDA"," ","0416 - 824.48.68"," ","RECIBE DE LUNES A JUEVES","A PARTIR DE LAS 9:00 AM","MARTES","E-81235927-7","P-00117","15000","Sí","00","CONTADO","21","VALLES DEL TUY-21","06","18","LICORERIAS/BODEGONES","01","OFF PREMISSE","01","OFF PREMISSE","09","09","09 - CLIENTE INHABILITADO","RECIBE DE LUNES A JUEVES A PARTIR DE LAS 9:00 AM"]
["E81238829","09 - CLIENTE INHABILITADO","EDUARDO DO ROSARIO FELIX PITA","EDUARDO DO ROSARIO FELIX PITA"," ","EDUARDO DO ROSARIO FELIX PITA","AV AUGUSTO CESAR SANDINO CON ESQUIN","ANDRES BELLO (HERMANDAD GALLEGAS )","URB MARI PEREZ"," ","14/01/19"," ","MUNICIPIO LIBERTADOR","MUNICIPIO LIBERTADOR CARACAS"," ","CAMBIO DE Z30 A Z33 13/2/19 YR","CAMBIO DE ZONA 33 A 09 16/9/19 GT","FELIX PITA EDUARDO"," "," ","EDUARDO DO ROSARIO FELIX PITA","LA URBINA CALLE 10 CON CALLE 11","EDF PLASENCIA MUNICIPIO SUCRE","ESTADO MIRANDA","ESTREGAR AL SEÑOR CARLOS CARREIRA"," "," ","RECIBE DE LUNES A VIERNES","DE 8:00 AM A 3:30 PM","MARTES Y VIERNES","E-8123882-9","PARTICULAR","0","Sí","00","CONTADO","09","CLIENTE INHABILITADO","07","33","RELACIONADOS","02","ON PREMISSE","02","ON PREMISSE","09","09","09 - CLIENTE INHABILITADO","RECIBE DE LUNES A VIERNES DE 8:00 AM A 3:30 PM"]
["E812416459","09 - CLIENTE INHABILITADO","FRANCISCO RIBEIRO GONCALVES","FRUTERIA CHARCUTERIA LA VIA 28"," ","FRUTERIA CHARCUTERIA LA VIA 28","CARRETERA VIA BARUTA EL HATILLO.","SECTOR SEMINARIO SAN JOSE","PARCELA S/N.","0212-961.12.54","0414-908.43.46"," ","CARACAS"," "," "," ","BAJA FRECUENCIA DE COMPRA 21/01/14","FRANCISCO SILVINO","C.I E81241645"," ","FRUTERIA LA VIA","CARRETERA VIA BARUTA EL HATILLO.","SECTOR SEMINARIO SAN JOSE PARCELA","S/N (AL LADO DE PIRELLI)"," ","0212-961.12.54"," "," "," ",null,"E-81241645-9","TRAMITE","15000","Sí","00","CONTADO","15","BARUTA","01","02","DE LICORES S/FZA DE VTA","01","OFF PREMISSE","01","OFF PREMISSE"," ","09","09 - CLIENTE INHABILITADO","   "]
["E812473363","25 - OCAMPO O. ROMAY","SANCHO PINTO DE FARIAS","ABASTOS Y FRUTERIA DON SANCHO"," ","SANCHO DE FARIA P.(FRUT.VIV Y LIC DON S.","CALLE GUAICAIPURO CON PAEZ RESD.PAE","ZPLAZA PISO 1-GUAICAIPURO-LOS TEQUE","S","(0212) 364.33.33"," ","licoreriadonsancho@hotmail.com","LOS TEQUES"," "," "," "," ","SANCHO D`FARIAS PINT","O"," ","ABASTOS Y FRUTERIA DON SANCHO","AVENIDA BOLIVAR NRO. 32","LOS TEQUES EDO. MIRANDA"," "," ","(0212) 364-33-33"," ","RECIBE  LUNES A VIERNES"," 9 AM A 12 - 2 PM A 5 PM","MARTES","E-81247336-3","032-MN-086","89250","No","05","CREDITO 5 DIAS","25","LOS TEQUES","05","23","ABASTOS PEQUEÑOS/BODEGAS","01","OFF PREMISSE","01","OFF PREMISSE","25","25","02 - VICTOR TORRES - OFF","RECIBE  LUNES A VIERNES  9 AM A 12 - 2 PM A 5 PM"]
["E812826649","20 - DIEGO MANUEL","JOAO EMILIO PEREIRA GONCALVES","SUPERMERCADO LA LLAVE DE ORO","230922 FL","JOAO EMILIO PEREIRA GONCALVES","AV FRANCISCO JAVIER YANEZ. CASA #45","SAN BERNARDINO CARACAS DTTO.","CAPITAL. DETRAS DEL IUTI","0212-551.36.82"," ","JOAOPEREIRA3344@GMAIL.COM"," ","SAN BERNARDINO"," "," "," ","JOAO EMILIO PEREIRA"," "," ","JOAO EMILIO PEREIRA GONCALVES","AV FRANCISCO JAVIER YANEZ","CASA #45 URB SAN BERNARDINO CARACAS","DTTO. CAPITAL. DETRAS DEL IUTI","SAN BERNARDINO","0212-551.36.82","230922 FL","RECIBE DE LUNES A VIERNES","10:00AM A 05:00PM","DE LUNES A VIERNES","E-81282664-9","06-MN-001998","89250","No","05","CREDITO 5 DIAS","20","CENTRO DE CARACAS","05","21","SUPERMERCADOS/AUTOMERCADO","01","OFF PREMISSE","01","OFF PREMISSE","20","20","02 - TORRES VICTOR - OFF","RECIBE DE LUNES A VIERNES 10:00AM A 05:00PM"]
["E813029939","02 - REQUENA JOHAN - OFF","ARLINDO I MENDES P.","ABASTOS EL ROCIO DEL JUNQUITO"," ","ARLINDO I MENDES P.","CARRETERA EL JUNQUITO KM 12 URB","MONTE VERDE LOC-1 EL JUNQUITO"," ","(0212) 422-48-30"," "," ","JUNQUITO"," "," "," "," ","MANUELA LUCAS"," "," ","ABASTOS EL ROCIO DEL JUNQUITO","CARRETERA EL JUNQUITO KM 12 URB MON","TE VERDE LOC-1 EL JUNQUITO"," "," ","(0212) 422-48-30"," ","TRASP. SUP 02-CARLOS GON.","S/S FECHA 02/08/2013",null,"E-81302993-9","18-MN-1370","89250","Sí","05","CREDITO 5 DIAS","22","CATIA-JUNQUITO","05","23","ABASTOS PEQUEÑOS/BODEGAS","01","OFF PREMISSE","01","OFF PREMISSE"," ","02"," ","TRASP. SUP 02-CARLOS GON. S/S FECHA 02/08/2013"]
["E813048887","09 - CLIENTE INHABILITADO","MANUEL DOMINGOS DE JESUS CAMACHO","MANUEL DOMINGOS DE JESUS CAMACHO"," ","MANUEL DOMINGOS DE JESUS CAMACHO","AV BOLIVAR. CASA NRO 48. ZONA CASCO","CENTRAL DE SANTA TERESA DEL TUY"," ","02139 - 511.07.93"," "," ","CUA"," "," "," "," ","DE JESUS MANUEL"," "," ","MANUEL DOMINGOS DE JESUS CAMACHO","AV BOLIVAR. CASA NRO 48. ZONA CASCO","CENTRAL DE SANTA TERESA DEL TUY"," "," ","0239 - 511.07.93"," ","CAMBIO DE RAZON SOCIAL","FECHA BLOQUEO 16-08-2012","MARTES","E-81304888-7","039 MY 00165","15000","Sí","05","CREDITO 5 DIAS","14","LITORAL CENTRAL","05","18","LICORERIAS/BODEGONES","01","OFF PREMISSE","01","OFF PREMISSE"," ","09","09 - CLIENTE INHABILITADO","CAMBIO DE RAZON SOCIAL FECHA BLOQUEO 16-08-2012"]
["E813392545","09 - CLIENTE INHABILITADO","GONCALVES DE GONCALVES DIANA MARIA","GONCALVES DE GONCALVES DIANA MARIA"," ","GONCALVES DE GONCALVES DIANA MARIA","KM 7 VIA ORIENTE E/S EL GUAPETONSEC","TOR SANTA INES EL GUAPO"," ","(0212) 808-15-03"," "," ","BARLOVENTO"," "," ","DESACTIVADO EL 04/08/2014","BALA FRECUENCIA DE COMPRA","AUGUSTO GONCALVEZ/JU","AQUIN FREITAS"," ","GONCALVES DE GONCALVES DIANA MARIA","KM 7 VIA ORIENTE E/S EL GUAPETONSEC","TOR SANTA INES EL GUAPO"," "," ","(0212) 808-15-03"," ","RECIBE DE LUNES A VIERNES","DE 8:00 AM A 6:00 PM","MARTES","E-81339254-5","PARTICULAR","15000","Sí","00","CONTADO","12","BARLOVENTO","05","19","TIENDAS DE CONVENIENCIA","01","OFF PREMISSE","01","OFF PREMISSE","09","09","09 - CLIENTE INHABILITADO","RECIBE DE LUNES A VIERNES DE 8:00 AM A 6:00 PM"]
["E814618288","02 - REQUENA JOHAN - OFF","YLIDIO VASCONCELOS GOMES PERERIRA","INVERSIONES UDETRES, C.A."," ","YLIDIO VASCONCELOS GOMES PERERIRA","AVENIDA PPAL UD-3 BLOQUE 1 LOCAL 50","CARICUAO"," ","(0212) 433-11-77"," "," ","CARACAS"," "," "," "," ","ILIDIO VASCONCELOS"," "," ","YLIDIO VASCONCELOS GOMES PERERIRA","AVENIDA PPAL UD-3 BLOQUE 1 LOCAL 50","CARICUAO"," "," ","(0212) 433-11-77"," ","TRASP.AL 02 SEGUN SOLIC","14/02/11",null,"E-81461828-8","EN TRAMITES","89250","No","05","CREDITO 5 DIAS","24","CARICUAO","05","18","LICORERIAS/BODEGONES","01","OFF PREMISSE","01","OFF PREMISSE"," ","02"," ","TRASP.AL 02 SEGUN SOLIC 14/02/11"]
["E814925733","09 - CLIENTE INHABILITADO","ARMANDO V. PEREIRA G.","ABASTOS FLORENCIA"," ","ARMANDO V.PEREIRA G.(ABASTO FLORENCIA)","AV.LA COLINA,PARROQUIA STA.ROSALIA","EDIF. LAFLORENCIA,P.B.LOCAL Nº 1,UR","B.LOS CHAGUARAMOS","6617076"," "," ","CARACAS"," "," "," "," ","ARMANDO V. PEREIRA G","."," ","ABASTOS FLORENCIA","AV.LA COLINA,PARROQUIA STA.ROSALIA","EDIF. LAFLORENCIA,P.B.LOCAL Nº 1,UR","B.LOS CHAGUARAMOS"," "," "," "," "," ",null,"E-81492573-3","M-N 4065","15000","No","05","CREDITO 5 DIAS","15","BARUTA","05","23","ABASTOS PEQUEÑOS/BODEGAS","01","OFF PREMISSE","01","OFF PREMISSE","09","09","09 - CLIENTE INHABILITADO","   "]
["E81504506","71 - OFICINA","JOAO SIDONIO RODRIGUEZ","JOAO SIDONIO RODRIGUEZ"," ","JOAO SIDONIO RODRIGUEZ","CALLE 10 CON ESQUINA CALLE 11","EDIFICIO PLASENCIA LA URBINA","EDO-MIRANDA","(0212)242.11.11"," "," ","CARACAS"," "," "," "," ","JOAO RODRIGUEZ"," "," ","JOAO SIDONIO RODRIGUEZ","CALLE 10 CON ESQUINA CALLE 11","EDIFICIO PLASENCIA LA URBINA","EDO-MIRANDA"," ","0212 2421111","301216"," "," ",null,"E-8150450-6","PARTICULAR","7500","No","05","CREDITO 5 DIAS","71","OFICINA","08","33","RELACIONADOS","00","ESTANDAR","00","ESTANDAR","71","71","71 - OFICINA","   "]
["E815134624","09 - CLIENTE INHABILITADO","JOSE A GONCALVEZ BRITO","ABASTOS TACHIRA"," ","FERNANDES G JOSE M","AVENIDA GARCILAZO EDIFICIO TACHIRAC","OLINAS DE BELLO MONTE-CARACAS"," ","7529304/9717"," "," ","CARACAS"," "," "," "," ","JOSE GONCALVEZ"," "," ","ABASTOS TACHIRA","AVENIDA GARCILAZO EDIFICIO TACHIRAC","OLINAS DE BELLO MONTE-CARACAS"," "," "," "," ","TRASP. ZONA 01 SUP.JHONNY","RODRIGUEZ S/SOL.21-02-11",null,"E-81513462-4","M-N 3353","15000","No","05","CREDITO 5 DIAS","15","BARUTA","05","23","ABASTOS PEQUEÑOS/BODEGAS","01","OFF PREMISSE","01","OFF PREMISSE"," ","09","09 - CLIENTE INHABILITADO","TRASP. ZONA 01 SUP.JHONNY RODRIGUEZ S/SOL.21-02-11"]
["E815986582","70 - COMPRA/PERSONAL","MARIO RODRIGUEZ","MARIO RODRIGUEZ"," ","MARIO RODRIGUEZ","AV MATURIN AV CAICARA Y EL EMPALME","QTA AYAYA NRO S/N URB. LA CAMPIÑA","SUR LOS CEDROS CARACAS DIST. CAP.","0424-1123976"," "," ","CARACAS","ZONA POSTAL 1050"," "," "," ","MARIO RODRIGUEZ"," "," ","MARIO RODRIGUEZ","AV. MARUTIN AV CAICARA Y EL EMPALME","QTA AYAYA S/N URB. LA CAMPIÑA SUR","LOS CEDROS CARACAS DIST. CAPITAL","ZONA POSTAL 1050","04241123976"," "," "," ",null,"E-0815986582","PARTICULAR","15000","No","00","CONTADO","70","PERSONAL EMPLEADO","07","31","PARTICULAR","01","OFF PREMISSE","01","OFF PREMISSE","70","70","70 - PERSONAL EMPLEADO","   "]
["E816555054","31 - RODRIGUEZ WLADIMIR","GONZALEZ B. MODESTO JOSÉ","GONZALEZ B. MODESTO JOSÉ"," ","GONZALEZ B. MODESTO JOSÉ","AV FRANCISCO DE MIRANDA. EDIF.","CARLOTA PLAZA. TORRE B. PISO 1","APTO 14-D. URB. LA CARLOTA","0412-241.40.52"," "," ","CARACAS"," "," "," "," ","GONZALEZ MODESTO"," "," ","GONZALEZ B. MODESTO JOSÉ","CIRCULO MILITAR DE VENEZUELA. REST.","CARIBE. LOS PROCERES","MCPIO. SUCRE CARACAS EDO.MIRANDA"," ","0414-328.57.19"," ","TRASP.AL 03.SUP.CARLOS DA","SILVA S/SOLIC 04/02/11",null,"E-81655505-4","PARTICULAR","89250","No","05","CREDITO 5 DIAS","33","CENTRO-CANDELARIA","07","31","PARTICULAR","02","ON PREMISSE","02","ON PREMISSE"," ","31"," ","TRASP.AL 03.SUP.CARLOS DA SILVA S/SOLIC 04/02/11"]
["E816752011","22 - GONZALEZ CARLOS","DA COSTA OLIVEIRA VICTOR M.","LIC. Y CHARCT/ VIMAR"," ","DA COSTA OLIVEIRA VICTOR M.","1ra. AV.PROPATRIA FRENTE AL METRO ("," VIMAR )CATIA"," ","0212 870 11 07","0414 019 44 94","jesus_2011@hotmail.com","CARACAS"," "," "," ","BLOQ MAYOR 44 DIAS SEGUIM 08/03 PH","VICTOR M. OLIVEROS"," "," ","LIC. Y CHARCT/ VIMAR","1ra. AV.PROPATRIA FRENTE AL METRO ("," VIMAR )CATIA"," "," ","(0212) 870-11-07"," ","RECIBE  LUNES A VIERNES"," 11:00AM A 5:00PM","MIERCOLES","E-81675201-1","15-MN-1451","89250","Sí","05","CREDITO 5 DIAS","22","CATIA-JUNQUITO","06","18","LICORERIAS/BODEGONES","01","OFF PREMISSE","01","OFF PREMISSE","22","22","02 - VICTOR TORRES - OFF","RECIBE  LUNES A VIERNES  11:00AM A 5:00PM"]
["E818754771","09 - CLIENTE INHABILITADO","LICORERIA SAN FRANCISCO DE PADUA","LICORERIA SAN FRANCISCO DE PADUA"," ","JOAO FERNANDES P. (LIC.SAN FCO.DE PADUA)","CALLE RIVAS,DE SAN FRANCISCO DE YAR","EMPO,AUTONOMO SIMON BOLIVAR"," ","39,29344"," "," ","SAN FCO.DE YARE"," "," "," "," ","JOAO FERNANDES PESTA","NA"," ","LICORERIA SAN FRANCISCO DE PADUA","CALLE RIVAS,DE SAN FRANCISCO DE YAR","EMPO,AUTONOMO SIMON BOLIVAR"," "," "," "," ","CAMBIO RIF P/J309318101","CCIAL.SAN F.PADUA YARE",null,"E-81875477-1","039 MY 1016","0","No","00","CONTADO","09","CLIENTE INHABILITADO","05","18","LICORERIAS/BODEGONES","11","FRANQUICIAS PROLICOR,C.A.","11","FRANQUICIAS PROLICOR,C.A.","09","09","09 - CLIENTE INHABILITADO","CAMBIO RIF P/J309318101 CCIAL.SAN F.PADUA YARE"]
["E819685471","36  CLIENT-CORPORAT-OFIC.","FARO CUSUMANO","CTRO. CULT. GASTRONIMICO SICILIANO"," ","FARO CUSUMANO","AVENIDA NEVERI CASA MAPORAL S/N URB","COLINAS DE BELLO MONTE","CARACAS","(0212) 753-70-93"," "," ","CARACAS"," "," "," "," ","FARO CUSUMANO"," "," ","FARO CUSUMANO","AVENIDA NEVERI CASA MAPORAL S/N URB","COLINAS DE BELLO MONTE (DIAGONAL A","LA CANTV) BELLO MONTE - CARACAS"," ","(0212) 753-70-93"," "," "," ",null,"E-81968547-1","PARTICULAR","89250","No","05","CREDITO 5 DIAS","36","VTAS.CORPORATIVAS","04","07","RESTAURANTES","02","ON PREMISSE","02","ON PREMISSE","36","36","71 - OFICINA","   "]
["E819942857","09 - CLIENTE INHABILITADO","CARLOS MAGNO CANDIDO CORREIA","LICORERIA GUAYABAL"," ","CARLOS MAGNO CANDIDO CORREIA","ESQUINA GUAYABAL LOCAL Nº 20 SANTAR","OSALIA  PTE. HIERRO CARACAS"," "," "," "," ","CARACAS"," ","2CHED 010416/120417 36HP MYZ","CAMBIO DE RAZON SOCIAL 01117 KF","CAMBIO A ZONA 09 19-09-19 YM","ORLANDO ALFREDO MIRA","NDA"," ","LICORERIA GUAYABAL","ESQUINA GUAYABAL LOCAL Nº 20 SANTAR","OSALIA  PTE. HIERRO CARACAS"," "," "," "," ","RECIBE DE LUNES A VIERNES","DE 11:00AM A 6:00PM","JUEVES","E-81994285-7","M-N 4607","0","Sí","00","CONTADO","09","CLIENTE INHABILITADO","06","18","LICORERIAS/BODEGONES","01","OFF PREMISSE","01","OFF PREMISSE","09","09","09 - CLIENTE INHABILITADO","RECIBE DE LUNES A VIERNES DE 11:00AM A 6:00PM"]
["G200000309","71 - OFICINA","TRIBUNAL SUPREMO DE JUSTICIA","TRIBUNAL SUPREMO DE JUSTICIA"," ","TRIBUNAL SUPREMO DE JUSTICIA","FINAL AV.BARALT ESQUINA DOS PILITAS","EDIF. SEDE (T.S.J.) TRIBUNAL SUPRE","MO JUSTICIA. CARACAS. DTTO.CAPITAL","0212-801.91.36"," "," ","CARACAS"," "," "," "," ","TRIBUNAL SUPREMO","JUSTICIA"," ","TRIBUNAL SUPREMO DE JUSTICIA","FINAL AV.BARALT ESQ.DOS PILITAS","EDIF. SEDE (T.S.J.)TRIBUNAL SUPREMO","JUSTICIA. P.B. ALMACEN"," ","0412-575.44.06"," ","CONTACTO LISSET MESA","0412-575.44.06",null,"G-20000030-9","PARTICULAR","7500","No","00","CONTADO","71","OFICINA","06","30","GOBIERNO","01","OFF PREMISSE","01","OFF PREMISSE"," ","71","71 - OFICINA","CONTACTO LISSET MESA 0412-575.44.06"]
["G200002190","36  CLIENT-CORPORAT-OFIC.","ALCALDIA DE ZAMORA","ALCALDIA DE ZAMORA","05/12/23EP","ALCALDIA DE ZAMORA","AV.MIRANDA,LOCAL EDF CENTRO CIVICO","SECTOR GUATIRE-MIRANDA"," "," "," "," "," "," "," "," "," ","BERMARI AÑEZ"," "," ","ALCALDIA DE ZAMORA","AV.MIRANDA,LOCAL EDF CENTRO CIVICO","SECTRO GUATIRE-MIRNDA"," "," "," "," "," "," ",null,"G200002190"," ","89250","No","05","CREDITO 5 DIAS","36","VTAS.CORPORATIVAS","06","30","GOBIERNO","00","ESTANDAR","00","ESTANDAR","36","36","36-CLIENTE CORPORATIVO","   "]
["G200036923","60 - SKO CARVAJAL EDUARDO","I.P.S.F.A.","I.P.S.F.A."," ","INST DE PRV SOC DE LAS FUERZ ARMAD IPSFA","CALLE LOS PROCERES EDIF IPSFA OCUPA","CION TODO EL EDF PISO PB OF","TESORERIA URB LOS PROCERES STA","0212-609.25.70"," "," ","CARACAS","MONICA. ZONA POSTAL 1030"," "," "," ","I.P.S.F.A."," "," ","INST DE PRV SOC DE LAS FZA ARM IPSF","CALLE LOS PROCERES EDIF IPSFA OCUPA","CION TODO EL EDF PISO PB OF","TESORERIA URB LOS PROCERES STA","MONICA. ZONA 1030","0212-609.25.70"," "," "," ",null,"G-20003692-3","002-MN-7570","0","Sí","00","CONTADO","60",null,"05","18","LICORERIAS/BODEGONES","01","OFF PREMISSE","01","OFF PREMISSE"," ","60"," ","   "]
["G200042389","31 - RODRIGUEZ WLADIMIR","ASOC. CIVIL CLUB SUB OFIC F.F A.A","ASOC. CIVIL CLUB SUB OFIC F.F A.A"," ","ASOCIACION CIVIL CLUB SUB OFIC F.F A.A","FINAL AV VALLE-COCHE VIA LA RINCONA","DASECTOR LAS MAYAS CLUB SOFA-MNPIO.","LIBERTADOR","6816180"," "," ","CARACAS"," "," "," "," ","JUAN VICENTE LOYO"," "," ","ASOC. CIVIL CLUB SUB OFIC F.F A.A","FINAL AV VALLE-COCHE VIA LA RINCONA","DASECTOR LAS MAYAS CLUB SOFA-MNPIO.","LIBERTADOR"," "," "," "," "," ",null,"G-20004238-9","PARTICULAR","89250","No","05","CREDITO 5 DIAS","33","CENTRO-CANDELARIA","06","30","GOBIERNO","01","OFF PREMISSE","01","OFF PREMISSE"," ","31"," ","   "]
["G200080620","31 - RODRIGUEZ WLADIMIR","FUND PARA ASIST SOCIAL DE LA PM","FUND PARA ASIST SOCIAL DE LA PM"," ","FUND PARA ASIST SOCIAL DE LA PM","CALLE AYACUCHO ENTRE PAEZ. AV","GUZMAN BLANCO COTA 905 CLUB SOCIAL","PM. URB EL PARAISO.","0212.564.99.48"," "," ","CARACAS"," "," "," "," ","PEDRO MENDOZA RIVERO"," "," ","FUND PARA ASIST SOCIAL DE LA PM","CALLE AYACUCHO ENTRE PAEZ. AV","GUZMAN BLANCO. COTA 905 CLUB SOCIAL","PM. URB EL PARAISO"," ","0212.564.99.48"," ","TRASP.AL 03 SUP.CARLOS DA","SILVA S/SOLIC.24-01-2011",null,"G-20008062-0","TRAMITE","89250","No","05","CREDITO 5 DIAS","33","CENTRO-CANDELARIA","04","10","CLUB SOCIALES","02","ON PREMISSE","02","ON PREMISSE"," ","31"," ","TRASP.AL 03 SUP.CARLOS DA SILVA S/SOLIC.24-01-2011"]
["G200088494","31 - RODRIGUEZ WLADIMIR","DESARROLLOS GRAN CARACAS, C.A.","HOTEL ALBA"," ","DESARROLLOS GRAN CARACAS, C.A.","AV. MEXICO. EDIF HOTEL ALBA. PISO","PB. RECEPCION. URB EL CONDE"," ","0212.5035013","CLIENTE PREPAGO"," ","CARACAS"," "," "," "," ","AGUILERA ROMERO","EUSTACIO","ELENA","DESARROLLOS GRAN CARACAS, C.A.","AV. MEXICO. EDIF HOTEL ALBA. PISO","PB. RECEPCION. URB EL CONDE"," "," ","0212.5035013"," ","RECIBE DE LUNES A VIERNES","DE 8AM A 11:30AM",null,"G-20008849-4","PARTICULAR","89250","Sí","00","CONTADO","33","CENTRO-CANDELARIA","04","08","HOTELES/CASINOS/BINGOS","02","ON PREMISSE","02","ON PREMISSE"," ","31"," ","RECIBE DE LUNES A VIERNES DE 8AM A 11:30AM"]
["INTER-PROL","71 - OFICINA","PROV DE LICORES PROLICOR,C.A.","PROV DE LICORES PROLICOR,C.A."," ","PROVEEDORES DE LICORES PROLICOR C.A.","CALLE 10, CON ESQUINA CALLE 11","EDIFICIO PLASENCIA-LA URBINA","MIRANDA"," "," "," ","CARACAS"," "," "," "," "," "," "," ","PROV DE LICORES PROLICOR,C.A.","CALLE 10, CON  ESQUINA CALLE 11","EDIFICIO PLASENCIA-LA URBINA","EDO-MIRANDA","J001708685"," "," "," "," ",null,"J0001708685","002-M-N-760","2","No","00","CONTADO","71","OFICINA"," "," ",null,"00","ESTANDAR","00","ESTANDAR","550","71"," ","   "]
["INTR-CHRIS","71 - OFICINA","INVERSIONES CHRISJOHN, C.A.","INVERSIONES CHRISJOHN, C.A."," ","INVERSIONES CHRISJOHN, C.A."," "," "," ","212-2861446"," "," "," "," "," "," "," "," "," "," ","INVERSIONES CHRISJOHN, C.A.","AV.FRANCISCO DE MIRANDA, CENTRO","PLAZA, TORRE C, PISO 13, OFICINA 13","LOS PALOS GRANDES-CS-VENEZUELA","J002937734"," "," "," "," ",null," "," ","0","No","01","PREPAGO","71","OFICINA"," "," ",null,"00","ESTANDAR","00","ESTANDAR"," ","71","71 - OFICINA","   "]
["INTR-DINAZ","71 - OFICINA","DISTRIBUIDORA NUBE AZUL,C.A.","DISTRIBUIDORA NUBE AZUL,C.A."," ","DISTRIBUIDORA NUBE AZUL,C.A.","ZONA INDUSTRIAL TERRINCA GALPON 6-A","GUATIRE-MNCP.AUTONOMO ZAMORA-EDO.","MIRANDA","212-2343300"," "," ","CARACAS"," "," "," "," "," "," "," ","DISTRIBUIDORA NUBE AZUL,C.A.","ZONA INDUSTRIAL TERRINCA GALPON 6-A","GUATIRE-MNCP.AUTONOMO ZAMORA-EDO.","MIRANDA"," "," "," "," "," ",null,"J-00140645-0"," ","0","No","00","CONTADO","71","OFICINA"," "," ",null,"00","ESTANDAR","00","ESTANDAR"," ","71"," ","   "]
["INTR-ENVAC","71 - OFICINA","ENVACAR DEL CARIBE, C.A.","ENVACAR DEL CARIBE, C.A."," ","ENVACAR DEL CARIBE, C.A.","AV. ESTANCIA CENTRO BANAVEN, TORRE","D, PISO 2, OFICINA D-22 CHUAO","CARACAS","0212-9916842"," "," "," "," "," "," "," ","PARTICULAR"," "," ","ENVACAR DEL CARIBE, C.A.","AV. ESTANCIA CENTRO BANAVEN, TORRE","D, PISO 2, OFICINA D-22 CHUAO","CARACAS"," J308803618"," "," "," "," ",null," J-30880361-8"," ","0","No","00","CONTADO","71","OFICINA"," "," ",null,"00","ESTANDAR","00","ESTANDAR"," ","71"," ","   "]
["INTR-IPECA","71 - OFICINA","IMPORT PROD.ENOLOGICAS,CA (IPECA)","IMPORT PROD.ENOLOGICAS,CA (IPECA)"," ","IMPORT PROD.ENOLOGICAS,CA (IPECA)","CALLE PRINCIPAL BOLEITA NORTE EDIF.","CASTEL GANDOLFO- CARACAS"," ","212-2343300"," "," ","CARACAS"," "," "," "," "," "," "," ","IMPORT PROD.ENOLOGICAS,CA (IPECA)","CALLE PRINCIPAL BOLEITA NORTE EDIF.","CASTEL GANDOLFO- CARACAS"," "," "," "," "," "," ",null," ","MY-0261","0","No","99","ILIMITADO","71","OFICINA"," "," ",null,"00","ESTANDAR","00","ESTANDAR"," ","71"," ","   "]
["INTR-LANDE","71 - OFICINA","LANDER & VERA,S.A.","LANDER & VERA,S.A."," ","LANDER & VERA,S.A.","MANZANA I, PARCELA II","LA VICTORIA-EDO.ARAGUA"," "," "," "," "," "," "," "," "," ","PARTICULAR"," "," ","LANDER & VERA,S.A.","MANZANA I, PARCELA II","LA VICTORIA-EDO.ARAGUA"," ","J000217084"," "," "," "," ",null,"J-00021708-4"," ","0","No","00","CONTADO","71","OFICINA"," "," ",null,"00","ESTANDAR","00","ESTANDAR"," ","71"," ","   "]
["INTR-VINO","71 - OFICINA","CORPORACION VINOS DE CHILE C.A.","CORPORACION VINOS DE CHILE C.A."," ","CORPORACION VINOS DE CHILE C.A."," "," "," ","212-9916842"," "," "," "," "," "," "," "," "," "," ","CORPORACION VINOS DE CHILE C.A.","AVENIDA LA ESTANCIA CENTRO BANAVEN","CUBO NEGRO TORRE D PISO 2","OFIC.D-22"," J309133500"," "," "," "," ",null," "," ","0","No","01","PREPAGO","71","OFICINA"," "," ",null,"00","ESTANDAR","00","ESTANDAR"," ","71","71 - OFICINA","   "]
["J000007853","32 - HERNANDEZ EDGAR","BAR REST.CERVECERIA LAS ROCAS,C.A.","RESTAURANT LA HUERTA"," ","BAR REST. CERVECERIA LAS ROCAS,C.A","AV.FRANCISCO SOLANO CON 1RA.AV.LAS","DELICIAS SABANA GRANDE CARACAS","CAMBIO DE ZONA 30 A 35 12/02/19 BB","(0212) 726.78.82","(0424) 288.49.40","RESTAURANTLAHUERTACARACAS@GMAIL.COM","CARACAS","CAMBIO DE ZONA 35 A 33 120319 WP","1CD 150419 / 150719 HP 8D. GA","CAMBIO V-31 vs V-332 200421","CAMBIO V-31 vs V-32 220223 PH","GURMENSINDO ROMANO","JOSE LORENZO TORRES"," ","RESTAURANT LA HUERTA","AV.FRANCISCO SOLANO CON 1RA.AV.LAS","DELICIAS SABANAGRANDE CARACAS"," "," "," "," ","RECIBE  LUNES A VIERNES"," 8:00AM A11:00AM","MARTES","J-00000785-3","C 5115","89250","Sí","05","CREDITO 5 DIAS","30","PARROQUIA EL RECREO","04","07","RESTAURANTES","02","ON PREMISSE","02","ON PREMISSE","32","32","01 - CARLOS DA SILVA - ON","RECIBE  LUNES A VIERNES  8:00AM A11:00AM"]
["J000030316","09 - CLIENTE INHABILITADO","BAR RESTAURANT EL FARO C.A.","BAR RESTAURANT EL FARO C.A.","672-24-64","BAR RESTAURANT EL FARO C.A.","SECTOR CUMBRE DE LA BOYERA, VIA","LA MARIPOSA LOS TEQUES EDO. MIRANDA"," ","(0212) 672.24.64","(0414) 235.91.99","elfaro95@gmail.com","LOS TEQUES"," "," "," ","CAMBIO DE ZONA 26 A 09 16/9/19 GT","ANTONIO ROTONDA","ROTONDA"," ","BAR RESTAURANT EL FARO C.A.","SECTOR CUMBRE DE LA BOYERA, VIA","LA MARIPOSA LOS TEQUES EDO. MIRANDA"," "," ","(0212) 671-67-10"," ","RECIBE  LUNES A VIERNES"," 08:00 AM A 05:00 PM","MIERCOLES","J-00003031-6","C-4768","0","Sí","00","CONTADO","09","CLIENTE INHABILITADO","04","07","RESTAURANTES","02","ON PREMISSE","02","ON PREMISSE","09","09","09 - CLIENTE INHABILITADO","RECIBE  LUNES A VIERNES  08:00 AM A 05:00 PM"]
["J000035903","31 - RODRIGUEZ WLADIMIR","TARZILANDIA, C.A.","REST TARZILANDIA,C.A."," ","TARZILANDIA,C.A.","DECIMA TRANSVERSAL DE ALTAMIRAMNCP.","CHACAO-DTTO.CAPITAL"," ","(0212) 261.06.28","(0424) 233.93.53","admintarzilandia@hotmail.com","CARACAS","AU-LIM-300.000 16-06-14 AUT/HD","AUM.LIM CRED 145.000 030614 A/HD","2CHED 011214/291215 14HP MYZ","CAMBIO V-31 vs V-332 200421","ARAUJO JOSE MANUEL"," "," ","TARZILANDIA,C.A. (REST.TARZILANDIA","DECIMA TRANSVERSAL DE ALTAMIRAMNCP.","CHACAO-DTTO.CAPITAL"," "," "," "," ","RECIBE  LUNES A VIERNES"," 08:00 AM A 11:30 AM","JUEVES","J-00003590-3","C 1419","89250","No","05","CREDITO 5 DIAS","31","LA CASTELLANA","04","07","RESTAURANTES","02","ON PREMISSE","02","ON PREMISSE","31","31","01 - CARLOS DA SILVA - ON","RECIBE  LUNES A VIERNES  08:00 AM A 11:30 AM"]
["J000060134","31 - RODRIGUEZ WLADIMIR","BAR REST LING NAM C.A.","BAR REST LING NAM C.A."," ","BAR REST LING NAM C.A.","AVENIDA LAS CIENCIAS LOS CHAGUARAMO","S"," ","6616019"," "," ","CARACAS"," "," "," "," "," "," "," ","BAR REST LING NAM C.A.","AVENIDA LAS CIENCIAS LOS CHAGUARAMO","S CARACAS"," "," ","6616019"," "," "," ",null,"J-00006013-4","C 75","89250","No","05","CREDITO 5 DIAS","03",null,"04","06","BAR/TABER./S. BAR/PUB/TAS","02","ON PREMISSE","02","ON PREMISSE"," ","31"," ","   "]
["J000061890","09 - CLIENTE INHABILITADO","CECICLE C.A.","CECICLE C.A."," ","CECICLE C.A.","AV.PARAISO CON AVENIDA CAJIGAL EDIF","RESIDENCIA LOURDES PISO PB LOCAL","NRO 2 URB SAN BERNANDINO CARACAS"," ","21-09-2017"," ","CARACAS"," "," "," ","CAMBIO DE ZONA 20 A 09 150322 ST","ANTONELLA LOBOSCO","GUSTAVO GARCIA"," ","CECICLE C.A.","AV PARAISO CON AVENIDA CAJIGAL EDIF","RESIDENCIAS LOURDES PISO PB LOCAL","N°2 URB SAN BERNARDINO CARACAS"," "," "," ","DESPACHO LUNES A VIERNES","11:00AM A 4:00 PM","MARTES","J-00006189-0","21-MY-002512","15000","No","05","CREDITO 5 DIAS","09","CLIENTE INHABILITADO","05","18","LICORERIAS/BODEGONES","01","OFF PREMISSE","01","OFF PREMISSE","09","09","09 - CLIENTE INHABILITADO","DESPACHO LUNES A VIERNES 11:00AM A 4:00 PM"]
["J000062757","43 - RIVERO CARLOS","CENTRAL MADEIRENSE, C.A.","CENTRAL MADEIRENSE, C.A.","204-76-00","CENTRAL MADEIRENSE, C.A.","CENTRO CM, CARRETERA PETARE-SANTA","LUCIA KM 5,FILAS DE MARICHE-CARACAS"," ","(0212) 204.75.00"," "," ","CARACAS"," "," "," "," ","ROBERT KELLER DA S.","MANUEL MOLGADO"," ","CENTRAL MADEIRENSE, C.A.","CENTRO CM,CARRETERA PETARE-SANTA","LUCIA KM 5,FILAS DE MARICHE-CARACAS"," "," ","(0212) 204.75.00","204-76-00","LUNES A SABADO","8:00 A 3:00","MIERCOLES Y JUEVES","J-00006275-7","002-MY-3571","89250","No","05","CREDITO 5 DIAS","41","CADENAS NACIONAL","03","04","CADENAS AUTOM. NACIONALES","01","OFF PREMISSE","01","OFF PREMISSE","43","43","01 - GUERRERO SALVADOR - OFF","LUNES A SABADO 8:00 A 3:00"]
["J000069522","09 - CLIENTE INHABILITADO","CLUB CAMPESTRE LOS CORTIJOS","CLUB CAMPESTRE LOS CORTIJOS"," ","CLUB CAMPESTRE LOS CORTIJOS","AVDA. 3RA. TRANSVERSAL QTA. CLUB","LOS CORTIJOS"," ","(0414) 307-87-60","CLIENTE PREPAGO"," ","CARACAS"," "," "," ","CAMBIO A LA ZONA 09 23-09-19 YM","JESUS VASQUEZ"," "," ","CLUB CAMPESTRE LOS CORTIJOS","AVDA. 3RA. TRANSVERSAL QTA. CLUB","LOS CORTIJOS"," "," ","(0414) 307-87-60"," ","CAMBIO DE ZONA SUP.03","EN FECHA 25/07/2013","MARTES","J-00006952-2","C-761","0","Sí","00","CONTADO","09","CLIENTE INHABILITADO","04","10","CLUB SOCIALES","02","ON PREMISSE","02","ON PREMISSE","09","09","09 - CLIENTE INHABILITADO","CAMBIO DE ZONA SUP.03 EN FECHA 25/07/2013"]
["J000082936","09 - CLIENTE INHABILITADO","ABASTOS URDANETA SRL","ABASTOS URDANETA SRL","16/11/22ST","ABASTOS URDANETA SRL","AV MOHEDANO, CALLE LA URDANETA EDIF","URDANETA PISO PB LOCAL B URB CHACAO","CARACAS, CHACAO MIRANDA","0426-3118251"," ","CCTIENDASYOSITOMO@GMAIL.COM"," "," "," "," ","CAMBIO ZONA 43 A 09 210823 LI","JOAO MARIA DOS SANTO","JOSE DE ABREU","FRANCISCO FIGUEIRA","ABASTOS URDANETA SRL","AV MOHEDANO CALLE URDANETA EDIF","URDANETA PISO PB LOCAL B URB CHACAO","CARACAS CHACAO MIRANDA"," ","0426-3118251"," ","RECIBE DE LUNES A VIERNES","DE 9:00AM A 4:00PM","LUNES","J-00008293-6","MN-1808","15000","No","05","CREDITO 5 DIAS","43","PROLICOR / CELICOR","05","18","LICORERIAS/BODEGONES","01","OFF PREMISSE","01","OFF PREMISSE","09","09","09 - INHABILITADO","RECIBE DE LUNES A VIERNES DE 9:00AM A 4:00PM"]
["J000083169","22 - GONZALEZ CARLOS","SUPERM.COMESTIBLES GENER., S.R.L.","SUPERM.COMESTIBLES GENER., S.R.L.","120623 LL","SUPERM.COMESTIBLES GENERALES, S.R.L.","AVENIDA SUCRE EDIF ARAYA S/M PISO","PB LOCAL B URB CATIA FRENTE AL","TEATRO VENEZUELA DISTRITO CAPITAL","(0424) 183.19.05"," ","COMESTIBLESGENERALES@GMAIL.COM","CARACAS"," "," "," "," ","ENRIQUE FERNANDES","ROBERTO FERREIRA"," ","SUPERM.COMESTIBLES GENER., S.R.L.","AVENIDA SUCRE EDIF ARAYA","(FRENTE A COLCHONAR)"," "," ","(0424) 183.19.05"," ","RECIBE LUNE A VIERNES","9:00 AM A 5:00 PM","DE LUNES A VIERNES","J-00008316-9","MN-00-1585","89250","Sí","05","CREDITO 5 DIAS","22","CATIA-JUNQUITO","05","21","SUPERMERCADOS/AUTOMERCADO","01","OFF PREMISSE","01","OFF PREMISSE","22","22","02 - TORRES VICTOR - OFF","RECIBE LUNE A VIERNES 9:00 AM A 5:00 PM"]
["J000090424","60 - SKO CARVAJAL EDUARDO","L `OREAL VENEZUELA, C.A","L `OREAL VENEZUELA, C.A"," ","L `OREAL VENEZUELA, C.A","FINAL CALLE VARGAS URBANIZACIÒN","BOLEITA NORTE EDIF. CENTRO BERIMER","PISO 4","202/53/91"," "," ","CARACAS"," "," "," "," ","NATALY BAIS"," "," ","L `OREAL VENEZUELA, C.A","CALLE 10 CON 11 EDIF PLASENCIA","LA URBINA (MERCADEO GRANT`S)"," "," ","2421111"," "," "," ",null,"J-00009042-4","PARTICULAR","0","No","00","CONTADO","60",null,"06","31","PARTICULAR","00","ESTANDAR","00","ESTANDAR"," ","60"," ","   "]
["J000107912","36  CLIENT-CORPORAT-OFIC.","DESTILERIA CARUPANO CA","DESTILERIA CARUPANO CA","2127538964","DESTILERIA CARUPANO CA","AV PPAL DE COLINA DE BELLO MONTE","CC BELLO MONTE NIVEL MEZZANINA OF04","URB BELLO MONTE CARACAS","04141316004"," "," ","CARACAS"," "," "," ","BLOQ.MOROSIDAD MAYOR 90 DIAS MYZ/HD","HENRY MORRISON"," "," ","DESTILERIA CARUPANO CA","AV PPAL DE COLINA DE BELLO MONTE","CC BELLO MONTE NIVEL MEZZANINA OF04","URB BELLO MONTE CARACAS"," ","04141316004","2127017790"," "," ",null,"J-00010791-2","M-Y 4258","89250","No","00","CONTADO","71","OFICINA","01","01","DE LICORES CON FZA DE VTA","01","OFF PREMISSE","01","OFF PREMISSE","36","36","71 - OFICINA","   "]
["J000115605","09 - CLIENTE INHABILITADO","HOGOLRI,C.A.","REST. RANCHO GRILL"," ","HOGOLRI,C.A.","CARRT/PANAMERICANA KM 23 C/PASEO EL"," OSOURB CLUB HIPICO"," "," "," "," ","CARACAS"," "," ","BLOQ NO QUIERE COMPRAR MAS 150416","CAMBIO A LA ZONA 09 19-09-19 YM","JOSE COHELLO/RAUL HI","GUERA"," ","REST. RANCHO GRILL","CARRT/PANAMERICANA KM 23 C/PASEO EL"," OSOURB CLUB HIPICO"," "," "," "," "," "," ",null,"J-00011560-5","C 2180","0","Sí","00","CONTADO","09","CLIENTE INHABILITADO","04","07","RESTAURANTES","02","ON PREMISSE","02","ON PREMISSE","09","09","09 - CLIENTE INHABILITADO","   "]
["J000122423","71 - OFICINA","C.A. EDITORA EL NACIONAL","C.A. EDITORA EL NACIONAL"," ","C.A. EDITORA EL NACIONAL","AVDA. PPAL. LOS CORTIJOS DE LOURDES","EDIF. CORPORATIVO EL NACIONAL PISO","PB.","(0212) 203-31-28"," "," ","CARACAS"," "," "," "," ","MIGUEL OTERO"," "," ","C.A. EDITORA EL NACIONAL","AVDA. PPAL. LOS CORTIJOS DE LOURDES","EDIF. CORPORATIVO EL NACIONAL PISO","PB."," ","(0212) 203-31-28"," "," "," ",null,"J-00012242-3","PARTICULAR","7500","No","05","CREDITO 5 DIAS","71","OFICINA","06","31","PARTICULAR","00","ESTANDAR","00","ESTANDAR"," ","71","71 - OFICINA","   "]
["J000141690","09 - CLIENTE INHABILITADO","SUPERMERCADO FUNCHAL,C.A.","SUPERMERCADO FUNCHAL,C.A."," ","SUPERMERCADO FUNCHAL,C.A.","AV. PATROCINIO PEÑUELA Nº 49","BOLEITA SUR"," ","(0212) 234-18-52"," "," ","CARACAS"," "," "," ","BLOQ. CERRADO 09/06/15 ZONA 01 S.U.","JOSE CARVALLO"," "," ","SUPERMERCADO FUNCHAL,C.A.","AVE. PATROCIO PEÑUELA Nº 49","BOLEITA SUR"," "," ","(0212) 234-18-52"," ","RECIBE DE LUNES A VIERNES","8:AM A 12:30PM Y 3:PM A 5","MARTES","J-00014169-0","M-N 4055","15000","No","00","CONTADO","16","GUATIRE","05","21","SUPERMERCADOS/AUTOMERCADO","01","OFF PREMISSE","01","OFF PREMISSE","09","09","09 - CLIENTE INHABILITADO","RECIBE DE LUNES A VIERNES 8:AM A 12:30PM Y 3:PM A 5"]
["J000152110","09 - CLIENTE INHABILITADO","SUPERM. Y LICORERIA CARNICHA, S.R.L","SUPERMERCADO Y LICORERIA CARNICHA"," ","SUPERMERCADO Y LICORERIA CARNICHA,S. R. L.","AVENIDA GUZMAN BLANCO VEREDA A URB.","CARLOS DELGADO CHALBAUD, PARROQUIA","EL VALLE - CARACAS","(0212) 681-05-25"," "," ","CARACAS","2CH 011113-041114 5HP 15DC","DESBLOQ.150115 AUT.GCIA.VTAS","2CHD 150115-030715 HP 4 DC 7","CAMBIO A LA ZONA 09 20-09-19 YM","ANTONIO PESTANA"," "," ","SUPERMERCADO Y LICORERIA CARNICHA","REDOMA COCHE FRENTE AL COLEGIO","CARACAS"," "," ","(0212) 681-05-25"," ","RECIBE DE LUNES A VIERNES","11 AM A 6 PM","MARTES","J-00015211-0","6-MN-1244","0","Sí","00","CONTADO","09","CLIENTE INHABILITADO","06","21","SUPERMERCADOS/AUTOMERCADO","01","OFF PREMISSE","01","OFF PREMISSE","09","09","09 - CLIENTE INHABILITADO","RECIBE DE LUNES A VIERNES 11 AM A 6 PM"]
["J000153515","02 - REQUENA JOHAN - OFF","ABASTOS ALICET S.R.L.","ABASTOS ALICET S.R.L."," ","ABASTOS ALICET S.R.L.","AV.SAN MARTIN,EDIF.SAN MARCOS,LOCAL"," A,ESQUINA PALO GRANDE,PQUIA.SAN JU","AN-CARACAS","4622504"," "," ","CARACAS"," "," "," "," ","DE ABREU HOMEN FERNA","NDO"," ","ABASTOS ALICET S.R.L.","AV.SAN MARTIN,EDIF.SAN MARCOS,LOCAL"," A,ESQUINA PALO GRANDE,PQUIA.SAN JU","AN-CARACAS"," "," "," "," "," ",null,"J-00015351-5","M-N 0262","89250","No","05","CREDITO 5 DIAS","23","CENTRO-SAN MARTIN","05","23","ABASTOS PEQUEÑOS/BODEGAS","01","OFF PREMISSE","01","OFF PREMISSE"," ","02"," ","   "]
["J000167664","09 - CLIENTE INHABILITADO","GONCALVES RODRIGUEZ & DA ASCENCAO","BAR RESTAURANT LAS PALMAS"," ","GONCALVES RODRIGUEZ & DA ASCENCAO","AVENIDA,PRINCIPAL BOLEITA SUR N°19C","ARACAS DISTRITO CAPITAL"," ","0212.234.70.13"," "," ","CARACAS"," "," "," ","REEST-V-31 AL V-09 20092019 MYZ","VASCO PEDRO RODRIGUE","Z"," ","BAR RESTAURANT LAS PALMAS","AVENIDA,PRINCIPAL BOLEITA SUR N°19C","ARACAS DISTRITO CAPITAL"," "," "," "," "," "," ","MARTES","J-00016766-4","C 953","15000","Sí","00","CONTADO","32","SUCRE - BARUTA","04","07","RESTAURANTES","02","ON PREMISSE","02","ON PREMISSE","09","09","09 - CLIENTE INHABILITADO","   "]
["J000177970","09 - CLIENTE INHABILITADO","ABASTOS GUAYMAR,C.A.","ABASTOS GUAYMAR"," ","ABASTOS GUAYMAR,C.A.","PROLONGACION 10 DE MARZO FRENTE AL","BLOQUE 6 CALLE NUEVA - MAIQUETIA","EDO. VARGAS","(0212) 332.99.69","(0414) 116.56.84"," ","LA GUAIRA","CAMBIO ZONA 01 FZA DE VENTAS 230117","C/ZONA 01 A 14 FZA DE VENTAS 100217","BLOQ P/MHP 45 DIAS CALLE 210319 WP","CAMBIO Z16 A Z09 YR 20/6/19","JOSE RIVERO"," "," ","ABASTOS GUAYMAR,C.A.","PROLONGACION 10 DE MARZO FRENTE AL","BLOQUE 6 CALLE NUEVA - MAIQUETIA","EDO. VARGAS"," ","0212-332-99-69"," ","RECIBE  LUNES A VIERNES"," 08:00 AM A 06:00 PM","DE LUNES A JUEVES","J-00017797-0","031-MN-82","0","Sí","00","CONTADO","09","CLIENTE INHABILITADO","05","23","ABASTOS PEQUEÑOS/BODEGAS","01","OFF PREMISSE","01","OFF PREMISSE","09","09","09 - CLIENTE INHABILITADO","RECIBE  LUNES A VIERNES  08:00 AM A 06:00 PM"]
["J000189161","31 - RODRIGUEZ WLADIMIR","H. TAMANACO INTERCONTINENTAL,C.A.","H. TAMANACO INTERCONTINENTAL,C.A."," ","HOTEL TAMANACO,C.A.","FINAL AVENIDA PRINCIPAL LAS MERCEDE","SMNCP.BARUTA-CARACAS-EDO.DTTO.CAPIT","AL","9097111"," "," ","CARACAS"," "," "," "," ","RAMON AZPURUA AZPURU","A"," ","H. TAMANACO INTERCONTINENTAL,C.A.","FINAL AVENIDA PRINCIPAL LAS MERCEDE","SMNCP.BARUTA-CARACAS-EDO.DTTO.CAPIT","AL"," "," "," "," "," ",null,"J-00018916-1","C 2060","89250","No","05","CREDITO 5 DIAS","30","PARROQUIA EL RECREO","04","08","HOTELES/CASINOS/BINGOS","02","ON PREMISSE","02","ON PREMISSE"," ","31"," ","   "]
["J000189188","09 - CLIENTE INHABILITADO","HOTEL WALDORF, C.A.","HOTEL WALDORF, C.A."," ","HOTEL WALDORF, C.A.","AVDA. LA INDUSTRIA ESQUINAS CAMPO","ELIAS A PUENTE ANAUCO EDF. WALDORF","PISO EDIFICIO LOCAL PB URB. LA","0212 575 11 66","0414 339 79 09","fjavier758@hotmail.com","CARACAS","CANDELARIA"," "," ","REEST-V-31 AL V-09 20092019 MYZ","NELSON GUERREIRO","LEOPOLDO TRAVIESO"," ","HOTEL WALDORF, C.A.","AVDA. LA INDUSTRIA ESQUINAS CAMPO","ELIAS A PUENTE ANAUCO EDF. WALDORF","PISO EDIFICIO LOCAL PB URB. LA","CANDELARIA","(0414) 021-31-71"," ","RECIBE  LUNES A VIERNES"," 6:00AM A 4:00PM","JUEVES","J-00018918-8","3-C-0741","15000","Sí","00","CONTADO","33","CENTRO-CANDELARIA","04","08","HOTELES/CASINOS/BINGOS","02","ON PREMISSE","02","ON PREMISSE","09","09","09 - CLIENTE INHABILITADO","RECIBE  LUNES A VIERNES  6:00AM A 4:00PM"]
["J000189285","31 - RODRIGUEZ WLADIMIR","HOTEL  LAS  MERCEDES","HOTEL  LAS  MERCEDES"," ","HOTELES UNIDOS C A","AV. WOLMER FTE. HOSPITAL DE NIÑOS","SAN BERNARDINO"," ","577-65-61"," "," ","CARACAS"," "," "," "," ","MANUEL VASCONCELOS D","A SILVA"," ","HOTEL  LAS  MERCEDES","AV. WOLMER FTE. HOSPITAL DE NIÑOS","SAN BERNARDINO"," "," "," "," "," "," ",null,"J-00018928-5","C 457","89250","No","05","CREDITO 5 DIAS","33","CENTRO-CANDELARIA","04","08","HOTELES/CASINOS/BINGOS","02","ON PREMISSE","02","ON PREMISSE"," ","31"," ","   "]
["J000192057","72 - ALMACEN ROTURA","IMPORT PROD.ENOLOGICAS,CA (IPECA)","IMPORT PROD.ENOLOGICAS,CA (IPECA)"," ","IMPORTACIONES PROD.ENOLOGICAS,CA (IPECA)","CALLE VARGAS EDIF..GRECO II BOLEITA"," NORTE-CARACAS"," "," "," "," ","CARACAS"," "," "," "," ","IMPORTACIONES PROD.E","NOLOGICAS,CA (IPECA)"," ","IMPORT PROD.ENOLOGICAS,CA (IPECA)","CALLE VARGAS EDIF..GRECO II BOLEITA"," NORTECARACAS"," "," "," "," "," "," ",null,"J-00019205-7","M-Y 261","0","No","00","CONTADO","72","ROTURAS ALMACEN","04","08","HOTELES/CASINOS/BINGOS","02","ON PREMISSE","02","ON PREMISSE"," ","72"," ","   "]
["J000192731","09 - CLIENTE INHABILITADO","FRANCISCO DE ABREU PAULINO,C.A.","FRANCISCO DE ABREU PAULINO,C.A."," ","FRANCISCO DE ABREU PAULINO,C.A.","CALLE MIRANDA Nº3 PETARE ZONA COLON","IAL"," ","0212-2718213"," "," ","CARACAS"," ","ACT. DATOS AL 29/01/19 JA","DIRRECCONAR AL EDV 332 170119","CAMBIO DE ZONA 32 A 09 20/9/19 GT","FRANCISCO DE ABREU P","AULINO"," ","FRANCISCO DE ABREU PAULINO, C.A.","CALLE MIRANDA Nº 3 PETARE","ZONA COLONIAL"," "," ","(0212)2715480"," ","DE LUNES A VIERNES","DE 8AM A 4 PM",null,"J-00019273-1","002C-6597","0","Sí","00","CONTADO","09","CLIENTE INHABILITADO","04","06","BAR/TABER./S. BAR/PUB/TAS","01","OFF PREMISSE","01","OFF PREMISSE","09","09","09 - CLIENTE INHABILITADO","DE LUNES A VIERNES DE 8AM A 4 PM"]
["J000192791","09 - CLIENTE INHABILITADO","FRANCISCO DE ABREU PAULINO, C.A","FRANCISCO DE ABREU PAULINO, C.A"," ","FRANCISCO DE ABREU PAULINO, C.A","CALLE MIRANDA LOCAL NRO 3 ZONA","COLONIAL CARACAS (PETARE)","MINISIPIO SUCRE","0212-2718213","14/01/19"," ","PETARE","ESTD MIRANDA"," "," ","CAMBIO Z - 31 A Z - 09 200919 GA","FRANCISCO DE ABREU"," "," ","FRANCISCO DE ABREU PAULINO, C.A","CALLE MIRANDA LOCAL NRO3 ZONA COLON","IAL PETARE FRENTE ALCATALINA LA ¨O¨","ESTADO MIRANDA MUNISIPIO SUCRE"," ","0212-271-8213"," ","DE LUNES A VIERNES DE","8:00 AM A 4:00 PM","JUEVES Y VIERNES","J-00019273-1","002C-6597","15000","Sí","00","CONTADO","32","SUCRE - BARUTA","04","06","BAR/TABER./S. BAR/PUB/TAS","02","ON PREMISSE","02","ON PREMISSE","09","09","09 - CLIENTE INHABILITADO","DE LUNES A VIERNES DE 8:00 AM A 4:00 PM"]
["J000215006","60 - SKO CARVAJAL EDUARDO","LABORATORIOS LETI S.A.V.","LABORATORIOS LETI S.A.V."," ","LABORATORIOS LETI S.A.V.","ZONA INDUSTRIAL DEL ESTE,AVDA 2,PAR","CELA 3MANZANA J,EDIF.LETI-GUARENAS-","EDO.MIRANDA"," "," "," ","GUARENAS"," "," "," "," ","JOSE MARIA MASSA BON","ET"," ","LABORATORIOS LETI S.A.V.","ZONA INDUSTRIAL DEL ESTE,AVDA 2,PAR","CELA 3MANZANA J,EDIF.LETI-GUARENAS-","EDO.MIRANDA"," "," "," "," "," ",null,"J-00021500-6","PARTICULAR","0","No","00","CONTADO","60",null,"06","29","INDUSTRIAL","01","OFF PREMISSE","01","OFF PREMISSE"," ","60"," ","   "]
["J000217084","71 - OFICINA","LANDER Y VERA, S.A.","LANDER Y VERA, S.A.","020813","LANDER Y VERA, S.A.","AV. PPAL. LA MORA II, LOCAL MANZANA","I. NRO. 2 URB. MORA II, LA VICTORIA"," "," "," "," ","CARACAS"," "," "," "," ","GILBER SALCEDO"," "," ","LANDER Y VERA, S.A.","URB. CHUAO, AV. LA ESTANCIA, CENTRO","BANAVEN, NUCLEO D, PISO 2, OFC.D-22","CHACAO"," ","(0212) 991-00-29","991-68-42"," "," ","CONTADO","J-00021708-4","PARTICULAR","7500","No","05","CREDITO 5 DIAS","71","OFICINA","06","33","RELACIONADOS","00","ESTANDAR","00","ESTANDAR"," ","71","71 - OFICINA",{"$f":"CONCATENATE(AB130,\" \",AC130)","v":"   "}]
["J000222690","22 - GONZALEZ CARLOS","LICORES CATIA,C.A.","LICORES CATIA,C.A."," ","LICORES CATIA,C.A.","LOS MAGALLANES CATIA"," "," ","0212 810 23 44","0414 186 97 77","leibis@gmail.com","CARACAS"," "," ","DESBLOQ.190218 CUMP.3PP JQ-HD","BLOQ MAYOR 112 DIAS SEGUI 240222 PH","GENARO CORDONA"," "," ","LICORES CATIA,C.A.","AVENIDA SUCRE FRENTE PLAZA CATIA"," "," "," ","(0212) 870-23-44"," ","RECIBE  LUNES A JUEVES"," 11:00AM A 5:00PM","MARTES","J-00022269-0","21-MN-313","89250","Sí","05","CREDITO 5 DIAS","22","CATIA-JUNQUITO","06","18","LICORERIAS/BODEGONES","01","OFF PREMISSE","01","OFF PREMISSE","22","22","02 - VICTOR TORRES - OFF","RECIBE  LUNES A JUEVES  11:00AM A 5:00PM"]
["J000222720","20 - DIEGO MANUEL","BODEGON Y DELIC. LA ESMERALDA, C.A.","BODEGON Y DELICATESES LA ESMERALDA"," ","BODEGON Y DELICATESES LA ESMERALDA, C.A.","AVENIDA CASANOVA ESQ.COROMOTO EDF.","OROMA,PISO PB LOCAL Nº. 03, SECTOR","BELLO MONTE, PARROQUIA EL RECREO","(0212) 762.14.78","(0414) 272.15.68","mhgf@hotmail.com","CARACAS"," "," ","CAMBIO DE ZONA 20 AL 09 111022 FL","CAMBIO DE ZONA 09 AL 20 29/6/23 LL","MARILUZ DE GOUVEIA","CAMBIO DE ZONA 23 A","20 200117","BODEGON Y DELICATESES LA ESMERALDA","AVENIDA CASANOVA ESQ.COROMOTO EDF.","OROMA,PISO PB LOCAL Nº. 03, SECTOR","BELLO MONTE, PARROQUIA EL RECREO","(PASANDO EL FORNTIN- SABANA GRANDE)","0412-013.56.56"," ","RECIBE  LUNES A JUEVES"," 11:00 AM A 4:00 PM","JUEVES","J-00022272-0","5-MN-1872","89250","No","00","CONTADO","09","CLIENTE INHABILITADO","06","18","LICORERIAS/BODEGONES","01","OFF PREMISSE","01","OFF PREMISSE","20","20","02 - TORRES VICTOR - OFF","RECIBE  LUNES A JUEVES  11:00 AM A 4:00 PM"]
["J000303614","60 - SKO CARVAJAL EDUARDO","C.A SUCESORA DE JOSE PUIG & CIA","C.A SUCESORA DE JOSE PUIG & CIA"," ","C.A SUCESORA DE JOSE PUIG & CIA","2DA TRANSV.LOS CORTIJOS DE LOURDESE","DIF.PUIG PLANTA BAJA-CARACAS-EDOMIR","ANDA","2340872"," "," ","CARACAS"," "," "," "," ","NULL"," "," ","C.A SUCESORA DE JOSE PUIG & CIA","2DA TRANSV.LOS CORTIJOS DE LOURDESE","DIF.PUIG PLANTA BAJA-CARACAS-EDOMIR","ANDA"," "," "," "," "," ",null,"J-00030361-4","PARTICULAR","0","No","00","CONTADO","60",null,"06","28","COMERCIOS","01","OFF PREMISSE","01","OFF PREMISSE"," ","60"," ","   "]
["J000306516","02 - REQUENA JOHAN - OFF","LICORERIA LA VIEJA, C.A.","LICORERIA LA VIEJA, C.A"," ","LICORERIA LA VIEJA, C.A","C/DEL MEDIO PRADO DE MARIA C/C LUIS"," BRAILLEEDIF.RICAURTE EL CEMENTERIO","-CARACAS-DTTO.FEDERAL","6320289"," "," ","CARACAS"," "," "," "," ","DOS SANTOS DE ARAUJO","MARIA ELIZABETH"," ","LICORERIA LA VIEJA, C.A","C/DEL MEDIO PRADO DE MARIA C/C LUIS"," BRAILLEEDIF.RICAURTE EL CEMENTERIO","-CARACAS-DTTO.FEDERAL"," "," "," ","TRASP.AL 02 SEGUN SOLIC","14/02/11",null,"J-00030651-6","13-MN 0848","89250","No","05","CREDITO 5 DIAS","24","CARICUAO","05","18","LICORERIAS/BODEGONES","01","OFF PREMISSE","01","OFF PREMISSE"," ","02"," ","TRASP.AL 02 SEGUN SOLIC 14/02/11"]
["J000312575","09 - CLIENTE INHABILITADO","ABTOS.Y CARN. EL MAS BARATO, S.R.L.","ABASTOS EL MAS BARATO"," ","ABTOS.Y CARN. EL MAS BARATO, S.R.L.","AVDA. LA ARMADA LA AVIACION, PQIA.","CATIA LA MAR C.C. DE INAVI LOCAL A,","MAIQUETIA EDO. VARGAS"," ","3 CHD"," ","LA GUAIRA"," "," ","DESBLQ.CONVERS.PROMET.MEJORAR PAGOS","BLOQ. MOROSO 09-06-15 ZONA 01 S.U.","FELIX GONZALEZ","C.I. 5.862.096"," ","ABTOS.Y CARN. EL MAS BARATO, S.R.L.","AVDA. LA ARMADA LA AVIACION, PQUIA.","CATIA LA MAR C.C. DE INAVI LOCAL A,","MAIQUETIA EDO. VARGAS"," "," "," "," "," ","LUNES","J-00031257-5","031-MN-560","15000","No","00","CONTADO","14","LITORAL CENTRAL","05","22","ABASTOS GRANDES","01","OFF PREMISSE","01","OFF PREMISSE","09","09","09 - CLIENTE INHABILITADO","   "]
["J000325693","09 - CLIENTE INHABILITADO","C.A RON SANTA TERESA","C.A RON SANTA TERESA"," ","C.A RON SANTA TERESA","HACIENDA SANTA TERESA CARRETERA","PANAMERICANA, EL CONSEJO","ESTADO MIRANDA","0244-400.27.44","0244-400.25.90"," "," "," "," ","EL CLIENTE SE CREO POR ERROR","SE DEBIO HACER EN LA COMPAÑIA 53"," "," "," ","C.A RON SANTA TERESA","HACIENDA SANTA TERESA","CARRETERA PANAMERICANA, EL CONSEJO","ESTADO MIRANDA"," ","0244-400.27.44"," "," "," ","CONTADO","J-00032569-3","PARTICULAR","0","No","00","CONTADO","09","CLIENTE INHABILITADO","01"," ",null,"00","ESTANDAR","00","ESTANDAR","09","09","09 - CLIENTE INHABILITADO","   "]
["J000340366","36  CLIENT-CORPORAT-OFIC.","SEGUROS VENEZUELA C.A","SEGUROS VENEZUELA C.A"," ","SEGUROS VENEZUELA C.A","AV FRANCISCO DE MIRANDA EDIF SEGURO","VENEZUELA PISO 8 Y 9 OF ADMINISTRAC","ION URB CAMPO ALEGRE CARACAS CHACAO"," "," "," ","CARACAS","MIRANDA"," "," "," "," "," "," ","SEGUROS VENEZUELA C.A","AV FRANCISCO DE MIRANDA EDIF SEGURO","VENEZUELA PISO 8 Y 9 OF ADMINISTRAC","ION URB CAMPO ALEGRE CARACAS CHACAO","MIRANDA"," "," "," "," ",null,"J-00034036-6","PARTICULAR","89250","No","05","CREDITO 5 DIAS","36","VTAS.CORPORATIVAS","06","31","PARTICULAR","01","OFF PREMISSE","00","ESTANDAR","36","36","71 - OFICINA","   "]
["J000341940","09 - CLIENTE INHABILITADO","SERV PANAM DE PROTECCION C.A","SERV PANAM DE PROTECCION C.A"," ","SERVICIO PANAMERICANO DE PROTECCION C.A","AV.TERESA DE LA PARRA EDIFICIOSERPA","PROCA - SANTA MONICA-DTTO.FEDERAL"," ","6094237"," "," ","CARACAS"," "," "," "," ","LUIS DEL PINO"," "," ","SERV PANAM DE PROTECCION C.A","AV.TERESA DE LA PARRA EDIFICIOSERPA","PROCA - SANTA MONICA-DTTO.FEDERAL"," "," "," "," "," "," ",null,"J-00034194-0","PARTICULAR","15000","No","05","CREDITO 5 DIAS","15","BARUTA","06","29","INDUSTRIAL","01","OFF PREMISSE","01","OFF PREMISSE","09","09","09 - CLIENTE INHABILITADO","   "]
["J000355100","09 - CLIENTE INHABILITADO","SUPERMERCADO VERACRUZ,C.A.","C A SUPERMERCADO VERACRUZ"," ","C A SUPERMERCADO VERACRUZ","CALLE VERACRUZ LA HACIENDA LAS MERC","EDESCARACAS"," "," "," "," ","CARACAS"," "," "," "," ","BRITO ANTONIO"," "," ","C A SUPERMERCADO VERACRUZ","CALLE VERACRUZ LA HACIENDA LAS MERC","EDESCARACAS"," "," "," "," "," "," ",null,"J-00035510-0","M-M 136","15000","No","05","CREDITO 5 DIAS","15","BARUTA","05","21","SUPERMERCADOS/AUTOMERCADO","01","OFF PREMISSE","01","OFF PREMISSE","09","09","09 - CLIENTE INHABILITADO","   "]
["J000400237","02 - REQUENA JOHAN - OFF","LICORERIA LA FUNDACION,S.R.L.","LICORERIA LA FUNDACION,S.R.L."," ","LICORERIA LA FUNDACION,S.R.L.","AV.PPAL.DE LA ARMADA, ENTRADA LOS M","OLINOSFTE. LA PEPSICOLA- CATIA LA M","AR-EDO.VARGAS","3515369"," "," ","LA GUAIRA"," "," "," "," ","VIEIRA HECTOR"," "," ","LICORERIA LA FUNDACION,S.R.L.","AV.PPAL.DE LA ARMADA, ENTRADA LOS M","OLINOSFTE. LA PEPSICOLA- CATIA LA M","AR-EDO.VARGAS"," "," "," "," "," ",null,"J-00040023-7","M-M 745","89250","No","05","CREDITO 5 DIAS","21","VALLES DEL TUY-21","05","18","LICORERIAS/BODEGONES","01","OFF PREMISSE","01","OFF PREMISSE"," ","02"," ","   "]
["J000407134","09 - CLIENTE INHABILITADO","CASA OLIVEIRA C.A.","CASA OLIVEIRA C.A."," ","CASA OLIVEIRA C.A.","CALLE VARGAS CON CALLE SANTA CLARA","EDIFICIOOLIVEIRA,URBANIZACION BOLEI","TA NORTE-CARACAS","2398242"," "," ","CARACAS"," "," "," "," ","CASA OLIVEIRA C.A."," "," ","CASA OLIVEIRA C.A.","CALLE VARGAS CON CALLE SANTA CLARA","EDIFICIOOLIVEIRA,URBANIZACION BOLEI","TA NORTE-CARACAS"," "," "," "," "," ",null,"J-00040713-4","M-Y 200","15000","No","05","CREDITO 5 DIAS","13","PETARE","01","01","DE LICORES CON FZA DE VTA","01","OFF PREMISSE","01","OFF PREMISSE"," ","09","09 - CLIENTE INHABILITADO","   "]
["J000411816","09 - CLIENTE INHABILITADO","CLUB PUERTO AZUL, A.C.","CLUB PUERTO AZUL, A.C."," ","CLUB PUERTO AZUL, A.C.","CARRETERA VIA NAIGUATA SECTOR CLUB","PUERTO AZUL NAIGUATA EDO. VARGAS"," "," "," "," ","LA GUAIRA"," "," "," ","BAJA FRECUENCIA DE COMPRA 12/03/14","RAUL ANDRES COHEN C","C.I. 6.006.389"," ","CLUB PUERTO AZUL, A.C.","CARRETERA VIA NAIGUATA SECTOR CLUB","PUERTO AZUL NAIGUATA EDO. VARGAS"," "," "," "," "," "," ","JUEVES","J-00041181-6","031-C-519","15000","Sí","00","CONTADO","14","LITORAL CENTRAL","04","10","CLUB SOCIALES","02","ON PREMISSE","02","ON PREMISSE"," ","09","09 - CLIENTE INHABILITADO","   "]
["J000413763","09 - CLIENTE INHABILITADO","CERV.Y M.LA SELECTA SRL.","CERV.Y M.LA SELECTA SRL."," ","CERV.Y M.LA SELECTA SRL.","CENTRO COMERCIAL MIRANDA ARRIBABANC","O LATINO-GUARENAS-EDO.MIRANDA"," "," "," "," ","GUARENAS"," "," "," "," ","HILARIO DA COSTA"," "," ","CERV.Y M.LA SELECTA SRL.","CENTRO COMERCIAL MIRANDA ARRIBABANC","O LATINO-GUARENAS-EDO.MIRANDA"," "," "," "," "," "," ",null,"J-00041376-3","C 22416","15000","No","05","CREDITO 5 DIAS","11","GUARENAS","04","07","RESTAURANTES","02","ON PREMISSE","02","ON PREMISSE","09","09","09 - CLIENTE INHABILITADO","   "]
["J000418055","22 - GONZALEZ CARLOS","ABAS Y CARNICERIA LA LIBERTAD C.A.","ABAS Y CARNICERIA LA LIBERTAD C.A."," ","ABASTOS Y CARNICERIA LA LIBERTAD, C.A.","CALLE ZONA F CC 15, NIVEL PB, LOCAL","E Y F, URB 23 DE ENERO CARACAS"," ","0424-2548908"," "," ","CARACAS"," "," "," ","REACTIVACION ZONA 22 AL 02/02/23 ST","LUIS FELIPE JORGE"," "," ","ABASTOS Y CARNICERIA LA LIBERTAD, C","CALLE ZONA F, CC 15, NIVEL PB LOCAL","E Y F, URB 23 DE ENERO CARACAS"," "," ","0424-2548908"," ","RECIBE DE LUNES A VIERNES","DE 9:30AM A 5:00PM","MIERCOLES","J-00041805-5","MN-601","89250","No","05","CREDITO 5 DIAS","22","CATIA-JUNQUITO","05","22","ABASTOS GRANDES","01","OFF PREMISSE","01","OFF PREMISSE","22","22","02 - TORRES VICTOR - OFF","RECIBE DE LUNES A VIERNES DE 9:30AM A 5:00PM"]
["J000421617","09 - CLIENTE INHABILITADO","AUTOMERCADO LAS TRES ESTRELLAS,C.A.","AUTOMERCADO TRES ESTRELLAS,C.A."," ","AUTOMERCADO TRES ESTRELLAS,C.A.","AV. EL EJERCITO EDIF.VENEZUELALOCAL"," 1 - CATIA LA MAR-EDO.VARGAS"," ","3513814"," "," ","LA GUAIRA"," "," "," ","PASO A 01 SUP.JOAN REQUENA 040116","MANICA RAFAEL"," "," ","AUTOMERCADO TRES ESTRELLAS,C.A.","AV. EL EJERCITO EDIF.VENEZUELALOCAL"," 1 - CATIA LA MAR-EDO.VARGAS"," "," "," "," ","NO RECIBE LOS VIERNES"," ","MARTES","J-00042161-7","M-N 1","15000","Sí","00","CONTADO","14","LITORAL CENTRAL","05","21","SUPERMERCADOS/AUTOMERCADO","01","OFF PREMISSE","01","OFF PREMISSE","09","09","09 - CLIENTE INHABILITADO","NO RECIBE LOS VIERNES  "]
["J000422141","71 - OFICINA","LICORES DE CALIDAD, C.A","LICORES DE CALIDAD, C.A","12/06/19","LICORES DE CALIDAD, C.A","CARRETERA PANAMERICANA, HACIENDA","SANTA TERESA , SECTOR EL CONSEJO,","ESTADO ARAGUA","(58-244)400-2628"," "," ","ARAGUA"," "," "," "," "," "," "," ","LICORES DE CALIDAD, C.A","CARRETERA PANAMERICANA, HACIENDA","SANTA TERESA, SECTOR EL CONSEJO","ESTADO ARAGUA VENEZUELA"," ","(58-244)400.2628"," ","RECIBE DE LUNES A VIERNES","HORARIO DE OFICINA",null,"J-00042214-1","MY-044-098","7500","No","05","CREDITO 5 DIAS","71","OFICINA","01","28","COMERCIOS","01","OFF PREMISSE","01","OFF PREMISSE","71","71","71 - OFICINA","RECIBE DE LUNES A VIERNES HORARIO DE OFICINA"]
["J000429634","24 - REYES OSWALDO","SUPERMERCADO LUGO LEON S.R.L.","SUPERMERCADO LUGO LEON S.R.L."," ","SUPERMERCADO LUGO LEON S.R.L.","CURAMICHATE A VIENTO, EDF. MIAMI","LOCAL A Y B.","CARACAS DTTO. CAPITAL","NO POSEE","0414 364 70 40","NO POSEE","CARACAS"," "," ","CAMBIO DE ZONA 28 A 228 190122 ST","CAMBIO DE ZONA V28 A V24 140223 ST","JHON PAULO GONCALVES","C.I. 15.793.223"," ","SUPERMERCAD LUGO LEON SRL","CURAMICHATE A VIENTO EDF. MIAMI","LOCAL A Y B. CARACAS DTTO. CAPITAL"," "," ","(0414) 200-71-48"," ","RECIBE  LUNES A VIERNES"," 11:00AM A 4:00PM","JUEVES","J000429634","MN-446","89250","No","05","CREDITO 5 DIAS","23","CENTRO-SAN MARTIN","06","21","SUPERMERCADOS/AUTOMERCADO","01","OFF PREMISSE","01","OFF PREMISSE","24","24","02 - VICTOR TORRES - OFF","RECIBE  LUNES A VIERNES  11:00AM A 4:00PM"]
["J000429677","09 - CLIENTE INHABILITADO","SUP. LA NACIONAL DEL PARAISO,C.A.","SUP. LA NACIONAL DEL PARAISO,C.A."," ","SUP. LA NACIONAL DEL PARAISO,C.A.","AVENIDA PAEZ CRUCE CON AV EL EJERCI","TOEL PARAISO CARACAS"," ","482-20-32"," "," ","CARACAS"," "," "," ","CLT CIERRE DEFINIT CZ-01 160118","QUINTINO PESTANA"," "," ","SUP. LA NACIONAL DEL PARAISO,C.A.","AVENIDA PAEZ CRUCE CON AV EL EJERCI","TO EL PARAISO CARACAS"," "," "," "," ","RECIBE DE LUNES A JUEVES","9 AM A 1 PM Y 3 A 5 PM","VIERNES","J-00042967-7","M-N 1724","0","Sí","00","CONTADO","09","CLIENTE INHABILITADO","06","21","SUPERMERCADOS/AUTOMERCADO","01","OFF PREMISSE","01","OFF PREMISSE","09","09","09 - CLIENTE INHABILITADO","RECIBE DE LUNES A JUEVES 9 AM A 1 PM Y 3 A 5 PM"]
["J000443939","31 - RODRIGUEZ WLADIMIR","CERVECERIA RESTAURANT RIO CHICO,C.A","CERVECERIA RESTAURANT RIO CHICO,C.A"," ","CERVECERIA RESTAURANT RIO CHICO,C.A","AV.FRANCISCO DE MIRANDA EDF.GALERIA","MIRANDA PBLOCAL B-8 ZONA CHACAO","MIRANDA ZONA POSTAL 1060","0212.2633761"," "," ","CARACAS"," "," "," ","CAMBIO DE ZONA 35 A 31 07/03/23 LL","VIRGILIO RANGEL M."," "," ","CERVECERIA RESTAURANT RIO CHICO,C.A","AV.FRANCISCO DE MIRANDA EDF.GALERIA","MIRANDA PB LOCAL B-8","ZONA CHACAO"," ","0212.2633761"," ","RECIBE DIAS  LUNES","DE 9:00 AM A 3:00 PM","LUNES","J-00044393-9","70100000386","89250","No","05","CREDITO 5 DIAS","35","EL ROSAL-CHACAO","04","07","RESTAURANTES","02","ON PREMISSE","02","ON PREMISSE","31","31","01 - GUERRERO SALVADOR - OFF","RECIBE DIAS  LUNES DE 9:00 AM A 3:00 PM"]
["J000446857","623 - SKO HERNANDEZ JOSE","LA PENINSULA, C.A.","LA PENINSULA, C.A."," ","LA PENINSULA, C.A.","BLOQUE 3 LOCAL 22-EL SILENCIO","CARACAS"," ","(0212) 481.91.31"," ","lapeninsulaventas@gmail.com","CARACAS"," "," "," ","CAMBIIO DE ZONA V23 A V623 13/04 PH","JOSE RAFAEL DE FREIT","AS"," ","LA PENINSULA, C.A.","BLOQUE 3 LOCAL 22-EL SILENCIO","CARACAS"," "," ","(0212) 481-91-31"," ","RECIBE  LUNES A VIERNES"," 8 a 12 PM - 2 A 4 PM","LUNES","J-00044685-7","M-Y 908","89250","No","05","CREDITO 5 DIAS","23","CENTRO-SAN MARTIN","01","01","DE LICORES CON FZA DE VTA","19","SUCU-PROLI-CO-DISTR CILCA","19","SUCU-PROLI-CO-DISTR CILCA","623","623","02 - VICTOR TORRES - OFF","RECIBE  LUNES A VIERNES  8 a 12 PM - 2 A 4 PM"]
["J000473668","32 - HERNANDEZ EDGAR","GISANA C.A","GISANA C.A","301122 LL","GISANA C.A","AV FRANCISCO SOLANO ENTRE JABILLO","SAN JERONIMO EDIF CASTELLANO PISO","PB LOCAL PC URB SABANA GRANDE","0414-3227458"," "," "," "," "," "," ","CAMBIO DE ZONA V31 A LA V32 220223","JHONY DUQUE CHACON"," "," ","GISANA C.A","AV FRANCISCO SOLANO ENTRE JABILLO","SAN JERONIMO EDIF CASTELLANO PISO","PB LOCAL PC URB SABANA GRANDE"," ","0414-3227458"," ","RECIBE DE LUNES A VIERNES","DE10AM A 12PM Y 2PM A 4PM","DE LUNES A VIERNES","J-00047366-8","05-CVC-002515","89250","No","05","CREDITO 5 DIAS","31","LA CASTELLANA","04","07","RESTAURANTES","01","OFF PREMISSE","00","ESTANDAR","32","32","01 - GUERRERO SALVADOR - OFF","RECIBE DE LUNES A VIERNES DE10AM A 12PM Y 2PM A 4PM"]
["J000480273","31 - RODRIGUEZ WLADIMIR","CORPORACION VENFEC, S.A","BOWLING CONCRESA"," ","CORPORACION VENFEC, S.A","AV RIO CAURA C.C. PARQUE HUMBOLDT,","NIVEL 02, URB. PRADOS DEL ESTE,","MUNICIPIO BARUTA","0212.979.31.64","CLIENTE PREPAGO"," ","CARACAS"," "," "," "," ","JOSE MONTILLA"," "," ","BOWLING CONCRESA","AV. RIO CAURA, C.C. PARQUE HUMBOLDT","NIVEL 02, URB. PRADOS DEL ESTE,","MUNICIPIO BARUTA"," ","0212.979.31.64"," ","CAMBIO DE ZONA SUP.03","DE FECHA 25/07/2013","JUEVES","J-00048027-3","B-110-0-0288","89250","Sí","00","CONTADO","30","PARROQUIA EL RECREO","04","06","BAR/TABER./S. BAR/PUB/TAS","02","ON PREMISSE","02","ON PREMISSE"," ","31"," ","CAMBIO DE ZONA SUP.03 DE FECHA 25/07/2013"]
["J000511829","09 - CLIENTE INHABILITADO","SUPERMERCADO ECONOMICO C A","SUPERMERCADO ECONOMICO C A"," ","SUPERMERCADO ECONOMICO C A","AV. FRANCISCO DE MIRANDA FRENTE A L","APREFECTURA DE PETARE"," ","2566722"," "," ","CARACAS"," "," "," "," ","LUIS HUNG"," "," ","SUPERMERCADO ECONOMICO C A","AV. FRANCISCO DE MIRANDA FRENTE A L","APREFECTURA DE PETARE"," "," "," "," "," "," ",null,"J-00051182-9","M-N 1599","15000","No","05","CREDITO 5 DIAS","13","PETARE","05","21","SUPERMERCADOS/AUTOMERCADO","01","OFF PREMISSE","01","OFF PREMISSE","09","09","09 - CLIENTE INHABILITADO","   "]
["J000526621","60 - SKO CARVAJAL EDUARDO","CITIBANK, N.A.","CITIBANK, N.A."," ","CITIBANK, N.A.","AV.CASANOVA,URB.SABANA GRANDE C.CEL"," RECREO,TORRE NORTE P-16,L-16-CARAC","AS","0212.705.21.54/23.22"," "," ","CARACAS"," "," "," "," ","FRED AARONS P."," "," ","CITIBANK, N.A.","AV.CASANOVA,URB.SABANA GRANDE C.CEL"," RECREO,TORRE NORTE P-16,L-16-CARAC","AS"," "," "," "," "," ",null,"J-00052662-1","PARTICULAR","0","No","00","CONTADO","60",null,"06","29","INDUSTRIAL","01","OFF PREMISSE","01","OFF PREMISSE"," ","60"," ","   "]
["J000530793","31 - RODRIGUEZ WLADIMIR","FTE DE SODA. REST EL SILENCIO C.A","GRAN CERV REST. FTE  SODA EL SILENC"," ","FTE DE SODA. REST EL SILENCIO C.A","ESQ PEDRERA LA GORDA EDIF MATUTE","PISO PB 2 ZONA EL SILENCIO"," ","0212.484.64.34"," "," ","CARACAS"," "," "," "," ","CARLOS NATIVIDAD F","CATHERINE CARMONA B"," ","FTE DE SODA. REST EL SILENCIO C.A","ESQ PEDRERA A LA GORDA EDIF MATUTE","PISO PB LOCAL 2 ZONA EL SILENCIO"," "," ","0212.484.64.34"," "," "," ",null,"J-00053079-3","4C0660","89250","No","05","CREDITO 5 DIAS","23","CENTRO-SAN MARTIN","04","07","RESTAURANTES","02","ON PREMISSE","02","ON PREMISSE"," ","31"," ","   "]
["J000537585","34 - MARQUINA CARLOS","AUTOMERCADO SAN LORENZO, C.A.","AUTOMERCADO SAN LORENZO, C.A."," ","AUTOMERCADO SAN LORENZO, C.A.","CALLE SEXTA TRANSVERSAL ENTRE","ALTAMIRA Y LOS PALOS GRANDES","QTA AKOBA NRO S/N URB LOS","(0212) 285.61.69","(0212) 285.86.35","automercadosanlorezo@gmail.com","CARACAS","PALOS GRANDES, CARACAS","CAMBIO DE ZONA 42 A 10 16-02-22 FL","CAMBIO DE ZONA 10 A 34 060923 RM"," ","LUIS PINTO DA SILVA","JOSE MANUEL DA SILVA","JOSE LUIS PINTO","AUTOMERCADO SAN LORENZO, C.A.","CALLE SEXTA TRANSVERSAL ENTRE","ALTAMIRA Y LOS PALOS GRANDES","QTA AKOBA NRO S/N URB LOS","PALOS GRANDES, CARACAS","0212-254.33.81"," ","RECIBE  LUNES A VIERNES","8AM A 1PM","DE LUNES A JUEVES","J-00053758-5","70100000582","89250","No","05","CREDITO 5 DIAS","10","ALTAMIRA-OFF","05","21","SUPERMERCADOS/AUTOMERCADO","01","OFF PREMISSE","01","OFF PREMISSE","34","34","01 - GUERRERO SALVADOR - OFF","RECIBE  LUNES A VIERNES 8AM A 1PM"]
["J000538255","71 - OFICINA","ORGANON VENEZOLANA,S.A.","ORGANON VENEZOLANA,S.A."," ","ORGANON VENEZOLANA,S.A.","CALLE SUAPURE C/C DIANA PISO Nº 01L","OMAS DE BELLO MONTE- CARACAS-EDO.MI","RANDA","7532511"," "," ","CARACAS"," "," "," "," ","ALEJANDRO ALFONZO LA","RRAIN"," ","ORGANON VENEZOLANA,S.A.","CALLE SUAPURE C/C DIANA PISO Nº 01L","OMAS DE BELLO MONTE- CARACAS-EDO.MI","RANDA"," "," "," "," "," ",null,"J-00053825-5","PARTICULAR","2200","No","05","CREDITO 5 DIAS","71","OFICINA","06","28","COMERCIOS","01","OFF PREMISSE","01","OFF PREMISSE","71","71","71 - OFICINA","   "]
["J000540063","09 - CLIENTE INHABILITADO","AUTO POLLO CARIBE C A","AUTO POLLO CARIBE C A"," ","AUTO POLLO CARIBE C A","CENTRO C.M, CARRETERA PETARE SANTA","LUCIAKM 5 FILA DE MARICHE-EDO.MIRAN","DA","2346548"," "," ","CARACAS"," "," "," ","CAMBIO A LA ZONA 09 23-09-19 YM","AGOSTINHO DE SOUSA"," "," ","AUTO POLLO CARIBE C A","CENTRO C.M, CARRETERA PETARE SANTA","LUCIAKM 5 FILA DE MARICHE-EDO.MIRAN","DA"," "," "," "," "," ",null,"J-00054006-3","C 3585","0","Sí","00","CONTADO","09","CLIENTE INHABILITADO","04","07","RESTAURANTES","02","ON PREMISSE","02","ON PREMISSE","09","09","09 - CLIENTE INHABILITADO","   "]
["J000540705","09 - CLIENTE INHABILITADO","ZEROSTAND, C.A.","BAR RESTAURANT ZEROSTAND"," ","ZEROSTAND, C.A.","AV ANAUCO EDIF ASTORIA PISO PB","LOCAL A Y B. URB SAN BERNARDINO","CARACAS-DISTRITO FEDERAL","0212-551.00.95"," "," ","CARACAS"," "," ","BLOQ.210416 SOLO COMPRA N DICIEMBRE","CAMBIO A ZONA 09 19-09-19 YM","IRANILDO DE FREITAS"," "," ","BAR RESTAURANT ZEROSTAND","AV ANAUCO EDIF ASTORIA PISO PB","LOCAL A Y B. URB SAN BERNARDINO","CARACAS-DISTRITO FEDERAL"," ","0212-551.00.95"," "," "," ","JUEVES","J-00054070-5","EN TRAMITE","0","Sí","00","CONTADO","09","CLIENTE INHABILITADO","06","20","DELICATESES/FRIGO/CHARCUT","01","OFF PREMISSE","01","OFF PREMISSE","09","09","09 - CLIENTE INHABILITADO","   "]
["J000549087","13 - GUDIÑO FABIAN","SUPERMERCADO 3 DE SEPTIEMBRE,C.A.","SUPERMERCADO 3 DE SEPTIEMBRE"," ","SUPERMERCADO 3 DE SEPTIEMBRE,C.A.","CALLE GUAICAIPURO EL MARQUES FRENTE"," PARADA DE AUTOBUS-CARACAS"," ","(0212)242.03.24"," ","super3septiembre@gmail.com","CARACAS"," ","CAMBIO V-10 AL V-43 MYZ 06072021","CAMBIO DE ZONA 43 A 10 160222 ST","CAMBIO DE ZONA 10 A 13 050923 RM","FERNANDO GOMEZ"," "," ","SUPERMERCADO 3 DE SEPTIEMBRE","CALLE GUAICAIPURO EL MARQUES FRENTE"," PARADA DE AUTOBUS-CARACAS"," "," ","(0212) 242-03-24"," ","RECIBE  LUNES A VIERNES","7 AM A 4 PM","JUEVES","J-00054908-7","002-MN-374","89250","No","05","CREDITO 5 DIAS","10","ALTAMIRA-OFF","05","21","SUPERMERCADOS/AUTOMERCADO","01","OFF PREMISSE","01","OFF PREMISSE","13","13","01 - GUERRERO SALVADOR - OFF","RECIBE  LUNES A VIERNES 7 AM A 4 PM"]
["J000554978","09 - CLIENTE INHABILITADO","AUTOMERCADO LAS FUENTES C.A.","AUTOMERCADO LAS FUENTES"," ","AUTOMERCADO LAS FUENTES C.A.","AVENIDA PRINCIPAL DE LAS FUENTES EL","PARAISO- CARACAS-DTTO.CAPITAL"," ","0212 461 42 63","NO POSEE","NO POSEE","CARACAS"," ","CONTRIB.ESPEC.FACTURAR AL 28 C/MES","DESBLOQ.180815 HD NO APLICA RET.75%","COMBIO D ZONA24 A 09 AL 190619 JA","ANTONIO RODRIGUES ME","NDES"," ","AUTOMERCADO LAS FUENTES C.A.","AVENIDA PRINCIPAL DE LAS FUENTES EL","PARAISO- CARACAS-DTTO.CAPITAL"," "," "," "," ","RECIBE  LUNES A VIERNES"," 9:00AM A 4:00PM","MIERCOLES","J-00055497-8","22-MN-002236","0","Sí","00","CONTADO","09","CLIENTE INHABILITADO","06","21","SUPERMERCADOS/AUTOMERCADO","01","OFF PREMISSE","01","OFF PREMISSE","09","09","09 - CLIENTE INHABILITADO","RECIBE  LUNES A VIERNES  9:00AM A 4:00PM"]
["J000557500","09 - CLIENTE INHABILITADO","BAR RESTAURANT LA GIRALDA C.A.","BAR REST.LA GIRALDA C.A."," ","BAR REST.LA GIRALDA C.A.","1ERA AV.  DE BELLO MONTE CRUCE CON","AVDA.CAZANOVA SABANA GRANDE CARACAS"," ","762-32-91"," "," ","CARACAS"," "," "," ","CAMBIO A LA ZONA 09 23-09-19 YM","AGUSTIN ANDRADE"," "," ","BAR REST.LA GIRALDA C.A.","1ERA AV.  DE BELLO MONTE CRUCE CON","AVDA.CAZANOVA SABANA GRANDE CARACAS"," "," "," "," "," "," ",null,"J-00055750-0","C 289","0","Sí","00","CONTADO","09","CLIENTE INHABILITADO","04","07","RESTAURANTES","02","ON PREMISSE","02","ON PREMISSE","09","09","09 - CLIENTE INHABILITADO","   "]
["J000562768","31 - RODRIGUEZ WLADIMIR","HERMANDAD GALLEGA DE VENEZUELA A.C.","HERMANDAD GALLEGA DE VENEZUELA A.C."," ","HERMANDAD GALLEGA DE VENEZUELA A.C.","AVDA. PRINCIPAL DE MARIPEREZ ENTRE","AVDA. 7 Y AUGUSTO SANDIN HERMANDAD","GALLEGA NRO. PB URB. MARIPEREZ","(0414) 114-87-87","(0212) 793-72-30"," ","CARACAS","CARACAS"," "," "," ","ANTONIO PIÑON"," "," ","HERMANDAD GALLEGA DE VENEZUELA A.C.","AVDA. PRINCIPAL DE MARIPEREZ ENTRE","AVDA. 7 Y AUGUSTO SANDIN HERMANDAD","GALLEGA NRO. PB URB. MARIPEREZ"," ","(0414) 114-87-87","(0212) 793-72-30","PERSONA CONTACTO JAVIER","RODRIGUEZ",null,"J-00056276-8","PARTICULAR","89250","No","05","CREDITO 5 DIAS","33","CENTRO-CANDELARIA","06","10","CLUB SOCIALES","00","ESTANDAR","00","ESTANDAR"," ","31"," ","PERSONA CONTACTO JAVIER RODRIGUEZ"]
["J000572844","22 - GONZALEZ CARLOS","FREITAS HERMANOS J.& Z.,S.R.L.","FREITAS HERMANOS J.& Z.,S.R.L."," ","FREITAS HERMANOS J.& Z.,S.R.L.","CALLE ESTADIUN ALTA VISTA CATIACARA","CAS"," ","814645"," "," ","CARACAS"," "," "," "," ","JOSE LUIS GONCALVEZ","ABREU"," ","FREITAS HERMANOS J.& Z.,S.R.L.","CALLE ESTADIUN ALTA VISTA CATIACARA","CAS"," "," "," "," ","RECIBE - MARTES A VIERNES","11:00AM A 5:00PM","JUEVES","J-00057284-4","M-N 4900","89250","No","05","CREDITO 5 DIAS","22","CATIA-JUNQUITO","06","21","SUPERMERCADOS/AUTOMERCADO","01","OFF PREMISSE","01","OFF PREMISSE","22","22","02 - VICTOR TORRES - OFF","RECIBE - MARTES A VIERNES 11:00AM A 5:00PM"]
["J000582440","14 - GIL EXIO JOSE","LICORES EL MENCEY I, C.A.","LICORES EL MENCEY I, C.A."," ","LICORES EL MENCEY I, C.A.","CALLE REAL DE NAIGUATA LOCAL PB NRO","2 SECTOR PUEBLO ABAJO EDO. VARGAS"," ","(0212) 337.05.67","(0416) 820.61.11","fcorodriguez09@hotmail.com","LA GUAIRA"," "," "," ","RESTRUCT. EDV 14 AL 16 MYZ 25-11-22","FRANCISCO DE SOUSA"," "," ","LICORES EL MENCEY I, C.A.","CALLE REAL DE NAIGUATA LOCAL PB NRO","2 SECTOR PUEBLO ABAJO EDO. VARGAS"," "," ","(0212) 337-05-67"," ","LUN-MAR-JUE Y VIE","9 AM A 1 PM Y 3 PM A 6 PM","JUEVES","J-00058244-0","031-MN-1266","89250","No","05","CREDITO 5 DIAS","14","LITORAL CENTRAL","05","18","LICORERIAS/BODEGONES","01","OFF PREMISSE","01","OFF PREMISSE","14","14","01 - CARLOS DA SILVA - OFF","LUN-MAR-JUE Y VIE 9 AM A 1 PM Y 3 PM A 6 PM"]
["J000583307","09 - CLIENTE INHABILITADO","NEOGRAFICA C.A.","NEOGRAFICA C.A."," ","NEOGRAFICA C.A.","CALLE VARGAS EDIFICIO COMARTIN PISO","2 LOCAL COMARTIN URB. BOLEITA NORTE","CARACAS"," "," "," ","CARACAS"," "," "," ","CAMBIO DE Z 31 A ZONA 09 200919 JA","GIUSEPPE FUMAI"," "," ","NEOGRAFICA, C.A.","CALLE VARGAS EDIFICIO COMARTIN PISO","2 LOCAL COMARTIN URB. BOLEITA NORTE","CARACAS"," "," "," ","TRASP. ZONA 03 CARLOS","DA SILVA S/SOLIC 03/02/11",null,"J-00058330-7","PARTICULAR","15000","Sí","00","CONTADO","31","LA CASTELLANA","04","31","PARTICULAR","00","ESTANDAR","00","ESTANDAR","09","09","09 - CLIENTE INHABILITADO","TRASP. ZONA 03 CARLOS DA SILVA S/SOLIC 03/02/11"]
["J000592217","31 - RODRIGUEZ WLADIMIR","BAR RESTAURANT EL BRASERO, C.A.","BAR Y RESTAURANT EL BRASERO, C.A."," ","BAR Y RESTAURANT EL BRASERO, C.A.","AVENIDA JOSE ANTONIO PAEZ,EL PARAIS","O FRENTEA MC DONALDS Y FARMACIA EL","PINAR","0212.451.77.38/462.2"," "," ","CARACAS"," "," "," "," ","MAGALI BARRIOS"," "," ","BAR Y RESTAURANT EL BRASERO, C.A.","AVENIDA JOSE ANTONIO PAEZ,EL PARAIS","O FRENTEA MC DONALDS Y FARMACIA EL","PINAR"," "," "," "," "," ",null,"J-00059221-7","C-002786","89250","No","05","CREDITO 5 DIAS","33","CENTRO-CANDELARIA","04","06","BAR/TABER./S. BAR/PUB/TAS","02","ON PREMISSE","02","ON PREMISSE"," ","31"," ","   "]
["J000596140","31 - RODRIGUEZ WLADIMIR","HILTON INTER.DE VZLA.C.A(HILTON CCS","HOTEL HILTON"," ","HILTON INTERNC.DE VZLA.C.A(HILTON CCSS)","AV.MEXICO,CON SUR 25, EL CONDE, PLA","ZAPLAZA MORELOS BELLAS ARTES"," ","503-5000 FAX 5035002"," "," ","CARACAS"," "," "," "," ","YAMILETH RIZO"," "," ","HOTEL HILTON","AV.MEXICO,CON SUR 25, EL CONDE, PLA","ZAPLAZA MORELOS BELLAS ARTES"," "," "," "," "," "," ",null,"J-00059614-0","PARTICULAR","89250","No","05","CREDITO 5 DIAS","33","CENTRO-CANDELARIA","04","08","HOTELES/CASINOS/BINGOS","02","ON PREMISSE","02","ON PREMISSE"," ","31"," ","   "]
["J000600295","09 - CLIENTE INHABILITADO","PANADERIA Y ABASTOS EL CARMEN, C.A.","PANADERIA Y ABASTOS EL CARMEN, C.A.","080917","PANADERIA Y ABASTOS EL CARMEN, C.A.","CALLE BOLIVAR EDIF SIMON PISO PB LO","CAL 1-2 SECTOR EL PUEBLO SA DE LOS","ALTOS EDO MIRANDA","(0212) 371.11.93","(0424) 258.80.00","victorjgomes73@gmail.com","SA DE LOS ALTOS"," "," ","BLOQ.MHP 27 DIAS CALLE 210319 WP","CAMBIO DE ZONA 26 A 09 16/9/19 GT","FRANCISCO GOMES"," "," ","PANADERIA Y ABASTOS EL CARMEN, C.A.","CALLE BOLIVAR EDIF SIMON PISO PB LO","CAL 1-2 SECTOR EL PUEBLO SA DE LOS","ALTOS EDO MIRANDA"," ","(0212) 371.11.93"," ","RECIBE  LUNES A VIERNES"," 08:00 AM A 5:00 PM","JUEVES","J-00060029-5","032-MN-113","0","Sí","00","CONTADO","09","CLIENTE INHABILITADO","05","23","ABASTOS PEQUEÑOS/BODEGAS","01","OFF PREMISSE","01","OFF PREMISSE","09","09","09 - CLIENTE INHABILITADO","RECIBE  LUNES A VIERNES  08:00 AM A 5:00 PM"]
["J000605394","36  CLIENT-CORPORAT-OFIC.","MOLINA Y CIA, C.A.","LA MARCONA","171017","MOLINA Y CIA, C.A.","CTRA CARRETERA PANAMERICANA KM 18","EDIF LA MARCONA PSIO PB OF PLANTA B","AJA SECTOR LOMA GORDA CARRIZAL","0212 3830195"," ","compraslamarcona@gmail.com","CARACAS","EDO MIRANDA"," "," "," ","MARIA TERESA MOLINA","CAROLINA MOLINA"," ","MOLINA Y CIA, C.A.","CTRA CARRETERA PANAMERICANA KM 18","EDIF LA MARCONA PSIO PB OF PLANTA B","AJA SECTOR LOMA GORDA CARRIZAL","EDO MIRANDA","0212 3832002","0212 3830681","DESPACHAR JUEVES","DE 7:00 AM A 12:00 M",null,"J-00060539-4","PARTICULAR","89250","No","05","CREDITO 5 DIAS","36","VTAS.CORPORATIVAS","08","33","RELACIONADOS","00","ESTANDAR","00","ESTANDAR","36","36","71 - OFICINA","DESPACHAR JUEVES DE 7:00 AM A 12:00 M"]
["J000605610","09 - CLIENTE INHABILITADO","BALNEARIO MARINA GRANDE, S.A.","BALNEARIO MARINA GRANDE, S.A."," ","BALNEARIO MARINA GRANDE, S.A.","AV. BOULEVARD LA PLAYA LOCAL BALNEA","RIO MARINA GRANDE URB PLAYA GRANDE","CATIA LA MAR EDO VARGAS"," "," "," ","LA GUAIRA"," "," "," ","CAMBIO Z-01 AUT GCIA VENTAS 210717","JORGE TANI"," "," ","BALNEARIO MARINA GRANDE, S.A.","AV. BOULEVARD LA PLAYA LOCAL BALNEA","RIO MARINA GRANDE URB PLAYA GRANDE","CATIA LA MAR EDO VARGAS"," "," "," ","RECIBE DE LUNES A JUEVES","DE 8:00 AM A 4:00 PM","DE LUNES A VIERNES","J-00060561-0","031-C-73","15000","Sí","00","CONTADO","14","LITORAL CENTRAL","04","07","RESTAURANTES","02","ON PREMISSE","02","ON PREMISSE","09","09","09 - CLIENTE INHABILITADO","RECIBE DE LUNES A JUEVES DE 8:00 AM A 4:00 PM"]
["J000607613","71 - OFICINA","ASOC.P.D.C.E.A.C. APROCRE","ASOC.P.D.C.E.A.C. APROCRE"," ","ASOC.P.D.C.E.A.C. APROCRE","AV.FRANCISCO DE MIRANDA ESQ.REPUBLI","CADOMINICANA TORRE BAZAR BOLIVAR PI","SO 14 PH 1","2358507"," "," ","CARACAS"," "," "," "," ","YRAIDA MELLUSO"," "," ","ASOC.P.D.C.E.A.C. APROCRE","AV.FRANCISCO DE MIRANDA ESQ.REPUBLI","CADOMINICANA TORRE BAZAR BOLIVAR PI","SO 14 PH 1"," "," "," "," "," ",null,"J-00060761-3","PARTICULAR","2200","No","05","CREDITO 5 DIAS","71","OFICINA","06","29","INDUSTRIAL","01","OFF PREMISSE","01","OFF PREMISSE"," ","71","71 - OFICINA","   "]
["J000614660","02 - REQUENA JOHAN - OFF","AUTOMERCADO DE VIVERES C.A.","TABANCO MARKET"," ","AUTOMERCADO  DE VIVERES, C.A. (AUDEVICA)","AV.ROOSVELT RES. TIUNA PB, LOS ROSA","LESDTTO. FEDERAL - CARACAS"," "," "," "," ","CARACAS"," "," "," "," ","DAMASO RODRIGUEZ ALV","AREZ"," ","TABANCO MARKET","AV.ROOSVELT RES. TIUNA PB, LOS ROSA","LESDTTO. FEDERAL - CARACAS"," "," "," "," "," "," ",null,"J-00061466-0","MN 465","89250","No","05","CREDITO 5 DIAS","24","CARICUAO","05","21","SUPERMERCADOS/AUTOMERCADO","01","OFF PREMISSE","01","OFF PREMISSE"," ","02"," ","   "]
["J000625239","24 - REYES OSWALDO","SUPER ABASTOS MISS VENEZUELA,S.R.L.","SUPER ABASTOS MISS VENEZUELA,S.R.L."," ","SUPER ABASTOS MISS VENEZUELA,S.R.L.","URB.RUIZ PINEDA FRENTE A LA ESTACIO","NDEL METRO UD-7 - CARICUAO-MNCP.LIB","ERTADOR","0212 434 14 32","NO POSEE","NO POSEE","CARACAS"," "," "," ","BLOQ MAYOR 67 DIAS SEGUI 240222 PH","GOVEIA ELISA","WILIAM"," ","SUPER ABASTOS MISS VENEZUELA,S.R.L.","URB.RUIZ PINEDA FRENTE A LA ESTACIO","NDEL METRO UD-7 - CARICUAO-MNCP.LIB","ERTADOR"," "," "," ","RECIBE  LUNES A JUEVES"," 9:00AM A 5:00PM","VIERNES","J-00062523-9","MN-0085","89250","No","05","CREDITO 5 DIAS","24","CARICUAO","06","21","SUPERMERCADOS/AUTOMERCADO","01","OFF PREMISSE","01","OFF PREMISSE","24","24","02 - VICTOR TORRES - OFF","RECIBE  LUNES A JUEVES  9:00AM A 5:00PM"]
["J000633622","31 - RODRIGUEZ WLADIMIR","LAMELAS, ABELLA & CIA","TASCA RESTAURANT EL CASCORRO"," ","LAMELAS, ABELLA & CIA","DE PELOTA A ABANICO CON AV. URDANET","A,EDIF. CARMEN, LA CANDELARIA CCS"," ","564.68.12"," "," ","CARACAS"," "," "," "," ","JUAN GONCALVEZ"," "," ","LAMELAS, ABELLA & CIA","DE PELOTA A ABANICO CON AV. URDANET","A,EDIF. CARMEN, LA CANDELARIA CCS"," "," "," "," ","TRASP.AL 03 SUP.CARLOS DA","SILVA S/SOLICI.24-01-2011",null,"J-00063362-2","C 3542","89250","No","05","CREDITO 5 DIAS","33","CENTRO-CANDELARIA","04","06","BAR/TABER./S. BAR/PUB/TAS","02","ON PREMISSE","02","ON PREMISSE"," ","31"," ","TRASP.AL 03 SUP.CARLOS DA SILVA S/SOLICI.24-01-2011"]
["J000635706","09 - CLIENTE INHABILITADO","INVERSIONES ANA","REST.PENSION ANA"," ","PENSION ANA CA","AVENIDA SANTIAGO DE CHILE QUINTA AN","ALOS CAOBOS-MNPIO.LIBERTADOR-CARACA","S","7816691"," "," ","CARACAS"," "," "," ","REEST-V-31 AL V-09 20092019 MYZ","BONGORNO IVO"," "," ","REST.PENSION ANA","AVENIDA SANTIAGO DE CHILE QUINTA AN","ALOS CAOBOS-MNPIO.LIBERTADOR-CARACA","S"," "," "," "," "," ",null,"J-00063570-6","002-C-3809","15000","Sí","00","CONTADO","32","SUCRE - BARUTA","04","06","BAR/TABER./S. BAR/PUB/TAS","02","ON PREMISSE","02","ON PREMISSE","09","09","09 - CLIENTE INHABILITADO","   "]
["J000641587","502 - DRA. ALEXI Y. PINT0","PEREIRA VALERIO NUNES,S.R.L.","BAR RESTAURANT NUEVA LISBOA"," ","BAR RESTAURANT NUEVA LISBOA","AVENIDA 9 DE DICIEMBRE CENTRO COMER","CIAL9 DE DICIEMBRE- EL PARAISO-CARA","CAS"," "," "," ","CARACAS"," "," "," "," ","ARMANDO A. PIMENTEL"," "," ","BAR RESTAURANT NUEVA LISBOA","AVENIDA 9 DE DICIEMBRE CENTRO COMER","CIAL9 DE DICIEMBRE- EL PARAISO-CARA","CAS"," "," "," ","Bs 825,49 LLEVADO A","INCOBRABLE EL 30-12-10",null,"J-00064158-7","C 2651","0","No","00","CONTADO","24","CARICUAO","04","06","BAR/TABER./S. BAR/PUB/TAS","02","ON PREMISSE","02","ON PREMISSE"," ","502"," ","Bs 825,49 LLEVADO A INCOBRABLE EL 30-12-10"]
["J000647470","09 - CLIENTE INHABILITADO","BAR REST. EL PORTON, C.A.","RESTAURANTE BAR EL PORTON, C.A. *"," ","RESTAURANTE BAR EL PORTON, C.A. *","AVDA. PINCHINCHA Nº 18 ESQUINACALLE"," GUAICAIPURO, EL ROSAL"," ","9520027"," "," ","CARACAS"," "," "," ","CAMBIO A LA ZONA 09 23-09-19 YM","TY JOUK DE PIÑEIRO L","IDIA."," ","RESTAURANTE BAR EL PORTON, C.A. *","AVDA. PINCHINCHA Nº 18 ESQUINACALLE"," GUAICAIPURO, EL ROSAL"," "," "," "," "," "," ",null,"J-00064747-0","C 1867","0","Sí","00","CONTADO","09","CLIENTE INHABILITADO","04","06","BAR/TABER./S. BAR/PUB/TAS","02","ON PREMISSE","02","ON PREMISSE","09","09","09 - CLIENTE INHABILITADO","   "]
["J000650276","13 - GUDIÑO FABIAN","AUTOMERCADO SAN GONZALO SRL","AUTOMERCADO SAN GONZALO SRL"," ","AUTOMERCADO SAN GONZALO SRL","1ERA AV. DE BUENA VISTA CON CALLE E","LCARMEN PETARE"," ","(0212) 271.13.90","(0212) 271.23.53","pailafari@gmail.com","PETARE"," "," "," "," ","ENRIQUE FERREIRA"," "," ","AUTOMERCADO SAN GONZALO SRL","1ERA AV. DE BUENA VISTA CON CALLE E","LCARMEN PETARE"," "," "," "," ","RECIBE  MARTES A VIERNES"," 8 A 1 PM - 3 A 6 PM","MIERCOLES","J-00065027-6","M-N 3337","89250","No","05","CREDITO 5 DIAS","13","PETARE","05","21","SUPERMERCADOS/AUTOMERCADO","01","OFF PREMISSE","01","OFF PREMISSE","13","13","01 - CARLOS DA SILVA - OFF","RECIBE  MARTES A VIERNES  8 A 1 PM - 3 A 6 PM"]
["J000652937","25 - OCAMPO O. ROMAY","ASOCIADOS CUMBRE ROJA,C.A.","RESTAURANT LA CUMBRE ROJA"," ","ASOCIADOS CUMBRE ROJA,C.A.","CARRETERA PANAMERICANA KM 35 VIA TE","JERIASLOS TEQUES"," ","(0212) 893.60.65","(0414) 335.78.51","antoniojabreuda@hotmail.com","LOS TEQUES"," "," "," "," ","JOAO ANDRADE"," "," ","RESTAURANT LA CUMBRE ROJA","CARRETERA PANAMERICANA KM 35 VIA TE","JERIASLOS TEQUES"," "," "," "," ","RECIBE  LUNES A VIERNES"," 08:00 AM A 2:00 PM","JUEVES","J-00065293-7","C 51","89250","No","05","CREDITO 5 DIAS","25","LOS TEQUES","04","07","RESTAURANTES","02","ON PREMISSE","02","ON PREMISSE","25","25","02 - VICTOR TORRES - OFF","RECIBE  LUNES A VIERNES  08:00 AM A 2:00 PM"]
["J000655987","15 - GUTIERREZ WALTER","AGENCIA DE FEST STA MONICA, S.R.L.","AGENCIA DE FEST STA MONICA, S.R.L."," ","AGENCIA DE FESTEJOS SANTA MONICA, S.R.L.","AVENIDA TERESA DE LA PARRA EDF.MIRE","NTXUSANTA MONICA CARACAS"," ","(0212) 661.58.70"," "," ","CARACAS","2CD 200415-200416 HP9 DC7 HD","DESBLOQ.260416 EXCEP.PROB.FIRMA HD"," ","1CD EXEPC. ERROR EDV 29/01/19 GA","JOSE FIGUEIRA"," "," ","AGENCIA DE FEST STA MONICA, S.R.L.","AVENIDA TERESA DE LA PARRA EDF.MIRE","NTXUSANTA MONICA CARACAS"," "," "," "," ","RECIBE  MARTES A JUEVES"," 09:00 AM A 04:00 AM","MIERCOLES","J-00065598-7","MY-991","89250","No","05","CREDITO 5 DIAS","16","GUATIRE","05","18","LICORERIAS/BODEGONES","01","OFF PREMISSE","01","OFF PREMISSE","15","15","01 - CARLOS DA SILVA - OFF","RECIBE  MARTES A JUEVES  09:00 AM A 04:00 AM"]
["J000656746","02 - REQUENA JOHAN - OFF","A/M BAZAR LAS DOS ESTRELLAS, C.A.","A/M BAZAR LAS DOS ESTRELLAS, C.A."," ","A/M BAZAR LAS DOS ESTRELLAS, C.A.","CALLE STA ANA BAJANDO POR LA JEFATU","RADE MACUTO"," "," "," "," ","LA GUAIRA"," "," "," "," ","ALFREDO RODRIGUEZ"," "," ","A/M BAZAR LAS DOS ESTRELLAS, C.A.","CALLE STA ANA BAJANDO POR LA JEFATU","RADE MACUTO"," "," "," "," "," "," ",null,"J-00065674-6","M-N 76","89250","No","05","CREDITO 5 DIAS","21","VALLES DEL TUY-21","05","22","ABASTOS GRANDES","01","OFF PREMISSE","01","OFF PREMISSE"," ","02"," ","   "]
["J000657475","24 - REYES OSWALDO","CASTANHO CASTANHO & CARVALHO, C.A.","CARN. PESC. Y CHARC. CATERINA, C.A."," ","CARN.PESC.Y CHARC. CATERINA C.A.","AV. PPAL DE RUIZ PINEDA ENTRE BLOQ","16 Y 14 O V 619-620 EDIF S/N BLOQ"," 13 PISO PB LOCAL 50 UD 7 CARICUAO","0212 431 92 79","NO POSEE","NO POSEE","CARACAS"," "," "," "," ","JOAO RODRIGUES"," "," ","CARN. PESC. Y CHARC. CATERINA, C.A.","AV. PRINCIPAL DE RUIZ PINEDA ENTRE","BLOQ. 13 UD7 LOCAL 50","RUIZ PINEDA CARICUAO"," ","0212-431.92.79"," ","RECIBE  LUNES A JUEVES"," 9:00AM A 1:00PM","JUEVES","J-00065747-5","002-MN-0020","89250","No","05","CREDITO 5 DIAS","24","CARICUAO","06","23","ABASTOS PEQUEÑOS/BODEGAS","01","OFF PREMISSE","01","OFF PREMISSE","24","24","02 - VICTOR TORRES - OFF","RECIBE  LUNES A JUEVES  9:00AM A 1:00PM"]
["J000658358","31 - RODRIGUEZ WLADIMIR","BAR RESTAURANT MESON SEGOVIANO","BAR RESTAURANT MESON SEGOVIANO"," ","BAR RESTAURANT MESON SEGOVIANO","AV. FUERZAS ARMADAS SOCORRAS A ROMU","ALDALA CANDELARIA CARACAS"," "," 5612804-5619090"," "," ","CARACAS"," "," "," "," ","JOSE MANUEL PEREIRA"," "," ","BAR RESTAURANT MESON SEGOVIANO","AV. FUERZAS ARMADAS SOCORRAS A ROMU","ALDALA CANDELARIA CARACAS"," "," "," "," ","TRASP. ZONA 03 SUP.CARLOS","DA SILVA S/SOL.22/02/11",null,"J-00065835-8","C 108","89250","No","05","CREDITO 5 DIAS","33","CENTRO-CANDELARIA","04","06","BAR/TABER./S. BAR/PUB/TAS","02","ON PREMISSE","02","ON PREMISSE"," ","31"," ","TRASP. ZONA 03 SUP.CARLOS DA SILVA S/SOL.22/02/11"]
["J000660131","09 - CLIENTE INHABILITADO","DAGOMAR,S.A.","DAGOMAR,S.A."," ","DAGOMAR,S.A.","CALLE VIADUCTO A DESVIO Nº 37 FRENT","E ALLICEO LICENCIADO ARANDA- MAIQUE","TIA-EDO.VARGAS"," ","(0414) 123.98.10"," ","LA GUAIRA"," "," "," ","CAMBIO DE ZONA 14 A 09 151021 FL","JUAN DA CAMARA"," "," ","DAGOMAR,S.A.","CALLE VIADUCTO A DESVIO Nº 37 FRENT","E ALLICEO LICENCIADO ARANDA- MAIQUE","TIA-EDO.VARGAS"," "," "," ","RECIBE  LUNES A VIERNES"," 11:00 AM A 5:00 PM","MIERCOLES","J-00066013-1","M-Y 585","15000","No","05","CREDITO 5 DIAS","09","CLIENTE INHABILITADO","05","18","LICORERIAS/BODEGONES","01","OFF PREMISSE","01","OFF PREMISSE","09","09","09 - CLIENTE IHNABILITADO","RECIBE  LUNES A VIERNES  11:00 AM A 5:00 PM"]
["J000664129","31 - RODRIGUEZ WLADIMIR","CENTRO ITALO VENEZOLANO","BA RESTAURANT LA RAQUETA"," ","BA RESTAURANT LA RAQUETA","CENTRO ITALO VENEZOLANO NIVEL 1 CED","E PRINCIPALNULL"," "," "," "," ","CARACAS"," "," "," "," ","JOSE BATALLAN"," "," ","BA RESTAURANT LA RAQUETA","CENTRO ITALO VENEZOLANO NIVEL 1 CED","E PRINCIPALNULL"," "," "," "," ","CAMBIO DE ZONA SUP.03","DE FECHA 25/07/2013",null,"J-00066412-9","C 4910","89250","Sí","00","CONTADO","30","PARROQUIA EL RECREO","04","06","BAR/TABER./S. BAR/PUB/TAS","02","ON PREMISSE","02","ON PREMISSE"," ","31"," ","CAMBIO DE ZONA SUP.03 DE FECHA 25/07/2013"]
["J000665354","71 - OFICINA","COLEGIO DE CONTADORES PUBLICOS DC","COLEGIO DE CONTADORES PUBLICOS DC"," ","COLEGIO DE CONTADORES PUBLICOS DC","AVENIDA FRANCISCO DE MIRANDA, EDF.","MULTICENTRO EMPRESARIAL DEL ESTE,","TORRE MIRANDA, NUCLEO A P.10 OF.101","(0212) 267-80-91"," "," ","CARACAS","Y 102- CHACAO"," "," "," "," "," "," ","COLEGIO DE CONTADORES PUBLICOS DC","AVENIDA FRANCISCO DE MIRANDA, EDF.","MULTICENTRO EMPRESARIAL DEL ESTE,","TORRE MIRANDA, NUCLEO A P.10 OF.101","Y 102- CHACAO","0212) 267-80-91"," "," "," ",null,"J-00066535-4","PARTICULAR","15000","No","05","CREDITO 5 DIAS","71","OFICINA","06","31","PARTICULAR","01","OFF PREMISSE","01","OFF PREMISSE"," ","71","71 - OFICINA","   "]
["J000666539","02 - REQUENA JOHAN - OFF","BAR REST. AU-PETIT CONTINENTAL,C.A.","BAR REST. AU-PETIT CONTINENTAL,C.A."," ","BAR REST. AU-PETIT CONTINENTAL,C.A.","AV. SUCRE AL LADO DE LA BOMBA CONTI","NENTALCATIA"," ","8613407"," "," ","CARACAS"," "," "," "," ","ALBINO RODRIGUEZ PER","EIRA"," ","BAR REST. AU-PETIT CONTINENTAL,C.A.","AV. SUCRE AL LADO DE LA BOMBA CONTI","NENTALCATIA"," "," "," "," "," "," ",null,"J-00066653-9","C 820","89250","No","05","CREDITO 5 DIAS","22","CATIA-JUNQUITO","04","06","BAR/TABER./S. BAR/PUB/TAS","02","ON PREMISSE","02","ON PREMISSE"," ","02"," ","   "]
["J000666768","09 - CLIENTE INHABILITADO","AUTOMERCADO RUISEÑORES,C.A.","AUTOMERCADO RUISEÑORES,C.A."," ","AUTOMERCADO RUISEÑORES,C.A.","COLINAS DE LOS RUICES C.COMERCIAL E","L RUISEÑORDETRAS COMPA'IA AEROCAV.C","ARACA","229490"," "," ","CARACAS"," "," "," "," ","RUIZ ANTONIO OLIVEIR","A"," ","AUTOMERCADO RUISEÑORES,C.A.","COLINAS DE LOS RUICES C.COMERCIAL E","L RUISEÑORDETRAS COMPA'IA AEROCAV.C","ARACA"," "," "," "," "," ",null,"J-00066676-8","M-N 5218","15000","No","05","CREDITO 5 DIAS","15","BARUTA","05","21","SUPERMERCADOS/AUTOMERCADO","01","OFF PREMISSE","01","OFF PREMISSE"," ","09","09 - CLIENTE INHABILITADO","   "]
["J000668574","09 - CLIENTE INHABILITADO","RESTAURANT BIOMASI,S.R.L.","RESTAURANT BIOMASI,S.R.L."," ","RESTAURANT BIOMASI,S.R.L.","AVENIDA PRINCIPAL URBANIZACION LEBR","UNEDIFICIO BIOMASI - PETARE"," ","2569685"," "," ","CARACAS"," "," "," ","REEST-V-31 AL V-09 20092019 MYZ","JOAO MANUEL DE AZEVE","DO"," ","RESTAURANT BIOMASI,S.R.L.","AVENIDA PRINCIPAL URBANIZACION LEBR","UNEDIFICIO BIOMASI - PETARE"," "," "," "," ","LLEVADO A COD.03 SUPERV.","CARLOS DA SILVA",null,"J-00066857-4","C 6324","15000","Sí","00","CONTADO","31","LA CASTELLANA","04","06","BAR/TABER./S. BAR/PUB/TAS","02","ON PREMISSE","02","ON PREMISSE","09","09","09 - CLIENTE INHABILITADO","LLEVADO A COD.03 SUPERV. CARLOS DA SILVA"]
["J000669970","32 - HERNANDEZ EDGAR","DETRA,C.A.","HOTEL VOX","782.19.23","DETRA C.A. HOTEL VOX","AV  LAS ACACIA  PROLONGACION SUR","EDF VOX PISO PB OF PB URB SAN","ANTONIO CARACAS","(0212) 782.16.22","(0416) 629.37.39","nancy-201@hotmail.com","CARACAS","ACTIV-V-30 040615 MYZ","CAMBIO D ZONA 30 A 33 EL 12/02/19JA","CAMBIO V-31 vs V-332 200421","CAMBIO V-31 A LA V-32 220223 PH","JOAO RAUL DE AGREDA","MACIEL"," ","HOTEL VOX","AV  LAS ACACIA  PROLONGACION SUR","EDF VOX PISO PB OF PB URB SAN","ANTONIO CARACAS"," "," "," ","RECIBE  LUNES A VIERNES"," 08 A 12 PM -  2 A 5 PM","MIERCOLES","J-00066997-0","5-C-0256","89250","No","05","CREDITO 5 DIAS","32","SUCRE - BARUTA","04","08","HOTELES/CASINOS/BINGOS","02","ON PREMISSE","02","ON PREMISSE","32","32","01 - CARLOS DA SILVA - ON","RECIBE  LUNES A VIERNES  08 A 12 PM -  2 A 5 PM"]
["J000670668","09 - CLIENTE INHABILITADO","HERMANOS DA GAMA","ABASTOS LOS PINOS"," ","HERMANOS DA GAMA","VEREDA 101 CASA Nº 4 URB. CARLOS","DELGADO CH. EL VALLE","CARACAS DTTO. CAPITAL","(0212) 681-37-27"," "," ","CARACAS"," ","2CD 080914-090915 HP20 DC7","CAMBIO V-226 SUP 02 201117 MYZ","CAMBIO A LA ZONA 09 19-09-19 YM","JORGE DE GAMA"," "," ","HERMANOS DA GAMA","VEREDA 101 CASA Nº 4 URB. DELGADO","CH. EL VALLE - COCHE","CARACAS DTTO. CAPITAL"," ","(0212) 861-37-27"," ","RECIBE DE LUNES A VIERNES","10 AM A 1 PM Y 3 A 6 PM","MARTES","J-00067066-8","002-MN-01182","0","Sí","00","CONTADO","09","CLIENTE INHABILITADO","06","22","ABASTOS GRANDES","01","OFF PREMISSE","01","OFF PREMISSE","09","09","09 - CLIENTE INHABILITADO","RECIBE DE LUNES A VIERNES 10 AM A 1 PM Y 3 A 6 PM"]
["J000672008","35 - PEREZ JOSMAN","EL RANCHO TRANQUILINO, C.A","EL RANCHO TRANQUILINO"," ","EL RANCHO TRANQUILINO, C.A","AV. LEONARDO DA VINCI EDIF.GIRASOL","PISO PB LOCAL PB URB COLINAS","DE BELLO MONTE","(0212) 753.13.73"," ","rtranquilino53@hotmail.com","CARACAS"," ","BLOQ MHP 21DIAS YR 25/06/19","DESBLOQ X BHP CLIENTE 04/09/19 JA","CAMBIO V-32 AL V-35 17/09/19 MY","LUGO NEGRIN MANUEL","WILLIAN DORTA"," ","EL RANCHO TRANQUILINO","AV. LEONARDO DA VINCI EDIF.GIRASOL","PISO PB LOCAL PB URB COLINAS","DE BELLO MONTE"," ","0212-753-13-73"," ","RECIBE  LUNES A VIERNES"," 08:00 AM A 11:00 AM","JUEVES","J-00067200-8","5-C-2051","89250","No","05","CREDITO 5 DIAS","30","PARROQUIA EL RECREO","04","07","RESTAURANTES","02","ON PREMISSE","02","ON PREMISSE","35","35","02 - VICTOR TORRES - ON","RECIBE  LUNES A VIERNES  08:00 AM A 11:00 AM"]
["J000672474","25 - OCAMPO O. ROMAY","HERMANOS GONCALVES PERREGIL, C.A.","VIV.Y LIC.HERM.GONCALVES PERREGIL"," ","HERMANOS GONCALVES PERREGIL, C.A.","CALLE PRINCIPAL SAN JOSE DE LOS ALT","OS,EDIFICIO SAN JOSE, C 112,B 112-S","AN J.DE LOS ALTOS","(0212) 375.16.77","(0424) 132.32.25","bibigoncalves@gmail.com","SAN JOSE DE LOS ALTO"," "," ","DESBLOQ 270117 CUMPLIO 3PP LA/HD","CAMBIO V-26 AL 25 16-09-19 YM","MANUEL GONCALVES PER","REGIL"," ","VIV.Y LIC.HERM.GONCALVES PERREGIL","CALLE PRINCIPAL SAN JOSE DE LOS ALT","OS,EDIFICIO SAN JOSE, C 112,B 112-S","AN J.DE LOS ALTOS"," ","(0212) 375-16-77"," ","RECIBE  LUNES A VIERNES"," 11:00 AM A 6:00 PM","JUEVES","J-00067247-4","032-MN-184","89250","No","05","CREDITO 5 DIAS","26","SAN ANTONIO DE LOS ALTOS","06","18","LICORERIAS/BODEGONES","01","OFF PREMISSE","01","OFF PREMISSE","25","25","02 - VICTOR TORRES - OFF",{"$f":"CONCATENATE(AB194,\" \",AC194)","v":"RECIBE  LUNES A VIERNES  11:00 AM A 6:00 PM"}]
["J000677689","31 - RODRIGUEZ WLADIMIR","CERV. Y MARISQUERIA EL TORREON,C.A.","CERV. Y MARISQUERIA EL TORREON,C.A."," ","CERV. Y MARISQUERIA EL TORREON,C.A.","AVENIDA PAEZ EL PARAISO CON AV.LA M","ONTAÑAEDIF COMERCAIL EL TORREON P.A",".","461-10-50"," "," ","CARACAS"," "," "," "," ","MANUEL FARIÑA JARDIN"," "," ","CERV. Y MARISQUERIA EL TORREON,C.A.","AVENIDA PAEZ EL PARAISO CON AV.LA M","ONTAÑAEDIF COMERCAIL EL TORREON P.A","."," "," "," "," "," ",null,"J-00067768-9","C-2324","89250","No","05","CREDITO 5 DIAS","33","CENTRO-CANDELARIA","04","07","RESTAURANTES","02","ON PREMISSE","02","ON PREMISSE"," ","31"," ","   "]
["J000679274","17 - TORRES CARLOS","AUTOMERCADO CENTRAL LAS MINAS S.R.L","AUTOMERCADO CENTRAL LAS MINAS S.R.L"," ","AUTOMERCADO CENTRAL LAS MINAS S.R.L","CALLE REAL, BARRIO LAS MINAS EDF.","5-A PISO P.B. LOCAL B, URBANIZACION","LAS MINAS DE BARUTA","(0212) 945.07.31"," ","davidasilva.boneto@gmail.com","CARACAS","CARACAS DTTO CAPITAL","CONTRIB.ESPEC.FACTURAR AL 21 C/MES","DESBLOQ.180815 HD NO APLICA RET.75%","CAMBIO DE ZONA 113 A 17 170823 PH","JOSE SIDONIO DA SILV","A"," ","AUTOMERCADO CENTRAL LAS MINAS SRL","CALLE REAL, BARRIO LAS MINAS EDF.","5-A PISO P.B. LOCAL B, URBANIZACION","LAS MINAS DE BARUTA","CARACAS DTTO. CAPITAL","(0212) 945-07-31"," ","RECIBE  LUNES A VIERNES"," 08 A 12 PM -  3 A 5 PM","LUNES","J-00067927-4","M-N 1214","89250","No","05","CREDITO 5 DIAS","15","BARUTA","05","21","SUPERMERCADOS/AUTOMERCADO","01","OFF PREMISSE","01","OFF PREMISSE","17","17","01 - GUERRERO SALVADOR- OFF","RECIBE  LUNES A VIERNES  08 A 12 PM -  3 A 5 PM"]
["J000682046","02 - REQUENA JOHAN - OFF","LICORERIA LAS NIEVES, SRL","LICORERIA LAS NIEVES, SRL"," ","LICORERIA LAS NIEVES, SRL","AV. ARGENTINA ENTRE 6TA Y 7MA. AV","N° 55. NUEVA CARACAS. EDIF. MELCAN.","PARROQUIA SUCRE.","0212 - 8703511"," "," ","CARACAS"," "," "," "," ","REINALDO B. DIAS C"," "," ","LICORERIA LAS NIEVES, SRL","AV. ARGENTINA ENTRE 6TA Y 7MA. AV","N° 55. NUEVA CARACAS. EDIF. MELCAN.","PARROQUIA SUCRE."," ","0212 - 8703511"," ","TRASP. SUP 02-CARLOS GON.","S/S FECHA 02/08/2013",null,"J-00068204-6","M-N 1618 M-Y","89250","Sí","05","CREDITO 5 DIAS","22","CATIA-JUNQUITO","02","20","DELICATESES/FRIGO/CHARCUT","01","OFF PREMISSE","01","OFF PREMISSE"," ","02"," ","TRASP. SUP 02-CARLOS GON. S/S FECHA 02/08/2013"]
["J000682283","31 - RODRIGUEZ WLADIMIR","CALVO Y SANMAMED","TASCA LA TAURINA"," ","CALVO Y SANMAMED","PARADERO A VENUS Nº 221 EDIF.SILKO","LOCAL 3LA CANDELARIA-CARACAS"," ","571.08.80"," "," ","CARACAS"," "," "," "," ","RAMON CALVO ALVARES"," "," ","TASCA LA TAURINA","PARADERO A VENUS Nº 221 EDIF.SILKO","LOCAL 3LA CANDELARIA-CARACAS"," "," "," "," "," "," ",null,"J-00068228-3","C 3295","89250","No","05","CREDITO 5 DIAS","33","CENTRO-CANDELARIA","04","07","RESTAURANTES","02","ON PREMISSE","02","ON PREMISSE"," ","31"," ","   "]
["J000689253","17 - TORRES CARLOS","AUTOMERCADO EL VENADO,C.A.","AUTOMERCADO EL VENADO,C.A."," ","AUTOMERCADO EL VENADO,C.A.","C.COMERCIAL EL PLACER URB. EL PLACE","RBARUTA"," ","0212 962 12 58","NO POSEE","aut-elvenado@hotmail.com","CARACAS"," ","2 CHED 011014/281015 HP5 MYZ","REACTI. 14-03-16 CUMPLI 3PP HD","CAMBIO DE ZONA 15 A 17 RM 170823","JOAO TEODORO DA SILV","A.."," ","AUTOMERCADO EL VENADO,C.A.","C.COMERCIAL EL PLACER URB. EL PLACE","RBARUTA"," "," "," "," ","RECIBE  LUNES A JUEVES"," 8:00AM A 1:00PM","VIERNES","J-00068925-3","B-131-0-0263","89250","No","05","CREDITO 5 DIAS","15","BARUTA","05","21","SUPERMERCADOS/AUTOMERCADO","01","OFF PREMISSE","01","OFF PREMISSE","17","17","01 - GUERRERO SALVADOR - OFF","RECIBE  LUNES A JUEVES  8:00AM A 1:00PM"]
["J000694117","502 - DRA. ALEXI Y. PINT0","AVELINO GOMEZ HENRIQUEZ ,C.A.","SUPERMERCADO SAN JOSE 2000"," ","AVELINO G.HENRIQUEZ,CA(SUP/SAN JOSE 2000","AVENIDA ANDRES BELLO ENTRE AV.LAS P","ALMASY AV.BUENOS AIRES EDIFICIO JOS","EFINA - CARACAS","7815078"," "," ","CARACAS"," "," "," "," ","GRACIANO PARDELLAS"," "," ","SUPERMERCADO SAN JOSE 2000","AVENIDA ANDRES BELLO ENTRE AV.LAS P","ALMASY AV.BUENOS AIRES EDIFICIO JOS","EFINA - CARACAS"," "," "," ","PASADO A LEGAL ZONA 502","DRA. PINTO 14/02/11",null,"J-00069411-7","M-N 2286","0","No","00","CONTADO","20","CENTRO DE CARACAS","05","21","SUPERMERCADOS/AUTOMERCADO","01","OFF PREMISSE","01","OFF PREMISSE"," ","502"," ","PASADO A LEGAL ZONA 502 DRA. PINTO 14/02/11"]
["J000694559","43 - RIVERO CARLOS","LICORERIA GUEDE, C.A.","LICORERIA GUEDE, C.A."," ","LICORERIA GUEDE, C.A.","1RA CALLE VISTA  ALEGRE EDIF.","MIRANDA-LOCAL A Y B-LA VEGA MPIO.","LIBERTADOR-CARACAS.","0416-624.44.96"," "," ","CARACAS"," "," ","CAMBIO DE ZONA 42 A 23 26/07/22 ST","CAMBIO DE ZONA 23 A 43 07/02/23 LL","AGOSTINHO GONCALVES","PEREIRA"," ","LICORERIA GUEDE, C.A.","1RA CALLE VISTA  ALEGRE EDIF.","MIRANDA LOCALES A Y B-LA VEGA","MPIO. LIBERTADOR CARACAS."," ","0416-624.44.96"," ","RECIBE DE LUNES A JUEVES","DE 11:00AM A 3:00PM","MIERCOLES","J-00069455-9","M-N 2716","89250","No","05","CREDITO 5 DIAS","42","PROLICOR / CELICOR","05","18","LICORERIAS/BODEGONES","01","OFF PREMISSE","01","OFF PREMISSE","43","43","01 - GUERRERO SALVADOR - FRANQUICIAS PROLICOR","RECIBE DE LUNES A JUEVES DE 11:00AM A 3:00PM"]
["J000696316","09 - CLIENTE INHABILITADO","CARDENAS ANTONIO ALI","ABASTOS BERMIS"," ","CARDENAS ANTONIO ALI","KM.1 CARRETERA PETARE SANTA LUCIA C","ERCA OFICINASCENTRAL MADEIRENSE PET","ARE"," "," "," ","CARACAS"," "," "," "," ","ANTONIO ALI CARDENAS"," "," ","ABASTOS BERMIS","KM.1 CARRETERA PETARE SANTA LUCIA C","ERCA OFICINASCENTRAL MADEIRENSE PET","ARE"," "," "," "," "," ",null,"J-00069631-6","M-N 6642","15000","No","05","CREDITO 5 DIAS","13","PETARE","05","23","ABASTOS PEQUEÑOS/BODEGAS","01","OFF PREMISSE","01","OFF PREMISSE","09","09","09 - CLIENTE INHABILITADO","   "]
["J000697477","09 - CLIENTE INHABILITADO","SUPERMERCADO VICRUZ,C.A.","SUPERMERCADO VICRUZ,C.A."," ","SUPERMERCADO VICRUZ,C.A.","C.14,EDF. ANGOSTURA L.50,LOS JARDIN","ES DEL VALLEA CUADRA Y MEDIA DE LA","AV. INTERCOMUNAL DEL VALLE","0212-682.05.39"," "," ","CARACAS"," "," ","CTLE SAQUEADO CAMBIO A Z-02 210717","CAMBIO A LA ZONA 09 19-09-19 YM","GEORGE DE ABREU"," "," ","SUPERMERCADO VICRUZ,C.A.","CALLE 14, EDIFICIO ANGOSTURA, P.B.","LOS JARDINES DEL VALLE, CARACAS","DISTRITO CAPITAL"," ","0212-682.03.35","0212-682.05.39","RECIBE DE LUNES A VIERNES","9 AM A 1 PM Y 3 A 5 PM","MARTES","J-00069747-7","MN-3793","0","Sí","00","CONTADO","09","CLIENTE INHABILITADO","06","21","SUPERMERCADOS/AUTOMERCADO","01","OFF PREMISSE","01","OFF PREMISSE","09","09","09 - CLIENTE INHABILITADO","RECIBE DE LUNES A VIERNES 9 AM A 1 PM Y 3 A 5 PM"]
["J000697833","32 - HERNANDEZ EDGAR","SANTOS REGO Y LOPEZ LAMAS S.R.L","BAR RESTAURANT LA CARABELA"," ","SANTOS REGO Y LOPEZ LAMAS S.R.L","ESQUINA ALCABALA URAPAL EDIF URAPAL","PISO PB, LOCAL PB URB LA CANDELARIA","CARACAS","0424-1370375"," "," ","CARACAS"," "," ","ACTULIZACION DE CLIENTE 091122 ST","CAMBIO V31 A LA V32 220223 PH","EDWAR LOPEZ","BALDOMERO SUAREZ","JOSE DETINO GOMEZ","BAR RESTAURANT LA CARABELA","ESQUINA ALCABALA URAPAL EDIF URAPAL","PISO PB, LOCAL PB URB LA CANDELARIA","CARACAS"," ","0424-1370375"," ","RECIBE DE LUNES A VIERNES","DE 9:00AM A 3:30PM","MIERCOLES","J-00069783-3","3-C-1460","89250","No","05","CREDITO 5 DIAS","33","CENTRO-CANDELARIA","04","07","RESTAURANTES","02","ON PREMISSE","02","ON PREMISSE","32","32","01 - GUERRERO SALVADOR - ON","RECIBE DE LUNES A VIERNES DE 9:00AM A 3:30PM"]
["J000700370","31 - RODRIGUEZ WLADIMIR","HOGAR CANARIO VENEZOLANO","RESTAURANT ARCHIPIELAGO"," ","HOGAR CANARIO VENEZOLANO","AVENIDA SANTANDER EL PARAISO CLUBHO","GAR CANARIO AV.LOIRA C/ AV.PAEZ"," ","0414-200-66-94"," "," ","CARACAS"," "," "," "," ","GIOVANI SAMANNA"," "," ","RESTAURANT ARCHIPIELAGO","AVENIDA SANTANDER EL PARAISO CLUBHO","GAR CANARIO AV.LOIRA C/ AV.PAEZ"," "," "," "," "," "," ",null,"J-00070037-0","002-C 3472","89250","No","05","CREDITO 5 DIAS","33","CENTRO-CANDELARIA","04","10","CLUB SOCIALES","02","ON PREMISSE","02","ON PREMISSE"," ","31"," ","   "]
["J000704678","02 - REQUENA JOHAN - OFF","SUPERMERCADO PRINCIPAL S.R.L.","SUPERMERCADO PRINCIPAL S.R.L."," ","SUPERMERCADO PRINCIPAL S.R.L.","AV. PRINCIPAL URB. LAS FUENTES, EDF","VENEZUELA, PB. EL PARAISO","CARACAS DTTO. CAPITAL"," "," "," ","CARACAS"," "," "," "," ","JUAN MONIZ","CONCEPCION MARCHAL"," ","SUPERMERCADO PRINCIPAL S.R.L.","AV. PRINCIPAL URB. LAS FUENSTES EDF","VENEZUELA, P.B. EL PARAISO","CARACAS DTTO. CAPITAL"," "," "," ","CLIENTE CERRADO"," ",null,"J-00070467-8","22-MN-0964","89250","Sí","05","CREDITO 5 DIAS","24","CARICUAO","05","21","SUPERMERCADOS/AUTOMERCADO","01","OFF PREMISSE","01","OFF PREMISSE"," ","02"," ","CLIENTE CERRADO  "]
["J000704694","31 - RODRIGUEZ WLADIMIR","INVERSIONES 23-12-1910, C.A","RESTAURANT EL BARQUERO"," ","INVERSIONES 23-12-1910, C.A","AV. LUIS ROCHE QTA GUITARRAL","URB ALTAMIRA CARACAS-CHACAO"," ","(0212) 261.36.21","(0212) 261.46.45","restaurantbarguero@gmail.com","CARACAS"," "," "," ","CAMBIO DE  ZONA 32 A 31 260922  MYZ","TONINO DE PONTE","ALBERTO RODRIGUEZ"," ","RESTAURANT EL BARQUERO C A","AV. LUIS ROCHE QTA GUITARRAL","ALTAMIRA"," "," "," "," ","RECIBE  LUNES A VIERNES"," 08:00 AM A 11:30 AM","MARTES","J-00070469-4","70100000093","89250","No","05","CREDITO 5 DIAS","31","LA CASTELLANA","04","07","RESTAURANTES","02","ON PREMISSE","02","ON PREMISSE","31","31","01 - GUERRERO SALVADOR ON","RECIBE  LUNES A VIERNES  08:00 AM A 11:30 AM"]
["J000708886","09 - CLIENTE INHABILITADO","SUPERMERCADO BELLO HORIZONTE, C.A.","SUP BELLO HORIZONTE, C.A.."," ","SUPERMERCADO BELLO HORIZONTE, C.A..","AVDA. BOLIVAR EDIFICIO GUAICAIPUROF","RENTE AL CENTRO COMERCIAL TAMANACO","TUY.","039-981406."," "," ","VALLE DEL TUY"," "," "," "," ","AGUSTIN GONCALVES"," "," ","SUP BELLO HORIZONTE, C.A..","AVDA. BOLIVAR EDIFICIO GUAICAIPUROF","RENTE AL CENTRO COMERCIAL TAMANACO","TUY."," "," "," "," "," ",null,"J-00070888-6","M-N 162","15000","No","05","CREDITO 5 DIAS","14","LITORAL CENTRAL","05","21","SUPERMERCADOS/AUTOMERCADO","01","OFF PREMISSE","01","OFF PREMISSE","09","09","09 - CLIENTE INHABILITADO","   "]
["J000708894","09 - CLIENTE INHABILITADO","SUPERMERCADO PONTES S.R.L.","SUPERMERCADO PONTES S.R.L.*"," ","SUPERMERCADO PONTES S.R.L.*","FRENTE A LA PLAZA ZAMORACUA"," "," ","911310"," "," ","VALLE DEL TUY"," "," "," "," ","LUIS PONTES"," "," ","SUPERMERCADO PONTES S.R.L.*","FRENTE A LA PLAZA ZAMORACUA"," "," "," "," "," "," "," ",null,"J-00070889-4","M-N 151","15000","No","05","CREDITO 5 DIAS","14","LITORAL CENTRAL","05","21","SUPERMERCADOS/AUTOMERCADO","01","OFF PREMISSE","01","OFF PREMISSE","09","09","09 - CLIENTE INHABILITADO","   "]
["J000710899","02 - REQUENA JOHAN - OFF","ABASTOS DA MATA, C.A.","ABASTOS DA MATA, C.A."," ","ABASTOS DA MATA, C.A.","AV.SUCRE ENTRE AGUA SALUD Y LOSROBL","ES FTE. A LA ESTACION  DEL METRO"," ","8608176"," "," ","CARACAS"," "," "," "," ","EDUARDO DAVID GELVES","/MIGUEL MENDES"," ","ABASTOS DA MATA, C.A.","AV.SUCRE ENTRE AGUA SALUD Y LOSROBL","ES FTE. A LA ESTACION  DEL METRO"," "," "," "," ","TRASP.S-02 FECHA 02/08/11","CLIENTE CERRADO",null,"J-00071089-9","M-N 1160","89250","No","05","CREDITO 5 DIAS","22","CATIA-JUNQUITO","05","23","ABASTOS PEQUEÑOS/BODEGAS","01","OFF PREMISSE","01","OFF PREMISSE"," ","02"," ","TRASP.S-02 FECHA 02/08/11 CLIENTE CERRADO"]
["J000712344","02 - REQUENA JOHAN - OFF","SUPERMERCADO LA PAZ, C.A.","SUPERMERCADO LA PAZ, C.A."," ","SUPERMERCADO LA PAZ, C.A.","CALLE ENTRE 1Y 2 CC LA MORITA NIVEL","PB LOCAL C-3 URBAN. LA MORITA SAN","ANTONIO DE LOS ALTOS EDO. MIRANDA","(0212) 373-41-29","(0212) 373-29-49"," ","SAN ANTONIO"," "," "," ","NO PREPAGO Z-26 A Z-02 17092018AV","MARCELO PESTANA"," "," ","SUPERMERCADO LA PAZ, C.A.","CALLE ENTRE 1Y 2 CC LA MORITA NIVEL","PB LOCAL C-3 URBAN. LA MORITA SAN","ANTONIO DE LOS ALTOS EDO. MIRANDA"," ","(0212) 373-41-29","(0212) 373-29-49","RECIBE DE LUNES A VIERNES","DE 9:00AM A 5:00PM","MARTES","J-00071234-4","032-MN-149","89250","Sí","00","CONTADO","26","SAN ANTONIO DE LOS ALTOS","06","21","SUPERMERCADOS/AUTOMERCADO","01","OFF PREMISSE","01","OFF PREMISSE","02","02",".","RECIBE DE LUNES A VIERNES DE 9:00AM A 5:00PM"]
["J000722854","13 - GUDIÑO FABIAN","LICORERIA DOS CAMINOS C.A.","LICORERIA DOS CAMINOS C.A."," ","LICORERIA DOS CAMINOS C.A.","AV FRANCISCO DE MIRANDA Nº9-10 URB.","CAMPO CLARO"," ","(0212) 237.85.93","(0212) 234.69.15","valentin812@hotmail.com","CARACAS"," ","CAMBIO V-10 AL V-43 MYZ 06072021","CAMBIO DE ZONA 43 A 10 160222 ST","CAMBIO DE ZONA 10 A 13 050923 RM","VALENTIN RIBEIRO"," "," ","LICORERIA DOS CAMINOS C.A.","AV FRANCISCO DE MIRANDA Nº 9-10 URB","CAMPO CLARO"," "," ","(0212) 237-85-93"," ","JUEVES A VIERNES","9 AM A 5 PM","JUEVES","J-00072285-4","MN-696","89250","No","05","CREDITO 5 DIAS","10","ALTAMIRA-OFF","05","18","LICORERIAS/BODEGONES","01","OFF PREMISSE","01","OFF PREMISSE","13","13","01 - GUERRERO SALVADOR - OFF","JUEVES A VIERNES 9 AM A 5 PM"]
["J000723940","553 - CARLOS C.MONTELONGO","MONTELONGO C.A.","MONTELONGO C.A."," ","MONTELONGO C.A.","AVENIDA PANTEON QUINTA OLIMAR Nº 4","SAN BERNARDINO"," ","0212/5516360"," "," ","CARACAS"," "," "," "," ","JUAN CARLOS DE ABREU","S F."," ","MONTELONGO  SAN BERNARDINO","AV.PANTEON CON CALLE ANAUCO AL LADO","DE LA CLINICA LA ARBOLEDA"," "," "," "," "," "," ","LUNES","J-00072394-0","21-MN-2036","8000","No","05","CREDITO 5 DIAS","55","OFICINA GRUPO PROLICOR","08","33","RELACIONADOS","10","PROLICOR,C.A","10","PROLICOR,C.A","553","553","05 - CARLOS CARREIRA - GRUPO PROLICOR","   "]
["J000725616","35 - PEREZ JOSMAN","ESPECIALIDADES ORIENTALES, C.A.","SALON CANTON (LAS MERCEDES)","15/02/2016","ESPECIALIDADES ORIENTALES, C.A.","CALLE LONDRES ENTRE CARONI Y NUEVA","YORK QTA RORAIMA URB LAS MERCEDES","CARACAS MIRANDA ZONA POSTAL 1060","0212 993 21 91","NO POSEE","scsanroman@gmail.com","CARACAS"," "," "," ","CAMBIADO DE LA 34 A LA 35 130319 WP","RICKY ACON WONG"," "," ","SALON CANTON (LAS MERCEDES)","CALLE LONDRES ENTRE CARONI Y NUEVA","YORK QTA RORAIMA URB LAS MERCEDES","CARACAS MIRANDA ZONA POSTAL 1060"," ","0212-993.25.66","993-21-91","RECIBE  LUNES A VIERNES"," 8:00AM A 11:00AM","JUEVES Y VIERNES","J-00072561-6","TRAMITE","89250","No","05","CREDITO 5 DIAS","34","LAS MERCEDES","04","06","BAR/TABER./S. BAR/PUB/TAS","02","ON PREMISSE","02","ON PREMISSE","35","35","02 - VICTOR TORRES - ON","RECIBE  LUNES A VIERNES  8:00AM A 11:00AM"]
["J000725853","09 - CLIENTE INHABILITADO","EL MANCHEGO C.A","EL MANCHEGO C.A","24-02-2017","EL MANCHEGO C.A","AV PPAL DE COLINAS DE BELLO MONTE","LOCAL BELMONT SOTANO URB COLINAS DE","BELLO MONTE CARACAS MIRANDA ZP1050","0212-961.07.43"," "," ","CARACAS"," ","2 CHED 010316/230317 3HP MYZ","DESB. CUMPLIO 3PP 091117 MYZ","CLIENTE INHABILITADO C09 130919 WP","VICTOR GUERRA"," "," ","EL MANCHEGO C.A","AV PPAL DE COLINAS DE BELLO MONTE","LOCAL BELMONT SOTANO URB COLINAS DE","BELLO MONTE CARACAS MIRANDA ZP1050"," ","0212-961.07.43"," ","RECIBE DE LUNES A VIERNES","9 AM A 3 PM","JUEVES","J-00072585-3","B-104-0-0185-CVC","15000","Sí","00","CONTADO","30","PARROQUIA EL RECREO","04","07","RESTAURANTES","02","ON PREMISSE","02","ON PREMISSE","09","09","09 - CLIENTE INHABILITADO","RECIBE DE LUNES A VIERNES 9 AM A 3 PM"]
["J000731144","09 - CLIENTE INHABILITADO","AUTOMERCADO PARIATA 70 , C.A.","AUTOMERCADO PARIATA 70 ,S.R.L."," ","AUTOMERCADO PARIATA 70 , C.A.","AVENIDA EL CEMENTERIO C/REAL DE PAR","IATAMAIQUETIA"," ","3314932"," ","pariata70@yahoo.com","LA GUAIRA"," "," ","3 CHD 010316/280317 HP64 LA/MYZ","CAMBIO Z-01 AUT GCIA VENTAS 210717","JOAO J.DE VASCONCELO","S"," ","AUTOMERCADO PARIATA 70 ,S.R.L.","AVENIDA EL CEMENTERIO C/REAL DE PAR","IATAMAIQUETIA"," "," "," "," ","RECIBE DE LUNES A VIERNES","8 AM A 1 PM Y 3 A 6 PM","MIERCOLES","J-00073114-4","M-N 237","15000","Sí","00","CONTADO","14","LITORAL CENTRAL","05","21","SUPERMERCADOS/AUTOMERCADO","01","OFF PREMISSE","01","OFF PREMISSE","09","09","09 - CLIENTE INHABILITADO","RECIBE DE LUNES A VIERNES 8 AM A 1 PM Y 3 A 6 PM"]
["J000731560","09 - CLIENTE INHABILITADO","BAR.REST.Y EST.DE SERV.EL LIMON,SRL","BAR.REST.Y EST.DE SERV.EL LIMON,SRL"," ","BAR.REST.Y EST.DE SERV.EL LIMON,S.R.L.","CARRETERA PANAMERIOCANA ALCABALA","CASA 1 URB. TRABUCO. LOS TEQUES"," "," ","(0414) 928.16.76"," ","LOS TEQUES"," "," ","2CHED 011215/081216 26HP MYZ","CAMBIO A ZONA 09 19-09-19 YM","MANUEL ALEXANDRE","DA SILVA BASTIDA"," ","BAR.REST.Y EST.DE SERV.EL LIMON,S.R","CARRETERA PANAMERIOCANA ALCABALA","CASA 1 URB. TRABUCO. LOS TEQUES"," "," ","0212.433.31.13/0412."," ","RECIBE  LUNES A VIERNES"," 08:00AM A 5:00PM","JUEVES","J-00073156-0","032-C-5779","0","Sí","00","CONTADO","09","CLIENTE INHABILITADO","04","06","BAR/TABER./S. BAR/PUB/TAS","02","ON PREMISSE","02","ON PREMISSE","09","09","09 - CLIENTE INHABILITADO","RECIBE  LUNES A VIERNES  08:00AM A 5:00PM"]
["J000733112","09 - CLIENTE INHABILITADO","RESTAURANT BIENESTAR,S.R.L.","RESTAURANT BIENESTAR SRL"," ","RESTAURANT BIENESTAR SRL","AVDA B.LA CARLOTA A 110 MTSBAR DA L","UCIANO CARACAS"," ","2355162"," "," ","CARACAS"," "," "," ","REEST-V-31 AL V-09 20092019 MYZ","DONATO D´ANDREA GIOV","ANI"," ","RESTAURANT BIENESTAR SRL","AVDA B.LA CARLOTA A 110 MTSBAR DA L","UCIANO CARACAS"," "," "," "," ","CERRADO S/SUP.CARLOS DA","S. TRASP. AL 03 /13-09-11",null,"J-00073311-2","C 1626","15000","Sí","00","CONTADO","31","LA CASTELLANA","04","07","RESTAURANTES","02","ON PREMISSE","02","ON PREMISSE","09","09","09 - CLIENTE INHABILITADO","CERRADO S/SUP.CARLOS DA S. TRASP. AL 03 /13-09-11"]
["J000734330","09 - CLIENTE INHABILITADO","SUPERMERCADO MACARACUAY,S.R.L.","SUPERMERCADO MACARACUAY, S.R.L."," ","SUPERMERCADO MACARACUAY, S.R.L.","C/C MACARACUAY AV.NAIGUATA ENTRE UR","IMAREMNCP.SUCRE-EDO.MIRANDA"," ","(0212) 256.01.30"," ","supermacaracuay@gmail.com","CARACAS"," "," "," ","CAMBIO ZONA 113 A 09 230823 LI CERR","JUAN FIGUEIRA DA SIL","VA"," ","SUPERMERCADO MACARACUAY, S.R.L.","C/C MACARACUAY AV.NAIGUATA ENTRE UR","IMAREMNCP.SUCRE-EDO.MIRANDA"," "," "," "," ","RECIBE  LUNES A VIERNES"," 08 a 1 -  3 A 6 PM","JUEVES","J-00073433-0","M-N 5093","15000","No","05","CREDITO 5 DIAS","15","BARUTA","05","21","SUPERMERCADOS/AUTOMERCADO","01","OFF PREMISSE","01","OFF PREMISSE","09","09","09 - INHABILITADO","RECIBE  LUNES A VIERNES  08 a 1 -  3 A 6 PM"]
["J000738521","31 - RODRIGUEZ WLADIMIR","INVERSIONES VIÑAS C.A.","INVER. VIÑAS C A LA BARR DE CHACAO"," ","INVERSIONES VIÑAS C A LA BARRA DE CHACAO","AVENIDA FRANCISCO DE MIRANDA FRENTE"," A BAZARBOLIVAR OESTE-ESTE"," ","0212 266 72 87","0424 299 19 02","NO POSEE","CARACAS"," "," ","CAMBIO V34 AL V35 151116 CDGM","CAMBIO DE ZONA 35 A 31 08/03/23 LL","JOSE JOAO FERNANDEZ"," "," ","INVER. VIÑAS C A LA BARR DE CHACAO","AVENIDA FRANCISCO DE MIRANDA FRENTE"," A BAZARBOLIVAR OESTE-ESTE"," "," "," "," ","RECIBE D ELUNES A VIERNES"," 8:00AM A 12:00PM","MARTES","J-00073852-1","C 4618","89250","No","05","CREDITO 5 DIAS","35","EL ROSAL-CHACAO","04","06","BAR/TABER./S. BAR/PUB/TAS","02","ON PREMISSE","02","ON PREMISSE","31","31","01 - GUERRERO SALVADOR - OFF","RECIBE D ELUNES A VIERNES  8:00AM A 12:00PM"]
["J000741166","09 - CLIENTE INHABILITADO","LUNCHERIA DON ROMULO LAS TRES ESQ,C","LUNCHERIA DON ROMULO LAS TRES ESQ,C"," ","LUNCHERIA DON ROMULO LAS TRES ESQUINA,C.A","AV.ROMULO GALLEGO CRUCE CON 4TA,AV","LOS PALOS GRANDES","CARACAS-CHACAO","0212.2858880"," "," ","CARACAS-CHACAO"," "," "," ","CAMBIO DE Z 31 A ZONA 09 200919 JA","FRANCISCO DE FREITAS"," "," ","LUNCHERIA DON ROMULO LAS TRES ESQ.C","AV.ROMULO GALLEGOS CRUCE CON 4TA","AV.LOS PALOS GRANDES","CHACAO-CARACAS"," ","0212.2858880"," "," "," ",null,"J-00074116-6","PARTICULAR","0","Sí","00","CONTADO","09","CLIENTE INHABILITADO","04","06","BAR/TABER./S. BAR/PUB/TAS","02","ON PREMISSE","02","ON PREMISSE","09","09","09 - CLIENTE INHABILITADO","   "]
["J000743398","09 - CLIENTE INHABILITADO","NUROJACO,C.A.","TASCA REST. COLOSSEO"," ","NUROJACO,C.A.","C/REAL DE SABANA GRANDE, EDIF GALER","IA LOCAL Nº 149BOULEVARD  EL RECREO"," CARACAS DTTO. CAPITAL","0212/763-12-85"," "," ","CARACAS"," "," "," ","CAMBIO DE Z 31 A ZONA 09 200919 JA","EMANUEL UBALDO DE SO","USA","LEONARDO TELES","RESTAURANTE COLOSSEO","C/REAL DE SABANA GRANDE, EDIF GALER","IA LOCAL Nº 149BOULEVARD  EL RECREO"," CARACAS DTTO. CAPITAL"," "," "," "," "," ","MARTES","J-00074339-8","C 4718","15000","Sí","00","CONTADO","30","PARROQUIA EL RECREO","04","07","RESTAURANTES","02","ON PREMISSE","02","ON PREMISSE","09","09","09 - CLIENTE INHABILITADO","   "]
["J000746338","31 - RODRIGUEZ WLADIMIR","RESTAURANT RIOGI, C.A.","RESTAURANT LASSERRE","283-63-55","RESTAURANT RIOGI, C.A.","CALLE 3ERA. AV. ENTRE 2DA. Y 3ERA.","TRANSVERSAL QTA. TANAGUAPIRE URB.","LOS PALOS GRANDES - CARACAS","(0212) 283.30.79","(0412) 737.15.48","titosouto@hotmail.com","CARACAS"," "," "," ","CAMBIO DE  ZONA 32 A 31 260922  MYZ","JOSE NEGRIN"," "," ","RESTAURANT LASSERRE","CALLE 3ERA. AV. ENTRE 2DA. Y 3ERA.","TRANSVERSAL QTA. TANAGUAPIRE URB.","LOS PALOS GRANDES - CARACAS"," ","(0212) 283-30-79","283-63-55","RECIBE  MARTES A VIERNES"," 09:00 AM A 04:00 PM","MARTES","J-00074633-8","C-07011000824","89250","No","05","CREDITO 5 DIAS","31","LA CASTELLANA","04","07","RESTAURANTES","02","ON PREMISSE","02","ON PREMISSE","31","31","01 - CARLOS DA SILVA - ON","RECIBE  MARTES A VIERNES  09:00 AM A 04:00 PM"]
["J000746826","15 - GUTIERREZ WALTER","ABASTOS MONTESACRO,S.R.L.","ABASTOS MONTESACRO,S.R.L."," ","ABASTOS MONTESACRO,S.R.L.","AV.ARTURO MICHELENA,URB.SANTA MONIC","AEDIF.LAMAS,P.B.PARROQUIA STA.ROSAL","IA-CARACAS","(0212) 661-18-60"," "," ","CARACAS"," "," "," ","DESBLOQ CLT CON BHP 29/08/19 JA","JOSE GONCALVES"," "," ","ABASTOS MONTESACRO,S.R.L.","AV.ARTURO MICHELENA,URB.SANTA MONIC","AEDIF.LAMAS,P.B.PARROQUIA STA.ROSAL","IA-CARACAS"," ","(0212) 661-18-60"," ","RECIBE DE LUNES A VIERNES","8:00AM A 1:00PM","MIERCOLES","J-00074682-6","MN-03-02","89250","No","05","CREDITO 5 DIAS","16","GUATIRE","05","22","ABASTOS GRANDES","01","OFF PREMISSE","01","OFF PREMISSE","15","15","01 - CARLOS DA SILVA - OFF","RECIBE DE LUNES A VIERNES 8:00AM A 1:00PM"]
["J000747903","36  CLIENT-CORPORAT-OFIC.","FEGRI, C.A.","SASTRERIA FEGRI"," ","FEGRI, C.A.","AV. UNIVERSIDAD ESQUINA COLISEO","EDIF. LA GALERIA TORRE ESTE PISO PB","LOCAL 7 SECTOR LA HOYADA","0212-541.53.86/60.19"," "," ","CARACAS"," "," ","CAMB.ZONA 36 AL 33 POR SUP.07-10-14","SOLICITUD CAMBIO ZONA(33/36)-210915","MANUEL GRILLE GOIMIL"," "," ","SASTRERIA FEGRI ,CA","URB. TERRAZAS DEL AVILA EDIF PORTAL","DEL AVILA APTO 4-B-1 /PRIMER EDIF","EN LA ENTRADA DE LA URBANIZACION","DONDE ESTA LA PREVENCION DE LA","0212-541.53.86/60.19"," "," "," ",null,"J-00074790-3","PARTICULAR","89250","No","00","CONTADO","36","VTAS.CORPORATIVAS","07","31","PARTICULAR","02","ON PREMISSE","02","ON PREMISSE","36","36","71 - OFICINA","   "]
["J000749086","09 - CLIENTE INHABILITADO","HERMANOS CABRAL DOS SANTOS,S.N.C.","LICORERIA SAN JOSE"," ","HERMANOS CABRAL DOS SANTOS,S.N.C.","CALLE ACUEDUCTO URB. EL BARBECHO","LOS TEQUES EDIF. SAN JOSE MNPIO.","GUAICAIPURO EDO. MIRANDA","(0212) 745-12-25"," "," ","LOS TEQUES"," ","CLIENTE CERRADO 161018 AV","CAMBIO DE ZONA 26 A 02 161018 AV","CAMBIO A LA ZONA 09 23-09-19 YM","SUSANA CABRAL"," "," ","LICORERIA SAN JOSE","CALLE ACUEDUCTO URB.EL BARBECHO LOS","TEQUES EDIF.SAN JOSE-MNPIO.GUAICAIP","URO-EDO.MIRANDA"," ","(0212) 745-12-25"," ","RECIBE DE MIER A VIERNES","12:00AM A 03:00PM","MARTES","J-00074908-6","032-MN-024","15000","Sí","00","CONTADO","25","LOS TEQUES","06","18","LICORERIAS/BODEGONES","01","OFF PREMISSE","01","OFF PREMISSE","09","09","09 - CLIENTE INHABILITADO","RECIBE DE MIER A VIERNES 12:00AM A 03:00PM"]
["J000750025","31 - RODRIGUEZ WLADIMIR","BAR RESTAURANT COSTA VERDE, C.A.","BAR RESTAURANT COSTA VERDE, C.A."," ","BAR RESTAURANT COSTA VERDE, C.A.","ESQ EL SOCORRO AL LADO HOTELMETROPO","L AV FUERZAS ARMADAS"," ","0212/5625268"," "," ","CARACAS"," "," "," "," ","JOSE SIDONIO FIGUEIR","A PINTO"," ","BAR RESTAURANT COSTA VERDE, C.A.","ESQ EL SOCORRO AL LADO HOTELMETROPO","L AV FUERZAS ARMADAS"," "," "," "," "," "," ",null,"J-00075002-5","C 1839","89250","No","05","CREDITO 5 DIAS","33","CENTRO-CANDELARIA","04","07","RESTAURANTES","02","ON PREMISSE","02","ON PREMISSE"," ","31"," ","   "]
["J000751951","31 - RODRIGUEZ WLADIMIR","CERVECERIA Y RESTAURANT APOLO,S.R.L","CERVECERIA APOLO"," ","CERV. Y R. APOLO,S.R.L.(CERVECERIA APOLO","AVENIDA,PRINCIPAL DE LAS FUENTES,LO","CAL AEL PARAISO"," ","0212.451.26.70"," "," ","CARACAS"," "," "," "," ","ALDO SOLIZ"," "," ","CERVECERIA APOLO","AVENIDA,PRINCIPAL DE LAS FUENTES,LO","CAL AEL PARAISO"," "," "," "," "," "," ",null,"J-00075195-1","C-429","89250","No","05","CREDITO 5 DIAS","33","CENTRO-CANDELARIA","04","07","RESTAURANTES","02","ON PREMISSE","02","ON PREMISSE"," ","31"," ","   "]
["J000752761","09 - CLIENTE INHABILITADO","MACHADO GONCALVES Y DE FARIA S.R.L.","MACHADO GONCALVES Y DE FARIA,S.R.L."," ","MACHADO GONCALVES Y DE FARIA,S.R.L.","AV. SAN JUAN BAUTISTA ARISMENDIESQ."," LOS MANGOS LA FLORIDA"," "," "," "," ","CARACAS"," "," "," ","CAMBIO DE Z 31 A ZONA 09 200919 JA","CARLOS FREITAS"," "," ","MACHADO GONCALVES Y DE FARIA,S.R.L.","AV. SAN JUAN BAUTISTA ARISMENDIESQ."," LOS MANGOS LA FLORIDA"," "," "," "," "," "," ",null,"J-00075276-1","C 899","0","Sí","00","CONTADO","09","CLIENTE INHABILITADO","05","21","SUPERMERCADOS/AUTOMERCADO","02","ON PREMISSE","02","ON PREMISSE","09","09","09 - CLIENTE INHABILITADO","   "]
["J000753199","09 - CLIENTE INHABILITADO","PIZZ.REST.BAR LASTRADA DEL SOLE,CA","REST.PIZZERIA MONTANARA"," ","PIZZ.REST.BAR LASTRADA DEL SOLE,CA","CALLE CARONI MADRID QTA FRANCIA URB","LAS MERCEDES CARACA MIRANDA"," ","(0414)222-14-88"," "," ","CARACAS-MERCEDES"," "," "," ","CAMBIO D ZONA 31 A 09 230919 JA","NIÑO BARON ADALBERTO"," "," ","REST. PIZZERIA MONTANARA","CALLE CARONI MADRID QTA FRANCIA URB","LAS MERCEDES CARACA MIRANDA","FRENTE PIZZERIA ROMANA"," ","(0414) 222-14-88"," ","MARTES A JUEVES","8:00AM A 11:30AM","JUEVES","J-00075319-9","B-1070-0060-CVC","15000","Sí","00","CONTADO","34","LAS MERCEDES","04","07","RESTAURANTES","02","ON PREMISSE","02","ON PREMISSE","09","09","09 - CLIENTE INHABILITADO","MARTES A JUEVES 8:00AM A 11:30AM"]
["J000753520","17 - TORRES CARLOS","SUPERMERCADO PIEDRA AZUL,C.A.","SUPERMERCADO PIEDRA AZUL CA"," ","SUPERMERCADO PIEDRA AZUL CA","CALLE RICAURTE Nº12BARUTA"," "," ","(0212) 976.52.15","(0416) 722.37.81","supermercadopiedraazul@gmail.com","CARACAS","1CD 101018-100119 HP16 DC5 GA","CLIENTE 00 DIAS PO MAL HP 290819 JA","BLOQxSEGUI HP15 29012020 JA","CAMBIO DE ZONA 15 A17 RM 170823","MANUEL ZA"," "," ","SUPERMERCADO PIEDRA AZUL CA","CALLE RICAURTE Nº12BARUTA"," "," "," ","(0212) 976-52-15"," ","RECIBE  LUNES A VIERNES"," 08:00 AM A 04:00 PM","LUNES","J-00075352-0","M-N 1987","89250","Sí","05","CREDITO 5 DIAS","15","BARUTA","05","21","SUPERMERCADOS/AUTOMERCADO","01","OFF PREMISSE","01","OFF PREMISSE","17","17","01 - GUERRERO SALVADOR - OFF","RECIBE  LUNES A VIERNES  08:00 AM A 04:00 PM"]
["J000757569","09 - CLIENTE INHABILITADO","CAJA DE AHORRO DEL PER DEL C.I.C.P.","CAJA DE AHORRO DEL PERS. DEL C.T.P."," ","CAJA DE AHORRO DEL PERSONAL DEL C.T.P.J.","VIA LA MARIPOSA KM.3 FTE.PLANTA DE","TRATAMIENTO I.N.O.S LAS MAYAS"," ","(0212) 681-91-98"," "," ","CARACAS"," "," "," ","CAMBIO DE ZONA 24 A 09 5/4/23 LL","HERNAN JOSE ZURITA"," "," ","CAJA DE AHORRO DEL PERS. DEL C.T.P.","VIA LA MARIPOSA KM.3 FTE.PLANTA DE","TRATAMIENTOI.N.O.S LAS MAYAS"," "," ","(0212) 681-91-98"," ","RECIBE DE LUNES A JUEVES","9 AM A 1 PM Y 3 A 5 PM","MARTES","J-00075756-9","1/8934","15000","No","05","CREDITO 5 DIAS","24","CARICUAO","06","30","GOBIERNO","01","OFF PREMISSE","01","OFF PREMISSE","09","09","09 - CLIENTE INHABILITADO","RECIBE DE LUNES A JUEVES 9 AM A 1 PM Y 3 A 5 PM"]
["J000759219","31 - RODRIGUEZ WLADIMIR","INVERSIONES PUENTE NUEVO,S.R.L.","HOTEL PUENTE PLAZA"," ","HOTEL PUENTE PLAZA","ESQ. PUENTE NUEVO A 40 MTRS. DELDIA","RIO NACIONAL CARACAS"," ","482-68-10"," "," ","CARACAS"," "," "," "," ","JOSE LUIS GONCALVES"," "," ","HOTEL PUENTE PLAZA","ESQ. PUENTE NUEVO A 40 MTRS. DELDIA","RIO NACIONAL CARACAS"," "," "," "," "," "," ",null,"J-00075921-9","C 3651","89250","No","05","CREDITO 5 DIAS","33","CENTRO-CANDELARIA","04","08","HOTELES/CASINOS/BINGOS","02","ON PREMISSE","02","ON PREMISSE"," ","31"," ","   "]
["J000761302","02 - REQUENA JOHAN - OFF","SUPERMERCADO ARGENTINA","SUPERMERCADO ARGENTINA"," ","VIEIRA Y DA LUZ S N C","CALLE ARGENTINA ENTRE 3RA Y 4TA AVE","NIDACATIA"," ","5703291"," "," ","CARACAS"," "," "," "," ","JOSE ANTONIO VIEIRA"," "," ","SUPERMERCADO ARGENTINA","CALLE ARGENTINA ENTRE 3RA Y 4TA AVE","NIDACATIA"," "," "," "," "," "," ",null,"J-00076130-2","M-N 1622","89250","No","05","CREDITO 5 DIAS","22","CATIA-JUNQUITO","05","23","ABASTOS PEQUEÑOS/BODEGAS","01","OFF PREMISSE","01","OFF PREMISSE"," ","02"," ","   "]
["J000762341","09 - CLIENTE INHABILITADO","INVERSIONES MARIN S.R.L.","INVERSIONES MARIN S.R.L."," ","INVERSIONES MARIN S.R.L.","CALLE SAN JOSE A CON CALLE CALLE LA"," GRUTA. FRENTE LA PANADERIA","SAN ANTONIO DE CUA","0239-212.57.61"," "," ","CUA"," "," "," ","CAMBIO DE ZONA 21 A 09 06/12/22 ST","RICHARD PEREIRA"," "," ","INVERSIONES MARIN S.R.L.","CALLE SAN JOSE A CON CALLE CALLE LA"," GRUTAFRENTE LA PANADERIA SAN ANTON","IO DE CUA"," ","0239.212.56.61"," ","RECIBE DE LUNES A JUEVES","A PARTIR DE LAS 9:00 AM","MIERCOLES","J-00076234-1","039 MN","15000","No","05","CREDITO 5 DIAS","09","CLIENTE INHABILITADO","06","23","ABASTOS PEQUEÑOS/BODEGAS","01","OFF PREMISSE","01","OFF PREMISSE","09","09","09 - CLIENTE INHABILITADO","RECIBE DE LUNES A JUEVES A PARTIR DE LAS 9:00 AM"]
["J000763097","09 - CLIENTE INHABILITADO","TASCA RESTAURANT ARAGUANEY,S.R.L.","TASCA RESTAURANT ARAGUANEY,S.R.L."," ","TASCA RESTAURANT ARAGUANEY,S.R.L.","AV.ROMULO GALLEGOS EDIF. LIZZANO LO","CAL 3-6HORIZONTE,EL MARQUEZ- PETARE","-DTTO.CAPITAL"," "," "," ","CARACAS"," "," "," ","REEST-V-31 AL V-09 20092019 MYZ","DE ABREU ARMANDO"," "," ","TASCA RESTAURANT ARAGUANEY,S.R.L.","AV.ROMULO GALLEGOS EDIF. LIZZANO LO","CAL 3-6HORIZONTE,EL MARQUEZ- PETARE","-DTTO.CAPITAL"," "," "," "," "," ",null,"J-00076309-7","C 6192","15000","Sí","00","CONTADO","31","LA CASTELLANA","04","06","BAR/TABER./S. BAR/PUB/TAS","02","ON PREMISSE","02","ON PREMISSE","09","09","09 - CLIENTE INHABILITADO","   "]
["J000766169","20 - DIEGO MANUEL","HERMANOS FEBLES,C.A.","COMERCIAL HERMANOS FEBLES"," ","HERMANOS FEBLES, C.A.","CASACOIMA A HORNO NEGRO QUINTA","CRESPO-CARACAS"," ","(0212) 481.13.29"," "," ","CARACAS","CAMBIO DE ZONA 23 A 228 170222 ST","CAMBIO ZONA V-28 AL V-23 230621 MYZ","BLOQ MAYOR 44 DIAS SEGUIM 2903 PH","CAMBIO DE ZONA V28 A V20 140223 LL","JUAN FEBLES ARMAS."," "," ","COMERCIAL HERMANOS FEBLES","CASACOIMA A HORNO NEGRO QUINTA","CRESPO - CARACAS"," "," ","(0212) 481-13-29"," ","RECIBE  LUNES A VIERNES"," 11:00AM A 5:00PM","MARTES","J-00076616-9","002-MN-216","89250","Sí","05","CREDITO 5 DIAS","23","CENTRO-SAN MARTIN","06","20","DELICATESES/FRIGO/CHARCUT","01","OFF PREMISSE","01","OFF PREMISSE","20","20","02 - VICTOR TORRES - OFF","RECIBE  LUNES A VIERNES  11:00AM A 5:00PM"]
["J000766800","31 - RODRIGUEZ WLADIMIR","BAR RESTAURANT EL RUEDO,S.R.L.","BAR RESTAURANT EL RUEDO,S.R.L."," ","BAR RESTAURANT EL RUEDO,S.R.L.","PELIGRO A MIGUELACHO  Nº 14LA CANDE","LARIA. CARACAS"," ","572-43-53"," "," ","CARACAS"," "," "," "," ","MARIO EUGENIO MARQUE","Z DA SILVA"," ","BAR RESTAURANT EL RUEDO,S.R.L.","PELIGRO A MIGUELACHO  Nº 14LA CANDE","LARIA. CARACAS"," "," "," "," "," "," ",null,"J-00076680-0","C 338","89250","No","05","CREDITO 5 DIAS","33","CENTRO-CANDELARIA","04","06","BAR/TABER./S. BAR/PUB/TAS","02","ON PREMISSE","02","ON PREMISSE"," ","31"," ","   "]
["J000772924","22 - GONZALEZ CARLOS","AUTOMERCADO NACIONAL S.R.L","AUTOMERCADO NACIONAL S.R.L","08/10/2021","AUTOMERCADO NACIONAL S.R.L","CALLE EL CUARTEL URDANETA, VEREDA","ESQ. 15, LOCAL NRO 04 URB URDANETA","CATIA CARACAS DISTRITO CAPITAL","0424-1941901"," ","JOSEGPINTODA@GMAIL.COM"," "," "," "," "," ","JUAN DE ABREU","MANUEL TELES PINTO"," ","AUTOMERCADO NACIONAL S.R.L","CALLE EL CUARTEL URDANETA, VEREDA","ESQ. 15 LOCAL NRO 04 URB URDANETA","CATIA CARACAS DISTRITO CAPITAL"," ","0424-1941901"," ","RECIBE DE LUNES A VIERNES","DE 8:00AM A 2:00PM","MIERCOLES","J-00077292-4","15-MN-001014","89250","No","05","CREDITO 5 DIAS","22","CATIA-JUNQUITO","05","21","SUPERMERCADOS/AUTOMERCADO","01","OFF PREMISSE","01","OFF PREMISSE","22","22","02 - VICTOR TORRES - OFF","RECIBE DE LUNES A VIERNES DE 8:00AM A 2:00PM"]
["J000773033","09 - CLIENTE INHABILITADO","BAR RESTAURANT LA GRAN PAELLA S R L","BAR REST. LAS CANCELAS"," ","BAR RESTAURANT LA GRAN PAELLA S R L","2DA TRANSV.  DE BELLO MONTESABANA G","RANDE"," "," "," "," ","CARACAS"," "," "," ","CAMBIO A LA ZONA 09 23-09-19 YM","ANTONIO GONCALVES"," "," ","BAR REST. LAS CANCELAS","2DA TRANSV.  DE BELLO MONTESABANA G","RANDE"," "," "," "," "," "," ",null,"J-00077303-3","C 2718","0","Sí","00","CONTADO","09","CLIENTE INHABILITADO","04","06","BAR/TABER./S. BAR/PUB/TAS","02","ON PREMISSE","02","ON PREMISSE","09","09","09 - CLIENTE INHABILITADO","   "]
["J000774382","09 - CLIENTE INHABILITADO","OZA DE LOS RIOS C A","BAR RESTAURANT GIOLY"," ","OZA DE LOS RIOS C A","AVENIDA MIS ENCANTOS FRENTE A LA LI","CORERIAPORTY- CHACAO-CARACAS-EDO.MI","RANDA","266.72.22"," "," ","CARACAS"," "," "," ","CAMBIO DE ZONA 31 A 09 230919 JA","ALMIRO LOPEZ MOURO"," "," ","BAR RESTAURANT GIOLY","AVENIDA MIS ENCANTOS FRENTE A LA LI","CORERIAPORTY- CHACAO-CARACAS-EDO.MI","RANDA"," "," "," "," "," ",null,"J-00077438-2","C 4069","15000","Sí","00","CONTADO","31","LA CASTELLANA","04","06","BAR/TABER./S. BAR/PUB/TAS","02","ON PREMISSE","02","ON PREMISSE","09","09","09 - CLIENTE INHABILITADO","   "]
["J000778990","09 - CLIENTE INHABILITADO","ABASTO Y FRUTERIA SATURNO","ABASTO Y FRUTERIA SATURNO"," ","ABASTO Y FRUTERIA SATURNO","CALLE SORBONA EDF.SATURNO COLINAS D","E BELLO MONTEFRENTE A LA BOMBA DE G","ASOLINA MAXY'S","7526913"," "," ","CARACAS"," "," "," "," ","MARIO FERRES"," "," ","ABASTO Y FRUTERIA SATURNO","CALLE SORBONA EDF.SATURNO COLINAS D","E BELLO MONTEFRENTE A LA BOMBA DE G","ASOLINA MAXY'S"," "," "," "," "," ",null,"J-00077899-0","M-N 4063","15000","No","05","CREDITO 5 DIAS","15","BARUTA","05","23","ABASTOS PEQUEÑOS/BODEGAS","01","OFF PREMISSE","01","OFF PREMISSE","09","09","09 - CLIENTE INHABILITADO","   "]
["J000790264","09 - CLIENTE INHABILITADO","SUPERMERCADO NUEVA CIUDAD,SRL","SUPERMERCADO NUEVA CIUDAD"," ","SUPERMERCADO NUEVA CIUDAD,SRL","AV. PRINCIPAL LA HACIENDA EDF 8","SECTOR CARICUAO UD3","CARICUAO","0212-431.51.53"," "," ","CARACAS"," ","BLOQ MAYOR 100 DIAS 02032022 MYZ","BLOQ MAYOR 2020 SEGUIM 030322 PH","CAMBIO DE ZONA 224 AL 09 260922 FL","JOSE ANTONIO G"," "," ","SUPERMERCADO NUEVA CIUDAD","AV. PRINCIPAL LA HACIENDA EDF 8","SECTOR CARICUAO UD3","CARICUAO"," ","0212/431.51.53"," "," ","NO PREPAGO BLOQ. 17/12/15","DE LUNES A JUEVES","J-00079026-4","17-MN-1824","15000","Sí","05","CREDITO 5 DIAS","09","CLIENTE INHABILITADO","06","23","ABASTOS PEQUEÑOS/BODEGAS","01","OFF PREMISSE","01","OFF PREMISSE","09","09","02 - VICTOR TORRES - OFF","  NO PREPAGO BLOQ. 17/12/15"]
["J000790485","02 - REQUENA JOHAN - OFF","ROD.DOS REIS Y FERNANDEZ","ROD.DOS REIS Y FER (AB.RODRIGUEZ)"," ","ROD.DOS REIS Y FERNANDEZ (AB.RODRIGUEZ)","2 CALLE DE CARAPITA CALLE PORVENIR","ANTIMANOCARACAS"," ","4433342"," "," ","CARACAS"," "," "," "," ","RODRIGUEZ DOS R. Y F","."," ","ROD.DOS REIS Y FER (AB.RODRIGUEZ)","2 CALLE DE CARAPITA CALLE PORVENIR","ANTIMANOCARACAS"," "," "," "," "," "," ",null,"J-00079048-5","M-N 6396","89250","No","05","CREDITO 5 DIAS","23","CENTRO-SAN MARTIN","05","23","ABASTOS PEQUEÑOS/BODEGAS","01","OFF PREMISSE","01","OFF PREMISSE"," ","02"," ","   "]
["J000791031","554 - CARLOS C.SUP.LIC.S.","SUP DE LICORES EL SILENCIO,C.A.","SUP DE LICORES EL SILENCIO,C.A."," ","SUPERMERCADO DE LICORES EL SILENCIO,C.A.","BLOQUE Nº 2, LOCAL Nº 9 URBANIZACIO","N EL SILENCIO"," ","0212/4841279"," "," ","CARACAS"," "," "," "," ","JUAN CARLOS DE ABREU","S F."," ","SUP DE LICORES EL SILENCIO,C.A.","BLOQUE Nº 2,DEL SILENCIO,LOCAL Nº","9 ENTRE PLAZA MIRANDA Y PLAZA OLIAR","ES-EL SILENCIO-CARACAS"," "," "," "," "," ","LUNES","J-00079103-1","12-MN-002081 / 12-MY-002232","8000","No","05","CREDITO 5 DIAS","55","OFICINA GRUPO PROLICOR","08","33","RELACIONADOS","10","PROLICOR,C.A","10","PROLICOR,C.A","554","554","05 - CARLOS CARREIRA - GRUPO PROLICOR","   "]
["J000791040","20 - DIEGO MANUEL","S/M. DE LICORES SABANA GRANDE, C.A.","S/M. DE LICORES SABANA GRANDE, C.A."," ","S/M. DE LICORES SABANA GRANDE, C.A.","AVDA. SOLANO LOPEZ CON AVDA. LOS","JABILLOS EDIF. MORICHAL P.B. SABANA","GRANDE","0212 763 51 20","0412 917 87 00","licoressabanagrande@gmail.com","CARACAS"," "," "," ","BLOQ.X.MHP. 23/04/19 GA","JOSE DE SOUZA"," "," ","S/M. DE LICORES SABANA GRANDE, C.A.","AVDA. SOLANO LOPEZ CON AVDA. LOS","JABILLOS EDIF. MORICHAL P.B. SABANA","GRANDE"," ","(0212) 763-51-20"," ","RECIBE  LUNES A VIERNES","A PARTIR DE LAS 2:30 PM","MARTES","J-00079104-0","MY-1277","89250","No","05","CREDITO 5 DIAS","20","CENTRO DE CARACAS","06","21","SUPERMERCADOS/AUTOMERCADO","01","OFF PREMISSE","01","OFF PREMISSE","20","20","02 - VICTOR TORRES - OFF","RECIBE  LUNES A VIERNES A PARTIR DE LAS 2:30 PM"]
["J000792577","20 - DIEGO MANUEL","SUPERMERCADO LOS PROCERES,C.A.","SUPERMERCADO LOS PROCERES,C.A."," ","SUPERMERCADO LOS PROCERES,C.A.","AV.LOS PROCERES EDIF. SAN JOSE PB","LOCAL A Y B URB.SAN BERNARDINO","CARACAS-DTTO.CAPITAL","0212-551-43-04"," "," ","CARACAS"," "," "," ","ACT. Y REACTIV. 301018 GA","CASIMIRO BARBOSA"," "," ","SUPERMERCADO LOS PROCERES,C.A.","AV.LOS PROCERES EDIF. SAN JOSE PB","LOCAL A Y B URB.SAN BERNARDINO","CARACAS-DTTO. CAPITAL"," "," "," ","TRASP.AL 02 SEGUN SOLIC","14/02/11",null,"J-00079257-7","21-MN-001926","89250","No","05","CREDITO 5 DIAS","20","CENTRO DE CARACAS","05","21","SUPERMERCADOS/AUTOMERCADO","01","OFF PREMISSE","01","OFF PREMISSE","20","20","02 - VICTOR TORRES - OFF","TRASP.AL 02 SEGUN SOLIC 14/02/11"]
["J000793760","09 - CLIENTE INHABILITADO","ABTO.CARN Y PESC. LA CRUZ VERDE,S.R","ABTO.CARN Y PESC. LA CRUZ VERDE,S.R"," ","ABASTOS.CARN.Y PESC.LA CRUZ VERDE,S.R.L","CALLE SUCRE CON RICAURTE EDIFICIO","LA CRUZ. LOCAL 4-BARUTA-CARACAS-"," ","(0212) 944.51.31","(0412) 585.53.61","ddsardinha@gmail.com","CARACAS"," "," "," ","CAMBIO DE ZONA 15 A 09 200422 ST","JOAO BATISTA CORREIA"," "," ","ABTO.CARN Y PESC. LA CRUZ VERDE,S.R","CALLE SUCRE CON RICAURTE EDIFICIO","LA CRUZ LOCAL 4-BARUTA-CARACAS-"," "," ","0212 - 943.33.37"," ","RECIBE  LUNES A VIERNES"," 9:00 AM A 4:00 PM","LUNES","J-00079376-0","B-101-0-0016","15000","No","05","CREDITO 5 DIAS","09","CLIENTE INHABILITADO","05","23","ABASTOS PEQUEÑOS/BODEGAS","01","OFF PREMISSE","01","OFF PREMISSE","09","09","09 - CLIENTE INHABILITADO","RECIBE  LUNES A VIERNES  9:00 AM A 4:00 PM"]
["J000794243","22 - GONZALEZ CARLOS","LICORES PERU, C.A.","LICORERIA PERU, C.A"," ","LICORERIA PERU, C.A","CALLE BOLIVAR CON AVENIDA CATIAL","CALLE PERU"," ","0212-872.16.01","0414-309.54.55"," ","CARACAS"," "," "," ","REACTIV A VENTA CON/SEG 100519 WP","WUILMER LEON"," "," ","LICORES PERU,S.R.L.","CALLE BOLIVAR CON AVENIDA CATIA","CALLE PERU"," "," ","0212-872.16.01","0414-309.54.55","RECIBE DE LUNES A VIERNES","09:00AM A 5:00PM","MIERCOLES Y JUEVES","J-00079424-3","M-N 365","89250","No","05","CREDITO 5 DIAS","22","CATIA-JUNQUITO","06","18","LICORERIAS/BODEGONES","01","OFF PREMISSE","01","OFF PREMISSE","22","22","02 - VICTOR TORRES - OFF","RECIBE DE LUNES A VIERNES 09:00AM A 5:00PM"]
["J000794464","31 - RODRIGUEZ WLADIMIR","COSTA Y COSTA,C.A.","BAR RESTAURANT LA ESTANCIA"," ","COSTA Y COSTA,C.A.","AVENIDA PRINCIPAL DE LA CASTELLANA","CARACAS"," ","(0212) 261.68.46","(0414) 136.44.13","pedrocorrea68@hotmail.com","CARACAS"," "," ","CAMB. V31 AL V35 JOSE D MORA 151116","CAMBIO V-31 vs V-332 200421","JOSE GONCALVEZ"," "," "," RESTAURANT LA ESTANCIA","AVENIDA PRINCIPAL DE LA CASTELLANAC","ARACAS"," "," ","0212-261.44.23"," ","RECIBE  LUNES A VIERNES"," 8:00 AM A 11:30 AM","MIERCOLES","J-00079446-4","C 07009000054","89250","No","05","CREDITO 5 DIAS","35","EL ROSAL-CHACAO","04","06","BAR/TABER./S. BAR/PUB/TAS","02","ON PREMISSE","02","ON PREMISSE","31","31","01 - CARLOS DA SILVA - ON","RECIBE  LUNES A VIERNES  8:00 AM A 11:30 AM"]
["J000797218","34 - MARQUINA CARLOS","INVERSIONES LUVEBRAS, C.A.","INVERSIONES LUVEBRAS, C.A."," ","INVERSIONES LUVEBRAS, C.A.","AV. RÓMULO GALLEGOS, CONJUNTO","COMERCIAL LUVEBRAS, P.A., LOCALES:","H, I, J, K; URB.EL MARQUÉS, CARACAS","234.03.08/238.01.58","0212-238.85.49"," ","CARACAS"," "," "," ","CAMBIO V444 A V34 050923 RM","VICTOR FERREIRA/JUAN"," FERREIRA"," ","INVERSIONES LUVEBRAS, C.A.","AVENIDA RÓMULO GALLEGOS,","CONJUNTO COMERCIAL LUVEBRAS, P.A.,","URBANIZACIÓN EL MARQUÉS, CARACAS."," ","0212-235.91.28/98.02"," "," "," ","LUNES","J-00079721-8","002-MN-4325","89250","No","05","CREDITO 5 DIAS","41","CADENAS NACIONAL","03","04","CADENAS AUTOM. NACIONALES","01","OFF PREMISSE","01","OFF PREMISSE","34","34","01 - GUERRERO SALVADOR - OFF","   "]
["J000798435","24 - REYES OSWALDO","AB.Y PANAD. MEDALLA DE PLATA, C.A.","AB.Y PANAD. MEDALLA DE PLATA, C.A."," ","AB.Y PANAD. MEDALLA DE PLATA, C.A.","AVDA. PPAL. EDF. BLOQUE 19 Y 18 P.B","LOCAL 64 URB. RUIZ PINEDA UD-2","CARICUAO - CARACAS","(0212) 432-51-11"," "," ","CARACAS"," "," "," ","BLOQ MAYOR 84 DIAS SEGUI 240222 PH","JUAN R. DE ABREU"," "," ","AB.Y PANAD. MEDALLA DE PLATA, C.A.","AVDA. PPAL. EDF. BLOQUE 19 Y 18 P.B","LOCAL 64 URB. RUIZ PINEDA UD-2","CARICUAO - CARACAS"," ","(0212) 431-51-11"," ","RECIBE DE LUNES A VIERNES","DE 9:00AM A 3:00PM","JUEVES","J-00079843-5","EN TRAMITES","89250","No","05","CREDITO 5 DIAS","24","CARICUAO","06","18","LICORERIAS/BODEGONES","01","OFF PREMISSE","01","OFF PREMISSE","24","24","02 - VICTOR TORRES - OFF","RECIBE DE LUNES A VIERNES DE 9:00AM A 3:00PM"]
["J000798656","09 - CLIENTE INHABILITADO","FTE DE S B/ REST LA SALAMANDRA SRL","FTE DE S B/ REST LA SALAMANDRA SRL"," ","FUENTE DE SODA BAR RESTAURANT LA SALAMANDRA, S.R.L.","AV. SAN SEBASTIAN C.C. BARUTA,LOCAL","N° 11,12,13,14, URB. CHARALLAVITO","MUNICIPIO BARUTA","(0212) 943.11.43"," ","restlasalamandra@cantv.net","CARACAS"," "," "," ","CLIENTE INHABILITADO C09 130919 WP","CALUDIO FREITAS"," "," ","FTE DE S B/ REST LA SALAMANDRA SRL","AV. SAN SEBASTIAN C.C. BARUTA AL LA","DO REST NONNAMIA BARUTA"," "," "," "," ","RECIBE LUNES A VIERNES"," 08:00AM A 12:00PM","LUNES","J-00079865-6","B-102-0-0069","15000","Sí","00","CONTADO","32","SUCRE - BARUTA","04","07","RESTAURANTES","02","ON PREMISSE","02","ON PREMISSE","09","09","09 - CLIENTE INHABILITADO","RECIBE LUNES A VIERNES  08:00AM A 12:00PM"]
["J000798664","09 - CLIENTE INHABILITADO","FUENTE DE SODA ALABAMA C A","RESTAURANT MAMA  MIA"," ","FUENTE DE SODA ALABAMA C A","AVENIDA PRINCIPAL DE LAS MERCEDESNU","LL"," ","(0212) 993.44.19"," ","alabamarestmamammia@hotmail.com","CARACAS"," "," ","CAMBIO DE ZONA 35 A LA 35 130319 WP","CAMBIO DE ZONA V35 A V09 060422 FL","DUARTE BATISTA"," "," ","RESTAURANT MAMA  MIA","AVENIDA PRINCIPAL DE LAS MERCEDESNU","LL"," "," "," "," ","RECIBE  LUNES A VIERNES"," 9:00 AM A 12:00 PM","LUNES","J-00079866-4","C- 23","15000","No","05","CREDITO 5 DIAS","09","CLIENTE INHABILITADO","04","17","FTE SODA/LUNCH/HELAD/CAFE","02","ON PREMISSE","02","ON PREMISSE","09","09","09 - CLIENTE INHABILITADO","RECIBE  LUNES A VIERNES  9:00 AM A 12:00 PM"]
["J000801967","09 - CLIENTE INHABILITADO","LICORERIA ORINOCO,C.A.","LICORERIA ORINOCO,C.A."," ","LICORERIA ORINOCO,C.A.","AVENIDA INTERCOMUNAL DE ANTIMANO SE","CTOR CARAPAFRENTE METRO CARAPITA-DT","TO.CAPITAL"," ","(0416) 170.49.46"," ","CARACAS","2CHED 120118/100518 7HP MYZ","BLOQ,SEG PAGO TRANSF 12/06/18","BLOQSEG INCUMPL D ACUERDO 090818 WP","COMBIO D ZONA23 A 09 AL 190619 JA","JUAN LUIS MONCADA"," "," ","LICORERIA ORINOCO,C.A.","AVENIDA INTERCOMUNAL DE ANTIMANO","SECTOR CARAPAFRENTE METRO CARAPITA","DTTO. CAPITAL"," "," "," ","RECIBE  LUNES A VIERNES"," 11:00AM A 4:00PM","LUNES","J-00080196-7","MY-1000","0","Sí","00","CONTADO","09","CLIENTE INHABILITADO","06","18","LICORERIAS/BODEGONES","01","OFF PREMISSE","01","OFF PREMISSE","09","09","09 - CLIENTE INHABILITADO","RECIBE  LUNES A VIERNES  11:00AM A 4:00PM"]
["J000802238","32 - HERNANDEZ EDGAR","CERVECERIA REST RIAS GALLEGAS,SRL","RESTAURANT RIAS GALLEGAS"," ","CERVECERIA RESTAURANT RIAS GALLEGAS,SRL","AVENIDA FRANCISCO SOLANO ESQUINA","LOS APAMATES GRANDE-CARACAS"," ","0212 761 65 69","0412 910 41 46","NO POSEE","CARACAS","CAMBIO V-33 AL V-31 170919 MY","BLOQ A 0 DIAS X FACT A +42 DIAS2810","CAMBIO V-31 vs V-332 200421","CAMBIO V-31 A LA V-32 220223 PH","VALENTIN GUTIRREZ","JULIO"," ","RESTAURANT RIAS GALLEGAS","AVENIDA FRANCISCO SOLANO ESQUINA","LOS APAMATES GRANDE-CARACAS"," "," "," "," ","RECIBE  LUNES A VIERNES"," 9:00AM A 12:00AM","MARTES","J-00080223-8","C-0241","89250","No","05","CREDITO 5 DIAS","30","PARROQUIA EL RECREO","04","06","BAR/TABER./S. BAR/PUB/TAS","02","ON PREMISSE","02","ON PREMISSE","32","32","01 - CARLOS DA SILVA - ON","RECIBE  LUNES A VIERNES  9:00AM A 12:00AM"]
["J000803412","09 - CLIENTE INHABILITADO","INVERSIONES ORQUIDEA,C.A.","INVER ORQUIDEA,C.A(MOTEL ORQUIDEA)"," ","INVERSIONES ORQUIDEA,C.A(MOTEL ORQUIDEA)","KM.10.CARRETERA PANAMERICANAHOTEL L","A ORQUIDEA LOS TEQUES"," ","0212-681.18.83"," ","santito666@hotmail.com","LOS TEQUES"," "," ","NO PREPAGO Z-26 A Z-02 17092018AV","CAMBIO A LA ZONA 09 20-09-19 YM","JOSE FERNANDEZ"," "," ","INVER ORQUIDEA,C.A(MOTEL ORQUIDEA)","KM.10.CARRETERA PANAMERICANAHOTEL L","A ORQUIDEA LOS TEQUES"," "," "," "," ","RECIBE LUNES Y MARTES","9 A 12 M Y 1 A 3 PM","MARTES","J-00080341-2","032-C-744","0","Sí","00","CONTADO","09","CLIENTE INHABILITADO","04","08","HOTELES/CASINOS/BINGOS","02","ON PREMISSE","02","ON PREMISSE","09","09","09 - CLIENTE INHABILITADO","RECIBE LUNES Y MARTES 9 A 12 M Y 1 A 3 PM"]
["J000803617","02 - REQUENA JOHAN - OFF","CARNICERIA Y CHARCUTERIA ROYAL,C.A.","CARNICERIA Y CHARCUTERIA ROYAL,C.A."," "," CARNICERIA Y CHARCUTERIA ROYAL, C.A","1ERA AVENIDA LAS DELICIAS ESQ. LAS","DELICIAS EDIF. ROYAL SABANA GRANDE"," ","(0212) 763-09-66"," "," ","CARACAS"," "," "," "," ","ANA RODRIGUEZ"," "," ","CARNICERIA Y CHARCUTERIA ROYAL,C.A.","1ERA AVENIDA LAS DELICIAS ESQ. LAS","DELICIASE DIF. ROYAL SABANA GRANDE,","BAJANDO HACIA EL BANCO DE VENEZUELA"," ","(0212) 763-09-66"," ","RECIBE DE LUNES A VIERNES","SUP.02 CARLOS G 08-06-13",null,"J-00080361-7","MN-614","89250","Sí","05","CREDITO 5 DIAS","20","CENTRO DE CARACAS","05","21","SUPERMERCADOS/AUTOMERCADO","01","OFF PREMISSE","01","OFF PREMISSE"," ","02"," ",{"$f":"CONCATENATE(AB258,\" \",AC258)","v":"RECIBE DE LUNES A VIERNES SUP.02 CARLOS G 08-06-13"}]
["J000804265","17 - TORRES CARLOS","COMERCIAL LA CAVITA, C.A.","COMERCIAL LA CAVITA, C.A."," ","COMERCIAL LA CAVITA, C.A.","COMERCIAL LA CAVITA, C.A.","FRENTE MADERAS BARUTA Nº 42-32"," ","(0212) 945.46.95","(0412) 232.33.11","comerciallacavita@hotmail.com","CARACAS"," ","CAMBIO DE ZONA DE 13 A 09 141021 FL","CAMBIO DE ZONA DE 09 A 13 281122 ST","CAMBIO DE ZONA 113 A 17 170823 PH","ROBERTO CORREIA F","JUAN C. CORREIA F"," ","COMERCIAL LA CAVITA, C.A.","CALLE PRINCIPAL LAS MINAS DE BARUTA","FRENTE MADERAS BARUTA Nº 42-32"," "," "," ","0416 - 609.98.98","RECIBE  MARTES A VIERNES"," 09:00 AM A 4:00 PM","MIERCOLES","J-00080426-5","B-151-0-0317","89250","No","05","CREDITO 5 DIAS","13","PETARE","05","18","LICORERIAS/BODEGONES","01","OFF PREMISSE","01","OFF PREMISSE","17","17","01 - GUERRERO SALVADOR - OFF","RECIBE  MARTES A VIERNES  09:00 AM A 4:00 PM"]
["J000805962","13 - GUDIÑO FABIAN","CHELAI C.A.","CHELAI C.A.","21/10/21","CHELAI C.A.","AV FRANCISCO DE MIRANDA 4C LEBRUM","EDIF LEBRUM PISO P.B. LOCAL 1","URB. PETARE","0412-5318539"," "," "," "," "," "," "," ","JOSE DE AZEVEDO"," "," ","CHELAI C.A.","AV FRANCISCO DE MIRANDA 4C LEBRUM","EDIF LEBRUM PISO P.B. LOCAL 1","URB PETARE"," ","0412-5318539"," ","RECIBE DE LUNES A VIERNES","9:00AM A 4:00PM","JUEVES","J-00080596-2","002-C-00453 Y 00165/2021","89250","No","05","CREDITO 5 DIAS","13","PETARE","05","18","LICORERIAS/BODEGONES","01","OFF PREMISSE","01","OFF PREMISSE","13","13","01 - CARLOS DA SILVA - OFF","RECIBE DE LUNES A VIERNES 9:00AM A 4:00PM"]
["J000809135","09 - CLIENTE INHABILITADO","BAR REST.Y PAST. EL CONGRESO, C.A.","BAR REST. Y PAST. EL CONGRESO, C.A."," ","BAR REST. Y PAST. EL CONGRESO, C.A.","EL CENTRO ESTE Z EDIF.SAN JACINTO L","OCAL 3AL LADO DE FOGADE-MNCP.LIBERT","ADOR-CARACAS","(0212) 541.68.43","(0424) 152.96.28","cabraljmanuel@gmail.com","CARACAS"," "," ","CAMBIO V-31 vs V-335 200421","CAMBIO DE ZONA 31 A 09 130921 ST","ALVARO MENDEZ","MANUEL"," ","BAR REST. Y PAST. EL CONGRESO, C.A.","EL CENTRO ESTE Z EDIF.SAN JACINTO L","OCAL 3AL LADO DE FOGADE-MNCP.LIBERT","ADOR-CARACAS"," "," "," ","RECIBE  LUNES A VIERNES"," 8 A 11AM- 2 A 5:30 PM","LUNES","J-00080913-5","C 2248","15000","No","05","CREDITO 5 DIAS","09","CLIENTE INHABILITADO","04","06","BAR/TABER./S. BAR/PUB/TAS","02","ON PREMISSE","02","ON PREMISSE","09","09","09 - CLIENTE INHABILITADO","RECIBE  LUNES A VIERNES  8 A 11AM- 2 A 5:30 PM"]
["J000811113","09 - CLIENTE INHABILITADO","RESTAURANT SHORTHORN GRILL, C.A","RESTAURANT SHORTHORN GRILL, C.A"," ","RESTAURANT SHORTHORN GRILL, C.A","AV. LIBERTADOR QTA LOS CUATRO","PINOS P.B NRO S/N URB EL BOSQUE","MUNICIPIO CHACAO","0212-731.07.47"," "," ","CARACAS"," "," "," ","REEST-V-31 AL V-09 20092019 MYZ","SANTIAGO CASAL NEO"," "," ","RESTAURANT SHORTHORN GRILL, C.A","AV. LIBERTADOR QTA LOS CUATRO","PINOS P.B NRO S/N URB EL BOSQUE","MUNICIPIO CHACAO"," ","0212-731.09.42"," ","RECIBE LUNES A VIERNES","DE 8:00AM A 12:00PM",null,"J-00081111-3","70100000491","15000","Sí","00","CONTADO","31","LA CASTELLANA","04","07","RESTAURANTES","02","ON PREMISSE","02","ON PREMISSE","09","09","09 - CLIENTE INHABILITADO","RECIBE LUNES A VIERNES DE 8:00AM A 12:00PM"]
["J000811601","34 - MARQUINA CARLOS","AUTOMERCADO LUZ, C.A.","AUTOMERCADO LUZ, C.A.","250615","AUTOMERCADO LUZ, C.A.","AV. FRANCISCO DE MIRANDA CON SAN","IGNACIO DE LOYOLA EDF, VALMY PISO","CARACAS","(0212)263-8956/7613"," "," ","CARACAS"," ","CAMBIO V-42 AL V-10 MYZ 16-2-22 FL","CAMBIO DE ZONA 10 A 44 10/4/23 YR","CAMBIO DE ZONA 17 A 34 291123 PH","CARLOS DOS RAMOS"," "," ","AUTOMERCADO LUZ C.A","AV. FRANCISCO DE MIRANDA CRUCE CON","CALLE SAN IGNACIO DE LOYOLA EDIF.","VALMY, LOCAL A CHACAO"," ","(0212) 266-95-13","266-95-26","RECIBE DE LUNES A VIERNES","DE 9AM A 11AM Y 2PM A 4PM","LUNES","J-00081160-1","MN-4977","89250","No","05","CREDITO 5 DIAS","16","GUATIRE","03","05","CADENAS AUTOM. REGIONALES","01","OFF PREMISSE","01","OFF PREMISSE","34","34","01 - GUERRERO SALVADOR - OFF","RECIBE DE LUNES A VIERNES DE 9AM A 11AM Y 2PM A 4PM"]
["J000811920","25 - OCAMPO O. ROMAY","EL GRANERO DE LOS TEQUES,C.A.","EL GRANERO DE LOS TEQUES,C.A."," ","EL GRANERO DE LOS TEQUES,C.A.","PARTE BAJA,URB.CLUB HIPICO ENTRADA","EN ELVIGIA,LOS TEQUES MCPIO GUAICAI","PURO","(0212) 323.30.72","(0212) 322.81.77","elgranerodelostequec.a@hotmail.com","LOS TEQUES"," "," "," ","CAMBIO DE ZONA 10 A 25 020322 ST","SABINO NICOLAS  F."," "," ","EL GRANERO DE LOS TEQUES,C.A.","PARTE BAJA,URB.CLUB HIPICO ENTRADA","EN ELVIGIA,LOS TEQUES MCPIO GUAICAI","PURO"," "," "," ","RECIBE  LUNES A VIERNES"," 08:00 A 05:00 PM","JUEVES","J-00081192-0","MY-69","89250","No","05","CREDITO 5 DIAS","25","LOS TEQUES","01","01","DE LICORES CON FZA DE VTA","01","OFF PREMISSE","01","OFF PREMISSE","25","25","02 - VICTOR TORRES - OFF","RECIBE  LUNES A VIERNES  08:00 A 05:00 PM"]
["J000812292","25 - OCAMPO O. ROMAY","INVERSIONES FERNANSANTOS CA","ABAS,CAR,VIV,FRUT Y LIC LA LIBERTAD","20-07-2016","INVERSIONES FERNANSANTOS CA","CALLE CARABOBO N° 1 SECTOR EL","LLANO LOS TEQUES EDO MIRANDA"," ","(0212) 323.84.10","(0424) 182.44.43","invfernan@hotmail.com","LOS TEQUES"," "," "," "," ","JOSE LUIS SANTOS"," "," ","ABAS,CAR,VIV,FRUT Y LIC LA LIBERTAD","CALLE CARABOBO N° 1 SECTOR EL","LLANO LOS TEQUES EDO MIRANDA"," "," "," ","21/07/16","RECIBE  LUNES A VIERNES"," 08:00 AM A 07:00 PM",null,"J-00081229-2","032-MN-1079","89250","No","05","CREDITO 5 DIAS","25","LOS TEQUES","05","22","ABASTOS GRANDES","01","OFF PREMISSE","01","OFF PREMISSE","25","25","02 - VICTOR TORRES - OFF","RECIBE  LUNES A VIERNES  08:00 AM A 07:00 PM"]
["J000814210","71 - OFICINA","ORGANIZACION KANGURO S A","ORGANIZACION KANGURO S A"," ","ORGANIZACION KANGURO S A","AV.FRANCISCO DE MIRANDA URB,CAMPO A","LEGRETORRE EUROPA,PISO 9,OFIC.9-A-4","-CHACAO","9512627"," "," ","CARACAS"," "," "," "," ","NULL"," "," ","ORGANIZACION KANGURO S A","AV.FRANCISCO DE MIRANDA URB,CAMPO A","LEGRETORRE EUROPA,PISO 9,OFIC.9-A-4","-CHACAO"," "," "," "," "," ",null,"J-00081421-0","PARTICULAR","2200","No","05","CREDITO 5 DIAS","71","OFICINA","06","28","COMERCIOS","01","OFF PREMISSE","01","OFF PREMISSE","71","71","71 - OFICINA","   "]
["J000814660","36  CLIENT-CORPORAT-OFIC.","MEDITRON, C.A","MEDITRON, C.A"," ","MEDITRON, C.A","CALLE 10 EDIF MEDITRON PISO PB","OFC PB. LA URBINA"," ","0212.240.00.00"," "," ","CARACAS"," "," "," "," ","ANTONIO O. WALTER C","ANTONIO O. WALTER C"," ","MEDITRON, C.A","CALLE 10 EDIF MEDITRON. PISO PB","OF PB. LA URBINA"," "," ","0212.240.00.00"," "," "," ",null,"J-00081466-0","PARTICULAR","89250","No","05","CREDITO 5 DIAS","36","VTAS.CORPORATIVAS","04","07","RESTAURANTES","02","ON PREMISSE","02","ON PREMISSE","36","36","71 - OFICINA","   "]
["J000815496","31 - RODRIGUEZ WLADIMIR","CAFÉ TOSTADAS LA 115, S.R.L","CAFÉ TOSTADAS LA 115, S.R.L"," ","CAFÉ TOSTADAS LA 115, S.R.L","C/C BELLAS ARTES,EDIFICIO BELLAS AR","TESLOS CHAGUARAMOS,CARACAS DTTO. CA","PITAL","0212.693.10.57"," "," ","CARACAS"," "," "," "," ","ALCIDA DE ASECION"," "," ","CAFÉ TOSTADAS LA 115, S.R.L","C/C BELLAS ARTES,EDIFICIO BELLAS AR","TESLOS CHAGUARAMOS,CARACAS DTTO. CA","PITAL"," "," "," "," "," ",null,"J-00081549-6","CVC-0232","89250","No","05","CREDITO 5 DIAS","33","CENTRO-CANDELARIA","04","06","BAR/TABER./S. BAR/PUB/TAS","02","ON PREMISSE","02","ON PREMISSE"," ","31"," ","   "]
["J000820562","32 - HERNANDEZ EDGAR","LIEMA C.A","HOTEL MONTE ROSA","15/12/23EP","LIEMA C.A","ESQUINA GLORIETA A PILITAS,EDF124-A","URB SANTA TERESA CARACAS DF"," ","04126109053"," "," "," "," "," "," "," ","MANUEL MOSQUERA","EMILIO ZORRILLA","MANUEL LOBARIÑAS","LIEMA C.A","ESQUINA GLORIETA A PLITAS EDF124-A","PISO PB LOCAL 124-A URB SANTA","TERESA CARACAS DF"," ","04126109053"," ","RECIBE DE LUNES A VIERNES","10:00AM A 04:00PM","DE LUNES A VIERNES","J-000820562","14-C000712","89250","No","05","CREDITO 5 DIAS","20","CENTRO DE CARACAS","04","08","HOTELES/CASINOS/BINGOS","01","OFF PREMISSE","00","ESTANDAR","32","32","02-TORRES VICTOR - OFF","RECIBE DE LUNES A VIERNES 10:00AM A 04:00PM"]
["J000821577","09 - CLIENTE INHABILITADO","JAVIER TARANO DEL RIO","HOTEL RESTAURANT YARE S.R.L"," ","HOTEL RESTAURANT YARE S.R.L","AV. PROLONGACION SUR, LAS ACACIAS"," SECTOR SAN ANTONIO SABANA GRANDE","PARROQUIA EL RECREO","0212-793.80.33"," "," ","CARACAS"," "," "," ","CAMBIO DE Z 31 A ZONA 09 200919 JA","VALENTIN TARANO"," "," ","HOTEL RESTAURANT YARE S.R.L","PROLONGACION SUR,LAS ACACIAS."," SAN ANTONIO, SABANA GRANDE","PARROQUIA EL RECREO."," ","0212-793.80.33"," "," "," ",null,"J-00082157-7","002-C-6232","0","Sí","00","CONTADO","09","CLIENTE INHABILITADO","04","08","HOTELES/CASINOS/BINGOS","02","ON PREMISSE","02","ON PREMISSE","09","09","09 - CLIENTE INHABILITADO","   "]
["J000825017","09 - CLIENTE INHABILITADO","DA  SILVA Y FERNANDEZ","ABASTOS Y FRUTERIA EL JUNQUITO,S.R."," ","ABASTOS Y FRUTERIA EL JUNQUITO,S.R.L.","EL JUNQUITO KM 23CARACAS"," "," ","0212-412.20.30","0146-902.42.88"," ","JUNQUITO"," ","3CD 010813-070814 DC 7","NO PREPAGO BLOQ. 17/12/15 S.U.","CAMBIO A LA ZONA 09 19-09-19 YM","MARIA DA SILVA","MANUEL FERNANDEZ"," ","ABASTOS Y FRUTERIA EL JUNQUITO,S.R.","EL JUNQUITO KM 23CARACAS"," "," "," "," "," "," "," ","LUNES","J-00082501-7","M-N 1171","0","Sí","00","CONTADO","09","CLIENTE INHABILITADO","06","21","SUPERMERCADOS/AUTOMERCADO","01","OFF PREMISSE","01","OFF PREMISSE","09","09","09 - CLIENTE INHABILITADO","   "]
["J000825408","09 - CLIENTE INHABILITADO","SUPERMERCADO ATLANTICO CARIBE","SUPERMERCADO ATLANTICO CARIBE"," ","SUPERMERCADO ATLANTICO CARIBE CENTRAL, C.A","AV PRINCIPAL SALIDA CALLE LA PLAYA","LOCAL NRO 12 SECTOR LA SALINAS DE","CARAYACA ESTADO VERGAS","(0424)185-2448","02/07/19"," ","CARAYACA"," "," "," ","CAMBIO DE ZONA 116 A 14 11/9/19 GT","HERSON JESUS BELLO"," "," ","SUPERMERCADO ATLANTICO CARIBE","AV PRICIPAL SALIDA CALLE LA PLAYA","LOCAL NRO 12 SECTOR LA SALINA","CARAYACA ESTADO VARGAS"," ","(0424)185-24-48"," ","RECIBE DE MARTES A VIERNE","DE 8 A 12 AM Y DE 3 A 5 P","MIERCOLES","J-00082540-8","031M-N397","15000","No","05","CREDITO 5 DIAS","09","CLIENTE INHABILITADO","05","21","SUPERMERCADOS/AUTOMERCADO","01","OFF PREMISSE","01","OFF PREMISSE","09","09","09 - INHABILITADO","RECIBE DE MARTES A VIERNE DE 8 A 12 AM Y DE 3 A 5 P"]
["J000827303","09 - CLIENTE INHABILITADO","RESTAURANT HEREFORD GRILL, C.A.","RESTAURANT HEREFORD GRILL, C.A.","9929664","RESTAURANT HEREFORD GRILL, C.A.","CALLE MADRID LAS MERCEDES","LAS MERCEDES CARACAS"," ","0212 992 96 64","NO POSEE","herefordgrillvzla@gmail.com","CARACAS"," "," ","CAMB DE LA 34 A LA 35 130319 WP","CAMB DE LA 35 09 100823 LI","LAMAS RAFAEL","ORLANDO LAMAS"," ","RESTAURANT HEREFORD GRILL, C.A.","CALLE MADRID LAS MERCEDES","LAS MERCEDES CARACAS"," "," "," "," ","RECIBE  LUNES A VIERNES"," 8:00AM A 12:00PM","JUEVES","J-00082730-3","C 925","15000","No","05","CREDITO 5 DIAS","09","CLIENTE INHABILITADO","04","07","RESTAURANTES","02","ON PREMISSE","02","ON PREMISSE","09","09","09 - INHABILITADO","RECIBE  LUNES A VIERNES  8:00AM A 12:00PM"]
["J000827966","09 - CLIENTE INHABILITADO","LICORERIA Y CHARCUTERIA VARGAS,C.A.","LICORERIA Y CHARCUTERIA VARGAS,C.A."," ","LICORERIA Y CHARCUTERIA VARGAS,C.A..","CALLE EL BRILLANTE A DELICIA FRENTE"," ALTERMINAL DE PASAJEROS-MAIQUETIA-"," ","(0212) 331.24.81","(0426) 382.88.78"," ","LA GUAIRA"," "," "," ","CAMBIO DE ZONA 14 A 09 181021 FL","JOSE GONCALVEZ"," "," ","LICORERIA Y CHARCUTERIA VARGAS,C.A.","CALLE EL BRILLANTE A DELICIA FRENTE"," ALTERMINAL DE PASAJEROS-MAIQUETIA-"," "," "," "," ","RECIBE  LUNES A VIERNES"," 09:00 AM A 06:00 PM","MIERCOLES","J-00082796-6","M-N 292","15000","No","05","CREDITO 5 DIAS","09","CLIENTE INHABILITADO","05","18","LICORERIAS/BODEGONES","01","OFF PREMISSE","01","OFF PREMISSE","09","09","09 - CLIENTE IHNABILITADO","RECIBE  LUNES A VIERNES  09:00 AM A 06:00 PM"]
["J000829756","09 - CLIENTE INHABILITADO","REBAÑO GRILL, C.A.","RESTAURANT REBAÑO GRILL."," ","REBAÑO GRILL, C.A.","AV.JOSE ANTONIO PAEZ QTA. EL CARMEN","LOCAL B, URB EL PARAISO","CARACAS","(0212) 484.74.19","(0424) 323.53.65","chtierramar@gmail.com","CARACAS"," "," "," ","CAMBIO DE ZONA 33 A 09 16/9/19 GT","DE SOUSA JUVENAL"," "," ","RESTAURANT REBAÑO GRILL","AV.JOSE ANTONIO PAEZ,CRUCE CON AV.E","LEJERCITO,QUINTA PARAISO,PQUIA.SAN","JUAN-CARACAS"," "," "," ","RECIBE  MIERCOL. A VIERNE"," 08:30 A 12PM-1:30 A 5 PM","MARTES","J-00082975-6","C-0318","0","Sí","00","CONTADO","09","CLIENTE INHABILITADO","04","07","RESTAURANTES","02","ON PREMISSE","02","ON PREMISSE","09","09","09 - CLIENTE INHABILITADO","RECIBE  MIERCOL. A VIERNE  08:30 A 12PM-1:30 A 5 PM"]
["J000831513","14 - GIL EXIO JOSE","LICORERIA NAYMAR C.A.","LICORERIA NAYMAR C.A."," ","LICORERIA NAYMAR C.A.","AVENIDA EL EJERCITO CATIA LA MARCAT","IA LA MAR FTE AL MAC DONALD"," ","3512647"," "," ","LA GUAIRA"," "," "," ","CAMBIO DE ZONA 116 A 14 11/9/19 GT","AVELINO FERNANDEZ"," "," ","LICORERIA NAYMAR C.A.","AVENIDA EL EJERCITO CATIA LA MARCAT","IA LA MAR FTE AL MAC DONALD"," "," "," "," ","RECIBE DE LUNES A VIERNES","10:00 AM A 5:00 PM","MARTES","J-00083151-3","M-N 1121","89250","No","05","CREDITO 5 DIAS","14","LITORAL CENTRAL","05","18","LICORERIAS/BODEGONES","01","OFF PREMISSE","01","OFF PREMISSE","14","14","01 - CARLOS DA SILVA - OFF","RECIBE DE LUNES A VIERNES 10:00 AM A 5:00 PM"]
["J000833940","09 - CLIENTE INHABILITADO","PENSION SANTIAGO,S.R.L.","PENSION SANTIAGO,S.R.L."," ","PENSION SANTIAGO,S.R.L.","AVENIDA LA PLAYA URB EL ALAMOMACUTO"," "," ","4162759"," "," ","LA GUAIRA"," "," "," ","BAJA FRECUENCIA DE COMPRA 12/03/14","VIDAL ACOSTA"," "," ","PENSION SANTIAGO,S.R.L.","AVENIDA LA PLAYA URB EL ALAMOMACUTO"," "," "," "," "," "," "," ","MIERCOLES","J-00083394-0","031-C- 24","15000","Sí","00","CONTADO","14","LITORAL CENTRAL","04","06","BAR/TABER./S. BAR/PUB/TAS","02","ON PREMISSE","02","ON PREMISSE","09","09","09 - CLIENTE INHABILITADO","   "]
["J000835390","23 - HERNANDEZ JOSÉ D.","SUPERMERCADO SLEDO,C.A.","SUPERMERCADO SLEDO"," ","SUPERMERCADO SLEDO,C.A.","CALLE Nº 1 CON CALLE Nº 3-CASA Nº21","BELLA VISTA- LA VEGA -MNCP.","LIBERTADOR-DTTO.CAPITAL","(0212) 448.33.76","(0414) 267.98.6","supermercadosledo@hotmail.com","CARACAS"," "," "," "," ","ALEJANDRO,NELSON","JOEL"," ","SUPERMERCADO SLEDO","CALLE Nº 1 CON CALLE Nº 3-CASA Nº21","BELLA VISTA- LA VEGA -MNCP.","LIBERTADOR-DTTO.CAPITAL"," ","(0212) 472-26-95"," ","RECIBE  LUNES A JUEVES"," 8:00AM A 11:30AM","LUNES","J-00083539-0","MN-0268","89250","No","05","CREDITO 5 DIAS","23","CENTRO-SAN MARTIN","06","21","SUPERMERCADOS/AUTOMERCADO","01","OFF PREMISSE","01","OFF PREMISSE","23","23","02 - VICTOR TORRES - OFF","RECIBE  LUNES A JUEVES  8:00AM A 11:30AM"]
["J000836639","09 - CLIENTE INHABILITADO","CERVECERIA RESTAURANT IRUÑA,C.A.","CERVECERIA RESTAURANT IRUÑA,C.A."," ","CERVECERIA RESTAURANT IRUÑA,C.A.","PASAJE EDIF. FONSECA REDUCTO A MUNI","CIPALAV. LECUNA"," ","0212.484.04.13"," "," ","CARACAS"," "," "," ","CLTE INHAB AL COD 09 250919 WP","JUAN ABREU"," "," ","CERVECERIA RESTAURANT IRUÑA,C.A.","PASAJE EDIF. FONSECA REDUCTO A MUNI","CIPALAV. LECUNA"," "," "," "," "," "," ",null,"J-00083663-9","C 1445","15000","Sí","00","CONTADO","33","CENTRO-CANDELARIA","04","06","BAR/TABER./S. BAR/PUB/TAS","02","ON PREMISSE","02","ON PREMISSE","09","09","09 - CLIENTE INHABILITADO","   "]
["J000837384","09 - CLIENTE INHABILITADO","EL CHAMBERGO,C.A.","EL CHAMBERGO,C.A."," ","EL CHAMBERGO,C.A.","AV. ROMULO GALLEGOS FTE. AV. PPAL","HORIZONTE RESD. COMERCIAL LUVEBRAS","PB. LOCAL 1","0212.238.08.62"," "," ","CARACAS"," "," "," ","CAMBIO Z - 31 A Z - 09 200919 GA","VICENTE RODRIGO"," "," ","EL CHAMBERGO,C.A.","AV. ROMULO GALLEGOS FTE. AV. PPAL","HORIZONTE RESD. COMERCIAL LUVEBRAS","PB. LOCAL 1"," "," "," ","TRASP ZONA03 SUP. CARLOS","DA SILVA S/SOLIC.08/11/11",null,"J-00083738-4","C 5398","15000","Sí","00","CONTADO","31","LA CASTELLANA","04","07","RESTAURANTES","02","ON PREMISSE","02","ON PREMISSE","09","09","09 - CLIENTE INHABILITADO","TRASP ZONA03 SUP. CARLOS DA SILVA S/SOLIC.08/11/11"]
["J000837805","32 - HERNANDEZ EDGAR","LUCHERIA CAFE NUEVO CATY,S.R.L","LUCHERIA CAFE NUEVO CATY,S.R.L","22/11/23EP","LUCHERIA CAFE NUEVO CATY,S.R.L","AV.EL PARQUE ENTRE AV.AVILA Y AV.","LA ESTRELLA EDIF.AUSINA PISO PB,","LOCAL C, URB SAN BENARDINA","04122884369"," ","elnuevocaty@gmail.com"," "," "," "," "," ","ARNALDO CALDEIRA","JOAO DE CALDEIRA"," ","LUCHERIA CAFE NUEVO CATY,S.R.L","AV. EL PARQUE ENTRE AV. AVILA Y AV.","LA ESTRELLA EDIF.AUSONA PISO PB,","LOCAL C,URB.SAN BENARDINO"," ","04142688397"," ","MARTES A VIERNES","11AM A 5PM","MARTES A VIERNES","J-000837805","LU-2022-002752","89250","No","05","CREDITO 5 DIAS","33","CENTRO-CANDELARIA","04","07","RESTAURANTES","01","OFF PREMISSE","00","ESTANDAR","32","32","02-TORRES VICTOR- OFF","MARTES A VIERNES 11AM A 5PM"]
["J000837910","14 - GIL EXIO JOSE","ABSTOS PUNTA DE MULATOS","ABSTOS PUNTA DE MULATOS","13/7/23 YR","ABSTOS PUNTA DE MULATOS","CALLE GIMÓN STERLING CALLE SAMAN Y","FLORES, LOCAL 24 PLANTA BAJA STOR.","PUNTA DE MULATO, LA GUAIRA - VARGAS","0412-5622246"," "," ","CARACAS"," "," "," "," ","JOSE DE ORNELAS"," "," ","ABSTOS PUNTA DE MULATOS","CALLE GIMON STERLING CALLE SAMAN Y","FLORES, LOCAL 24 PLANTA BAJA SECTOR","PUNTA DE MULATO, LA GUAIRA - VARGAS"," ","0412-5622246"," ","RECIBE DE LUNES A VIERNES","DE 9:00 AM A 6:00 PM","MARTES","J-00083791-0","4030","89250","No","05","CREDITO 5 DIAS","16","GUATIRE","05","18","LICORERIAS/BODEGONES","01","OFF PREMISSE","01","OFF PREMISSE","14","14","01 - SALVADOR GUERRERO - OFF","RECIBE DE LUNES A VIERNES DE 9:00 AM A 6:00 PM"]
["J000837970","22 - GONZALEZ CARLOS","COMERCIAL MONTEVERDE,C.A.","COMERCIAL MONTEVERDE,C.A."," ","COMERCIAL MONTEVERDE,C.A.","AV.EL CUARTEL ENTRE VEREDAS 10 y 11","CC ZONA COMERCIAL NIVEL PB LOCAL","URB. URDANETA. CATIA.","0212 872 46 73","0414 245 93 96","jaimeleblan@hotmail.com","CARACAS"," "," "," "," ","JAIME CONTRERAS","12232464"," ","COMERCIAL MONTEVERDE,C.A.","AV.CUARTEL FRENTE A VEREDAS 13 Y 14","CATIA EDIF SAN JUAN LOCAL PB"," "," ","0212-872.46.73"," ","RECIBE  LUNES A VIERNES"," 11:30 AM A 3:00PM","MIERCOLES","J-00083797-0","15-MN-1333","89250","No","05","CREDITO 5 DIAS","22","CATIA-JUNQUITO","06","18","LICORERIAS/BODEGONES","01","OFF PREMISSE","01","OFF PREMISSE","22","22","02 - VICTOR TORRES - OFF","RECIBE  LUNES A VIERNES  11:30 AM A 3:00PM"]
["J000838267","02 - REQUENA JOHAN - OFF","DE FREITAS Y DE FREITAS","ABASTOS LA CAMPIÑA"," ","DE FREITAS Y DE FREITAS SNC(A/LA CAMPIÑA"," CALLE LA ESTRELLA PLAZA LA CAMPIÑA","LA CAMPIÑA"," "," "," "," ","CARACAS"," "," "," "," ","FERMIN DE FREITAS"," "," ","ABASTOS LA CAMPIÑA"," CALLE LA ESTRELLA PLAZA LA CAMPIÑA","LA CAMPIÑA"," "," "," "," "," "," ",null,"J-00083826-7","M-N 1340","89250","No","05","CREDITO 5 DIAS","20","CENTRO DE CARACAS","05","21","SUPERMERCADOS/AUTOMERCADO","01","OFF PREMISSE","01","OFF PREMISSE"," ","02"," ","   "]
["J000839433","09 - CLIENTE INHABILITADO","HOTEL BAR REST. CASTAÑUELA S.R.L.","L´ COUNTRY HOTEL C.A.","881.28.11","L´ COUNTRY HOTEL C.A.","AV. JUAN BAUTISTA ARISMENDI AL LADO"," DE LABOMBA TEXACO ENTRADA CHAPELLI","N LA FLORIDA","0416.815.93.49"," "," ","CARACAS"," "," ","CAMBIO DE ZONA 30 A 33 AL 120219 JA","CAMBIO DE ZONA 33 A 09 16/9/19 GT","ANGEL SAMBRANO","JOSE AGOSTINHO"," ","L´ COUNTRY HOTEL C.A.","AV. JUAN BAUTISTA ARISMENDI AL LADO"," DE LABOMBA TEXACO ENTRADA CHAPELLI","N LA FLORIDA"," "," "," "," "," ","JUEVES","J-00083943-3","C-0546","0","Sí","00","CONTADO","09","CLIENTE INHABILITADO","04","08","HOTELES/CASINOS/BINGOS","02","ON PREMISSE","02","ON PREMISSE","09","09","09 - CLIENTE INHABILITADO","   "]
["J000841454","09 - CLIENTE INHABILITADO","HOTEL LA NARANJA,S.R.L.","HOTEL LA NARANJA,S.R.L."," ","HOTEL LA NARANJA,S.R.L.","AVENIDA SUR LAS ACACIAS( CUADRA DE","LOS HOTELES CASANOVA )"," ","7931156"," "," ","CARACAS"," "," "," ","REEST-V-31 AL V-09 20092019 MYZ","DEMETRIO AMORIN VASQ","UEZ"," ","HOTEL LA NARANJA,S.R.L.","AVENIDA SUR LAS ACACIAS( CUADRA DE","LOS HOTELES CASANOVA )"," "," "," "," "," "," ",null,"J-00084145-4","C 3320","15000","Sí","00","CONTADO","32","SUCRE - BARUTA","04","08","HOTELES/CASINOS/BINGOS","02","ON PREMISSE","02","ON PREMISSE","09","09","09 - CLIENTE INHABILITADO","   "]
["J000844747","02 - REQUENA JOHAN - OFF","COMERCIAL MACEDO, S.R.L.","COMERCIAL MACEDO, S.R.L."," ","COMERCIAL MACEDO, S.R.L.","AV. SAN AGUSTIN DEL NORTE MARIPEREZ","PARROQUIA EL RECREO, P.B. LOCAL \"A\"","CARACAS DTTO. CAPITAL","(0414) 240-49-11"," "," ","CARACAS"," "," "," "," ","ALFREDO URREA","C.I. 4.248.238"," ","COMERCIAL MACEDO, S.R.L.","AV. SAN AGUSTIN DEL NORTE MARIPEREZ","PARROQUIA EL RECREO, P.B. LOCAL \"A\"","CARACAS DTTO. CAPITAL"," ","(0414) 240-49-11"," ","TRASP-SUP. 02 (8/2/12)","P/CERRADO MAS 4 MESES",null,"J000844747","MN-1552","89250","No","05","CREDITO 5 DIAS","20","CENTRO DE CARACAS","05","18","LICORERIAS/BODEGONES","01","OFF PREMISSE","01","OFF PREMISSE"," ","02"," ","TRASP-SUP. 02 (8/2/12) P/CERRADO MAS 4 MESES"]
["J000851638","31 - RODRIGUEZ WLADIMIR","CERVECERIA NAIGUATA S.R.L.","CERVECERIA NAIGUATA S.R.L."," ","CERVECERIA NAIGUATA S.R.L.","AVDA.URDANETA CON PLATANAL A CARRIL","ITOLA CANDELARIA CARACAS"," ","572-73-08-576-29-98"," "," ","CARACAS"," "," "," "," ","JOSE MARIA PEREZ"," "," ","CERVECERIA NAIGUATA S.R.L.","AVDA.URDANETA CON PLATANAL A CARRIL","ITOLA CANDELARIA CARACAS"," "," "," "," "," "," ",null,"J-00085163-8","C 1432","89250","No","05","CREDITO 5 DIAS","33","CENTRO-CANDELARIA","04","06","BAR/TABER./S. BAR/PUB/TAS","02","ON PREMISSE","02","ON PREMISSE"," ","31"," ","   "]
["J000851808","35 - PEREZ JOSMAN","BAR RESTAURANT ARANJUEZ, C.A.","BAR RESTAURANT ARANJUEZ, C.A."," ","BAR RESTAURANT ARANJUEZ, C.A.","FINAL CALLE MADRID LAS MERCEDESCARA","CAS"," ","(0212) 993.13.26"," ","restaurantaranjuez1976@gmail.com","CARACAS"," "," "," ","CAMB DE LA 34 A LA 35 130319 WP","JOSE PAREIRA"," "," ","BAR RESTAURANT ARANJUEZ, C.A.","FINAL CALLE MADRID LAS MERCEDESCARA","CAS"," "," "," "," ","RECIBE LUNES A VIERNES"," 9:00 A 11:00 AM","1RA Y 3RA SEMANA DE MES","J-00085180-8","C 1345","89250","No","05","CREDITO 5 DIAS","34","LAS MERCEDES","04","07","RESTAURANTES","02","ON PREMISSE","02","ON PREMISSE","35","35","02 - VICTOR TORRES - ON","RECIBE LUNES A VIERNES  9:00 A 11:00 AM"]
["J000853290","36  CLIENT-CORPORAT-OFIC.","REPRESENT.ELECTRONICAS HERCASA, C.A","REPRESENT.ELECTRONICAS HERCASA, C.A"," ","REPRESENTACIONES ELECTRONICAS HERCASA, C.A.","CALLE 8 ENTRE CALLES 4 Y 5 EDIF EL","MORRO PISO PB, 1-2 OF TODAS URB.","LA URBINA","0212-241.15.90"," "," ","CARACAS"," "," "," "," "," "," "," ","REPRESENT.ELECTRONICAS HERCASA, C.A","CALLE 8 ENTRE CALLES 4 Y 5 EDIF EL","MORRO PISO PB, 1-2 OF TODAS URB","LA URBINA"," ","0212-242.75.02","0212-241.85.89"," "," ",null,"J-00085329-0","PARTICULAR","89250","No","05","CREDITO 5 DIAS","36","VTAS.CORPORATIVAS","06","31","PARTICULAR","00","ESTANDAR","00","ESTANDAR","36","36","71 - OFICINA","   "]
["J000853541","04 - MARTINS ANTONIO","BAR RESTAURANT GUAYEDRA,C.A.","AUTOMERCADO GUAYEDRA"," ","AUTOMERCADO GUAYEDRA","AVENIDA CASANOVA EDIFICIO INSTITUTO","MEDIO DEL ESTE ESQUINA SAN ANTONIO"," ","7626403"," "," ","CARACAS"," "," "," ","CLIENTE INACT-OPERATIVO J-402954930","PANAGIOTIS MELIGINIT","IS SALASELIS"," ","AUTOMERCADO GUAYEDRA","AVENIDA CASANOVA EDIFICIO INSTITUTO","MEDIO DEL ESTE ESQUINA SAN ANTONIO"," "," "," "," ","COMPRA RIF:J-402954930"," ",null,"J-00085354-1","5-MN-2051","89250","Sí","05","CREDITO 5 DIAS","43","PROLICOR / CELICOR","06","21","SUPERMERCADOS/AUTOMERCADO","02","ON PREMISSE","02","ON PREMISSE","04","04","01 - CARLOS DA SILVA","COMPRA RIF:J-402954930  "]
["J000853754","31 - RODRIGUEZ WLADIMIR","BAR Y RESTAURANT ALFA, C.A.","BAR Y RESTAURANT ALFA, C.A."," ","BAR Y RESTAURANT ALFA, C.A.","AV. OHIGGINS EDIF ALFA P.B. LOCAL E","EL PARAISO"," "," "," "," ","CARACAS"," "," "," "," ","JUAN CARLOS GONCALVE","S DA SILVA"," ","BAR Y RESTAURANT ALFA,S.R.L.","AV. OHIGGINS EDIF ALFA P.B. LOCAL E","EL PARAISO"," "," "," "," ","TRASP.AL 03 SUP.CARLOS DA","SILVA S/SOLIC. 24-01-2011",null,"J-00085375-4","C 3609","89250","No","05","CREDITO 5 DIAS","33","CENTRO-CANDELARIA","04","07","RESTAURANTES","02","ON PREMISSE","02","ON PREMISSE"," ","31"," ","TRASP.AL 03 SUP.CARLOS DA SILVA S/SOLIC. 24-01-2011"]
["J000858020","09 - CLIENTE INHABILITADO","TASCA RESTAURANT ESCORIAL","RESTAURANT EL ESCORIAL"," ","QUINTERO G.Y RODRIGUEZ C.A(R/EL ESCORIAL","AV.CASANOVA CON AV.HUMBULTSABANA GR","ANDE CARACAS"," ","9516820"," "," ","CARACAS"," "," "," ","REEST-V-31 AL V-09 20092019 MYZ","BERNARDO GARCIA"," "," ","RESTAURANT EL ESCORIAL","AV.CASANOVA CON AV.HUMBULTSABANA GR","ANDE CARACAS"," "," "," "," "," "," ",null,"J-00085802-0","C 6323","15000","Sí","00","CONTADO","32","SUCRE - BARUTA","04","07","RESTAURANTES","02","ON PREMISSE","02","ON PREMISSE","09","09","09 - CLIENTE INHABILITADO","   "]
["J000858373","09 - CLIENTE INHABILITADO","IMPORTADORA EDYL, C.A.","IMPORTADORA EDYL, C.A."," ","IMPORTADORA EDYL, C.A.","PROLONGACION SUCRE EDF.ALSO URB.","BOLIVAR - CHACAO"," ","(0212) 263-99-48"," "," ","CARACAS"," "," "," ","CLIENTE SOLO COMPRA EN DIC 110116","MARIO CARRIERES"," "," ","IMPORTADORA EDYL, C.A.","PROLONGACION SUCRE EDF. ALSO URB.","BOLIVAR CHACAO"," "," ","(0212) 263-99-48"," ","RECIBE DE LUNES A VIERNES","8:AM A 12PM Y 3PM A 6PM","LUNES","J-00085837-3","M-Y 1053","15000","Sí","00","CONTADO","16","GUATIRE","01","01","DE LICORES CON FZA DE VTA","01","OFF PREMISSE","01","OFF PREMISSE","09","09","09 - CLIENTE INHABILITADO","RECIBE DE LUNES A VIERNES 8:AM A 12PM Y 3PM A 6PM"]
["J000858500","71 - OFICINA","REMANEX, C.A.","REMANEX, C.A."," ","REMANEX, C.A.","AV LAS PALMAS, CALLE SANTA ANA Y","CALLEJON QTA NIÑO JESUS Nº 11-12","URB BOLEITA SUR, CARACAS","02122350227"," "," ","CARACAS"," "," "," "," ","ZAIRA GONZALEZ"," "," ","REMANEX, C.A.","CALLE 10 CON ESQ CALLE 11 EDIF","PLASENCIA URB LA URBINA","CARACAS"," ","02122421111"," "," "," ",null,"J-00085850-0","PARTICULAR","15000","No","05","CREDITO 5 DIAS","36","VTAS.CORPORATIVAS","06","33","RELACIONADOS","00","ESTANDAR","00","ESTANDAR","71","71","71 - OFICINA","   "]
["J000858691","36  CLIENT-CORPORAT-OFIC.","CENTRO MARITIMO DE VENEZUELA","CENTRO MARITIMO DE VENEZUELA"," ","CENTRO MARITIMO DE VENEZUELA","AV PPAL DE TURUMO LOCAL Nº S/N","SECTOR TURUMO CARACAS EDO MIRANDA"," ","2441937/2441437"," "," ","CARACAS"," "," "," "," ","ALFREDO AMARAL","MANUEL PEREIRA"," ","CENTRO MARITIMO DE VENEZUELA","AV PPAL DE TURUMO LOCAL Nº S/N","SECTOR TURUMO CARACAS EDO MIRANDA"," "," ","212 2441937"," "," "," ",null,"J-00085869-1","C 4889","89250","No","05","CREDITO 5 DIAS","31","LA CASTELLANA","04","10","CLUB SOCIALES","02","ON PREMISSE","02","ON PREMISSE","36","36","71 - OFICINA","   "]
["J000859400","09 - CLIENTE INHABILITADO","AUT.EL PATIO LOS PALOS GRANDES C.A.","AUT.EL PATIO LOS PALOS GRANDES C.A."," ","AUTOMERCADO EL PATIO LOS PALOS GRANDES, C.A.","AV. 3RA AV. CON 5TA. TRANSVERSAL CC","EL PATIO NIVEL PB LOCAL 5 URB. LOS","PALOS GRANDES","(0212) 285.00,63","(0424) 195.15.55","carlospereira@elpatio.com.ve","CARACAS"," "," "," ","CAMBIO V-10 AL V-09 21-07-22 FL","CARLOS  ALBERTO."," "," ","AUT. EL PATIO LOS PALOS GRANDES, C.","AV. 3RA AV. CON 5TA. TRANSVERSAL CC","EL PATIO NIVEL PB LOCAL 5 URB. LOS","PALOS GRANDES"," "," "," ","RECIBE  LUNES A VIERNES","8 AM A 3 PM","JUEVES Y VIERNES","J-00085940-0","002 MN 4689","15000","No","05","CREDITO 5 DIAS","09","CLIENTE INHABILITADO","03","05","CADENAS AUTOM. REGIONALES","01","OFF PREMISSE","01","OFF PREMISSE","09","09","01 - CARLOS DA SILVA - OFF","RECIBE  LUNES A VIERNES 8 AM A 3 PM"]
["J000861110","551 - CARLOS C. DETALIC","DETALIC, C.A.","DETALIC, C.A."," ","DETALIC, C.A.","CALLE 10, ESQUINA CALLE 11,EDIFICIO","PLASENCIA LA URBINA"," ","0212-362.48.60"," "," ","GUARENAS"," "," "," "," ","JUAN CARLOS DE ABREU","S F."," ","DETALIC,C.A.","CALLE 10, ESQUINA CALLE 11,EDIFICIO","PLASENCIA LA URBINA"," "," "," "," "," "," ","LUNES","J-00086111-0","002-MM-00037","8000","No","05","CREDITO 5 DIAS","55","OFICINA GRUPO PROLICOR","08","33","RELACIONADOS","10","PROLICOR,C.A","10","PROLICOR,C.A","551","551","05 - CARLOS CARREIRA - GRUPO PROLICOR","   "]
["J000862133","09 - CLIENTE INHABILITADO","HOTEL COLISEO,C.A.","HOTEL COLISEO,C.A."," ","HOTEL COLISEO,C.A.","AVENIDA CASANOVA ENTRE CALLE COROMO","TOY 1 RA CALLE DE BELLO MONTE"," ","7627916"," "," ","CARACAS"," "," "," ","REEST-V-31 AL V-09 20092019 MYZ","IVO DI EUGENIO"," "," ","HOTEL COLISEO,C.A.","AVENIDA CASANOVA ENTRE CALLE COROMO","TOY 1 RA CALLE DE BELLO MONTE"," "," "," "," "," "," ",null,"J-00086213-3","C 5288","15000","Sí","00","CONTADO","32","SUCRE - BARUTA","04","08","HOTELES/CASINOS/BINGOS","02","ON PREMISSE","02","ON PREMISSE","09","09","09 - CLIENTE INHABILITADO","   "]
["J000862877","31 - RODRIGUEZ WLADIMIR","CERVECERIA VIGUES, S.R.L.","CERVECERIA VIGUES, S.R.L.","11/9/18 JA","CERVECERIA VIGUES, S.R.L.","CAKLLE PRINCIPAL EDF VALINGER PISO","PB LOCAL 2 URB BOLIVAR","CHACAO CARACAS (CHACAO)"," "," "," "," ","MIRANDA ZONA POSTAL 1060"," ","Cambio de zona 09 a 35 02-12-20 MYZ"," ","ODILIO LLOVES","RODRIGUEZ"," ","CERVECERIA VIGUES, S.R.L.","CALLE PRINCIPAL ADF. BALINGER","PISO PB LOCAL 2 URB BOLIVAR CHACAO","CARACAS"," "," "," ","RECIBE DE LUNES A VIERNES","A PARTIR DE LAS 10:00 AM","LUNES","J-00086287-7","70100000573","89250","No","05","CREDITO 5 DIAS","35","EL ROSAL-CHACAO","04","07","RESTAURANTES","02","ON PREMISSE","02","ON PREMISSE","31","31","01 - GUERRERO SALVADOR - OFF","RECIBE DE LUNES A VIERNES A PARTIR DE LAS 10:00 AM"]
["J000863474","31 - RODRIGUEZ WLADIMIR","INVERSIONES ISARTECA,C.A.","INVERSIONES ISARTECA,C.A."," ","INVERSIONES ISARTECA,C.A.","AVENIDA AVILA QUINTA CALA Nº 32SAN","BERNARDINO"," ","5780020"," "," ","CARACAS"," "," "," "," ","ROSA ISABEL SILGADO","BELLO"," ","INVERSIONES ISARTECA,C.A.","AVENIDA AVILA QUINTA CALA Nº 32SAN","BERNARDINO"," "," "," "," "," "," ",null,"J-00086347-4","C-3207","89250","No","05","CREDITO 5 DIAS","33","CENTRO-CANDELARIA","04","07","RESTAURANTES","02","ON PREMISSE","02","ON PREMISSE"," ","31"," ","   "]
["J000863571","09 - CLIENTE INHABILITADO","SUPERMERCADO LA VUELTA EL AGUILA,S.","SUPERMERCADO LA VUELTA EL AGUILA,S."," ","SUPERMERCADO LA VUELTA EL AGUILA,S.","SECTOR LA ESTRELLA FILAS DE MARICHE","MCPIO.SUCREPETAREEDO.MIRANDA"," "," "," "," ","CARACAS"," "," "," "," ","CESAR AUGUSTO TOVAR","CORONEL"," ","SUPERMERCADO LA VUELTA EL AGUILA,S.","SECTOR LA ESTRELLA FILAS DE MARICHE","MCPIO.SUCREPETAREEDO.MIRANDA"," "," "," "," ","CLIENTE CERRADO"," ",null,"J-00086357-1","002-MN-6026","0","No","00","CONTADO","09","CLIENTE INHABILITADO","02","21","SUPERMERCADOS/AUTOMERCADO","01","OFF PREMISSE","01","OFF PREMISSE","09","09","09 - CLIENTE INHABILITADO","CLIENTE CERRADO  "]
["J000863709","09 - CLIENTE INHABILITADO","CERVECERIA JUAN GRIEGO C.A","CERVECERIA JUAN GRIEGO"," ","CERVECERIA JUAN GRIEGO C.A","AVENIDA CASANOVA ESQUINA COROMOTOSA","BANA GRANDE CARACAS"," ","(0212) 763.38.89","(0212) 763.62.17"," ","CARACAS"," "," "," ","CAMBIO DE ZONA 31 A 09 200422 ST","CEFERINO GARCIA","CARLOS GARCIAS"," ","REST.CERVECERIA JUAN GRIEGO","AVENIDA CASANOVA ESQUINA COROMOTOSA","BANA GRANDE CARACAS"," "," "," "," ","RECIBE  LUNES A JUEVES"," 09:00 AM A 11:30 AM","JUEVES","J-00086370-9","C 0317","15000","No","05","CREDITO 5 DIAS","09","CLIENTE INHABILITADO","04","06","BAR/TABER./S. BAR/PUB/TAS","02","ON PREMISSE","02","ON PREMISSE","09","09","09 - CLIENTE INHABILITADO","RECIBE  LUNES A JUEVES  09:00 AM A 11:30 AM"]
["J000864284","09 - CLIENTE INHABILITADO","SUPER ABASTOS DON BOSCO S.R.L","SUPER ABASTOS DON BOSCO S.R.L. *"," ","SUPER ABASTOS DON BOSCO S.R.L. *","1 AVENIDA ALTAMIRACARACAS"," "," ","(0212) 234.98.93","(0414) 107.73.33"," ","CARACAS"," "," "," "," ","NULL"," "," ","SUPER ABASTOS DON BOSCO S.R.L. *","1 AVENIDA ALTAMIRACARACAS"," "," "," "," "," ","RECIBE  LUNES A VIERNES"," 08:00 AM A 01:00 PM",null,"J-00086428-4","M-N 85","15000","No","05","CREDITO 5 DIAS","13","PETARE","05","21","SUPERMERCADOS/AUTOMERCADO","01","OFF PREMISSE","01","OFF PREMISSE","09","09","09 - CLIENTE INHABILITADO","RECIBE  LUNES A VIERNES  08:00 AM A 01:00 PM"]
["J000865973","24 - REYES OSWALDO","SUP DE LICORES EL PRADO,C.A.","SUP DE LICORES EL PRADO,C.A."," ","SUPERMERCADO DE LICORES EL PRADO,C.A.","PROLONGACION ZULOAGA LOS ROSALES EL"," CEMENTERIO SECTOR LA BANDERA EDIF.","TIUNA LOCAL Nº 01","(0212) 632.01.98","(0424) 270.44.86","richard_abreu_1975_@hotmail.com","CARACAS"," "," ","1 CD 150519/150819 0HP GA","CLIENTE SOLO TRANSF. 05/11/19 YM","JOSE LUIS RODRIGUEZ","TEIXEIRA"," ","SUPERMERCADO DE LICORES EL PRADO,C.","PROLONGACION ZULOAGA LOS ROSALES EL"," CEMENTERIO SECTOR LA BANDERA EDIF.","TIUNA LOCAL Nº 01"," ","(0212) 632-01-98"," ","RECIBE  LUNES A JUEVES"," 11:00 AM A 05:00 PM","LUNES","J-00086597-3","19-MN-0502","89250","No","05","CREDITO 5 DIAS","24","CARICUAO","06","21","SUPERMERCADOS/AUTOMERCADO","01","OFF PREMISSE","01","OFF PREMISSE","24","24","02 - VICTOR TORRES - OFF","RECIBE  LUNES A JUEVES  11:00 AM A 05:00 PM"]
["J000866147","09 - CLIENTE INHABILITADO","SUPERMERCADO RUGGIERO & CIA, C.A.","SUPERMERCADO RUGGIERO","16-05-2016","SUPERMERCADO RUGGIERO & CIA, C.A.","CALLE PAEZ EDIF LA PAZ PB LOCAL C","URB CHACAO CARACASMIRANDA (1060)","-1 CHEQ EXCEP FECHA ADELANT 261017","(0212) 265.94.34","(0414) 220.44.06"," ","CARACAS","5 CHED 080617-150518 10HP MYZ","CAMBIO Z 10 AL Z 01 190918GA","BLOQ SEG PAGO/TRANSF 04022020 WP","CAMBIO ZONA 43 A 09 210823 LI","JULIAN NIEVES","EDURDO MANUEL DA SIL"," ","SUPERMERCADO RUGGIERO","CALLE PAEZ EDIF LA PAZ PB LOCAL C","URB CHACAO CARACAS MIRANDA (1060)"," "," ","(0414)020-42-46"," ","RECIBE  LUNES A VIERNES"," 09:00 AM A 03:00 PM","LUNES","J-00086614-7","70100000119","15000","No","05","CREDITO 5 DIAS","10","ALTAMIRA-OFF","05","02","DE LICORES S/FZA DE VTA","01","OFF PREMISSE","01","OFF PREMISSE","09","09","09 - INHABILITADO","RECIBE  LUNES A VIERNES  09:00 AM A 03:00 PM"]
["J000869022","04 - MARTINS ANTONIO","DEPOSITOS DIONIS,S.R.L.","DEPOSITOS DIONIS,S.R.L."," ","DEPOSITOS DIONIS,S.R.L.","AV. BLANDIN AL LADO COLEGIO SAN IGN","ACIOLA CASTELLANA-CHACAO- CARACAS"," ","02122637038"," "," ","CARACAS"," "," "," "," ","VICTOR VILLALBA"," "," ","DEPOSITOS DIONIS,S.R.L.","AV. BLANDIN AL LADO COLEGIO SAN IGN","ACIOLA CASTELLANA-CHACAO- CARACAS"," "," "," "," ","TRASPASO AL SUPERVISOR 40","JULIO TORRES",null,"J-00086902-2","M-Y 3279","89250","No","00","CONTADO","13","PETARE","05","18","LICORERIAS/BODEGONES","01","OFF PREMISSE","01","OFF PREMISSE","04","04","01 - CARLOS DA SILVA","TRASPASO AL SUPERVISOR 40 JULIO TORRES"]
["J000873860","09 - CLIENTE INHABILITADO","RESTAURANT VALMASEDA,S.R.L.","TASCA LAS BURGAS"," ","RESTAURANT VALMASEDA,S.R.L.","ALCABALA A PUENTE ANAUCOLA CANDELAR","IA CARACAS"," ","(0212) 572.91.24","(0414) 329.17.60","fonoodevila@gmail.com","CARACAS"," "," "," ","CAMBIO DE ZONA 33 A 09 16/9/19 GT","ARTURO DOMINGUEZ","JUAN"," ","REST. MARISQUERIA TASCA LAS BURGAS","ALCABALA A PUENTE ANAUCOLA CANDELAR","IA CARACAS"," "," "," "," ","RECIBE  MARTES A VIERNES"," 09:00 AM A 06:00 PM","JUEVES","J-00087386-0","C 5818","0","Sí","00","CONTADO","09","CLIENTE INHABILITADO","04","07","RESTAURANTES","02","ON PREMISSE","02","ON PREMISSE","09","09","09 - CLIENTE INHABILITADO","RECIBE  MARTES A VIERNES  09:00 AM A 06:00 PM"]
["J000875430","11 - PEREIRA GENARO","FUENTE DE SODA Y ESTAC SERV GUATIRE","FUENTE DE SODA Y ESTAC SERV GUATIRE","9/3/23 LL","FUENTE DE SODA Y ESTAC SERV GUATIRE","CALLE PRINCIPAL LOCAL ESTACION DE","SERVICIO N° S/N SECTOR QUEMAITO","GUATIRE"," "," "," "," "," "," "," "," ","EDILBERTO MOSQUERA","BENVIDA ANDRADE","MANUEL ANDRADE","FUENTE DE SODA Y ESTAC SERV GUATIRE","CALLE PRINCIPAL LOCAL ESTACION DE","SERVCIO N° S/N SECTOR QUEMAITO","GUATIRE"," "," "," ","RECIBE DE LUNES A VIERNES","9:00 AM A 4:00 PM","JUEVES","J-00087543-0","002-C-05772","89250","No","05","CREDITO 5 DIAS","16","GUATIRE","04","07","RESTAURANTES","02","ON PREMISSE","02","ON PREMISSE","11","11","01 - GUERRERO SALVADOR - ON","RECIBE DE LUNES A VIERNES 9:00 AM A 4:00 PM"]
["J000876100","24 - REYES OSWALDO","SUPERMERCADO ARICHUNA, S R L","SUPERMERCADO ARICHUNA"," ","SUPERMERCADO ARICHUNA, S R L","AV.PPAL.DE LA HACIENDA SECTOR UD 5,","CARICUAOC.C.CARICUAO LOCAL 2-MCPIO.","LIBERTADOR-DTTO.CAPITAL","414/1349690"," "," ","CARACAS"," "," "," "," ","DE ABREU ABREU JUAN","RIGOBERTO"," ","SUPERMERCADO ARICHUNA","AV.PPAL.DE LA HACIENDA SECTOR UD 5,","CARICUAOC.C.CARICUAO LOCAL 2-MCPIO.","LIBERTADOR-DTTO.CAPITAL"," ","414/1349690"," ","RECIBE DE LUNES A JUEVES","9 AM A 1 PM Y 3 A 5 PM","VIERNES","J-00087610-0","M-N 0608","89250","No","05","CREDITO 5 DIAS","24","CARICUAO","06","21","SUPERMERCADOS/AUTOMERCADO","01","OFF PREMISSE","01","OFF PREMISSE","24","24","02 - VICTOR TORRES - OFF","RECIBE DE LUNES A JUEVES 9 AM A 1 PM Y 3 A 5 PM"]
["J000876347","02 - REQUENA JOHAN - OFF","FUENTE DE SODA AIVILOB, S.R.L","FUENTE DE SODA AIVILOB, S.R.L"," ","FUENTE DE SODA AIVILOB, S.R.L","CALLE INDEPENDENCIA ENTRE CALLE BOY","ACA Y AVENIDABERMUDEZ EDIFICIO,RIBE","IRA BRAVA LOCAL C","0212.364.60.83"," "," ","LOS TEQUES"," "," "," "," ","SALVADOR RODRIGUEZ"," "," ","FUENTE DE SODA AIVILOB, S.R.L","CALLE INDEPENDENCIA ENTRE CALLE BOY","ACA Y AVENIDABERMUDEZ EDIFICIO,RIBE","IRA BRAVA LOCAL C"," "," "," ","TRASPASO ZONA 02. SEGUN","SOLICITUD DEL 18/02/11",null,"J-00087634-7","C-103","89250","No","05","CREDITO 5 DIAS","25","LOS TEQUES","04","17","FTE SODA/LUNCH/HELAD/CAFE","02","ON PREMISSE","02","ON PREMISSE"," ","02"," ","TRASPASO ZONA 02. SEGUN SOLICITUD DEL 18/02/11"]
["J000876410","24 - REYES OSWALDO","DE FREITAS Y QUINTAL ASOCIADOS, C.A","ABASTOS Y LICORERIA LOS PRIMOS"," ","DE FREITAS Y QUINTAL ASOCIADOS, C.A.","VEREDA 64 Nº ENTRE VEREDAS 64 Y 63","QTA. NRO. S/N URB. VEREDAS DE COCHE"," ","(0212) 681-77-35"," "," ","CARACAS"," ","CLIENTE CONDIC PREPAGO YR 6/9/19","BLOQ. X. MHP. 25 DC. 25/06/19 GA","CAMBIO DE ZONA 26 A 24 16/9/19 GT","MANUEL DE FREITAS"," "," ","ABASTOS Y LICORERIA LOS PRIMOS","VEREDA 64 Nº ENTRE VEREDAS 64 Y 63","QTA. NRO. S/N URB. VEREDAS DE COCHE"," "," ","(0212) 681-77-35"," ","RECIBE DE LUNES A VIERNES","DE 9:00 AM A 5:00 PM","MARTES","J-00087641-0","19-MN-2105","89250","No","01","PREPAGO","24","CARICUAO","06","23","ABASTOS PEQUEÑOS/BODEGAS","01","OFF PREMISSE","01","OFF PREMISSE","24","24","02 - VICTOR TORRES - OFF","RECIBE DE LUNES A VIERNES DE 9:00 AM A 5:00 PM"]
["J000876835","02 - REQUENA JOHAN - OFF","VIVERES ALEMA, S.R.L","VIVERES ALEMA"," ","VIVERES ALEMA, S.R.L.","ESQUINA SAN FELIPE A PLAZA ESTRELLA","EDIFICIO ALEMA P.B. LA CANDELARIA"," ","0212.552.99.68"," "," ","CARACAS"," "," "," "," ","BENITO IGLESIA GONZ","ALEZ"," ","VIVERES ALEMA, S.R.L.","ESQUINA SAN FELIPE A PLAZA ESTRELLA","EDIFICIO ALEMA P.B. LA CANDELARIA"," "," "," "," ","TRASPASO AL SUP.02 CARLOS","G. 08-08-13",null,"J-00087683-5","3-MN-0866","89250","Sí","05","CREDITO 5 DIAS","20","CENTRO DE CARACAS","05","21","SUPERMERCADOS/AUTOMERCADO","01","OFF PREMISSE","01","OFF PREMISSE"," ","02"," ","TRASPASO AL SUP.02 CARLOS G. 08-08-13"]
["J000877165","09 - CLIENTE INHABILITADO","POSADA EL PALMAR,C.A.","POSADA EL PALMAR,C.A."," ","POSADA EL PALMAR,C.A.","CALLE LA IGLESIA  CON FINAL CALLE 2"," AL LADO DE LAGUARDIA NACIONAL HIGU","EROTE","3230382"," "," ","HIGUEROTE"," "," "," "," ","JOSE SIMONO VITORINO"," "," ","POSADA EL PALMAR,C.A.","CALLE LA IGLESIA  CON FINAL CALLE 2"," AL LADO DE LAGUARDIA NACIONAL HIGU","EROTE"," "," "," "," "," ",null,"J-00087716-5","C 372","15000","No","05","CREDITO 5 DIAS","12","BARLOVENTO","04","08","HOTELES/CASINOS/BINGOS","02","ON PREMISSE","02","ON PREMISSE","09","09","09 - CLIENTE INHABILITADO","   "]
["J000877289","502 - DRA. ALEXI Y. PINT0","AUTOMERCADO VERDUM,C.A.","AUTOMERCADO VERDUM,C.A."," ","AUTOMERCADO VERDUM,C.A.","AVENIDA SOUBLETTE Nº 49 EL CANTON","MAIQUETIA-EDO.VARGAS"," ","3323043"," "," ","LA GUAIRA"," "," "," "," ","JUAN N. DE FREITAS"," "," ","AUTOMERCADO VERDUM,C.A.","AVENIDA SOUBLETTE Nº 49 EL CANTON","MAIQUETIA-EDO.VARGAS"," "," "," "," ","CLIENTE LLEVADO A","INCOBRABLE 29-12-10",null,"J-00087728-9","M-N 493","0","No","00","CONTADO","21","VALLES DEL TUY-21","05","21","SUPERMERCADOS/AUTOMERCADO","01","OFF PREMISSE","01","OFF PREMISSE"," ","502"," ","CLIENTE LLEVADO A INCOBRABLE 29-12-10"]
["J000878536","09 - CLIENTE INHABILITADO","FTE DE SODA LAS MARIAS DEL HATILLO","FTE DE SODA LAS MARIAS DEL HATILLO"," ","F DE S M DEL H B LA C D L E C.A.","CALLE EL PROGRESO ED COLONIAL PBEL","HATILLO"," ","NO POSEE","0414 915 69 09","fuentedesodalasmarias@hotmail.com","CARACAS"," ","CLIENTE INHABILITADO C09 130919 WP","CAMBIO DE  ZONA 32 A 35 260922  MYZ","CAMBIO ZONA 35 A 09 24/03/23 LL","JUAN BENXIGA"," "," ","FTE DE SODA LAS MARIAS DEL HATILLO","CALLE EL PROGRESO ED COLONIAL PBEL","HATILLO"," "," "," "," ","RECIBE  LUNES A VIERNES"," 9:00AM A 2:00PM","JUEVES","J-00087853-6","C 1779","15000","No","05","CREDITO 5 DIAS","32","SUCRE - BARUTA","04","07","RESTAURANTES","02","ON PREMISSE","02","ON PREMISSE","09","09","09 - CLIENTE INHABILITADO","RECIBE  LUNES A VIERNES  9:00AM A 2:00PM"]
["J000881995","09 - CLIENTE INHABILITADO","HOTEL RESTAURANT CATIMAR C.A.","HOTEL RESTAURANT CATIMAR C.A."," ","HOTEL RESTAURANT CATIMAR C.A.","AV. PPAL DE PUERTO VIEJO CON 2DA.","CALLE CATIA LA MAR EDO. VARGAS"," ","0212/3519057"," "," ","LA GUAIRA"," "," "," ","BLOQUEO CAMBIO DE RIF AL J314638075","ALDONIO PINTO"," "," ","HOTEL RESTAURANT CATIMAR C.A.","AV. PPAL DE PUERTO VIEJO CON 2DA CA","LLECATIA LA MAR"," "," "," "," "," "," ","MARTES","J-00088199-5","C 789","15000","Sí","00","CONTADO","14","LITORAL CENTRAL","04","08","HOTELES/CASINOS/BINGOS","02","ON PREMISSE","02","ON PREMISSE"," ","09","09 - CLIENTE INHABILITADO","   "]
["J000882347","35 - PEREZ JOSMAN","C.A. ESP. CRIOLLAS EL TINAJERO","REST.EL TINAJERO DE LOS HELECHOS"," ","C.AESP.CRIOLLAS EL TINAJERO RES.BAR","AVDA RIO DE JANEIRO LAS MERCEDESLAS"," MERCEDES"," ","(0212) 993.33.21"," ","eltinajerodeloshelechos@gmail.com","CARACAS"," "," ","CAMB DE LA 34 A LA 35 130319 WP","CAMBIO DE  ZONA 32 A 35 260922  MYZ","FRANCISCO PONCE"," "," ","E.CRIOLL.EL TINAJ.C,A.(R/TINAJ. HEL","AVDA RIO DE JANEIRO LAS MERCEDES","LAS  MERCEDES"," "," "," "," ","RECIBE  LUNES A VIERNES"," 8:00AM A 12:00PM","LUNES","J-00088234-7","C 5372","89250","No","05","CREDITO 5 DIAS","34","LAS MERCEDES","04","07","RESTAURANTES","02","ON PREMISSE","02","ON PREMISSE","35","35","01 - CARLOS DA SILVA - ON","RECIBE  LUNES A VIERNES  8:00AM A 12:00PM"]
["J000882657","31 - RODRIGUEZ WLADIMIR","FUENTE DE SODA LA PALMA REAL, C.A","FUENTE DE SODA LA PALMA REAL, C.A"," ","FUENTE DE SODA LA PALMA REAL, C.A","PALMA A MUNICIPAL EL SILENCIO","CARACAS"," ","0212.4846494"," "," ","CARACAS"," "," "," "," ","JOSE NUNES DE","OLIVEIRA"," ","FUENTE DE SODA LA PALMA REAL, C.A","PALMA A MUNICIPAL EL SILENCIO","CARACAS"," "," ","0212.4846494"," ","CERRADO S/SUP.CARLOS DA","S.TRASP. AL 03/13-09-11",null,"J-00088265-7","C-1237","89250","No","05","CREDITO 5 DIAS","33","CENTRO-CANDELARIA","04","07","RESTAURANTES","02","ON PREMISSE","02","ON PREMISSE"," ","31"," ","CERRADO S/SUP.CARLOS DA S.TRASP. AL 03/13-09-11"]
["J000887829","09 - CLIENTE INHABILITADO","BAR RESTAURANT DENA ONA,C.A.","BAR RESTAURANT DENA ONA,C.A."," ","BAR RESTAURANT DENA ONA,C.A.","AVENIDA TAMANOCO EL ROSAL AL LADO","IMPRES CARACAS"," ","(0212) 953.20.60","(0416) 212.80.09","adm.denaona@gmail.com","CARACAS"," "," "," ","CAMBIO DE ZONA V35 A 09 060422 FL","MANUEL GALLARDO"," "," ","BAR RESTAURANT DENA ONA,C.A.","AVENIDA TAMANOCO EL ROSAL AL LADO","IMPRES CARACAS"," "," "," "," ","RECIBE  MARTES A VIERNES"," 8:00AM A 11:00AM","MARTES A VIERNES","J-00088782-9","C 3251","15000","No","05","CREDITO 5 DIAS","09","CLIENTE INHABILITADO","04","07","RESTAURANTES","02","ON PREMISSE","02","ON PREMISSE","09","09","09 -CLIENTE INHALITADO","RECIBE  MARTES A VIERNES  8:00AM A 11:00AM"]
["J000892180","31 - RODRIGUEZ WLADIMIR","BAR RESTAURANT LA GUACAMAYA SRL","BAR RESTAURANT LA GUACAMAYA SRL","17052021","BAR RESTAURANT LA GUACAMAYA SRL","CALLE SUCRE EDF. PALMA PB CHACAO"," "," ","0212263 99 83","0412 287 90 69","NEILROD2003@YOHOO.ES","CARACAS"," "," ","CAMBIO A LA ZONA 35 17-05-21 WP","CAMBIO DE ZONA 35 A 31 8/3/2023 L","MARIA DOLORES D."," "," ","BAR RESTAURANT LA GUACAMAYA SRL","CALLE SUCRE EDF. PALMA PB. CHACAO"," "," "," ","0212.2639983"," ","RECIBE  LUNES A VIERNES"," 8:00AM A 11:30AM","MIERCOLES","J-00089218-0","C-1265","89250","No","05","CREDITO 5 DIAS","35","EL ROSAL-CHACAO","04","06","BAR/TABER./S. BAR/PUB/TAS","02","ON PREMISSE","02","ON PREMISSE","31","31","01 - GUERRERO SALVADOR - OFF","RECIBE  LUNES A VIERNES  8:00AM A 11:30AM"]
["J000897450","09 - CLIENTE INHABILITADO","MOTEL VERDE CANAIMA S.R.L.","MOTEL VERDE CANAIMA S.R.L."," ","MOTEL VERDE CANAIMA S.R.L.","CARRETERA PANAMERICANA KM 20 SECTOR","CORRALITO LOCAL S/N-LOS TEQUES-EDO.","MIRANDA"," "," "," ","LOS TEQUES"," "," ","CLIENTE EN REMODELACION 220216","CAMBIO A LA ZONA 09 20-09-19 YM","CAMILO FEIJOO"," "," ","MOTEL VERDE CANAIMA S.R.L.","CARRETERA PANAMERICANA KM 20 SECTOR","CORRALITO LOCAL S/N-LOS TEQUES-EDO.","MIRANDA"," "," "," "," "," ","MARTES","J-00089745-0","032-C- 00081","0","Sí","00","CONTADO","09","CLIENTE INHABILITADO","04","08","HOTELES/CASINOS/BINGOS","02","ON PREMISSE","02","ON PREMISSE","09","09","09 - CLIENTE INHABILITADO",{"$f":"CONCATENATE(AB322,\" \",AC322)","v":"   "}]
["J000902950","09 - CLIENTE INHABILITADO","RESTAURANT HNOS VERA, C.A.","ADRENALINA CLUB, C.A."," ","ADRENALINA CLUB, C.A.","FINAL AV. CASANOVA CALLE CHACAITO A","L LADODEL CRISTINA SUITE. EDF. SAN","CRISTOBAL","0212 951 19 94","0424 100 57 02","NO POSEE","CARACAS"," ","CAMBIO DE ZONA 35 A 33 12/03/19 WP","CAMBIO DE ZONA 30 A 35 12/02/19 BB","CAMBIO DE ZONA 33 A 09 16/9/19 GT","FELIX VALDERRAMA"," "," ","ADRENALINA CLUB, C.A.","FINAL AV. CASANOVA CALLE CHACAITO A","L LADODEL CRISTINA SUITE. EDF. SAN","CRISTOBAL"," "," "," ","RECIBE SOLO MIERCOLES"," 8:00AM A 5:00PM","MARTES","J-00090295-0","C-46060","0","Sí","00","CONTADO","09","CLIENTE INHABILITADO","04","07","RESTAURANTES","02","ON PREMISSE","02","ON PREMISSE","09","09","09 - CLIENTE INHABILITADO","RECIBE SOLO MIERCOLES  8:00AM A 5:00PM"]
["J000903522","09 - CLIENTE INHABILITADO","CERVECERIA LA TERTULIA, S.R.L.","CERV.LA TERTULIA,S.R.L.(B/R LA TER."," ","CERV.LA TERTULIA,S.R.L.(B/R LA TERLULIA","ALCABALA A URAPAL CANDELARIACARACAS"," "," ","(0212) 572.97.57","(0212) 574.14.76","franciscoacerolopez@gmail.com","CARACAS"," "," ","CAMBIO V-33 AL 31 17-09-19 YM","CAMBIO DE ZONA 31 A 09 20/9/19 GT","JAIME ACELLO"," "," ","CERV.LA TERTULIA,S.R.L.(B/R LA TER.","ALCABALA A URAPAL CANDELARIACARACAS"," "," "," "," "," ","RECIBE  LUNES A VIERNES"," 09:00 AM A 06:00 PM","JUEVES","J-00090352-2","C 660","15000","Sí","00","CONTADO","33","CENTRO-CANDELARIA","04","07","RESTAURANTES","02","ON PREMISSE","02","ON PREMISSE","09","09","09 - CLIENTE INHABILITADO","RECIBE  LUNES A VIERNES  09:00 AM A 06:00 PM"]
["J000904588","33 - TORRES CARLOS","RESTAURANT BELLE VUE, C.A.","REST. BELLE VUE"," ","BELLE VUE CA","CALLE UNION QUINTA TAJI ALTOS DEL P","AUJIURBANIZACION EL HATILLO - CARAC","AS-EDO.MIRANDA","0212 963 44 46","NO POSEE","reservacionesbellevue@gmail.com","CARACAS"," ","CLIENTE INHABILITADO C09 130919 WP","CAMBIO ZONA V-09 AL V-32 230621 MYZ","CAMBIO DE  ZONA 32 A 35 260922  MYZ","JOSE MANUEL FONTAL P","EREZ"," ","REST. BELLE VUE","CALLE UNION QUINTA TAJI ALTOS DEL P","AUJIURBANIZACION EL HATILLO - CARAC","AS-EDO.MIRANDA"," "," "," ","RECIBE  LUNES A VIERNES"," 9:00AM A 2:00PM","MIERCOLES","J-00090458-8","LEBA 00001-06","89250","No","05","CREDITO 5 DIAS","32","SUCRE - BARUTA","04","07","RESTAURANTES","02","ON PREMISSE","02","ON PREMISSE","33","33","01-GUERRERO SALVADO -FRANQUICIAS PROLICOR/CELICOR","RECIBE  LUNES A VIERNES  9:00AM A 2:00PM"]
["J000904863","09 - CLIENTE INHABILITADO","LAS QUINCE LETRAS MACUTO, C.A.","LAS QUINCE LETRAS MACUTO, C.A."," ","LAS QUINCE LETRAS MACUTO, C.A.","AV. LA PLAYA ENTRE CALLEJON COLON Y","AVDA. PUNTA BRISA LOCAL HOTEL LAS","15 LETRAS URB. MACUTO EDO. VARGAS","(0212) 337-55-08","(0212) 337-55-08"," ","LA GUAIRA"," "," ","BLOQ.BAJA FREC.COMPRA 120314"," ","BAUTISTA GARCIA","hotelquinceletras@gm"," ","LAS QUINCE LETRAS MACUTO, C.A.","AV. LA PLAYA ENTRE CALLEJON COLON Y","AVDA. PUNTA BRISA LOCAL HOTEL LAS","15 LETRAS URB. MACUTO EDO. VARGAS"," ","(0212) 337-55-08"," "," "," ","DE LUNES A JUEVES","J-00090486-3","031-C-96","15000","Sí","00","CONTADO","14","LITORAL CENTRAL","05","08","HOTELES/CASINOS/BINGOS","02","ON PREMISSE","02","ON PREMISSE"," ","09","09 - CLIENTE INHABILITADO","   "]
["J000905665","24 - REYES OSWALDO","COMERCIAL AMARBOR, C.A.","COMERCIAL AMARBOR, C.A.","29/12/22ST","COMERCIAL AMARBOR, C.A.","AV LUIS BRAILE ENTRE CALLE STA. ANA","Y BUCARE EDIF SANTA BARBARA PISO PB","LOCAL 04 Y 05 SECTOR PRADO DE MARIA","0414-0115156"," ","CADENOHENRY5@GMAIL.COM","CARACAS"," "," "," "," ","HJEIJ AJMAD","ELION ACHUNDIA"," ","COMERCIAL AMARBOR, C.A.","AV LUIS BRAILE ENTRE CALLE STA. ANA","Y BUCARE EDIF SANTA BARBARA PISO PB","LOCAL 04 Y 05 SECTOR PRADO DE MARIA"," ","0414-0115156"," ","RECIBE DE LUNES A VIERNES","DE 8:00AM A 5:00PM","MIERCOLES","J-00090566-5","13MN002421","89250","Sí","05","CREDITO 5 DIAS","24","CARICUAO","05","18","LICORERIAS/BODEGONES","01","OFF PREMISSE","01","OFF PREMISSE","24","24","02 - TORRES VICTOR - OFF","RECIBE DE LUNES A VIERNES DE 8:00AM A 5:00PM"]
["J000906157","09 - CLIENTE INHABILITADO","FUENTE DE SODA EL LIMONCITO,C.A.","FUENTE DE SODA EL LIMONCITO C.A."," ","FUENTE DE SODA EL LIMONCITO C.A.","CARRETERA PETARE SANTA LUCIA KM. 3","SECTOREL LIMONCITO A 300 MTS DEL BA","NCO PLAZA","2912942"," "," ","CARACAS"," "," "," "," ","MANUEL FLORIANO ESPI","NOLA RODRIGUEZ"," ","FUENTE DE SODA EL LIMONCITO C.A.","CARRETERA PETARE SANTA LUCIA KM. 3","SECTOREL LIMONCITO A 300 MTS DEL BA","NCO PLAZA"," "," "," ","RECIBE DE LUNES A JUEVES","NO ESTA COMPRANDO LICOR",null,"J-00090615-7","C 5761","15000","No","00","CONTADO","13","PETARE","04","17","FTE SODA/LUNCH/HELAD/CAFE","01","OFF PREMISSE","01","OFF PREMISSE"," ","09","09 - CLIENTE INHABILITADO","RECIBE DE LUNES A JUEVES NO ESTA COMPRANDO LICOR"]
["J000907501","14 - GIL EXIO JOSE","AB. Y PESC. SAN PEDRO DE NAIGUATA","AB. Y PESC. SAN PEDRO DE NAIGUATA","04/02/19","ABASTO Y PESCADERIA SAN PEDRO DE NAIGUATA, C.A.","CALLE LOS MANGOS CON ESQUINA PUENTE","VICTORIA, PARROQUIA NAIGUATA-VARGAS"," ","(0212) 337-10-75"," ","CIERRA DE 1:00PM A 3:00PM","NAIGUATA - VARGAS"," "," "," ","RESTRUCT. EDV 14 AL 16 MYZ 25-11-22","JUAN R. DE FARIA","JOAO ROGELIO D FARIA"," ","AB. Y PESC. SAN PEDRO DE NAIGUATA","CALLE LOS MANGOS CON ESQUINA PUENTE","VICTORIA, PARROQUIA NAIGUATA-VARGAS"," "," ","(0212)- 337-10-75"," ","RECIBE DE LUNES A VIERNES","9:00AM A 5:00PM","DE LUNES A VIERNES","J-00090750-1","031-MN-401","89250","No","05","CREDITO 5 DIAS","14","LITORAL CENTRAL","05","23","ABASTOS PEQUEÑOS/BODEGAS","01","OFF PREMISSE","01","OFF PREMISSE","14","14","01 - CARLOS DA SILVA - OFF","RECIBE DE LUNES A VIERNES 9:00AM A 5:00PM"]
["J000908605","09 - CLIENTE INHABILITADO","SUPERMERCADO EL QUINTO,S.R.L.","SUPERMERCADO EL QUINTO,S.R.L."," ","SUPERMERCADO EL QUINTO,S.R.L.","FRENTE A LA PLAZA DE SAN ANTONIO DE","LOS ALTOS LOS TEQUES"," ","3724404"," "," ","LOS TEQUES"," ","2CHD 010316/200317 HP3 LA/MYZ","CAMBIO V-226 SUP 02 201117 MYZ","CAMBIO A LA ZONA 09 20-09-19 YM","LUIS GOMEZ"," "," ","SUPERMERCADO EL QUINTO,S.R.L.","FRENTE A LA PLAZA DE SAN ANTONIO DE","LOS ALTOS LOS TEQUES"," "," "," "," ","RECIBE DE LUNES A VIERNES","DE 9:00 AM A 5:00 PM","MIERCOLES","J-00090860-5","M-N 1193","0","Sí","00","CONTADO","09","CLIENTE INHABILITADO","06","21","SUPERMERCADOS/AUTOMERCADO","01","OFF PREMISSE","01","OFF PREMISSE","09","09","09 - CLIENTE INHABILITADO","RECIBE DE LUNES A VIERNES DE 9:00 AM A 5:00 PM"]
["J000910294","09 - CLIENTE INHABILITADO","DISTRIBUIDORA ALIANZA C.A.","DISTRIBUIDORA ALIANZA,C.A."," ","DISTRIBUIDORA ALIANZA,C.A.","CALLE EL CARMEN SECTOR EL RECREO","EDIFICIO. DINANZA-CAUCAGUA"," ","034- 61314"," "," ","BARLOVENTO"," "," "," ","PIDE DESAT EL CODIGO JQ 170418","JOSE LUIS FERREIRA"," "," ","DISTRIBUIDORA ALIANZA,C.A.","CALLE EL CARMEN SECTOR EL RECREO","EDIFICIO.DINANZA CAUCAGUA"," "," "," "," ","RECIBE DE LUNES A VIERNES","8 AM A 3 PM","JUEVES","J-00091029-4","M-Y 841","15000","No","05","CREDITO 5 DIAS","10","ALTAMIRA-OFF","01","01","DE LICORES CON FZA DE VTA","01","OFF PREMISSE","01","OFF PREMISSE","09","09","09 - CLIENTE INHABILITADO","RECIBE DE LUNES A VIERNES 8 AM A 3 PM"]
["J000910502","09 - CLIENTE INHABILITADO","REST. HELADERIA EL NATURISTA,C.A.","REST. HELADERIA EL NATURISTA,C.A."," ","REST. HELADERIA EL NATURISTA,C.A.","SEGUNDA TRANSVERSAL LA CASTELLANAAL"," LADO DEL MAC DONALD"," ","(0212) 263.36.04","(0414) 133.01.23","heladeria.elnaturista@gmail.com","CARACAS"," ","09 - CLIENTE INHABILITADO 210421 WP","BLOQ MHP 42DIAS YR 25/06/19","BLOQ SEG PAGO X TRANSF 05/09/19 JA","RICHAR SOUSA","CAROLINA"," ","REST. HELADERIA EL NATURISTA,C.A.","SEGUNDA TRANSVERSAL LA CASTELLANAAL"," LADO DEL MAC DONALD"," "," "," "," ","RECIBE LUNES A VIERNES"," 8 A 12 PM -  3 A 5 PM","LUNES","J-00091050-2","C 6223","15000","Sí","00","CONTADO","35","EL ROSAL-CHACAO","04","07","RESTAURANTES","02","ON PREMISSE","02","ON PREMISSE","09","09","09 - CLIENTE INHABILITADO","RECIBE LUNES A VIERNES  8 A 12 PM -  3 A 5 PM"]
["J000912017","20 - DIEGO MANUEL","LICORES LA CANDELARIA, C A.","LICORES LA CANDELARIA, C A."," ","LICORES LA CANDELARIA, C A.","MIGUELACHO A PELIGRO LA CANDELARIA","EDF.CABUDARE LOCAL 6 CARACAS"," ","0212 572 55 57","NO POSEE","licoreslacandelaria@hotmail.com","CARACAS"," "," "," "," ","JOSE IVO"," "," ","LICORES LA CANDELARIA C A","MIGUELACHO A PELIGRO LA CANDELARIA","EDF.CABUDARE LOCAL 6 CARACAS"," "," ","(0212) 575-09-24"," ","RECIBE  LUNES A JUEVES","ANTES  LAS 11:30AM","JUEVES","J-00091201-7","MY-2459","89250","No","05","CREDITO 5 DIAS","20","CENTRO DE CARACAS","06","18","LICORERIAS/BODEGONES","01","OFF PREMISSE","01","OFF PREMISSE","20","20","02 - VICTOR TORRES - OFF","RECIBE  LUNES A JUEVES ANTES  LAS 11:30AM"]
["J000914451","14 - GIL EXIO JOSE","RESTAURANT EL REY DEL MAR SRL","RESTAURANT EL REY DEL MAR SRL"," ","RESTAURANT EL REY DEL MAR SRL","CARRETERA NAIGUATA LOS CARACAS CASA","N° S/N SECTOR CAMURI GRANDE NAIGUAT","A VARGAS","0414-323-25-96"," "," ","NAIGUATA"," ","REACT Y CAMBIO Z01 A Z114 YR31/7/19","BLOQ MAYOR 71 DIAS SEGUI 240222 MYZ","RESTRUCT. EDV 14 AL 16 MYZ 25-11-22","VICENTE RODRIGUEZ"," "," ","RESTAURANT EL REY DEL MAR SRL","CARRETERA NAIGUATA LOS CARACAS CASA","N° S/N SECTOR CAMURI GRANDE NAIGUAT","A VARGAS"," "," "," ","RECIBE DE LUNES A VIERNES","9:00 AM A 5:00 PM","LUNES","J-00091445-1","031-MN-868","89250","No","05","CREDITO 5 DIAS","14","LITORAL CENTRAL","05","18","LICORERIAS/BODEGONES","01","OFF PREMISSE","01","OFF PREMISSE","14","14","01 - CARLOS DA SILVA - OFF","RECIBE DE LUNES A VIERNES 9:00 AM A 5:00 PM"]
["J000918260","36  CLIENT-CORPORAT-OFIC.","INVEDIN","INVEDIN","243-28-74","INVEDIN","FINAL AVENIDA GUAICAIPURO CON CALLE","CAPURE, QUINTA EL ROSARION, URB. EL","MARQUES, CARACAS","0212 - 242-11-47","4143279433"," ","CARACAS"," "," "," "," ","CLAUDIA MENDOZA"," "," ","INVEDIN","URBAN COUPLE, C.C.C.T NIVEL C-2","CARACAS"," "," ","(0212) 242-11-47","4143279433","DESPACHAR A LAS 9:00 AM"," ",null,"J-00091826-0","PARTICULAR","89250","No","05","CREDITO 5 DIAS","36","VTAS.CORPORATIVAS","08","32","RELACIONADOS (PRECIO ESP)","01","OFF PREMISSE","01","OFF PREMISSE","36","36","71 - OFICINA","DESPACHAR A LAS 9:00 AM  "]
["J000921962","24 - REYES OSWALDO","LICORERIA COPA DE PLATA, S.R.L.","LICORERIA COPA DE PLATA"," ","LICORERIA COPA DE PLATA, S.R.L.","AVENIDA JOSE ANTONIO PAEZ EDIFICIO","ORINOCO PISO P.B. LOCAL B Y C URB.","PUENTE HIERRO,CARACAS DTTO. CAPITAL","0212 542 12 07","0412 030 73 91","NO POSEE","CARACAS"," "," ","REACTIVADO EL 23/02/2015 S.U.","CAMBIO V28 A V224 230223 PH","RAFAEL ACOSTA SANTA","CRUZ"," ","LICORERIA COPA DE PLATA,C.A.","AVENIDA JOSE ANTONIO PAEZ EDIFICIO","ORINOCO PISO P.B. LOCAL B Y C URB.","PUENTE HIERRO,CARACAS DTTO. CAPITAL"," ","(0212) 545-78-85"," ","RECIBE  LUNES A VIERNES"," 11:00AM A 6:00PM","DE LUNES A JUEVES","J-00092196-2","13-MN-000393","89250","No","05","CREDITO 5 DIAS","23","CENTRO-SAN MARTIN","05","18","LICORERIAS/BODEGONES","01","OFF PREMISSE","01","OFF PREMISSE","24","24","02 - VICTOR TORRES - OFF","RECIBE  LUNES A VIERNES  11:00AM A 6:00PM"]
["J000922985","09 - CLIENTE INHABILITADO","INVERSIONES EJO, S.R.L","INVERSIONES EJO, S.R.L"," ","INVERSIONES EJO, S.R.L","CALLE PAEZ, EDIF SANTA ANA. PB","LOCALES E Y F CHACAO"," ","0212.263.6643"," "," ","CARACAS"," "," "," ","CTE INHAB Z-09 200919 WP","ANTONIO MARTINEZ","MARTIN"," ","BAR RESTAURANT LA BARRITA","CALLE PAEZ SAN IGNACIO CON GUAICAI","PURO. EDIF SANTA ANA. PB LOCALES","E Y F CHACAO"," ","0212.263.66.43"," ","CAMBIO DE ZONA SUP.03","DE FECHA 25/07/2013",null,"J00092298-5","07013000388","15000","Sí","00","CONTADO","31","LA CASTELLANA","04","07","RESTAURANTES","02","ON PREMISSE","02","ON PREMISSE","09","09","09 - CLIENTE INHABILITADO","CAMBIO DE ZONA SUP.03 DE FECHA 25/07/2013"]
["J000924198","20 - DIEGO MANUEL","BAR RIVIERA, C.A.","BODEGON RIVIERA"," ","BAR RIVIERA C.A.","AVENIDA CARACAS CON VOLMER EDIFICIO","MONTERREY PISO PB LOCAL A2 URBANIZ.","SAN BERNARDINO","(0212) 577-10-28","(0416) 401-42-98"," ","CARACAS"," "," ","CLIENTE SOLO TRANSF. 06/11/19 YM","BLOQ MAYOR 371 DIAS SEGU 240222 MYZ","JOSE LAMAS AGRAS"," "," ","BODEGON RIVIERA","AVENIDA CARACAS CON VOLMER EDIFICIO","MONTERREY PISO PB LOCAL A2 URBANIZ.","SAN BERNARDINO"," ","(0212) 577-10-28"," ","RECIBE DE LUNES A JUEVES","A PARTIR DE LAS 11 AM","DE LUNES A VIERNES","J-00092419-8","21-MN-0278","89250","Sí","05","CREDITO 5 DIAS","20","CENTRO DE CARACAS","06","06","BAR/TABER./S. BAR/PUB/TAS","02","ON PREMISSE","02","ON PREMISSE","20","20","02 - VICTOR TORRES - OFF","RECIBE DE LUNES A JUEVES A PARTIR DE LAS 11 AM"]
["J000926204","15 - GUTIERREZ WALTER","LICORES NORMA,C.A.","LICORES NORMA CA"," ","LICORES NORMA CA","AVENIDA TERESA DE LA PARRA SANTA MO","NICAMNCP.BARUTA-CARACAS-DTTO.CAPITA","L","(0212) 661.76.07","(0424) 192.28.02","licoresnorma@gmail.com","CARACAS"," ","INCLUYE 2%DESC.F.GCIA.VTAS 150515","2CHED 010516/160517 11HP MYZ","DESB BUEN COMPOR ANAL CHE KF 110817","FRANCISCO VIEIRA"," "," ","LICORES NORMA CA","AVENIDA TERESA DE LA PARRA SANTA MO","NICAMNCP.BARUTA-CARACAS-DTTO.CAPITA","L"," "," "," ","RECIBE  LUNES A JUEVES"," 11:00 AM A 03:00 PM","MIERCOLES","J-00092620-4","MY-0047-MN-00-46","89250","No","05","CREDITO 5 DIAS","16","GUATIRE","05","18","LICORERIAS/BODEGONES","01","OFF PREMISSE","01","OFF PREMISSE","15","15","01 - CARLOS DA SILVA - OFF","RECIBE  LUNES A JUEVES  11:00 AM A 03:00 PM"]
["J000928320","09 - CLIENTE INHABILITADO","HOTEL EMBASSY,C.A.","HOTEL EMBASSY"," ","HOTEL EMBASSY,C.A.","AVENIDA LAS ACACIAS SUR,URB.SAN ANT","ONIO SABANAGRANDE  CARACAS"," ","782-78-21"," "," ","CARACAS"," "," "," ","REEST-V-31 AL V-09 20092019 MYZ","JOSE CARLOS FERRO"," "," ","HOTEL EMBASSY","AVENIDA LAS ACACIAS SUR,URB.SAN ANT","ONIO SABANAGRANDE  CARACAS"," "," "," "," "," "," ",null,"J-00092832-0","C 5443","15000","Sí","00","CONTADO","32","SUCRE - BARUTA","04","08","HOTELES/CASINOS/BINGOS","02","ON PREMISSE","02","ON PREMISSE","09","09","09 - CLIENTE INHABILITADO","   "]
["J000930902","09 - CLIENTE INHABILITADO","GUATIRE TEXTIL, S.A","GUATIRE TEXTIL, S.A"," ","GUATIRE TEXTIL, S.A","ZONA INDUSTRIAL TERRINCA,EDF.GUATIR","ETEXTIL PLANTA BAJA-GUATIRE-EDO.MIR","ANDA","3444547"," "," ","GUATIRE"," "," "," "," ","NULL"," "," ","GUATIRE TEXTIL, S.A","ZONA INDUSTRIAL TERRINCA,EDF.GUATIR","ETEXTIL PLANTA BAJA-GUATIRE-EDO.MIR","ANDA"," "," "," "," "," ",null,"J-00093090-2","PARTICULAR","15000","No","05","CREDITO 5 DIAS","11","GUARENAS","06","29","INDUSTRIAL","01","OFF PREMISSE","01","OFF PREMISSE"," ","09","09 - CLIENTE INHABILITADO","   "]
["J000934908","31 - RODRIGUEZ WLADIMIR","FUENTE DE SODA EL LEON, C.A.","FUENTE DE SODA EL LEON, C.A."," ","FUENTE DE SODA EL LEON, C.A.","CALLE 2DA. TRANSVERSAL CON AVDA.","PPAL. EDF. TORRE MULTINVEST PISO","PB LOCAL 6 URB. LA CASTELLANA","(0212) 263.60.14","(0424) 129.44.51","fuentedesodaelleon@gmail.com","CARACAS"," "," ","CAMB. V31 AL V35 JOSE D MORA 151116","CAMBIO V-31 vs V-332 200421","BRIXON MARIN"," "," ","FUENTE DE SODA EL LEON, C.A.","CALLE 2DA. TRANSVERSAL CON AVDA.","PPAL. EDF. TORRE MULTINVEST PISO","PB LOCAL 6 URB. LA CASTELLANA"," ","(0212) 263.60-14"," ","RECIBE  LUNES A VIERNES"," 8:00 AM A 11:30 AM","MIERCOLES","J-00093490-8","70100000176","89250","No","05","CREDITO 5 DIAS","35","EL ROSAL-CHACAO","04","06","BAR/TABER./S. BAR/PUB/TAS","02","ON PREMISSE","02","ON PREMISSE","31","31","01 - CARLOS DA SILVA - ON","RECIBE  LUNES A VIERNES  8:00 AM A 11:30 AM"]
["J000935327","04 - MARTINS ANTONIO","ASOC CIVIL HERMANITAS DE LOS POBRES","ASOC CIVIL HERMANITAS DE LOS POBRES"," ","ASOC CIVIL HERMANITAS DE LOS POBRES","AV. TEHERAN DISPENSARIO PADRE MACHA","DO.URB. MONTALBAN II. LA VEGA","CARACAS. DTTO CAPITAL","0212-4429011"," "," ","CARACAS"," "," "," "," ","MARY RANGEL"," "," ","ASOC CIVIL HERMANITAS DE LOS POBRES","Calle 10 con esquina Calle 11, Edif","Plasencia, La Urbina, Caracas-Venez"," "," ","0212-4429011"," "," "," ",null,"J-00093532-7"," ","89250","No","05","CREDITO 5 DIAS"," ",null,"06","31","PARTICULAR","01","OFF PREMISSE","01","OFF PREMISSE"," ","04"," ","   "]
["J000936196","71 - OFICINA","PLASTICOS GUAICAIPURO, C.A","PLASTICOS GUAICAIPURO, C.A"," ","PLASTICOS GUAICAIPURO, C.A","CALLE 10 CON CALLE 11 ADF PLASENCIA","LA URBINA  EDO MIRANDA"," "," "," "," ","CARACAS"," "," "," "," ","SR. JUAN CARLOS DE","ABREU"," ","PLASTICOS GUAICAIPURO, C.A","CALLE 10 CON 11 EDF PLASENCIA LA","URBINA EDO MIRANDA"," "," "," "," ","RECIBE DE LUNES A VIERNES","DE 7 AM 4 PM","DE LUNES A VIERNES","J-00093619-6","PARTICULA","2200","No","05","CREDITO 5 DIAS","71","OFICINA","08","33","RELACIONADOS","01","OFF PREMISSE","01","OFF PREMISSE","71","71","71 - OFICINA","RECIBE DE LUNES A VIERNES DE 7 AM 4 PM"]
["J000938237","09 - CLIENTE INHABILITADO","INVERSIONES LIANA C.A","INVERSIONES LIANA C.A(HOTEL LIANA)"," ","INVERSIONES LIANA C.A(HOTEL LIANA)","AV. SUR LAS ACACIAS (CUADRA DE LOS","HOTELESCASANOVA)"," ","781-8001"," "," ","CARACAS"," "," "," ","CTE INHAB Z-09 200919 WP","MANUEL SANDIN LEIVAN","E"," ","INVERSIONES LIANA C.A(HOTEL LIANA)","AV. SUR LAS ACACIAS (CUADRA DE LOS","HOTELESCASANOVA)"," "," "," "," "," "," ",null,"J-00093823-7","C 100","15000","Sí","00","CONTADO","32","SUCRE - BARUTA","04","08","HOTELES/CASINOS/BINGOS","02","ON PREMISSE","02","ON PREMISSE","09","09","09 - CLIENTE INHABILITADO","   "]
["J000938440","24 - REYES OSWALDO","LICORES SIDERAL,C.A.","LICORES SIDERAL,C.A."," ","LICORES SIDERAL,C.A.","AVENIDA PPAL CEMENTERIO AL FRENTE","SEGURO SOCIAL CARACAS"," ","(0212) 631-41-76"," "," ","CARACAS"," "," "," "," ","HERNAN GONZALEZ"," "," ","LICORES SIDERAL,C.A.","AVENIDA PPAL CEMENTERIO AL FRENTE","SEGURO SOCIAL CARACAS"," "," ","(0212) 631-41-76"," ","RECIBE DE LUNES A JUEVES","DE 11:00AM A 4:00PM","LUNES","J-00093844-0","MN-3156","89250","No","05","CREDITO 5 DIAS","24","CARICUAO","06","18","LICORERIAS/BODEGONES","01","OFF PREMISSE","01","OFF PREMISSE","24","24","02 - VICTOR TORRES - OFF","RECIBE DE LUNES A JUEVES DE 11:00AM A 4:00PM"]
["J000941459","09 - CLIENTE INHABILITADO","SUPERMERCADO SAN CIRO, C.A.","SUPERMERCADO SAN CIRO"," ","SUPERMERCADO SAN CIRO, C.A.","AV.PRESIDENTE MEDINA ESQ. NICARAGUA","EDIF. SAN LUIS CARACAS-DTTO.FEDERAL"," ","(0212) 634.28.69","(0414) 229.92.33","supermercadosanciro@hotmail.com","CARACAS"," "," ","CAMBIO DE ZONA 24 A 228 040222 ST","CAMBIO DE ZONA 28 A 09 26/07/22 ST","ILIDIO ADRIANO PEÑA"," "," ","SUPERMERCADO SAN CIRO, CA","AV.PRESIDENTE MEDINA ESQ. NICARAGUA","EDIF. SAN LUIS CARACAS-DTTO.FEDERAL"," "," ","(0212) 632-69-32"," ","RECIBE  LUNES A VIERNES"," 9 AM A 1 PM - 3 A 5 PM","LUNES","J-00094145-9","MN-4566","15000","No","05","CREDITO 5 DIAS","24","CARICUAO","06","21","SUPERMERCADOS/AUTOMERCADO","01","OFF PREMISSE","01","OFF PREMISSE","09","09","09 - CLIENTE INHABILITADO","RECIBE  LUNES A VIERNES  9 AM A 1 PM - 3 A 5 PM"]
["J000946973","09 - CLIENTE INHABILITADO","PASTELERIA Y CONFITERIA MOZART, C.A","PASTELERIA Y CONFITERIA MOZART, C.A"," ","PASTELERIA Y CONFITERIA MOZART, C.A","AV. PARQUE HUMBOLDT, C.C. CONCRESA","NIVEL PB LOCAL 2, CARACAS"," ","02129792646"," "," ","CARACAS"," "," "," ","BAJA FRECUENCIA DE COMPRA 21/01/14","SAMI MAROUKI HABIL","progonis@hotmail.com"," ","PASTELERIA Y CONFITERIA MOZART, C.A","AV. PARQUE HUMBOLDT, C.C. CONCRESA","NIVEL PB LOCAL 2, CARACAS"," "," ","0212 9792646"," "," "," ",null,"J-00094697-3","PARTICULAR","15000","Sí","00","CONTADO","15","BARUTA","05","17","FTE SODA/LUNCH/HELAD/CAFE","01","OFF PREMISSE","01","OFF PREMISSE"," ","09","09 - CLIENTE INHABILITADO","   "]
["J000950733","02 - REQUENA JOHAN - OFF","MERCANTIL MARSEN,C.A.","MERCANTIL MARSEN,C.A."," ","MERCANTIL MARSEN,C.A.","CARRETERA PANAMERICANA.KM.15 SAN","ANTONIO DE LOS ALTOS."," "," "," "," ","SAN ANTONIO"," "," "," "," ","MANUEL DOS SANTOS","VIEIRA"," ","HOTEL LAS VEGAS","CARRETERA PANAMERICANA.KM.15 SAN","ANTONIO DE LOS ALTOS"," "," "," "," ","TRASP. SUP 02-CARLOS GON.","S/S FECHA 02/08/2013",null,"J-00095073-3","C-5143","89250","Sí","05","CREDITO 5 DIAS","26","SAN ANTONIO DE LOS ALTOS","04","08","HOTELES/CASINOS/BINGOS","02","ON PREMISSE","02","ON PREMISSE"," ","02"," ","TRASP. SUP 02-CARLOS GON. S/S FECHA 02/08/2013"]
["J000951349","31 - RODRIGUEZ WLADIMIR","EL TRAVIA DEL ESTE,C.A.","MANGO`S DISCOTECA"," ","MANGO`S DISCOTECA","CALLE PRINCIPAL DE LAS MERCEDES CRU","CECON CALLE LONDRES AL LADO DEL RES","T.AVANTI"," "," "," ","CARACAS"," "," "," "," ","ALEXANDER BOZO MORRI","LLO"," ","MANGO`S DISCOTECA","CALLE PRINCIPAL DE LAS MERCEDES CRU","CECON CALLE LONDRES AL LADO DEL RES","T.AVANTI"," "," "," "," "," ",null,"J-00095134-9","C 5637","89250","No","05","CREDITO 5 DIAS","30","PARROQUIA EL RECREO","04","09","DISCOTECAS Y NIGHT CLUBS","02","ON PREMISSE","02","ON PREMISSE"," ","31"," ","   "]
["J000952795","31 - RODRIGUEZ WLADIMIR","FUENTE DE SODA SAGITARIO, C.A","FUENTE DE SODA SAGITARIO, C.A"," ","FUENTE DE SODA SAGITARIO, C.A","CALLE 1-URBANIZACION COLINAS DE VIS","TAALEGRE C.C. VISTA ALEGRE LOCAL A-","9","0212.472.82.30"," "," ","CARACAS"," "," "," "," ","JOSE MARTI"," "," ","FUENTE DE SODA SAGITARIO, C.A","CALLE 1-URBANIZACION COLINAS DE VIS","TAALEGRE C.C. VISTA ALEGRE LOCAL A-","9"," "," "," "," "," ",null,"J-00095279-5","C-6069","89250","No","05","CREDITO 5 DIAS","33","CENTRO-CANDELARIA","04","17","FTE SODA/LUNCH/HELAD/CAFE","02","ON PREMISSE","02","ON PREMISSE"," ","31"," ","   "]
["J000962731","02 - REQUENA JOHAN - OFF","LIC. LA RAMBLA","LIC. LA RAMBLA"," ","LIC. LA RAMBLA","KM 5 VIA AL JUNQUITONULL"," "," ","0414-2675634"," "," ","JUNQUITO"," "," "," "," ","MIGUEL ANGEL VILLAMI","ZAR"," ","LIC. LA RAMBLA","KM 5 VIA AL JUNQUITONULL"," "," "," "," "," "," "," ",null,"J-00096273-1","M-N 5220","89250","No","05","CREDITO 5 DIAS","22","CATIA-JUNQUITO","05","18","LICORERIAS/BODEGONES","01","OFF PREMISSE","01","OFF PREMISSE"," ","02"," ","   "]
["J000965030","09 - CLIENTE INHABILITADO","COMERCIAL EL FIESTERO, S.R.L.","COMERCIAL EL FIESTERO"," ","COMERCIAL EL FIESTERO S.R.L.","CARRETERA VIA PETARE GUARENAS KM 1","FTE. A LA MATERNIDAD PETARE"," ","(0212) 242.46.51","(0424) 115.30.82"," ","CARACAS","PREPAGO SOLIC.SUP.WILLIAM M 301213","CUMPLIO 3 PREPAGOS REACT.27-07-2015","3CD 280715-171016 HP6 DC7 MYZ","CAMBIO ZONA13 A ZONA01 14/02/19 YR","LINO CARRERA"," "," ","COMERCIAL EL FIESTERO","CARRETERA VIA PETARE GUARENAS KM 1F","TE A LA MATERNIDAD PETARE"," "," ","(0212) 243-72-02"," ","RECIBE  LUNES A JUEVES"," 9:00 AM A 3:00 PM","MARTES","J-00096503-0","MM-4231","15000","Sí","00","CONTADO","13","PETARE","05","18","LICORERIAS/BODEGONES","01","OFF PREMISSE","01","OFF PREMISSE","09","09","09 - CLIENTE INHABILITADO","RECIBE  LUNES A JUEVES  9:00 AM A 3:00 PM"]
["J000965447","13 - GUDIÑO FABIAN","SUPERMERCADO MADRID, C.A.","SUPERMERCADO MADRID, C.A."," ","SUPERMERCADO MADRID, C.A.","AVENIDA PAEZ ENTRE MOHEDANO Y CECI","LIO ACOSTA EDIF. IMPERIAL CHACAO"," ","(0212) 266.42.69","(0414) 140.09.27"," ","CARACAS"," ","BLOQUEADO MHP 17 DIAS YR 25/04/19","CAMBIO V-42 AL V-10 MYZ 16-02-22 FL","CAMBIO V-10 AL V-13 05-09-23 RM","MARIA JOSE RODRIGUEZ","MANUEL J SILVA J"," ","SUPERMERCADO MADRID,C.A.","AVENIDA PAEZ ENTRE MOHEDANO Y CECI","LIO ACOSTA EDIF. IMPERIAL CHACAO"," "," ","(0212) 266-42-69"," ","RECIBE LUNES A JUEVES","8AM-12/3PM-5PM","LUNES","J-00096544-7","70100000628","89250","Sí","05","CREDITO 5 DIAS","10","ALTAMIRA-OFF","05","21","SUPERMERCADOS/AUTOMERCADO","01","OFF PREMISSE","01","OFF PREMISSE","13","13","01 - GUERRERO SALVADOR - OFF","RECIBE LUNES A JUEVES 8AM-12/3PM-5PM"]
["J000968578","09 - CLIENTE INHABILITADO","SUPER MERCADO ROSA DEL MONTE SRL","SUPER MERCADO ROSA DEL MONTE SRL"," ","SUPER MERCADO ROSA DEL MONTE SRL","CALLE GUAICAIPURO, DESPUES DE","TRANSITO LA DERECHA, EL LLANITO","PETARE.","(0212) 257.48.65"," ","superrosadelmonte@gmail.com","PETARE"," "," "," ","CAMBIO DE ZONA 13 A 09 16/05/23 YR","GABRIEL FERREIRA"," "," ","SUPER MERCADO ROSA DEL MONTE SRL","CALLE GUAICAIPURO, DESPUES","DE TRANSITO LA DERECHA, EL LLANITO","PETARE"," ","0212/2574865"," ","RECIBE  LUNES A JUEVES"," 08:00 AM A 01:00 PM","JUEVES","J-00096857-8","MN-4791","15000","No","05","CREDITO 5 DIAS","13","PETARE","05","21","SUPERMERCADOS/AUTOMERCADO","01","OFF PREMISSE","01","OFF PREMISSE","09","09","09 - CLIENTE INHABILITADO","RECIBE  LUNES A JUEVES  08:00 AM A 01:00 PM"]
["J000978107","02 - REQUENA JOHAN - OFF","BAR REST.EST.SERV.GUARACARUMBO,C.A.","B.R.E.S. GUARACARUMBO,C.A."," ","B.R.E.S. GUARACARUMBO,C.A.","CARRETERA PANAMERICANA KM 37LOS TEQ","UES-EDO.MIRANDA"," ","(0212) 322-88-82"," "," ","LOS TEQUES"," "," "," ","CAMB.RIF.J298377518 INV.GUARACARUMB","TERESA DOS SANTOS"," "," ","B.R.E.S. GUARACARUMBO,C.A.","CARRETERA PANAMERICANA KM 37LOS TEQ","UES-EDO.MIRANDA"," "," ","(0212) 322-88-82"," "," "," ",null,"J-00097810-7","032-C-5733","89250","Sí","00","CONTADO","25","LOS TEQUES","04","06","BAR/TABER./S. BAR/PUB/TAS","02","ON PREMISSE","02","ON PREMISSE"," ","02"," ","   "]
["J000978980","02 - REQUENA JOHAN - OFF","ABASTOS LAS 7 ISLAS","ABASTOS LAS 7 ISLAS*"," ","ABASTOS LAS 7 ISLAS*","AVENIDA CASANOVA EDF.KAMARATA P.B.S","ABANA GRANDE CARACAS"," ","714880"," "," ","CARACAS"," "," "," "," ","CONCEPCION DA SILVA","Y DENARDO DA SILVA"," ","ABASTOS LAS 7 ISLAS*","AVENIDA CASANOVA EDF.KAMARATA P.B.S","ABANA GRANDE CARACAS"," "," "," "," "," "," ",null,"J-00097898-0","M-N 715","89250","No","05","CREDITO 5 DIAS","20","CENTRO DE CARACAS","05","23","ABASTOS PEQUEÑOS/BODEGAS","01","OFF PREMISSE","01","OFF PREMISSE"," ","02"," ","   "]
["J000980292","13 - GUDIÑO FABIAN","SUPERMERCADO NUSI, C.A.","SUPERMERCADO NUSI, C.A."," ","SUPERMERCADO NUSI, C.A.","AVENIDA GUAICAIPURO,EDIF.TANIA PLAN","TA BAJALOCAL-2,URBANIZACION EL LLAN","ITO-PETARE","(0212) 257.30.64","(0412) 911.13.58","alvarosimoes2011@gmail.com","CARACAS"," "," "," "," ","SIMOES JOAO ALVARO"," "," ","SUPERMERCADO NUSI, C.A.","AVENIDA GUAICAIPURO,EDIF.TANIA PLAN","TA BAJALOCAL-2,URBANIZACION EL LLAN","ITO-PETARE"," "," "," ","RECIBE  LUNES A VIERNES"," 8 A 1 PM - 3 A 5 PM","MARTES","J-00098029-2","MN-3893","89250","No","05","CREDITO 5 DIAS","13","PETARE","05","21","SUPERMERCADOS/AUTOMERCADO","01","OFF PREMISSE","01","OFF PREMISSE","13","13","01 - CARLOS DA SILVA - OFF","RECIBE  LUNES A VIERNES  8 A 1 PM - 3 A 5 PM"]
["J000982546","43 - RIVERO CARLOS","ABASTOS LA FORTUNA","ABASTOS LA FORTUNA"," ","ABASTOS LA FORTUNA","AV.MIGUELANGEL.EDIF.SAN MARTIN LOCA","L A COLINAS DEBELLO MONTE FTE AL RE","GISTRO SUBALTERNO DE BARUTA","0212 753 42 42","0416 830 23 51","NO POSEE","CARACAS"," ","BLOQ MAYOR 74 DIAS SEGUI 240222 MYZ","CAMBIO DE ZONA 42 A 43 26/07/22 ST","ACTUALIZACION 11/09/23 RM","JAIME DA SILVA"," "," ","ABASTOS LA FORTUNA","AV.MIGUELANGEL.EDIF.SAN MARTIN LOCA","L A COLINAS DEBELLO MONTE FTE AL RE","GISTRO SUBALTERNO DE BARUTA","DESBLOQ.130317 SE REACTIVA.7 DC HD"," "," ","LUNES A VIERNES","09:00 AM A 4:00 PM","MARTES","J-00098254-6","B-104-0-0260","89250","Sí","05","CREDITO 5 DIAS","43","PROLICOR / CELICOR","05","23","ABASTOS PEQUEÑOS/BODEGAS","11","FRANQUICIAS PROLICOR,C.A.","11","FRANQUICIAS PROLICOR,C.A.","43","43","01 - SALVADOR GUERRERO - FRANQUICIAS/PROLICOR","LUNES A VIERNES 09:00 AM A 4:00 PM"]
["J000984816","32 - HERNANDEZ EDGAR","CERVECERIA VALPARAISO,C.A.","CERVECERIA VALPARAISO,C.A."," ","CERVECERIA VALPARAISO,C.A.","ESQUINA HORCONES,EDIF DON LUIS,LOC","1,2 Y 3SAN AGUSTIN (DETRAS BCO VENE","ZUELA)","5770261/5769006"," "," ","CARACAS"," ","CAMBIO DE ZONA 33 A 09 16/9/19 GT","CAMBIO V-31 vs V-335 200421","CAMBIO V-31 vs V-32 220223 PH","FERNANDEZ DOS REIS J","ORGE","ANTONIO","CERVECERIA VALPARAISO,C.A.","ESQUINA HORCONES,EDIF DON LUIS,LOC","1,2 Y 3SAN AGUSTIN (DETRAS BCO VENE","ZUELA)"," "," "," ","RECIBE DE LUNES A VIERNES","DE 7:30 AM A 11:30AM","MIERCOLES","J-00098481-6","C-1003","89250","No","05","CREDITO 5 DIAS","31","LA CASTELLANA","04","06","BAR/TABER./S. BAR/PUB/TAS","02","ON PREMISSE","02","ON PREMISSE","32","32","01 - CARLOS DA SILVA - ON","RECIBE DE LUNES A VIERNES DE 7:30 AM A 11:30AM"]
["J000985669","09 - CLIENTE INHABILITADO","TINAJA RESTAURANT MORMORENA S R L","TINAJA RESTAURANT MORMORENA"," ","TINAJA RESTAURANT MORMORENA S R L","CALLE \"B\" EDIFICIO DOBLEMAR P.B. LO","CAL \"A\"LOS RUICES-MCPIO.SUCRE-CARAC","AS-DTTO.CAPITAL","2319539"," "," ","CARACAS"," "," "," ","REEST-V-31 AL V-09 20092019 MYZ","CARLOS ALBERTO DIAS","VASCONCELOS"," ","TINAJA RESTAURANT MORMORENA","CALLE \"B\" EDIFICIO DOBLEMAR P.B. LO","CAL \"A\"LOS RUICES-MCPIO.SUCRE-CARAC","AS-DTTO.CAPITAL"," "," "," "," "," ",null,"J-00098566-9","002-C-3735","15000","Sí","00","CONTADO","31","LA CASTELLANA","04","07","RESTAURANTES","02","ON PREMISSE","02","ON PREMISSE","09","09","09 - CLIENTE INHABILITADO","   "]
["J000988536","13 - GUDIÑO FABIAN","J. GONCALVEZ Y MARTINHO GONCALVEZ","COMERCIAL GALIPAN"," ","JUVENAL G.Y MARTINHO G.R. (COM/GALIPAN)","AVENIDA AVILA PLAZA SUR ALTAMIRA","CARACAS"," ","(0212) 262.15.83","(0414) 917.23.79"," ","CARACAS"," "," ","CAMBIO V-42 AL V-10 MYZ 16-02-22 FL","CAMBIO V-10 AL V-13 050923 RM","MARTIN GONCALVEZ"," "," ","COMERCIAL GALIPAN","AVENIDA AVILA PLAZA SUR ALTAMIRA","CARACAS"," "," ","(0212) 262-15-83"," ","RECIBE LUNES A VIERNES","9AM A 4PM","JUEVES","J-00098853-6","70100000521","89250","No","05","CREDITO 5 DIAS","10","ALTAMIRA-OFF","05","23","ABASTOS PEQUEÑOS/BODEGAS","01","OFF PREMISSE","01","OFF PREMISSE","13","13","01 - GUERRERO SALVADOR - OFF","RECIBE LUNES A VIERNES 9AM A 4PM"]
["J000988757","13 - GUDIÑO FABIAN","LICORERIA CONTROL UNO, C.A.","LICORERIA CONTROL UNO,C.A."," ","LICORERIA CONTROL UNO,C.A.","AVENIDA TAMANACO EL LLANITOPETARE"," "," ","(0212) 257.48.51"," ","licoreriacontroluno@gmail.com","CARACAS"," "," "," "," ","GUSTAVO AYNAIZ"," "," ","LICORERIA CONTROL UNO,C.A.","AVENIDA TAMANACO EL LLANITOPETARE"," "," "," "," "," ","RECIBE  MARTES A VIERNES"," 09:00 AM A 05:00 PM","MARTES","J-00098875-7","M-N 4973","89250","No","05","CREDITO 5 DIAS","13","PETARE","05","18","LICORERIAS/BODEGONES","01","OFF PREMISSE","01","OFF PREMISSE","13","13","01 - CARLOS DA SILVA - OFF","RECIBE  MARTES A VIERNES  09:00 AM A 05:00 PM"]
["J000990026","02 - REQUENA JOHAN - OFF","SUPERMERCADO JOSIL S.R.L.","SUPERMERCADO JOSIL S.R.L."," ","SUPERMERCADO JOSIL S.R.L.","CENTRO COMERCIAL URBANIZACION 23 DE","ENERO 14 - CARACAS"," ","(0212) 858-68-89","CLIENTE PREPAGO"," ","CARACAS"," "," "," "," ","DENNIS VALLEJO"," "," ","SUPERMERCADO JOSIL S.R.L.","CENTRO COMERCIAL URBANIZACION 23 DE","ENERO 14 - CARACAS"," "," ","(0212) 858-68-89"," ","TRASP. SUP 02-CARLOS GON.","S/S FECHA 02/08/2013",null,"J-00099002-6","MN-111","89250","Sí","00","CONTADO","22","CATIA-JUNQUITO","02","01","DE LICORES CON FZA DE VTA","01","OFF PREMISSE","01","OFF PREMISSE"," ","02"," ","TRASP. SUP 02-CARLOS GON. S/S FECHA 02/08/2013"]
["J000992584","09 - CLIENTE INHABILITADO","SUPERMERCADO DE CARNES DON BOSCO","SUPERMERCADO DE CARNES DON BOSCO"," ","SUPERMERCADO DE CARNES DON BOSCO","AVENIDA FRANCISCO DE MIRANDA CENTRO","COMERCIAL DON BOSCO, LOS RUICES"," ","361615"," "," ","CARACAS"," "," "," ","SIN LICENCIA DE LICORE 170418 JQ","JOAO PAIXAO DE GOIS"," "," ","SUPERMERCADO DE CARNES DON BOSCO","AVENIDA FRANCISCO DE MIRANDA CENTRO","COMERCIAL DON BOSCO LOS RUICES"," "," ","361615"," ","RECIBE DE LUNES A VIERNES","8:00 AM A 4:00 PM","MARTES","J-00099258-4","M-N 5509","15000","No","05","CREDITO 5 DIAS","10","ALTAMIRA-OFF","05","21","SUPERMERCADOS/AUTOMERCADO","01","OFF PREMISSE","01","OFF PREMISSE","09","09","09 - CLIENTE INHABILITADO","RECIBE DE LUNES A VIERNES 8:00 AM A 4:00 PM"]
["J000996881","09 - CLIENTE INHABILITADO","CAR PES FRUT CHARC Y LIC LA CACHAMA","CAR PES FRUT CHARC Y LIC LA CACHAMA","181116","CARNICERIA PESCADERIA FRUTERIA CHARCUTERIA Y LICORERIA LA CACHAMA C.A.","AV SUCRE CALLE AYACUCHO LA CORTADA","CASA NRO 01 SECTOR CATIA CARACAS"," ","0212 872 15 15","0412 912 79 02","marko_boscan@hotmail.com"," "," "," ","CAMBIO DE ZONA V22 AL V09 190922 FL","BLOQ P/MHP 28 DIAS CALLE 210319 WP","MANUEL GOMES"," "," ","CAR PES FRUT CHARC Y LIC LA CACHAMA","AV SUCRE CALLE AYACUCHO LA CORTADA","CASA NRO 01 SECTOR CATIA CARACAS"," "," ","0212-3618977"," ","RECIBE  LUNES A VIERNES"," 10 A 12 PM / 2 A 4 PM","MARTES","J-00099688-1","N°15-MN-000903","15000","Sí","00","CONTADO","09","CLIENTE INHABILITADO","05","23","ABASTOS PEQUEÑOS/BODEGAS","01","OFF PREMISSE","01","OFF PREMISSE","09","09","02 - VICTOR TORRES - OFF","RECIBE  LUNES A VIERNES  10 A 12 PM / 2 A 4 PM"]
["J000997020","02 - REQUENA JOHAN - OFF","SUPERMERCADO GRAN SASSO S R L","SUPERMERCADO GRAN SASSO S R L"," ","SUPERMERCADO GRAN SASSO S R L","AV. ANDRES BELLO ESQ. LAS ACACIASED","IF. GRAN SASSO LA FLORIDA"," "," "," "," ","CARACAS"," "," "," "," ","MANUEL SERGIO MARTIN","S"," ","SUPERMERCADO GRAN SASSO S R L","AV. ANDRES BELLO ESQ. LAS ACACIASED","IF. GRAN SASSO LA FLORIDA"," "," "," "," "," "," ",null,"J-00099702-0","M-N 4326","89250","No","05","CREDITO 5 DIAS","20","CENTRO DE CARACAS","05","21","SUPERMERCADOS/AUTOMERCADO","01","OFF PREMISSE","01","OFF PREMISSE"," ","02"," ","   "]
["J000997160","09 - CLIENTE INHABILITADO","CERVECERIA RESTAURANT SANDU CA","CERVECERIA RESTAURANT SANDU CA"," ","CERVECERIA RESTAURANT SANDU CA","AVDA.ANDRES BELLO,EDIF.COLUMBA,P.B,","LOCAL 2ENTRE MARIPEREZ Y SANTA ROSA",",CARACAS-DTTO.CAPITAL","5734365/5766564"," "," ","CARACAS"," "," ","CAMBIO A LA ZONA 09 23-09-19 YM"," ","MANUEL DA SILVA AGOS","TINHO"," ","CERVECERIA RESTAURANT SANDU CA","AVDA.ANDRES BELLO,EDIF.COLUMBA,P.B,","LOCAL 2ENTRE MARIPEREZ Y SANTA ROSA",",CARACAS-DTTO.CAPITAL"," "," "," "," "," ",null,"J-00099716-0","002-C-1109","0","Sí","00","CONTADO","09","CLIENTE INHABILITADO","04","07","RESTAURANTES","02","ON PREMISSE","02","ON PREMISSE","09","09","09 - CLIENTE INHABILITADO","   "]
["J000997560","20 - DIEGO MANUEL","SUPERMERCADO LIBRETTI, C.A","SUPERMERCADO LIBRETTI, C.A"," ","SUPERMERCADO LIBRETTI, C.A","AVENIDA PANTEON DE ESQUINA DE PALO","NEGRO A ESQUINA PALO BLANCO,","EDIFICIO LIBRITTI PB","(0412)992-21-35"," "," ","CARACAS"," ","ACTUALIZACIÓN DE DATOS YP 230821"," ","ACTUALIZACION DE DATOS LL 4/10/23","DE PONTE ANDRADE","JOAO NUNES"," ","SUPERMERCADO LIBRETTI, C.A","AVENIDA PANTEON DE ESQUINA DE PALO","NEGRO A ESQUINA PALO BLANCO,","EDIFICIO LIBRITTI PB"," ","(0412) 992-21-35"," ","RECIBE DE LUNES A VIERNES","DESPUES DE LAS 11:00AM","DE LUNES A VIERNES","J-00099756-0","LL-2022-003739","89250","No","05","CREDITO 5 DIAS","20","CENTRO DE CARACAS","06","21","SUPERMERCADOS/AUTOMERCADO","01","OFF PREMISSE","01","OFF PREMISSE","20","20","02 - VICTOR TORRES - OFF","RECIBE DE LUNES A VIERNES DESPUES DE LAS 11:00AM"]
["J001001557","31 - RODRIGUEZ WLADIMIR","LA BASTILLE,C.A.","LA BASTILLE,C.A."," ","LA BASTILLE,C.A.","CALLE MADRID LAS MERCEDES FRENTE AL","RESTAURANT AMAZONIA GRILL-CARACAS"," ","0212-9923353","0212-991-51-19","labastille06@hotmail.com","CARACAS"," "," "," "," ","PEDRO BARRERA"," "," ","LA BASTILLE,C.A.","CALLE MADRID LAS MERCEDES FRENTE AL","RESTAURANT AMAZONIA GRILL-CARACAS"," "," "," "," ","CLIENTE PREPAGO"," ",null,"J-00100155-7","B-107-0-0018","89250","Sí","00","CONTADO","34","LAS MERCEDES","04","07","RESTAURANTES","02","ON PREMISSE","02","ON PREMISSE"," ","31"," ","CLIENTE PREPAGO  "]
["J001002910","09 - CLIENTE INHABILITADO","INVERSIONES LA TIENDECITA 42, C.A.","INVERSIONES LA TIENDECITA 42"," ","INVERSIONES LA TIENDECITA 42, C.A.","AVENIDA LA SALLE EDF. MERIDA PISO","PB LOCAL 1-A URB.LOS CAOBOS-CARACAS"," ","(0212) 781.85.12","(0424) 263.52.48"," ","CARACAS"," "," "," ","CAMBIO DE ZONA 20 A 09 150322 ST","JOSE MARIA AMARO"," "," ","INVERSIONES LA TIENDECITA 42","AVENIDA LA SALLE FRENTE AL HOTEL","ALTRANTIDA,  LOS CAOBOS - CARACAS"," "," ","(0212) 781-85-12"," ","RECIBE  LUNES A JUEVES"," 09:00 AM A 02:00 PM","JUEVES","J-00100291-0","05-MN-000280","15000","Sí","01","PREPAGO","09","CLIENTE INHABILITADO","06","21","SUPERMERCADOS/AUTOMERCADO","01","OFF PREMISSE","01","OFF PREMISSE","09","09","09 - CLIENTE INHABILITADO","RECIBE  LUNES A JUEVES  09:00 AM A 02:00 PM"]
["J001004092","34 - MARQUINA CARLOS","HOTEL BAR RESTAURANT LA TOJA C.A","HOTEL LA TOJA","301123 LL","HOTEL BAR RESTAURANT LA TOJA C.A","AV GOLF CON CALLE GLORIETA EL BOSQU","QUINTA LORETA MAY URB EL BOSQUE","CARACAS","(0414)331.08.83"," "," ","CARACAS"," "," "," "," ","JUAN CAPITA MARTI","JESUS VALCARCE","ERNESTO RIVERA","HOTEL BAR RESTAURANT LA TOJA C.A","AV GOLF CON CALLE GLORIETA EL BOSQU","QUINTA LORETA MAY URB EL BOSQUE","CARACAS"," ","(0414)331.08.83"," ","RECIBE DE LUNES A VIERNES","DE 9:00SM S 2:30PM","DE LUNES A VIERNES","J-00100409-2","TRAMITE","89250","No","05","CREDITO 5 DIAS","35","EL ROSAL-CHACAO","04","08","HOTELES/CASINOS/BINGOS","01","OFF PREMISSE","01","OFF PREMISSE","34","34","01 - GUERRERA SALVADOR","RECIBE DE LUNES A VIERNES DE 9:00SM S 2:30PM"]
["J001006168","09 - CLIENTE INHABILITADO","BAR RESTAURANT EL HATO,C.A.","BAR RESTAURANT EL HATO GRILL","793.06.20","BAR RESTAURANT EL HATO,C.A.","AVENIDA BOGOTA LOS CAOBOSCARACAS-DT","TO.CAPITAL"," ","0212 793 06 20","0212 793 02 63","elhatillogrill@hotmail.com","CARACAS"," "," ","CAMBIO V-31 vs V-335 200421","CAMBIO DE ZONA 31 A 09 200422 ST","OSCAR FERREIRA QUINT","ERO"," ","BAR RESTAURANT EL HATO,C.A.","AVENIDA BOGOTA LOS CAOBOSCARACAS-DT","TO.CAPITAL"," "," "," "," ","RECIBE  LUNES A VIERNES"," 8:00AM A 11:00AM","MARTES","J-00100616-8","C 2878","15000","No","05","CREDITO 5 DIAS","09","CLIENTE INHABILITADO","04","07","RESTAURANTES","02","ON PREMISSE","02","ON PREMISSE","09","09","09 - CLIENTE INHABILITADO","RECIBE  LUNES A VIERNES  8:00AM A 11:00AM"]
["J001007296","09 - CLIENTE INHABILITADO","MARISQ.CERVEC.REST. LA MORERIA, SRL","MARISQ.CERVEC.REST. LA MORERIA, SRL"," ","MARISQUERIA-CERVECERIA-RESTAURANT LA MORERIA, SRL","CALLE ELICE EDIF. ANARO PISO PB","LOCAL 7 URB. CHACAO."," ","0212-267.21.20"," "," ","CARACAS"," "," "," ","CAMBIO DE Z 31 A ZONA 09 200919 JA","SERRANO CANDIDO"," "," ","MARISQ.CERVEC.REST. LA MORERIA, SRL","CALLE ELICE EDIF. ANARO PISO PB","LOCAL 7 URB. CHACAO"," "," ","0212-267.21.20"," "," "," ",null,"J-00100729-6","70100000082","0","Sí","00","CONTADO","09","CLIENTE INHABILITADO","04","07","RESTAURANTES","02","ON PREMISSE","02","ON PREMISSE","09","09","09 - CLIENTE INHABILITADO","   "]
["J001008462","17 - TORRES CARLOS","GANADERIA INDUSTRIAL LOS ANDES, C.A","GANADERIA INDUSTRIAL LOS ANDES, C.A"," ","GANADERIA INDUSTRIAL LOS ANDES, C.A","CENTRO NUCLEO EL LAUREL, EDIFICIO","GILACA PISO PB OFC. GILACA URB.HOYO","DE LA PUERTA - BARUTA EDO. MIRANDA","(0212) 942-04-40"," ","COMPRAS@SUPERMERCADOLOSANDES.COM","BARUTA"," "," "," ","CAMBIO DE ZONA 15 A 17 RM 170823","JOSE LUIS FERNANDEZ"," "," ","GANADERIA INDUSTRIAL LOS ANDES, C.A","CENTRO NUCLEO EL LAUREL, EDIFICIO","GILACA PISO PB OFC. GILACA URB.HOYO","DE LA PUERTA - BARUTA EDO. MIRANDA"," ","(0212) 942-04-40"," ","RECIBE LUNES A VIERNES","DE 8 AM A 12 PM","LUNES","J-00100846-2","B-174-0-0026-MN","89250","No","05","CREDITO 5 DIAS","15","BARUTA","05","21","SUPERMERCADOS/AUTOMERCADO","01","OFF PREMISSE","01","OFF PREMISSE","17","17","01 - GUERRERO SALVADOR - OFF","RECIBE LUNES A VIERNES DE 8 AM A 12 PM"]
["J001017526","31 - RODRIGUEZ WLADIMIR","TEXAS CITY,C.A.","TEXAS CITY,C.A."," ","TEXAS CITY,C.A.","AVDA LOS SALIAS SAN ANTONIO DE LOS","ALTOSLOS TEQUES"," ","37237130/3720686"," "," ","LOS TEQUES"," "," "," "," ","AGUSTIN PITA"," "," ","TEXAS CITY,C.A.","AVDA LOS SALIAS SAN ANTONIO DE LOS","ALTOSLOS TEQUES"," "," "," "," "," "," ",null,"J-00101752-6"," ","89250","No","05","CREDITO 5 DIAS","25","LOS TEQUES","04","07","RESTAURANTES","02","ON PREMISSE","02","ON PREMISSE"," ","31"," ","   "]
["J001017569","502 - DRA. ALEXI Y. PINT0","DISTRIBUIDORA VALDEPEÑAS, S.R.L.","DISTRIBUIDORA VALDEPEÑAS, S.R.L."," ","DISTRIBUIDORA VALDEPEÑAS, S.R.L.","PARQUE CENTRAL EDF. CARAOTA NIVEL","LECUNA, LOCAL 2 C L 50 - CARACAS"," ","(0212) 576-32-18","CLIENTE PREPAGO"," ","CARACAS"," "," "," "," ","ANTONIO FERNANDES","DOS REIS"," ","DISTRIBUIDORA VALDEPEÑAS,S.R.L.","PARQUE CENTRAL EDF.CARAOTA NIVEL","LECUNA, LOCAL 2 C L 50 - CARACAS"," "," ","(0212) 576-32-18"," ","RECIBE DE LUNES A JUEVES","DE 9:00 AM A 2:00 PM","VIERNES","J-00101756-9","MN-0146","0","Sí","00","CONTADO","23","CENTRO-SAN MARTIN","01","01","DE LICORES CON FZA DE VTA","01","OFF PREMISSE","01","OFF PREMISSE"," ","502"," ","RECIBE DE LUNES A JUEVES DE 9:00 AM A 2:00 PM"]
["J001017747","25 - OCAMPO O. ROMAY","FUENTE DE SODA TRES EFES S.R.L.","FUENTE DE SODA TRES EFES S.R.L."," ","FUENTE DE SODA TRES EFES S.R.L.","AV.LA HOYADA,C.C LA HOYADA,NIVEL N-","2LOCAL 216-LOS TEQUES-EDO.MIRANDA"," ","(0212) 364.66.39","(0414) 315.28.47","arlindoferreira16a@hotmail.com","LOS TEQUES"," "," "," "," ","ARLINDO FERREIRA"," "," ","FUENTE DE SODA TRES EFES S.R.L.","AV.LA HOYADA,C.C LA HOYADA,NIVEL N-","2LOCAL 216-LOS TEQUES-EDO.MIRANDA"," "," ","(0212) 364-66-39"," ","RECIBE  LUNES A VIERNES"," 08:00 AM A 07:00 PM","MARTES","J-00101774-7","C-3787","89250","No","05","CREDITO 5 DIAS","25","LOS TEQUES","04","07","RESTAURANTES","02","ON PREMISSE","02","ON PREMISSE","25","25","02 - VICTOR TORRES - OFF","RECIBE  LUNES A VIERNES  08:00 AM A 07:00 PM"]
["J001019006","09 - CLIENTE INHABILITADO","ABASTOS CENDRILLON, C.A.","ABASTOS CENDRILLON","19/10/21","ABASTOS CENDRILLON, C.A.","AV PPAL, CALLE LIBERAL, QTA","CENDRILLON, NRO 19, URB EL PARAISO,","CARACAS, DISTRITO CAPITAL.","0424-2009514","NO POSEE","NO POSEE","CARACAS"," "," ","CAMBIO DE ZONA 09 A 24 191021 FL","CAMBIO DE ZONA 24 A 09 13/3/23 LL","MENESES NAVARRO JOSE","JONATAHN DE ANDRADE"," ","ABASTOS CENDRILLON","AV PPAL, CALLE LIBERAL, QTA","CENDRILLON, NRO 19, URB EL PARAISO,","CARACAS, DISTRITO CAPITAL."," ","0424-2009514"," ","RECIBE  LUNES A JUEVES"," 9:00AM A 3:00PM","JUEVES","J-00101900-5","22-MN-001396","15000","Sí","00","CONTADO","24","CARICUAO","06","23","ABASTOS PEQUEÑOS/BODEGAS","01","OFF PREMISSE","01","OFF PREMISSE","09","09","09 - CLIENTE INHABILITADO","RECIBE  LUNES A JUEVES  9:00AM A 3:00PM"]
["J001020993","31 - RODRIGUEZ WLADIMIR","POLLO EN BRASA CARONÍ, C.A","POLLO EN BRASA HERMANOS RIVERA","3618977","POLLO EN BRASA CARONÍ, C.A","AVENIDA PARIS CRUCE  CON CALLE CARO","NILAS MERCEDES-CARACAS-EDO.MIRANDA"," ","0412 - 333.40.76"," "," ","CARACAS"," "," "," "," ","DOS SANTOS AGUSTIN"," "," ","POLLO EN BRASA HERMANOS RIVERA","AVENIDA PARIS CRUCE  CON CALLE CARO","NILAS MERCEDES-CARACAS-EDO.MIRANDA"," "," ","0412.333.40.76"," "," "," ","MIERCOLES","J-00102099-3","B-107-0-0091","89250","No","05","CREDITO 5 DIAS","30","PARROQUIA EL RECREO","04","07","RESTAURANTES","02","ON PREMISSE","02","ON PREMISSE"," ","31"," ","   "]
["J001021701","31 - RODRIGUEZ WLADIMIR","RESTAURANT BAR DIAMANTE GRILL, S.R.","RESTAURANT BAR DIAMANTE GRILL, S.R."," ","RESTAURANT BAR DIAMANTE GRILL, S.R.L.","AVENIDA ORINOCO LAS MERCEDESCARACAS"," "," ","0212.993.52.58"," "," ","CARACAS"," "," "," "," ","PEDRO ZAMORA-ELIAS Z","AMORA"," ","RESTAURANT BAR DIAMANTE GRILL, S.R.","AVENIDA ORINOCO LAS MERCEDESCARACAS"," "," "," "," "," "," "," ",null,"J-00102170-1","C-5478","89250","No","05","CREDITO 5 DIAS","30","PARROQUIA EL RECREO","04","07","RESTAURANTES","02","ON PREMISSE","02","ON PREMISSE"," ","31"," ","   "]
["J001035532","09 - CLIENTE INHABILITADO","INTERLICORES EL ROSAL,S.R.L.","INTERLICORES EL ROSAL SRL"," ","INTERLICORES EL ROSAL SRL","CALLE GUAICAIPURO EL ROSAL AL LADO","DE EL AREPAZO- CARACAS"," ","9520437"," "," ","CARACAS"," "," "," "," ","EULOGIO RODRIGUEZ"," "," ","INTERLICORES EL ROSAL SRL","CALLE GUAICAIPURO EL ROSAL AL LADO","DE EL AREPAZO- CARACAS"," "," "," "," ","SOLO RECIBE MERC.DE 9:00","A 11:30 AM Y 2:00 A 5:00","LUNES","J-00103553-2","70100000062","15000","No","05","CREDITO 5 DIAS","15","BARUTA","01","01","DE LICORES CON FZA DE VTA","01","OFF PREMISSE","01","OFF PREMISSE"," ","09","09 - CLIENTE INHABILITADO","SOLO RECIBE MERC.DE 9:00 A 11:30 AM Y 2:00 A 5:00"]
["J001038426","31 - RODRIGUEZ WLADIMIR","INVERSIONES LOS TRIGAL,C.A","INVERSIONES LOS TRIGAL,C.A"," ","INVERSIONES LOS TRIGAL,C.A","PALMA A MUNICIPAL EDF.JOSE CECILIO","LOCAL 8,9 Y 10 SANTA TERESA"," ","4829372"," "," ","CARACAS"," "," "," "," ","JUAN FERNANDEZ"," "," ","CERVE.REST. EL TRIGAL","PALMA A MUNICIPAL EDF.JOSE CECILIO","DEL AVILA LOCAL 8,9 Y 10 SANTA TERE","SA"," ","4829372"," ","TRASP.AL 03 SUP.CARLOS DA","SILVA S/SOLIC.24-01-2011",null,"J-00103842-6","C 2151","89250","No","05","CREDITO 5 DIAS","03",null,"04","07","RESTAURANTES","02","ON PREMISSE","02","ON PREMISSE"," ","31"," ","TRASP.AL 03 SUP.CARLOS DA SILVA S/SOLIC.24-01-2011"]
["J001039422","02 - REQUENA JOHAN - OFF","LICORES ALPINA,S.R.L.","LICORES ALPINA,S.R.L."," ","LICORES ALPINA,S.R.L.","CARRETERA VIA AL EL JUNQUITO KM 23N","ULL"," "," "," "," ","JUNQUITO"," "," "," "," ","SERGIO RODRIGUEZ"," "," ","LICORES ALPINA,S.R.L.","CARRETERA VIA AL EL JUNQUITO KM 23N","ULL"," "," "," "," "," "," ",null,"J-00103942-2","M-Y 524","89250","No","05","CREDITO 5 DIAS","22","CATIA-JUNQUITO","05","18","LICORERIAS/BODEGONES","01","OFF PREMISSE","01","OFF PREMISSE"," ","02"," ","   "]
["J001056092","17 - TORRES CARLOS","LICORERIA LOS TRES AMIGOS CA","LICORERIA LOS TRES AMIGOS CA"," ","LICORERIA LOS TRES AMIGOS CA","CALLE RICAURTE Nº 32 BARUTABARUTA"," "," ","(0212) 945.09.15","(0414) 912.07.68","licoreriatresamigos@gmal.com","CARACAS"," ","DESBLOQ CUMPLIO 3PP 181016 LA/MY","BLOQ MAYOR 73 DIAS SEGUI 240222 MYZ","CAMBIO DE ZONA 15 A 17 RM 170823","AIRES DE JESUS"," "," ","LICORERIA LOS TRES AMIGOS CA","CALLE RICAURTE Nº 32 BARUTABARUTA"," "," "," "," "," ","RECIBE  LUNES A VIERNES"," 9:00 AM A 3:00 PM","LUNES","J-00105609-2","M-Y 5677","89250","Sí","05","CREDITO 5 DIAS","15","BARUTA","05","18","LICORERIAS/BODEGONES","01","OFF PREMISSE","01","OFF PREMISSE","17","17","01 - GUERRERO SALVADOR - OFF","RECIBE  LUNES A VIERNES  9:00 AM A 3:00 PM"]
["J001066543","31 - RODRIGUEZ WLADIMIR","COMERCIAL GIRAZONA,C.A.","COMERCIAL GIRAZONA,C.A."," ","COMERCIAL GIRAZONA,C.A.","AVENIDA OESTE 12 EDIF AURASANTA TER","ESA"," "," "," "," ","CARACAS"," "," "," "," ","JOSE ANTONIO TEIXEIR","A"," ","COMERCIAL GIRAZONA,C.A.","AVENIDA OESTE 12 EDIF AURASANTA TER","ESA"," "," "," "," ","TRASP. ZONA 03 SUP.CARLOS","DA SILVA S/SOLIC.08/02/11",null,"J-00106654-3","C 3179","89250","No","05","CREDITO 5 DIAS","33","CENTRO-CANDELARIA","05","21","SUPERMERCADOS/AUTOMERCADO","01","OFF PREMISSE","01","OFF PREMISSE"," ","31"," ",{"$f":"CONCATENATE(AB386,\" \",AC386)","v":"TRASP. ZONA 03 SUP.CARLOS DA SILVA S/SOLIC.08/02/11"}]
["J001083065","23 - HERNANDEZ JOSÉ D.","COMERCIAL JOPE,S.R.L.","COMERCIAL JOPE,S.R.L."," ","COMERCIAL JOPE,S.R.L.","CARRETERA  EL JUNQUITO KM 8CARACAS"," "," ","(0212) 422.10.73","(0412) 909.75.92","jrfernades1975@hotmail.com","JUNQUITO"," "," "," "," ","JOSE FERNANDEZ"," "," ","COMERCIAL JOPE,S.R.L.","CARRETERA  EL JUNQUITO KM 8CARACAS"," "," "," ","(0212) 422-10-73","(0212) 422-10-73","RECIBE  LUNES A VIERNES"," 8 A 12 PM -  3 A 5 PM","LUNES","J-00108306-5","18MN-1770","89250","No","05","CREDITO 5 DIAS","22","CATIA-JUNQUITO","06","21","SUPERMERCADOS/AUTOMERCADO","01","OFF PREMISSE","01","OFF PREMISSE","23","23","02 - VICTOR TORRES - OFF","RECIBE  LUNES A VIERNES  8 A 12 PM -  3 A 5 PM"]
["J001102469","24 - REYES OSWALDO","TAVARES & TAVARES, C.A.","TAVARES & TAVARES, C.A."," ","TAVARES & TAVARES, C.A.","SUR 13,CALLAO A RONDON Nª 51 SAN","AGUSTIN DEL NORTE- CARACAS"," ","0212 577 37 93","0424 171 08 95","alejandro.modrigal1@gamil.com","CARACAS"," "," ","DESBLOQ 02112021 MYZ","CAMBIO DE ZONA V28 A V24 140223 ST","FERNANDO TAVARES FER","REIRA"," ","TAVARES & TAVARES, C.A","SUR 13,CALLAO A RONDON Nª 51 SAN","AGUSTIN DEL NORTE- CARACAS"," "," "," "," ","RECIBE  MARTES A VIERNES"," 11:00AM A 7:00PM","JUEVES","J-00110246-9","MN-0337","89250","No","05","CREDITO 5 DIAS","23","CENTRO-SAN MARTIN","06","06","BAR/TABER./S. BAR/PUB/TAS","01","OFF PREMISSE","01","OFF PREMISSE","24","24","02 - VICTOR TORRES - OFF","RECIBE  MARTES A VIERNES  11:00AM A 7:00PM"]
["J001105263","32 - HERNANDEZ EDGAR","INVERSIONES LAS PALAS,C.A.","BAR  REST.LA VIÑATERIA."," ","INV.LAS PALAS,C.A.(LA VIÑATERIA HOTEL R)","AVENIDA BARALT SUR 4 PILITA A GLORI","ETANº 85-87 SANTA TERESA- CARACAS"," ","(0212) 484.68.15","(0412) 990.40.72","hotelpalas@hotmail.com","CARACAS"," ","BLOQ SEG PAGO TRANSF 081018 WP","CAMBIO V-31 vs V-335 200421","CAMBIO V-31 A LA V-32 220223 PH","CARLOS PEREIRA"," "," ","BAR  REST.LA VIÑATERIA.","AVENIDA BARALT SUR 4 PILITA A GLORI","ETANº 85-87 SANTA TERESA- CARACAS"," "," "," "," ","RECIBE  LUNES A VIERNES"," 8 a 11:30  AM - 1 PM A 5","LUNES","J-00110526-3"," ","89250","Sí","05","CREDITO 5 DIAS","33","CENTRO-CANDELARIA","04","08","HOTELES/CASINOS/BINGOS","02","ON PREMISSE","02","ON PREMISSE","32","32","01 - CARLOS DA SILVA - ON","RECIBE  LUNES A VIERNES  8 a 11:30  AM - 1 PM A 5"]
["J001106499","20 - DIEGO MANUEL","LICORERIA LOS SOCIOS, S.R.L.","LICORERIA LOS SOCIOS, S.R.L."," ","LICORERIA LOS SOCIOS, S.R.L.","AVDA. FRANCISCO SOLANO ENTRE LOS","MANGOS Y LAS DELICIAS SABANA GRANDE","CARACAS","0212 762 59 30","NO POSEE","mailendiaz@hotmail.com","CARACAS"," "," "," ","BLOQ MAYOR 44 DIAS SEGUIM 1403 PH","ARMANDO DIAZ"," "," ","LICORERIA LOS SOCIOS, S.R.L.","AVDA. FRANCISCO SOLANO ENTRE LOS","MANGOS Y LAS DELICIAS SABANA GRANDE","CARACAS"," ","(0212) 762-59-30"," ","RECIBE  LUNES A JUEVES"," 11:00AM A 3:00PM","LUNES Y MIERCOLES","J-00110649-9","MN-3474","89250","Sí","05","CREDITO 5 DIAS","20","CENTRO DE CARACAS","06","18","LICORERIAS/BODEGONES","01","OFF PREMISSE","01","OFF PREMISSE","20","20","02 - VICTOR TORRES - OFF","RECIBE  LUNES A JUEVES  11:00AM A 3:00PM"]
["J001108246","36  CLIENT-CORPORAT-OFIC.","CLUB EJECUTIVO SOC STA PAULA","CLUB EJECUTIVO SOC STA PAULA"," ","CLUB EJECUTIVO SOC STA PAULA","AV. CIRCUNVALACION EL SOL URB SANTA"," PAULACALLE TAURO LUB SANTA PAULA"," "," "," "," ","CARACAS"," "," ","BLOQ MAYOR 44 DIAS SEGUIM 1403 PH","CAMBIO DE ZONA 31 A 36 200422 ST","JOSE LUIS OVALLES"," "," ","CLUB EJECUTIVO SOC STA PAULA","AV. CIRCUNVALACION EL SOL URB SANTA"," PAULACALLE TAURO LUB SANTA PAULA"," "," "," "," "," "," ",null,"J-00110824-6","C-5884","89250","Sí","05","CREDITO 5 DIAS","36","VTAS.CORPORATIVAS","04","10","CLUB SOCIALES","02","ON PREMISSE","02","ON PREMISSE","36","36","36 - CLIENTE CORPORATIVO","   "]
["J001108254","15 - GUTIERREZ WALTER","J.A DOS REIS ABASTOS PARVEN, C.A","ABASTOS PAR VEN C.A"," ","J.A DOS REIS ABASTOS PAR VEN C.A","AV.ESTADIUM CON CALLE LOS ABOGADOS,","EDIF. SAN ANTONIO PB, LOS CHAGUARA","MOS-LIBERTADOR","(0212) 661.77.48","(0414) 311.25.29"," ","CARACAS"," "," "," "," ","JUAN GONCALVES"," "," ","ABASTOS PAR VEN C.A","AV.ESTADIUM CON CALLE LOS ABOGADOS,","LOSCHAGUARAMOS,EDIF.SAN ANTONIO,PB.","MNPIO- LIBERTADOR"," ","(0212) 661-77-48"," ","RECIBE  LUNES A JUEVES"," 8:00 AM A 12:00 PM","MIERCOLES","J-00110825-4","M-N-0033","89250","No","05","CREDITO 5 DIAS","16","GUATIRE","05","21","SUPERMERCADOS/AUTOMERCADO","01","OFF PREMISSE","01","OFF PREMISSE","15","15","01 - CARLOS DA SILVA - OFF","RECIBE  LUNES A JUEVES  8:00 AM A 12:00 PM"]
["J001111174","09 - CLIENTE INHABILITADO","PIZZERIA FORTIN ALTO SRL","PIZZERIA FORTIN ALTO SRL"," ","PIZZERIA FORTIN ALTO SRL","AV FRANCISCO SOLANO Y CALLE","LA IGLESIA EDF SANTA CECILIA PISO","PB LOCAL A URB SABANA GRANDE","0212-763-18-97"," "," ","CARACAS"," "," "," ","CAMBIO DE ZONA 31 A 09 230919 JA","DOMINGO FERREIRA","DE SOUSA"," ","PIZZERIA FORTIN ALTO SRL","AV FRANCISCO SOLANO Y CALLE","LA IGLESIA EDF SANTA CECILIA PISO","PB LOCAL A URB SABANA GRANDE"," ","0212-763.18-97"," ","RECIBE LUNES A VIERNES","DE 08:00AM A 12:00PM","MARTES","J-00111117-4","5-C-0112","15000","Sí","00","CONTADO","30","PARROQUIA EL RECREO","04","07","RESTAURANTES","02","ON PREMISSE","02","ON PREMISSE","09","09","09 - CLIENTE INHABILITADO","RECIBE LUNES A VIERNES DE 08:00AM A 12:00PM"]
["J001113843","09 - CLIENTE INHABILITADO","RESIDENCIAS CARIBE, C.A.","TASCA CARIBE"," ","RESIDENCIAS CARIBE, C.A.","AVENIDA LOS CEDROS N 0904 ENTRE AV.","LOS SAMANES Y JABILLOS, EDF. CARIBE","PISO PB LOCAL PB URB. LA FLORIDA","(0212) 730.05.76","(0414) 328.44.55"," ","CARACAS"," "," "," ","REEST-V-31 AL V-09 20092019 MYZ","JEAN B. FRATACCI"," "," ","RESIDENCIAS CARIBE, C.A.","AVENIDA LOS CEDROS N 0904 ENTRE AV.","LOS SAMANES Y JABILLOS, EDF. CARIBE","PISO PB LOCAL PB URB. LA FLORIDA"," ","(0212) 731-12-79"," ","RECIBE  LUNES A VIERNES"," 8:00 AM A 11:30 AM",null,"J-00111384-3","EN TRAMITES","15000","Sí","00","CONTADO","31","LA CASTELLANA","04","07","RESTAURANTES","02","ON PREMISSE","02","ON PREMISSE","09","09","09 - CLIENTE INHABILITADO","RECIBE  LUNES A VIERNES  8:00 AM A 11:30 AM"]
["J001114637","09 - CLIENTE INHABILITADO","FRUTERIA LA GONZALERA, C.A.","FRUTERIA LA GONZALERA, C.A."," ","FRUTERIA LA GONZALERA, C.A.","CRTA. VIA SAN DIEGO C.C LA GONAZALE","RA. NIVEL P.B LOCAL 3","URB. LOS CASTORES. LOS SALIAS","(0212) 371.43.55"," "," ","SAN ANTONIO","SAN ANTONIO DE LOS ALTOS","DESBLQ PAGO X TRANSF AUT HD 020817","CAMBIO V226 SUP02 201117 MYZ","CAMBIO A LA ZONA 09 19-09-19 YM","OSCAR A. RAMIREZ R."," "," ","FRUTERIA LA GONZALERA, C.A.","CRTA. VIA SAN DIEGO C.C LA GONAZALE","RA. NIVEL P.B LOCAL 3","URB. LOS CASTORES. LOS SALIAS","SAN ANTONIO DE LOS ALTOS","(0212) 371.43.55"," ","RECIBE DE LUNES A VIERNES","DE 8:00 AM A 4:00 PM","MIERCOLES","J-00111463-7","032-MN-00018","0","Sí","00","CONTADO","09","CLIENTE INHABILITADO","06","23","ABASTOS PEQUEÑOS/BODEGAS","01","OFF PREMISSE","01","OFF PREMISSE","09","09","09 - CLIENTE INHABILITADO","RECIBE DE LUNES A VIERNES DE 8:00 AM A 4:00 PM"]
["J001126376","32 - HERNANDEZ EDGAR","BAR RESTAURANT GIRA MUNDOS, S.R.L.","BAR RESTAURANT GIRA MUNDOS"," ","BAR RESTAURANT GIRA MUNDOS, S.R.L.","AV. ESTE ESQ. DE ROMUALDA A MANDUCA","EDF. Nº. 105 P.B. LA CANDELARIA","CARACAS","(0414) 306-69-97","0212.574.41.89"," ","CARACAS","CAMBIO V-31 vs V-335 200421","CAMBIO DE ZONA 31 A 09 130921 ST","CAMBIO DE ZONA 09 A 31 20/12/22 LL","CAMBIO DE ZONA 31 A 32 20/12/22 PH","MARIA GORETE NUNES"," "," ","BAR RESTAURANT GIRA MUNDOS, S.R.L.","AV. ESTE ESQ. DE ROMUALDA A MANDUCA","CAL 1O5 DIAGONAL AL REST RIO","EDF. Nº. 105 P.B. LA CANDELARIA","CARACAS","(0414) 306-69-97"," ","RECIBE A PARTIR DE LAS","4:00 HASTA LA 5:00 PM","MIERCOLES Y JUEVES","J-00112637-6","3-C-0277","89250","No","05","CREDITO 5 DIAS","31","LA CASTELLANA","04","09","DISCOTECAS Y NIGHT CLUBS","02","ON PREMISSE","02","ON PREMISSE","32","32","01 - GUERRERO SALVADOR - ON","RECIBE A PARTIR DE LAS 4:00 HASTA LA 5:00 PM"]
["J001128000","31 - RODRIGUEZ WLADIMIR","HOSTERIA DEL PARQUE,C.A.","HOSTERIA DEL PARQUE,C.A."," ","HOSTERIA DEL PARQUE,C.A.","NIVEL BOLIVAR,EDF.SAN MARTIN,AL LAD","ODEL ANAUCO HILTON,PARQUE CENTRAL"," ","0212.571.09.42"," "," ","CARACAS"," "," "," "," ","CORREIRA ALBERTO MAN","UEL"," ","HOSTERIA DEL PARQUE,C.A.","NIVEL BOLIVAR,EDF.SAN MARTIN,AL LAD","ODEL ANAUCO HILTON,PARQUE CENTRAL"," "," "," "," "," "," ",null,"J-00112800-0","C-2295","89250","No","05","CREDITO 5 DIAS","33","CENTRO-CANDELARIA","04","07","RESTAURANTES","02","ON PREMISSE","02","ON PREMISSE"," ","31"," ","   "]
["J001133232","02 - REQUENA JOHAN - OFF","FRUTERIA LA LINEA, S.R.L","FRUTERIA LA LINEA, S.R.L"," ","FRUTERIA LA LINEA, S.R.L","AV. LIBERTADOR-ENTRE AV.LOS JABILLO","S YSAN GERONIMO- SABANA GRANDE-CARA","CAS-DTTO.CAPITAL","7626328"," "," ","CARACAS"," "," "," "," ","GONCALVES DE ABREU","JOSE"," ","FRUTERIA LA LINEA, S.R.L","AV. LIBERTADOR-ENTRE AV.LOS JABILLO","S YSAN GERONIMO- SABANA GRANDE-CARA","CAS-DTTO.CAPITAL"," "," "," "," "," ",null,"J-00113323-2","M-N 7309","89250","No","05","CREDITO 5 DIAS","20","CENTRO DE CARACAS","05","23","ABASTOS PEQUEÑOS/BODEGAS","01","OFF PREMISSE","01","OFF PREMISSE"," ","02"," ","   "]
["J001140310","09 - CLIENTE INHABILITADO","LICORERIA MOLEC S R L","LICORERIA MOLEC S R L"," ","LICORERIA MOLEC S R L","AV PPAL PALO VERDE EDIFICIO GUARICO"," LO-CAL N 2 PETARE"," ","2923327"," "," ","CARACAS"," "," "," "," ","MARIA LIDIA DE SOUSA"," BRAZAO"," ","LICORERIA MOLEC S R L","AV PPAL PALO VERDE EDIFICIO GUARICO"," LO-CAL N 2 PETARE"," "," "," "," "," "," ",null,"J-00114031-0","M-Y 5379","15000","No","05","CREDITO 5 DIAS","13","PETARE","05","18","LICORERIAS/BODEGONES","01","OFF PREMISSE","01","OFF PREMISSE"," ","09","09 - CLIENTE INHABILITADO","   "]
["J001148795","35 - PEREZ JOSMAN","INVERSORA CARABALI, S.A","REST LOS CANTAROS"," ","INVERSORA CARABALI, S.A","CALLE GARCILAZO ENTRE CALLE","BEETHOVEN Y CHAMA EDIF CARBALLINO","PB LOCAL A URB COLINAS DE BELLO","(0212) 751.23.47"," "," ","CARACAS","MONTE."," ","CAMB DE LA 35 A LA 32 130319 WP","CAMBIO V-32 AL V-35 17/09/19","JOSE MANUEL ABREU","CI. V13.286.499"," ","INVERSORA CARABALI, S.A","CALLE GARCILAZO ENTRE CALLE","BEETHOVEN Y CHAMA EDIF CARBALLINO","PISO PB LOCAL A URB COLINAS DE","BELLO MONTE","0212-751.32.42"," ","RECIBE  LUNES A VIERNES"," 08:30 AM A 11:00 AM","JUEVES","J-00114879-5","TRAMITE","89250","No","05","CREDITO 5 DIAS","30","PARROQUIA EL RECREO","04","06","BAR/TABER./S. BAR/PUB/TAS","02","ON PREMISSE","02","ON PREMISSE","35","35","02 - VICTOR TORRES - ON","RECIBE  LUNES A VIERNES  08:30 AM A 11:00 AM"]
["J001154698","17 - TORRES CARLOS","LICORERIA LAS SIETE ESTRELLAS SRL","LICORERIA LAS SIETE ESTRELLAS SRL"," ","LICORERIA LAS SIETE ESTRELLAS SRL","CALLE LA PEDRERA MINAS DE BARUTAEDI","F.LA TORRE Nº 300 -BARUTA-EDO.MIRAN","DA","(0212) 945.69.46"," "," ","CARACAS"," "," ","CAMBIO DE ZONA 13 A 09 16/5/23 YR","CAMBIO ZONA 09 A 17 17/08/23 LI","ANTONIO DE ABREU"," "," ","LICORERIA LAS SIETE ESTRELLAS SRL","CALLE LA PEDRERA MINAS DE BARUTAEDI","F.LA TORRE Nº 300 -BARUTA-EDO.MIRAN","DA"," "," "," ","RECIBE  LUNES A VIERNES"," 09:00 AM A 11:00 AM","JUEVES","J-00115469-8","M-N 3961","89250","No","05","CREDITO 5 DIAS","15","BARUTA","05","18","LICORERIAS/BODEGONES","01","OFF PREMISSE","01","OFF PREMISSE","17","17","01 - GUERRERO SALVADOR - ON","RECIBE  LUNES A VIERNES  09:00 AM A 11:00 AM"]
["J001156275","31 - RODRIGUEZ WLADIMIR","BAR REST. LOS CERRITOS C.R.L.","REST.TASCA LOS CERRITOS."," ","REST.TASCA LOS CERRITOS.","CARRETERA PANAMERICANA LOS CERRITOS"," ENTREKM 22 Y 23 LOS TEQUES"," "," "," "," ","LOS TEQUES."," "," "," "," ","SILVA JOSE"," "," ","REST.TASCA LOS CERRITOS.","CARRETERA PANAMERICANA LOS CERRITOS"," ENTREKM 22 Y 23 LOS TEQUES"," "," "," "," "," "," ",null,"J-00115627-5","C 4888","89250","No","05","CREDITO 5 DIAS","25","LOS TEQUES","04","06","BAR/TABER./S. BAR/PUB/TAS","02","ON PREMISSE","02","ON PREMISSE"," ","31"," ","   "]
["J001162593","09 - CLIENTE INHABILITADO","HOTEL REST.LA POSADA DEL HIDALGO,C.","HOTEL REST.LA POSADA DEL HIDALGO,C."," ","HOTEL REST.LA POSADA DEL HIDALGO,C.","AVENIDA LA PLAYA URB EL ALAMO","MACUTO"," ","(0212) 414.84.60"," "," ","LA GUAIRA"," ","BAJA FRECUENCIA DE COMPRA 12/03/14","ACTIVADO EL 050814 AUT.GCIA VENTAS","CAMBIO DE ZONA 14 A 01 14/02/19 BB","ABEL BLANCO PARDO"," "," ","HOTEL REST. POSADA DEL HIDALGO, CA","AV. LA PLAYA URBANIZACION EL ALAMO.","MACUTO. EDO. VARGAS."," "," ","414.84.60"," ","RECIBE  LUNES A VIERNES","10:00 AM A 06:00 PM","JUEVES","J-00116259-3","C215","15000","Sí","00","CONTADO","14","LITORAL CENTRAL","04","08","HOTELES/CASINOS/BINGOS","02","ON PREMISSE","02","ON PREMISSE","09","09","09 - CLIENTE INHABILITADO","RECIBE  LUNES A VIERNES 10:00 AM A 06:00 PM"]
["J001164928","09 - CLIENTE INHABILITADO","CREACIONES FILOMAR C A","FILO MAR"," ","CREACIONES FILOMAR C A","AV LAS PALMAS. EDIF FILOMAR PISO 1","LOCAL 1. URB BOLEITA SUR"," ","0212 - 2323989"," "," ","CARACAS"," "," "," ","CAMBIO Z - 31 A Z - 09 200919 GA.","MATTEA CIUFFREDA","EMILIO GIACOBBE R"," ","CREACIONES FILOMAR C A","AV LAS PALMAS. EDIF FILOMAR. PISO 1","LOCAL 1. URB BOLEITA SUR"," "," ","0212 - 2323989"," ","CLIENTE CANCELA EL MISMO","DIA DE RECEP DE LA FACT",null,"J-00116492-8","PARTICULAR","15000","Sí","00","CONTADO","31","LA CASTELLANA","04","29","INDUSTRIAL","02","ON PREMISSE","02","ON PREMISSE","09","09","09 - CLIENTE INHABILITADO","CLIENTE CANCELA EL MISMO DIA DE RECEP DE LA FACT"]
["J001166386","09 - CLIENTE INHABILITADO","EL TRANVIA DEL PARAISO S.R.L.","REST.DISC.EL TRANVIA DEL PARAISO  *"," ","REST.DISC.EL TRANVIA DEL PARAISO  *","AVDA PAEZ , ESQ SEIBER QTA. ALEGRIA","EL PARAISO PQUIA. LA VEGA"," "," "," "," ","CARACAS"," "," "," ","CAMBIO Z - 31 A Z - 09 200919 GA","ANTONIO RODRIGUEZ BO","NITO/DOMINGO AIRES"," ","REST.DISC.EL TRANVIA DEL PARAISO  *","AVDA PAEZ , ESQ SEIBER QTA. ALEGRIA","EL PARAISO PQUIA. LA VEGA"," "," "," "," "," "," ",null,"J-00116638-6","C 2954","15000","Sí","00","CONTADO","32","SUCRE - BARUTA","04","07","RESTAURANTES","02","ON PREMISSE","02","ON PREMISSE","09","09","09 - CLIENTE INHABILITADO","   "]
["J001167536","09 - CLIENTE INHABILITADO","CENTRO CULTURAL CANDELARIA, C.A.","CERV CTRO CULT CANDELARIA CA","08-02-17","CERVECERIA CENTRO CULTURAL CANDELARIA CA","ESQUINA ALCABALA # 206 LA CANDELARI","A FRENTE A LAPLAZA."," ","(0212) 578.08.02"," "," ","CARACAS"," "," ","CAMBIO V-33VSUP-03 MEMO 101017 MYZ","CAMBIO A LA ZONA 09 23-09-19 YM","JOSE MANUEL NIMO","WILFREDO RODRIGUEZ"," ","CERV CTRO CULT CANDELARIA CA","ESQ ALCABALA A CRUZ DE CADELARIA","CASA NRO #206 URB LA CANDELARIA","CARACAS"," ","(0212) 578.08.02"," ","RECIBE DE LUNES A VIERNES","DE 08:00AM A 5:00PM","JUEVES","J-00116753-6","03-C-001079","0","Sí","00","CONTADO","09","CLIENTE INHABILITADO","04","07","RESTAURANTES","02","ON PREMISSE","02","ON PREMISSE","09","09","09 - CLIENTE INHABILITADO","RECIBE DE LUNES A VIERNES DE 08:00AM A 5:00PM"]
["J001175636","09 - CLIENTE INHABILITADO","SUPERMER. LICORES ECONOMICO S.R.L.","SUPERMER. LICORES ECONOMICO S.R.L."," ","SUPERMERCADO LICORES ECONOMICO S.R.L.","AV. CASANOVA, ESQ.CALLE BALDO EDF.","KONTY KY-P.B. BELLO MONTE, CARACAS"," "," "," "," ","CARACAS"," "," ","CLI, CERRADO Z-20 A Z-02 17092018AV","CAMBIO A LA ZONA 09 20-09-19 YM","JOSE PINTO"," "," ","SUPERMER. LICORES ECONOMICO S.R.L.","AV. CASANOVA, ESQ.CALLE BALDO EDF.","KONTY KY-P.B. BELLO MONTE, CARACAS"," "," "," "," ","RECIBE DE LUNES A JUEVES","A PARTIR DE LAS 11 AM","MIERCOLES","J-00117563-6","5-MN-1236","0","Sí","00","CONTADO","09","CLIENTE INHABILITADO","06","21","SUPERMERCADOS/AUTOMERCADO","01","OFF PREMISSE","01","OFF PREMISSE","09","09","09 - CLIENTE INHABILITADO","RECIBE DE LUNES A JUEVES A PARTIR DE LAS 11 AM"]
["J001183639","09 - CLIENTE INHABILITADO","BENATI, C.A","HOTEL GRANO GALAXIE"," ","BENATI, C.A","AV OESTE 7 TRUCO A CAJA DE AGUA","EDIF. HOTEL GALAXIE. PISO 2. URB","ALTAGRACIA","(0212) 864.90.11","(0414) 244.51.42","hotelgrandgalaxie@hotmail.com","CARACAS"," "," ","CAMBIO DE ZONA 33 A 03 AL 18/09/18","CAMBIO A LA ZONA 09 23-09-19 YM","FERNANDEZ F. JOSE N"," "," ","BENATI, C.A","AV OESTE 7 TRUCO A CAJA DE AGUA","EDIF HOTEL GALAXIE. PISO 2 URB","ALTAGRACIA"," ","0212 - 864.90.11"," ","RECIBE  LUNES A VIERNES"," 8:00 AM A 05:00 PM","LUNES","J-00118363-9","C02902","0","Sí","00","CONTADO","09","CLIENTE INHABILITADO","04","08","HOTELES/CASINOS/BINGOS","02","ON PREMISSE","02","ON PREMISSE","09","09","09 - CLIENTE INHABILITADO","RECIBE  LUNES A VIERNES  8:00 AM A 05:00 PM"]
["J001189122","31 - RODRIGUEZ WLADIMIR","FUENTE DE SODA ACUERELA C.A.","FUENTE DE SODA ACUERELA C.A."," ","FUENTE DE SODA ACUERELA, C.A.","AV. PRINCIPAL DE SAN LUIS CALLE","COMERCIO C.C. SAN LUIS NIVEL PB","LOCAL F. URB SAN LUIS","0212-986-92-54"," "," ","CARACAS"," "," "," "," ","VIRGILIO FERNANDES"," "," ","FUENTE DE SODA ACUERELA C.A.","AV. PRINCIPAL DE SAN LUIS CALLE","COMERCIO C.C. SAN LUIS NIVEL PB","LOCAL F. URB SAN LUIS"," ","0212-986-92-54"," ","RECIB.MIERCOLES A VIERNES","DE 12:00AM A 05:00PM",null,"J-00118912-2","B-138-0-0136","89250","No","05","CREDITO 5 DIAS","30","PARROQUIA EL RECREO","04","06","BAR/TABER./S. BAR/PUB/TAS","02","ON PREMISSE","02","ON PREMISSE"," ","31"," ","RECIB.MIERCOLES A VIERNES DE 12:00AM A 05:00PM"]
["J001191909","09 - CLIENTE INHABILITADO","BAR RESTAURANT COROMOTO C A","BAR RESTAURANT COROMOTO C A","4143894489","BAR RESTAURANT COROMOTO C A","CALLE COROMOTO. EDIF. COROMOTO.","PISO. PB. LOCQL B Y C. URB. SABANA"," GRANDE CARACAS DTTO. CAPITAL","(0212) 763.17.95","(0424) 114.48.44"," ","CARACAS"," "," ","CAMBIO DE ZONA 330 A 03 AL 18/09/18","CAMBIO A LA ZONA 09 23-09-19 YM","JESUS GARCIA"," "," ","BAR RESTAURANT COROMOTO C A","CALLE COROMOTO. EDIF COROMOTO.","PISO. PB. LOCAL B Y C. URB. SABANA","GRANDE"," ","0212.9513400"," ","RECIBE  LUNES A MIERCOLES"," 09:00 AM A 11:00 AM","MIERCOLES","J-00119190-9","05-C-000196","0","Sí","00","CONTADO","09","CLIENTE INHABILITADO","04","06","BAR/TABER./S. BAR/PUB/TAS","02","ON PREMISSE","02","ON PREMISSE","09","09","09 - CLIENTE INHABILITADO","RECIBE  LUNES A MIERCOLES  09:00 AM A 11:00 AM"]
["J001195360","24 - REYES OSWALDO","ABASTOS Y CARNICERIA MONTEXY S R L","ABASTOS Y CARNICERIA MONTEXY S R L"," ","ABASTOS Y CARNICERIA MONTEXY S R L","CALLE LOS BAEZ PASANDO POR EL FRENT","ELAS ADJUNTAS"," ","4337453"," "," ","CARACAS"," "," "," "," ","JOSE HERNANDEZ"," "," ","ABASTOS Y CARNICERIA MONTEXY S R L","CALLE LOS BAEZ PASANDO POR EL FRENT","ELAS ADJUNTAS"," "," "," "," ","RECIBE DE LUNES A JUEVES","DE 9:00AM A 12:00M","JUEVES","J-00119536-0","M-N 65","89250","No","05","CREDITO 5 DIAS","24","CARICUAO","06","22","ABASTOS GRANDES","01","OFF PREMISSE","01","OFF PREMISSE","24","24","02 - VICTOR TORRES - OFF","RECIBE DE LUNES A JUEVES DE 9:00AM A 12:00M"]
["J001199055","09 - CLIENTE INHABILITADO","AUTOMERCADO OAXACA, C.A.","AUTOMERCADO OAXACA, C.A."," ","AUTOMERCADO OAXACA, C.A.","C/COMERCIAL CORRALITO P.B. FTE. ALC","ABALACARRIZAL LOS TEQUES"," "," "," "," ","LOS TEQUES"," "," ","CENTRALIZADO FRES.MARKET 10/03/2014","CAMBIO A ZONA 09 19-09-19 YM","FRANCISCO GONCALVEZ"," "," ","AUTOMERCADO OAXACA, C.A.","C/COMERCIAL CORRALITO P.B. FTE. ALC","ABALACARRIZAL LOS TEQUES"," "," "," "," ","NO RECIBE LOS VIERNES"," ",null,"J-00119905-5","M-N 84","0","Sí","00","CONTADO","09","CLIENTE INHABILITADO","06","03","HIPERMERCADOS","01","OFF PREMISSE","01","OFF PREMISSE","09","09","09 - CLIENTE INHABILITADO","NO RECIBE LOS VIERNES  "]
["J001200320","14 - GIL EXIO JOSE","POSADA BAR RESTAURANT EL VELERO C.A","POSADA BAR RESTAURANT EL VELERO C.A"," ","POSADA BAR RESTAURANT EL VELERO C.A","AV PRINCIPAL DEL CARIBE EDIF","HERMANOS ABREU PISO B PISO PB","LOCAL 1 URB BOULEVARD NAIGUATA","0212 3375057","19/12/18"," ","VARGAS","CARABALLEDA VARGAS ZONA POSTAL 1165"," "," ","RESTRUCT. EDV 14 AL 16 MYZ 25-11-22","DE SAOUSA ANDRADE","JOSE DAMIAO"," ","POSADA BAR RESTAURANT EL VELERO C.A","AV. PPAL DEL CARIBE, EDIF HERMANOS","ABREU, PISO B PISO PB LOCAL 1","URB BOULEVARD NAIGUATA CARABALLEDA"," ","02123375057"," ","DESPACHO LUNES A VIERNES","9AM A 5PM","DE LUNES A VIERNES","J-00120032-0","031-C-51","89250","No","05","CREDITO 5 DIAS","14","LITORAL CENTRAL","05","06","BAR/TABER./S. BAR/PUB/TAS","02","ON PREMISSE","02","ON PREMISSE","14","14","01 - CARLOS DA SILVA - OFF","DESPACHO LUNES A VIERNES 9AM A 5PM"]
["J001200886","33 - TORRES CARLOS","BAR RESTAURANT LA CACEROLA C.A.","BAR RESTAURANT LA CACEROLA C.A."," ","BAR RESTAURANT LA CACEROLA C.A.","CALLE SUR 7, CENTRO COMERCIAL","EL PLACER,NIVEL PLANTA BAJA LOCAL 8","URB. EL PLACER MUNICIPIO BARUTA","(0414) 293-63-59"," "," ","CARACAS","CAMBIO DE ZONA 32 A 003 EL 17/09/18","CAMBIO A LA ZONA 09 23-09-19 YM","CAMBIO A LA ZONA 09 23-09-19 YM","CAMBIO V-09 A V-33 050923 RM","MIRIAM","MARIA DE LOS ANGELES"," ","BAR RESTAURANT LA CACEROLA C.A.","CALLE SUR 7 CENTRO COMERCIAL","EL PLACER NIVEL PLANTA BAJA LOCAL 8","URB EL PLACER MUNICIPIO BARUTA"," ","(0414) 293-63-59"," ","MIERCOLES A VIERNES","8am  A12m / 2pm A 5pm","JUEVES","J-00120088-6","B-127-2-0166-CVC","89250","Sí","00","CONTADO","33","CENTRO-CANDELARIA","04","06","BAR/TABER./S. BAR/PUB/TAS","02","ON PREMISSE","02","ON PREMISSE","33","33","01 - GUERRERO SALVADOR - OFF","MIERCOLES A VIERNES 8am  A12m / 2pm A 5pm"]
["J001202790","502 - DRA. ALEXI Y. PINT0","MORAMAR,S.R.L.","FUENTE DE SODA MORAMAR"," ","MORAMAR,S.R.L.","AV.B.LOS RUICES DETRAS DE LA HARINA"," PAN CARACAS"," ","2359705"," "," ","CARACAS"," "," "," "," ","AURELIO MARQUEZ"," "," ","FUENTE DE SODA MORAMAR","AV.B.LOS RUICES DETRAS DE LA HARINA"," PANCARACAS"," "," "," "," "," "," ",null,"J-00120279-0","C 1570","15000","No","00","CONTADO","31","LA CASTELLANA","05","18","LICORERIAS/BODEGONES","02","ON PREMISSE","02","ON PREMISSE"," ","502","01 - CARLOS DA SILVA","   "]
["J001204016","35 - PEREZ JOSMAN","MERCANTIL MECOS,C.A.","REST  FORNORETO"," ","MERCANTIL MECOS C.A.R/P. EL FORNORETO CA","AVENIDA PIMENTEL EDIF SOLABARRIETAS","ANTA MONICA"," ","(0212) 661.95.90"," ","elfornaretto@hotmail.com","CARACAS"," "," ","CAMB DE LA 35 A LA 32 130319 WP","CAMBIO V-32 AL V-35 17/09/19","JOAO BAPTISTA"," "," ","MER MECOS C.A.R/P. EL FORNORETO CA","AVENIDA PIMENTEL EDIF SOLABARRIETAS","ANTA MONICA"," "," "," "," ","RECIBE  LUNES A JUEVES"," 07:30 AM 11:00 AM","LUNES","J-00120401-6","002 C 3794","89250","No","05","CREDITO 5 DIAS","30","PARROQUIA EL RECREO","04","06","BAR/TABER./S. BAR/PUB/TAS","02","ON PREMISSE","02","ON PREMISSE","35","35","02 - VICTOR TORRES - ON","RECIBE  LUNES A JUEVES  07:30 AM 11:00 AM"]
["J001205497","09 - CLIENTE INHABILITADO","DISTRIBUIDORA  PEGON,C.A","DISTRIBUIDORA  PEGON,C.A"," ","DISTRIBUIDORA  PEGON,C.A","FINAL AV. MIGUEL ANGEL COLINAS DE B","ELLOMONTE CARACAS EDIF. SELER PB"," "," "," "," ","CARACAS"," "," "," "," ","MARIA CANDELARIA BOA","DA MARQUEZ"," ","DISTRIBUIDORA  PEGON,C.A","FINAL AV. MIGUEL ANGEL COLINAS DE B","ELLOMONTE CARACAS EDIF. SELER PB"," "," "," "," "," "," ",null,"J-00120549-7","M-N 1788","15000","No","05","CREDITO 5 DIAS","15","BARUTA","01","01","DE LICORES CON FZA DE VTA","01","OFF PREMISSE","01","OFF PREMISSE"," ","09","09 - CLIENTE INHABILITADO","   "]
["J001206450","02 - REQUENA JOHAN - OFF","INVERSIONES LANVECA,C.A.","INVERSIONES LANVECA,C.A."," ","INVERSIONES LANVECA,C.A.","BOYACA A MARINO N 58 SAN AGUSTIN DE","L NORTECARACAS"," ","5750019/5723676"," "," ","CARACAS"," "," "," "," ","JULIAN DE DIAZ"," "," ","INVERSIONES LANVECA,C.A.","BOYACA A MARINO N 58 SAN AGUSTIN DE","L NORTECARACAS"," "," "," "," "," "," ",null,"J-00120645-0","M-Y 390","89250","No","05","CREDITO 5 DIAS","23","CENTRO-SAN MARTIN","04","07","RESTAURANTES","02","ON PREMISSE","02","ON PREMISSE"," ","02"," ","   "]
["J001211683","09 - CLIENTE INHABILITADO","SUPERMERCADO MONTEVERDE","SUPERMERCADO MONTE VERDE C A"," ","SUPERMERCADO MONTE VERDE C A","AVENIDA SANTIAGO DE LEON CON AVENID","APARIS LA CALIFORNIA NORTE- CARACAS"," ","211579-1780"," "," ","CARACAS"," "," "," "," ","JUAN HERNANDEZ"," "," ","SUPERMERCADO MONTE VERDE C A","AVENIDA SANTIAGO DE LEON CON AVENID","APARIS LA CALIFORNIA NORTE- CARACAS"," "," "," "," ","TRASP. ZONA 01 SUP.JHONNY","RODRIGUEZ S/SOL.21-02-11",null,"J-00121168-3","M-N 4998","15000","No","05","CREDITO 5 DIAS","13","PETARE","05","21","SUPERMERCADOS/AUTOMERCADO","01","OFF PREMISSE","01","OFF PREMISSE","09","09","09 - CLIENTE INHABILITADO","TRASP. ZONA 01 SUP.JHONNY RODRIGUEZ S/SOL.21-02-11"]
["J001212990","02 - REQUENA JOHAN - OFF","FRANCISCO RENGIFO CHIRIBELLA","LICORERIA LOS MOROCHOS,S.R.L."," ","LICORERIA LOS MOROCHOS,S.R.L.","AV. PPAL MANICOMIO ESQ. CLARA  FREN","TE EST. PDVFALCON LA PASTORA"," "," "," "," ","CARACAS"," "," "," "," ","FRANCISCO RENGIFO"," "," ","LICORERIA LOS MOROCHOS,S.R.L.","AV. PPAL MANICOMIO ESQ. CLARA  FREN","TE EST. PDVFALCON LA PASTORA"," "," "," "," "," "," ",null,"J-00121299-0","M-N 4298","89250","No","05","CREDITO 5 DIAS","22","CATIA-JUNQUITO","05","18","LICORERIAS/BODEGONES","01","OFF PREMISSE","01","OFF PREMISSE"," ","02"," ","   "]
["J001214453","09 - CLIENTE INHABILITADO","VIVERES Y LICORES CAÑA PURA,C.A.","VIVERES Y LICORES CAÑA PURA,C.A."," ","VIVERES Y LICORES CAÑA PURA,C.A.","URB. EL SITIO C.C. LOS HELECHOS TOR","REF LOCAL L.P.B 35 SAN ANTONIO LOS","TEQUES EDO. MIRANDA","(0212) 372.41.64"," "," ","SAN ANTONIO","5CD 010913-100914 19HP 7DC 1CD S/C","2CD 090315-190815 HP11 M3 DC7","TRASPASO SUP 02 150416 MALA PAGA","CAMBIO A ZONA 09 19-09-19 YM","FELIX VIEIRA"," "," ","VIVERES Y LICORES CAÑA PURA,C.A.","URB. EL SITIO C.C. LOS HELECHOS TOR","REF LOCAL L.P.B 35 SAN ANTONIO LOS","TEQUES"," "," "," "," "," ","MIERCOLES","J-00121445-3","M-N 4150","0","Sí","00","CONTADO","09","CLIENTE INHABILITADO","06","18","LICORERIAS/BODEGONES","01","OFF PREMISSE","01","OFF PREMISSE","09","09","09 - CLIENTE INHABILITADO","   "]
["J001215379","09 - CLIENTE INHABILITADO","SUPER ABASTOS EUROPA, S.R.L.","SUPER ABASTOS EUROPA, S.R.L."," ","SUPER ABASTOS EUROPA, S.R.L.","AVENIDA PRESIDENTE MEDINA ENTRE CAL","LEINTERNACIONAL Y CHILE FRENTE A BA","NESCO LAS ACACIAS","6330389"," "," ","CARACAS"," "," ","BLOQ 2CH 010514-270515 DC7 MYZ","CAMBIO A LA ZONA 09 20-09-19 YM","MAURICIO GUARNIERIE"," "," ","SUPER ABASTOS EUROPA, S.R.L.","AVENIDA PRESIDENTE MEDINA ENTRE CAL","LEINTERNACIONAL Y CHILE FRENTE A BA","NESCO LAS ACACIAS"," "," "," "," "," ","LUNES","J-00121537-9","M-N 4212","0","Sí","00","CONTADO","09","CLIENTE INHABILITADO","06","22","ABASTOS GRANDES","01","OFF PREMISSE","01","OFF PREMISSE","09","09","09 - CLIENTE INHABILITADO","   "]
["J001215590","35 - PEREZ JOSMAN","EUROBUILDING INTERNACIONAL, C.A.","EUROBUILDING INTERNACIONAL, C.A."," ","EUROBUILDING INTERNACIONAL, C.A.","CALLE LA GUAIRITA EDIFICIO HOTEL","EUROBUILDING PISO NIVEL -1 OFICINA","PRESIDENCIA URB. CHUAO- CARACAS","0212 902 20 22","NO POSEE","cmontealegre@hotelero,.com","CARACAS"," "," ","BLOQ.290916 P/MOROS.MAYOR A 60 DIAS","CAMBIO DE  ZONA 32 A 35 260922  MYZ","CARLOS MONTEALEGRE"," "," ","EUROBUILDING INTERNACIONAL, C.A.","CALLE LA GUAIRITA EDIFICIO HOTEL","EUROBUILDING PISO NIVEL -1 OFICINA","PRESIDENCIA URB. CHUAO- CARACAS"," ","(0212) 902-11-11"," ","RECIBE  LUNES A VIERNES"," 8:00AM A 12:00PM","VIERNES","J-00121559-0","C-6462","89250","No","05","CREDITO 5 DIAS","34","LAS MERCEDES","04","08","HOTELES/CASINOS/BINGOS","02","ON PREMISSE","02","ON PREMISSE","35","35","01 - CARLOS DA SILVA - ON","RECIBE  LUNES A VIERNES  8:00AM A 12:00PM"]
["J001216090","02 - REQUENA JOHAN - OFF","LICORERIA TOMASELLI S.R.L.","LICORERIA TOMASELLI SRL"," ","LICORERIA TOMASELLI SRL","AVENIDA PPAL DEL CARIBE EDIF. ARPIN","OCARABALLEDA  EDO. VARGAS"," "," "," "," ","LA GUAIRA"," "," "," "," ","REMO NARDUCCI"," "," ","LICORERIA TOMASELLI SRL","AVENIDA PPAL DEL CARIBE EDIF. ARPIN","OCARABALLEDA  EDO. VARGAS"," "," "," "," "," "," ",null,"J-00121609-0","M-M 725","89250","No","05","CREDITO 5 DIAS","21","VALLES DEL TUY-21","05","18","LICORERIAS/BODEGONES","01","OFF PREMISSE","01","OFF PREMISSE"," ","02"," ","   "]
["J001220119","09 - CLIENTE INHABILITADO","SUPERMERCADO EL JOJETE, S.R.L.","SUPERMERCADO EL JOJETE, S.R.L."," ","SUPERMERCADO EL JOJETE, S.R.L.","BARRIO SANTA CRUZ C/COMER LAS AD-","JUNTASMNCPIO.LIBERTADOR-CARACAS-DT","TO.CAPITAL","(0212) 243-35-085","PREPAGO 4 CHD"," ","CARACAS"," "," ","NO QUIERE COMPRAR MAS 10/03/2014","CAMBIO A LA ZONA 09 20-09-19 YM","JOSE YANEZ"," "," ","SUPERMERCADO EL JOJETE, S.R.L.","BARRIO SANTA CRUZ C/COMERCIAL LAS A","DJUNTASMNCPIO.LIBERTADOR-CARACAS-DT","TO.CAPITAL"," "," "," ","RECIBE DE LUNES A VIERNES","8:00AM A 4:00PM",null,"J-00122011-9","M-N 5699","0","Sí","00","CONTADO","09","CLIENTE INHABILITADO","06","22","ABASTOS GRANDES","01","OFF PREMISSE","01","OFF PREMISSE","09","09","09 - CLIENTE INHABILITADO","RECIBE DE LUNES A VIERNES 8:00AM A 4:00PM"]
["J001220909","09 - CLIENTE INHABILITADO","INMOBILIARIA 56, C.A.","HOTEL ALTAMIRA SUITES"," ","INMOBILIARIA 56, C.A.","AVDA. 1ERA. CON 1ERA. TRANSVERSAL","EDF. ALTAMIRA SUITES PISO P.B. URB.","LOS PALOS GRANDES, CARACAS DTTO.","(0212) 209-31-40","(0212) 209-31-44"," ","CARACAS","CAPITAL"," "," ","REEST-V-31 AL V-09 20092019 MYZ","SMERALDO SMERALDI","PIERFILIPPO GIDONIO"," ","HOTEL ALTAMIRA SUITES","AVDA. 1ERA. CON 1ERA. TRANSVERSAL","EDF. ALTAMIRA SUITES PISO P.B. URB.","LOS PALOS GRANDES, CARACAS DTTO.","CAPITAL","(0212) 209-31-40"," ","RECIBE LUNES A VIERNES","DE 8:00 A 12 Y 1 AM 4 PM","LUNES","J-00122090-9","70100000102","15000","Sí","00","CONTADO","31","LA CASTELLANA","04","06","BAR/TABER./S. BAR/PUB/TAS","02","ON PREMISSE","02","ON PREMISSE","09","09","09 - CLIENTE INHABILITADO","RECIBE LUNES A VIERNES DE 8:00 A 12 Y 1 AM 4 PM"]
["J001223487","36  CLIENT-CORPORAT-OFIC.","ESTUDIO 54 C.A","ESTUDIO 54 C.A","260423 LL","ESTUDIO 54 C.A","AV LA ESTANCIA CC CIUDAD TAMANACO","NIVEL C1 LOCAL 11-A URB CHUAO","CARACAS","(0412) 243-3927"," "," ","CARACAS"," "," "," "," ","JOAO DE ABREU","FRANCISCO DE ABREU"," ","ESTUDIO 54 C.A","AV LA ESTANCIA CC CIUDAD TAMANACO","NIVEL C1 LOCAL 11-A URB CHUAO","CARACAS"," ","(0412) 243-3927"," ","RECIBE DE LUNES A SABADOS","DE 9:00 AM A 4:00 PM","DE LUNES A VIERNES","J-00122348-7","TRAMITE","89250","No","05","CREDITO 5 DIAS","34","LAS MERCEDES","04","09","DISCOTECAS Y NIGHT CLUBS","00","ESTANDAR","00","ESTANDAR","36","36","36 - CLIENT-CORPORAT-OFIC.","RECIBE DE LUNES A SABADOS DE 9:00 AM A 4:00 PM"]
["J001233660","31 - RODRIGUEZ WLADIMIR","ESTACION DEL METRO,C.A.","RESTAURANT ESTACION DEL METRO"," ","RESTAURANT ESTACION DEL METRO","AVENIDA ESTE 2 FRENTE A LA CAMARADE"," COMERCIO LOS CAOBOS"," ","0212/5762170"," "," ","CARACAS"," "," "," "," ","JOAO MIGUEL SOUSA DE"," GOUVEIA"," ","RESTAURANT ESTACION DEL METRO","AVENIDA ESTE 2 FRENTE A LA CAMARADE"," COMERCIO LOS CAOBOS"," "," "," "," ","TRASP.AL 03 SUP.CARLOS DA","SILVA S/SOLIC.24-01-2011",null,"J-00123366-0","C 4484","89250","No","05","CREDITO 5 DIAS","33","CENTRO-CANDELARIA","04","07","RESTAURANTES","02","ON PREMISSE","02","ON PREMISSE"," ","31"," ","TRASP.AL 03 SUP.CARLOS DA SILVA S/SOLIC.24-01-2011"]
["J001233695","36  CLIENT-CORPORAT-OFIC.","CENTRO PORTUGUES, A.C.","CENTRO PORTUGUES ASOCIACION CIVIL"," ","CENTRO PORTUGUES, A.C.","AVENIDA LUIS DE CAMOES LOCAL CENTRO","PORTUGUES A.C. NRO. 01 URBANIZACION","MACARACUAY - CARACAS","(0212) 985-25-28","(0212) 985-44-76"," ","CARACAS"," "," "," ","CAMBIO ZONA 32 AL 36 AL 15-03-16 MY","CHIQUI CAMARA GOMEZ"," "," ","CENTRO PORTUGUES ASOCIACION CIVIL","AVENIDA LUIS DE CAMOES LOCAL CENTRO","PORTUGUES A.C. NRO. 01 URBANIZACION","MACARACUAY - CARACAS"," ","(0212) 985-25-28","(0212) 985-44-76","MARTES A SABADO"," ",null,"J-00123369-5","PARTICULAR","89250","No","05","CREDITO 5 DIAS","36","VTAS.CORPORATIVAS","06","10","CLUB SOCIALES","00","ESTANDAR","00","ESTANDAR","36","36","36 - CLIENTE CORPORATIVO","MARTES A SABADO  "]
["J001234799","31 - RODRIGUEZ WLADIMIR","LOS CEREZOS BAR REST.C.A.","REST. DOÑA BARBARA"," ","LOS CERESOS BAR REST.,C.A.","PLAZA PADRE SOJO ENTRE IGLESIA STA.","TERESA Y TEATRONACIONAL STA.TERESA","CARACAS"," "," "," ","CARACAS"," "," "," "," ","ROBET FELIPE"," "," ","REST. DOÑA BARBARA","PLAZA PADRE SOJO ENTRE IGLESIA STA.","TERESA Y TEATRONACIONAL STA.TERESA","CARACAS"," "," "," "," "," ",null,"J-00123479-9","C 1800","89250","No","05","CREDITO 5 DIAS","33","CENTRO-CANDELARIA","04","07","RESTAURANTES","02","ON PREMISSE","02","ON PREMISSE"," ","31"," ","   "]
["J001235710","09 - CLIENTE INHABILITADO","CERV Y RESTAURANT ANTESOL,S.R.L.","CERVECERIA Y REST ANTESOL,S.R.L."," ","CERVECERIA Y RESTAURANT ANTESOL,S.R.L.","AV. MARIA TERESA DE LA PARRAEDIF.LU","CKY LOCAL 1 SANTA MONICA"," ","6619997"," "," ","CARACAS","BLOQ.3 C.DVLTOS.10-06-14","DESBLOQ.020216 RETIRO SOCIO NEGOCIO","CAMBIO ZONA 30 AL 03 AL 20/07/16 MY","CAMBIO A LA ZONA 09 23-09-19 YM","HORACIO DE FREITAS"," "," ","CERVECERIA Y REST ANTESOL,S.R.L.","AV. MARIA TERESA DE LA PARRAEDIF.LU","CKY LOCAL 1 SANTA MONICA"," "," "," "," ","RECIBE LUNES A JUEVES","DE 11:00AM A 2:00PM","LUNES","J-00123571-0","CVC 239","0","Sí","00","CONTADO","09","CLIENTE INHABILITADO","04","07","RESTAURANTES","02","ON PREMISSE","02","ON PREMISSE","09","09","09 - CLIENTE INHABILITADO","RECIBE LUNES A JUEVES DE 11:00AM A 2:00PM"]
["J001235906","09 - CLIENTE INHABILITADO","RESIDENCIAS HOTEL BEETHOVEN S.R.L.","RESIDENCIAS HOTEL BEETHOVEN S.R.L."," ","RESIDENCIAS HOTEL BEETHOVEN S.R.L.","AV. BEETHOVEN COLINAS DE BELLO MONT","E A MEDIAA MEDIA CUADRA DE MAXY'S B","ELLO MONTE","751-33-80"," "," ","CARACAS"," "," "," ","REEST-V-31 AL V-09 20092019 MYZ","MARIO LELLI SAPOROSI"," "," ","RESIDENCIAS HOTEL BEETHOVEN S.R.L.","AV. BEETHOVEN COLINAS DE BELLO MONT","E A MEDIAA MEDIA CUADRA DE MAXY'S B","ELLO MONTE"," "," "," "," "," ",null,"J-00123590-6","C 2251","15000","No","00","CONTADO","32","SUCRE - BARUTA","05","21","SUPERMERCADOS/AUTOMERCADO","01","OFF PREMISSE","01","OFF PREMISSE","09","09","09 - CLIENTE INHABILITADO","   "]
["J001236090","09 - CLIENTE INHABILITADO","AUTOMERCADO SUPREMO V, C.A.","AUTOMERCADO SUPREMO V, C.A."," ","AUTOMERCADO SUPREMO V, C.A.","AV. EL EJERCITO EDF. CANAIMA PISO","PB LOCAL 1 Y 2 URB. LA ATLANTIDA","LA GUAIRA EDO. VARGAS"," "," "," ","LA GUAIRA"," "," "," ","CAMBIO DE ZONA 14 A 09 181021 FL","JOSE DE FARIAS GOMEZ"," "," ","AUTOMERCADO SUPREMO V, C.A.","AV. EL EJERCITO EDF. CANAIMA PISO","PB LOCAL 1 Y 2 URB. LA ATLANTIDA","LA GUAIRA EDO. VARGAS"," "," "," ","RECIBE DE LUNES A VIERNES","8 AM A 1 PM Y 3 A 5 PM","MARTES","J-00123609-0","MN-520","15000","No","05","CREDITO 5 DIAS","09","CLIENTE INHABILITADO","05","21","SUPERMERCADOS/AUTOMERCADO","01","OFF PREMISSE","01","OFF PREMISSE","09","09","09 - CLIENTE IHNABILITADO","RECIBE DE LUNES A VIERNES 8 AM A 1 PM Y 3 A 5 PM"]
["J001236600","31 - RODRIGUEZ WLADIMIR","MARY ALVAREZ, C.A","MARY ALVAREZ, C.A"," ","MARY ALVAREZ, C.A","5TA. AVENIDA DE MONTE CRISTO","EDIFICIO MONSEÑOR PB CARACAS"," ","2350660"," "," ","CARACAS"," "," "," "," ","JESUS ACEVEDO"," "," ","RESTAURANT DOÑA LUISA","5TA. AVENIDA DE MONTE CRISTO","EDIFICIO MONSEÑOR PB CARACAS"," "," ","2350660"," "," "," ",null,"J-00123660-0","C 2332","89250","No","05","CREDITO 5 DIAS","03",null,"04","23","ABASTOS PEQUEÑOS/BODEGAS","02","ON PREMISSE","02","ON PREMISSE"," ","31"," ","   "]
["J001238751","31 - RODRIGUEZ WLADIMIR","RESTAURAT Y PIZZERIA LA TAGLIATELLA","RESTAURAT Y PIZZERIA LA TAGLIATELLA"," ","RESTAURAT Y PIZZERIA LA TAGLIATELLA","CALLE CARABOBO CON,AVENIDA O´HIGGIN","SRES,SAY PARK III URB,LA PAZ-EL PAR","AISO","0212-443-01-74"," "," ","CARACAS"," "," "," "," ","VICTOR ABREU"," "," ","RESTAURAT Y PIZZERIA LA TAGLIATELLA","CALLE CARABOBO CON,AVENIDA O´HIGGIN","SRES,SAY PARK III URB,LA PAZ-EL PAR","AISO"," "," "," "," "," ",null,"J-00123875-1","002-C-7197","89250","No","05","CREDITO 5 DIAS","33","CENTRO-CANDELARIA","04","07","RESTAURANTES","02","ON PREMISSE","02","ON PREMISSE"," ","31"," ","   "]
["J001241175","02 - REQUENA JOHAN - OFF","LICORERIA EL BARRILITO,C.A.","LICORERIA EL BARRILITO,C.A."," ","LICORERIA EL BARRILITO,C.A.","CALLE 300 EDF. ENZIO LOCAL A QTA. C","RESPOCARACAS"," ","424019"," "," ","CARACAS"," "," "," "," ","JOSE DE OLIVEIRA"," "," ","LICORERIA EL BARRILITO,C.A.","CALLE 300 EDF. ENZIO LOCAL A QTA. C","RESPOCARACAS"," "," "," "," "," "," ",null,"J-00124117-5","M-Y 5593","89250","No","05","CREDITO 5 DIAS","23","CENTRO-SAN MARTIN","05","18","LICORERIAS/BODEGONES","01","OFF PREMISSE","01","OFF PREMISSE"," ","02"," ","   "]
["J001242350","09 - CLIENTE INHABILITADO","TOTAL CARGO INTERNATIONAL,C.A.","TOTAL CARGO INTERNATIONAL,C.A."," ","TOTAL CARGO INTERNATIONAL,C.A.","AV. LIBERTADOR EDIF. LA SALLE PISO","4OFIC 4-B LOS CAOBOS"," ","7829631"," "," ","CARACAS"," "," "," "," ","ARTURO MARTINEZ"," "," ","TOTAL CARGO INTERNATIONAL,C.A.","AV. LIBERTADOR EDIF. LA SALLE PISO","4OFIC 4-B LOS CAOBOS"," "," "," "," "," "," ",null,"J-00124235-0","PARTICULAR","15000","No","05","CREDITO 5 DIAS","12","BARLOVENTO","06","29","INDUSTRIAL","01","OFF PREMISSE","01","OFF PREMISSE","09","09","09 - CLIENTE INHABILITADO","   "]
["J001242651","09 - CLIENTE INHABILITADO","SUPERMERCADO RITA, S.R.L.","SUPERMERCADO RITA"," ","SUPERMERCADO RITA, S.R.L.","CALLE A EDIF.RITA P.B. LOC","MC3URB. LOS RUICES"," ","(0212) 239.04.86","(0412) 623.71.37","carloschang2@hotmail.com","CARACAS"," "," "," ","SIN LIC DE LICORES JQ 170418","CARLOS CHANG"," "," ","SUPERMERCADO RITA","CALLE A EDIF. RITA P.B. LOC MC3","URB. LOS CORTIJOS"," "," ","(0212) 239-04-86"," ","RECIBE  LUNES A VIERNES"," 09:00 AM A 12:00 PM","MARTES","J-00124265-1","M-N 153","15000","No","05","CREDITO 5 DIAS","10","ALTAMIRA-OFF","05","21","SUPERMERCADOS/AUTOMERCADO","01","OFF PREMISSE","01","OFF PREMISSE","09","09","09 - CLIENTE INHABILITADO","RECIBE  LUNES A VIERNES  09:00 AM A 12:00 PM"]
["J001242716","09 - CLIENTE INHABILITADO","HOTEL LA MONCLOA S.R.L","HOTEL LA MONCLOA S.R.L","07-04-17","HOTEL LA MONCLOA S.R.L","CALLE LA ESTANCIA QTA JARLADO URB","LA CAMPIÑA CARACAS"," ","(0212) 730-13-09"," "," ","CARACAS"," "," ","CAMBIO DE ZONA 30 A 33 AL 120219 JA","CAMBIO DE ZONA 33 A 09 16/9/19 GT","JAIME REY"," "," ","HOTEL LA MONCLOA S.R.L","CALLE LA ESTANCIA QTA JARLADO  URB","LA CAMPIÑA CARACAS"," "," ","(0212) 730-13-09"," ","RECIBE DE LUNES A VIERNES","DE 08:00 A 12PM","LUNES","J-00124271-6","05-CVC-001782","0","Sí","00","CONTADO","09","CLIENTE INHABILITADO","04","08","HOTELES/CASINOS/BINGOS","02","ON PREMISSE","02","ON PREMISSE","09","09","09 - CLIENTE INHABILITADO","RECIBE DE LUNES A VIERNES DE 08:00 A 12PM"]
["J001242821","35 - PEREZ JOSMAN","INVERSIONES JUAN SEBASTIAN,C.A.","INV.JUAN S,C.A.(REST.JUAN S BAR)"," ","INV.JUAN SEBASTIAN,C.A.(REST.JUAN S BAR)","AVENIDA VENEZUELA EL ROSAL CHACAITO","CARACAS"," ","(0212) 951.75.58","(0424) 114.10.08","juansebastianbar@gmail.com","CARACAS"," "," ","CAMBIO ZONA 35 A 09 16-09-19 YM","CAMBIO ZONA 09 A 35 30-09-22 FL","JOSE  ORNELAS"," "," ","INV.JUAN S,C.A.(REST.JUAN S BAR)","AVENIDA VENEZUELA EL ROSAL CHACAITO","CARACAS"," "," ","0212-951-55-75"," ","RECIBE  LUNES A VIERNES"," 8 A 12AM A 2 A 4 PM","MIERCOLES","J-00124282-1","07007001249","89250","Sí","05","CREDITO 5 DIAS","35","EL ROSAL-CHACAO","04","07","RESTAURANTES","02","ON PREMISSE","02","ON PREMISSE","35","35","02 - TORRES VICTOR -  ON","RECIBE  LUNES A VIERNES  8 A 12AM A 2 A 4 PM"]
["J001243577","09 - CLIENTE INHABILITADO","BAR RESTAURANT PARATE BUENO S.R.L","BAR RESTAURANT PARATE BUENO S.R.L"," ","BAR RESTAURANT PARATE BUENO S.R.L","AV. INTERCOMUNAL DE ANTIMANO LOCAL","1 PB. ANTIMANO. FRTE DE LA COCACOLA"," ","0416.628.75.30"," "," ","CARACAS"," "," "," ","SE ENVIO A LA ZONA 09 170919 JA","ALBERTO DO NACIMIENT","O ALVES"," ","BAR RESTAURANT PARATE BUENO S.R.L","AV INTERCOMUNAL DE ANTIMANO LOC 1","PB. ANTIMANO. FRENTE DE LA COCACOLA"," "," ","0416.628.75.30"," ","TRASP.AL 03 SUP.CARLOS DA","SILVA S/SOLIC.24-01-2011",null,"J-00124357-7","C17-14","0","No","00","CONTADO","09","CLIENTE INHABILITADO","04","06","BAR/TABER./S. BAR/PUB/TAS","02","ON PREMISSE","02","ON PREMISSE","09","09","09 - CLIENTE INHABILITADO","TRASP.AL 03 SUP.CARLOS DA SILVA S/SOLIC.24-01-2011"]
["J001245090","35 - PEREZ JOSMAN","MAUTE GRILL BAR RESTAURANT","MAUTE GRILL BAR RESTAURANT","991-08-92","MAUTE GRILL BAR RESTAURANT, C.A.","AVENIDA RIO DE JANEIRO QUINTA EL PO","RTALURBANIZACION LAS MERCEDES-MNPIO","-BARUTA-CARACAS","(0212) 993.38.46"," ","mautegrill@cantv.net","CARACAS"," "," "," ","CAMB DE LA 34 A LA 35 130319 WP","MANUEL FERNANDEZ"," "," ","MAUTE GRILL BAR RESTAURANT","AVENIDA RIO DE JANEIRO QUINTA EL","PORTAL URBANIZACION LAS MERCEDES","MNPIO-BARUTA-CARACAS"," "," ","(0212) 991-61-95","RECIBE LUNES A VIERNES"," 07:00 A 11:00 AM","JUEVES","J-00124509-0","B-107-0-0031","89250","No","05","CREDITO 5 DIAS","34","LAS MERCEDES","04","07","RESTAURANTES","02","ON PREMISSE","02","ON PREMISSE","35","35","02 - VICTOR TORRES - ON","RECIBE LUNES A VIERNES  07:00 A 11:00 AM"]
["J001250310","02 - REQUENA JOHAN - OFF","FRUTERIA LA PLAZA C.A.","FRUTERIA LA PLAZA C.A."," ","FRUTERIA LA PLAZA C.A.","CALLE MIQUILEN CRUCE CON DEPENDENCI","ALOS TEQUES"," ","0414-264-73-19"," "," ","LOS TEQUES"," "," "," "," ","ELIO ANDRADE"," "," ","FRUTERIA LA PLAZA C.A.","CALLE MIQUILEN CRUCE CON DEPENDENCI","ALOS TEQUES"," "," "," "," ","TRASPASO ZONA 02. SEGUN","SOLICITUD 22/02/11",null,"J-00125031-0","M-N 4041","89250","No","05","CREDITO 5 DIAS","25","LOS TEQUES","05","21","SUPERMERCADOS/AUTOMERCADO","01","OFF PREMISSE","01","OFF PREMISSE"," ","02"," ","TRASPASO ZONA 02. SEGUN SOLICITUD 22/02/11"]
["J001256326","09 - CLIENTE INHABILITADO","CERV.REST. LA ENCRUCIJADA DE CUA","CERV.REST. LA ENCRUCIJADA DE CUA"," ","CERV.REST. LA ENCRUCIJADA DE CUA","CALLE EL ROSARIO CASA S/N SECTOR","LOS TRES PALOS"," ","0239 212 21 75","0414 389 79 36","acmacedo11@hotmail.com","CUA"," "," "," ","CAMBIO DE ZONA 21 A 09 06/12/22 ST","JOAO MACEDO"," "," ","CERV.REST. LA ENCRUCIJADA DE CUA","CALLE EL ROSARIO CASA S/N SECTOR","LOS TRES PALOS"," "," "," "," ","RECIBE  LUNES A JUEVES"," 10:00AM A 4:00PM","MIERCOLES","J-001256326","039-C405","15000","No","05","CREDITO 5 DIAS","09","CLIENTE INHABILITADO","06","07","RESTAURANTES","02","ON PREMISSE","02","ON PREMISSE","09","09","09 - CLIENTE INHABILITADO","RECIBE  LUNES A JUEVES  10:00AM A 4:00PM"]
["J001265368","71 - OFICINA","AUTOMOTORES GUATIRE, C.A.","AUTOMOTORES GUATIRE, C.A."," ","AUTOMOTORES GUATIRE, C.A.","AV. INTERCOMUNAL GUARENAS-GUATIRE","LOCAL AUTOMOTORES GUATIRE URB. VEGA","ABAJO GUATIRE MIRANDA","(0212)344.50.48"," "," ","GUATIRE"," "," "," "," "," "," "," ","AUTOMOTORES GUATIRE, C.A.","AV. INTERCOMUNAL GUARENAS-GUATIRE","LOCAL AUTOMOTORES GUATIRE URB. VEGA","ABAJO GUATIRE MIRANDA"," ","(0212)344.50.48"," ","PEDIDO SOLICITADO POR","EL SR. JUVENAL FERREIRA",null,"J-00126536-8","PARTICULAR","2200","No","05","CREDITO 5 DIAS","71","OFICINA","06","31","PARTICULAR","01","OFF PREMISSE","01","OFF PREMISSE","71","71","71 - OFICINA","PEDIDO SOLICITADO POR EL SR. JUVENAL FERREIRA"]
["J001265910","09 - CLIENTE INHABILITADO","LICORES MARINOS C A","LICORES MARINOS C A"," ","LICORES MARINOS C A","AV.PPAL CARABALLEDA EDIFICIO LA PAL","MALA GUAIRA"," ","NO POSEE","0414 268 14 90","NO POSEE","LA GUAIRA"," "," ","CAMBIO DE ZONA 14 A 09","020821 YP","FELIXBER ROJAS"," "," ","LICORES MARINOS C A","AV.PPAL CARABALLEDA EDIFICIO LA PAL","MALA GUAIRA"," "," "," "," ","RECIBE  LUNES A VIERNES"," 10:00 AM A 5:00 PM","JUEVES","J-00126591-0","M-Y 640","15000","No","05","CREDITO 5 DIAS","09","CLIENTE INHABILITADO","05","18","LICORERIAS/BODEGONES","01","OFF PREMISSE","01","OFF PREMISSE","09","09","09 - CLIENTE INHABILITADO","RECIBE  LUNES A VIERNES  10:00 AM A 5:00 PM"]
["J001267310","22 - GONZALEZ CARLOS","GRANERO FIMEN,C.A.","GRANERO FIMEN,C.A.","281123 RM","GRANERO FIMEN,C.A.","CALLE COLOMBIA ENTRE 2 Y 3 AVENIDA,","EDIFICIO MARBER PISO PB. LOCAL 1","URB. NUEVA CARACAS CATIA","0414-1209724"," ","DANIELFIGUEIRAFIGUEIRA10@GMAIL.COM","CARACAS"," "," "," "," ","FERNANDO FIGUEIRA","MANUEL MENDEZ","JOAO DE ABREU","GRANERO FIMEN,C.A.","CALLE COLOMBIA ENTRE 2 Y 3 AVENIDA","EDIFICIO MARBER, PISO PB LOCAL 1","URB. NUEVA CARACAS, CATIA"," "," "," ","RECIBE LUNES A VIERNES","9:00 AM A 6:00 PM",null,"J-00126731-0","LU-2022-015909","89250","No","05","CREDITO 5 DIAS","22","CATIA-JUNQUITO","05","22","ABASTOS GRANDES","01","OFF PREMISSE","01","OFF PREMISSE","22","22","02 - TORRES VICTOR - OFF","RECIBE LUNES A VIERNES 9:00 AM A 6:00 PM"]
["J001267581","31 - RODRIGUEZ WLADIMIR","MI RANCHO CAMPESTRE C.A.","POLLO EN BRA MI RANCHO CAMPESTRE"," ","MI RANCHO CAMPESTRE C.A.","AVENIDA PEDRO RUSSO FERRER EL TAMBO","RVIA LOS TEQUES-MCPIO.GUAICAIPURO-E","DO.MIRANDA","0212/3648227"," "," ","LOS TEQUES"," "," "," "," ","TOME DOS SANTOS"," "," ","POLLO EN BRA MI RANCHO CAMPESTRE","AVENIDA PEDRO RUSSO FERRER EL TAMBO","RVIA LOS TEQUES-MCPIO.GUAICAIPURO-E","DO.MIRANDA"," "," "," "," "," ",null,"J-00126758-1","C-029","89250","No","05","CREDITO 5 DIAS","25","LOS TEQUES","04","07","RESTAURANTES","02","ON PREMISSE","02","ON PREMISSE"," ","31"," ","   "]
["J001267700","25 - OCAMPO O. ROMAY","LICORERIA CIMA,C.A.","LICORERIA CIMA C.A."," ","LICORERIA CIMA C.A.","CALLE 28 DE OCTUBRE SECTOR CAMPO","ALEGRE LOCAL 11 - LOS TEQUES-EDO.","MIRANDA","(0212) 264.52.78","(0424) 202.79.11","tonny07@gmail.com","LOS TEQUES","CONTRIB.ESPEC.FACTURAR AL 21 C/MES"," "," "," ","ANTONIO FERNANDEZ"," "," ","LICORERIA CIMA C.A.","CALLE 28 DE OCTUBRE SECTOR CAMPO","ALEGRE LOCAL 11 - LOS TEQUES-EDO.","MIRANDA"," ","0212.364.52.78"," ","RECIBE  LUNES A VIERNES"," 10:00 AM A 5:00 PM","LUNES","J-00126770-0","MY-08","89250","No","05","CREDITO 5 DIAS","25","LOS TEQUES","01","02","DE LICORES S/FZA DE VTA","01","OFF PREMISSE","01","OFF PREMISSE","25","25","02 - VICTOR TORRES - OFF","RECIBE  LUNES A VIERNES  10:00 AM A 5:00 PM"]
["J001268111","502 - DRA. ALEXI Y. PINT0","DIST.MIXTA LAS MERCEDES DE RIO CHIC","DIST.MIXTA LAS MERCEDES DE RIO CHIC"," ","DIST.MIXTA LAS MERCEDES DE RIO CHICO C.A","CALLE RAFAEL AREVALO GONZALEZ CON","CALLE LAS MERCEDES. NRO S/N. SECTOR","RIO CHICO.MCPIO PAEZ.","0234 - 872.43.13"," "," ","BARLOVENTO"," "," "," "," ","QUINCIANO A. AGUILAR","RICARDO PEREZ PEREZ","CARMEN M. MONSALVE","DIST.MIXTAS LAS MERCEDES","CALLE RAFAEL AREVALO GONZALEZ CON","CALLE LAS MERCEDES. NRO S/N. SECTOR","RIO CHICO.MCPIO PAEZ."," ","0234 - 872.43.13"," ","LLEVADO A INCOBRABLE EL","30-06-11 DRA. ALEXI PINTO",null,"J-00126811-1"," ","15000","No","00","CONTADO","12","BARLOVENTO","01","01","DE LICORES CON FZA DE VTA","01","OFF PREMISSE","01","OFF PREMISSE"," ","502","01 - CARLOS DA SILVA",{"$f":"CONCATENATE(AB450,\" \",AC450)","v":"LLEVADO A INCOBRABLE EL 30-06-11 DRA. ALEXI PINTO"}]
["J001272879","31 - RODRIGUEZ WLADIMIR","RESTAURANT LOS SANABRIAS,S.R.L.","RESTAURANT LOS SANABRIAS,S.R.L."," ","RESTAURANT LOS SANABRIAS,S.R.L.","AV. PPAL DE LA MORITA QTA LIZANSAN","ANTONIO-LOS SALIAS"," ","3714340/9534302"," "," ","LOS TEQUES"," "," "," "," ","MIGUEL SANABRIA"," "," ","RESTAURANT LOS SANABRIAS,S.R.L.","AV. PPAL DE LA MORITA QTA LIZANSAN","ANTONIO-LOS SALIAS"," "," "," "," "," "," ",null,"J-00127287-9","C 98","89250","No","05","CREDITO 5 DIAS","25","LOS TEQUES","04","07","RESTAURANTES","02","ON PREMISSE","02","ON PREMISSE"," ","31"," ","   "]
["J001287663","02 - REQUENA JOHAN - OFF","LICORES LA ESPERANZA S.R.L.","LICORES LA ESPERANZA S.R.L."," ","LICORES LA ESPERANZA S.R.L.","CALLE GUAICAIPURO CON PAEZ Nº 1 AL","LADODE LA PANADERIA GUAICAIPURO. TE","QUES","414,3786636"," "," ","GUAICAIPURO"," "," "," "," ","FRANCO RIZZO"," "," ","LICORES LA ESPERANZA S.R.L.","CALLE GUAICAIPURO CON PAEZ Nº 1 AL","LADODE LA PANADERIA GUAICAIPURO. TE","QUES"," "," "," "," "," ",null,"J-00128766-3","M-N 326","89250","No","05","CREDITO 5 DIAS","25","LOS TEQUES","05","18","LICORERIAS/BODEGONES","01","OFF PREMISSE","01","OFF PREMISSE"," ","02"," ","   "]
["J001287752","43 - RIVERO CARLOS","DE ANDRADE Y ANDRADE,S.R.L.","A/L. LA MANS DE AND Y ANDRADE SRL"," ","A/L. LA MANSION DE ANDRADE Y ANDRADE SRL","AVENIDA PRINCIPAL LAS MERCEDESCARAC","AS"," ","0212 993 87 40","0412 984 18 63","auolicoreslaumauarion@hotmail.com","CARACAS"," "," "," "," ","CONSTANTINO ANDRADE"," "," ","A/L. LA MANS DE AND Y ANDRADE SRL","AV.PRINCIPAL LAS MERCEDES CENTRO","COMERCIAL LA MANSION","CARACAS"," "," "," ","RECIBE  MARTES A JUEVES","9:00 AM A 4:00 PM","MIERCOLES","J-00128775-2","M-Y 3225","89250","No","05","CREDITO 5 DIAS","43","PROLICOR / CELICOR","05","18","LICORERIAS/BODEGONES","01","OFF PREMISSE","01","OFF PREMISSE","43","43","01-CARLOS DA SILVA -FRANQUICIAS PROLICOR/CELICOR","RECIBE  MARTES A JUEVES 9:00 AM A 4:00 PM"]
["J001293523","02 - REQUENA JOHAN - OFF","GRAN CASINO HOTEL C.A","RESTAURANT GRAN CASINO","4143229116","GRAN CASINO HOTEL C.A","CALLE CARABOBO EDIF GRAN CASINO","HOTEL PISO 6. OFC Nro. 1 SECTOR EL","LLANO DE LOS TEQUES","0212.3649770"," "," ","CARACAS"," "," "," "," ","AGUSTINO VIEIRA A","MARIA CONCEICAO","IGNACIO DOS RAMOS","GRAN CASINO HOTEL C.A","CALLE CARABOBO EDIF GRAN CASINO","HOTEL PISO 6. OFIC PB Nro 1. SECTOR","EL LLANO DE LOS TEQUES"," ","0212.364.97.70"," ","TRASPASO ZONA 02. SEGUN","SOLICITUD DEL 18/02/11",null,"J-00129352-3"," ","89250","No","05","CREDITO 5 DIAS","25","LOS TEQUES","04","08","HOTELES/CASINOS/BINGOS","02","ON PREMISSE","02","ON PREMISSE"," ","02"," ","TRASPASO ZONA 02. SEGUN SOLICITUD DEL 18/02/11"]
["J001293728","09 - CLIENTE INHABILITADO","CORPORACION 513 C.A.","HOTEL TIBURON"," ","CORPORACION 513 C.A.","AVENIDA LAS ACACIAS PROLONGAC. SUR","EDIFICIO EVEREST PISO PB, OFC. URB.","SABANA GRANDE-EL RECREO","(0212) 761-85-60"," "," ","CARACAS","CARACAS"," "," ","CAMBIO Z - 31 A Z - 09 200919 GA","JOSE CONDE","MANUEL STIFANO"," ","CORPORACION 513 C.A.","AVENIDA LAS ACACIAS PROLONGAC. SUR","EDIFICIO EVEREST PISO PB, OFC. URB.","SABANA GRANDE-EL RECREO","CARACAS","(0212) 761-85-60"," ","CAMBIO DE ZONA SUP.03","EN FECHA 25/07/2013",null,"J-00129372-8","C-0632","15000","Sí","00","CONTADO","31","LA CASTELLANA","04","06","BAR/TABER./S. BAR/PUB/TAS","02","ON PREMISSE","02","ON PREMISSE","09","09","09 - CLIENTE INHABILITADO","CAMBIO DE ZONA SUP.03 EN FECHA 25/07/2013"]
["J001296026","36  CLIENT-CORPORAT-OFIC.","PANADERIA Y PASTELERIA ROSALBA C.A.","PANADERIA Y PASTELERIA ROSALBA C.A.","01/03/2021","PANADERIA Y PASTELERIA ROSALBA C.A.","AVENIDA ROMULO GALLEGOS EDIF.","LAMBDA NRO. PISO P.B. LOCAL P.B.","URB. EL MARQUEZ","0414-8693538"," "," ","CARACAS"," "," "," ","CAMBIO DE ZONA 32 A 36 22/10/21 ST","JOSE LUIS"," "," ","PANADERIA Y PASTELERIA ROSALBA C.A.","AVENIDA ROMULO GALLEGOS EDIF.","LAMBDA NRO. PISO P.B. LOCAL P.B.","URB. EL MARQUEZ"," ","0414-8693538"," ","RECIBE DE LUNES A VIERNES","8:00AM A 3:00PM","MARTES","J001296026","EN TRAMITE","89250","No","05","CREDITO 5 DIAS","36","VTAS.CORPORATIVAS","05","17","FTE SODA/LUNCH/HELAD/CAFE","01","OFF PREMISSE","01","OFF PREMISSE","36","36","36 - CLIENTE CORPORATIVO","RECIBE DE LUNES A VIERNES 8:00AM A 3:00PM"]
["J001297472","13 - GUDIÑO FABIAN","FERNANDEZ CAMACHO DE ABREU","LIC DEPOSITARIA LOS PORTALES C A"," ","LICORERIA DEPOSITARIA LOS PORTALES C A","MERCADITO DE PETARE FTE. A LA AV.FC","O DE MIRANDAPETARE (ENTREGAR DENTRO"," DEL MERCADITO DE PETARE","414/2527302"," "," ","CARACAS","BLOQ.231116 MOROSID.MAYO 60 DIAS HD","CAMBIO SUP-01 020217 FZA VENTAS"," ","REACT.09/11/18 Z-01 A Z-13 GA","FERNANDEZ CAMACHO DE"," ABREU"," ","LIC DEPOSITARIA LOS PORTALES C A","MERCADITO DE PETARE FTE. A LA AV.FC","O DE MIRANDAPETARE (ENTREGAR DENTRO"," DEL MERCADITO DE PETARE"," "," "," ","RECIDE DE LUNES A VIERNES","10:00 AM A 4:00 PM","MARTES","J-00129747-2","M-N 3269","89250","No","05","CREDITO 5 DIAS","13","PETARE","05","18","LICORERIAS/BODEGONES","01","OFF PREMISSE","01","OFF PREMISSE","13","13","01 - CARLOS DA SILVA - OFF","RECIDE DE LUNES A VIERNES 10:00 AM A 4:00 PM"]
["J001297723","09 - CLIENTE INHABILITADO","IZCARAGUA COUNTRY CLUB A.C.","IZCARAGUA COUNTRY CLUB A.C."," ","IZCARAGUA COUNTRY CLUB A.C.","CARRETERA PETARE GUARENAS.","DISTRIBUIDOR IZCARAGUA. LOCAL","NRO. S/N URB. IZCARAGUA","0212.344.59.54"," "," ","CARACAS"," "," "," ","CAMBIO SUP 01 020217 FZA VENTAS","GONZALO L. FERNANDO"," "," ","IZCARAGUA COUNTRY CLUB A.C.","CARRETERA PETARE GUARENAS.","DISTRIBUIDOR IZCARAGUA. LOCAL","NRO. S/N URB. IZCARAGUA"," ","0212.344.59.54"," "," "," ","MIERCOLES","J-00129772-3","002C4133","15000","Sí","00","CONTADO","13","PETARE","04","10","CLUB SOCIALES","00","ESTANDAR","00","ESTANDAR","09","09","09 - CLIENTE INHABILITADO","   "]
["J001300252","24 - REYES OSWALDO","SUPERMERCADO JARDINELUSO, S.R.L.","SUPERMERCADO JARDINELUSO, S.R.L."," ","SUPERMERCADO JARDINELUSO, S.R.L.","CALLE 7. NRO 2. URB. LOS JARDINES","DEL VALLE."," ","(0212) 682-63-36"," "," ","CARACAS"," "," "," "," ","JOSE DA SILVA"," "," ","SUPERMERCADO JARDINELUSO, S.R.L.","CALLE 7. NRO 2. URB. LOS JARDINES","DEL VALLE - CARACAS"," "," ","(0212) 682-63-36"," ","RECIBE DE LUNES A VIERNES","DE 9:00AM A 3:00PM","MARTES","J-00130025-2","MN-1517-MY","89250","No","05","CREDITO 5 DIAS","24","CARICUAO","06","06","BAR/TABER./S. BAR/PUB/TAS","01","OFF PREMISSE","01","OFF PREMISSE","24","24","02 - VICTOR TORRES - OFF","RECIBE DE LUNES A VIERNES DE 9:00AM A 3:00PM"]
["J001301550","36  CLIENT-CORPORAT-OFIC.","PESCADERIA PUERTO SANTO, C.A","PESCADERIA PUERTO SANTO, C.A"," ","PESCADERIA PUERTO SANTO, C.A","AV. PRINCIPAL DE CAMPO CLARO. QTA","ROSETTA. LOCAL 2. URB. CAMPO CLARO"," ","0212 - 2345404"," "," ","CARACAS"," "," "," "," ","MAGALY M. LUGO","SIGNORINO CAMMARATA","JOSE N. SIGNORIO M","PESCADERIA PUERTO SANTO, C.A","AV. PRINCIPAL DE CAMPO CLARO. QTA","ROSETTA. LOCAL 2. URB. CAMPO CLARO"," "," ","0212 - 2345404"," "," "," ",null,"J-00130155-0","TRAMITE","89250","No","05","CREDITO 5 DIAS","36","VTAS.CORPORATIVAS","04","07","RESTAURANTES","02","ON PREMISSE","02","ON PREMISSE","36","36","71 - OFICINA","   "]
["J001305181","71 - OFICINA","PANADERIA PASTELERIA ROCARENA C.A.","PANADERIA PASTELERIA ROCARENA C.A."," ","PANADERIA PASTELERIA ROCARENA C.A.","AVDA.PRINCIPAL DE LA CARLOTA,EDIF.R","OCARENAPLANTA BAJA-MCPIO.SUCRE-CARA","CAS-EDO.MIRANDA","2380569"," "," ","CARACAS"," "," "," ","VERIFICAR A QUE VENDEDOR PERTENECE","MANUEL GONCALVES"," "," ","PANADERIA PASTELERIA ROCARENA C.A.","AVDA.PRINCIPAL DE LA CARLOTA,EDIF.R","OCARENAPLANTA BAJA-MCPIO.SUCRE-CARA","CAS-EDO.MIRANDA"," "," "," "," "," ",null,"J-00130518-1","PARTICULAR","15000","Sí","00","CONTADO","41","CADENAS NACIONAL","05","20","DELICATESES/FRIGO/CHARCUT","01","OFF PREMISSE","01","OFF PREMISSE"," ","71","71 - OFICINA","   "]
["J001305262","34 - MARQUINA CARLOS","FUENTE DE SODA CENT-PLAS C.A","FUENTE DE SODA CENT-PLAS C.A","15/11/23EP","FUENTE DE SODA CENT-PLAS C.A","AV.FRANCISCO DE MIRANDA C.C CENTRO","NIVEL 4 LOCAL CC437.S URBANIZACION","LOS PALOS GRANDES DE CHACAO","04143568080"," "," "," "," "," "," "," ","WILMER MARIÑO","AGOSTINHO DE ABREU"," ","FUENTE DE SODA CENT-PLAS C.A","AV.FRANCISCO DE MIRANDA C.C CENTRO","NIVEL 4 LOCAL CC437.S URBANIZACION","LOS PALOS GRANDES CHACAO"," ","04143568080"," ","DE LUNES A VEIRNES","09:00AM A 05:00PM","JUEVES","J-001305262","3001509","89250","No","05","CREDITO 5 DIAS","10","ALTAMIRA-OFF","04","07","RESTAURANTES","01","OFF PREMISSE","00","ESTANDAR","34","34","01-GUERRERO SALVADOR -OFF","DE LUNES A VEIRNES 09:00AM A 05:00PM"]
["J001307516","31 - RODRIGUEZ WLADIMIR","I.U.T.I. RODOLFO LOERO A.","I.U.T.I. RODOLFO LOERO A."," ","I.U.T.I. RODOLFO LOERO A.","FINAL AV. CAURIMARE (FTE A LA CLINI","CA CAURIMARE)COLINAS DE BELLO MONTE",",SEDE I.U.T.I.R.L.A.","0212.751.30.32/0212."," "," ","CARACAS"," "," "," "," ","JOSE RAFAEL D' LACOS","TE"," ","I.U.T.I. RODOLFO LOERO A.","FINAL AV. CAURIMARE (FTE A LA CLINI","CA CAURIMARE)COLINAS DE BELLO MONTE",",SEDE I.U.T.I.R.L.A."," "," "," "," "," ",null,"J-00130751-6","PARTICULAR","89250","No","05","CREDITO 5 DIAS","30","PARROQUIA EL RECREO","04","14","UNIVERSID./CENTROS ESTUD","02","ON PREMISSE","02","ON PREMISSE"," ","31"," ","   "]
["J001308288","643 - SKO RIVERO CARLOS","DISTRIBUIDORA DINAMICA C A","DISTRIBUIDORA DINAMICA C A","285.75.93","DISTRIBUIDORA DINAMICA C A","CALLE EL CARMEN SECTOR EL RECREO","EDIF. DINANZA CAUCAGUA"," ","(0234) 662.01.68","(0416) 627.74.55","dinamicaccs@hotmail.com","BARLOVENTO","CAMBIO DE ZONA 36 A 43 11/04/23 YR","CAMBIO DE ZONA 43 A 60 13/04/23 PH","CAMBIO DE ZONA 10 A 610 13/04/23 PH","ACTUALIZACION DE FICHA 20/4/23 YR","JORGE DA ROCHA"," "," ","DISTRIBUIDORA DINAMICA C A","CALLE EL CARMEN SECTOR EL RECREO","EDIF. DINANZA CAUCAGUA"," "," ","(0234) 662.01.68"," ","RECIBE LUNES A VIERNES"," 8:00 AM A 4:00 PM","VIERNES","J-00130828-8","M-Y 532","89250","No","05","CREDITO 5 DIAS","10","ALTAMIRA-OFF","01","01","DE LICORES CON FZA DE VTA","19","SUCU-PROLI-CO-DISTR CILCA","19","SUCU-PROLI-CO-DISTR CILCA","643","643","01 - GUERRERO SALVADOR - OFF","RECIBE LUNES A VIERNES  8:00 AM A 4:00 PM"]
["J001308547","31 - RODRIGUEZ WLADIMIR","SELF SERVICE LA BOLOÑESE, C.A","SELF SERVICE LA BOLOÑESE, C.A"," ","SELF SERVICE LA BOLOÑESE, C.A","CALLE 9 ENTRE 4 Y 5 EDIFICIO REXPLA","NTA BAJA-LA URBINA-EDO.MIRANDA"," ","0212 242 51 72","NO POSEE","NO POSEE","CARACAS"," "," "," ","CAMBIO DE  ZONA 32 A 31 260922  MYZ","FLORENTINO MELIN"," "," ","SELF SERVICE LA BOLOÑESE, C.A","CALLE 9 ENTRE 4 Y 5 EDIFICIO REXPLA","NTA BAJA-LA URBINA-EDO.MIRANDA"," "," "," "," ","RECIB MIERCOLES A VIERNES"," 12:00M A 4:30PM","MIERCOLES","J-00130854-7","C 931","89250","No","05","CREDITO 5 DIAS","32","SUCRE - BARUTA","04","07","RESTAURANTES","02","ON PREMISSE","02","ON PREMISSE","31","31","01 - CARLOS DA SILVA - ON","RECIB MIERCOLES A VIERNES  12:00M A 4:30PM"]
["J001308890","09 - CLIENTE INHABILITADO","INVERSIONES MIS HIJOS,C.A.","REST.PARRILLADA DON QUIJOTE 2"," ","INVERS.MIS HIJOS,C.A.(R.P.DON QUIJOTE 2)","AV.EL PARQUE SAN BERNARDINO CASI AV",".AVILA-MNCP.LIBERTADOR-CARACAS-DTTO",".CAPITAL","(0212) 577.63.93","(0424) 267.34.33","vieiramanvel50@gmail.com","CARACAS"," ","CAMBIO V-33 AL 31 17-09-19 YM","BLOQ A 0DIAS X FACT A+19 DIAS JA","CAMBIO A ZONA 09 29/01/2020 JA","CLEMENTE TEXEIRA"," "," ","REST.PARRILLADA DON QUIJOTE 2","AV.EL PARQUE SAN BERNARDINO CASI AV",".AVILA-MNCP.LIBERTADOR-CARACAS-DTTO",".CAPITAL"," "," "," ","RECIBE  LUNES A VIERNES"," 09:00 AM A 05:00 PM","MIERCOLES","J-00130889-0","C 1162","15000","Sí","00","CONTADO","33","CENTRO-CANDELARIA","04","07","RESTAURANTES","02","ON PREMISSE","02","ON PREMISSE","09","09","09 - CLIENTE INHABILITADO","RECIBE  LUNES A VIERNES  09:00 AM A 05:00 PM"]
["J001313176","09 - CLIENTE INHABILITADO","BAR RESTAURANT BARESLAENCA,C.A.","BAR RESTAURANT BARESLAENCA,C.A."," ","BAR RESTAURANT BARESLAENCA,C.A.","CENTRO COMERCIAL LA ENCRUSIJADA DE","CAUCAGUALOCALES #.-3 -MNCP.ACEVEDO-","CAUCAGUA-EDO.MIRANDA","(0234) 662.17.77","(0416) 653.48.17","bareslaenca@gmail.com","BARLOVENTO"," ","2CHD 010217/220217 HP4 LA/MYZ","2ched excep.(05 Y 17/05/17) myz","CAMBIO DE ZONA 12 A 09 150923 RM","ARLINDO GOMEZ","A"," ","BAR RESTAURANT BARESLAENCA,C.A.","CENTRO COMERCIAL LA ENCRUSIJADA DE","CAUCAGUALOCALES #.-3 -MNCP.ACEVEDO-","CAUCAGUA-EDO.MIRANDA"," "," "," ","RECIBE  LUNES A VIERNES"," 07:00 AM A 04:00 PM","LUNES","J-00131317-6","034-MN-1086","15000","No","05","CREDITO 5 DIAS","09","CLIENTE INHABILITADO","05","18","LICORERIAS/BODEGONES","01","OFF PREMISSE","01","OFF PREMISSE","09","09","09 - CLIENTE INHABILITADO","RECIBE  LUNES A VIERNES  07:00 AM A 04:00 PM"]
["J001313800","09 - CLIENTE INHABILITADO","LICORERIA HIELO POLAR PINGÜINO, C.A","LICORERIA HIELO POLAR PINGÜINO, C.A"," ","LICORERIA HIELO POLAR PINGÜINO, C.A.","AVENIDA PRINCIPAL DE CHARALLAVE,AVE","NIDABOLIVAR,CHARALLAVE"," ","2486491"," "," ","VALLE DEL TUY"," "," "," "," ","JOAO ABREU"," "," ","LICORERIA HIELO POLAR PINGÜINO, C.A","AVENIDA PRINCIPAL DE CHARALLAVE,AVE","NIDABOLIVAR,CHARALLAVE"," "," "," "," ","PASADO ZONA 01.SUP JHONNY","R. S/SOLIC DEL 11/03/11",null,"J-00131380-0","MY-840","15000","No","05","CREDITO 5 DIAS","14","LITORAL CENTRAL","05","18","LICORERIAS/BODEGONES","01","OFF PREMISSE","01","OFF PREMISSE"," ","09","09 - CLIENTE INHABILITADO","PASADO ZONA 01.SUP JHONNY R. S/SOLIC DEL 11/03/11"]
["J001313818","09 - CLIENTE INHABILITADO","LICORERIA ALVARENGA C.A","LICORERIA ALVARENGA C.A"," ","LICORERIA ALVARENGA C.A","ENTRADA A CHARALLAVE CALLE ALVARENG","ACHARALLAVE"," ","0239 248 18 78","0414 369 80 51","NO POSEE","VALLE DEL TUY"," "," "," ","CAMBIO DE ZONA 21 A 09 06/12/22 ST","CARLOS OLIN"," "," ","LICORERIA ALVARENGA C.A","ENTRADA A CHARALLAVE CALLE ALVARENG","ACHARALLAVE"," "," "," "," ","RECIBE  LUNES A JUEVES"," 8:00AM A 5:00PM","LUNES Y MIERCOLES","J-00131381-8","039-MY-1027","15000","No","05","CREDITO 5 DIAS","09","CLIENTE INHABILITADO","06","18","LICORERIAS/BODEGONES","01","OFF PREMISSE","01","OFF PREMISSE","09","09","09 - CLIENTE INHABILITADO","RECIBE  LUNES A JUEVES  8:00AM A 5:00PM"]
["J001316485","09 - CLIENTE INHABILITADO","HOTEL AEROPUERTO C.A.","HOTEL AEROPUERTO"," ","HOTEL AEROPUERTO C.A.","AVENIDA CLUB NAUTICO CON AVENIDA 3,","MANZANA 5, URBANIZACION ATLANTIDA","CATIA LA MAR EDO. VARGAS","(0212) 351-11-45","(0414) 107-21-70"," ","LA GUAIRA"," "," ","SIN DESC.FINANC.DESDE 14-03-14","CAMBIO Z-01 AUT GCIA VENTAS 210717","GIUSEPPE MEROLA M."," "," ","HOTEL AEROPUERTO C.A.","AV. CLUB NAUTICO LOCAL HOTEL APTO.","HAB. URBANIZACION ATLANTIDA CATIA","LA MAR EDO. VARGAS"," ","(0212) 351-11-45"," ","RECIBE DE LUNES A VIERNES","DE 8:00 AM A 4:00 PM","MARTES","J-00131648-5","031-MN-1304","15000","Sí","00","CONTADO","14","LITORAL CENTRAL","04","09","DISCOTECAS Y NIGHT CLUBS","02","ON PREMISSE","02","ON PREMISSE","09","09","09 - CLIENTE INHABILITADO","RECIBE DE LUNES A VIERNES DE 8:00 AM A 4:00 PM"]
["J001317163","36  CLIENT-CORPORAT-OFIC.","VIGILANTES UNION, C.A.","VIGILANTES UNION, C.A.","240913","VIGILANTES UNION, C.A.","AV. R. HAHN QUINTA VIRGILUNION NRO.","URB. SANTA MONICA - CARACAS"," ","0212-977.70.85","(0414) 338-47-72"," ","CARACAS"," "," "," "," ","FRANKLIN R. CHAPARRO"," "," ","VIGILANTES UNION, C.A.","AV RIO CAURA EDIF CENTRO","EMPRESARIAL TORRE HUMBOLT PISO 11","OF 11-13 URB PARQUE HUMBOLT"," ","(0212) 977-70-85"," "," "," ",null,"J-00131716-3","PARTICULAR","89250","No","05","CREDITO 5 DIAS","36","VTAS.CORPORATIVAS","06","31","PARTICULAR","00","ESTANDAR","00","ESTANDAR","36","36","71 - OFICINA","   "]
["J001318453","31 - RODRIGUEZ WLADIMIR","REST.Y LUNCHERIA EL BARBECHO SRL","REST.Y LUNCHERIA EL BARBECHO SRL"," ","REST.Y LUNCHERIA EL BARBECHO SRL","AV.BICENTENARIA,EDIFICIO JUAN XXIII","LOS TEQUES-EDO.MIRANDA"," ","0212.322.51.85"," "," ","LOS TEQUES"," "," "," "," ","NULL"," "," ","REST.Y LUNCHERIA EL BARBECHO SRL","AV.BICENTENARIA,EDIFICIO JUAN XXIII","LOS TEQUES-EDO.MIRANDA"," "," "," "," "," "," ",null,"J-00131845-3","032-CVC-746","89250","No","05","CREDITO 5 DIAS","25","LOS TEQUES","04","07","RESTAURANTES","02","ON PREMISSE","02","ON PREMISSE"," ","31"," ","   "]
["J001324062","552 - CARLOS C. LIC.F.P.G","LIC.Y FLOR.EL PALMAR DE GUATIRE,C.A","LIC.Y FLOR.EL PALMAR DE GUATIRE,SRL"," ","LIC.Y FLOR.EL PALMAR DE GUATIRE,SRL","FINAL AV.BERMUDEZ CRUCE CON CALLE","ZAMORA EDIFICIO CALDERA GUATIRE","-EDO.MIRANDA","0212/3445896"," "," ","GUATIRE"," "," "," "," ","JUAN CARLOS DE ABREU","S F."," ","LIC.Y FLOR.EL PALMAR DE GUATIRE,C.A","AV.BERMUDEZ DIAGONAL A LA BOMBA,AL","LADO DE PAGAMENOS- GUATIRE-EDO.MIRA","DA"," "," "," "," "," ","LUNES","J-00132406-2","002-MN-2805","8000","No","05","CREDITO 5 DIAS","55","OFICINA GRUPO PROLICOR","08","33","RELACIONADOS","10","PROLICOR,C.A","10","PROLICOR,C.A","552","552","05 - CARLOS CARREIRA - GRUPO PROLICOR","   "]
["J001324569","32 - HERNANDEZ EDGAR","POLLO EN BR. BELLO HORIZONTE,C.A.","POLLO EN BRASA BELLO HORTE,C.A."," ","POLLO EN BRASA BELLO HORIZONTE,C.A.","AV. LA PAZ FRENTE A LA ESTACION DEL"," METROEL PARAISO - MNCP.LIBERTADOR-","CARACAS","472-12-20"," "," ","CARACAS"," ","CAMBIO DE ZONA 33 A 09 16/9/19 GT"," ","CAMBIO DE ZONA 09 A 32 08/06/23 PH","ALVARO  MENDES","LEONER FERNANDEZ"," ","POLLO EN BRASA BELLO HORTE,S.R.L.","AV. LA PAZ FRENTE A LA ESTACION DEL"," METROEL PARAISO - MNCP.LIBERTADOR-","CARACAS"," "," "," ","RECIBE LUNES A VIERNES","DE 8AM HASTA 11:30AM","MARTES","J-00132456-9","C 4633","89250","No","00","CONTADO","09","CLIENTE INHABILITADO","04","07","RESTAURANTES","02","ON PREMISSE","02","ON PREMISSE","32","32","01 - GUERRERO SALVADOR - OFF","RECIBE LUNES A VIERNES DE 8AM HASTA 11:30AM"]
["J001328904","02 - REQUENA JOHAN - OFF","CUBERTERIA LA DORADA, S.R.L.","CUBERTERIA LA DORADA, S.R.L."," ","CUBERTERIA LA DORADA, S.R.L.","CALLE CEA N- 5 FRENTE AL HOSPITAL","DE COCHE MNCP.LIBERTADOR-CARACAS","DTTO. FEDERAL","(0212) 681.38.74","BLOQ.08-08-13"," ","CARACAS"," "," "," "," ","RAFAEL GONZALEZ"," "," ","CUBERTERIA LA DORADA, S.R.L.","CALLE CEA N- 5 FRENTE AL HOSPITAL","DE COCHE MNCP.LIBERTADOR-CARACAS","DTTO. FEDERAL"," "," ","(0212) 681-38-74","RECIBE DE LUNES A VIERNES","DE 11:00 AM Y 6:00 PM","MARTES","J-00132890-4","MY-1719","89250","Sí","00","CONTADO","24","CARICUAO","04","07","RESTAURANTES","01","OFF PREMISSE","01","OFF PREMISSE"," ","02"," ","RECIBE DE LUNES A VIERNES DE 11:00 AM Y 6:00 PM"]
["J001335021","43 - RIVERO CARLOS","URBILICORES,C.A.","URBILICORES C A"," ","URBILICORES C A","AV. PRINCIPAL DE LA URBINA EDIFICIO"," VADUZ-PETARE"," ","(0212) 241.21.95","(0414) 281.93.39","urbilicores@hotmail.com","PETARE"," "," ","2 ched 210616/220617 14hp MYZ","SEG.BLOQ.ANALISIS PAGO HD 220617","LUIS GONCALVEZ"," "," ","URBILICORES C A","AV. PRINCIPAL DE LA URBINA EDIFICIO"," VADUZ-PETARE"," "," "," "," ","RECIBE  LUNES A JUEVES"," 09:00 AM A 05:00 PM","MIERCOLES","J-00133502-1","MM -219","89250","No","05","CREDITO 5 DIAS","43","PROLICOR / CELICOR","01","01","DE LICORES CON FZA DE VTA","01","OFF PREMISSE","01","OFF PREMISSE","43","43","01-CARLOS DA SILVA -FRANQUICIAS PROLICOR/CELICOR","RECIBE  LUNES A JUEVES  09:00 AM A 05:00 PM"]
["J001335900","502 - DRA. ALEXI Y. PINT0","PORTAL LA URBINA, C.A.","PORTAL LA URBINA, C.A."," ","PORTAL LA URBINA, C.A.","CALLE 13 EDF. LILIANA PISO PB LOCAL","B URB. LA URBINA, PETARE"," ","(0212) 243-41-02"," "," ","CARACAS"," "," "," ","CLIENTE EN LEGAL","JOSE F. LOURENCIO"," "," ","PORTAL LA URBINA, C.A.","CALLE 13 EDF. LILIANA PISO PB LOCAL","B URB. LA URBINA, PETARE"," "," ","(0212) -243-41-02"," "," "," ",null,"J-00133590-0","002-MN-6549","15000","Sí","00","CONTADO","13","PETARE","04","07","RESTAURANTES","02","ON PREMISSE","02","ON PREMISSE"," ","502","01 - CARLOS DA SILVA","   "]
["J001337547","09 - CLIENTE INHABILITADO","LICORERIA EL ESTRIBO, C.A.","LICORERIA EL ESTRIBO"," ","LICORERIA EL ESTRIBO, C.A.","CARRETERA PANAMERICANA KM 21 C/C LO","SPINOS LOCAL 6 CORRALITO-MNCP.GUAIC","AIPURO-LOS TEQUE","(0212) 383.45.55","(0424) 300.02.04","charlydosantos@hotmail.com","LOS TEQUES"," "," "," ","CAMBIO DE ZONA 25 A 09 211122 LL","CHARLY DO SANTOS"," "," ","LICORERIA EL ESTRIBO","CARRETERA PANAMERICANA KM 21 C/C LO","SPINOS LOCAL 6 CORRALITO-MNCP.GUAIC","AIPURO-LOS TEQUE"," "," "," ","RECIBE  LUNES A VIERNES"," 10:00AM A 3:00PM","LUNES","J-00133754-7","M-M 6","15000","No","05","CREDITO 5 DIAS","09","CLIENTE INHABILITADO","06","18","LICORERIAS/BODEGONES","01","OFF PREMISSE","01","OFF PREMISSE","09","09","09 - CLIENTE INHABILITADO","RECIBE  LUNES A VIERNES  10:00AM A 3:00PM"]
["J001337555","09 - CLIENTE INHABILITADO","LICORERIA EL SUSPIRO, C.A.","LICORERIA EL SUSPIRO,C.A."," ","LICORERIA EL SUSPIRO,C.A.","AVENIDA BERTORELLI CISNEROS CON AV","MIQUELENALOCAL 92 LOS TEQUES"," ","(0212) 364.58.74","(0414) 011.11.26","m_ze-d_erra@hotmail.com","LOS TEQUES"," "," "," ","CAMBIO DE ZONA 25 A 09 10/4/23 YR","MANUEL DOS RAMOS"," "," ","LICORERIA EL SUSPIRO,C.A.","AVENIDA BERTORELLI CISNEROS CON AV","MIQUELENALOCAL 92 LOS TEQUES"," "," ","(0212) 364-58-74"," ","RECIBE  LUNES A VIERNES"," 10:00AM A 7:00 PM","LUNES","J-00133755-5","M-M 5485","15000","No","05","CREDITO 5 DIAS","25","LOS TEQUES","06","18","LICORERIAS/BODEGONES","01","OFF PREMISSE","01","OFF PREMISSE","09","09","09 - CLIENTE INHABILITADO","RECIBE  LUNES A VIERNES  10:00AM A 7:00 PM"]
["J001340270","09 - CLIENTE INHABILITADO","SPINOLA,C.A.","AUTOMERCADO PARA TI"," ","SPINOLA,C.A.(S/M EL CENTRO SPINOLA,C.A.)","CALLE EL ROSARIO ENTRE 4TA. Y 5TA.","TRANSV.LOS CHORROS"," "," "," "," ","CARACAS"," "," "," "," ","FRANCISCO CABALLERO"," "," ","AUTOMERCADO PARA TI","CALLE EL ROSARIO ENTRE 4TA. Y 5TA.","TRANSV.LOS CHORROS"," "," "," "," "," "," ",null,"J-00134027-0","M-N 9","15000","No","05","CREDITO 5 DIAS","13","PETARE","05","21","SUPERMERCADOS/AUTOMERCADO","01","OFF PREMISSE","01","OFF PREMISSE","09","09","09 - CLIENTE INHABILITADO","   "]
["J001345671","09 - CLIENTE INHABILITADO","SUPERMERCADO PALO VERDE, C.A.","SUPERMERCADO PALO VERDE, C.A."," ","SUPERMERCADO PALO VERDE, C.A.","AV.PPAL. DE PALO VERDE EDF. PARAGUA","PISO PB LOCAL 1 Y 2 URB. PALO VERDE"," ","(0212) 251.14.76","(0412) 368.86.88"," ","PALO VERDE","2CHED 100916/110917 7HP MYZ","BLOQ SEG PAGO TRANSF 111018 WP","CAMB Z13 A Z01 NO VEND + 14219 YR","CLIENTE INHABILITADO 29/08/19 JA","CHUNYIN NIE DE LIU"," "," ","SUPERMERCADO PALO VERDE, C.A.","AV.PPAL. DE PALO VERDE EDF. PARAGUA","PISO PB LOCAL 1 Y 2 URB. PALO VERDE"," "," ","(0212) 251-14-76"," ","RECIBE  LUNES A VIERNES"," 9 A 1 PM -  3 A 5 PM","MIERCOLES","J-00134567-1","002-MN-5357","15000","Sí","00","CONTADO","13","PETARE","05","21","SUPERMERCADOS/AUTOMERCADO","01","OFF PREMISSE","01","OFF PREMISSE","09","09","09 - CLIENTE INHABILITADO","RECIBE  LUNES A VIERNES  9 A 1 PM -  3 A 5 PM"]
["J001347828","35 - PEREZ JOSMAN","FUENTE DE SODA BABY BLUE, C.A","FUENTE DE SODA BABY BLUE, C.A","25-07-16","FUENTE DE SODA BABY BLUE, C.A","AV FRANCISCO DE MIRANDA EDIF TORRE","LA PRIMERA PISO PB LOCAL B URB","CAMPO ALEGRE CARACAS (CHACAO)","(0212) 953.24.43","(0414) 241.74.64","restbabyblue@gmail.com","CARACAS"," "," "," ","CAMBIO V30 AL V35 15112016 HD","ANTONIO GONCALVEZ F."," "," ","FUENTE DE SODA BABY BLUE, C.A","AV FRANCISCO DE MIRANDA EDIF TORRE","LA PRIMERA PISO PB LOCAL B URB","CAMPO ALEGRE CARACAS (CHACAO)"," ","(0212) 953-24-43"," ","RECIBE LUNES A VIERNES"," 07 A 11 AM - 3 PM A 5 PM","MIERCOLES","J-00134782-8","70100000013","89250","No","05","CREDITO 5 DIAS","35","EL ROSAL-CHACAO","04","07","RESTAURANTES","02","ON PREMISSE","02","ON PREMISSE","35","35","02 - VICTOR TORRES - ON","RECIBE LUNES A VIERNES  07 A 11 AM - 3 PM A 5 PM"]
["J001356509","02 - REQUENA JOHAN - OFF","FRIGORIFICO IDANIA S R L","FRIGORIFICO IDANIA S R L"," ","FRIGORIFICO IDANIA S R L","RES.SAN JUAN LOCAL B-4,ESQUINA SAN","PEDROA RIO SAN JUAN-CARACAS-DTTO.CA","PITAL","4625014"," "," ","CARACAS"," "," "," "," ","GONCALVES TELES JOSE"," "," ","FRIGORIFICO IDANIA S R L","RES.SAN JUAN LOCAL B-4,ESQUINA SAN","PEDROA RIO SAN JUAN-CARACAS-DTTO.CA","PITAL"," "," "," ","TRASP. SUP 02-CARLOS GON.","S/S FECHA 02/02/2013",null,"J-00135650-9","002-MM-39","89250","Sí","05","CREDITO 5 DIAS","23","CENTRO-SAN MARTIN","05","20","DELICATESES/FRIGO/CHARCUT","01","OFF PREMISSE","01","OFF PREMISSE"," ","02"," ","TRASP. SUP 02-CARLOS GON. S/S FECHA 02/02/2013"]
["J001365648","20 - DIEGO MANUEL","PERFERRA C.A.","DELICATESES REY DAVID"," ","PERFERRA C.A.","AVDA. FERMIN TORO EDIF. QUISMEL","LOCAL  A SAN BERNARDINO- CARACAS"," ","0212 551 00 64","0424 179 02 40","carlosm.hernandez0@gmail.com","CARACAS"," ","CONTRIB.ESPEC.FACTURAR AL 21 C/MES","BLOQ. X  MHP 21 DIA CALLE 250619 GA","BLOQ SEG PAGO POR TRANF 021019 WP","ANACLETO TEIXEIRA DE"," FREITAS"," ","DELICATESES REY DAVID","AVDA. FERMIN TORO EDIF. QUISMEL","LOCAL  A SAN BERNARDINO- CARACAS"," "," ","(0212) 550-07-10"," ","RECIBE  LUNES A VIERNES","ANTES  LAS 11:30AM","JUEVES","J-00136564-8","MN-4526","89250","Sí","05","CREDITO 5 DIAS","20","CENTRO DE CARACAS","06","20","DELICATESES/FRIGO/CHARCUT","01","OFF PREMISSE","01","OFF PREMISSE","20","20","02 - VICTOR TORRES - OFF","RECIBE  LUNES A VIERNES ANTES  LAS 11:30AM"]
["J001366105","13 - GUDIÑO FABIAN","SUPERMERCADO MAGDALENA C.A.","SUPERMERCADO MAGDALENA C.A."," ","SUPERMERCADO MAGDALENA C.A.","CALLE SUCRE CON AV. MIS ENCANTOS","EDIFICIO  MAR AZUL TORRE B PISO PB","CHACAO","(0212) 266.47.54","(0412) 016.06.66","s.magdaluna@hotmail.com","CARACAS"," "," ","CAMBIO V-42 AL V-10 MYZ 16-02-22 FL","CAMBIO V-10 AL V-13 05-09-23 RM","ALEXIS HENRIQUES"," "," ","SUPERMERCADO MAGDALENA","CALLE SUCRE CON AV. MIS ENCANTOS","EDIFICIO  MAR AZUL TORRE B PISO PB","CHACAO"," ","0212.266.65.17"," ","RECIBE  LUNES A JUEVES","8AM A 3PM","MIERCOLES","J-00136610-5","02 MN 5377","89250","No","05","CREDITO 5 DIAS","10","ALTAMIRA-OFF","05","21","SUPERMERCADOS/AUTOMERCADO","01","OFF PREMISSE","01","OFF PREMISSE","13","13","01 - GUERRERO SALVADOR - OFF","RECIBE  LUNES A JUEVES 8AM A 3PM"]
["J001366628","43 - RIVERO CARLOS","ABASTOS MONTESANO, S.R.L.","ABASTOS MONTESANO, S.R.L."," ","ABASTOS MONTESANO, S.R.L.","AV.2,ESQUINA CALLE CHILE,NUEVA CARA","CAS EDIF.MONTESANO,CATIA,PQUIA.SUCR","E CASA S/N P.B","(0212) 870-30-37"," "," ","CARACAS"," "," ","CAMBIO DE ZONA 42 A 22 26/07/22 ST","CAMBIO DE ZONA 22 A 43 5/4/23 LL","JOAO LUIS DE GOUVEIA"," "," ","ABASTOS MONTESANO, S.R.L.","AV.2,ESQUINA CALLE CHILE,NUEVA CARA","CAS EDIF.MONTESANO,CATIA,PQUIA.SUCR","E CASA S/N P.B"," ","(0212) 870-30-37"," ","RECIBE DE LUNES A JUEVES","DE 11:00AM A 3:00PM","JUEVES","J-00136662-8","MY-0189","89250","No","05","CREDITO 5 DIAS","42","PROLICOR / CELICOR","05","23","ABASTOS PEQUEÑOS/BODEGAS","01","OFF PREMISSE","01","OFF PREMISSE","43","43","01 - GUERRERO SALVADOR - OFF","RECIBE DE LUNES A JUEVES DE 11:00AM A 3:00PM"]
["J001368825","02 - REQUENA JOHAN - OFF","LICORERIA CHAR.LOS TRES COMPAÑEROS","LIC CHAR.LOS TRES COMPAÑEROS S R L"," ","LICORERIA CHAR.LOS TRES COMPAÑEROS S R L","ESQUINA DE PESCADOR RESIDENCIAS PES","CADORESQUINA SAN JUAN CARACAS"," ","4813130"," "," ","CARACAS"," "," "," "," ","ANTONIO J.ENRIQUEZ"," "," ","LIC CHAR.LOS TRES COMPAÑEROS S R L","ESQUINA DE PESCADOR RESIDENCIAS PES","CADORESQUINA SAN JUAN CARACAS"," "," "," "," "," "," ",null,"J-00136882-5","M-N 1132","89250","No","05","CREDITO 5 DIAS","23","CENTRO-SAN MARTIN","05","18","LICORERIAS/BODEGONES","01","OFF PREMISSE","01","OFF PREMISSE"," ","02"," ","   "]
["J001375600","71 - OFICINA","AMAZING GLOBAL DE VENEZUELA C.A","AMAZING GLOBAL DE VENEZUELA C.A","26/09/18","AMAZING GLOBAL DE VENEZUELA C.A","AV PRINCIPAL DE LA URBINA CALLE 1-2","CENTRO EMPRESARIAL INECOM PISO 1","OFC 1 LA URBINA CARACAS","+58212-243-5077/5175","301122"," "," "," "," "," "," ","CARLOS GONZALEZ"," "," ","AMAZING GLOBAL DE VENEZUELA","AV PRINCIPAL DE LA URBINA CALLE 1-2","CENTRO EMPRESARIAL INECOM PISO 1","OFC 1 LA URBINA CARACAS"," "," "," ","DESPACHAR EN LA OFICINA","PRINCIPAL NUBE AZUL",null,"J-00137560-0","PARTICULAR","15000","No","05","CREDITO 5 DIAS","71","OFICINA","07","31","PARTICULAR","01","OFF PREMISSE","01","OFF PREMISSE","71","71","71 - OFICINA","DESPACHAR EN LA OFICINA PRINCIPAL NUBE AZUL"]
["J001380906","09 - CLIENTE INHABILITADO","SUPERMERCADO LA LUCHADORA,S.R.L.","SUPERMERCADO LA LUCHADORA,S.R.L."," ","SUPERMERCADO LA LUCHADORA,S.R.L.","AV.PPAL.DE LAS MAYAS VIA LA MARIPOS","N.17 ENTRADA BARRIO PTO.ESCONDIDO","CARACAS","0212- 682.44.38","(0212) 682-44-38"," ","CARACAS"," "," ","CAMBIO DE ZONA 26 A 24 16/9/19 GT","CAMBIO DE ZONA 24 A 09 10/08/23 LI","RUI DA ENCARNACION C","APONTE"," ","SUPERMERCADO LA LUCHADORA,S.R.L.","AV.PPAL.DE LAS MAYAS VIA LA MARIPOS","AN.17 ENTRADA BARRIO PTO.ESCONDIDO","CARACAS"," ","0212 682.44.38","0212 682.63.07","RECIBE DE LUNES A VIERNES","DE 9 A 12 M Y 2 A 5 PM","MARTES","J-00138090-6","M-N 5676","15000","No","05","CREDITO 5 DIAS","09","CLIENTE INHABILITADO","06","21","SUPERMERCADOS/AUTOMERCADO","01","OFF PREMISSE","01","OFF PREMISSE","09","09","09 - INHABILITADO","RECIBE DE LUNES A VIERNES DE 9 A 12 M Y 2 A 5 PM"]
["J001383018","09 - CLIENTE INHABILITADO","MISTER PEPE SRL","MISTER PEPE SRL"," ","MISTER PEPE SRL","AV. PPAL DE LA CARLOTA. EDIF CAPRI","PISO PB. LOCAL UNICO. URB LA","CARLOTA","0212 - 235.88.30"," "," ","CARACAS"," "," "," ","CAMBIO DE Z 31 A ZONA 09 200919 JA","SANDE B. JOSE L"," "," ","MISTER PEPE SRL","AV. PPAL DE LA CARLOTA. EDIF CAPRI","PISO PB. LOCAL UNICO. URB LA","CARLOTA."," ","0212 - 235.88.30"," "," "," ",null,"J-00138301-8","TRAMITE","15000","Sí","00","CONTADO","31","LA CASTELLANA","04","07","RESTAURANTES","02","ON PREMISSE","02","ON PREMISSE","09","09","09 - CLIENTE INHABILITADO","   "]
["J001383697","31 - RODRIGUEZ WLADIMIR","RESTAURANT ALTAMAR, C.A.","RESTAURANT ALTAMAR"," ","RESTAURANT ALTAMAR, C.A.","3 TRANSVERSAL ALTAMIRA LADO THE PLA","CECARACAS"," ","(0212) 262.18.13","(0212) 261.97.65","restaurantaltamar@hotmail.com","CARACAS"," "," "," ","CAMBIO DE  ZONA 32 A 31 260922  MYZ","VICENTE SANTANIELO"," "," ","RESTAURANT ALTAMAR, C.A.","3 TRANSVERSAL ALTAMIRA LADO THE PLA","CECARACAS"," "," "," "," ","RECIBE  LUNES A VIERNES"," 08:00 AM A 11:30 AM","MARTES","J-00138369-7","07001000778","89250","No","05","CREDITO 5 DIAS","31","LA CASTELLANA","04","07","RESTAURANTES","02","ON PREMISSE","02","ON PREMISSE","31","31","01 - CARLOS DA SILVA - ON","RECIBE  LUNES A VIERNES  08:00 AM A 11:30 AM"]
["J001387455","31 - RODRIGUEZ WLADIMIR","MANEVAN C A","KIKA TASCA"," ","MANEVAN C A ( KIKA TASCA )","NIVEL C2 CENTRO COMERCIAL TAMANACOC","ARACAS"," ","0212.959.19.95"," "," ","CARACAS"," "," "," "," ","MARIA VARELA"," "," ","KIKA TASCA","NIVEL C2 CENTRO COMERCIAL TAMANACOC","ARACAS"," "," "," "," "," "," ",null,"J-00138745-5","C 5661","89250","No","05","CREDITO 5 DIAS","30","PARROQUIA EL RECREO","04","06","BAR/TABER./S. BAR/PUB/TAS","02","ON PREMISSE","02","ON PREMISSE"," ","31"," ","   "]
["J001388192","31 - RODRIGUEZ WLADIMIR","HOTEL BAR JARDIN LA ESTRELLA S.R.L.","HOTEL BAR JARDIN LA ESTRELLA"," ","HOTEL BAR JARDIN LA ESTRELLA","AV CARACAS SAN BERNANDINO QTA","AMELIZA Nº7"," ","5775491-5782861"," "," ","CARACAS"," "," "," "," ","AGOSTIHNO PAULO PITA","LINO MANUEL DE FARIA"," ","HOTEL BAR EL JARDIN LA ESTRELLA","AV CARACAS SAN BERNANDINO QTA","AMELIZA Nº 7"," "," ","0212-5775491"," ","TRASP.AL 03 SUP.CARLOS DA","SILVA S/SOLIC.24-01-2011",null,"J-00138819-2","C-0624","89250","No","05","CREDITO 5 DIAS","33","CENTRO-CANDELARIA","04","08","HOTELES/CASINOS/BINGOS","02","ON PREMISSE","02","ON PREMISSE"," ","31"," ","TRASP.AL 03 SUP.CARLOS DA SILVA S/SOLIC.24-01-2011"]
["J001392769","09 - CLIENTE INHABILITADO","INVERSIONES CANDYMAR,C.A","INVERSIONES CANDYMAR,C.A"," ","INVERSIONES CANDYMAR,C.A","CARRETERA NACIONAL CAUCAGUA","HIGUEROTE. CC. SERVICIO LAS","MERCEDES. NIVEL PB. LOCAL NRO 1"," "," "," ","HIGUEROTE","SECTOR PARQUE AGRIN"," "," "," ","PESTANA ANGEL"," "," ","INV.CANDYMAR,C.A","CARRETERA NACIONAL CAUCAGUA","HIGUEROTE. CC. SERVICIO LAS","MERCEDES. NIVEL PB. LOCAL NRO 1","SECTOR PARQUE AGRIN"," "," ","CAMB.RAZON SOCIAL Y TRASL","SUP-01 S/S FECHA 23/0713","MIERCOLES","J-00139276-9","M-M 636","15000","Sí","00","CONTADO","12","BARLOVENTO","05","19","TIENDAS DE CONVENIENCIA","01","OFF PREMISSE","01","OFF PREMISSE"," ","09","09 - CLIENTE INHABILITADO","CAMB.RAZON SOCIAL Y TRASL SUP-01 S/S FECHA 23/0713"]
["J001396527","31 - RODRIGUEZ WLADIMIR","LOBITO BAR RESTAURANT C.A(LOBITO BA","LOBITO BAR RESTAURANT C.A(LOBITO BA"," ","LOBITO BAR RESTAURANT C.A(LOBITO BA","AVENIDA BARALT PIÑANGO A MUÑOZ","CARACAS AL LADO DEL HOTEL EDEN"," ","4823732/5165614"," "," ","CARACAS"," "," "," "," ","JEAN FRAN VARELA"," "," ","LOBITO BAR RESTAURANT C.A.","AVENIDA BARALT PIÑANGO A MUÑOZ","CARACAS AL LADO DEL HOTEL EDEN"," "," "," "," ","CERRADO S/SUP.CARLOS DA","S. TRASP. AL 03/13-09-11",null,"J-00139652-7","002-C-1510","89250","No","05","CREDITO 5 DIAS","03",null,"04","07","RESTAURANTES","02","ON PREMISSE","02","ON PREMISSE"," ","31"," ","CERRADO S/SUP.CARLOS DA S. TRASP. AL 03/13-09-11"]
["J001400125","09 - CLIENTE INHABILITADO","EL P DEL PARAISO C.A(B/R EL PORTAL","EL PORT DEL PARAISO C.A(B/R EL PORT"," ","EL PORTAL DEL PARAISO C.A(B/R EL PORTAL","AV.LA PAZ,FTE.ESTACION EL METRO, EL"," PARAISOCARACAS"," ","0212-472.15.57 / 472"," "," ","CARACAS"," "," "," ","CAMBIO Z - 31 A Z - 09 200919 GA","EUSEBIO GOMEZ"," "," ","EL PORT DEL PARAISO C.A(B/R EL PORT","AV.LA PAZ,FTE.ESTACION EL METRO, EL"," PARAISOCARACAS"," "," "," "," ","RECIBE DE 8:00 A 10:00 AM"," ","MARTES","J-00140012-5","C 1472","15000","Sí","00","CONTADO","33","CENTRO-CANDELARIA","04","07","RESTAURANTES","02","ON PREMISSE","02","ON PREMISSE","09","09","09 - CLIENTE INHABILITADO","RECIBE DE 8:00 A 10:00 AM  "]
["J001403523","13 - GUDIÑO FABIAN","RUFINS ROOM C.A.","SUPERMARKET J.M.","21/03/22","RUFINS ROOM C.A.","AVENIDA PRINCIPAL DE CAMPO CLARO ED","FELIX PISO P.B LOCAL 1 Y 2 URB","CAMPO CLARO CARACAS-MIRANDA","0414-2353097","(0414) 235.30.97"," ","CARACAS"," ","CAMBIO DE ZONA 32 A 09 130921 ST","CAMBIO DE ZONA 09 A 10 210322 ST","CAMBIO DE ZONA 10 A 13 050923 RM","JOAO MANUEL GOMEZ"," "," ","RUFINS ROOM, C.A.","AVENIDA PRINCIPAL DE CAMPO CLARO ED","FELIX PISO P.B LOCAL 1 Y 2 URB","CAMPO CLARO CARACAS-MIRANDA"," ","0414-2353097"," ","RECIBE LUNES A VIERNES"," 9:00AM A 4:00PM","MIERCOLES","J-00140352-3","00171/2021","89250","No","05","CREDITO 5 DIAS","10","ALTAMIRA-OFF","05","21","SUPERMERCADOS/AUTOMERCADO","01","OFF PREMISSE","01","OFF PREMISSE","13","13","01 - GUERRERO SALVADOR - OFF","RECIBE LUNES A VIERNES  9:00AM A 4:00PM"]
["J001403760","14 - GIL EXIO JOSE","ABASTO ARRECIFE C.A","ABASTO ARRECIFE C.A"," ","ABASTO ARRECIFE C.A","CALLE PPAL DE LAS TUNITAS LOCAL P/B","NRO S/N SECTOR LAS TUNITAS CATIA LA"," ","(0212)362-6430","31/05/19"," "," "," "," ","CAMBIO DE ZONA 116 A 14 11/9/19 GT","BLOQ MAYOR 112 DIAS SEGUI 240222 MY","KEIVER DOS NACIMENTO"," "," ","ABASTO ARRECIFE C.A","CALLE PPAL DE LAS TUNITAS  LOCALP/B","NRO S/N SECTOR LAS TUNITAS CATIA LA","MAR VARGAS"," ","(0212)362-6430"," ","RECIBE DE LUNES A VIERNES","DE 8: A 12 Y DE 2 A 5PM","LUNES","J-00140376-0","031M-N625","89250","No","05","CREDITO 5 DIAS","14","LITORAL CENTRAL","05","23","ABASTOS PEQUEÑOS/BODEGAS","01","OFF PREMISSE","01","OFF PREMISSE","14","14","01 - CARLOS DA SILVA - OFF","RECIBE DE LUNES A VIERNES DE 8: A 12 Y DE 2 A 5PM"]
["J001404295","502 - DRA. ALEXI Y. PINT0","ABREU MENDONCA & CO","RESTAURANT BELLAS ARTES"," ","ABREU MENDONCA & CO","AV BELLAS ARTES CON AV. FACULTAD","URB. LOS CHAGUARAMOS EDIF BELLAS","ARTES","04129291852"," "," ","CARACAS"," "," "," "," ","JORDAO MENDES","GREGORIO ABREU"," ","ABREU MENDONCA & CO","AV BELLAS ARTES CON AV. FACULTAD","URB. LOS CHAGUARAMOS EDIF. BELLAS","ARTES"," ","04129291852"," "," "," ",null,"J-00140429-5","M-Y-C","0","No","00","CONTADO","20","CENTRO DE CARACAS","04","06","BAR/TABER./S. BAR/PUB/TAS","02","ON PREMISSE","02","ON PREMISSE"," ","502"," ","   "]
["J001406450","71 - OFICINA","DISTRIBUIDORA NUBE AZUL,C.A.","DISTRIBUIDORA NUBE AZUL,C.A."," ","DISTRIBUIDORA NUBE AZUL, C.A","ZONA INDUSTRIAL TERRINCA GALPON 6-A","GUATIRE-MNCP.AUTONOMO ZAMORA-EDO.","MIRANDA","(212)242.11.11"," "," ","CARACAS"," "," "," "," ","JUAN CARLOS DE ABREU","S F."," ","DISTRIBUIDORA NUBE AZUL,C.A.","CALLE 10 CON ESQUINA CALLE 11 EDIF","PLASENCIA LA URBINA-EDO MIRANDA"," "," ","0212/2421111"," "," "," ",null,"J-00140645-0","M-Y 5907","100000","No","00","CONTADO","71","OFICINA","08","01","DE LICORES CON FZA DE VTA","19","SUCU-PROLI-CO-DISTR CILCA","19","SUCU-PROLI-CO-DISTR CILCA","71","71","71","   "]
["J001409572","09 - CLIENTE INHABILITADO","SUPERMERCADO LAS BRISAS DEL PRADO","SUPERM.LAS BRISAS DEL PRADO, C.A."," ","SUPERMERCADO LAS BRISAS DEL PRADO C.A.","AVENIDA PRINCIPAL CC LAS BRISAS DEL","PRADO NIVEL PB LOCAL Nº 1 URB.","TERRAZAS DEL CLUB HIPICO-BARUTA","(0212) 978.39.57","(0414) 151.51.10","mdiogo@hotmail.com","BARUTA"," "," "," ","CAMB.Z-15 A Z-01. 21/11/18 GA","MANUEL DIEGO CORREIA"," "," ","SUPERM.LAS BRISAS DEL PRADO, C.A.","AVENIDA PRINCIPAL CC LAS BRISAS DEL","PRADO NIVEL PB LOCAL Nº 1 URB.","TERRAZAS DEL CLUB HIPICO-BARUTA"," ","(0212) 978-39-51"," ","RECIBE  LUNES A VIERNES"," 09:00 AM A 04:00 PM","JUEVES","J-00140957-2","B-130-0-0396","15000","Sí","00","CONTADO","15","BARUTA","05","21","SUPERMERCADOS/AUTOMERCADO","01","OFF PREMISSE","01","OFF PREMISSE","09","09","09 - CLIENTE INHABILITADO","RECIBE  LUNES A VIERNES  09:00 AM A 04:00 PM"]
["J001429883","31 - RODRIGUEZ WLADIMIR","BAR RESTAURANT LOS PANCHOS S.R.L.","BAR RESTAURANT LOS PANCHOS S.R.L."," ","BAR RESTAURANT LOS PANCHOS S.R.L.","CALLE RICAURTE C/C PPALBARUTA"," "," "," "," "," ","CARACAS"," "," "," "," ","JUAN ACEVEDEZ"," "," ","BAR RESTAURANT LOS PANCHOS S.R.L.","CALLE RICAURTE C/C PPALBARUTA"," "," "," "," "," ","TRASP.AL 03.SUP.CARLOS DA","SILVA S/SOLI 04/02/11",null,"J-00142988-3","C 394","89250","No","05","CREDITO 5 DIAS","30","PARROQUIA EL RECREO","04","06","BAR/TABER./S. BAR/PUB/TAS","02","ON PREMISSE","02","ON PREMISSE"," ","31"," ","TRASP.AL 03.SUP.CARLOS DA SILVA S/SOLI 04/02/11"]
["J001459456","14 - GIL EXIO JOSE","REFRESQUERIA MONTECARLO, C.A.","REFRESQUERIA MONTECARLO, C.A."," ","REFRESQUERIA MONTECARLO, C.A.","AVENIDA LA COSTANERA CON AVENIDA","MONTECARLOS, URBANIZACION PALMAR","OESTE, CARABALLEDA EDO. VARGAS","NO POSEE","0424 172 00 47","NO POSEE","LA GUAIRA"," "," ","BLOQ MAYOR 71 DIAS SEGUI 240222 MYZ","RESTRUCT. EDV 14 AL 16 MYZ 25-11-22","JOAO DE CANHA P."," "," ","REFRESQUERIA MONTECARLO, C.A.","AVENIDA LA COSTANERA CON AVENIDA","MONTECARLOS, URBANIZACION PALMAR","OESTE, CARABALLEDA EDO. VARGAS"," ","(0414) 206-02-23"," ","RECIBE  LUNES A VIERNES","09:00 AM A 6:00 PM","DE LUNES A JUEVES","J-00145945-6","031-MN-660","89250","No","05","CREDITO 5 DIAS","14","LITORAL CENTRAL","05","18","LICORERIAS/BODEGONES","01","OFF PREMISSE","01","OFF PREMISSE","14","14","01 - CARLOS DA SILVA - OFF","RECIBE  LUNES A VIERNES 09:00 AM A 6:00 PM"]
["J001485759","09 - CLIENTE INHABILITADO","INVERSIONES RESTABAR SRL.","REST. MI TASCA"," ","INVERSIONES RESTABAR SRL.","AV.FCO SOLANO ENTRE ESQ.EL","CRISTO Y LOS APAMATES SABANA","GRANDE PQUIA EL RECREO,DTTO FEDERAL","(0212) 763.24.78","(0414) 033.95.76","restaurantemitasca@hotmail.com","CARACAS","CARACAS"," ","CAMBIO V-31 vs V-332 200421","CAMBIO DE ZONA 31 A 09 130921 ST","PEDRO IGNACIO R.","BALBINA BALDONEDO"," ","BAR REST. MI TASCA","AV.FCO.SOLANO ENTRE ESQ.EL CRISTO Y","LOS APAMANTES SABANA GRANDE,PQUIA","EL RECREO DTTO FEDERAL","CARACAS"," "," ","RECIBE  LUNES A VIERNES"," 08:00 AM A 12:00 PM","MARTES","J-00148575-9","002-C-1439","15000","No","05","CREDITO 5 DIAS","09","CLIENTE INHABILITADO","04","07","RESTAURANTES","02","ON PREMISSE","02","ON PREMISSE","09","09","09 - CLIENTE INHABILITADO","RECIBE  LUNES A VIERNES  08:00 AM A 12:00 PM"]
["J001516479","09 - CLIENTE INHABILITADO","ABASTOS LA GRITA,C.A.","ABASTOS LA GRITA,C.A."," ","ABASTOS LA GRITA,C.A.","CARRETERA EL JUNQUITO N/80 KM 23 PA","SANDO EL PUEBLOCARALLACA EL JUNQUI."," ","(0212) 41-21-685"," "," ","JUNQUITO"," "," "," ","bloq.rif correcto J001576479 171120","EUGENIO GONZALES"," "," ","ABASTOS LA GRITA,C.A.","CARRETERA EL JUNQUITO N/80 KM 23 PA","SANDO EL PUEBLOCARALLACA EL JUNQUI."," "," "," "," ","RECIBE DE LUNES A JUEVES","10:00AM A 5:00PM","LUNES","J-00157647-9","MM-443","15000","Sí","00","CONTADO","22","CATIA-JUNQUITO","06","22","ABASTOS GRANDES","01","OFF PREMISSE","01","OFF PREMISSE","09","09","02 - VICTOR TORRES - OFF","RECIBE DE LUNES A JUEVES 10:00AM A 5:00PM"]
["J001528512","24 - REYES OSWALDO","SUPERMERCADO DIAMANTE S.R.L.","SUPERMERCADO DIAMANTE"," ","SUPERMERCADO DIAMANTE S.R.L.","PUENTE 9 DE DICIEMBRE, 2DA. ETAPA","LOCAL 21,CONJUNTO RESID.EL PARAISO"," ","0212 462 05 80","NO POSEE","NO POSEE","CARACAS"," "," "," ","BLOQ SEG TRANSF AUTOR SUP YR 20919","ANTONIO CAMACHO"," "," ","SUPERMERCADO DIAMANTE","PUENTE 9 DE DICIEMBRE, 2DA. ETAPA","LOCAL 21,CONJUNTO RESID.EL PARAISO"," "," ","(0212) 462-05-80"," ","RECIBE  LUNES A VIERNES"," 9:00AM A 3:00PM","MIERCOLES","J-00152851-2","002-MN-5849","89250","No","00","CONTADO","23","CENTRO-SAN MARTIN","06","21","SUPERMERCADOS/AUTOMERCADO","01","OFF PREMISSE","01","OFF PREMISSE","24","24","02 - VICTOR TORRES - OFF","RECIBE  LUNES A VIERNES  9:00AM A 3:00PM"]
["J001543813","09 - CLIENTE INHABILITADO","ABASTOS TODO BARATO","SUPERMERCADO TODO BARATO."," ","SUPERMERCADO TODO BARATO.","1 AVDA SANTA EDUVIGES CARACASCARACA","S"," ","2837735"," "," ","CARACAS"," "," "," "," ","ANNA MARIA RAINIS"," "," ","SUPERMERCADO TODO BARATO.","1 AVDA SANTA EDUVIGES CARACASCARACA","S"," "," "," "," "," "," ",null,"J-00154381-3","M-N 1320","15000","No","05","CREDITO 5 DIAS","13","PETARE","05","21","SUPERMERCADOS/AUTOMERCADO","01","OFF PREMISSE","01","OFF PREMISSE","09","09","09 - CLIENTE INHABILITADO","   "]
["J001545700","31 - RODRIGUEZ WLADIMIR","FUENTE DE SODA SOROCAIMA,C.A.","FUENTE DE SODA SOROCAIMA,C.A"," ","FUENTE DE SODA SOROCAIMA,C.A","CENTRO COMERCIAL SOROCAIMALOCAL K.","URB. LA TRINIDAD BARUTA"," "," "," "," ","CARACAS"," "," "," "," ","FERNANDO NELSON GONC","ALVES"," ","FUENTE DE SODA SOROCAIMA,C.A","CENTRO COMERCIAL SOROCAIMALOCAL K.","URB. LA TRINIDAD BARUTA"," "," "," "," "," "," ",null,"J-00154570-0","C 4226","89250","No","05","CREDITO 5 DIAS","30","PARROQUIA EL RECREO","04","17","FTE SODA/LUNCH/HELAD/CAFE","02","ON PREMISSE","02","ON PREMISSE"," ","31"," ","   "]
["J001562982","24 - REYES OSWALDO","ABASTO EL REY CAMACHO","ABASTO EL REY CAMACHO"," ","MANUEL V.C.& MARIA G.DE C (AB.EL REY C.)","PRADO DE MARIA AVENIDA LA FLORESTAC","ON AVENIDA LOS SAMANES"," "," "," "," ","CARACAS"," "," ","REACT A LA ZONA 24 YR 18/07/19","BLOQ. POR SEG. DE REACTIVACION","JOSE DE ABREU"," "," ","ABASTO EL REY CAMACHO","PRADO DE MARIA AVENIDA LA FLORESTAC","ON AVENIDA LOS SAMANES"," "," "," "," "," "," ",null,"J-00156298-2","M-N 6234","89250","No","05","CREDITO 5 DIAS","24","CARICUAO","05","23","ABASTOS PEQUEÑOS/BODEGAS","01","OFF PREMISSE","01","OFF PREMISSE","24","24","02 - VICTOR TORRES - OFF","   "]
["J001589970","15 - GUTIERREZ WALTER","LICORERIA Y CHARC. MONTE ALTO C.A","LICORERIA Y CHARC. MONTE ALTO","060223 LL","LICORERIA Y CHARC. MONTE ALTO C.A","AVENIDA PRINCIPAL DE MONTERREY CASA","N° 28 Y N° 5 URBANIZACIÓN MONTERREY","CARACAS","(0414) 326-85-88"," "," "," "," "," "," "," ","JUAN GONCALVEZ","JULIA PIÑA SUAREZ"," ","LICORERIA Y CHARC. MONTE ALTO C.A","AVENIDA PRINCIPAL DE MONTERREY CASA","N° 28 Y N°5 URBANIZACIÓN MONTERREY","CARACAS"," ","(0414) 326-85-88"," ","RECIBE DE LUNES A VIERNES","DE 10:00 AM A 4:00PM","JUEVES","J-00158997-0","B-127-2-0292","89250","No","05","CREDITO 5 DIAS","15","BARUTA","05","18","LICORERIAS/BODEGONES","01","OFF PREMISSE","01","OFF PREMISSE","15","15","01 - GUERRERO SALVADOR - OFF","RECIBE DE LUNES A VIERNES DE 10:00 AM A 4:00PM"]
["J001628533","25 - OCAMPO O. ROMAY","LIC. Y DELICATESES LOS PICACHOS,C.A","LIC. Y DELICATESES LOS PICACHOS,C.A"," ","LIC. Y DELICATESES LOS PICACHOS,C.A.","AV.PERIMETRAL EDIF. OFICENTRO EL PI","CACHOP.B.  LOCAL Nº 7 -SAN ANTONIO","DE LOS ALTOS","(0212) 371.30.47","(0412) 571.54.79","licorpicachos@gmail.com","SAN ANTONIO"," "," "," ","CAMBIO V-26 AL 25 16-09-19 YM","JOSE GASPAR MARTINS"," "," ","LIC. Y DELICATESES LOS PICACHOS,C.A","AV.PERIMETRAL EDIF. OFICENTRO EL PI","CACHOP.B.  LOCAL Nº 7 -SAN ANTONIO","DE LOS ALTOS"," ","(0212) 371-30-47"," ","RECIBE  LUNES A VIERNES"," 11:00 AM A 5:00 PM","MIERCOLES","J-00162853-3","032-MN-147","89250","No","05","CREDITO 5 DIAS","26","SAN ANTONIO DE LOS ALTOS","06","18","LICORERIAS/BODEGONES","01","OFF PREMISSE","01","OFF PREMISSE","25","25","02 - VICTOR TORRES - OFF","RECIBE  LUNES A VIERNES  11:00 AM A 5:00 PM"]
["J001651691","02 - REQUENA JOHAN - OFF","LICORERIA DASI C.A","LICORERIA DASI C.A"," ","LICORERIA DASI C.A","AV.BICENTENARIO,EL TAMBOR,LOCAL Nº","53LOS TEQUES- EDO.MIRANDA."," ","322.47.95/014.235.96"," "," ","LOS TEQUES"," "," "," "," ","NELSON NUNES"," "," ","LICORERIA DASI C.A","AV.BICENTENARIO,EL TAMBOR,LOCAL Nº","53LOS TEQUES- EDO.MIRANDA."," "," "," "," "," "," ",null,"J-00165169-1","M-M 1811","89250","No","05","CREDITO 5 DIAS","25","LOS TEQUES","05","18","LICORERIAS/BODEGONES","01","OFF PREMISSE","01","OFF PREMISSE"," ","02"," ","   "]
["J001675523","34 - MARQUINA CARLOS","SUPERMERCADOS UNICASA C A","SUPERMERCADOS UNICASA C A"," ","SUPERMERCADOS UNICASA C A","CALLE SANATARIO DEL AVILA EDIF","TORRE G PISO 1 OF CENTRO EMPRESA-","RIAL CIUDAD CENTER URB BOLEITA NOR-","(0212) 238-6070"," "," ","CARACAS","TE CARACAS MIRANDA ZONA POSTAL1070"," "," ","CAMBIO V444 A V34 050923 RM","MADELEINE MARTINEZ"," "," ","SUPERMERCADOS UNICASA C A","AV.INTERCOMUNAL GUARENAS-GUATIRE","FTE.AL C/ COMERCIAL BUENA VENTURA"," "," ","(0212) 238-60-70"," ","RECIBE DE LUNES A VIERNES","DE 8:00AM A 4:00PM","VIERNES","J-00167552-3","M-Y 6913","89250","No","05","CREDITO 5 DIAS","41","CADENAS NACIONAL","03","04","CADENAS AUTOM. NACIONALES","01","OFF PREMISSE","01","OFF PREMISSE","34","34","01 - GUERRERO SALVADOR - OFF","RECIBE DE LUNES A VIERNES DE 8:00AM A 4:00PM"]
["J001687602","09 - CLIENTE INHABILITADO","REST EL RINCON DEL BUCANERO,S.R.L.","EL RINCON DEL BUCANERO"," ","BAR REST.EL RINCON DEL BUCANERO S.R.L.","AVENIDA CASANOVA CRUCE CON CALLE EL","COLEGIO QUINTA AVILA SABANA GRANDE"," ","7636296","0414.327.27.10"," ","CARACAS"," "," "," ","REEST-V-31 AL V-09 20092019 MYZ","JUAN ANDRADE","RICARDO ROMAS"," ","BAR REST.EL RINC DEL BUCANERO S.R.L","AVENIDA CASANOVA CRUCE CON CALLE EL","COLEGIO QUINTA AVILA SABANA GRANDE"," "," "," "," "," "," ","MARTES","J-00168760-2","5-C-0336","15000","Sí","00","CONTADO","30","PARROQUIA EL RECREO","04","07","RESTAURANTES","02","ON PREMISSE","02","ON PREMISSE","09","09","09 - CLIENTE INHABILITADO","   "]
["J001710418","21 - CAÑONGO SAUL","INVERSIONES EL GRAN COCHE, C.A.","INVERSIONES EL GRAN COCHE, C.A."," ","INVERSIONES EL GRAN COCHE, C.A.","CALLE PRINCIPAL DE LA ACEQUIA","OCUMARE DEL TUY"," ","(0239) 225.60.27"," ","elgrancoche@hotmail.com","VALLE DEL TUY"," "," ","BLOQ 1CD HP 8D 230919 / 231219 GA","BLOQ MAYOR 101 DIAS SEGU 240222 MYZ","MANUEL GOMEZ MELO"," "," ","INVERSIONES EL GRAN COCHE, C.A.","CALLE PRINCIPAL DE LA ACEQUIA","OCUMARE"," "," ","0239.256.00.27"," ","RECIBE  LUNES A VIERNES"," 9:00 AM A 4:00 PM","JUEVES","J-00171041-8","039 MN 124","89250","No","05","CREDITO 5 DIAS","27","VALLES DEL TUY-27","06","18","LICORERIAS/BODEGONES","01","OFF PREMISSE","01","OFF PREMISSE","21","21","02 - VICTOR TORRES - OFF","RECIBE  LUNES A VIERNES  9:00 AM A 4:00 PM"]
["J001717200","02 - REQUENA JOHAN - OFF","COMERCIAL HIMALAYA, C.A.","COMERCIAL HIMALAYA, C.A."," ","COMERCIAL HIMALAYA, C.A.","KM.16 DEL JUNQUITO,HOTEL HIMALAYAEL"," JUNQUITO-EDO.VARGAS"," ","033-321192"," "," ","JUNQUITO"," "," "," "," ","NELSON PEREIRA"," "," ","COMERCIAL HIMALAYA, C.A.","KM.16 DEL JUNQUITO,HOTEL HIMALAYAEL"," JUNQUITO-EDO.VARGAS"," "," "," "," "," "," ",null,"J-00171720-0","031-CVC-2481","89250","No","05","CREDITO 5 DIAS","33","CENTRO-CANDELARIA","05","18","LICORERIAS/BODEGONES","01","OFF PREMISSE","01","OFF PREMISSE"," ","02"," ","   "]
["J001735119","09 - CLIENTE INHABILITADO","COMERCIAL LA VIA,C.A.","MOTEL TURISTICO PTA. DEL ESTE"," ","COMER.LA VIA,CA(MOTEL TURIS.PTA DEL ESTE","AVENIDA CURUPAO ZONA INDUSTRIAL LAG","UARITA-GUARENAS-EDO.MIRANDA"," ","226666-226888"," "," ","GUARENAS"," "," "," ","CAMBIO Z-11 A Z-01 05/09/18 GA","ERNESTO FREITAS"," "," ","MOTEL TURISTICO PTA. DEL ESTE","AVENIDA CURUPAO ZONA INDUSTRIAL LAG","UARITA-GUARENAS-EDO.MIRANDA"," "," "," "," "," "," ","JUEVES","J-00173511-9","C 5985","15000","Sí","00","CONTADO","11","GUARENAS","04","08","HOTELES/CASINOS/BINGOS","02","ON PREMISSE","02","ON PREMISSE","09","09","09 - CLIENTE INHABILITADO","   "]
["J001789090","502 - DRA. ALEXI Y. PINT0","INVERSIONES CAMIRRA, S.A","BINGO LAS MERCEDES"," ","INVERSIONES CAMIRRA, S.A","CALLE VERACRUZ CON CALLE MADRID.","RDF. GUABAIRE. PISO N/LOCAL N/I","URB LAS MERCEDES","(0212) 993.38.83"," "," ","CARACAS"," "," "," "," ","OSCAR Y. MARTINEZ E","ANTONIO PEREIRA"," ","INVERSIONES CAMIRRA, S.A","CALLE VERACRUZ CON CALLE MADRID.","EDIF. GAABAIRE. PISO N/I LOCAL N/I","URB. LAS MERCEDES"," ","(0212) 993.38.83"," ","BLOQUEADO PASO A LEGAL","DRA.ALEXI PINTO 04-04-12",null,"J-00178909-0","TRAMITE","15000","No","00","CONTADO","31","LA CASTELLANA","04","07","RESTAURANTES","02","ON PREMISSE","02","ON PREMISSE"," ","502","01 - CARLOS DA SILVA","BLOQUEADO PASO A LEGAL DRA.ALEXI PINTO 04-04-12"]
["J001810048","21 - CAÑONGO SAUL","DISTRIBUIDORA EL LIBADOR I, S.R.L.","DISTRIBUIDORA EL LIBADOR I, S.R.L."," ","DISTRIBUIDORA EL LIBADOR I, S.R.L.","CALLE COTO  AL LADO DE LA PANADERIA","PARACOTOS"," ","0212 391 12 62","0426 907 49 57","libardo1@gmail.com","PARACOTOS"," "," "," ","BLOQ MAYOR 186 DIAS SEGU 240222 MYZ","ANDRES BLANCO/PEDRO","ARMAS"," ","DISTRIBUIDORA EL LIBADOR I, S.R.L.","CALLE COTO  AL LADO DE LA PANADERIA","PARACOTOS"," "," "," "," ","RECIBE  LUNES A VIERNES"," 9:00AM A 5:00PM","MARTES","J-00181004-8","032-MY-064","89250","Sí","05","CREDITO 5 DIAS","21","VALLES DEL TUY-21","06","01","DE LICORES CON FZA DE VTA","01","OFF PREMISSE","01","OFF PREMISSE","21","21","02 - VICTOR TORRES - OFF","RECIBE  LUNES A VIERNES  9:00AM A 5:00PM"]
["J001857923","09 - CLIENTE INHABILITADO","CAM DE COM. IND.TURIS LUSO VZLANA","CAM DE COM IND.TURIS LUSO VZLANA"," ","CAMARA DE COMERCIO IND.TURIS LUSO VZLANA","4TA TRANSV ENTRE ANDRES BELLO Y ALF","REDO JOANEDIF REY DAVID PISO 1 OFIC"," 1 LOS PALOS GRANDES","2855385"," "," ","CARACAS"," "," "," "," ","JOSE L FERREIRA"," "," ","CAM DE COM IND.TURIS LUSO VZLANA","4TA TRANSV ENTRE ANDRES BELLO Y ALF","REDO JOANEDIF REY DAVID PISO 1 OFIC"," 1 LOS PALOS GRANDES"," "," "," "," "," ",null,"J-00185792-3","PARTICULAR","15000","No","05","CREDITO 5 DIAS","13","PETARE","06","29","INDUSTRIAL","01","OFF PREMISSE","01","OFF PREMISSE","09","09","09 - CLIENTE INHABILITADO","   "]
["J001951520","02 - REQUENA JOHAN - OFF","LIC.LA FLOR DE LA MATICA, C.A.","LIC.LA FLOR DE LA MATICA"," ","LIC.LA FLOR DE LA MATICA","CALLE EZEQUIEL ZAMORA N. 19LA MATIC","A"," ","321-22-56"," "," ","LOS TEQUES"," "," "," "," ","ANTONIO ARAQUE"," "," ","LIC.LA FLOR DE LA MATICA","CALLE EZEQUIEL ZAMORA N. 19LA MATIC","A"," "," "," "," "," "," ",null,"J-00195152-0","M-M 4","89250","No","05","CREDITO 5 DIAS","25","LOS TEQUES","05","18","LICORERIAS/BODEGONES","01","OFF PREMISSE","01","OFF PREMISSE"," ","02"," ","   "]
["J001970703","21 - CAÑONGO SAUL","LICORERIA RODRIGUEZ Y ALVARENGA,C.A","LIC RODRIGUEZ Y ALVARENGA,C.A."," ","LIC.RODRIGUEZ Y ALVARENGA,C.A.","AVENIDA BOLIVAR A 1/2 CUADRA DE COR","PBANCA CHARALLAVE"," ","0239 248 08 42","0412 908 89 25","NO POSEE","VALLE DEL TUY"," "," ","DESB CUMPLIO CONV TRANSF YR 220819","BLOQ MAYOR 2020 SEGUIM 03032022 PH","TERESA GONZALEZ"," "," ","LIC RODRIGUEZ Y ALVARENGA,C.A.","AVENIDA BOLIVAR A 1/2 CUADRA DE COR","PBANCA CHARALLAVE"," "," "," "," ","RECIBE  LUNES A VIERNES"," 10:00AM A 5:00PM","LUNES","J-00197070-3","M-Y 957","89250","Sí","00","CONTADO","21","VALLES DEL TUY-21","06","18","LICORERIAS/BODEGONES","01","OFF PREMISSE","01","OFF PREMISSE","21","21","02 - VICTOR TORRES - OFF","RECIBE  LUNES A VIERNES  10:00AM A 5:00PM"]
["J001984119","71 - OFICINA","PANADERIA LINO, C.A.","PANADERIA LINO, C.A."," ","PANADERIA LINO, C.A.","CALLE BALCANA, MIRADOR DEL CAFETAL,","PETARE EDO. MIRANDA"," "," "," "," ","CARACAS"," "," "," "," "," "," "," ","PANADERIA LINO, C.A.","CALLE BALCANA, MIRADOR DEL CAFETAL,","PETARE EDO. MIRANDA"," "," "," "," "," "," ",null,"J-00198411-9","PARTICULAR","2200","No","05","CREDITO 5 DIAS","71","OFICINA","08","33","RELACIONADOS","01","OFF PREMISSE","01","OFF PREMISSE","71","71","71 - OFICINA","   "]
["J001985760","09 - CLIENTE INHABILITADO","ROTISERIA Y CHARCUTERIA HENDYS SRL","ROTISERIA Y CHARCUTERIA HENDYS SRL","14-06-2016","ROTISERIA Y CHARCUTERIA HENDYS SRL","PARQUE CENTRAL EDF. MOHEDANO NIVEL","BOLIVAR LOCAL C B 15","MCPIO LIBERTADOR CARACAS","(0212) 577-16-35"," "," "," "," ","CAMBIO ZONA V20 AL V228 080222 ST","CAMBIO ZONA V-28 AL V-20 230621 MYZ","CAMBIO DE ZONA V28 A 09 26/07/22 ST","GARCIA TEIJEIRO","ADRIAN FRANCISCO"," ","ROTISERIA Y CHARCUTERIA HENDYS","PARQUE CENTRAL EDF. MOHEDANO NIVEL","BOLIVAR LOCAL C B 15","MCPIO LIBERTADOR CARACAS"," ","(0212) 577-16-35"," ","LUNES A VIERNES 11A A 5PM","CAJA JUEVES","JUEVES","J-00198576-0","10-MN-001779","15000","No","05","CREDITO 5 DIAS","23","CENTRO-SAN MARTIN","06","02","DE LICORES S/FZA DE VTA","01","OFF PREMISSE","01","OFF PREMISSE","09","09","09 - CLIENTE INHABILITADO","LUNES A VIERNES 11A A 5PM CAJA JUEVES"]
["J002018372","09 - CLIENTE INHABILITADO","BAR ANNA,C.A.","BAR ANNA,C.A."," ","BAR ANNA,C.A.","AVENIDA \"B \"  EDIFICIO PARIS PLANTA"," BAJALOCAL Nº 01 LA CARLOTA - CARAC","AS-EDO.MIRANDA","0212.238.07.54"," "," ","CARACAS"," "," "," ","CAMBIO A LA ZONA 09 23-09-19 YM","ROSARIO CANNATA AREN","A"," ","BAR ANNA,C.A.","AVENIDA \"B \"  EDIFICIO PARIS PLANTA"," BAJALOCAL Nº 01 LA CARLOTA - CARAC","AS-EDO.MIRANDA"," "," "," "," "," ",null,"J-00201837-2","C 6798","0","Sí","00","CONTADO","09","CLIENTE INHABILITADO","04","06","BAR/TABER./S. BAR/PUB/TAS","02","ON PREMISSE","02","ON PREMISSE","09","09","09 - CLIENTE INHABILITADO","   "]
["J002045787","35 - PEREZ JOSMAN","PIZZA`S HOUSE RISTORANTE PIANO  DIS","PIZZA'S HOUSE/ARIZONA GRILL, C.A."," ","PIZZA`S HOUSE RISTORANTE PIANO DISCO RED PARROT,CA","AV.TAMANACO, QUINTA 36 URB.EL ROSAL","CHACAO-CARACAS"," ","(0212) 952.25.11","(0414) 486.52.68","jose.dacosta@grupodasilva.net","EL ROSAL-CHACAO"," "," ","CAMBIO ZONA 34 AL 30 AL 14-03-16 MY","CAMBIO V30 AL V35 15112016 HD","MARIA SUSANA DE B.","MIRLA JOSEFINA DA S."," ","PIZZA`S HOUSE RISTORANTE PIANO  DIS","AV. TAMANACO QUINTA 36","URB. EL ROSAL","CHACAO-CARACAS"," ","0212.95211944"," ","RECIBE LUNES A VIERNES"," 8:00AM A 11:30AM","VIERNES","J-00204578-7","002-C-3029","89250","No","05","CREDITO 5 DIAS","35","EL ROSAL-CHACAO","04","07","RESTAURANTES","02","ON PREMISSE","02","ON PREMISSE","35","35","02 - VICTOR TORRES - ON","RECIBE LUNES A VIERNES  8:00AM A 11:30AM"]
["J002095121","09 - CLIENTE INHABILITADO","VARIEDADES MI TUY, C.A.","VARIEDADES MI TUY, C.A."," ","VARIEDADES MI TUY, C.A.","CALLE ANDRES BELLO,CRUCE CON AV.FAL","CONSTA .TERESA DEL TUY,LOCALES 33-A"," Y 35.EDO.MIRANDA","0414-249-59-31","0239-231-00-29"," ","STA TERESA DEL TUY","BLOQ.20-10-15 CAMBIO DE RIF Y RAZON","VARIEDADES DON DIEGO J403145229","CAMBIO A LA ZONA 02 15/08/16","CAMBIO A ZONA 09 19-09-19 YM","JOSE DIEGO GONCALVES"," "," ","VARIEDADES MI TUY, C.A.","CALLE ANDRES BELLO,CRUCE CON AV.FAL","CONSTA .TERESA DEL TUY,LOCALES 33-A"," Y 35.EDO.MIRANDA"," ","0239.231.00.25"," "," "," ","MARTES","J-00209512-1","039-MY-00980/039-MN-00981","0","Sí","00","CONTADO","09","CLIENTE INHABILITADO","06","21","SUPERMERCADOS/AUTOMERCADO","01","OFF PREMISSE","01","OFF PREMISSE","09","09","09 - CLIENTE INHABILITADO","   "]
["J002100419","13 - GUDIÑO FABIAN","EL BODEGON DEL ESTE,C.A.","EL BODEGON DEL ESTE,C.A"," ","EL BODEGON DEL ESTE,C.A","AV. PPAL DE BOLEITA SUR ENTRE 4TA","TRANSV Y AV ROMULO GALLEGOS EDIF","SAID PB LOCAL 1 URB BOLEITA SUR.","(0212) 235.47.71","(0212) 237.09.62","elbodegondeleste@gmail.com","CARACAS"," ","CAMBIO V-10 AL V-43 MYZ 06072021","CAMBIO DE ZONA 43 A 10 160222 ST","CAMBIO DE ZONA 10 A 13 050923 RM","SARKIS MARRAOUI"," "," ","EL BODEGON DEL ESTE,C.A","AV.PPAL DE BOLEITA SUR ENTRE 4TA","TRANSV. Y AV. ROMULO GALLEGOS EDIF.","SAID PB LOCAL 1 URB BOLEITA SUR"," ","(0212) 235-47-71","(0212) 238-55-71","MARTES MIERCOLES JUEVES","9AM A 12PM Y 3PM A 5PM","JUEVES","J-00210041-9","M-M 30","89250","No","05","CREDITO 5 DIAS","10","ALTAMIRA-OFF","05","18","LICORERIAS/BODEGONES","01","OFF PREMISSE","01","OFF PREMISSE","13","13","01 - GUERRERO SALVADOR - OFF","MARTES MIERCOLES JUEVES 9AM A 12PM Y 3PM A 5PM"]
["J002139110","02 - REQUENA JOHAN - OFF","LICORERIA FLOR DE MAYO S.R.L.","LICORERIA FLOR DE MAYO S.R.L."," ","LICORERIA FLOR DE MAYO S.R.L.","CALLE ROSCIO CON FLOR DE MAYO N.70F","RENTE LA PLAZA LOS TEQUES"," ","0414.247.09.52/ 0414"," "," ","LOS TEQUES"," "," "," "," ","MARTINHO MATOS FIGUE","IRA"," ","LICORERIA FLOR DE MAYO S.R.L.","CALLE ROSCIO CON FLOR DE MAYO N.70F","RENTE LA PLAZA LOS TEQUES"," "," "," "," "," "," ",null,"J-00213911-0","M-M 008","89250","No","05","CREDITO 5 DIAS","25","LOS TEQUES","05","18","LICORERIAS/BODEGONES","01","OFF PREMISSE","01","OFF PREMISSE"," ","02"," ","   "]
["J002156600","25 - OCAMPO O. ROMAY","INVERSIONES AUTOMERCADO OCARIN C.A","INVERSIONES AUTOMERCADO OCARIN C.A","180123 LL","INVERSIONES AUTOMERCADO OCARIN C.A","CALLE BOLIVAR CON PROGRESO EDIFICIO","CASTILLO PISO PB LOCAL SIN NUMERO","SAN PEDRO DE LOS ALTOS EDO MIRANDA","(0212) 731-39-53"," "," "," "," "," "," "," ","GENESIS INFANTE"," "," ","INVERSIONES AUTOMERCADO OCARIN C.A","CALLE BOLIVAR CON PROGRESO EDIFICIO","CASTILLO PB SAN PEDRO DE LOS ALTOS","SAN PEDRO ESTADO MIRANDA"," ","(0212) 731-39-53"," ","RECIBE LUNES A VIERNES","9:00AM A 3:00PM","LUNES","J-00215660-0","MG-00036/2007","89250","No","05","CREDITO 5 DIAS","25","LOS TEQUES","05","21","SUPERMERCADOS/AUTOMERCADO","01","OFF PREMISSE","01","OFF PREMISSE","25","25","02 - TORRES VICTOR - OFF","RECIBE LUNES A VIERNES 9:00AM A 3:00PM"]
["J002184337","31 - RODRIGUEZ WLADIMIR","EL BODEGON DEL PRADO, C.A.","EL BODEGON DEL PRADO, C.A."," ","EL BODEGON DEL PRADO, C.A.","CALLE GIRASOL PRADOS DEL ESTE PARCE","LA D-68 URB. PRADOS DEL ESTE"," ","(0212) 976-68-69"," "," ","CARACAS"," "," "," "," ","ANIS RAMIREZ"," "," ","EL BODEGON DEL PRADO, C.A.","CALLE GIRASOL PRADOS DEL ESTE PARCE","LA D-68 URB. PRADOS DEL ESTE"," "," ","(0212) 976-68-69"," "," "," ",null,"J-00218433-7","002-C-4261","89250","No","05","CREDITO 5 DIAS","30","PARROQUIA EL RECREO","04","06","BAR/TABER./S. BAR/PUB/TAS","02","ON PREMISSE","02","ON PREMISSE"," ","31"," ","   "]
["J002185694","20 - DIEGO MANUEL","COMERCIAL ABROCA,C.A","LICORERIA ALCABALA"," ","COMERCIAL ABROCA,C.A","SUR 15, DE ALCABALA A PELIGRO,EDIF.","CONCEPCION P.B, LOCAL 1 Y 2, LA","CANDELARIA","0212 572 67 86","0424 366 42 17","brocabodegon@hotmail.com","CARACAS"," "," ","CONTRIB.ESPEC.FACTURAR AL 21 C/MES"," ","GOMEZ DE SOUSA JOSE"," "," ","LICORERIA ALCABALA","SUR 15, DE ALCABALA A PELIGRO,EDIF.","CONCEPCION,P.B, LOCAL 1 Y 2, LA","CANDELARIA"," ","(0212) 577.24.01"," ","RECIBE  LUNES A JUEVES","ANTES  LAS 11:30 AM","JUEVES","J-00218569-4","3-MN-1038","89250","No","05","CREDITO 5 DIAS","20","CENTRO DE CARACAS","06","18","LICORERIAS/BODEGONES","01","OFF PREMISSE","01","OFF PREMISSE","20","20","02 - VICTOR TORRES - OFF","RECIBE  LUNES A JUEVES ANTES  LAS 11:30 AM"]
["J002204230","09 - CLIENTE INHABILITADO","INVERSIONES NOVARA,C.A.","NOCHE DE RONDA"," ","INVERSIONES NOVARA,C.A.","C.C. CHACAITO, NIVEL SOTANO, LOCAL","25-ADETRÁS DE VODKA POOL CARACAS"," ","952-06-95"," "," ","CARACAS"," "," "," ","CTE INHAB Z-09 200919 WP","GUILLERMO ZABALA"," "," ","NOCHE DE RONDA","C.C. CHACAITO, NIVEL SOTANO, LOCAL","25-ADETRÁS DE VODKA POOL CARACAS"," "," "," "," "," "," ",null,"J-00220423-0","C 3316","15000","Sí","00","CONTADO","32","SUCRE - BARUTA","04","06","BAR/TABER./S. BAR/PUB/TAS","02","ON PREMISSE","02","ON PREMISSE","09","09","09 - CLIENTE INHABILITADO","   "]
["J002226625","20 - DIEGO MANUEL","ABASTOS LA TRINIDAD, C.A.","ABASTOS LA TRINIDAD, C.A."," ","ABASTOS LA TRINIDAD, C.A.","AV. RIO DE JANEIRO  AV. ESTE EDIF.","PALMA ALTA -LOS CAOBOS-CARACAS"," ","(0212) 781.32.87","(0416) 405.66.20","fatimath82@gmail.com","CARACAS"," "," "," "," ","CAROLINA MATHEUS"," "," ","ABASTOS LA TRINIDAD C.A.","AV. RIO DE JANEIRO  AV. ESTE EDIF.","PALMA ALTA -LOS CAOBOS-CARACAS"," "," ","(0212) 781-32-87"," ","RECIBE  LUNES A JUEVES"," 09:00 A 11:30 AM","LUNES","J-00222662-5","MN-5147","89250","No","05","CREDITO 5 DIAS","20","CENTRO DE CARACAS","06","23","ABASTOS PEQUEÑOS/BODEGAS","01","OFF PREMISSE","01","OFF PREMISSE","20","20","02 - VICTOR TORRES - OFF","RECIBE  LUNES A JUEVES  09:00 A 11:30 AM"]
["J002277556","31 - RODRIGUEZ WLADIMIR","ANTONIO NOBREGA","CERVECERIA RESTAURANT EL INDIO SRL"," ","CERVECERIA RESTAURANT EL INDIO SRL","AVENIDA PAEZ EL PARAISO-CARACASDTTO",".CAPITAL"," ","0212.442.15.80"," "," ","CARACAS"," "," "," "," ","ROGELIO CORREIA"," "," ","CERVECERIA RESTAURANT EL INDIO SRL","AVENIDA PAEZ EL PARAISO-CARACASDTTO",".CAPITAL"," "," "," "," "," "," ",null,"J-00227755-6","C 1233","89250","No","05","CREDITO 5 DIAS","33","CENTRO-CANDELARIA","04","07","RESTAURANTES","02","ON PREMISSE","02","ON PREMISSE"," ","31"," ","   "]
["J002310987","24 - REYES OSWALDO","LICORES MONTERO, C.A.","LICORES MONTERO"," ","LICORES MONTERO, C.A.","CALLE LA PICA CASA NRO. 13-A URB.","PRADO DE MARIA-CARACAS"," ","(0212) 631-52-55","(0414) 921.83.14","ritadasilvs0811@gmail.com","CARACAS"," "," "," "," ","MARIA DA SILVA"," "," ","LICORES MONTERO","CALLE LA PICA CASA NRO. 13-A URB.","PRADO DE MARIA-CARACAS"," "," ","(0212) 631-52-55"," ","RECIBE  LUNES A VIERNES"," 11:00AM A 5:00PM","LUNES","J-00231098-7","13-MN-1433","89250","No","05","CREDITO 5 DIAS","24","CARICUAO","06","18","LICORERIAS/BODEGONES","01","OFF PREMISSE","01","OFF PREMISSE","24","24","02 - VICTOR TORRES - OFF","RECIBE  LUNES A VIERNES  11:00AM A 5:00PM"]
["J002330554","33 - TORRES CARLOS","RESTAURANT AURELIA C A","RESTAURANT AURELIA C A"," ","RESTAURANT AURELIA C A","HOYO DE LA PUERTA -LA CORTADA DEL","GUAYABO VIA MONTE CLARO COUNTRY","CLUB-MUNP.BARUTA-EDO.MIRANDA","0212 942 02 43","NO POSEE","aurelia@hotmail.com","CARACAS","CLIENTE INHABILITADO C09 130919 WP","CAMBIO DE ZONA 09 A 32 040422 ST","CAMBIO DE ZONA 332 A 35 050623 YR","CAMBIO DE ZONA 35 A 33 RM 170823","JESUS LOPEZ VASQUEZ","Y MANUEL SOUTO VELAY"," ","RESTAURANT AURELIA C A","HOYO DE LA PUERTA -LA CORTADA DEL","GUAYABO VIA MONTE CLARO COUNTRY","CLUB-MUNP.BARUTA-EDO.MIRANDA"," "," "," ","RECIBE  MARTES A VIERES"," 8:300AM A 10:30PM","JUEVES","J-00233055-4","C 6285","89250","No","05","CREDITO 5 DIAS","32","SUCRE - BARUTA","04","07","RESTAURANTES","02","ON PREMISSE","02","ON PREMISSE","33","33","01 - SALVADOR GUERRERO - OFF","RECIBE  MARTES A VIERES  8:300AM A 10:30PM"]
["J002345900","31 - RODRIGUEZ WLADIMIR","LA TABERNA DE BARBA NEGRA C.A.","LA TABERNA DE BARBA NEGRA C.A."," ","LA TABERNA DE BARBA NEGRA C.A.","AVENIDA UNIVERSIDAD EDIFICIO JASED","Nº 51FRENTE A LA PLAZA PARQUE CARAB","OBO-MNPIO.LIBERTADOR","5726335"," "," ","CARACAS"," "," "," "," ","FERNANDEZ JOSE"," "," ","LA TABERNA DE BARBA NEGRA C.A.","AVENIDA UNIVERSIDAD EDIFICIO JASED","Nº 51FRENTE A LA PLAZA PARQUE CARAB","OBO-MNPIO.LIBERTADOR"," "," "," "," "," ",null,"J-00234590-0","C- 6095","89250","No","05","CREDITO 5 DIAS","33","CENTRO-CANDELARIA","04","06","BAR/TABER./S. BAR/PUB/TAS","02","ON PREMISSE","02","ON PREMISSE"," ","31"," ","   "]
["J002379758","09 - CLIENTE INHABILITADO","INVERSIONES MADENIS,C.A.","CHARCUTERIA  Y LICORERIA MADENIS"," ","INVERSIONES MADENIS C.A.","AV FUERZAS ARMADAS ENTRE CRUCESITAS","Y PANTEON CARACAS"," ","(0212) 551-87-51"," "," ","CARACAS"," "," ","CAMBIO DE ZONA 228 A 20 040222 ST","CAMBIO DE ZONA 20 AL 09 111022 FL","MANUEL RODRIGUEZ"," "," ","CHARCUTERIA  Y LICORERIA MADENIS","AV FUERZAS ARMADAS ENTRE CRUCESITAS","Y PANTEON CARACAS"," "," ","(0212) 551-87-51"," ","RECIBE DE LUNES A VIERNES","A PARTIR DE LAS 11 AM","JUEVES","J-00237975-8","MN-419","15000","Sí","00","CONTADO","09","CLIENTE INHABILITADO","06","18","LICORERIAS/BODEGONES","01","OFF PREMISSE","01","OFF PREMISSE","09","09","09 - CLIENTE INHABILITADO","RECIBE DE LUNES A VIERNES A PARTIR DE LAS 11 AM"]
["J002379790","09 - CLIENTE INHABILITADO","ABASTO Y CARN.CORRAL DE PIEDRA C.A.","ABASTO Y CARN.CORRAL DE PIEDRA C.A."," ","ABASTO Y CARN.CORRAL DE PIEDRA C.A.","CALLE CORRAL DE PIEDRAEDF.COMERCIAL","LAS ADJUNTAS CARACAS"," ","(0212) 433-63-66"," "," ","CARACAS"," "," "," ","CAMBIO A LA ZONA 09 23-09-19 YM","DINO P"," "," ","ABASTO Y CARN.CORRAL DE PIEDRA C.A.","CALLE CORRAL DE PIEDRASEDF.COMERCIA","L LAS ADJUNTAS CARACAS"," "," "," "," ","RECIBE DE LUNES A VIERNES","DE 11:00AM A 4:00PM","MIERCOLES Y JUEVES","J-00237979-0","M-N 2033","0","Sí","00","CONTADO","09","CLIENTE INHABILITADO","06","22","ABASTOS GRANDES","01","OFF PREMISSE","01","OFF PREMISSE","09","09","09 - CLIENTE INHABILITADO","RECIBE DE LUNES A VIERNES DE 11:00AM A 4:00PM"]
["J002403128","02 - REQUENA JOHAN - OFF","EL RANCHO LARGO DEL JUNQUITO, C.A.","EL RANCHO LARGO DEL JUNQUITO, C.A."," ","EL RANCHO LARGO DEL JUNQUITO, C.A.","KILOMETRO 7- CARRETERA VIA ELJUNQUI","TO-CARACAS"," ","0212.870.15.58"," "," ","CARACAS"," "," "," "," ","AGOSTINHO DE ABREU S","ILVA"," ","EL RANCHO LARGO DEL JUNQUITO, C.A.","KILOMETRO 7- CARRETERA VIA ELJUNQUI","TO-CARACAS"," "," "," "," "," "," ",null,"J-00240312-8","C-21452","89250","No","05","CREDITO 5 DIAS","33","CENTRO-CANDELARIA","04","06","BAR/TABER./S. BAR/PUB/TAS","02","ON PREMISSE","02","ON PREMISSE"," ","02"," ","   "]
["J002417730","02 - REQUENA JOHAN - OFF","LICORERIA DOS MAS DOS, S.R.L.","LICORERIA DOS MAS DOS"," ","LICORERIA DOS MAS DOS","AVENIDA LOUIS BRAILE  1 TRASNVERSAL"," CARMENESY JABILLOS  EL CEMENTERIO"," "," "," "," ","CARACAS"," "," "," "," ","LEON DEL VALLE OLIVI","ER BENITEZ"," ","LICORERIA DOS MAS DOS","AVENIDA LOUIS BRAILE  1 TRASNVERSAL"," CARMENESY JABILLOS  EL CEMENTERIO"," "," "," "," "," "," ",null,"J-00241773-0","M-N 6064","89250","No","05","CREDITO 5 DIAS","24","CARICUAO","05","18","LICORERIAS/BODEGONES","01","OFF PREMISSE","01","OFF PREMISSE"," ","02"," ","   "]
["J002432195","21 - CAÑONGO SAUL","LICORERIA LA MARGARITA, S.R.L","LICORERIA LA MARGARITA, S.R.L","060917","LICORERIA LA MARGARITA, S.R.L","AV INDEPENDENCIA LOCAL N° 4 SECTOR","LA VAQUERA SANTA TERESA SUR SANTA","TERESA DEL TUY EDO MIRANDA"," "," "," ","VALLE DEL TUY"," "," "," ","BLOQ MHP 92 DIAS CALLE 220321WP","CRISTAN C DUQUE"," "," ","LICORERIA LA MARGARITA, S.R.L","AV INDEPENDENCIA LOCAL N° 4 SECTOR","LA VAQUERA SANTA TERESA SUR SANTA","TERESA DEL TUY EDO MIRANDA"," ","04242827764"," ","RECIBE DE LUN A JUEV","DE 10:00 AM A 4:00 PM","MARTES","J-00243219-5","039-MY-ST0079","89250","Sí","00","CONTADO","27","VALLES DEL TUY-27","05","18","LICORERIAS/BODEGONES","01","OFF PREMISSE","01","OFF PREMISSE","21","21","02 - VICTOR TORRES - OFF","RECIBE DE LUN A JUEV DE 10:00 AM A 4:00 PM"]
["J002456558","25 - OCAMPO O. ROMAY","LICORERIA MEMIN, C.A","LICORERIA MEMIN, C.A"," ","LICORERIA MEMIN, C.A","CENTRO COMERCIAL COLINAS CARRIZAL K","M 20 CARRETERA PANAMERICANA"," ","(0212) 383.54.29","(0414) 380.32.15","rafaelchinobastidas@gmail.com","LOS TEQUES"," "," "," "," ","RAFAEL MANZANILLA"," "," ","LICORERIA MEMIN, C.A","CENTRO COMERCIAL COLINAS CARRIZAL K","M 20 CARRETERA PANAMERICANA"," "," ","(0212) 383-54-29"," ","RECIBE  LUNES A VIERNES"," 11:00 AM A 3:00 PM","MIERCOLES","J-00245655-8","032-MN-23","89250","No","05","CREDITO 5 DIAS","25","LOS TEQUES","06","18","LICORERIAS/BODEGONES","01","OFF PREMISSE","01","OFF PREMISSE","25","25","02 - VICTOR TORRES - OFF","RECIBE  LUNES A VIERNES  11:00 AM A 3:00 PM"]
["J002488905","09 - CLIENTE INHABILITADO","INVERSIONES TERETUY,C.A.","INVERSIONES TERETUY C A"," ","INVERSIONES TERETUY C A","AVENIDA INDEPENDENCIA CRUCE CON AVD","A LAMASSANTA TERESA-VALLES  DEL TUY"," "," "," "," ","VALLES  DEL TUY"," "," "," "," ","RAUL LANDAETA"," "," ","INVERSIONES TERETUY C A","AVENIDA INDEPENDENCIA CRUCE CON AVD","A LAMASSANTA TERESA-VALLES  DEL TUY"," "," "," "," "," "," ",null,"J-00248890-5","M-M 187","15000","No","05","CREDITO 5 DIAS","14","LITORAL CENTRAL","04","06","BAR/TABER./S. BAR/PUB/TAS","02","ON PREMISSE","02","ON PREMISSE"," ","09","09 - CLIENTE INHABILITADO","   "]
["J002533625","09 - CLIENTE INHABILITADO","LICORERIA SARA C A","LICORERIA SARA C A"," ","LICORERIA SARA C A","AV.FCO.DE MIRANDA EDIF.SARA FTE.AL","UNICENTROEL MARQUEZ-CARACAS-EDO.MIR","ANDA","2720460"," "," ","CARACAS"," "," "," "," ","ANTONIO SANTANGELO M","EROLA"," ","LICORERIA SARA C A","AV.FCO.DE MIRANDA EDIF.SARA FTE.AL","UNICENTROEL MARQUEZ-CARACAS-EDO.MIR","ANDA"," "," "," "," "," ",null,"J-00253362-5","M-N 6181","15000","No","05","CREDITO 5 DIAS","13","PETARE","05","18","LICORERIAS/BODEGONES","01","OFF PREMISSE","01","OFF PREMISSE"," ","09","09 - CLIENTE INHABILITADO","   "]
["J002568739","09 - CLIENTE INHABILITADO","COMERCIAL FELANGEL,S.R.L.","COMERCIAL FELANGEL,S.R.L."," ","COMERCIAL FELANGEL,S.R.L.","CALLE BOLIVAR N.30 SECTOR EL RECREO"," CAUCAGUACAUCAGUA"," ","620830"," "," ","BARLOVENTO"," "," "," "," ","ANGEL ROJAS"," "," ","COMERCIAL FELANGEL,S.R.L.","CALLE BOLIVAR N.30 SECTOR EL RECREO"," CAUCAGUACAUCAGUA"," "," "," "," ","TRASP. ZONA 01 SUP.JHONNY","RODRIGUEZ S/SOL.07/02/11",null,"J-00256873-9","M-Y 651","15000","No","05","CREDITO 5 DIAS","12","BARLOVENTO","05","18","LICORERIAS/BODEGONES","01","OFF PREMISSE","01","OFF PREMISSE"," ","09","09 - CLIENTE INHABILITADO","TRASP. ZONA 01 SUP.JHONNY RODRIGUEZ S/SOL.07/02/11"]
["J002568778","09 - CLIENTE INHABILITADO","ABASTOS MAIRUT C.A","ABASTOS MAIRUT C.A"," ","ABASTOS MAIRUT C.A","CALLE COMERCIO FRENTE A LA PLAZA BO","CUA"," "," "," "," ","VALLE DEL TUY"," "," "," "," ","MANUEL ACEVEDO"," "," ","CALLE COMERCIO FRENTE A LA PLAZA","BOLIVAR CUA"," "," "," "," "," "," "," ",null,"J-00256877-8","M-Y 503","0","No","00","CONTADO","09","CLIENTE INHABILITADO","02","21","SUPERMERCADOS/AUTOMERCADO","01","OFF PREMISSE","01","OFF PREMISSE","09","09","09 - CLIENTE INHABILITADO","   "]
["J002592958","32 - HERNANDEZ EDGAR","LA POSADA DEL POLLO, C.A","LA POSADA DEL POLLO, C.A","5525058","LA POSADA DEL POLLO, C.A","AV PANTEON, ESQ. PALO NEGRO A ESQ.","PALO BLANCO, EDIF CALOSAVA,PISO PB","URB SAN JOSE","0212 551 60 72","0414 265 68 70","irsecalderon@gmail.com","CARACAS"," ","DESB CUMPL 3PP 081118 WP","CAMBIO V-31 A LA V-32 111023 EP","CAMBIO V-31 A LA V-32 111023 PH","CORREIA DE AZEVEDO","JOSE MENDEZ"," ","LA POSADA DEL POLLO, C.A","AV PANTEON, ESQ. PALO NEGRO A ESQ","PALO BLANCO, EDIF CALOSAVA PISO PB","URB SAN JOSE"," ","551-68-98"," ","RECIBE  LUNES A VIERNES"," 8:00AM A 11:00PM","MIERCOLES","J-00259295-8","C-6606","89250","No","05","CREDITO 5 DIAS","33","CENTRO-CANDELARIA","04","06","BAR/TABER./S. BAR/PUB/TAS","02","ON PREMISSE","02","ON PREMISSE","32","32","01 - GUERRERO SALVADOR ON","RECIBE  LUNES A VIERNES  8:00AM A 11:00PM"]
["J002646004","09 - CLIENTE INHABILITADO","TASCA BUEN GUSTO C.A.","TASCA BUEN GUSTO  *"," ","TASCA BUEN GUSTO  *","CALLE BOLIVAR AL LADO DE UNICASAOCU","MARE"," ","039-241025"," "," ","VALLE DEL TUY"," "," "," "," ","ALBERTO ZUAREZ"," "," ","TASCA BUEN GUSTO  *","CALLE BOLIVAR AL LADO DE UNICASAOCU","MARE"," "," "," "," "," "," ",null,"J-00264600-4","C 515","15000","No","05","CREDITO 5 DIAS","14","LITORAL CENTRAL","04","06","BAR/TABER./S. BAR/PUB/TAS","02","ON PREMISSE","02","ON PREMISSE","09","09","09 - CLIENTE INHABILITADO","   "]
["J002676043","09 - CLIENTE INHABILITADO","LA POSADA DEL MESONERO, C.A.","LA POSADA DEL MESONERO, C.A."," ","LA POSADA DEL MESONERO, C.A.","AV EL BOSQUE CRUCE CON AV SANTA","LUCIA. EDIF EL BOSQUE. PB. LOCAL 1.","URB EL BOSQUE.","(0212) 952.16.08","(0412) 625.67.01"," ","CARACAS"," ","COMBIO D ZONA35 A 33 AL 190619 JA","CAMBIO DE ZONA 30 A 35 12/02/19 BB","CAMBIO D ZONA 33 A 09 16/9/19 GT","ANTONIO RODRIGUEZ","GABRAL"," ","LA POSADA DEL MESONERO, C.A.","AV EL BOSQUE CRUCE CON AV SANTA","LUCIA. EDIF EL BOSQUE. PB. LOCAL 1.","URB EL BOSQUE."," ","0212 - 7341421"," ","RECIBE  LUNES A VIERNES"," 09:00 AM A 11:30 AM","MIERCOLES","J-00267604-3","C70100000263","0","Sí","00","CONTADO","09","CLIENTE INHABILITADO","04","07","RESTAURANTES","02","ON PREMISSE","02","ON PREMISSE","09","09","09 - CLIENTE INHABILITADO","RECIBE  LUNES A VIERNES  09:00 AM A 11:30 AM"]
["J002714492","502 - DRA. ALEXI Y. PINT0","TASCA RESTAURANT LA CHUQUILLA,C.A","TASCA RESTAURANT LA CHUQUILLA,C.A"," ","TASCA RESTAURANT LA CHUQUILLA,C.A","PUENTE ANAUCO A ALCABALA EDIF","THOMAS -CARACAS"," ","0212.5765547"," "," ","CARACAS"," "," "," "," ","JUAN DA SILVA","CASTRO BRICEÑ CASTOR"," ","TASCA RESTAURANT LA CHUQUILLA,C.A","PUENTE ANAUCO A ALCABALA","EDF. THOMAS","CARACAS"," ","0212.5765547"," ","PASADO A LEGAL 23-12-11","DRA. ALEXI PINTO",null,"J-00271449-2","C-2848","0","No","00","CONTADO","33","CENTRO-CANDELARIA","04","07","RESTAURANTES","02","ON PREMISSE","02","ON PREMISSE"," ","502"," ","PASADO A LEGAL 23-12-11 DRA. ALEXI PINTO"]
["J002743700","09 - CLIENTE INHABILITADO","EL BODEGON DEL TIMONEL,C.A.","EL BODEGON DEL TIMONEL,C.A."," ","EL BODEGON DEL TIMONEL,C.A.","AV.BARLOVENTO EDF.MERCEDITA LOCALES","Nº1,PLANTA BAJA HIGUEROTE"," ","0234/3231589"," "," ","HIGUEROTE"," "," "," "," ","ANTONIO BLANCO"," "," ","EL BODEGON DEL TIMONEL,C.A.","AV.BARLOVENTO EDF.MERCEDITA LOCALES","Nº1,PLANTA BAJA HIGUEROTE"," "," "," "," ","CERRAD.CAMB.A LA ZONA DEL","ZON SUP-01 S/S F.23/07/13",null,"J-00274370-0","HGTE 039-MM-682-33","15000","Sí","00","CONTADO","12","BARLOVENTO","05","18","LICORERIAS/BODEGONES","01","OFF PREMISSE","01","OFF PREMISSE"," ","09","09 - CLIENTE INHABILITADO","CERRAD.CAMB.A LA ZONA DEL ZON SUP-01 S/S F.23/07/13"]
["J002795310","71 - OFICINA","GRUPO EMPRESARIAL NORTH KING GENKCA","GRUPO EMPRESARIAL NORTH KING GENKCA"," ","GRUPO EMPRESARIAL NORTH KING GENKCA","URB EMPRESARIAL  PARQUE INDUSTRIAL","EL GUAYABAL,PARCELA #21 GUARENAS."," ","0212 - 3636766"," "," ","CARACAS"," "," "," "," ","ARAUJO DOS SANTOS","SEBASTIAN"," ","GRUPO EMPRESARIAL NORTH KING GENKCA","AV.FCO.DE MIRANDA C.C.CAMPO CLARO","LOCAL 7.CARACAS.(REST.RANCHO PADOVA","ATE. JOAQUIN DOS SANTOS"," ","0212-2353958/3636766","0212-3627604"," "," ",null,"J-00279531-0","TRAMITE","15000","No","05","CREDITO 5 DIAS","11","GUARENAS","06","32","RELACIONADOS (PRECIO ESP)","01","OFF PREMISSE","01","OFF PREMISSE"," ","71","71 - OFICINA","   "]
["J002825855","02 - REQUENA JOHAN - OFF","PESA DE COCH Y CHICHARR.VASQUEZ,S.R","PESA DE C Y CHICHARR.VASQUEZ,S.R.L"," ","PESA DE COCHINO Y CHICHARR.VASQUEZ,S.R.L","KM.21,CARRETERA EL JUNQUITO,PARROQU","IA ELEL JUNKO-LA GRAN PARADA-EL JUN","KO-EDO.VARGAS","0212.412.25.32"," "," ","JUNQUITO"," "," "," "," ","LEONEL FARIA"," "," ","PESA DE C Y CHICHARR.VASQUEZ,S.R.L","KM.21,CARRETERA EL JUNQUITO,PARROQU","IA ELEL JUNKO-LA GRAN PARADA-EL JUN","KO-EDO.VARGAS"," "," "," "," "," ",null,"J-00282585-5","031-CVC-98","89250","No","05","CREDITO 5 DIAS","33","CENTRO-CANDELARIA","04","07","RESTAURANTES","02","ON PREMISSE","02","ON PREMISSE"," ","02"," ","   "]
["J002826339","09 - CLIENTE INHABILITADO","LICORERIA JORYSON","LICORERIA JORYSON"," ","LIC. Y AGENCIA DE FESTEJOS JORYSON, C.A","CARRETERA NACIONAL GUATIRE SECTOR","EL QUEMAITO-LAS ROSAS-GUATIRE-EDO.","MIRANDA","0212 - 344.22.23"," "," ","GUATIRE"," "," "," ","7 CHD DEL 01-02-2013 AL 11-02-2014","HECTOR ARANQUIZ"," "," ","LIC. Y AGCIA DE FEST JORYSON, C.A","CARRETERA NACIONAL GUATIRE SECTOR","EL QUEMAITO-LAS ROSAS-GUATIRE-EDO.","MIRANDA"," ","0414 - 210.90.00"," "," "," ","VIERNES","J-00282633-9","M-M 126","15000","Sí","00","CONTADO","11","GUARENAS","05","18","LICORERIAS/BODEGONES","01","OFF PREMISSE","01","OFF PREMISSE","09","09","09 - CLIENTE INHABILITADO","   "]
["J002851635","09 - CLIENTE INHABILITADO","RAFAEL FERNANDEZ","ABASTOS JOAQUIN,C.A."," ","ABASTOS JOAQUIN,C.A.","AVENIDA PRINCIPAL MINAS DE BARUTABA","RUTA-EDO.MIRANDA"," ","938935"," "," ","CARACAS"," "," "," "," ","RAFAEL FERNANDEZ"," "," ","ABASTOS JOAQUIN,C.A.","AVENIDA PRINCIPAL MINAS DE BARUTABA","RUTA-EDO.MIRANDA"," "," "," "," "," "," ",null,"J-00285163-5","M-N 656","15000","No","05","CREDITO 5 DIAS","15","BARUTA","05","23","ABASTOS PEQUEÑOS/BODEGAS","01","OFF PREMISSE","01","OFF PREMISSE","09","09","09 - CLIENTE INHABILITADO","   "]
["J002938293","02 - REQUENA JOHAN - OFF","ABASTOS MONTE CARMELO,C.A.","ABASTOS MONTE CARMELO"," ","ABASTOS MONTE CARMELO","ESQUINA MONTE CARMELO  Nº 149 SAN J","OSEHOSPITAL VARGAS"," "," "," "," ","CARACAS"," "," "," "," ","RITA TERESA AURORA L","EONE A."," ","3","ESQUINA MONTE CARMELO  Nº 149 SAN J","OSEHOSPITAL VARGAS"," "," "," "," ","TRASP.AL 02 SEGUN SOLIC","14/02/11",null,"J-00293829-3","M-M 1620","89250","No","05","CREDITO 5 DIAS","20","CENTRO DE CARACAS","05","23","ABASTOS PEQUEÑOS/BODEGAS","01","OFF PREMISSE","01","OFF PREMISSE"," ","02"," ","TRASP.AL 02 SEGUN SOLIC 14/02/11"]
["J002960965","09 - CLIENTE INHABILITADO","COMERCIAL SILVER START, C.A.","TRIANA TROPICAL"," ","COMERCIAL SILVER START, C.A.","CALLE REAL DE SABANA GRANDE EDIFICI","O RECREOLOCAL NO. 12"," ","0212.763.16.35","0416.821.83.26"," ","CARACAS"," "," "," ","CAMBIO Z - 31 A Z - 09 200919 GA","MARTINHO DE BARROS D","A SILVA","JOSE GOMEZ","TRIANA TROPICAL","CALLE REAL DE SABANA GRANDE EDIFICI","O RECREOLOCAL NO. 12"," "," "," "," "," "," ",null,"J-00296096-5","C 2585","15000","Sí","00","CONTADO","32","SUCRE - BARUTA","05","18","LICORERIAS/BODEGONES","02","ON PREMISSE","02","ON PREMISSE","09","09","09 - CLIENTE INHABILITADO","   "]
["J003012157","09 - CLIENTE INHABILITADO","SUPER ABASTO Y CARN. MIS ENCANTOS.","FRIGORIFICO EL BUEN GOURMET"," ","FRIGORIFICO EL BUEN GOURMET","3RA TRANSVERSAL DE MIS ENCANTOS CRU","CE CONAVENIDA GUAICAIPURO."," "," "," "," ","CARACAS"," "," "," "," ","MARIO GOMEZ"," "," ","FRIGORIFICO EL BUEN GOURMET","3RA TRANSVERSAL DE MIS ENCANTOS CRU","CE CONAVENIDA GUAICAIPURO."," "," "," "," "," "," ",null,"J-00301215-7","M-N 444","15000","No","05","CREDITO 5 DIAS","13","PETARE","05","20","DELICATESES/FRIGO/CHARCUT","01","OFF PREMISSE","01","OFF PREMISSE","09","09","09 - CLIENTE INHABILITADO","   "]
["J003049514","02 - REQUENA JOHAN - OFF","FRUTERIA Y FRIGORIFICO LA MA Z,C.A.","FRUTERIA Y FRIGORIFICO LA MA Z,C.A."," ","FRUTERIA Y FRIGORIFICO LA MA Z,C.A.","CARRETERA PANAMERICANA KM 17 SECTOR"," LAROSALEDA AL LADO DE LA CASONA II"," -SAN ANTONIO","(0212) 372-77-77"," "," ","SAN ANTONIO"," "," "," ","NO TRABAJARA CON LICORES 31/01/14","ANGEL BOLIVAR","CUSTODIO GOMEZ"," ","FRUTERIA Y FRIGORIFICO LA MA Z,C.A.","CARRETERA PANAMERICANA KM 17 SECTOR"," LAROSALEDA AL LADO DE LA CASONA II"," -SAN ANTONIO"," ","(0212) 372-77-77"," ","RECIB LUNES,MARTES, MIERC","DE 2:00PM A 5:00PM",null,"J-00304951-4","032-MN-132","89250","Sí","00","CONTADO","26","SAN ANTONIO DE LOS ALTOS","05","20","DELICATESES/FRIGO/CHARCUT","01","OFF PREMISSE","01","OFF PREMISSE"," ","02"," ","RECIB LUNES,MARTES, MIERC DE 2:00PM A 5:00PM"]
["J003080934","09 - CLIENTE INHABILITADO","LICORERIA BERNIE, C.A.","LICORERIA BERNIE, C.A."," ","LICORERIA BERNIE, C.A.","CALLE GUAICAIPURO SECTOR PUNTA BRAV","EDIF PUERTA HONDA P.B.","LOS TEQUES","NO POSEE","0424 222 44 87","nautico.69@hotmail.com","LOS TEQUES"," "," "," ","CAMBIO DE ZONA 25 A 09 211122 LL","YELUTZY ZABALA"," "," ","LICORERIA BERNIE, C.A.","CALLE GUAICAIPURO SECTOR PUNTA","BRAVA EDIF PUERTA HONDA P.B.","LOS TEQUES"," "," "," ","RECIBE  MARTES A VIERNES"," 10:00AM A 5:00PM","MARTES","J-00308093-4","032-MN-36","15000","No","05","CREDITO 5 DIAS","09","CLIENTE INHABILITADO","06","18","LICORERIAS/BODEGONES","01","OFF PREMISSE","01","OFF PREMISSE","09","09","09 - CLIENTE INHABILITADO","RECIBE  MARTES A VIERNES  10:00AM A 5:00PM"]
["J003143740","09 - CLIENTE INHABILITADO","MINI ABASTOS PAPARO","MINI ABASTOS PAPARO"," ","MINI ABASTOS PAPARO","URB.LAS MERCEDES DE PAPARO SECTOR A","RIO CHICO EDO.MIRANDA"," ","0234.872.45.15"," "," ","RIO CHICO"," "," "," ","CAMBIO DE ZONA 12 A 09 08/10/19 YM","PEDRO RAMON PALACIOS"," "," ","MINI ABASTOS PAPARO","URB.LAS MERCEDES DE PAPARO SECTOR A","RIO CHICO EDO.MIRANDA"," "," ","0414.291.403.11"," "," "," ","LUNES","J-00314374-0","MY-1108","0","Sí","00","CONTADO","09","CLIENTE INHABILITADO","05","23","ABASTOS PEQUEÑOS/BODEGAS","01","OFF PREMISSE","01","OFF PREMISSE","09","09","09 - CLIENTE INHABILITADO","   "]
["J003148911","23 - HERNANDEZ JOSÉ D.","DISTRIBUIDORA GRAN CHUROLAY,C.A.","DISTRIBUIDORA GRAN CHUROLAY,C.A."," ","DISTRIBUIDORA GRAN CHUROLAY,C.A.","AV.INTERCOMUNAL ANTIMANO VUELTA EL","FRAILEDEBAJO DISTRIBUIDORA PARATE B","UENO CARACAS","(0212) 442.24.61","(0414) 214-53-04","LLAMAR SR. LUIS SI EL LOCAL ESTA CERRADO","CARACAS"," "," "," "," ","JOSE LUNA"," "," ","DISTRIBUIDORA GRAN CHUROLAY,C.A.","AV.INTERCOMUNAL ANTIMANO VUELTA EL","FRAILEDEBAJO DISTRIBUIDORA PARATE B","UENO CARACAS"," "," "," ","NO RECIBE LOS MIERCOLES"," 9:00AM A 4:00PM","LUNES","J-00314891-1","M-N 6856","89250","No","05","CREDITO 5 DIAS","23","CENTRO-SAN MARTIN","06","01","DE LICORES CON FZA DE VTA","01","OFF PREMISSE","01","OFF PREMISSE","23","23","02 - VICTOR TORRES - OFF","NO RECIBE LOS MIERCOLES  9:00AM A 4:00PM"]
["J003181560","09 - CLIENTE INHABILITADO","COMERCIAL MARTUMERCA, S.R.L.","COMERCIAL MARTUMERCA, S.R.L."," ","COMERCIAL MARTUMERCA, S.R.L.","CARRETERA NACIONAL VIA HIGUEROTE,LA","MARTURETERA,SECTOR SAN LUIS,MNCPIO.","ACEVEDO","5147509/414.2984939"," "," ","HIGUEROTE"," "," "," "," ","ANTONIO SALAZAR"," "," ","COMERCIAL MARTUMERCA, S.R.L.","CARRETERA NACIONAL VIA HIGUEROTE,LA","MARTURETERA,SECTOR SAN LUIS,MNCPIO.","ACEVEDO"," "," "," "," "," ",null,"J-00318156-0","034-MN-1072","15000","No","05","CREDITO 5 DIAS","12","BARLOVENTO","05","21","SUPERMERCADOS/AUTOMERCADO","01","OFF PREMISSE","01","OFF PREMISSE"," ","09","09 - CLIENTE INHABILITADO","   "]
["J003244058","31 - RODRIGUEZ WLADIMIR","DISTRIBUIDORA REVEIN CA","DISTRIBUIDORA REVEIN CA"," ","DISTRIBUIDORA REVEIN CA","AVENIDA DIEGO CISNEROS  ESQ. 2DA TR","ANSV.EDIF LUCAS LOS RUICES"," ","2398409"," "," ","CARACAS"," "," "," "," ","ROBERTO TEXEIRA"," "," ","DISTRIBUIDORA REVEIN CA","AVENIDA DIEGO CISNEROS  ESQ. 2DA TR","ANSV.EDIF LUCAS LOS RUICES"," "," "," "," "," "," ",null,"J-00324405-8","PARTICULAR","89250","No","05","CREDITO 5 DIAS","30","PARROQUIA EL RECREO","05","18","LICORERIAS/BODEGONES","01","OFF PREMISSE","01","OFF PREMISSE"," ","31"," ","   "]
["J003287296","09 - CLIENTE INHABILITADO","LIC. Y FRUTERIA EL ROSARIO, C.A.","LIC. Y FRUTERIA EL ROSARIO, C.A."," ","LIC. Y FRUTERIA EL ROSARIO, C.A.","CALLE EL ROSARIO SUBIENDO AL","HOSPITAL NUEVO. SECTOR EL SAMAN.","GUATIRE","0212-344.75.52"," "," ","GUATIRE"," "," ","2CD 160615-170616 HP13 M18 DC7 HD","CAM ZONA 01 NO ABRE REGULARM 160118","MARIA DE CASTRO","GUILLERMO DE CASTRO"," ","LIC Y FRUTERIA EL ROSARIO S.R.L.","CALLE EL ROSARIO SUBIENDO AL HOSPIT","ALNUEVO SECTOR EL SAMAN-GUATIRE-EDO",".MIRANDA"," ","0212 - 344.75.52"," ","RECIBE DE LUNES A JUEVES","9 A 12 AM Y 3 A 5 PM","LUNES","J-00328729-6","M-N 6441","15000","Sí","00","CONTADO","16","GUATIRE","05","18","LICORERIAS/BODEGONES","01","OFF PREMISSE","01","OFF PREMISSE","09","09","09 - CLIENTE INHABILITADO","RECIBE DE LUNES A JUEVES 9 A 12 AM Y 3 A 5 PM"]
["J003332470","02 - REQUENA JOHAN - OFF"," INVERSIONES CASA SANTA SRL","INVERSIONES CASA SANTA SRL"," ","INVERSIONES CASA SANTA SRL","CALLE REAL DE LOS FLORES DE  CATIA","ESQ.SOLDE MADRID C/C EL CENTRO SUCR","E-CARACAS","2128620981"," "," ","CARACAS"," "," "," "," ","VICTOR FERNANDEZ"," "," ","INVERSIONES CASA SANTA SRL","CALLE REAL DE LOS FLORES DE  CATIA","ESQ.SOLDE MADRID C/C EL CENTRO SUCR","E-CARACAS"," "," "," "," "," ",null,"J-00333247-0","M-N 2768","89250","No","05","CREDITO 5 DIAS","22","CATIA-JUNQUITO","04","07","RESTAURANTES","02","ON PREMISSE","02","ON PREMISSE"," ","02"," ","   "]
["J003378984","20 - DIEGO MANUEL","INVERSIONES PRADO PINZON, C.A.","ABASTOS PRADO PINZON"," ","INVERSIONES PRADO PINZON, C.A.","ESQ. DE MIGUELACHO A MISERICORDIA","EDF. ASIS, Nº 32, LA CANDELARIA"," ","0212 575 21 08","0412 936 98 36","invpradopinzon@gmail.com","CARACAS"," "," ","CAMBIO DE ZONA 20 A 228 040222 ST","CAMBIO DE ZONA 28 A 20 061022  FL","JOAO ABREU RODRIGUEZ"," "," ","ABASTOS PRADO PINZON","ESQ. DE MIGUELACHO A MISERICORDIA","EDF. ASIS, Nº 32, LA CANDELARIA"," "," ","(0212) 575-21-08"," ","RECIBE  LUNES A JUEVES"," 11:00AM A 2:00PM","DE LUNES A JUEVES","J-00337898-4","3-MN-0859","89250","No","05","CREDITO 5 DIAS","20","CENTRO DE CARACAS","06","07","RESTAURANTES","02","ON PREMISSE","02","ON PREMISSE","20","20","02 - VICTOR TORRES - ON","RECIBE  LUNES A JUEVES  11:00AM A 2:00PM"]
["J003416436","02 - REQUENA JOHAN - OFF","LICORES Y VIVERES MAMBO MONGO S R L","LIC Y VIVERES MAMBO MONGO S R L"," ","LICORES Y VIVERES MAMBO MONGO S R L","CALLE LIBERTAD BARRIO ISAIAS MEDINA"," ANGARITACATIA CARACAS"," ","8716565"," "," ","CARACAS"," "," "," "," ","MARCOS AMAYA"," "," ","LIC Y VIVERES MAMBO MONGO S R L","CALLE LIBERTAD BARRIO ISAIAS MEDINA"," ANGARITACATIA CARACAS"," "," "," "," ","TRASP. SUP 02-CARLOS GON.","S/S FECHA 02/08/2013",null,"J-00341643-6","M-N 337","89250","Sí","05","CREDITO 5 DIAS","22","CATIA-JUNQUITO","05","18","LICORERIAS/BODEGONES","01","OFF PREMISSE","01","OFF PREMISSE"," ","02"," ","TRASP. SUP 02-CARLOS GON. S/S FECHA 02/08/2013"]
["J003456721","13 - GUDIÑO FABIAN","FRIGORIFICO LOS PORTALES","FRIGORIFICO LOS PORTALES"," ","FERNANDEZ CAMACHO DE ABREU,CA","AV.FRANCISCO DE MIRANDA FRENTE LA E","STACION DELMETRO PETARE."," ","(0212) 238.63.16","(0212) 237.08.37","miguel.a.f.r1993@gmail.com","CARACAS"," "," "," "," ","FERNANDO ANDRADES"," "," ","FRIGORIFICO LOS PORTALES","AV.FRANCISCO DE MIRANDA FRENTE LA E","STACION DELMETRO PETARE."," "," "," "," ","RECIBE  LUNES A JUEVES","10:00 AM A 4:00 PM","MARTES","J-00345672-1","M-N 3274","89250","No","05","CREDITO 5 DIAS","13","PETARE","05","21","SUPERMERCADOS/AUTOMERCADO","01","OFF PREMISSE","01","OFF PREMISSE","13","13","01 - CARLOS DA SILVA - OFF","RECIBE  LUNES A JUEVES 10:00 AM A 4:00 PM"]
["J003459801","22 - GONZALEZ CARLOS","ABASTOS Y LICORES SANTA HILDA,S.R.L","ABASTOS Y LICORES SANTA HILDA,S.R.L"," ","ABASTOS Y LICORES SANTA HILDA,S.R.L.","KM 3 VIA JUNQUITO BARRIO JESUSNRO.","85 CERCA PANADERIA JESUS"," ","(0212) 875.40.70","(0414) 270.13.63"," ","JUNQUITO"," "," "," ","BLOQ. MAL HP. 04/04/19 GA","AGOSTINO DE SA GONCA","LVES"," ","ABASTOS Y LICORES SANTA HILDA,S.R.L","KM 3 VIA JUNQUITO BARRIO JESUSNRO.","85 CERCA PANADERIA JESUS"," "," "," "," ","RECIBE  LUNES A VIERNES"," 9 A 12:30 -  3 A 5 PM","LUNES Y MARTES","J-00345980-1","M-N 6023","89250","No","00","CONTADO","22","CATIA-JUNQUITO","06","23","ABASTOS PEQUEÑOS/BODEGAS","01","OFF PREMISSE","01","OFF PREMISSE","22","22","02 - VICTOR TORRES - OFF","RECIBE  LUNES A VIERNES  9 A 12:30 -  3 A 5 PM"]
["J003508500","24 - REYES OSWALDO","S/M CENTRAL DEL VALLE 5.000,C.A.","S/M CENTRAL DEL VALLE 5.000,C.A."," ","S/M CENTRAL DEL VALLE 5.000,C.A.","CENTRO COMERCIAL EL VALLE NIVEL 2","CARACAS"," ","(0212) 672.74.30","(0424) 272.92.99"," ","CARACAS"," "," ","BLOQ P/MHP 20 DIAS CALLE 210319 WP","BLOQ SEG TRANSF AUTOR SUP YR 20919","LEONOR DA SILVA"," "," ","S/M CENTRAL DEL VALLE 5.000,C.A.","CENTRO COMERCIAL EL VALLE NIVEL 2","CARACAS"," "," "," "," ","RECIBE  LUNES A VIERNES"," 9:00 AM A 13:00 PM","MIERCOLES","J-00350850-0","M-N 6605","89250","Sí","00","CONTADO","24","CARICUAO","06","21","SUPERMERCADOS/AUTOMERCADO","01","OFF PREMISSE","01","OFF PREMISSE","24","24","02 - VICTOR TORRES - OFF","RECIBE  LUNES A VIERNES  9:00 AM A 13:00 PM"]
["J003567400","13 - GUDIÑO FABIAN","INVERSIONES EL LAGAR, C.A.","YO SI TOMO"," ","INVERSIONES EL LAGAR, C.A.","CARRETERA PETARE SANTA LUCIA SECTOR","LOCAL N° INDICA NRO 51 URB VISTA HE","RMOSA LA DOLORITA KM.2 CRUCE","(0212) 245.44.13","(0424) 211.59.68","jose.sousa1977@hotmail.com","CARACAS","A PALO VERDE PETARE"," ","CAMBIO ZONA 13 A 43 021121 YP","CAMBIO ZONA 43 A  13 071122 ST","JOSE JOAO SOUSA DE A","BREU"," ","YO SI TOMO","CARRETERA PETARE SANTA LUCIA SECTOR","LOCAL N° INDICA NRO 51 URB VISTA HE","RMOSA LA DOLORITA KM.2 CRUCE","A PALO VERDE PETARE"," "," ","RECIBE  LUNES A JUEVES","09:30 AM A 5:00 PM","DE LUNES A JUEVES","J-00356740-0","M-N 172","89250","No","05","CREDITO 5 DIAS","43","PROLICOR / CELICOR","05","18","LICORERIAS/BODEGONES","01","OFF PREMISSE","01","OFF PREMISSE","13","13","01 - GUERRERO SALVADOR - OFF","RECIBE  LUNES A JUEVES 09:30 AM A 5:00 PM"]
["J003597643","20 - DIEGO MANUEL","LIC.Y CONFIT.PUERTO LA CRUZ","LIC.CONFIT.PUERTO LA CRUZ"," ","LIC.CONFIT.PUERTO LA CRUZ C.A.","CALLE LOS PEREZ. EDIF GLI ROI PISO","PB.. LOCAL A Y B. URB. QTA CRESPO","CARACAS.","(0212) 481.57.85","(0416) 607.81.03","licoreria.ptolacruz@gmail.com","CARACAS"," ","CAMBIO ZONA V-28 AL V-23 230621 MYZ","CAMBIO DE ZONA 23 A 228 170222 ST","CAMBIO DE ZONA V28 A V20 140223 LL","JOSE A. VIEIRA G"," "," ","LIC.CONFIT.PUERTO LA CRUZ C.A.","CALLE LOS PEREZ. EDIF GLI ROI PISO","PB.. LOCAL A Y B. URB. QTA CRESPO","CARACAS."," ","0416 - 6078103"," ","RECIBE  LUNES A VIERNES"," 11:00 AM A 05:00 PM","MARTES","J-00359764-3","TRAMITE","89250","No","05","CREDITO 5 DIAS","23","CENTRO-SAN MARTIN","06","21","SUPERMERCADOS/AUTOMERCADO","01","OFF PREMISSE","01","OFF PREMISSE","20","20","02 - VICTOR TORRES - OFF","RECIBE  LUNES A VIERNES  11:00 AM A 05:00 PM"]
["J003636100","09 - CLIENTE INHABILITADO","ABASTO RIO CLARO,S.R.L.","ABASTO RIO CLARO SRL"," ","ABASTO RIO CLARO SRL","AV.CARONI BELLO MONTE EDIF.CARONI P","LANTA BAJABARUTA"," ","9510128"," "," ","CARACAS"," "," "," "," ","ANTONIO GOMEZ PEREIR","A"," ","ABASTO RIO CLARO SRL","AV.CARONI BELLO MONTE EDIF.CARONI P","LANTA BAJABARUTA"," "," "," "," "," "," ",null,"J-00363610-0","M-N 1536","15000","No","05","CREDITO 5 DIAS","15","BARUTA","05","23","ABASTOS PEQUEÑOS/BODEGAS","01","OFF PREMISSE","01","OFF PREMISSE","09","09","09 - CLIENTE INHABILITADO","   "]
["J003684074","09 - CLIENTE INHABILITADO","EL BODEGON DE LA ROSA ABASTOS C.A.","EL BODEGON DE LA ROSA ABASTOS C.A."," ","EL BODEGON DE LA ROSA ABASTOS C.A.","SECTOR EL DESVIO,CARRET.NACIONAL","ANTES DE LAURB.LAS ROSAS AL LADO","A VENTA DE REPUESTOS","(0212) 342.09.44","(0412) 384.39.11"," ","GUATIRE"," "," "," ","CAMBIO Z11 A Z01 CERRADO 19/3/19 YR","SIMON SARQUIS"," "," ","EL BODEGON DE LA ROSA ABASTOS C.A.","SECTOR EL DESVIO,CARRET.NACIONAL AN","TES DE LAURB.LAS ROSAS AL LADO DE L","A VENTA DE REPUESTOS"," "," "," ","RECIBE  LUNES A VIERNES"," 10:00 AM A 5:00 PM","MIERCOLES","J-00368407-4","M-M 173","15000","No","05","CREDITO 5 DIAS","16","GUATIRE","05","18","LICORERIAS/BODEGONES","01","OFF PREMISSE","01","OFF PREMISSE","09","09","09 - CLIENTE INHABILITADO","RECIBE  LUNES A VIERNES  10:00 AM A 5:00 PM"]
["J003722952","31 - RODRIGUEZ WLADIMIR","RESTAURANT CACHAPERA KM. 40, C.A.","RESTAURANT CACHAPERA KM. 40, C.A."," ","RESTAURANT CACHAPERA KM. 40, C.A.","CARRETERA PANAMERICANA,KM 40,SECTOR","LOS LIMITES- LOS TEQUES"," ","0414.280.70.08"," "," ","LOS TEQUES"," "," "," "," ","DIEGO RIBAS"," "," ","RESTAURANT CACHAPERA KM. 40, C.A.","CARRETERA PANAMERICANA,KM 40,SECTOR","LOS LIMITES- LOS TEQUES"," "," "," "," "," "," ",null,"J-00372295-2","032-C-118","89250","No","05","CREDITO 5 DIAS","25","LOS TEQUES","04","07","RESTAURANTES","02","ON PREMISSE","02","ON PREMISSE"," ","31"," ","   "]
["J009146201","09 - CLIENTE INHABILITADO","INVERSIONES HNOS.HERNANDEZ GONZALEZ","BAR REST PIANO BAR YESTERDAY"," ","INV.HNOS GONZALEZ SA(YESTERDAY PIANO BAR","AV.SAN JUAN BOSCO ENTRE 2DA.Y 3RA T","RASV.ALTAMIRA."," ","2615129","CLIENTE PREPAGO"," ","CARACAS"," "," "," ","CTE INHAB Z-09 200919 WP","ANTONIO CONCEICAO D\"","FREITAS"," ","INV.HNOS G. SA(YESTERDAY PIANO BAR","AV.SAN JUAN BOSCO ENTRE 2DA.Y 3RA T","RASV.ALTAMIRA."," "," "," "," ","RECIBE LUNES A VIERNES","DE 430PM A 6:00PM",null,"J-00914620-1","C 941","15000","Sí","00","CONTADO","31","LA CASTELLANA","04","07","RESTAURANTES","02","ON PREMISSE","02","ON PREMISSE","09","09","09 - CLIENTE INHABILITADO","RECIBE LUNES A VIERNES DE 430PM A 6:00PM"]
["J010707292","35 - PEREZ JOSMAN","TURIDO,C.A.","T CA. R.M.L. FONDA DE LAS MERCEDES"," ","TURIDO CA. R.M.L. FONDA DE LAS MERCEDES","CALLE VERACRUZ LAS MERCEDESFTE.BANC","O MARACAIBO CARACAS"," "," "," "," ","CARACAS"," "," ","CAMB DE LA 34 A LA 35 130319 WP","CAMBIO DE  ZONA 32 A 35 260922  MYZ","MANUEL BRAS"," "," ","T CA. R.M.L. FONDA DE LAS MERCEDES","CALLE VERACRUZ LAS MERCEDESFTE.BANC","O MARACAIBO CARACAS"," "," "," "," ","RECIBE DE LUNES A VIERNES","7:00 AM A 12:00 PM","MIERCOLES","J-01070729-2","C 5513","89250","No","05","CREDITO 5 DIAS","34","LAS MERCEDES","04","07","RESTAURANTES","02","ON PREMISSE","02","ON PREMISSE","35","35","01 - CARLOS DA SILVA - ON","RECIBE DE LUNES A VIERNES 7:00 AM A 12:00 PM"]
["J070003146","04 - MARTINS ANTONIO"," CASA PARIS,S.A.","AUTOMERCADOS VICTORIA (CARACAS)"," ","AUTOMERCADOS VICTORIA (CARACAS)","AV. PPAL. DE LOS RUICES EDIF. CASA","PARISCARACAS"," ","234-30-15 AL 19"," "," ","CARACAS"," "," "," "," ","FERNANDO IGNACIO DE","OLIVEIRA"," ","AUTOMERCADOS VICTORIA (CARACAS)","AV. PPAL. DE LOS RUICES EDIF. CASA","PARISCARACAS"," "," "," "," ","TRASPASADO A LA ZONA 40","JULIO TORRES",null,"J-07000314-6","MY 1199","89250","No","00","CONTADO","41","CADENAS NACIONAL","03","04","CADENAS AUTOM. NACIONALES","00","ESTANDAR","00","ESTANDAR"," ","04"," ","TRASPASADO A LA ZONA 40 JULIO TORRES"]
["J111982542",null," "," "," "," "," "," "," "," "," "," "," "," "," "," "," "," "," "," "," "," "," "," "," "," "," "," "," ","CONTADO"," "," ","43750","No","00","CONTADO"," ",null," "," ",null,"01","OFF PREMISSE","01","OFF PREMISSE"," "," "," ","   "]
["J293516781","14 - GIL EXIO JOSE","INVERSIONES SOLEDAD, C.A.","INVERSIONES SOLEDAD, C.A."," ","INVERSIONES SOLEDAD, C.A.","AV JOSE MARIA ESPAÑA, LOCAL PB S/N,","URB LOS CORALES CARABALLEDA"," ","4149217453"," "," ","LA GUAIRA","TRASP. ZONA 02 S/SOL. DEL","23/03/2011","RESTRUCT. EDV 14 AL 16 MYZ 25-11-22"," ","ANA KARINA  RECHATE","V- 18.324.342"," ","INVERSIONES SOLEDAD, C.A.","AV JOSE MARIA ESPAÑA, LOCAL PB S/N","URB LOS CORALES, CARABALLEDA","LA GUAIRA"," ","0414-9217453"," ","RECIBE DE LUNES A VIERNES","DE 9:AM A  5 PM","DE LUNES A VIERNES","J-29351678-1","M-N 650","89250","No","05","CREDITO 5 DIAS","14","LITORAL CENTRAL","05","18","LICORERIAS/BODEGONES","01","OFF PREMISSE","01","OFF PREMISSE","14","14","01 - CARLOS DA SILVA - OFF","RECIBE DE LUNES A VIERNES DE 9:AM A  5 PM"]
["J293612977","13 - GUDIÑO FABIAN","INVERSIONES LA PEGA M.G., C.A.","INVERSIONES LA PEGA M.G., C.A.","07-03-17","INVERSIONES LA PEGA M.G., C.A.","CALLE PPAL LOCAL NRO CARNICERIA URB","TERRAZAS DE CAUCAGUITA MIRANDA"," ","(0412) 826.39.52"," "," "," "," "," "," "," ","MARCO LUGO"," "," ","INVERSIONES LA PEGA M.G., C.A.","CALLE PPAL LOCAL NRO CARNICERIA URB","TERRAZAS DE CAUCAGUITA MIRANDA"," "," ","(0412) 826.38.52"," ","RECIBE DE LUNES A VIERNES","DE 12:30 A 3:00PM","LUNES","J-29361297-7","LEL-2016-013","89250","No","05","CREDITO 5 DIAS","13","PETARE","05","18","LICORERIAS/BODEGONES","01","OFF PREMISSE","01","OFF PREMISSE","13","13","01 - CARLOS DA SILVA - OFF","RECIBE DE LUNES A VIERNES DE 12:30 A 3:00PM"]
["J293801540","09 - CLIENTE INHABILITADO","INVERSIONES 9377, C.A.","RESTAURANT EL CASCORRO"," ","INVERSIONES 9377, C.A.","PELOTA A ABANICO CON AV. URDANETA","EDIF. EL CARMEN, LOCAL Nº2, LA","CANDELARIA","0212 564 68 12","0412 727 75 46","jose2eleuteriodefaria@hotmail.com","CARACAS","CARACAS DTTO. CAPITAL"," "," ","CAMBIO DE ZONA 33 A 09 16/9/19 GT","BETTY MARIA VERGARA"," "," ","RESTAURANT EL CASCORRO","PELOTA A ABANICO CON AV. URDANETA","EDIF. EL CARMEN, LOCAL Nº2, LA","CANDELARIA","CARACAS DTTO. CAPITAL","(0212) 564-68-12"," ","RECIBE  LUNES A VIERNES"," 9:00AM A 4:00PM","LUNES","J-29380154-0","C-3542","0","Sí","00","CONTADO","09","CLIENTE INHABILITADO","04","07","RESTAURANTES","02","ON PREMISSE","02","ON PREMISSE","09","09","09 - CLIENTE INHABILITADO","RECIBE  LUNES A VIERNES  9:00AM A 4:00PM"]
["J293948223","09 - CLIENTE INHABILITADO","EL BUEN COMER 185, C.A.","BRASERO STEAK HOUSE"," ","EL BUEN COMER 185, C.A.","AV.ROMULO GALLEGOS C/FINAL AV.","SANZ Y CALLE NAIGUATA C.C. EL","MARQUEZ LOCAL Nº 1 PB","2431120"," "," ","CARACAS"," "," "," ","CAMBIO Z - 31 A Z - 09 200919 GA","ALEJANDRA PITA","CABRAL"," ","EL BUEN COMER 185, C.A.","AV.ROMULO GALLEGOS C/FINAL AV.SANZ","Y CALLE NAIGUATA C.C. MARQUEZ LOCAL","Nº 1 PB."," ","2431120"," ","CAMBIO RAZON SOCIAL SOLVE","J-31529057-0 GRUPO KARIMA",null,"J-29394822-3","DRM 021/07","15000","Sí","00","CONTADO","31","LA CASTELLANA","04","07","RESTAURANTES","02","ON PREMISSE","02","ON PREMISSE","09","09","09 - CLIENTE INHABILITADO","CAMBIO RAZON SOCIAL SOLVE J-31529057-0 GRUPO KARIMA"]
["J294012787","09 - CLIENTE INHABILITADO","ABASTOS LA CRUCECITA CYM, C.A","ABASTOS LA CRUCECITA CYM, C.A"," ","ABASTOS LA CRUCECITA CYM, C.A","CALLE ESTE 7 DE CRUCECITA","A PORVENIR EDIF ROMULO PISO","PB LOCAL 1 LA CANDELARIA","0212-551-99-31"," "," ","CARACAS"," "," "," ","CAMBIO A LA ZONA 09 23-09-2019","CONCEICAO DOS SANTOS"," "," ","ABASTOS LA CRUCECITA CYM, C.A","CALLE ESTE 7 DE CRUCECITA","A PORVENIR EDIF ROMULO PISO","PB LOCAL 1 LA CANDELARIA"," ","0212-551-99-31"," "," "," ",null,"J-29401278-7","002-MN-6868","0","No","00","CONTADO","09","CLIENTE INHABILITADO","05","23","ABASTOS PEQUEÑOS/BODEGAS","01","OFF PREMISSE","01","OFF PREMISSE","09","09","09 - CLIENTE INHABILITADO","   "]
["J294169732","09 - CLIENTE INHABILITADO","INVERSIONES DR-14,C.A","HOOTERS"," ","INVERSIONES DR-14,C.A","AV.LIBERTADOR C.C,SAMBIL NIVEL","DIVERSION, LOCAL DR-14, URB","ESTADO LEAL, MCPIO CHACAO","0212.2646589"," "," ","CHACAO-CARACA(SAMBIL"," "," "," ","CTE INHAB Z-09 200919 WP","JOSE ANTONIO VILLEGA"," "," ","INVERSIONES DR-14,C.A","HOOTERS","AV. LIBERTADOR C.C. SAMBIL, NIVEL","DIVERSION LOCAL DR-14","CHACAO-CARACAS","0212.2646589"," "," "," ",null,"J-29416973-2","07008051138","15000","Sí","00","CONTADO","31","LA CASTELLANA","04","07","RESTAURANTES","02","ON PREMISSE","02","ON PREMISSE","09","09","09 - CLIENTE INHABILITADO",{"$f":"CONCATENATE(AB1218,\" \",AC1218)","v":"   "}]
["J294311539","09 - CLIENTE INHABILITADO","CENTRO TURISTICO ALTAMIRA VILLAGE","CENTRO TURISTICO ALTAMIRA VILLAGE"," ","CENTRO TURISTICO ALTAMIRA VILLAGE, C.A.","AV.LUIS ROCHE 5TA. TRANSVERSAL CASA","TOLEDO NRO. 315051813 URB. ALTAMIRA"," ","(0212) 956-83-83","(0212) 956-85-05"," ","CHACAO"," "," ","CLIENTE CERRADO CAMB Z03 241017","CAMBIO A LA ZONA 09 23-09-19 YM","CARLOS YAMIN"," "," ","CENTRO TURISTICO ALTAMIRA VILLAGE","AV.LUIS ROCHE 5TA. TRANSVERSAL CASA","TOLEDO NRO. 315051813 URB. ALTAMIRA"," "," ","(0212) 956-83-83"," ","RECIBE LUNES A VIERNES","DE 8:00 AM A 11:00 AM","MARTES Y VIERNES","J-29431153-9","70100000846","0","Sí","00","CONTADO","09","CLIENTE INHABILITADO","04","08","HOTELES/CASINOS/BINGOS","02","ON PREMISSE","02","ON PREMISSE","09","09","09 - CLIENTE INHABILITADO","RECIBE LUNES A VIERNES DE 8:00 AM A 11:00 AM"]
["J294524095","09 - CLIENTE INHABILITADO","INVERSIONES WILLIAN & WILLIAN, C.A.","INVERSIONES WILLIAN & WILLIAN, C.A.","181017","INVERSIONES WILLIAN & WILLIAN, C.A.","CTRA VIEJA PETARE SANTA LUCIA KM 2","LOCAL MERCADO DE MESUCA NRO 388","SECTOR MESUCA CARACAS PETARE","(0212) 580.00.75","(0212) 287.65.68"," ","PETARE","CAMBIO DE ZONA 13 A 09 16/5/23 YR"," "," "," ","WILLIAN GONZALEZ","WENDY DIAZ"," ","INVERSIONES WILLIAN & WILLIAN, C.A.","CTRA VIEJA PETARE SANTA LUCIA KM 2","LOCAL MERCADO DE MESUCA NRO 388","SECTOR MESUCA CARACAS PETARE"," ","04149021542"," ","RECI  LUNES A VIERNES"," 8:00 AM A 6:00 PM","MARTES","J-29452409-5","DRM 00006/2017","15000","No","05","CREDITO 5 DIAS","13","PETARE","05","18","LICORERIAS/BODEGONES","01","OFF PREMISSE","01","OFF PREMISSE","09","09","09 - CLIENTE INHABILITADO","RECI  LUNES A VIERNES  8:00 AM A 6:00 PM"]
["J294704719","71 - OFICINA","INVERSIONES TOLONCA, C.A.","INVERSIONES TOLONCA, C.A.","281116","INVERSIONES TOLONCA, C.A.","AV ERNESTO BLOHM TORRE DIAMEN PISO","9 OFIC 99 URB CHUAO BARUTA CARACAS"," ","0212-910.12.18"," ","INVVICF@HOTMAIL.COM"," "," "," "," "," ","HENRIQUE AZPURUA"," "," ","INVERSIONES TOLONCA, C.A.","AV ERNESTO BLOHM TORRE DIAMEN PISO","9 OFIC 99 URB CHUAO BARUTA  CARACAS"," "," "," "," "," "," ","CONTADO","J-29470471-9","PARTICULAR","2200","No","05","CREDITO 5 DIAS","71","OFICINA","08","33","RELACIONADOS","00","ESTANDAR","00","ESTANDAR","71","71","71 - OFICINA","   "]
["J294957080","09 - CLIENTE INHABILITADO","INVERSIONES 180140 C.A","REST LA CAPULA"," ","INVERSIONES 180140 C.A","AV. CAURIMARE EDIF CLUB TACHIRA","PISO P.B. LOCAL PISCINA URB","COLINAS DE BELLO MONTE.","0414.288.94.01"," "," ","CARACAS"," "," "," ","REEST-V-31 AL V-09 20092019 MYZ","EGORI J. HERNANDEZ A","ENNO S. PARRA DURAN"," ","INVERSIONES 180140 C.A","AV. CAURIMARE EDIF. CLUB TACHIRA","PISO P.B. LOCAL PISCINA URB COLINAS"," "," ","0414.288.94.01"," ","CAMBIO DE ZONA SUP.03","EN FECHA 25/07/2013",null,"J-29495708-0","TRAMITE","15000","Sí","00","CONTADO","15","BARUTA","04","07","RESTAURANTES","02","ON PREMISSE","02","ON PREMISSE","09","09","09 - CLIENTE INHABILITADO","CAMBIO DE ZONA SUP.03 EN FECHA 25/07/2013"]
["J295083947","02 - REQUENA JOHAN - OFF","LICORERIA BREISACH I, C.A.","LICORERIA BREISACH I, C.A."," ","LICORERIA BREISACH I, C.A.","SECTOR EL ARCO ENTRADA COLONIA","TOVAR AL LADO E/S EL ARCO"," ","0244-3551967"," "," ","COLONIA TOVAR"," "," "," "," ","DOMINGO ANTONIO LUGO"," BERGMAN"," ","LICORERIA BREISACH","SECTOR EL ARCO ENTRADA COLONIA","TOVAR AL LADO E/S EL ARCO","LA COLONIA TOVAR"," ","0244-3551967"," ","TRASP.S-02 FECHA 02/08/11","ATENDIDO POR DINAZORIENTE",null,"J-29508394-7","MN-428","89250","No","05","CREDITO 5 DIAS","22","CATIA-JUNQUITO","05","18","LICORERIAS/BODEGONES","01","OFF PREMISSE","01","OFF PREMISSE"," ","02"," ","TRASP.S-02 FECHA 02/08/11 ATENDIDO POR DINAZORIENTE"]
["J295235208","09 - CLIENTE INHABILITADO","HOKKAIDO SUSHI,C.A","HOKKAIDO SUSHI,C.A","0","HOKKAIDO SUSHI,C.A","CTRA-PANAMERICANA KM 16 CC","LA CASONA NIVEL 02 LOCAL 20-R2","URB LA ROSALEDA","0212-3736237"," ","yulexi_deabreu_10@hotmail.com","MIRANDA"," "," ","BLOQUEADO MOROSIDAD A + DE 63 DIAS","CAMBIO A LA ZONA 09 19-09-19 YM","KARINA MONTELONGO","ESCOBAR"," ","HOKKAIDO SUSHI,C.A","CTRA PANAMERICANA KM 16, CC LA","CASONA NIVEL 02 LOCAL 20-R2 URB LA","ROSALEDA-SAN ANTONIO"," ","0212/3736237"," ","CENTRALIZADO FRES.MARKET","10/03/2014",null,"J-29523520-8","C-0023/2010","0","Sí","00","CONTADO","09","CLIENTE INHABILITADO","04","07","RESTAURANTES","02","ON PREMISSE","02","ON PREMISSE","09","09","09 - CLIENTE INHABILITADO","CENTRALIZADO FRES.MARKET 10/03/2014"]
["J295269315","09 - CLIENTE INHABILITADO","ALIMENTOS PACIFICO C.A","ALIMENTOS PACIFICO C.A"," ","ALIMENTOS PACIFICO C.A","CARRETERA PETARE. SANTA LUCIA.","CALLE SAN GERARDO. EDIF PAPECA.","LOCAL 2. URB. LA CANDELARIA","0212.532.30.12"," "," ","CARACAS"," "," ","CLI CERRADO Z-13 A Z-01 17-09-18 GA","CAMBIO A LA ZONA 09 23-09-19 YM","ALVARO ROMERO C","CRISTOBAL CASTRO P"," ","ALIMENTOS PACIFICO C.A","CARRETERA PETARE. SANTA LUCIA.","CALLE SAN GERARDO. EDIF PAPECA.","LOCAL 2 URB LA CANDELARIA."," ","0212.532.30.12"," ","RECIBE DE MARTE A VIERNES","07:30 AM A 12:00 M","LUNES","J-29526931-5","PARTICULAR","15000","Sí","00","CONTADO","13","PETARE","06","31","PARTICULAR","01","OFF PREMISSE","01","OFF PREMISSE","09","09","09 - CLIENTE INHABILITADO","RECIBE DE MARTE A VIERNES 07:30 AM A 12:00 M"]
["J295394888","09 - CLIENTE INHABILITADO","CORPORACION FRAGA BENTO, C.A","FRANGOS SANTA MONICA"," ","CORPORACION FRAGA BENTO, C.A","AV.ARTURO MICHELENA CON CALLE","RUFINO BLANCO FONBONA QTA CHARAIMA","URB SANTA MONICA CARACAS","(0212) 693.80.12"," ","frangosgrill15@gmail.com","CARACAS"," "," ","CAMB DE LA 35 A LA 32 130319 WP","CLIENTE INHABILITADO C09 130919 WP","FERNANDEZ BENTO AMER","ICO"," ","FRANGOS SANTA MONICA","AV.ARTURO MICHELENA CON CALLE","RUFINO BLANCO FONBONA QTA CHARAIMA","URB SANTA MONICA CARACAS"," ","(0212) 383-53-43","02-11-2015","MARTES A VIERNES","10:00AM 12:00AM","LUNES","J-29539488-8","20-C-002228","15000","Sí","00","CONTADO","30","PARROQUIA EL RECREO","04","07","RESTAURANTES","02","ON PREMISSE","02","ON PREMISSE","09","09","09 - CLIENTE INHABILITADO","MARTES A VIERNES 10:00AM 12:00AM"]
["J295542364","32 - HERNANDEZ EDGAR","AITAMA RESTAURANTE, C.A","RESTAURANT BAR URRUTIA"," ","AITAMA RESTAURANTE, C.A.","AV FCO.SOLANO LOPEZ","C/C LOS MANGUITOS EDIF LIBERTADOR","PISO PB LOCAL 3 SBNA GRANDE URB LAS","0212 162 87 15","0212 163 04 48"," restauranturritias@hotmail.com","CARACAS","DELICIAS"," ","CAMBIO V-31 vs V-332 200421","CAMBIO V-31 vs V-32 220223 PH","URRUTIA LOPETEGUI  A","DEBRA URRUTIA"," ","AITAMA RESTAURANTE, C.A","AV FCO.SOLANO LOPEZ","C/C LOS MANGUITOS EDIF LIBERTADOR","PISO PB LOCAL 3 SBNA GRANDE URB LAS","LAS DELICIAS","0212-763.04.48"," ","RECIBE  LUNES A VIERNES"," 8:00AM A 4:00PM","MARTES","J-29554236-4","5-C1492","89250","No","05","CREDITO 5 DIAS","30","PARROQUIA EL RECREO","04","07","RESTAURANTES","02","ON PREMISSE","02","ON PREMISSE","32","32","01 - CARLOS DA SILVA - ON","RECIBE  LUNES A VIERNES  8:00AM A 4:00PM"]
["J295737025","31 - RODRIGUEZ WLADIMIR","CENTRO HIPICO GRAN ESTEFANIA 3001","CENTRO HIPICO GRAN ESTEFANIA 3001"," ","CENTRO HIPICO GRAN ESTEFANIA 3001,C.A","CALLE SEGUNDA DE VISTA ALEGRE EDIF","MAGO PISO PB APT LOCAL No 1 URB","VISTA ALEGRE","0212.4722346"," "," ","CARACAS"," "," "," "," ","JUAQUIN GONCALVE","DE SOUSA"," ","CENTRO HIPICO GRAN ESTEFANIA 3001","CALLE SEGUNDA DE VISTA ALEGRE EDIF","MAGO PISO PB APT LOCAL No 1 URB","VISTA ALEGRE"," "," 0212 4722346"," ","CAMBIO DE ZONA SUP.03","DE FECHA 25/07/2013",null,"J-29573702-5","8-C-1499","89250","Sí","00","CONTADO","20","CENTRO DE CARACAS","05","23","ABASTOS PEQUEÑOS/BODEGAS","02","ON PREMISSE","02","ON PREMISSE"," ","31"," ","CAMBIO DE ZONA SUP.03 DE FECHA 25/07/2013"]
["J295888031","09 - CLIENTE INHABILITADO","COMERCIAL AMARISTA 3000, C.A.","COMERCIAL AMARISTA 3000, C.A.","250817","COMERCIAL AMARISTA 3000, C.A.","CALLE RUIZ PINEDA LOCAL N° H-26 URB","RUIZ PINEDA ZONA 1 GAURENAS EDO MIR","ANDA","NO POSEE","0414 479 57 10","dilio01@hotmail.com","GUARENAS"," "," "," ","CAMBIO Z-11 A Z-01 05/09/18 GA","DILIO BANDRES F"," "," ","COMERCIAL AMARISTA 3000, C.A.","CALLE RUIZ PINEDA LOCAL N° H-26 URB","RUIZ PINEDA ZONA 1 GAURENAS EDO MIR","ANDA"," ","04144795710"," ","RECIBE  LUNES A JUEVES"," 12:00 AM a 5:00 PM.","MARTES","J-29588803-1","014-MN-0009","15000","Sí","00","CONTADO","11","GUARENAS","05","18","LICORERIAS/BODEGONES","01","OFF PREMISSE","01","OFF PREMISSE","09","09","09 - CLIENTE INHABILITADO","RECIBE  LUNES A JUEVES  12:00 AM a 5:00 PM."]
["J296125180","09 - CLIENTE INHABILITADO","LICORERIA FA-LICOR, C.A","LICORERIA FA-LICOR, C.A"," ","LICORERIA FA-LICOR, C.A","CALLE PRINCIPAL DE TURMERITO LOCAL","GALPON ZONA INDUSTRIAL DE TURMERITO","CARACAS DTTO. CAPITAL","(0212) 681-32-38","(0412) 259-00-24"," ","CARACAS"," "," ","2CD 11115-211116 HP25 CD7 LA/MYZ","CAMBIO A LA ZONA 09 20-09-19 YM","DANIEL FALCON"," "," ","LICORERIA FA-LICOR, C.A","CALLE PRINCIPAL DE TURMERITO LOCAL","GALPON ZONA INDUSTRIAL DE TURMERITO","CARACAS DTTO. CAPITAL"," ","(0212) 681-32-38"," ","RECIBE DE LUNES A VIERNES","11 AM A 5 PM","DE LUNES A JUEVES","J-29612518-0","19-MN-001659","0","Sí","00","CONTADO","09","CLIENTE INHABILITADO","06","18","LICORERIAS/BODEGONES","01","OFF PREMISSE","01","OFF PREMISSE","09","09","09 - CLIENTE INHABILITADO","RECIBE DE LUNES A VIERNES 11 AM A 5 PM"]
["J296298602","502 - DRA. ALEXI Y. PINT0","GRUPO GUILMEL 45 C.A","GRUPO GUILMEL 45 C.A"," ","GRUPO GUILMEL 45 C.A","CALLE DECIMA TRANSVERSAL CRUCE CON","PRINCIPAL DE LOS CHORROS CC GALERIA","SEBUCAN NIVEL COMERCIO LOCAL 1","(0212) 935-13-15"," "," ","CARACAS"," "," "," "," ","DAVID AKININ"," V-10796489"," ","GRUPO GUILMEL 45 C.A","CALLE DECIMA TRANSVERSAL CRUCE CON","PRINCIPAL DE LOS CHORROS CC GALERIA","SEBUCAN NIVEL COMERCIO LOCAL 1"," ","(0212) 935-13-15"," ","BLOQUEADO PASO A LEGAL","DRA.ALEXI PINTO 05-06-13",null,"J-29629860-2","EN TRAMITE","15000","Sí","00","CONTADO","31","LA CASTELLANA","04","06","BAR/TABER./S. BAR/PUB/TAS","02","ON PREMISSE","02","ON PREMISSE"," ","502","01 - CARLOS DA SILVA","BLOQUEADO PASO A LEGAL DRA.ALEXI PINTO 05-06-13"]
["J296416630","09 - CLIENTE INHABILITADO","INV. EL VENEZOLANO DE NAIGUATA CY","INV. EL VENEZOLANO DE NAIGUATA CY","22/10/19","INVERSIONES  EL VENEZOLANO DE NAIGUATA CY C.A.","AV. PRINCIPAL DE NAIGUATA","LOCAL N S/N SECTOR SAN FRANCISCO","NAIGUATA VARGAS","04142583394"," "," ","VARGAS"," "," "," ","CAMBIO DE ZONA 14 A 09 18/10/21 FL","CARLOS ARTEAGA"," "," ","INV. EL VENEZOLANO DE NAIGUATA CY","AV. PRINCIPAL DE NAIGUATA","LOCAL N S/N SECTOR SAN FRANCISCO","NAIGUATA VARGAS"," ","04142583394"," ","RECIBE DE LUNES A VIERNES","9:00 AM A 5:00PM","LUNES","J-29641663-0","031-MN - 1407","15000","No","05","CREDITO 5 DIAS","09","CLIENTE INHABILITADO","05","18","LICORERIAS/BODEGONES","01","OFF PREMISSE","01","OFF PREMISSE","09","09","09 - CLIENTE IHNABILITADO","RECIBE DE LUNES A VIERNES 9:00 AM A 5:00PM"]
["J296468281","09 - CLIENTE INHABILITADO","INVERSIONES EL BODEGON DE CHUAO C.A","DE CASTA LIFE & FOOD"," ","INVERSIONES EL BODEGON DE CHUAO C.A","AV ERNESTO BLOHM CCCT. PRIMERA","ETAPA. PB LOCAL BODEGON"," ","(0212) 959.73.85","(0414) 032.48.61","carlosduran3131@hotmail.com","CARACAS"," "," "," ","CTE INHAB Z-09 200919 WP","DOMINGOS AIRES","ISABELA DE FREITAS","ARGENIS DE FREITAS","DE CASTA LIFE & FOOD","AV. ERNESTO BLOHM. CCCT PRIMERA","ETAPA PB. LOCAL BODEGON"," "," ","0212.959.86.30"," ","RECIBE  LUNES A VIERNES"," 09:00 AM A 03:00 PM","MIERCOLES Y JUEVES","J-29646828-1","TRAMITE","15000","Sí","00","CONTADO","35","EL ROSAL-CHACAO","04","18","LICORERIAS/BODEGONES","02","ON PREMISSE","02","ON PREMISSE","09","09","09 - CLIENTE INHABILITADO","RECIBE  LUNES A VIERNES  09:00 AM A 03:00 PM"]
["J296648506","11 - PEREIRA GENARO","INVERSIONES CAMUCHI 2025, C.A.","INVERSIONES CAMUCHI 2025, C.A.","16-09-2015","INVERSIONES CAMUCHI 2025, C.A.","1ERA. CALLE DE BARRIO AJURO FRENTE","LA PARADA CAPAYA-MESA GRANDE PARROQ","HIGUEROTE EDO. MIRANDA","(0234) 323.19.92","(0424) 164.44.26"," ","HIGUEROTE-BARLOVENTO"," ","DESBLOQ 220317 CUMPLIO 3PPG LA/MYZ","2CHED 230317/030118 10HP MYZ","DESBL EL 060618 CUMP, 3 JQ","LENI JOSE ROMERO","MATAS"," ","INVERSIONES CAMUCHI 2025, C.A.","1ERA. CALLE CARRIO AJURO FRENTE A","LA PARADA DE CAPAYA MESA GRANDE","CALLE PPAL DE HIGUEROTE EDO.MIRANDA"," ","(0426) 470-12-25"," ","RECIBE  LUNES A VIERNES"," 08:00 AM A 06:00 PM","DE LUNES A VIERNES","J-29664850-6","00-MN-151","89250","No","05","CREDITO 5 DIAS","12","BARLOVENTO","05","18","LICORERIAS/BODEGONES","01","OFF PREMISSE","01","OFF PREMISSE","11","11","01 - CARLOS DA SILVA - OFF","RECIBE  LUNES A VIERNES  08:00 AM A 06:00 PM"]
["J296792933","31 - RODRIGUEZ WLADIMIR","CORPORACION KANATA, S.A","TRIO"," ","CORPORACION KANATA, S.A","AV.DON EUGENIO MENDOZA AV. SAN","FELIPE. CC. CENTRO LETONIA. TORRE","ING BANK NIVEL B-1. LOCAL NIVEL","0212 - 2645982"," "," ","CARACAS","PLANTA"," ","REATC ZONA 03 A 35 EL 07-11-18 JA","CAMBIO V-31 vs V-332 200421","JORGE SILVA","BERNARDO SOTO NEGRON","SAMANTHA MORALES RIO","CORPORACION KANATA, S.A","AV DON EUGENIO MENDOZA. AV SAN","FELIPE. CC LETONIA TORRE ING","BANK NIVEL B-1 LOCAL NIVEL PB","GALERIA LA CASTELLANA","0212 - 264.59.82"," ","RECIBE DE LUNES A VIERNES","DE 8:00 AM A  4:30 PM","MIERCOLES","J-29679293-3","70100000452","89250","No","05","CREDITO 5 DIAS","35","EL ROSAL-CHACAO","04","09","DISCOTECAS Y NIGHT CLUBS","02","ON PREMISSE","02","ON PREMISSE","31","31","01 - CARLOS DA SILVA - ON","RECIBE DE LUNES A VIERNES DE 8:00 AM A  4:30 PM"]
["J296943397","13 - GUDIÑO FABIAN","BODEGAS REIMAR'S 1992, C.A.","BODEGA REIMAR'S, C.A."," ","BODEGAS REIMAR'S, 1992 C.A.","CALLE BLOQUES DEL INAVI, C.C. LAS","VEGAS DE PETARE LOCAL A-1 PETARE","MCIPIO. SUCRE","(0212) 251.93.20","(0424) 267.04.49","bodegas_reimar_1992@hotmail.com","CARACAS"," "," ","SUP.01 BLOQ.CAMBIO RIF J001406980","CAMBIO DE ZONA 09 AL 13 111122 LL","AGOSTINHO GONCALVES","AGUSTIN R. GONCALVES"," ","BODEGAS REIMAR`S, C.A.","CALLE BLOQUES DEL INAVI, C.C. LAS","VEGAS DE PETARE LOCAL A-1 PETARE","MCIPIO. SUCRE"," ","2519320/412-556-0746"," ","RECIBE  LUNES A VIERNES"," 09:00 AM A 05:00 PM","MIERCOLES","J-29694339-7","M-N 442","89250","No","05","CREDITO 5 DIAS","13","PETARE","05","21","SUPERMERCADOS/AUTOMERCADO","01","OFF PREMISSE","01","OFF PREMISSE","13","13","01 - GUERRERO SALVADOR - OFF","RECIBE  LUNES A VIERNES  09:00 AM A 05:00 PM"]
["J297309403","31 - RODRIGUEZ WLADIMIR","INVERSIONES DANILCA 95, C.A","RESTAURANT EL LAGUITO"," ","INVERSIONES DANILCA 95, C.A","CALLE PRINCIPAL CIRCULO MILITAR DE","LAS FUERZAS ARMADAS. SECTOR EL","LAGUITO. EL VALLE","0414.637.43.14"," "," ","CARACAS"," "," "," "," ","ANGEL LOZANO","OMAR MATA","MAIRIN GONZALES","INVERSIONES DANILCA 95, C.A","CALLE PRINCIPAL CIRCULO MILITAR DE","LAS FUERZAS ARMADAS. SECTOR","EL LAGUITO. EL VALLE"," ","0414.637.43.14"," ","CAMBIO DE ZONA SUP.03","EN FECHA 25/07/2013",null,"J-29730940-3","TRAMITE","89250","Sí","00","CONTADO","24","CARICUAO","04","07","RESTAURANTES","02","ON PREMISSE","02","ON PREMISSE"," ","31"," ","CAMBIO DE ZONA SUP.03 EN FECHA 25/07/2013"]
["J297575413","09 - CLIENTE INHABILITADO","BUENOS AIRES B&C GROUP, C.A.","BUENOS AIRES B&C GROUP, C.A."," ","BUENOS AIRES B&C GROUP, C.A.","AVENIDA LOS CAOBOS C/AV. LIBERTADOR","HOTEL RITZ URB. PARROQUIA EL RECREO","CARACAS","(0414) 118-41-77"," "," ","CARACAS"," "," "," ","CAMBIO A LA ZONA 09 23-09-19 YM","SIMON PACHECO","SERGIO AUSILI"," ","BUENOS AIRES B&C GROUP, C.A.","AV. HABANA C/ CON LAS PALMAS ENTRE","PLAZA VENEZUELA Y AV. LIBERTADOR AL","LADO DEL HOTEL RITZ (PORTON MORADO)","FTE. AL REST. GRAN YEN - CARACAS"," "," "," "," ",null,"J-29757541-3","PARTICULAR","0","Sí","00","CONTADO","09","CLIENTE INHABILITADO","06","16","SHOW ROOM","00","ESTANDAR","00","ESTANDAR","09","09","09 - CLIENTE INHABILITADO","   "]
["J297778314","09 - CLIENTE INHABILITADO","ANTARES SERVICIOS GASTRONOMICOS, C.","ANTARES SERVICIOS GASTRONOMICOS, C."," ","ANTARES SERVICIOS GASTRONOMICOS, C.","AV. CUARTA ENTRE 3ERA Y 4TA TRANSV","EDIF RES. CYPRESS GARDEN. PISO 1.","APT 12. URB LOS PALOS GRANDE","(0212) 210.08.67","(0414) 114.36.78","antaressg@gmail.com","CARACAS"," "," "," ","CAMBIO DE ZONA V35 A 09 060422 FL","LISBETH J. MORILLO","SILVIA L. CARDONA"," ","ANTARES SERVICIOS GASTRONOMICOS, C.","URBANIZACION COUNTRY CLUB, CLUB DE","GOLF COUNTRY CLUB, NIVEL PISCINA Y","HOYO 18, CARACAS"," ","0212 - 265.53.55"," ","RECIBE  MARTES A VIERNES"," 09:00 AM A 04:00 PM","VIERNES","J-29777831-4","TRAMITE","15000","No","05","CREDITO 5 DIAS","09","CLIENTE INHABILITADO","04","10","CLUB SOCIALES","02","ON PREMISSE","02","ON PREMISSE","09","09","09 - CLIENTE INHABILITADO","RECIBE  MARTES A VIERNES  09:00 AM A 04:00 PM"]
["J297888772","09 - CLIENTE INHABILITADO","LUNCHERIA ANDRES ELOY, C.A","BAR-RESTAURANTE ANDRES ELOY"," ","BAR-RESTAURANTE ANDRES ELOY","AV PPL CARICUAO LOCAL NRO 20 SECTOR","UD-2 CARACAS DISTRITO CAPITAL","ZONA POSTAL 1100","0424-238-6764","16-11-18"," ","CARACAS"," "," "," ","CAMBIO DE ZONA 24 A 09 250222 ST","GUTIERREZ MENODORO","VALERO FRANKLIN"," ","LUNCHERIA ANDRES ELOY, C.A","AV PPL DE CARICUAO  SECTOR UD-2","LOCAL N=20 FRENTE A LA ESTACION  DE","METRO CARICUAO","LIVERTADOR CARACAS DTT CAPITAL","0424-238-8664"," ","RECIBE DE LUNES A VIERNES","DE 9 AM A 5 PM","JUEVES","J-29788877-2","17-C-002682","15000","Sí","05","CREDITO 5 DIAS","09","CLIENTE INHABILITADO","06","07","RESTAURANTES","01","OFF PREMISSE","01","OFF PREMISSE","09","09","09 - CLIENTE INHABILITADO","RECIBE DE LUNES A VIERNES DE 9 AM A 5 PM"]
["J298034173","09 - CLIENTE INHABILITADO","INVERSIONES MNL, C.A.","CASA LORENZO","181016","INVERSIONES MNL, C.A.","CARRETERA PANAMERICANA KM 16 LOCAL","S/N URB.LA ROSALEDA SUR,SAN ANTONIO","DE LOS ALTOS EDO. MIRANDA","(0212) 373.77.46","(0424) 221.07.65","mariabravo.casalorenzo@gmail.com","SAN ANTONIO DE LOS A"," "," ","NO PREPAGO Z-26 A Z-02 17092018AV","CAMBIO A LA ZONA 09 20-09-19 YM","BETTY ACEVEDO"," "," ","CASA LORENZO","CARRETERA PANAMERICANA KM 16 LOCAL","S/N URB.LA ROSALEDA SUR,SAN ANTONIO","DE LOS ALTOS EDO. MIRANDA"," ","(0212) 373-77-46"," ","RECIBE  LUNES A JUEVES"," 08:00 AM A 05:00 PM","DE LUNES A JUEVES","J-29803417-3","C-0022/2010","0","Sí","00","CONTADO","09","CLIENTE INHABILITADO","05","07","RESTAURANTES","02","ON PREMISSE","02","ON PREMISSE","09","09","09 - CLIENTE INHABILITADO","RECIBE  LUNES A JUEVES  08:00 AM A 05:00 PM"]
["J298152834","09 - CLIENTE INHABILITADO","INV. S.C.M.M, C.A","EL PLACER DEL BEBER."," ","INV. S.C.M.M, C.A","AV LOS JABILLOS. EDIF CONTINENTAL","PISO PB. LOCAL 4A. ZONA SABANA","GRANDE-CARACAS","0212 . 7624131","0414.2217956"," ","CARACAS"," "," "," ","REEST-V-31 AL V-09 20092019 MYZ","HENRYS COLLINS","ARIS MARCANO","YARA MORENO","INV. S.C.M.M, C.A","AV LOS JABILLOS. EDIF CONTINENTAL","PISO PB. LOCAL 4A. ZONA SABANA","GRANDE-CARACAS"," ","0212 - 762.4131"," ","RECIBE HASTA LA 1:00 PM"," ",null,"J-29815283-4","S-MN-1796","15000","Sí","00","CONTADO","32","SUCRE - BARUTA","04","07","RESTAURANTES","02","ON PREMISSE","02","ON PREMISSE","09","09","09 - CLIENTE INHABILITADO","RECIBE HASTA LA 1:00 PM  "]
["J298304928","09 - CLIENTE INHABILITADO","DISTRIB EL REY DEL LICOR 2010, CA","DISTRIB EL REY DEL LICOR 2010, CA"," ","DISTRIB EL REY DEL LICOR 2010, CA","CALLE LOS RIOS. GALPON INDUSTRIAL","URB. INDUSTRIAL. EL MARQUEZ."," ","0414 - 139.86.70"," "," ","GUARENAS"," "," "," ","CLIENTE CERRADO TRASP.SUP.01 091213","GUSTAVO ABACHE","DIANA E. MARCANO"," ","DISTRIB EL REY DEL LICOR 2010, CA","CALLE LOS RIOS,GALPON INDUSTRIAL","URB.IND.EL MARQUEZ.AL LADO DE","CARTONAJES FLORIDA"," ","0414 - 1398670"," "," "," ",null,"J-29830492-8","DHM-015-MY-2009","15000","Sí","00","CONTADO","11","GUARENAS","01","01","DE LICORES CON FZA DE VTA","02","ON PREMISSE","02","ON PREMISSE"," ","09","09 - CLIENTE INHABILITADO","   "]
["J298473436","35 - PEREZ JOSMAN","INVERSIONES TAPIRO 2009, C.A.","RESTAURANT BALCONATA ROMANA"," ","INVERSIONES TAPIRO 2009, C.A.","AV. RIO DE JANEIRO QTA CHUBA URB","LAS MERCEDES BARUTA"," ","0212 993 80 84","NO POSEE","tapiro2009@gmail.com","CARACAS"," "," ","CAMB DE LA 34 A LA 35 130319 WP","CAMBIO DE  ZONA 32 A 35 260922  MYZ","FRANCISCO DE PONTE"," "," ","RESTAURANT BALCONATA ROMANA","AV. RIO DE JANEIRO QTA CHUBA URB","LAS MERCEDES, AL LADO DEL","REST TINAJERO DE LOS HELECHOS","BARUTA","(0212) 9916619-1968","(0212) 993-31-90","RECIBE  LUNES A VIERNES"," 8:00AM A 11:00AM","MARTES","J-29847343-6","B-107-0-0241","89250","No","05","CREDITO 5 DIAS","34","LAS MERCEDES","04","07","RESTAURANTES","02","ON PREMISSE","02","ON PREMISSE","35","35","01 - CARLOS DA SILVA - ON","RECIBE  LUNES A VIERNES  8:00AM A 11:00AM"]
["J298599430","09 - CLIENTE INHABILITADO","INVERBURGER 1834,C.A","HAMBURQUESAS GOURMET"," ","INVERBURGER 1834,C.A","AV BLANDIN CC SAN IGNACIO","NIVEL BL LOCAL B-15-01 Y B-15-02","URB LA CASTELLANA CHACAO","(0424) 160-95-55"," "," ","CARACAS"," "," "," ","REEST-V-31 AL V-09 20092019 MYZ","LUIS MACHADO"," "," ","HAMBURGUESAS GOURMET","AV BLANDIN CC SAN IGNACIO","NIVEL BL LOCAL B-15-01 Y B-15-02","URB LA CASTELLANA CHACAO"," ","(0414) 160-95-55"," ","DES:LUN A VIER: 9AM A 5PM","VISITA: VIERNES","VIERNES","J-29859943-0","10069210","15000","Sí","00","CONTADO","34","LAS MERCEDES","04","07","RESTAURANTES","02","ON PREMISSE","02","ON PREMISSE","09","09","09 - CLIENTE INHABILITADO","DES:LUN A VIER: 9AM A 5PM VISITA: VIERNES"]
["J298806648","21 - CAÑONGO SAUL","LICORERIA ARYAD,C.A","LICORERIA ARYAD,C.A"," ","LICORERIA ARYAD,C.A","CALLE PRINCIPAL NRO 1. SECTOR EL","VIENTO. PUEBLO ABAJO. SANTA LUCIA"," ","(0239) 218.11.68","(0414) 211.20.08"," ","OCUMARE DEL TUY"," "," ","CAMBIO A LA ZONA 09 26/09/19 YM","CAMBIO DE ZONA 09 AL 21 260922 FL","YADETZY MANGANE"," "," ","LICORERIA ARYAD,C.A","CALLE PRINCIPAL NRO 1. SECTOR EL","VIENTO. PUEBLO ABAJO. SANTA LUCIA"," "," ","(0239)218.11.68"," ","CIERRA LOS LUNES"," ","MARTES","J-29880664-8","039 MN 134","89250","Sí","00","CONTADO","21","VALLES DEL TUY-21","06","18","LICORERIAS/BODEGONES","01","OFF PREMISSE","01","OFF PREMISSE","21","21","09 - CLIENTE INHABILITADO","CIERRA LOS LUNES  "]
["J298989041","34 - MARQUINA CARLOS","SHION-ONSEN C.A","RESTARANTE BALANCE BODEGON GOURMET"," ","SHION-ONSEN C.A","AV FRANCISCO DE MIRANDA CC LIDER","NIVEL CONTEMPORANEO LOCAL CON-12","EO7B-EO7C-BOLEITA SUR-CARACAS","412-2649887"," "," ","CARACAS"," "," "," "," ","EVER ENRIQUE REYES P","CHACON GABRIELA ROSA"," ","SHION-ONSEN C.A","AV FRANCISCO DE MIRANDA CC LIDER","NIVEL CONTEMPORANEO LOCAL CON 12","BOLEITA SUR CARACAS"," ","412-2649887"," ","DESP LUN A VIER 12P A 4P","ZONA D CARGA DEL CC LIDER","MIERCOLES","J-298989041","EN TRAMITE","89250","No","05","CREDITO 5 DIAS","34","LAS MERCEDES","04","07","RESTAURANTES","01","OFF PREMISSE","01","OFF PREMISSE","34","34","01-SALVADOR GUERRERO-OFF","DESP LUN A VIER 12P A 4P ZONA D CARGA DEL CC LIDER"]
["J299125474","09 - CLIENTE INHABILITADO","INVERSIONES PALMS 2011, C.A.","INVERSIONES PALMS 2011, C.A.","120813","INVERSIONES PALMS 2011, C.A.","AV. 1 TRANSVERSAL ENTRE LUIS ROCHE","Y 1 AV, EDIF RESD ALTAMIRA SUITE","PISO PB LOCAL 1 URB. LOS PALOS","(0212) 209-34-95"," "," ","CARACAS","GRANDES - CARACAS"," ","CAMBIO RIF:J-30868808-8 22/10/2014","CTE INHAB Z-09 200919 WP","GERMAN FERNANDEZ"," "," ","INVERSIONES PALMS 2011, C.A.","AV. 1 TRANSVERSAL ENTRE LUIS ROCHE","Y 1 AV, EDIF RESD ALTAMIRA SUITE","PISO PB LOCLA 1 URB LOS PALOS","GRANDES- CARACAS","(0212) 209-34-95"," ","RECIBE DE LUNES A VIERNES","7:00 AM A 11:30/1:A2:30PM","VIERNES","J-29912547-4","70100000102","15000","Sí","00","CONTADO","31","LA CASTELLANA","04","07","RESTAURANTES","02","ON PREMISSE","02","ON PREMISSE","09","09","09 - CLIENTE INHABILITADO","RECIBE DE LUNES A VIERNES 7:00 AM A 11:30/1:A2:30PM"]
["J299201707","09 - CLIENTE INHABILITADO","REPRESENTACIONES EL JEQUE, C.A.","REPRESENTACIONES EL JEQUE, C.A.","020717","REPRESENTACIONES EL JEQUE, C.A.","CALLE LA HACIENDA LOCAL,  N° 28 SEC","TOR LA ACEQUIAQ OCUMARE DEL TUY","EDO MIRANDA","(0239)224.28.70","(0414) 151.37.20"," ","OCUMARE DEL TUY"," "," "," ","CAMBIO DE ZONA 21 A 09 06/12/22 ST","JOHANTHAN LIZARRAGA"," "," ","REPRESENTACIONES EL JEQUE, C.A.","CALLE LA HACIENDA LOCAL,  N° 28 SEC","TOR LA ACEQUIAQ OCUMARE DEL TUY","EDO MIRANDA"," ","04141513720"," ","RECIBE  LUNES A VIERNES"," 09:00 AM A 05:00 PM","JUEVES","J-29920170-7","CVC-005-2013","15000","Sí","05","CREDITO 5 DIAS","09","CLIENTE INHABILITADO","04","23","ABASTOS PEQUEÑOS/BODEGAS","01","OFF PREMISSE","01","OFF PREMISSE","09","09","09 - CLIENTE INHABILITADO","RECIBE  LUNES A VIERNES  09:00 AM A 05:00 PM"]
["J299315559","09 - CLIENTE INHABILITADO","INVERSIONES 090876, C.A.","REST. LAGUNITA SMALL GRILL"," ","INVERSIONES 090876, C.A.","AV. PRINCIPAL LOMAS DE LA LAGUNITA,","LOCAL N1-1C  URBANIZACION LOMAS DE","LA LAGUNITA-CARACAS","(0212) 962.60.21"," ","ricardovasquez2828@gmail.com","CARACAS"," "," ","DESBLOQ X BHP 04/09/19 JA","CAMBIO DE ZONA 32 A 09 20/9/19 GT","JOSE GREGORIO ZERPA"," "," ","REST. SMALL GRILL","AV. PRINCIPAL LOMAS DE LA LAGUNITA,","LOCAL N1-1C  URBANIZACION LOMAS DE","LA LAGUNITA-CARACAS"," ","(0212) 963-29-83"," ","RECIBE  MARTES A VIERNES"," 08:00AM A 12:00 PM","JUEVES","J-29931555-9","EN TRAMITES","0","Sí","00","CONTADO","09","CLIENTE INHABILITADO","04","07","RESTAURANTES","02","ON PREMISSE","02","ON PREMISSE","09","09","09 - CLIENTE INHABILITADO","RECIBE  MARTES A VIERNES  08:00AM A 12:00 PM"]
["J299518824","71 - OFICINA","CONFITERIA EL REY LEON II C.A","CONFITERIA EL REY LEON II C.A","310523 LL","CONFITERIA EL REY LEON II C.A","ESQ DE REDUCTO A MUNICIPAL LOCAL","SAVERIO RUSSO NRO PB SANTA TERESA","CARACAS","(0414) 315.60.69"," "," ","CARACAS"," "," "," "," ","ALVARO FERNANDES"," "," ","CONFITERIA EL REY LEON II C.A","ESQ DE REDUCTO A MUNICIPAL LOCAL","SAVERIO RUSSO NRO PB URB SANTA","TERESA CARACAS"," ","(0414) 315.60.69"," "," "," ",null,"J-29951882-4"," ","15000","No","05","CREDITO 5 DIAS","71","OFICINA","05"," ",null,"01","OFF PREMISSE","01","OFF PREMISSE"," ","71","71 - OFICINA","   "]
["J299752312","09 - CLIENTE INHABILITADO","LIC. EL RINCON DE LA CAÑA 2010,C.A.","LIC. EL RINCON DE LA CAÑA 2010,C.A."," ","LIC. EL RINCON DE LA CAÑA 2010,C.A.","AVDA. CRISTOBAL ROJAS ENTRE CALLES","13 Y 13-A LOCAL Nº 173 CHARALLAVE","ESTADO MIRANDA","(0239) 248-85-24","0414-222-51-93"," ","CHARALLAVE","2CD 291013-291014 12 HP 7 DC","DESBLOQ.19-06-2015","2CHED 190615-230715 DC 01","CAMBIO A LA ZONA 09 20-09-19 YM","JOSE ARTEAGA"," "," ","LIC. EL RINCON DE LA CAÑA 2010,C.A.","AVDA. CRISTOBAL ROJAS ENTRE CALLES","13 Y 13-A LOCAL Nº 173 CHARALLAVE","ESTADO MIRANDA (FRENTE A LA GOOD","YEARD)","(0239) 248-85-24"," ","RECIBE DE LUNES A JUEVES","A PARTIR DE LAS 9:00 AM","LUNES Y MIERCOLES","J-29975231-2","039-MY-1018","0","Sí","00","CONTADO","09","CLIENTE INHABILITADO","06","18","LICORERIAS/BODEGONES","01","OFF PREMISSE","01","OFF PREMISSE","09","09","09 - CLIENTE INHABILITADO","RECIBE DE LUNES A JUEVES A PARTIR DE LAS 9:00 AM"]
["J299927104","09 - CLIENTE INHABILITADO","CORPORACION R.L.R., C.A.","CORPORACION R.L.R., C.A."," ","CORPORACION R.L.R., C.A.","AV ANDRES BELLO. CRUCE CON AV","PRINCIPAL DE MARY PEREZ. CASA","HERMANDAD GALLEGA. NRO S/N SECTOR","0212 - 7934373"," "," ","CARACAS","MARY PEREZ"," "," ","CAMBIO Z - 31 A Z - 09 200919 GA","JOSE R. LOVERA F"," "," ","CORPORACION R.L.R., C.A.","AV ANDRES BELLO. CRUCE CON AV","PRINCIPAL DE MARY PEREZ. CASA","HERMANDAD GALLEGA. NRO S/N SECTOR","MARY PEREZ","02120- 7934373"," "," "," ",null,"J-29992710-4","C209318","15000","Sí","00","CONTADO","32","SUCRE - BARUTA","04","07","RESTAURANTES","02","ON PREMISSE","02","ON PREMISSE","09","09","09 - CLIENTE INHABILITADO","   "]
["J300084019","09 - CLIENTE INHABILITADO","LICORERIA ROMINEHO, S.R.L.","LICORERIA ROMINEHO, S.R.L."," ","LICORERIA ROMINEHO, S.R.L.","CALLE RAMON ALFONZO BLANCO CON","FINAL CALLE EL ROSARIO A 100MTS DE"," FRUT. EL ROSARIO. SECTOR LA REDOMA","0212 342 12 15","0414 261 61 42","omarivaslico@gmail.com","GUATIRE"," "," "," ","CAMBIO DE ZONA 11 A 09 16/05/23 ST","ALIRIO RIVAS"," "," ","LICORERIA ROMINEHO, S.R.L.","CALLE RAMON ALFONZO BLANCO CON","FINAL CALLE EL ROSARIO A 100MTS DE"," FRUT. EL ROSARIO. SECTOR LA REDOMA"," ","0212 - 341.13.67"," ","RECIBE  LUNES A VIERNES"," 11:AM A 4:00PM","LUNES","J-30008401-9","002- M-N 7426","15000","No","05","CREDITO 5 DIAS","16","GUATIRE","05","18","LICORERIAS/BODEGONES","01","OFF PREMISSE","01","OFF PREMISSE","09","09","09 - CLIENTE INHABILITADO","RECIBE  LUNES A VIERNES  11:AM A 4:00PM"]
["J300152367","09 - CLIENTE INHABILITADO","PEDRO ANTONIO SALAZAR","INV.AB.Y LIC.NEL DAN SRL"," ","INV.AB.Y LIC.NEL DAN SRL","CALLE SAN RAFAEL (CALLE CIEGA) BARR","IO SANPASCUAL PASANDO MESUCA PETARE"," "," "," "," ","CARACAS"," "," "," "," ","NELSON MARTINEZ"," "," ","INV.AB.Y LIC.NEL DAN SRL","CALLE SAN RAFAEL (CALLE CIEGA) BARR","IO SANPASCUAL PASANDO MESUCA PETARE"," "," "," "," "," "," ",null,"J-30015236-7","M-N 5470","15000","No","05","CREDITO 5 DIAS","13","PETARE","05","18","LICORERIAS/BODEGONES","01","OFF PREMISSE","01","OFF PREMISSE"," ","09","09 - CLIENTE INHABILITADO","   "]
["J300187985","02 - REQUENA JOHAN - OFF","FRANCISCO TEXEIRA JARDIN","CASA DE ABASTOS EL ROSARIO C.A."," ","CASA DE ABASTOS EL ROSARIO C.A.","CALLE ATRAS  DE ANTIMANO FRENTE A L","AIGLESIA-- CARACAS"," ","4728270"," "," ","CARACAS"," "," "," "," ","ENRIQUE SOTO"," "," ","CASA DE ABASTOS EL ROSARIO C.A.","CALLE ATRAS  DE ANTIMANO FRENTE A L","AIGLESIA-- CARACAS"," "," "," "," "," "," ",null,"J-30018798-5","M-N 1949","89250","No","05","CREDITO 5 DIAS","23","CENTRO-SAN MARTIN","05","22","ABASTOS GRANDES","01","OFF PREMISSE","01","OFF PREMISSE"," ","02"," ","   "]
["J300294900","23 - HERNANDEZ JOSÉ D.","COMERCIAL BAETA,S.R.L.","COMERCIAL BAETA"," ","COMERCIAL BAETA,S.R.L.","AVENIDA O´HIGGINS MONTALBAN EDIF.","VIRGINIA LOCAL A CARACAS"," ","(0212) 472-54-77"," "," ","CARACAS"," "," "," ","COMBIOD EDV 24A ADV 23 AL 180619 JA","CARLOS GONCALVES"," "," ","COMERCIAL BAETA","AVENIDA E O´HIGGINS MONTALBAN EDIF.","VIRGINIA LOCAL A CARACAS"," "," ","(0212) 472-54-77"," ","RECIBE DE LUNES A VIERNES","DE 11:00AM A 4:00PM","MIERCOLES","J-30029490-0","02-MN-356","89250","Sí","05","CREDITO 5 DIAS","23","CENTRO-SAN MARTIN","06","22","ABASTOS GRANDES","01","OFF PREMISSE","01","OFF PREMISSE","23","23","02 - VICTOR TORRES - OFF","RECIBE DE LUNES A VIERNES DE 11:00AM A 4:00PM"]
["J300442411","14 - GIL EXIO JOSE","LICORERIA CAÑA FINA, C.A.","LICORERIA CAÑA FINA, C.A."," ","LICORERIA CAÑA FINA, C.A.","AV.SOUBLETTE, SECTOR PUNTA DE","MULATO. EDO. VARGAS"," ","02123555789"," "," ","EDO.VARGAS"," "," "," ","RESTRUCT. EDV 14 AL 16 MYZ 25-11-22","JORGE A. TOUGUIA"," "," ","LICORERIA CAÑA FINA, C.A.","CARLOS SOUBLET EDIF MERCADO PUNTA","DE MULATO PISO 1 LOCAL1  EDO VARGAS"," "," ","04141264369"," ","RECIBE DE MARTES A VIERNE","9AM A 5PM","JUEVES","J-30044241-1","031-MM-905","89250","No","05","CREDITO 5 DIAS","14","LITORAL CENTRAL","05","18","LICORERIAS/BODEGONES","01","OFF PREMISSE","01","OFF PREMISSE","14","14","01 - CARLOS DA SILVA - OFF","RECIBE DE MARTES A VIERNE 9AM A 5PM"]
["J300479200","25 - OCAMPO O. ROMAY","LICORERIA J J X C.A.","LICORERIA J J X C.A."," ","LICORERIA J J X C.A.","CALLE CARABOBO PARADA AUTOBUCES LOS","TEQUES EDO. MIRANDA"," ","(0212) 364.24.00","(0414) 309.63.21","ramondasilva@live.com","LOS TEQUES"," "," "," "," ","MARCOS DA SILVA"," "," ","LICORERIA J J X C.A.","CALLE CARABOBO PARADA AUTOBUCES LOS","TEQUES EDO. MIRANDA"," "," ","(0212) 614-70-05"," ","RECIBE  LUNES A VIERNES"," ","MARTES","J-30047920-0","032-MN-5517","89250","No","05","CREDITO 5 DIAS","25","LOS TEQUES","06","18","LICORERIAS/BODEGONES","01","OFF PREMISSE","01","OFF PREMISSE","25","25","02 - VICTOR TORRES - OFF","RECIBE  LUNES A VIERNES  "]
["J300603075","09 - CLIENTE INHABILITADO","LICORERIA CANDELA AZUL S R L","LICORERIA CANDELA AZUL"," ","LICORERIA CANDELA AZUL S R L","CALLE TAMANACO C/C BOLIVAR A 1 CUAD","RATASCA REST. MAR Y TIERRA"," ","0414/2143227-0414/33"," "," ","S.TERESA"," "," "," "," ","PATIÑO VERA JOSE ALE","JO"," ","LICORERIA CANDELA AZUL","CALLE TAMANACO C/C BOLIVAR A 1 CUAD","RATASCA REST. MAR Y TIERRA"," "," "," "," "," "," ",null,"J-30060307-5","M-M 280","15000","No","05","CREDITO 5 DIAS","14","LITORAL CENTRAL","05","18","LICORERIAS/BODEGONES","01","OFF PREMISSE","01","OFF PREMISSE"," ","09","09 - CLIENTE INHABILITADO","   "]
["J300740013","09 - CLIENTE INHABILITADO","DISTRIBUIDORA BORGES & ALMEIDA, C.A","DISTRIBUIDORA BORGES & ALMEIDA, C.A"," ","DISTRIBUIDORA BORGES & ALMEIDA, C.A","AV. FCO. MIRANDA. EDIF CTRO. SEGURO","LA PAZ. PISO 6.  OF. 0-62-E URB LA","CALIFORNIA","0212-239.24.95"," "," ","CARACAS-CHACAO"," "," "," ","CAMBIO Z - 31 A Z - 09 200919 GA","ALMEIDA R. JOSE G"," "," ","DISTRIBUIDORA BORGES & ALMEIDA, C.A","AV. FCO. MIRANDA. EDIF CTRO. SEGURO","LA PAZ. PISO 6.  OF. 0-62-E URB LA","CALIFORNIA."," ","0212-239.88.12"," ","CAMBIO DE ZONA SUP.03","EN FECHA 25/07/2013",null,"J-30074001-3","TRAMITE","15000","Sí","00","CONTADO","31","LA CASTELLANA","06","33","RELACIONADOS","00","ESTANDAR","00","ESTANDAR","09","09","09 - CLIENTE INHABILITADO","CAMBIO DE ZONA SUP.03 EN FECHA 25/07/2013"]
["J300766888","02 - REQUENA JOHAN - OFF","DELIC.LIC.EINDIGER COLONIA TOVAR C.","DELIC.LIC.EINDIGER COLONIA TOVAR C."," ","DELIC.LIC.EINDIGER COLONIA TOVAR C.A","SECTOR TEJERIA C.C. BUENA VISTALOCA","L 7 Y 8 COLONIA TOVAR"," "," "," "," ","COLONIA TOVAR"," "," "," "," ","JOSE LAMUB"," "," ","DELIC.LIC.EINDIGER COLONIA TOVAR C.","SECTOR TEJERIA C.C. BUENA VISTALOCA","L 7 Y 8 COLONIA TOVAR"," "," "," "," ","TRASP.S-02 FECHA 02/08/11","ATENDIDO POR DINAZORIENTE",null,"J-30076688-8","M-Y 106","89250","No","05","CREDITO 5 DIAS","22","CATIA-JUNQUITO","05","18","LICORERIAS/BODEGONES","01","OFF PREMISSE","01","OFF PREMISSE"," ","02"," ","TRASP.S-02 FECHA 02/08/11 ATENDIDO POR DINAZORIENTE"]
["J300909298","35 - PEREZ JOSMAN","RESTAURANT GRILLE MACARACUAY, C.A","RESTAURANT GRILLE MACARACUAY, C.A"," ","RESTAURANT GRILLE MACARACUAY, C.A","AV NAIGUTA CC MACARACUAY NIVEL P/B","LOCAL 2,3 Y 4B URB.MACARACUAY"," ","(0212) 256.40.98","(0212) 258.18.37","grillemacaracacuay@hotmail.com","CARACAS"," "," ","CAMBIO DE ZONA V13 AL 32 310822 FL","CAMBIO DE ZONA V32 A 35 310123 ST","AUGUSTO H FERREIRA"," "," ","RESTAURANT GRILLIE MACARACUAY, C.A","AV NAIGUATA CC MACARACUAY NIVEL P/B","LOCAL 2,3 Y 4B URB MARACACUAY"," "," ","0212/2564098"," ","RECIBE  LUNES A VIERNES"," 08:00 AM A 11:00 AM","JUEVES","J-30090929-8","002-C-7534","89250","No","05","CREDITO 5 DIAS","32","SUCRE - BARUTA","04","07","RESTAURANTES","02","ON PREMISSE","02","ON PREMISSE","35","35","02 - TORRES VICTOR - ON","RECIBE  LUNES A VIERNES  08:00 AM A 11:00 AM"]
["J300973107","31 - RODRIGUEZ WLADIMIR","TASCA LA FALLET CA","TASCA LA FALLET CA"," ","TASCA LA FALLET CA","CALLE LA PAZ AL LADO SUPERMERCADOMA","DRID CHACAO"," ","0212 266 52 57"," ","tascalafallet@gmail.com","CARACAS"," "," ","CAMBIO V34 AL V35 151116 CDGM","CAMBIO DE ZONA 35 A 31 07/03/23 LL","JUAN L. GONCALVES DE"," LOPEZ"," ","TASCA LA FALLET CA","CALLE LA PAZ AL LADO SUPERMERCADOMA","DRID CHACAO"," "," "," "," ","RECIBE  LUNES A VIERNES"," 8:00AM A 11:30AM","MARTES","J-30097310-7","C 297","89250","No","05","CREDITO 5 DIAS","35","EL ROSAL-CHACAO","04","06","BAR/TABER./S. BAR/PUB/TAS","02","ON PREMISSE","02","ON PREMISSE","31","31","01 - GUERRERO SALVADOR - OFF","RECIBE  LUNES A VIERNES  8:00AM A 11:30AM"]
["J301033299","09 - CLIENTE INHABILITADO","BAR RESTAURANT TIO PEPE","TIO PEPE 440,C.A."," ","TIO PEPE 440,C.A.","AV.CASANOVA CALLE EL RECREO EDIF ME","DITERRANEO FRENTE C.C.EL RECREO SAB","ANA GRANDE"," "," "," ","CARACAS"," "," "," ","CAMBIO A LA ZONA 09 23-09-19 YM","SANCHO REGINO BATTAL","LAN GARCIA"," ","TIO PEPE 440,C.A.","AV CASANOVA CALLE EL RECREO EDIF ME","DITERRANEOFRENTE C.C. EL RECREO SAB","ANA GRANDE"," "," "," ","CLIENTE CERRADO FECHA DE","BLOQUEO 27-06-2012",null,"J-30103329-9","S-C-0156","0","Sí","00","CONTADO","09","CLIENTE INHABILITADO","04","07","RESTAURANTES","02","ON PREMISSE","02","ON PREMISSE","09","09","09 - CLIENTE INHABILITADO","CLIENTE CERRADO FECHA DE BLOQUEO 27-06-2012"]
["J301081234","613 - SKO GUÑIDO FABIAN","DISTRIBUIDORA HORMANN DURR,C.A.","DISTRIBUIDORA HORMANN DURR CA"," ","DISTRIBUIDORA HORMANN DURR CA","CARRETERA PETARE STA.LUCIA KM.3 CON","JUNTOINDUSTRIAL EL CEDRALITO PARCEL","A 6-PETARE","0414-1003396"," "," ","CARACAS"," "," "," "," ","AVELINO SOARES"," "," ","DISTRIBUIDORA HORMANN DURR CA","CARRETERA PETARE STA.LUCIA KM.3 CON","JUNTOINDUSTRIAL EL CEDRALITO PARCEL","A 6-PETARE"," "," "," ","RECIBE DE LUNES A VIERNES","DE 7:00AM A 1:00PM","DE LUNES A JUEVES","J-30108123-4","M-Y 6693","89250","No","05","CREDITO 5 DIAS","71","OFICINA","01","01","DE LICORES CON FZA DE VTA","01","OFF PREMISSE","01","OFF PREMISSE","613","613","71 - OFICINA","RECIBE DE LUNES A VIERNES DE 7:00AM A 1:00PM"]
["J301114744","02 - REQUENA JOHAN - OFF","VIVERES LA FLOR DEL CINZANILLO,S.R.","VIVERES LA FLOR DEL CINZANILLO,S.R."," ","VIVERES LA FLOR DEL CINZANILLO,S.R.L.","CURVA DE CINZANITO  PARIATAPARROQUI","A MAIQUETIA"," "," "," "," ","LA GUAIRA"," "," "," "," ","JESUS MANUEL ALFONZO"," GOMEZ"," ","VIVERES LA FLOR DEL CINZANILLO,S.R.","CURVA DE CINZANITO  PARIATAPARROQUI","A MAIQUETIA"," "," "," "," ","TRASP. ZONA 02 S/SOL. DEL","23/03/2011",null,"J-30111474-4","031 M-N 928","89250","No","05","CREDITO 5 DIAS","21","VALLES DEL TUY-21","05","20","DELICATESES/FRIGO/CHARCUT","01","OFF PREMISSE","01","OFF PREMISSE"," ","02"," ","TRASP. ZONA 02 S/SOL. DEL 23/03/2011"]
["J301223772","09 - CLIENTE INHABILITADO","TASCA REST.EL MESON DEL MINERO,C.A","TASCA REST.EL MESON DEL MINERO,C.A","10-02-2016","TASCA REST.EL MESON DEL MINERO,C.A","C.C.LA AUXILIADORA,L-1,CARRETERA PA","NAMERICANAKM.15-SAN ANTONIO DE LOS","ALTOS-LOS TEQUES","0212-372.92.22"," ","joseph_0155@hotmail.com","LOS TEQUES","CAMBIO A LA ZONA 02 18/02/11","DESBLOQ.110216 BO","2CHED 110216/020916 34HP LA/HD","CAMBIO A LA ZONA 09 23-09-19 YM","AGOSTINHO J. PEREIRA"," "," ","TASCA REST.EL MESON DEL MINERO,C.A","C.C.LA AUXILIADORA,L-1,CARRETERA PA","NAMERICANAKM.15-SAN ANTONIO DE LOS","ALTOS-LOS TEQUES"," ","0212-372.64.00"," ","RECIBE DE LUNES A VIERNES","DE 10:00 AM A 1:00 PM","DE LUNES A VIERNES","J-30122377-2","032-C-05735","15000","Sí","00","CONTADO","26","SAN ANTONIO DE LOS ALTOS","05","02","DE LICORES S/FZA DE VTA","01","OFF PREMISSE","01","OFF PREMISSE","09","09","09 - CLIENTE INHABILITADO","RECIBE DE LUNES A VIERNES DE 10:00 AM A 1:00 PM"]
["J301275403","502 - DRA. ALEXI Y. PINT0","DISTRIBUIDORA Y LICORERIA CIPOLMAR,","DISTRIBUIDORA Y LICORERIA CIPOLMAR,"," ","DISTRIBUIDORA Y LICORERIA CIPOLMAR,","TERCERA AV DE LAS DELICIAS. EDIF.","DELCABO. PISO P.B. LOCAL 3. URB LAS","DELICIAS.","0212 -  762.49.80","PREPAGO"," ","CARACAS"," "," "," "," ","FERNANDEZ MILEIDYS"," "," ","DISTRIBUIDORA Y LICORERIA CIPOLMAR,","TERCERA AV DE LAS DELICIAS. EDIF.","DELCABO. PISO P.B. LOCAL 3. URB LAS","DELICIAS. ENTRE BOULEVAR DE SABANA","GRANDE Y AV CARACAS","0212 - 762.49.80"," ","PASADO A LEGAL","27-06-2013 DRA.PINTO",null,"J-30127540-3","5-MM-1668","15000","Sí","00","CONTADO","31","LA CASTELLANA","05","18","LICORERIAS/BODEGONES","01","OFF PREMISSE","01","OFF PREMISSE"," ","502","01 - CARLOS DA SILVA","PASADO A LEGAL 27-06-2013 DRA.PINTO"]
["J301383885","02 - REQUENA JOHAN - OFF","AUTOMERCADO LOS DOS COMPAÑEROS,C.A.","AUTO LOS DOS COMPAÑEROS,C.A."," ","AUTOMERCADO LOS DOS COMPAÑEROS,C.A.","CALLE REAL LOS ROBLES EL MANICOMIO"," Nª 47PQ LA PASTORA-MNCP.LIBERTADOR","-DTTO.CAPITAL","8601742"," "," ","CARACAS"," "," "," "," ","JOAO MARTIN"," "," ","AUTO LOS DOS COMPAÑEROS,C.A.","CALLE REAL LOS ROBLES EL MANICOMIO"," Nª 47PQ LA PASTORA-MNCP.LIBERTADOR","-DTTO.CAPITAL"," "," "," "," "," ",null,"J-30138388-5","M-N 1916","89250","No","05","CREDITO 5 DIAS","22","CATIA-JUNQUITO","05","21","SUPERMERCADOS/AUTOMERCADO","01","OFF PREMISSE","01","OFF PREMISSE"," ","02"," ","   "]
["J301491467","72 - ALMACEN ROTURA","INVERSIONES LA CUARTA","BAR REST. BRAVA MAR"," ","BAR REST. BRAVA MAR","AVENIDA PRINCIPAL DE LA CASTELLANAC","ARACAS"," "," "," "," ","CARACAS"," "," "," "," ","NULL"," "," ","BAR REST. BRAVA MAR","AVENIDA PRINCIPAL DE LA CASTELLANAC","ARACAS"," "," "," "," "," "," ",null,"J-30149146-7","C 2761","0","No","05","CREDITO 5 DIAS","72","ROTURAS ALMACEN","04","06","BAR/TABER./S. BAR/PUB/TAS","02","ON PREMISSE","02","ON PREMISSE"," ","72"," ","   "]
["J301523881","02 - REQUENA JOHAN - OFF","REST.PIZZERIA STRADA ROMANA,C.A.","REST.PIZZERIA STRADA ROMANA,C.A."," ","REST.PIZZERIA STRADA ROMANA,C.A.","CARRETERA PANAMERICANA C.C. CASA BL","ANCALOCAL 6 P.B. KM 15 SAN ANTONIO","DE LOS ALTOS"," "," "," ","LOS TEQUES"," "," "," "," ","EDUARDO FONSECA"," "," ","REST.PIZZERIA STRADA ROMANA,C.A.","CARRETERA PANAMERICANA C.C. CASA BL","ANCALOCAL 6 P.B. KM 15 SAN ANTONIO","DE LOS ALTOS"," "," "," ","TRASPASO ZONA 02. SEGUN","SOLICITUD DEL 18/02/11",null,"J-30152388-1","032 C-126","89250","No","05","CREDITO 5 DIAS","25","LOS TEQUES","04","07","RESTAURANTES","02","ON PREMISSE","02","ON PREMISSE"," ","02"," ","TRASPASO ZONA 02. SEGUN SOLICITUD DEL 18/02/11"]
["J301614674","09 - CLIENTE INHABILITADO","GOLDEN SUITES HOTEL,C.A.","EMBASSY SUITES HOTEL CARACAS"," ","GOLDEN SUITES HOTEL,C.A.","AV.FRANCISCO DE MIRANDA CON AV.EL","PARQUE, URB. CAMPO ALEGRE"," ","(0212) 200.42.41","(0414) 140.28.97","dguedez@embassysuitescaracas.com","CARACAS"," "," "," ","CAMBIO DE ZONA 35 A 09 26/07/22 ST","JACK DORMBUSCH"," "," ","EMBASSY SUITES HOTEL CARACAS","AV.FRANCISCO DE MIRANDA CON AV.EL","PARQUE, URB. CAMPO ALEGRE"," "," "," "," ","RECIBE  LUNES A VIERNES"," 8:00 AM A 12:00 PM","VIERNES","J-30161467-4","PARTICULAR","15000","No","05","CREDITO 5 DIAS","35","EL ROSAL-CHACAO","04","08","HOTELES/CASINOS/BINGOS","02","ON PREMISSE","02","ON PREMISSE","09","09","09 - CLIENTE INHABILITADO","RECIBE  LUNES A VIERNES  8:00 AM A 12:00 PM"]
["J301827708","31 - RODRIGUEZ WLADIMIR","LA GRAN TASCA REGAL C.A","LA GRAN TASCA REGAL C.A","561-81-34","LA GRAN TASCA REGAL C.A","AV URDANETA PELOTA A ABANICO Nº 28","URB. ALTAGRACIA"," ","(0212)561-44-02"," "," ","CARACAS"," "," "," "," ","AGOSTINO ANDRE"," "," ","LA GRAN TASCA REGAL C.A","AV.URDANETA PELOTA A ABANICO Nº28","URB.ALTAGRACIA"," "," ","(0212)561-44-02","561-81-34","TRASP.AL 03 SUP.CARLOS DA","SILVA S/SOLIC.24-01-2011",null,"J-30182770-8","C-1136","89250","No","05","CREDITO 5 DIAS","33","CENTRO-CANDELARIA","04","06","BAR/TABER./S. BAR/PUB/TAS","02","ON PREMISSE","02","ON PREMISSE"," ","31"," ","TRASP.AL 03 SUP.CARLOS DA SILVA S/SOLIC.24-01-2011"]
["J301861302","15 - GUTIERREZ WALTER","AUTOMERCADO LICARCH II CA","AUTOMERCADO LICARCH II CA"," ","AUTOMERCADO LICARCH II CA","CARRETERA EL HATILLO C.C. LA BOYERA","NIVEL 1 EL HATILLO-CARACAS-EDO.","MIRANDA","0212 936 41 03","NO POSEE","licarchII@hotmail.com","CARACAS"," "," "," "," ","JOSE DIONISIO DA SIL","VA BARRETO"," ","AUTOMERCADO LICARCH II CA","CARRETERA EL HATILLO C.C. LA BOYERA","NIVEL 1 EL HATILLO-CARACAS-EDO.","MIRANDA"," "," "," ","RECIBE  LUNES A VIERNES"," 9:00AM A 12:30PM","MARTES","J-30186130-2","M-M 198","89250","No","05","CREDITO 5 DIAS","15","BARUTA","05","21","SUPERMERCADOS/AUTOMERCADO","01","OFF PREMISSE","01","OFF PREMISSE","15","15","01 - CARLOS DA SILVA - OFF","RECIBE  LUNES A VIERNES  9:00AM A 12:30PM"]
["J301988280","09 - CLIENTE INHABILITADO","DISTRIBUIDORA EL GORDY,C.A.","DISTRIBUIDORA EL GORDY C.A."," ","DISTRIBUIDORA EL GORDY C.A.","CALLE PRINCIPAL DE PLAYA VERDE QTA.","LA COMPARASA NRO. 061 URBANIZACION","PLAYA VERDE, LA GUAIRA EDO. VARGAS","0212-352.58.76","0412-027.57.49"," ","LA GUAIRA"," "," "," ","BLOQ. CERRADO 09-06-15 ZONA 01 S.U.","ANTONIO JOSE DEZA"," "," ","DISTRIBUIDORA EL GORDY C.A.","CALLE PRINCIPAL DE PLAYA VERDE QTA.","LA COMPARASA NRO. 061 URBANIZACION","PLAYA VERDE, LA GUAIRA EDO. VARGAS"," ","(0212) 492-48-99"," "," "," ",null,"J-30198828-0","M-N 959","15000","No","00","CONTADO","14","LITORAL CENTRAL","05","18","LICORERIAS/BODEGONES","01","OFF PREMISSE","01","OFF PREMISSE","09","09","09 - CLIENTE INHABILITADO","   "]
["J302080339","09 - CLIENTE INHABILITADO","ABASTOS CARNICERIA Y LIC.LA MUNDIAL","LICORERIA LA MUNDIAL"," ","ABASTOS CARNICERIA Y LIC.LA MUNDIAL C.A.","AVENIDA INTERCOMUNAL DE MACUTOMACUT","O-EDO.VARGAS"," ","0212-355.50.05","0412-397.45.58"," ","LA GUAIRA"," "," "," ","PASO A 01 SUP.JOAN REQUENA 040116","MIGUEL SANCHEZ"," "," ","LICORERIA LA MUNDIAL","AVENIDA INTERCOMUNAL DE MACUTOMACUT","O-EDO.VARGAS"," "," "," "," "," "," ","JUEVES","J-30208033-9","M-N 315","15000","Sí","00","CONTADO","14","LITORAL CENTRAL","05","22","ABASTOS GRANDES","01","OFF PREMISSE","01","OFF PREMISSE","09","09","09 - CLIENTE INHABILITADO","   "]
["J302112290","09 - CLIENTE INHABILITADO","VIVERES Y LICORES LA GOTA FRIA C.A.","VIVERES Y LICORES LA GOTA FRIA C.A."," ","VIVERES Y LICORES LA GOTA FRIA C.A.","CALLE FRANCISCO R.GARCIA CRUCE CON","CALLE URDANETAFRENTE A LA FUNERARIA"," VIRGEN DE COPACABANA"," "," "," ","GUARENAS"," "," "," "," ","AGOSTINHO J.RODRIGUE","Z"," ","VIVERES Y LICORES LA GOTA FRIA C.A.","CALLE FRANCISCO R.GARCIA CRUCE CON","CALLE URDANETAFRENTE A LA FUNERARIA"," VIRGEN DE COPACABANA"," "," "," ","TRASP. ZONA 01 SUP.JHONNY","RODRIGUEZ S/SOL.18-02-11",null,"J-30211229-0","M-N 6869","15000","No","05","CREDITO 5 DIAS","11","GUARENAS","05","18","LICORERIAS/BODEGONES","01","OFF PREMISSE","01","OFF PREMISSE","09","09","09 - CLIENTE INHABILITADO","TRASP. ZONA 01 SUP.JHONNY RODRIGUEZ S/SOL.18-02-11"]
["J302258359","31 - RODRIGUEZ WLADIMIR","REPRESENTACIONES EL CUBO, C.A.","REPRESENTACIONES EL CUBO, C.A."," ","REPRESENTACIONES EL CUBO, C.A.","CALLE CALIFORNIA ENTRE MUCUCHIES Y","PERIJA EDF.CALIFORNIA SUITES & MALL","NIVEL PB LOCAL 5 URB. LAS MERCEDES","0212 993-02-62"," "," ","CARACAS"," "," "," "," ","MIGUEL CARDENAS"," "," ","REPRESENTACIONES EL CUBO, C.A.","CALLE CALIFORNIA ENTRE MUCUCHIES Y","PERIJA EDF.CALIFORNIA SUITES & MALL","NIVEL PB LOCAL 5 URB. LAS MERCEDES"," ","0212.993.02.62"," "," "," ",null,"J-30225835-9","EN TRAMITES","89250","No","05","CREDITO 5 DIAS","30","PARROQUIA EL RECREO","04","07","RESTAURANTES","02","ON PREMISSE","02","ON PREMISSE"," ","31"," ","   "]
["J302353246","36  CLIENT-CORPORAT-OFIC.","PALL FERRETERIA C.A.","PALL FERRETERIA C.A."," ","PALL FERRETERIA C.A.","AV. INTERCOMUNAL GUARENAS GUATIRE","PARCELA LP1"," "," "," "," ","GUATIRE"," "," "," "," "," "," "," ","PALL FERRETERIA C.A.","AV. INTERCOMUNAL GUARENAS /GUATIRE","PARCELA LP1"," "," "," "," "," "," ",null,"J-30235324-6","PARTICULAR","89250","No","05","CREDITO 5 DIAS","71","OFICINA","06","31","PARTICULAR","01","OFF PREMISSE","01","OFF PREMISSE","36","36","71 - OFICINA","   "]
["J302448115","09 - CLIENTE INHABILITADO","BODEGON PLAYA COLADA CA","BODEGON PLAYA COLADA CA"," ","BODEGON PLAYA COLADA CA","VIA LOS CANALES SECTOR PLAYA COLADA","RIO CHICO"," ","74455"," "," ","BARLOVENTO"," "," ","2CHED 010316/310317 5HP LA/MYZ","CAM Z-12 A Z-01 26/09/18 GA","LUIS JOAO GOMEZ DE F","REITA"," ","BODEGON PLAYA COLADA CA","VIA LOS CANALES SECTOR PLAYA COLADA","RIO CHICO"," "," "," "," ","CERRADO LOS MARTES"," ","MARTES","J-30244811-5","039-MN-851","15000","Sí","00","CONTADO","12","BARLOVENTO","05","18","LICORERIAS/BODEGONES","01","OFF PREMISSE","01","OFF PREMISSE","09","09","09 - CLIENTE INHABILITADO","CERRADO LOS MARTES  "]
["J302562376","09 - CLIENTE INHABILITADO","RESTAURANT Y PIZZERIA LA PADRONA CA","CENTRO HIPICO LA PADRONA"," ","RESTAURANT Y PIZZERIA LA PADRONA CA","CALLE HUMBOLT QTA EDITH NRO","PB URB LOS CHAGUARAMOS"," ","(0212) 661.49.21","(0416) 829.91.51"," ","CARACAS","DESBL.20-06-14 AUT/HD","2 CHED 050716/060717 22HP MYZ"," ","REEST-V-31 AL V-09 20092019 MYZ","EVARISTO RODRIGUEZ"," "," ","RESTAURANT Y PIZZERIA LA PADRONA CA","CALLE HUMBOLT QTA EDITH NRO","PB URB LOS CHAGUARAMOS"," "," ","0212-838.89.31"," ","RECIBE  LUNES A VIERNES"," 7:00AM A 12:00PM","LUNES","J-30256237-6","122430","15000","Sí","00","CONTADO","30","PARROQUIA EL RECREO","04","06","BAR/TABER./S. BAR/PUB/TAS","02","ON PREMISSE","02","ON PREMISSE","09","09","09 - CLIENTE INHABILITADO","RECIBE  LUNES A VIERNES  7:00AM A 12:00PM"]
["J302565758","21 - CAÑONGO SAUL","AGE DE FES Y LIC LOS GOMES AVILA,CA","AGE DE FES Y LIC LOS GOMES AVILA,CA","110817","AGE DE FES Y LIC LOS GOMES AVILA,CA","CALLE URDANETA CC PARQUE CENTRAL","NIVEL PB LOCAL 34 OCUMARE DEL TUY","EDO MIRANDA","02392255392"," "," ","OCUMARE DEL TUY"," "," ","BLOQ P/MHP 36 DIAS CALLE 210319 WP","CLIENTE CONDIC PREPAGO YR 6/9/19","GIOVANNI COSTANTINO","ANGELICA ESCALONA"," ","AGE DE FES Y LIC LOS GOMES AVILA,CA","CALLE URDANETA CC PARQUE CENTRAL","NIVEL PB LOCAL 34 OCUMARE DEL TUY","EDO MIRANDA"," ","02392255392","110817","RECIBE DE LUNES A JUEVES","DE 11 AM A 5 PM","DE LUNES A JUEVES","J-30256575-8","MN-00833/MY-00832","89250","No","05","CREDITO 5 DIAS","27","VALLES DEL TUY-27","05","18","LICORERIAS/BODEGONES","01","OFF PREMISSE","01","OFF PREMISSE","21","21","02 - VICTOR TORRES - OFF","RECIBE DE LUNES A JUEVES DE 11 AM A 5 PM"]
["J302665302","24 - REYES OSWALDO","LICORES PUERTO LIBRE,C.A.","LICORES PUERTO LIBRE,C.A."," ","LICORES PUERTO LIBRE,C.A.","AV.ROOSEVELT CON CALLE BOGOTA LOS","CASTAÑOS EL CEMENTERIO-PARROQUIA","STA.ROSALIA-CARACAS","(0212) 631.25.92","(0414) 127.01.76","n.gomes_76@hotmail.com","CARACAS"," "," "," "," ","AURELIO GOMES DE","BAROS"," ","LICORES PUERTO LIBRE,C.A.","AV.ROOSEVELT CON CALLE BOGOTA LOS","CASTAÑOSEL CEMENTERIO-PARROQUIA","STA. ROSALIA-CARACAS"," ","(0212) 631.25.92"," ","RECIBE  LUNES A JUEVES"," 9:00AM A 3:00PM","LUNES","J-30266530-2","MN-0064","89250","No","05","CREDITO 5 DIAS","24","CARICUAO","06","18","LICORERIAS/BODEGONES","01","OFF PREMISSE","01","OFF PREMISSE","24","24","02 - VICTOR TORRES - OFF","RECIBE  LUNES A JUEVES  9:00AM A 3:00PM"]
["J302766087","21 - CAÑONGO SAUL","LICORERIA Y PIÑATERIA EL COLONIAL,","LIC Y PIÑATERIA EL COLONIAL, S.R.L"," ","LICORERIA Y PIÑATERIA EL COLONIAL, S.R.L","CENTRO COMERCIAL URB. SANTA ROSA","VALLES DEL TUY"," ","0239 212 10 34","0424 248 10 64","NO POSEE","VALLES DEL TUY"," "," "," "," ","PEDRO TENILSO VARGAS"," "," ","LIC Y PIÑATERIA EL COLONIAL, S.R.L","CENTRO COMERCIAL URB. SANTA ROSANUL","L"," "," "," "," ","RECIBE  LUNES A JUEVES"," 11:AM A 5:00PM","MIERCOLES","J-30276608-7","M-M 719","89250","No","05","CREDITO 5 DIAS","21","VALLES DEL TUY-21","06","18","LICORERIAS/BODEGONES","01","OFF PREMISSE","01","OFF PREMISSE","21","21","02 - VICTOR TORRES - OFF","RECIBE  LUNES A JUEVES  11:AM A 5:00PM"]
["J302808502","02 - REQUENA JOHAN - OFF","AUT. LOS NUEVOS MALABARES, C.A.","LICORERIA MALABARES 177,C.A."," ","LICORERIA MALABARES 177,C.A.","CALLE SUCRE CON BOLIVAR # 2 CARRIZA","LLOS TEQUES-EDO.MIRANDA"," ","3830793"," "," ","CARRIZAL"," "," "," "," ","FERNANDO FIGUEREDO D","E ALMEIDA"," ","LICORERIA MALABARES 177,C.A.","CALLE SUCRE CON BOLIVAR # 2 CARRIZA","LLOS TEQUES-EDO.MIRANDA"," "," "," "," "," "," ",null,"J-30280850-2","M-N 141","89250","No","05","CREDITO 5 DIAS","25","LOS TEQUES","05","18","LICORERIAS/BODEGONES","01","OFF PREMISSE","01","OFF PREMISSE"," ","02"," ","   "]
["J302938449","09 - CLIENTE INHABILITADO","LICORERIA ANELMA, C.A.","LICORERIA ANELMA, C.A."," ","LICORERIA ANELMA, C.A.","AVDA. INDEPENCIENTE EDF. MARIA JOSE","PISO PB LOCAL A-1 SECTOR STA TERESA","DEL TUY EDO. MIRANDA","(0239) 231.32.01","(0414) 038.34.13"," ","VALLE DEL TUY"," "," "," ","CAMBIO DE ZONA 21 A 09 06/12/22 ST","ALVARO DE SOUSA"," "," ","LICORERIA ANELMA,C.A.","AVDA. INDEPENCIENTE EDF. MARIA JOSE","PISO PB LOCAL A-1 SECTOR STA TERESA","DEL TUY EDO. MIRANDA"," "," "," ","RECIBE LUNES A VIERNES"," 9:00 AM A 4:00 PM","MARTES","J-30293844-9","M-M 367","15000","No","05","CREDITO 5 DIAS","09","CLIENTE INHABILITADO","06","18","LICORERIAS/BODEGONES","01","OFF PREMISSE","01","OFF PREMISSE","09","09","09 - CLIENTE INHABILITADO","RECIBE LUNES A VIERNES  9:00 AM A 4:00 PM"]
["J303037941","09 - CLIENTE INHABILITADO","LICORERIA EL BODEGON K 19 SA","LICORERIA EL BODEGON K 19 SA"," ","LICORERIA EL BODEGON K 19 SA","KM. 21 CARRETERA PETARE STA.LUCIASE","CTOR LA LAGUNITA PETARE"," ","4142501"," "," ","CARACAS"," "," "," "," ","JULIO CESAR BUSTAMAN","TE"," ","LICORERIA EL BODEGON K 19 SA","KM. 21 CARRETERA PETARE STA.LUCIASE","CTOR LA LAGUNITA PETARE"," "," "," "," ","CLIENTE CERRO, FECHA DE","BLOQUEO 23-10-2012","VIERNES","J-30303794-1","M-M 354","15000","Sí","00","CONTADO","13","PETARE","05","18","LICORERIAS/BODEGONES","01","OFF PREMISSE","01","OFF PREMISSE"," ","09","09 - CLIENTE INHABILITADO","CLIENTE CERRO, FECHA DE BLOQUEO 23-10-2012"]
["J303109578","09 - CLIENTE INHABILITADO","TASCA REST. CANAIMA","TASCA REST. CANAIMA"," ","COMERCIAL 36-41, C.A.","AVENIDA PPAL DE BOLEITA SUR NO. 36","MUNICIPIOSUCRE FTE. REST. CHINO"," ","234-65-80"," "," ","CARACAS"," "," "," ","REEST-V-31 AL V-09 20092019 MYZ","JOSE DE JESUS PINO"," "," ","TASCA REST. CANAIMA","AVENIDA PPAL DE BOLEITA SUR NO. 36","MUNICIPIOSUCRE FTE. REST. CHINO"," "," "," "," ","CLIENTE PREPAGO"," ",null,"J-30310957-8","C 1261","15000","Sí","00","CONTADO","31","LA CASTELLANA","05","18","LICORERIAS/BODEGONES","02","ON PREMISSE","02","ON PREMISSE","09","09","09 - CLIENTE INHABILITADO","CLIENTE PREPAGO  "]
["J303160638","13 - GUDIÑO FABIAN","SUMINISTROS DE VIVERES SIGLO XXI C.","SUMINISTROS DE VIVERES SIGLO XXI C."," ","SUMINISTROS DE VIVERES SIGLO XXI C.A.","CARRETERA PETARE STA.LUCIA,KM.9","ENTRADA A LA DOLORITA PETARE"," "," "," "," ","PETARE","BLOQ x MHP 26 DIAS CALLE 150419 WP","BLOQ x MHP 00 DIAS 29/08/19 JA","BLOQxSEG 5 DCRED 29012020 JA","BLOQ MAYOR 45 DIAS SEGUIM 2903 PH","MARILUZ HELENA DE","GOUVEIA","MARCELO FERNANDEZ","SUMINISTROS DE VIVERES SIGLO XXI C.","CARRETERA PETARE STA.LUCIA, KM.9","ENTRADA A LA DOLORITA PETARE"," "," "," "," ","RECIBE DE LUNES A VIERNES","09:00 AM A 04:00 PM","LUNES","J-30316063-8","MN-177","89250","Sí","05","CREDITO 5 DIAS","13","PETARE","05","21","SUPERMERCADOS/AUTOMERCADO","01","OFF PREMISSE","01","OFF PREMISSE","13","13","01 - CARLOS DA SILVA - OFF","RECIBE DE LUNES A VIERNES 09:00 AM A 04:00 PM"]
["J303227740","31 - RODRIGUEZ WLADIMIR","PADRISIMO TAQUERIA SA","PADRISIMO TAQUERIA SA"," ","PADRISIMO TAQUERIA SA","CALLE MIRANDA CON ESCALONACASA VILL","A ROSA EL HATILLO"," ","9615809"," "," ","CARACAS"," "," "," "," ","EUGENIO MENDEZ"," "," ","PADRISIMO TAQUERIA SA","CALLE MIRANDA CON ESCALONACASA VILL","A ROSA EL HATILLO"," "," "," "," "," "," ",null,"J-30322774-0","C 6926","89250","No","05","CREDITO 5 DIAS","30","PARROQUIA EL RECREO","04","07","RESTAURANTES","02","ON PREMISSE","02","ON PREMISSE"," ","31"," ","   "]
["J303330673","02 - REQUENA JOHAN - OFF","SALA JGOS CENTER POOL ATLANTID CA","SALA JGOS CENTER POOL ATLANTID CA"," ","SALA JGOS CENTER POOL ATLANTID CA","AVENIDA PRINCIPAL CASA S/N URB.","ATLANTIDA, CATIA LA MAR EDO. VARGAS"," ","(0212) 351-14-92"," "," ","CATIA LA MAR"," "," "," "," ","MANUEL SAMPAYO","DOMINGUEZ"," ","SALA JGOS CENTER POOL ATLANTID CA","AVENIDA PRINCIPAL CASA S/N URB.","ATLANTIDA, CATIA LA MAR EDO. VARGAS"," "," ","(0212) 351-14-92"," "," "," ",null,"J-30333067-3","031-C-1025","89250","No","05","CREDITO 5 DIAS","20","CENTRO DE CARACAS","04","06","BAR/TABER./S. BAR/PUB/TAS","02","ON PREMISSE","02","ON PREMISSE"," ","02"," ","   "]
["J303405487","09 - CLIENTE INHABILITADO","BODEGON Y LICORES DEIVISCAR C.A.","BODEGON Y LICORES DEIVISCAR C.A."," ","BODEGON Y LICORES DEIVISCAR C.A.","CALLE BOLIVAR Nº 82 ARAIRA EDO.","MIRANDA"," ","(0212) 341.19.30","(0424) 135.77.97","lady_margomes@hotmail.com","ARAIRA"," "," "," ","CAMBIO Z-11 A Z-01 05/09/18 GA","CARLOS ALBERTO UTRER","A"," ","BODEGON Y LICORES DEIVISCAR C.A.","CALLE BOLIVAR Nº 82 ARAIRA ESTADO","MIRANDA"," "," "," "," ","RECIBE  LUNES A VIERNES"," 11:00 AM A 06:00 PM","MIERCOLES","J-30340548-7","M-M 230","15000","Sí","00","CONTADO","16","GUATIRE","05","18","LICORERIAS/BODEGONES","01","OFF PREMISSE","01","OFF PREMISSE","09","09","09 - CLIENTE INHABILITADO","RECIBE  LUNES A VIERNES  11:00 AM A 06:00 PM"]
["J303425437","09 - CLIENTE INHABILITADO","GONCALVES DELECA ADELINO","SUPERM.LLEVE MAS Y P. MENOS CA"," ","SUPERM.LLEVE MAS Y P. MENOS CA","AVENIDA PRINCIPAL LAS MINAS DEBARUT","A-CARACAS"," ","9454108"," "," ","CARACAS"," "," "," "," ","GONCALVES DELECA ADE","LINO MARIO"," ","SUPERM.LLEVE MAS Y P. MENOS CA","AVENIDA PRINCIPAL LAS MINAS DEBARUT","A-CARACAS"," "," "," "," "," "," ",null,"J-30342543-7","M-N 6768","15000","No","05","CREDITO 5 DIAS","15","BARUTA","05","21","SUPERMERCADOS/AUTOMERCADO","01","OFF PREMISSE","01","OFF PREMISSE"," ","09","09 - CLIENTE INHABILITADO","   "]
["J303567444","09 - CLIENTE INHABILITADO","COMERCIAL TAKEDA 24, C.A.","HOTEL SAVA"," ","COMERCIAL TAKEDA 24, C.A.(HOTEL SAVA)","AVENIDA LIMA,EDIFICIO RESIDENCIA SA","NTINAPB,LOCAL F,URBANIZACION LOS CA","OBOS","0212.781.42.53"," "," ","CARACAS"," "," "," ","CAMBIO Z - 31 A Z - 09 200919 GA","LAMAS AGRA JOSE"," "," ","HOTEL SAVA","AVENIDA LIMA,EDIFICIO RESIDENCIA SA","NTINAPB,LOCAL F,URBANIZACION LOS CA","OBOS"," "," "," ","RECIBE HASTA LAS 12:00 PM","TRASP 03 S/SOLIC 28/01/11",null,"J-30356744-4","C-0136","15000","Sí","00","CONTADO","32","SUCRE - BARUTA","04","08","HOTELES/CASINOS/BINGOS","02","ON PREMISSE","02","ON PREMISSE","09","09","09 - CLIENTE INHABILITADO",{"$f":"CONCATENATE(AB1858,\" \",AC1858)","v":"RECIBE HASTA LAS 12:00 PM TRASP 03 S/SOLIC 28/01/11"}]
["J303637264","09 - CLIENTE INHABILITADO","COMERCIAL SOUSANT, S.R.L.","COMERCIAL SOUSAN S.R.L."," ","COMERCIAL SOUSAN S.R.L.","CALLE BOLIVAR AL LADO DE DISTRIBUID","ORALA PRIMERA CUPIRA"," ","416/4093940"," "," ","BARLOVENTO"," "," "," "," ","ANTONIO PEDRO DE SOU","SA"," ","COMERCIAL SOUSAN S.R.L.","CALLE BOLIVAR AL LADO DE DISTRIBUID","ORALA PRIMERA CUPIRA"," "," "," "," ","TRASP. S-01 JHONNY R.","EL 05-08-2011",null,"J-30363726-4","M-N 945","15000","No","05","CREDITO 5 DIAS","12","BARLOVENTO","05","18","LICORERIAS/BODEGONES","01","OFF PREMISSE","01","OFF PREMISSE"," ","09","09 - CLIENTE INHABILITADO","TRASP. S-01 JHONNY R. EL 05-08-2011"]
["J303734278","36  CLIENT-CORPORAT-OFIC.","DISTRIBUIDORA SIROA,C.A","DISTRIBUIDORA SIROA,C.A","257/03/10","DISTRIBUIDORA SIROA,C.A","ANTIGUO ASERRADERO EL LLANITO"," "," ","256/41/74"," "," ","CARACAS"," "," "," "," "," "," "," ","DISTRIBUIDORA SIROA,C.A","DISTRIBUIDOR DE CAFE DE SAN ANTONIO","Y OTROS PRODUCTOS PARA PANADERIAS","SUPER.CAFE ANTIGUO ASERRADERO","EL LLANITO","256/41/74","257/03/10"," "," ",null,"J-30373427-8","PARTICULAR","89250","No","05","CREDITO 5 DIAS","71","OFICINA","06","28","COMERCIOS","01","OFF PREMISSE","01","OFF PREMISSE","36","36","71 - OFICINA","   "]
["J303799060","502 - DRA. ALEXI Y. PINT0","LICORERIA DAME LA OTRA,C.A.","LICORERIA DAME LA OTRA,C.A."," ","LICORERIA DAME LA OTRA,C.A.","CALLE PARALELA A LA CALLE LOS BAÑOS","MAIQUETIA LOCAL S/N- LA GUAIRA-EDO.","VARGAS","3315376"," "," ","LA GUAIRA"," "," "," "," ","EDUARD MICHEL BRITO","IZAGUIRRE"," ","LICORERIA DAME LA OTRA,C.A.","CALLE PARALELA A LA CALLE LOS BAÑOS","MAIQUETIA LOCAL S/N- LA GUAIRA-EDO.","VARGAS"," "," "," ","LLEVADO A INCOBRABLE","DRA. PINTO 20-02-2013",null,"J-30379906-0","031-MN-1215","0","Sí","00","CONTADO","21","VALLES DEL TUY-21","05","18","LICORERIAS/BODEGONES","01","OFF PREMISSE","01","OFF PREMISSE"," ","502"," ","LLEVADO A INCOBRABLE DRA. PINTO 20-02-2013"]
["J303942270","09 - CLIENTE INHABILITADO","LICORERIA ALTO ANTONIO C.A.","LICORERIA ALTO ANTONIO C.A."," ","LICORERIA ALTO ANTONIO C.A.","AVENIDA PERIMETRAL C.COMERCIAL R.SA","NANTONIO LOCAL C-SAN ANTONIO-LOS TE","QUES-EDO.MIRANDA","(0212) 372-35-18"," ","raet2008@hotmail.com","LOS TEQUES","4CD 010415-240516 HP10 DC7 HD","DESBL.CUMP.3PP 050816 P-205975 HD","CLTE CERRADO CAMBIO Z-02 011117","CAMBIO A LA ZONA 09 20-09-19 YM","MARIA M.COELHO DE AB","REU"," ","LICORERIA ALTO ANTONIO C.A.","AVENIDA PERIMETRAL C.COMERCIAL R.SA","NANTONIO LOCAL C-SAN ANTONIO-LOS TE","QUES-EDO.MIRANDA"," ","(0212) 372-35-18"," ","RECIBE DE LUNES A JUEVES","DE 10 A 12 M Y 2 A 6 PM","MIERCOLES","J-30394227-0","032-MM-81","0","Sí","00","CONTADO","09","CLIENTE INHABILITADO","06","18","LICORERIAS/BODEGONES","01","OFF PREMISSE","01","OFF PREMISSE","09","09","09 - CLIENTE INHABILITADO","RECIBE DE LUNES A JUEVES DE 10 A 12 M Y 2 A 6 PM"]
["J303964931","09 - CLIENTE INHABILITADO","COMERCIAL LUZ DE BETANIA C.A.","COMERCIAL LUZ DE BETANIA C.A."," ","COMERCIAL LUZ DE BETANIA C.A.","CALLE RIVAS Nº 106 LOCAL AFRENTE A","LA C.A.N.T.V."," ","0239-224-06-98","0414-322-44-30"," ","VALLE DEL TUY"," "," ","BLOQ.020216 CERRADO DESDE SEPT-2015","CAMBIO A LA ZONA 09 19-09-19 YM","ENZO GILBERTO RANGEL"," "," ","COMERCIAL LUZ DE BETANIA C.A.","CALLE RIVAS Nº 106 LOCAL AFRENTE A","LA C.A.N.T.V."," "," "," "," "," "," ","JUEVES","J-30396493-1","M-Y 991","0","Sí","00","CONTADO","09","CLIENTE INHABILITADO","06","18","LICORERIAS/BODEGONES","01","OFF PREMISSE","01","OFF PREMISSE","09","09","09 - CLIENTE INHABILITADO","   "]
["J304064152","31 - RODRIGUEZ WLADIMIR","FUNDAHISOF","FUNDAHISOF"," ","FUNDAHISOF","AVENIDA PRINCIPAL URBANIZACION CAMP","OCLARO EDIFICIO BEGILCA LOCAL PH-CH","ACAO","2580962"," "," ","CARACAS"," "," "," "," ","MENDOZA CARLOS ALBER","TO"," ","FUNDAHISOF","AVENIDA PRINCIPAL URBANIZACION CAMP","OCLARO EDIFICIO BEGILCA LOCAL PH-CH","ACAO"," "," "," "," "," ",null,"J-30406415-2","PART 1","89250","No","05","CREDITO 5 DIAS","41","CADENAS NACIONAL","06","28","COMERCIOS","01","OFF PREMISSE","01","OFF PREMISSE"," ","31"," ","   "]
["J304124988","09 - CLIENTE INHABILITADO","ABASTOS Y LICORERIA NAPOLI,C.A.","ABASTOS Y LICORERIA NAPOLI"," ","ABASTOS Y LICORERIA NAPOLI,C.A.","BOULEVAR PASEO MACUTO AV. LA PLAYA","CALLE CENTENARIO EDIF.LA PAGA LOCAL"," 2 A 20 MTS DE LICORERIA MIÑO","(0212) 914-36-12","(0424) 134-29-34"," ","LA GUAIRA"," "," "," ","MANTENER ALTA MOROSIDAD 14/02/14","MANUEL DEFARIA BAETA"," "," ","ABASTOS Y LICORERIA NAPOLI,C.A.","BOULEVAR PASEO MACUTO AV. LA PLAYA","CALLE CENTENARIO EDIF.LA PAGA LOCAL"," 2 A 20 MTS DE LICORERIA MIÑO"," ","(0212) 914-36-12"," "," "," ",null,"J-30412498-8","031-MN-265","15000","Sí","00","CONTADO","14","LITORAL CENTRAL","05","22","ABASTOS GRANDES","01","OFF PREMISSE","01","OFF PREMISSE","09","09","09 - CLIENTE INHABILITADO","   "]
["J304187971","09 - CLIENTE INHABILITADO","AUTOMERCADO LA SAGRADA FAMILIA,C.A.","GRUPO MAPOS,C.A"," ","GRUPO MAPOS,C.A","AV.PRINCIPAL URB.LAS ROSAS,CENTRO C","OMERCIALLAS ROSAS LOCAL,Nº 5-6-7 Y","15- GUATIRE-EDO.MIRANDA","(0212) 344.70.07","(0414) 181.44.12","rjpc36@gmail.com","GUATIRE"," "," ","CAMBIO DE ZONA 11 A 09 16/05/23 ST","BLOQ MAYOR 46 DIAS SEGUI 240222 MYZ","JOAO PEREIRA JUNIOR"," "," ","GRUPO MAPOS,C.A","AV.PRINCIPAL URB.LAS ROSAS,CENTRO C","OMERCIALLAS ROSAS LOCAL,Nº 5-6-7 Y","15- GUATIRE-EDO.MIRANDA"," "," "," ","RECIBE  LUNES A VIERNES","10:00AM A 4:00 PM","MIERCOLES","J-30418797-1","002-MN-5974","15000","Sí","05","CREDITO 5 DIAS","16","GUATIRE","05","21","SUPERMERCADOS/AUTOMERCADO","01","OFF PREMISSE","01","OFF PREMISSE","09","09","09 - CLIENTE INHABILITADO","RECIBE  LUNES A VIERNES 10:00AM A 4:00 PM"]
["J304284713","09 - CLIENTE INHABILITADO","INVERSIONES FERMAGLUZ, S.R.L","TOSTADA LA GRAN VIA"," ","INVERSIONES FERMAGLUZ, S.R.L","AV PRINCIPAL DE BELLA VISTA. CON AV","USLAR. LA VEGA. FRENTE A LA POLLERA","EL TOCUYO","(0212) 472.26.36","(0212) 472.92.55","miguelo571@hotmail.com","CARACAS"," "," "," ","CTE INHAB Z-09 200919 WP","FERNANDO DE SOUSA","HENRY"," ","TOSTADA GRAN VIA","AV PRINCIPAL DE BELLA VISTA. CON AV","USLAR. LA VEGA. FRENTE A LA POLLERA","EL TOCUYO"," ","0412 - 626.8188"," ","RECIBE  LUNES A VIERNES"," 08:00 AM A 05:00 PM","MARTES Y MIERCOLES","J-30428471-3","C-1578","15000","Sí","00","CONTADO","33","CENTRO-CANDELARIA","04","07","RESTAURANTES","02","ON PREMISSE","02","ON PREMISSE","09","09","09 - CLIENTE INHABILITADO","RECIBE  LUNES A VIERNES  08:00 AM A 05:00 PM"]
["J304360894","02 - REQUENA JOHAN - OFF","INVERSIONES TRILICOR C.A.","INVERSIONES TRILICOR C.A."," ","INVERSIONES TRILICOR C.A.","CALLE GRANADA EDIF.SAN ANTONIO","LOCAL- SAN MARTIN-CARACAS-DTTO."," "," "," "," ","CARACAS"," "," "," "," ","GILBERTO SUAREZ DA S","ILVA"," ","INVERSIONES TRILICOR C.A.","CALLE GRANADA EDIF.SAN ANTONIO","LOCAL- SAN MARTIN-CARACAS-DTTO."," "," "," "," ","CAMBIO DE RAMO"," ",null,"J-30436089-4","M-N 7057","89250","Sí","05","CREDITO 5 DIAS","23","CENTRO-SAN MARTIN","05","18","LICORERIAS/BODEGONES","01","OFF PREMISSE","01","OFF PREMISSE"," ","02"," ","CAMBIO DE RAMO  "]
["J304415613","31 - RODRIGUEZ WLADIMIR","PIZZERIA RESTAURANT DE LA MAMMA,C.A","PIZZERIA RESTAURANT DE LA MAMMA,C.A"," ","PIZZERIA RESTAURANT DE LA MAMMA,C.A.","AV. VOLLMER EDIF. CAMARA MEZZ. 1 Y","2AL ALDO DEL HOSPITAL DE NIÑO SAN B","ERNARDINO","5749231"," "," ","CARACAS"," "," "," "," ","DOS SANTOS ALEJANDRO"," "," ","PIZZERIA RESTAURANT DE LA MAMMA,C.A","AV. VOLLMER EDIF. CAMARA MEZZ. 1 Y","2AL ALDO DEL HOSPITAL DE NIÑO SAN B","ERNARDINO"," "," "," "," "," ",null,"J-30441561-3","PARTICULAR","89250","No","05","CREDITO 5 DIAS","33","CENTRO-CANDELARIA","04","07","RESTAURANTES","02","ON PREMISSE","02","ON PREMISSE"," ","31"," ","   "]
["J304542860","22 - GONZALEZ CARLOS","COMERCIAL RIO AVE 1090, C.A.","COMERCIAL RIO AVE 1090"," ","COMERCIAL RIO AVE 1090, C.A.","ENTRE CALLE PANAMERICANA Y CALLE","ARGENTINA # 9 CATIA.","CARACAS DTTO. CAPITAL","0212 870 28 52","0414 015 68 86","NO POSEE","CARACAS"," "," "," "," ","JOSE JOAO GONCALVES"," "," ","COMERCIAL RIO AVE 1090, C.A.","ENTRE CALLE PANAMERICANA Y CALLE","ARGENTINA #9, CATIA","CARACAS DTTO. CAPITAL"," ","(0212) 870-28-52"," ","RECIBE  LUNES A VIERNES"," 8:00AM A 4:00PM","MARTES Y JUEVES","J-30454286-0","15-MN-1107","89250","No","05","CREDITO 5 DIAS","22","CATIA-JUNQUITO","06","18","LICORERIAS/BODEGONES","01","OFF PREMISSE","01","OFF PREMISSE","22","22","02 - VICTOR TORRES - OFF","RECIBE  LUNES A VIERNES  8:00AM A 4:00PM"]
["J304624921","43 - RIVERO CARLOS","LICORERIA TRINI LICOR, S.R.L.","LICORERIA TRINI LICOR, S.R.L."," ","LICORERIA TRINI LICOR, S.R.L.","CALLE LAS VEGAS CON CALLE LA SOLEDA","D EDIF.LA LOMBARDA P.B.1 ZONA IND.L","A TRINIDAD","(0212) 944.43.56","(0414) 121.05.67","luissanchez1940@hotmail.com","CARACAS"," "," ","BLOQ X FACT A +23 DIAS 281019 JA","BLOQxSEGUI 5DCRED HP10 29012020JA","GIACOMO ALBRIZIO"," "," ","LICORERIA TRINI LICOR, S.R.L.","CALLE LAS VEGAS CON CALLE LA SOLEDA","D EDIF.LA LOMBARDA P.B.1 ZONA IND.L","A TRINIDAD"," "," "," ","RECIBE  LUNES A JUEVES"," 11:00 AM A 5:00 PM","MIERCOLES","J-30462492-1","M-N 7604","89250","No","05","CREDITO 5 DIAS","43","PROLICOR / CELICOR","05","18","LICORERIAS/BODEGONES","11","FRANQUICIAS PROLICOR,C.A.","11","FRANQUICIAS PROLICOR,C.A.","43","43","01-CARLOS DA SILVA -FRANQUICIAS PROLICOR/CELICOR","RECIBE  LUNES A JUEVES  11:00 AM A 5:00 PM"]
["J304660456","09 - CLIENTE INHABILITADO","INVERSIONES MARACUCHO C.A.","INVERSIONES MARACUCHO C.A."," ","INVERSIONES MARACUCHO C.A.","CALLE PPAL.DE LA ACEQUIA EDIF. GABR","IELEPLANTA BAJA- FRENTE A LA GRAN C","ALLE","0414-2560448"," "," ","OCUMARE"," "," "," "," ","LUIS ALFREDO RIBEIRO"," "," ","INVERSIONES MARACUCHO C.A.","CALLE PPAL.DE LA ACEQUIA EDIF. GABR","IELEPLANTA BAJA- FRENTE A LA GRAN C","ALLE"," "," "," ","PASADO ZONA 01.SUP JHONNY","R. S/SOLIC DEL 11/03/11",null,"J-30466045-6","M-M 443","15000","No","05","CREDITO 5 DIAS","14","LITORAL CENTRAL","05","18","LICORERIAS/BODEGONES","01","OFF PREMISSE","01","OFF PREMISSE"," ","09","09 - CLIENTE INHABILITADO","PASADO ZONA 01.SUP JHONNY R. S/SOLIC DEL 11/03/11"]
["J304721412","09 - CLIENTE INHABILITADO","INVERSIONES S.H. 1.997, C.A.","CANTINA LA FONTANA."," ","CANTINA LA FONTANA.","FINAL A.V. LIBERTADOR, ( FRENTE AL","LICEOGUSTAVO HERRERA)."," ","265-38-60"," "," ","CARACAS"," "," "," ","CTE INHAB Z-09 200919 WP","CARLOS DA SILVA."," "," ","CANTINA LA FONTANA.","FINAL A.V. LIBERTADOR, ( FRENTE AL","LICEOGUSTAVO HERRERA)."," "," "," "," "," "," ",null,"J-30472141-2","C 6474","15000","Sí","00","CONTADO","31","LA CASTELLANA","05","18","LICORERIAS/BODEGONES","01","OFF PREMISSE","01","OFF PREMISSE","09","09","09 - CLIENTE INHABILITADO","   "]
["J304807651","31 - RODRIGUEZ WLADIMIR","LA POSADA DE CRESPO,C.A.","REST LA POSADA DE CRESPO,C.A."," ","LA POSADA DE CRESPO,C.A.","AV. BARALT ESQ. EL CARMEN DIAGONAL","AL INSTITUTODE NUTRICION  QTA CRESP","O SAN JUAN","4831748"," "," ","CARACAS"," "," "," "," ","VALENTINO FREITAS"," "," ","REST LA POSADA DE CRESPO,C.A.","AV. BARALT ESQ. EL CARMEN DIAGONAL","AL INSTITUTODE NUTRICION  QTA CRESP","O SAN JUAN"," "," "," "," "," ",null,"J-30480765-1","C 2","89250","No","05","CREDITO 5 DIAS","33","CENTRO-CANDELARIA","04","08","HOTELES/CASINOS/BINGOS","02","ON PREMISSE","02","ON PREMISSE"," ","31"," ","   "]
["J304900163","09 - CLIENTE INHABILITADO","HOTEL GABIAL,C.A.","HOTEL GABIAL"," ","HOTEL GABIAL,C.A.","AV.PROLONGACION SUR LAS ACACIAS EDF","HOTEL GABIAL PISO PB OFC. PB URB.","SAN ANTONIO DTTO. CAPITAL","(0212) 793-09-56"," "," ","CARACAS"," "," "," ","REEST-V-31 AL V-09 20092019 MYZ","DEMETRIO AMORIN VASQ","UEZ"," ","HOTEL GABIAL","AV.PROLONGACION SUR LAS ACACIAS EDF","HOTEL GABIAL PISO PB OFC. PB URB.","SAN ANTONIO DTTO. CAPITAL"," ","(0212) 793-09-56"," "," "," ",null,"J-30490016-3","C-2426","15000","Sí","00","CONTADO","31","LA CASTELLANA","04","08","HOTELES/CASINOS/BINGOS","02","ON PREMISSE","02","ON PREMISSE","09","09","09 - CLIENTE INHABILITADO","   "]
["J304971656","502 - DRA. ALEXI Y. PINT0","LICORERIA RAUL A.P.","COMERCIAL A.P. RAUL 2030 C.A."," ","COMERCIAL A.P. RAUL 2030 C.A.","URBANIZACION EL CARTANAL SECTOR 1 A","VENIDA 8# 31 LOCAL 1 ,5 SANTA TERES","A","014-9390382"," "," ","VALLE DEL TUY"," "," "," "," ","RAUL ANTONIO PEREZ"," "," ","COMERCIAL A.P. RAUL 2030 C.A.","URBANIZACION EL CARTANAL SECTOR 1 A","VENIDA 8# 31 LOCAL 1 ,5 SANTA TERES","A"," "," "," ","PASADO ZONA 01.SUP JHONNY","R. S/SOLIC DEL 11/03/11",null,"J-30497165-6","M-N 352","15000","No","00","CONTADO","14","LITORAL CENTRAL","05","18","LICORERIAS/BODEGONES","01","OFF PREMISSE","01","OFF PREMISSE"," ","502","01 - CARLOS DA SILVA","PASADO ZONA 01.SUP JHONNY R. S/SOLIC DEL 11/03/11"]
["J304988419","09 - CLIENTE INHABILITADO","P.D.V. IZCALAGO","SERVIEXPRESA IZCALAGO, C.A."," ","SERVIEXPRESA IZCALAGO, C.A.","AUTOPISTA PETARE-GUARENAS KM 17GUAR","ENAS-EDO.MIRANDA"," ","3620958"," "," ","GUARENAS"," "," "," "," ","ANTONIO M. SUCRE/OMA","IRA ROJAS"," ","SERVIEXPRESA IZCALAGO, C.A.","AUTOPISTA PETARE-GUARENAS KM 17GUAR","ENAS-EDO.MIRANDA"," "," "," "," ","MALA EXPERIENCIA DE PAGO"," ",null,"J-30498841-9","M-N 7128","15000","Sí","00","CONTADO","11","GUARENAS","05","18","LICORERIAS/BODEGONES","01","OFF PREMISSE","01","OFF PREMISSE"," ","09","09 - CLIENTE INHABILITADO","MALA EXPERIENCIA DE PAGO  "]
["J305053839","31 - RODRIGUEZ WLADIMIR","INVERSINES BRASAS C.A.","INVERSIONES BRASAS C.A."," ","INVERSIONES BRASAS C.A.","CALLE MADRID LAS MERCEDESNULL"," "," ","922669"," "," ","CARACAS"," "," "," "," ","JOSE ALBERTO ANDRADE"," RODRIGUEZ"," ","INVERSIONES BRASAS C.A.","CALLE MADRID LAS MERCEDESNULL"," "," "," "," "," "," "," ",null,"J-30505383-9","C 4031","89250","No","05","CREDITO 5 DIAS","30","PARROQUIA EL RECREO","04","07","RESTAURANTES","02","ON PREMISSE","02","ON PREMISSE"," ","31"," ","   "]
["J305071179","31 - RODRIGUEZ WLADIMIR","INVERSIONES ACQUANAUTA,C.A.","INVERSIONES ACQUANAUTA,C.A."," ","INVERSIONES ACQUANAUTA,C.A.","C.C.C.T.NIVEL C-1 LOCAL 47901 CHUAO","CARACAS"," ","9593571- 5572"," "," ","CARACAS"," "," "," "," ","GIOVANNI ANGIONE"," "," ","INVERSIONES ACQUANAUTA,C.A.","C.C.C.T.NIVEL C-1 LOCAL 47901 CHUAO","CARACAS"," "," "," "," ","CAMBIO DE ZONA SUP.03","DE FECHA 25/07/2013",null,"J-30507117-9","C 3382","89250","Sí","00","CONTADO","30","PARROQUIA EL RECREO","04","07","RESTAURANTES","02","ON PREMISSE","02","ON PREMISSE"," ","31"," ","CAMBIO DE ZONA SUP.03 DE FECHA 25/07/2013"]
["J305205507","31 - RODRIGUEZ WLADIMIR","LITTLE JOE'S LAS MINAS,C.A.","LITTLE JOE'S LAS MINAS,C.A."," ","LITTLE JOE'S LAS MINAS,C.A.","CARRETERA PANAMERICANA KM 15URB LA","ROSALEDA SUR CLUB DE CAMPO"," ","3737746"," "," ","LOS TEQUES"," "," "," "," ","FERNANDO TAGLIAFERRO"," "," ","LITTLE JOE'S LAS MINAS,C.A.","CARRETERA PANAMERICANA KM 15URB LA","ROSALEDA SUR CLUB DE CAMPO"," "," "," "," "," "," ",null,"J-30520550-7","032 C-106","89250","No","05","CREDITO 5 DIAS","25","LOS TEQUES","04","07","RESTAURANTES","02","ON PREMISSE","02","ON PREMISSE"," ","31"," ","   "]
["J305301085","09 - CLIENTE INHABILITADO","LICORES WILDA,C.A.","LICORES WILDA,C.A."," ","LICORES WILDA,C.A.","CALLE ZAMORA EDIFICIO DORAL LOCAL N","º 1PLANTA BAJA-MNCP.ZAMORA-GUATIRE-","EDO.MIRANDA","416/8317527"," "," ","GUATIRE"," "," "," "," ","LOZANO ELDA"," "," ","LICORES WILDA,C.A.","CALLE ZAMORA EDIFICIO DORAL LOCAL N","º 1PLANTA BAJA-MNCP.ZAMORA-GUATIRE-","EDO.MIRANDA"," "," "," "," "," ",null,"J-30530108-5","M-N 7558","15000","No","05","CREDITO 5 DIAS","11","GUARENAS","05","18","LICORERIAS/BODEGONES","01","OFF PREMISSE","01","OFF PREMISSE"," ","09","09 - CLIENTE INHABILITADO","   "]
["J305365237","04 - MARTINS ANTONIO","LICORERIA LA TACITA DE ORO, C.A.","LICORERIA LA TACITA DE ORO, C.A."," ","LICORERIA LA TACITA DE ORO, C.A.","ESQ RIFLE A GRANADERO EDIF LOS ROQU","ES PISO P.B LOCAL 5 URB SAN AGUSTIN","DEL NORTE, CARACAS","0212 572 52 06","0414 274 61 10","NO POSEE","CARACAS"," "," ","CAMBIO DE ZONA V23 A V03 271221 PH"," ","MARCOS JOSE MEDINA"," "," ","LICORERIA LA TACITA DE ORO, C.A.","ESQ RIFLE A GRANADERO EDIF LOS ROQU","ES PISO P.B LOCAL 5 URB SAN AGUSTIN","DEL NORTE, CARACAS"," ","0414-2746110","230617","RECIBE  LUNES A VIERNES"," 12:00PM A 5:00PM","DE LUNES A VIERNES","J-30536523-7","10-MN-001613","89250","No","05","CREDITO 5 DIAS","23","CENTRO-SAN MARTIN","05","18","LICORERIAS/BODEGONES","01","OFF PREMISSE","01","OFF PREMISSE","04","04","04 - CARLOS CARREIRA","RECIBE  LUNES A VIERNES  12:00PM A 5:00PM"]
["J305437149","20 - DIEGO MANUEL","LICORERIA BUONA VENTURA, C.A","LICORERIA BUONA VENTURA"," ","LICORERIA BUONA VENTURA, C.A","CALLE REAL DE SARRIA,SECTOR PEDRO","CAMEJO, FTE.AL BLOQUE 5,N°11 PQUIA.","SAN JOSE-DTTO.CAPITAL","0212 730 43 23","0414 114 64 44","clemente18@hotmail.com","CARACAS"," "," "," "," ","RECINE OLIVIERO","CLEMENTE SALVADOR"," ","LICORERIA BUONA VENTURA","CALLE REAL DE SARRIA,SECTOR PEDRO","CAMEJO, FTE.AL BLOQUE 5,N°11 PQUIA.","SAN JOSE-DTTO.CAPITAL"," ","(0212) 577-48-75"," ","RECIBE  MARTES A VIERNES","DESPUES DE LAS 2:00PM","LUNES","J-30543714-9","002-MN-4616","89250","No","05","CREDITO 5 DIAS","20","CENTRO DE CARACAS","06","18","LICORERIAS/BODEGONES","01","OFF PREMISSE","01","OFF PREMISSE","20","20","02 - VICTOR TORRES - OFF","RECIBE  MARTES A VIERNES DESPUES DE LAS 2:00PM"]
["J305510911","02 - REQUENA JOHAN - OFF","EL BODEGON DE LA CAÑADA, C.A.","EL BODEGON DE LA CAÑADA, C.A."," ","EL BODEGON DE LA CAÑADA, C.A.","CALLE REAL,LA CAÑADA,BLOQUE 15 Y 16",". 23DE ENERO.DENTRO DEL ESTACIONAMI","ENTO.","0212.858.73.21"," "," ","CARACAS"," "," "," "," ","WILSON BRICEÑO"," "," ","EL BODEGON DE LA CAÑADA, C.A.","CALLE REAL,LA CAÑADA,BLOQUE 15 Y 16",". 23DE ENERO.DENTRO DEL ESTACIONAMI","ENTO."," "," "," "," "," ",null,"J-30551091-1","MN-115","89250","No","05","CREDITO 5 DIAS","22","CATIA-JUNQUITO","05","18","LICORERIAS/BODEGONES","01","OFF PREMISSE","01","OFF PREMISSE"," ","02"," ","   "]
["J305512639","31 - RODRIGUEZ WLADIMIR","CONSORCIO INTERN JUNIOR CLUB, C.A","REVOLUTION DISCOTEQUE"," ","CONSORCIO INTERN JUNIOR CLUB, C.A","AV PRINCIPAL DE LOS CORTIJOS DE","LOURDES. EDIF LOS HERMANOS. PISO","SEMISOTANO. LOCAL A URB LOS CORTIJO","0212.239.16.98"," "," ","CARACAS","2 CHD 010915/290915 HP16 DC 7","DESB.281015 GCIA VTAS.MYZ","2CD 291015-081116 HP16 DC07 LA/MY","CAMBIO DE  ZONA 32 A 31 260922  MYZ","AVELINO CAMARA NUBES","MANUEL NIEVES DE","VIVEIROS","CONSORCIO INTERN JUNIOR CLUB, C.A","AV PRINCIPAL DE LOS CORTIJOS DE","LOURDES. EDIF LOS HERMANOS. PISO","SEMISOTANO. LOCAL A URB LOS CORTIJO","S","0212.238.70.69"," ","MARTES A VIERNES","9AM A 11:30AM A 1PM A 4PM","MIERCOLES","J-30551263-9","C7487","89250","No","05","CREDITO 5 DIAS","31","LA CASTELLANA","04","09","DISCOTECAS Y NIGHT CLUBS","02","ON PREMISSE","02","ON PREMISSE","31","31","01 - CARLOS DA SILVA - ON","MARTES A VIERNES 9AM A 11:30AM A 1PM A 4PM"]
["J305604118","09 - CLIENTE INHABILITADO","BAR RESTAURANT LA DIVERSION, C.A.","BAR RESTAURANT LA DIVERSION, C.A.","121115","BAR RESTAURANT LA DIVERSION, C.A.","CALLE REAL DE PARIATA CRUCE CON CA","LLE PPAL, URB. MIRAMAR, PARROQUIA","MAIQUETIA, LA GUAIRA EDO VARGAS","04142536765"," "," ","LA GUAIRA"," "," "," ","C/SUP-01 01/03/17 BAJAS COMPRAS LA/","MANUEL PAULO JARDIN","CANDELARIO RAMIREZ S"," ","BAR RESTAURANT LA DIVERSION, C.A.","CALLE REAL DE PARIATA CRUCE CON CA","LLE PPAL, URB. MIRAMAR, PARROQUIA","MAIQUETIA, LA GUAIRA EDO VARGAS","(PTO REF AL FRENTE DE PLASTICO","04142536765","04242536765","RECIBE DE LUNES A VIERNES","DE 10:00 AM A 5:00 PM","MIERCOLES","J-30560411-8","031-C-2002","15000","Sí","00","CONTADO","14","LITORAL CENTRAL","04","06","BAR/TABER./S. BAR/PUB/TAS","02","ON PREMISSE","02","ON PREMISSE","09","09","09 - CLIENTE INHABILITADO","RECIBE DE LUNES A VIERNES DE 10:00 AM A 5:00 PM"]
["J305648581","09 - CLIENTE INHABILITADO","HOTEL BAR RESTAURANT PUERTO MAR","HOTEL BAR RESTAURANT PUERTO MAR","23-09-2016","HOTEL BAR RESTAURANT PUERTO MAR","AV. PRIMERA DE PUERTO VIEJO EDIF","HOTEL BAR RESTAURANT PUERTO MAR","PISO  PB LOCAL01 URB PUERTO VIEJO","NO POSEE","0414 263 48 82","NO POSEE"," ","LA GUAIRA-VARGAS"," "," ","CAMBIO Z16 A Z09 YR 20/6/19","MANUEL RODRIGUEZ","MARIA DE RODRIGUEZ"," ","HOTEL BAR RESTAURANT PUERTO MAR","AV. PRIMERA DE PUERTO VIEJO","EDIFICIO HOTEL BAR RESTAURANT","PUERTO MAR PISO PB  LOCAL 01,URB","PUERTO VIEJO","0212/352-54-78"," ","RECIBE  LUNES A VIERNES"," 8:00 AM A 4:00 PM","MARTES","J-30564858-1","M-Y 031-C907","0","Sí","00","CONTADO","09","CLIENTE INHABILITADO","05","08","HOTELES/CASINOS/BINGOS","02","ON PREMISSE","02","ON PREMISSE","09","09","09 - CLIENTE INHABILITADO","RECIBE  LUNES A VIERNES  8:00 AM A 4:00 PM"]
["J305759766","31 - RODRIGUEZ WLADIMIR","SALA SHOW LA PARRANDA,N.R, 1.956,C.","SALA SHOW LA PARRANDA,N.R, 1.956,C."," ","SALA SHOW LA PARRANDA,N.R, 1.956,C.A.","CARRETERA PANAMERICANA KM 16C.C. LA"," CASONA II LA ROSALEDA SUR"," ","3727479"," "," ","LOS TEQUES"," "," "," "," ","JOSE LUIS GONCALVEZ"," "," ","SALA SHOW LA PARRANDA,N.R, 1.956,C.","CARRETERA PANAMERICANA KM 16C.C. LA"," CASONA II LA ROSALEDA SUR"," "," "," "," "," "," ",null,"J-30575976-6","032 C-163","89250","No","05","CREDITO 5 DIAS","25","LOS TEQUES","04","06","BAR/TABER./S. BAR/PUB/TAS","02","ON PREMISSE","02","ON PREMISSE"," ","31"," ","   "]
["J305835446","04 - MARTINS ANTONIO","LICORERIA R.H POSITIVO,C.A.","LICORERIA R.H POSITIVO,C.A."," ","LICORERIA R.H POSITIVO,C.A.","AVENIDA LAS FUENTES,QUINTA SANTA FE","URBANIZACION EL PARAISO-CARACAS-DTT","O.FEDERAL","0414.178.31.46"," "," ","CARACAS"," "," "," "," ","LICORERIA R.H POSITI","VO,C.A."," ","LICORERIA R.H POSITIVO,C.A.","AVENIDA LAS FUENTES,QUINTA SANTA FE","URBANIZACION EL PARAISO-CARACAS-DTT","O.FEDERAL"," "," "," "," "," ",null,"J-30583544-6","22-Mn-1580","89250","No","05","CREDITO 5 DIAS","33","CENTRO-CANDELARIA","05","18","LICORERIAS/BODEGONES","01","OFF PREMISSE","01","OFF PREMISSE"," ","04"," ","   "]
["J305890609","502 - DRA. ALEXI Y. PINT0","HOTEL ALFERCA CARACAS,C.A.","ALADDIN HOTEL"," ","HOTEL ALFERCA CARACAS,C.A.","AVENIDA GUAICAIPURO URBANIZACION EL","ROSAL- MCPIO.CHACAO-EDO.MIRANDA"," ","0212-951.30.66"," ","asistenteccs@hotelaladdin.com","CARACAS"," "," "," "," ","JOSE ANGEL FERNANDEZ"," MACHADO"," ","ALADDIN HOTEL","AVENIDA GUAICAIPURO URBANIZACION EL","ROSAL- MCPIO.CHACAO-EDO.MIRANDA"," "," "," "," "," "," ",null,"J-30589060-9","C 7599","15000","No","00","CONTADO","32","SUCRE - BARUTA","04","08","HOTELES/CASINOS/BINGOS","02","ON PREMISSE","02","ON PREMISSE"," ","502","01 - CARLOS DA SILVA","   "]
["J306015671","22 - GONZALEZ CARLOS","SUPERMERCADO EL POBLAR, C.A.","SUPERMERCADO EL POBLAR, C.A."," ","SUPERMERCADO EL POBLAR, C.A.","CARRETERA EL JUNQUITO KM 12 EDIFIC.","CENTRAL PISO PB LOCAL 1 URBANIZ. EL","JUNQUITO","(0212) 422.23.66","(0424) 135.35.59","deynis1@hotmail.com","EL JUNQUITO"," ","CONTRIB.ESPEC.FACTURAR AL 21 C/MES","DESBLOQ.180815 HD NO APLICA RET.75%","BLOQ MAYOR 46 DIAS SEGUI 240222 PH","MANUEL GONCALVES"," "," ","SUPERMERCADO EL POBLAR,C.A.","CARRETERA EL JUNQUITO KM 12 EDIFIC.","CENTRAL PISO PB LOCAL 1 URBANIZ","EL JUNQUITO"," ","0212-422.23.66"," ","RECIBE  LUNES A VIERNES"," 08:30 A 12:30 PM - 3 A 5","LUNES Y JUEVES","J-30601567-1","002-MN-1534","89250","Sí","05","CREDITO 5 DIAS","22","CATIA-JUNQUITO","06","21","SUPERMERCADOS/AUTOMERCADO","01","OFF PREMISSE","01","OFF PREMISSE","22","22","02 - VICTOR TORRES - OFF","RECIBE  LUNES A VIERNES  08:30 A 12:30 PM - 3 A 5"]
["J306105956","13 - GUDIÑO FABIAN","LICORERIA LA COLONIA,C.A.","LICORERIA LA COLONIA C.A."," ","LICORERIA LA COLONIA,C.A.","AV. ROMULO GALLEGOS, EDIF. EL PARQU","ELOCAL C, SEBUCAN, CARACAS."," ","0212.283.57.13"," "," ","CARACAS"," "," ","CAMBIO DE ZONA 43 A 10  09/02/23 ST","CAMBIO DE ZONA 10 A 13  050923 RM","MARIA JUDITE GONCALV","ES"," ","LICORERIA LA COLONIA C.A.","AV. ROMULO GALLEGOS, EDIF. EL PARQU","ELOCAL C, SEBUCAN, CARACAS."," "," "," "," ","RECIBE DE LUNES A JUEVES","10 AM A 5 PM","MIERCOLES","J-30610595-6","MN-5983","89250","No","05","CREDITO 5 DIAS","43","PROLICOR / CELICOR","05","18","LICORERIAS/BODEGONES","01","OFF PREMISSE","01","OFF PREMISSE","13","13","01 - GUERRERO SALVADOR - OFF","RECIBE DE LUNES A JUEVES 10 AM A 5 PM"]
["J306106081","43 - RIVERO CARLOS","DISTRIBUIDORA GARUIZ,C.A.","DISTRIBUIDORA GARUIZ,C.A."," ","DISTRIBUIDORA GARUIZ,C.A.","AV. ROMULO GALLEGOS  EDIF.L-6-26 P.","B.LOCAL UNICO BOLEITA-CARACAS-DTTO.","CAPITAL","0212 232 00 86","0412 249 69 24","orfernandes@hotmail.com","CARACAS"," "," "," ","-1 cheq excepcion prob.banes.030317","NELSON GARCIA"," "," ","DISTRIBUIDORA GARUIZ,C.A.","AV. ROMULO GALLEGOS  EDIF.L-6-26 P.","B.LOCAL UNICO BOLEITA-CARACAS-DTTO.","CAPITAL"," ","(0412-249-69-24)"," ","RECIBE  LUNES A JUEVES"," 10 AM A 12 PM Y 2 A 5 PM","MARTES","J-30610608-1","M-M 105","89250","No","05","CREDITO 5 DIAS","43","PROLICOR / CELICOR","01","01","DE LICORES CON FZA DE VTA","01","OFF PREMISSE","01","OFF PREMISSE","43","43","01-CARLOS DA SILVA -FRANQUICIAS PROLICOR/CELICOR","RECIBE  LUNES A JUEVES  10 AM A 12 PM Y 2 A 5 PM"]
["J306176233","22 - GONZALEZ CARLOS","LICORERIA LA BOTA","LICORERIA LA BOTA","17/10/23","LICORERIA LA BOTA","AV QUINTA MANZANA P, CASA PARCELA","NRO 27 URB NUEVA CARACAS"," ","04241620355"," ","LICORESLABOTA@GMAIL.COM","CARACAS"," "," "," "," ","WILMER AQUINO","FRANKLIN BELLO"," ","LICORERIA LA BOTA","5TA AVENIDA,MANZANA P,URB.NUEVA","CARACAS,LOTE DE TERRENO CASA N 27"," "," ","04241620355"," ","RECIBE LUNES A VIERNES","9:00AM A 3:00PM","DE LUNES A VIERNES","J-30617623-3","15-MN-001501","89250","No","05","CREDITO 5 DIAS","22","CATIA-JUNQUITO","05","18","LICORERIAS/BODEGONES","01","OFF PREMISSE","01","OFF PREMISSE","22","22","02-TORRES VICTOR","RECIBE LUNES A VIERNES 9:00AM A 3:00PM"]
["J306222898","09 - CLIENTE INHABILITADO","EQ. Y AL. EL ANGEL DE LA SUERTE,C.A","KURDA 24","21/07/22ST","EQ. Y AL. EL ANGEL DE LA SUERTE,C.A","AV SAN JUAN BOSCO 3ERA. TRANSVERSAL","CC LA PLACETTE NIVEL P.B LOCAL D","URB ALTAMIRA CARACAS (CHACAO)","0412-6108546"," "," "," "," "," "," ","CAMBIO DE ZONA 34 A 09 21/12/23EP","MARIA CABRAL"," "," ","EQ. Y AL. EL ANGEL DE LA SUERTE,C.A","AV SAN JUAN BOSCO 3ERA TRANSVERSAL","CC LA PLACETTE NIVEL PB LOCAL D","URB ALTAMIRA CARACAS ( CHACAO)"," ","0412-6108546"," ","RECIBE DE LUNES A VIERNES","DE 9:00AM A 4:00PM","MARTES","J-30622289-8","70100000117","82450","No","05","CREDITO 5 DIAS","31","LA CASTELLANA","04","06","BAR/TABER./S. BAR/PUB/TAS","02","ON PREMISSE","02","ON PREMISSE","09","09","01 - GUERRERO SALVADOR","RECIBE DE LUNES A VIERNES DE 9:00AM A 4:00PM"]
["J306329641","09 - CLIENTE INHABILITADO","INVERSIONES LOS RODRIGUEZ ML 2020","INVERSIONES LOS RODRIGUEZ ML 2020"," ","INVERSIONES LOS RODRIGUEZ ML 2020","PROLONGACION AV PPAL RUIZ PINEDA,","A 100 MTS DE MERCAL. GUARENAS"," ","04126187135"," "," ","GUARENAS"," "," "," "," ","ASDRUBAL JARAMILLO","OSCAR HERNANDEZ"," ","INVERSIONES LOS RODRIGUEZ ML 2020","PROLONGACION AV. PPAL RUIZ PINEDA,","A 100 MTS DE MERCAL. GUARENAS"," "," ","04126187135"," "," "," ",null,"J-30632964-1","002-MN-7505","15000","No","05","CREDITO 5 DIAS","11","GUARENAS","05","23","ABASTOS PEQUEÑOS/BODEGAS","01","OFF PREMISSE","01","OFF PREMISSE"," ","09","09 - CLIENTE INHABILITADO","   "]
["J306418482","43 - RIVERO CARLOS","MEGALICOR 3000 LICORES,C.A.","MEGALICOR 3000 LICORES,C.A."," ","MEGALICOR 3000 LICORES,C.A.","AV.BOLIVAR,CENTRO COMERCIAL CCPS","LOCALES 3-4-5 CHARALLAVE-VALLES DEL","TUY-EDO.MIRANDA","(0239) 248.88.19","(0424) 259.44.68","ybacheco.megalicor@gmail.com","CHARALLAVE"," "," "," "," ","DANIEL FIGUERA"," "," ","MEGALICOR 3000 LICORES,C.A.","AV.BOLIVAR,CENTRO COMERCIAL CCPSLOC","ALES 3,4,Y 5-CHARALLAVE-EDO.MIRANDA"," "," ","(0239) 248-16-74"," ","RECIBE  LUNES A JUEVES","10:00 AM A 05:00 PM","JUEVES","J-30641848-2","M-M 775","89250","No","05","CREDITO 5 DIAS","42","PROLICOR / CELICOR","01","01","DE LICORES CON FZA DE VTA","01","OFF PREMISSE","01","OFF PREMISSE","43","43","01-CARLOS DA SILVA -FRANQUICIAS PROLICOR/CELICOR",{"$f":"CONCATENATE(AB2178,\" \",AC2178)","v":"RECIBE  LUNES A JUEVES 10:00 AM A 05:00 PM"}]
["J306465812","22 - GONZALEZ CARLOS","INVERSIONES ALISCOR, C.A.","INVERSIONES ALISCOR, C.A."," ","INVERSIONES ALISCOR, C.A.","AVENIDA EL CUARTEL, NRO. 3812 URB.","CATIA"," ","(0212) 278-64-14"," "," ","CARACAS"," ","HP 84 DIAS AL 19-11-2013 DC 7","HP 84 DIAS AL 19-11-2013 DC 7","CAMBIO A LA ZONA 09 19-09-19 YM","JOSE SADY INFANTE"," "," ","INVERSIONES ALISCOR, C.A.","AVENIDA EL CUARTEL, NRO. 3812 URB.","CATIA"," "," ","(0212) 278-64-14"," "," "," ","MIERCOLES","J-30646581-2","002-MN-7266","89250","Sí","00","CONTADO","22","CATIA-JUNQUITO","06","02","DE LICORES S/FZA DE VTA","01","OFF PREMISSE","01","OFF PREMISSE","22","22","02 - VICTOR TORRES - OFF","   "]
["J306552391","502 - DRA. ALEXI Y. PINT0","COMERCIAL LAS 3 G, C.A.","COMERCIAL LAS 3 G, C.A."," ","COMERCIAL LAS 3 G, C.A.","CALLE LA LAGUNA. CURIEPE. EDIF","NRO 2."," ","0234 - 3237402"," "," ","CURIEPE"," "," "," "," ","MARIA PINHERO"," "," ","COMERCIAL LAS 3 G, C.A.","CALLE LA LAGUNA. CURIEPE. EDIF","NRO 2."," "," ","0234 - 3237402"," ","PASADO A LEGAL DRA. ALEXI","PINTO EL 27-10-11",null,"J-30655239-1","M-N 1172 M-Y","15000","Sí","00","CONTADO","12","BARLOVENTO","06","18","LICORERIAS/BODEGONES","01","OFF PREMISSE","01","OFF PREMISSE"," ","502","01 - CARLOS DA SILVA","PASADO A LEGAL DRA. ALEXI PINTO EL 27-10-11"]
["J306609202","09 - CLIENTE INHABILITADO","ANGELUS, CLUB DISCOTHEQUE, C.A","INVERSIONES BELIMACA, C.A"," ","ANGELUS, CLUB DISCOTHEQUE, C.A","CENTRO COMERCIAL BELLO CAMPO,NIVEL","SOTANO-BELLO CAMPO-CARACAS"," ","NO POSEE","0412 971 88 57","aurelinocomura@hotmail.com","CARACAS"," "," "," ","CAMBIO A LA ZONA 09 23-09-19 YM","DOMINGOS AIRES G."," "," ","ANGELUS, CLUB DISCOTHEQUE, C.A","CENTRO COMERCIAL BELLO CAMPO,NIVEL","SOTANO-BELLO CAMPO -CARACAS"," "," ","02122674906"," ","RECIBE  LUNES A VIERNES"," 10:00AM A 3:00PM",null,"J-30660920-2","C-3769","0","Sí","00","CONTADO","09","CLIENTE INHABILITADO","04","09","DISCOTECAS Y NIGHT CLUBS","02","ON PREMISSE","02","ON PREMISSE","09","09","09 - CLIENTE INHABILITADO","RECIBE  LUNES A VIERNES  10:00AM A 3:00PM"]
["J306611720","17 - TORRES CARLOS","COMERCIAL JORMANO, C.A.","COMERCIAL JORMANO, C.A."," ","COMERCIAL JORMANO, C.A.","CALLE MARIÑO ENTRE BOLIVAR Y SUCRE","10 URBANIZACION BARUTA EDO. MIRANDA"," ","(0212) 945.04.81","(0416) 635.53.65","comercialjormano@gmail.com","CARACAS"," ","2CHED 010914-020915 HP2 7DC","DESBLOQ.080915 P/ERROR 1CD HD","CAMBIO ZONA 15 A 17 17/08/23 LI","MANUEL DA SILVA"," "," ","COMERCIAL JORMANO, C.A.","CALLE MARIÑO ENTRE BOLIVAR Y SUCRE","10 URBANIZACION BARUTA EDO. MIRANDA"," "," "," "," "," RECIBE  LUNES A VIERNES","9:00 AM A 3:00 PM","LUNES","J-30661172-0","B-101-0-0097","89250","No","05","CREDITO 5 DIAS","15","BARUTA","05","21","SUPERMERCADOS/AUTOMERCADO","01","OFF PREMISSE","01","OFF PREMISSE","17","17","01 - GUERRERO SALVADOR - ON"," RECIBE  LUNES A VIERNES 9:00 AM A 3:00 PM"]
["J306717064","09 - CLIENTE INHABILITADO","PROYECTOS ITAVENES, C.A.","PROYECTOS ITAVENES","190514","PROYECTOS ITAVENES, C.A.","CTRA PANAMERICANA. KM.13 CC SENA","NIVEL PB LOCAL 01 SECTOR LOS SALIAS","ZONA POSTAL 1204","(0212) 371-04-91"," "," ","LOS TEQUES"," "," "," ","CAMBIO DE ZONA 25 A 09 211122 LL","JOSE F. GARCES"," "," ","PROYECTOS ITAVENES, C.A.","CTRA PANAMERICANA. KM.13 CC SENA","NIVEL PB LOCAL 01 SECTOR LOS SALIAS","ZONA POSTAL 1204"," ","(0212) 371-04-91"," ","RECIBE DE LUNES A VIERNES","DE 8:00 AM A 6:00 PM","MIERCOLES","J-30671706-4","032-MN-00121","15000","No","05","CREDITO 5 DIAS","09","CLIENTE INHABILITADO","05","19","TIENDAS DE CONVENIENCIA","01","OFF PREMISSE","01","OFF PREMISSE","09","09","09 - CLIENTE INHABILITADO","RECIBE DE LUNES A VIERNES DE 8:00 AM A 6:00 PM"]
["J306885994","71 - OFICINA","GRUPO AERIAT, C.A.","GRUPO AERIAT, C.A."," ","GRUPO AERIAT, C.A.","CALLE 3RA C/C LAS FUENTES EDIF.","EMILIA PB APTO 2. URB. EL PARAISO","CARACAS","0212-461.92.47"," "," ","CARACAS"," "," "," "," "," "," "," ","GRUPO AERIAT, C.A.","CALLE 3RA C/C LAS FUENTES EDIF.","EMILIA PB APTO.2 URB. EL PARAISO","CARACAS"," ","0212-461.92.47"," "," "," ",null,"J-30688599-4","PARTICULAR","2200","No","00","CONTADO","71","OFICINA","06","33","RELACIONADOS","00","ESTANDAR","00","ESTANDAR"," ","71","71 - OFICINA","   "]
["J306928634","11 - PEREIRA GENARO","SUPERMERCADO ROCA AZUL,C.A.","SUPERMERCADO ROCA AZUL,C.A."," ","SUPERMERCADO ROCA AZUL,C.A.","AVENIDA BERMUDEZ Y CALLE SUCRE LOCA","LA Nº 20 Y LOCAL B Nº 18-GUATIRE","EDO.MIRANDA","0212 344 70 02","0212 344 98 53","guatiremiranda@gmail.com","GUATIRE"," "," "," "," ","ABEL DE JESUS","NELSON DE JESUS"," ","SUPERMERCADO ROCA AZUL I,C.A.","AV.MIRANDA CON AV.BERMUDEZ LOCAL Nº","20 Y LOCAL B Nº18-GUATIRE (SUCURSAL","LAS 4 ESQUINAS) EDO.MIRANDA"," ","0212 - 344.42.50"," ","RECIBE  LUNES A VIERNES","9:00 AM A 4:00PM","LUNES","J-30692863-4","002 MN 3524","89250","No","05","CREDITO 5 DIAS","16","GUATIRE","05","21","SUPERMERCADOS/AUTOMERCADO","01","OFF PREMISSE","01","OFF PREMISSE","11","11","01 - CARLOS DA SILVA - OFF","RECIBE  LUNES A VIERNES 9:00 AM A 4:00PM"]
["J306995188","09 - CLIENTE INHABILITADO","PREMIER CLUB, C.A.","PREMIER CLUB, C.A."," ","PREMIER CLUB, C.A.","AV. PRINCIPAL DE PLAYA GRANDE CON","CALLE Nº 5 CC MINI CENTRO COMERCIAL","MARIA VIRGINIA NIVEL PLANTA BAJA,","(0212) 355-27-20"," "," ","LA GUAIRA","LA GUAIRA EDO. VARGAS"," "," ","PASO A 01 SUP.JOAN REQUENA 040116","FABIAN PONCE"," "," ","PREMIER CLUB, C.A.","AEROPUERTO INTERNACIONAL PASILLO","AMERICAN AIRLINES ALA OESTE, LA 4TA","PUERTA.","LA GUAIRA EDO. VARGAS","(0212) 355-27-20"," "," "," ","MARTES","J-30699518-8","PARTICULAR","15000","Sí","00","CONTADO","14","LITORAL CENTRAL","06","31","PARTICULAR","01","OFF PREMISSE","01","OFF PREMISSE","09","09","09 - CLIENTE INHABILITADO","   "]
["J307053720","17 - TORRES CARLOS","FRUTERIA LOS POMELOS C.A.","FRUTERIA LOS POMELOS C.A."," ","FRUTERIA LOS POMELOS C.A.","AV PPAL EL CAFETAL SUBIDA LOS","NARANJOS LOCAL 1 URB LOS POMELOS","CARACAS (EL HATILLO MIRANDA)","0212 9857134","17/05/19 YR"," "," "," "," "," ","CAMBIO DE LA ZONA 17 A 17 17/08/23","JOSE LUIS PINTO F","ALVARO DE ANDRADE"," ","FRUTERIA LOS POMELOS C.A.","AV PPAL EL CAFETAL SUBIDA DE LOS","NARANJOS LOCAL 1 URB LOS POMELOS"," "," ","0212 9857134"," ","LUNES A VIERNES 9AM-12PM"," ","DE LUNES A VIERNES","J-30705372-0","EBA 00139-19","89250","No","05","CREDITO 5 DIAS","15","BARUTA","05","18","LICORERIAS/BODEGONES","01","OFF PREMISSE","01","OFF PREMISSE","17","17","01 - GUERRERO SALVADOR - ON","LUNES A VIERNES 9AM-12PM  "]
["J307089717","36  CLIENT-CORPORAT-OFIC.","PROYECTOS 2 TORRES, C.A","PROYECTOS 2 TORRES, C.A"," ","PROYECTOS 2 TORRES, C.A","CENTRO SEGUROS LA PAZ MEZANINA 10","AV.FRANCISCO DE MIRANDA BOLEITA SUR","FRENTE AL BOWLING PIN 5 - CARACAS","(0212) 232-10-79","(0414) 240-49-97"," ","CARACAS"," "," "," "," ","EDGAR RAMON","EVELIN PARRA"," ","PROYECTOS 2 TORRES, C.A.","CENTRO SEGUROS LA PAZ MEZANINA 10","AV.FRANCISCO DE MIRANDA BOLEITA SUR","FRENTE AL BOWLING PIN 5 - CARACAS"," ","(0212) 232-10-79"," ","ENTREGA DE 8:30AM A 12:00","Y DE 2:00 PM A 5:30 PM","JUEVES","J-30708971-7","PARTICULAR","89250","No","05","CREDITO 5 DIAS","36","VTAS.CORPORATIVAS","06","31","PARTICULAR","00","ESTANDAR","00","ESTANDAR"," ","36","71 - OFICINA","ENTREGA DE 8:30AM A 12:00 Y DE 2:00 PM A 5:30 PM"]
["J307142235","22 - GONZALEZ CARLOS","SUPERMERCADO MADRE FATIMA, C.A.","SUPERMERCADO MADRE FATIMA","101013","SUPERMERCADO MADRE FATIMA, C.A.","AV. ANDRES BELLO MARIPEREZ, CENTRO","ANDRES BELLO, TORRE ESTE LOCAL 1"," ","0212 873 65 01","0424 109 12 17","supermercadomadrefatima@gmail.com","CARACAS"," "," ","BLOQ MHP 37 DIAS 31/10/19 YM","BLOQ MAYOR 194 DIAS SEGUI 240222 PH","CARLOS GUILLEN"," "," ","SUPERMERCADO MADRE FATIMA","CALLE CENTRAL ENTRE 1ERA. Y 2DA.DEL","PARQUE C.C. URDANETA LOCAL N 6-7","URB. LOMAS DE URDANETA CATIA"," ","(0212) 873-65-01"," ","RECIBE  LUNES A VIERNES"," 11:00AM A 5:00PM","MIERCOLES","J-30714223-5","15-MN-2016","89250","Sí","00","CONTADO","22","CATIA-JUNQUITO","06","02","DE LICORES S/FZA DE VTA","01","OFF PREMISSE","01","OFF PREMISSE","22","22","02 - VICTOR TORRES - OFF","RECIBE  LUNES A VIERNES  11:00AM A 5:00PM"]
["J307159057","09 - CLIENTE INHABILITADO","ABASTO FAMILIA BELLO,C.A.","ABASTO FAMILIA BELLO,C.A."," ","ABASTO FAMILIA BELLO,C.A.","CALLE PPAL BARRIO NAZARENO GUARENAS","LAS CLAVELLINAS-GUARENAS-EDO.MIRAND","A"," "," "," ","GUARENAS"," "," "," "," ","BELLO CRUZ IGNACIO"," "," ","ABASTO FAMILIA BELLO,C.A.","CALLE PPAL BARRIO NAZARENO GUARENAS","LAS CLAVELLINAS-GUARENAS-EDO.MIRAND","A"," "," "," "," "," ",null,"J-30715905-7","MN 2580","15000","No","05","CREDITO 5 DIAS","11","GUARENAS","05","22","ABASTOS GRANDES","01","OFF PREMISSE","01","OFF PREMISSE","09","09","09 - CLIENTE INHABILITADO","   "]
["J307210761","09 - CLIENTE INHABILITADO","BINGO GALAXIE, C.A.","BINGO GALAXIE, C.A."," ","BINGO GALAXIE, C.A.","PLAZA BRION  C.C. CHACAITONIVEL SOT","ANO LOC. 1-1-B"," "," "," "," ","CARACAS"," "," "," ","CAMBIO A LA ZONA 09 23-09-19 YM","DOMINGOS AIRES GONCA","LVES"," ","BINGO GALAXIE, C.A.","PLAZA BRION  C.C. CHACAITONIVEL SOT","ANO LOC. 1-1-B"," "," "," "," "," "," ",null,"J-30721076-1","PARTICULAR","0","Sí","00","CONTADO","09","CLIENTE INHABILITADO","04","08","HOTELES/CASINOS/BINGOS","02","ON PREMISSE","02","ON PREMISSE","09","09","09 - CLIENTE INHABILITADO","   "]
["J307332743","09 - CLIENTE INHABILITADO","BODEGON 49-61, C.A.","BODEGON 49-61, C.A."," ","BODEGON 49-61, C.A.","CALLE EL MEDIO LOCAL NRO.S/N SECTOR","CAPAYA EDO. MIRANDA"," ","(0416) 322-54-23"," "," ","CAPAYA"," "," ","EN ESPERA INFORME INCOB.POR SUP.01","C/SUP-01 060217 FZA VTAS","LISETT RIVERO","RODRIGUEZ"," ","BODEGON 49-61, C.A.","CALLE EL MEDIO, PARROQUIA CAPAYA,","MUNICIPIO ACEVEDO EDO. MIRANDA"," "," ","(0212)322-54-23"," ","RECIBE DE LUNES A VIERNES","TODO EL DIA","DE LUNES A VIERNES","J-30733274-3","DATMA-034-MN-1036","15000","Sí","00","CONTADO","12","BARLOVENTO","05","18","LICORERIAS/BODEGONES","01","OFF PREMISSE","01","OFF PREMISSE","09","09","09 - CLIENTE INHABILITADO","RECIBE DE LUNES A VIERNES TODO EL DIA"]
["J307389532","23 - HERNANDEZ JOSÉ D.","INVERSIONES JARDIN DE PAOLA, C.A.","LICORERIA JARDIN DE PAOLA"," ","INVERSIONES JARDIN DE PAOLA, C.A.","KM 23 FRENTE A LA PLAZABOLIVAR DEL","JUNQUITO"," ","(0212) 412.19.97","(0414) 323.07.79"," ","JUNQUITO"," "," "," ","CAMBIO EDV 22 AL EDV 23 031122 MYZ","SERGIO RODRIGUEZ","VIEIRA"," ","LICORERIA JARDIN DE PAOLA","KM 23 FRENTE A LA PLAZABOLIVAR DEL","JUNQUITO"," "," ","0212-412.25.08","0414-323.07.79","RECIBE  LUNES A JUEVES"," 09:00 AM A 03:00 PM","LUNES","J-30738953-2","MN-1165","89250","No","05","CREDITO 5 DIAS","22","CATIA-JUNQUITO","06","18","LICORERIAS/BODEGONES","01","OFF PREMISSE","01","OFF PREMISSE","23","23","02 - VICTOR TORRES - OFF","RECIBE  LUNES A JUEVES  09:00 AM A 03:00 PM"]
["J307448121","09 - CLIENTE INHABILITADO","EL BODEGON DEL GORDO DELICATESES,C.","EL BOD DEL GORDO DELICATESES,C.A."," ","EL BODEGON DEL GORDO DELICATESES,C.A.","AV. ANDRES ELOY BLANCO EDIF. YHAIMA","SLOCAL 2 HIGUEROTE"," ","231021"," "," ","HIGUEROTE"," "," "," "," ","JOHAN MEDINA TORREAL","BA"," ","EL BOD DEL GORDO DELICATESES,C.A.","AV. ANDRES ELOY BLANCO EDIF. YHAIMA","SLOCAL 2 HIGUEROTE"," "," "," "," "," "," ",null,"J-30744812-1","MN 1026","15000","No","05","CREDITO 5 DIAS","12","BARLOVENTO","05","18","LICORERIAS/BODEGONES","01","OFF PREMISSE","01","OFF PREMISSE"," ","09","09 - CLIENTE INHABILITADO","   "]
["J307522631","31 - RODRIGUEZ WLADIMIR","PROMOTORA EL CUBANITO,C.A.","PROMOTORA EL CUBANITO,C.A."," ","PROMOTORA EL CUBANITO,C.A.","AVENIDA TRES ENTRE COLOMBIA Y BOULE","VARDGALPON PEREZ BONALDE"," ","4518791"," "," ","CARACAS"," "," "," "," ","JUAN GUERRERO"," "," ","PROMOTORA EL CUBANITO,C.A.","AVENIDA TRES ENTRE COLOMBIA Y BOULE","VARDGALPON PEREZ BONALDE"," "," "," "," "," "," ",null,"J-30752263-1","C-169342","89250","No","05","CREDITO 5 DIAS","33","CENTRO-CANDELARIA","04","07","RESTAURANTES","02","ON PREMISSE","02","ON PREMISSE"," ","31"," ","   "]
["J307538643","09 - CLIENTE INHABILITADO","ALIMENTOS HOLUMA, CA.","BARAKO RESTAURANT LOUNGE"," ","ALIMENTOS HOLUMA, CA.","AV SAN JUAN BOSCO ESQUINA CON 5TA","TRANSV QTA LOS JIMENEZ URB ALTAMIRA"," ","(0212) 264.06.84","(0424) 129.05.73","barako.restaurant@gmail.com","CARACAS - ALTAMIRA"," ","CAMB. V35 AL V31 120319 WP","CAMBIO V-31 vs V-332 200421","CAMBIO DE ZONA V31 A V09 161023 PH","JESUS PITA","ANTONIO PITA"," ","ALIMENTOS HOLUMA, C.A.","AV SAN JUAN BOSCO ESQUINA CON 5TA","TRANSVERSAL QTA LOS JIMENEZ URB","ALTAMIRA"," ","0212 264.06.84"," ","RECIBE MARTES A VIERNES"," 09:00 AM A 11:30 AM","MARTES","J-30753864-3","70100000791","43750","Sí","05","CREDITO 5 DIAS","35","EL ROSAL-CHACAO","04","07","RESTAURANTES","02","ON PREMISSE","02","ON PREMISSE","09","09","09 - INHABILITADO","RECIBE MARTES A VIERNES  09:00 AM A 11:30 AM"]
["J307684623","02 - REQUENA JOHAN - OFF","COMERCIALIZADORA Y DIST.MILTO,C.A.","COMERCIALIZADORA Y DIST.MILTO,C.A."," ","COMERCIALIZADORA Y DIST.MILTO,C.A.","AV.O´HIGGINS,CRUCE CON CALLE 11 Y P","ICHINCHAURB.LA PAZ EL PARAISO,SALID","A AUTOPISTA","4438104"," "," ","CARACAS"," "," "," "," ","GUSTAVO A. SUAREZ DE","LGADO"," ","COMERCIALIZADORA Y DIST.MILTO,C.A.","AV.O´HIGGINS,CRUCE CON CALLE 11 Y P","ICHINCHAURB.LA PAZ EL PARAISO,SALID","A AUTOPISTA"," "," "," ","CLIENTE CERRADO"," ",null,"J-30768462-3","PARTICULAR","89250","Sí","05","CREDITO 5 DIAS","25","LOS TEQUES","04","07","RESTAURANTES","02","ON PREMISSE","02","ON PREMISSE"," ","02"," ","CLIENTE CERRADO  "]
["J307702966","09 - CLIENTE INHABILITADO","FAB. DE MUEBLES FRANCESKA 2000, C.A","FAB. DE MUEBLES FRANCESKA 2000, C.A"," ","FABRICA DE MUEBLES FRANCESKA 2000, C.A.","CARRETERA EL JUNQUITO KM9 CALLE LOS","NISPEROS QTA. CELESTE NRO. S/N ZONA","EL JUNQUITO/LOS NISPEROS","(0212)422-47-67/0033","422-40-96/07-32","scarlet.garcia@mueblesfranceska.com.ve","EL JUNQUITO"," "," "," ","CAMBIO DE ZONA V22 AL V09 190922 FL","ANTONIO NUÑEZ"," "," ","FABRICA DE MUEBLES FRANCESKA 2000,","CARRETERA EL JUNQUITO KM9 CALLE LOS","NISPEROS QTA. CELESTE NRO. S/N ZONA","EL JUNQUITO/LOS NISPEROS"," ","(0212) 422-47-67"," ","RECIBE DE LUNES A VIERNES","09:00AM A 12:00PM","DE LUNES A JUEVES","J-30770296-6","PARTICULAR","15000","No","05","CREDITO 5 DIAS","09","CLIENTE INHABILITADO","06","31","PARTICULAR","01","OFF PREMISSE","01","OFF PREMISSE","09","09","02 - VICTOR TORRES - OFF","RECIBE DE LUNES A VIERNES 09:00AM A 12:00PM"]
["J307800453","502 - DRA. ALEXI Y. PINT0","REPRESENTACIONES EL TREMENDO,S.R.L.","REP EL TREMENDO,S.R.L."," ","REPRESENTACIONES EL TREMENDO,S.R.L.","CASERIO ZARZA Nº 5 CALLE PPAL DE SA","N LUISHOYO DE LA PUERTA FRENTE A RE","ST. ZOGUERO","9420541"," "," ","HOYO DE LA PUERTA"," "," "," "," ","LUIS ANTONIO RODRIGU","EZ"," ","REP EL TREMENDO,S.R.L.","CASERIO ZARZA Nº 5 CALLE PPAL DE SA","N LUISHOYO DE LA PUERTA FRENTE A RE","ST. ZOGUERO"," "," "," "," "," ",null,"J-30780045-3","002-CV/M N 322","0","No","00","CONTADO","30","PARROQUIA EL RECREO","04","07","RESTAURANTES","02","ON PREMISSE","02","ON PREMISSE"," ","502"," ","   "]
["J307945370","09 - CLIENTE INHABILITADO","INVERSIONES HOTEL EDUARD'S, C.A.","INVERSIONES HOTEL EDUARD'S, C.A."," ","INVERSIONES HOTEL EDUARD'S, C.A.","AVENIDA LA PLAYA CON CALLE 1URB ALA","MO MACUTO"," ","(0212) 515-60-00"," "," ","LA GUAIRA"," "," ","CAMBIO DE ZONA 14 A 01 14/02/19BB"," ","ANIBAL E CORREIA T"," "," ","INVERSIONES HOTEL EDUARD'S, C.A.","AVENIDA LA PLAYA CON CALLE 1URB ALA","MO MACUTO"," ","BAJA FRECUENCIA DE COMPRA 12/03/14"," "," ","RECIBE DE LUNES A VIERNES","DE 8:00 AM A 5:00 PM","DE LUNES A JUEVES","J-30794537-0","PARTICULAR","15000","Sí","00","CONTADO","14","LITORAL CENTRAL","06","07","RESTAURANTES","02","ON PREMISSE","02","ON PREMISSE","09","09","09 - CLIENTE INHABILITADO","RECIBE DE LUNES A VIERNES DE 8:00 AM A 5:00 PM"]
["J308004065","35 - PEREZ JOSMAN","LOS PILONES DEL ESTE,C.A.","REST. LOS PILONES DEL ESTE,C.A."," ","REST. LOS PILONES DEL ESTE,C.A.","AV.PPAL DE LAS MERCEDES CRUCE CON","CALLE VALLE ARRIBA, FRENTE AL TOLON"," ","0212 993 38 71","NO POSEE","lospilonesdeleste@hotmail.com","CARACAS"," "," "," ","CAMB DE LA 34 A LA 35 130319 WP","NELSON RODRIGUEZ"," "," ","REST. LOS PILONES DEL ESTE,C.A.","AV.PPAL DE LAS MERCEDES CRUCE CON","CALLE VALLE ARRIBA, FRENTE AL TOLON"," "," "," "," ","RECIBE  LUNES A VIERNES"," 8:00AM A 3:00PM","VIERNES","J-30800406-5","002-C-7566","89250","No","05","CREDITO 5 DIAS","30","PARROQUIA EL RECREO","04","07","RESTAURANTES","02","ON PREMISSE","02","ON PREMISSE","35","35","02 - VICTOR TORRES - ON","RECIBE  LUNES A VIERNES  8:00AM A 3:00PM"]
["J308091758","23 - HERNANDEZ JOSÉ D.","FRIG.Y BODEGON HERMANOS VIEIRA,S.R.","FRIG.Y BOD HERMANOS VIEIRA,S.R.L."," ","FRIG.Y BODEGON HERMANOS VIEIRA,S.R.L.","KM 12 EDIFICIO CARISE, LOCAL B CARR","ETERAVIA EL JUNQUITO"," ","(0212) 422.28.48","(0424) 263.25.48","hermanosvieira@hotmail.com","EL JUNQUITO"," "," ","CAMBIO EDV 22 AL EDV 23 031122 MYZ","BLOQ MAYOR 113 DIAS SEGUI 240222 PH","JOAO LUIS NETO VIEIR","A"," ","FRIG.Y BOD HERMANOS VIEIRA,S.R.L.","KM 12 EDIFICIO CARISE, LOCAL B CARR","ETERAVIA EL JUNQUITO"," "," ","0212-422.28.48","0212-422.48.56","RECIBE  LUNES A VIERNES"," 8 A 12 -  3PM A 5 PM","LUNES","J-30809175-8","M-N 7523","89250","No","05","CREDITO 5 DIAS","22","CATIA-JUNQUITO","06","20","DELICATESES/FRIGO/CHARCUT","01","OFF PREMISSE","01","OFF PREMISSE","23","23","02 - VICTOR TORRES - OFF","RECIBE  LUNES A VIERNES  8 A 12 -  3PM A 5 PM"]
["J308172260","09 - CLIENTE INHABILITADO","GLOBAL UNO LOGISTICS DE VENEZUELA,C","NULL"," ","GLOBAL UNO LOGISTICS DE VENEZUELA,C.A.","AVENIDA FRANCISCO DE MIRANDA TORRE","PROVINCIAL \"A\" PISO 7 OFICINA 7-B C","HACAO","3444218/4116"," "," ","CARACAS"," "," "," "," ","JULIO ROBERTO DAZA"," "," ","NULL","AVENIDA FRANCISCO DE MIRANDA TORRE","PROVINCIAL \"A\" PISO 7 OFICINA 7-B C","HACAO"," "," "," "," "," ",null,"J-30817226-0","PARTICULAR","15000","No","05","CREDITO 5 DIAS","11","GUARENAS","06","28","COMERCIOS","01","OFF PREMISSE","01","OFF PREMISSE"," ","09","09 - CLIENTE INHABILITADO","   "]
["J308215112","25 - OCAMPO O. ROMAY","ABASTO Y LIC. EL CHURRUSCO,  C.A.","ABASTO Y LIC. EL CHURRUSCO,  C.A.","27/6/23 YR","ABASTO Y LIC. EL CHURRUSCO,  C.A.","CALLE EL CHURRUSCO CASA NRO","6 SECTOR EL RETEN LOS TEQUES","LOS TEQUES EDO MIRANDA","0414 - 2528631"," ","ANATERE645@GMAIL.COM","CARACAS"," "," "," "," ","ANA GOMEZ","MANUEL GOMEZ","JESUS GOMES","ABASTO Y LIC. EL CHURRUSCO,  C.A.","CALLE EL CHURRUSCO CASA NRO","6 SECTOR EL RETEN LOS TEQUES,","LOS TEQUES EDO MIRANDA"," ","0414 - 2528631"," ","RECIBE DE LUNES A VIERNES","DE 9:00 AM A 5:00 PM","DE LUNES A VIERNES","J-30821511-2","0002020006","89250","No","05","CREDITO 5 DIAS","25","LOS TEQUES","05","18","LICORERIAS/BODEGONES","01","OFF PREMISSE","01","OFF PREMISSE","25","25","02 - VICTOR TORRES - OFF","RECIBE DE LUNES A VIERNES DE 9:00 AM A 5:00 PM"]
["J308307424","02 - REQUENA JOHAN - OFF","AB. Y LICORERIA PASAJE SAN VICENTE,","AB.Y LICORERIA PASAJE SAN VICENTE,"," ","AB.Y LICORERIA PASAJE SAN VICENTE, C.A.","3ª AV.CALLE BRASIL Y AV.BOLIVAR CEN","TROCOMERCIAL PASAJE SAN VICENTE,PB."," Nº 5,CATIA","0212.870.99.67"," "," ","CARACAS"," "," "," "," ","THEO TEXEIRA"," "," ","AB.Y LICORERIA PASAJE SAN VICENTE,","3ª AV.CALLE BRASIL Y AV.BOLIVAR CEN","TROCOMERCIAL PASAJE SAN VICENTE,PB."," Nº 5,CATIA"," "," "," "," "," ",null,"J-30830742-4","MN-07596","89250","No","05","CREDITO 5 DIAS","22","CATIA-JUNQUITO","05","22","ABASTOS GRANDES","01","OFF PREMISSE","01","OFF PREMISSE"," ","02"," ","   "]
["J308312614","31 - RODRIGUEZ WLADIMIR","PASTI ROMA RESTAURANT","PASTI ROMA RESTAURANT"," ","PASTI ROMA RESTAURANT","PUENTE YANEZ A  TRACABORDO EDIF.DIL","LON P.B. LOCAL 2"," ","561-90-38"," "," ","CARACAS"," "," "," "," ","JAIME MARQUES ESTEBA","N"," ","PASTI ROMA RESTAURANT","PUENTE YANEZ A  TRACABORDO EDIF.DIL","LON P.B. LOCAL 2"," "," "," "," "," "," ",null,"J-30831261-4","PARTICULAR","89250","No","05","CREDITO 5 DIAS","33","CENTRO-CANDELARIA","04","07","RESTAURANTES","02","ON PREMISSE","02","ON PREMISSE"," ","31"," ","   "]
["J308374750","09 - CLIENTE INHABILITADO","INVERSIONES RANTAI, C.A","INNVERSIONES RANTAI, C.A"," ","INVERSIONES RANTAI, C.A","CALLE LOMA SECTOR EL RODEO GUATIREL","OCAL N°1"," ","414/2050971"," "," ","GUATIRE"," "," "," ","BAJA FRECUENCIA DE COMPRA 14/02/14","JOSE GREGORIO MARQUE","Z"," ","INNVERSIONES RANTAI, C.A","CALLE LOMA SECTOR EL RODEO GUATIREL","OCAL N°1"," "," "," "," "," "," ",null,"J-30837475-0","DHM-011-MN-2006","15000","Sí","00","CONTADO","11","GUARENAS","05","18","LICORERIAS/BODEGONES","01","OFF PREMISSE","01","OFF PREMISSE"," ","09","09 - CLIENTE INHABILITADO","   "]
["J308456993","09 - CLIENTE INHABILITADO","INVERSIONES GENTILCORE, C.A.","LA GUACAMAYA"," ","INVERSIONES GENTILCORE, C.A.","CARRETERA VIA NAIGUATA CLUB PUERTO","AZUL A.C.CONCESIONARIO LA GUACAMAYA","LA GUAIRA EDO. VARGAS","(0414) 327-47-11"," "," ","LA GUAIRA"," "," "," ","BAJA FRECUENCIA DE COMPRA 12/03/14","LEONARDO GENTILCORE"," "," ","INVERSIONES GENTILCORE, C.A.","CARRETERA VIA NAIGUATA CLUB PUERTO","AZUL A.C.CONCESIONARIO LA GUACAMAYA","LA GUAIRA EDO. VARGAS"," ","(0414) 327-47-11"," ","DESPACHAR SOLO LOS DIAS","VIERNES",null,"J-30845699-3","EN TRAMITE","15000","Sí","00","CONTADO","14","LITORAL CENTRAL","04","06","BAR/TABER./S. BAR/PUB/TAS","02","ON PREMISSE","02","ON PREMISSE","09","09","09 - CLIENTE INHABILITADO","DESPACHAR SOLO LOS DIAS VIERNES"]
["J308476056","43 - RIVERO CARLOS","LICORES ARAGUANEY 2001, C.A.","LICORES ARAGUANEY 2001"," ","LICORES ARAGUANEY 2001, C.A.","AVENIDA LECUNA, ENTRE VELASQUEZ A","MISERIA LOCAL  93-2 Y 93-3 STA.","ROSALIA","0212 541 02 68","0414 220 44 06","NO POSEE","CARACAS","BLOQ POR MAL HABIT DE PAGO JQ170418","CAMBIO Z 228 AL Z 02 190918GA","CAMBIO A LA ZONA 09 23-09-19 YM","BLOQ SEG P/TRANSF 04022020 WP","JOSE N. DE ABRREU"," "," ","LICORES ARAGUANEY 2001","AVENIDA LECUNA, ENTRE VELASQUEZ A","MISERIA LOCAL  93-2 Y 93-3 STA.","ROSALIA"," ","(0212) 541-02-68"," ","RECIBE  LUNES A VIERNES"," 11:00AM A 5:00PM","LUNES","J-30847605-6","MY-0077","89250","No","05","CREDITO 5 DIAS","23","CENTRO-SAN MARTIN","06","18","LICORERIAS/BODEGONES","01","OFF PREMISSE","01","OFF PREMISSE","43","43","01-CARLOS DA SILVA -FRANQUICIAS PROLICOR/CELICOR","RECIBE  LUNES A VIERNES  11:00AM A 5:00PM"]
["J308566560","02 - REQUENA JOHAN - OFF","LA GATERA LICORERIA,C.A.","LA GATERA LICORERIA,C.A."," ","LA GATERA LICORERIA,C.A.","KM 0 CARRETERA PANAMERICANA COCHELO","CAL UNICO"," ","2018524"," "," ","CARACAS"," "," "," "," ","JAIRO CHING CASTILLO"," "," ","LA GATERA LICORERIA,C.A.","KM 0 CARRETERA PANAMERICANA COCHELO","CAL UNICO"," "," "," "," "," "," ",null,"J-30856656-0","M-N 7541","89250","No","05","CREDITO 5 DIAS","24","CARICUAO","05","18","LICORERIAS/BODEGONES","01","OFF PREMISSE","01","OFF PREMISSE"," ","02"," ","   "]
["J308623652","09 - CLIENTE INHABILITADO","RESTAURANTE TROIKA, C.A","RESTAURANTE SAN PIETRO","290413","RESTAURANTE TROIKA, C.A","CALLE LONDRES ENTRE AV.NEW YORK Y","AV.TRINIDAD,EDF IUS, NIVEL PB LOC-1","URB.LAS MERCEDES,MCPIO BARUTA","0212 993 03 45","NO POSEE","restaurant.troika@gmail.com","CARACAS"," "," ","CAMB DE LA 34 A LA 35 130319 WP","CAMBIO DE ZONA V35 A 09 060422 FL","MAYLIN DEL ROSARIO F"," "," ","RESTAURANTE SAN PIETRO","CALLE LONDRES ENTRE AV.NEW YORK Y","AV.TRINIDAD,EDF IUS, NIVEL PB LOC-1","URB.LAS MERCEDES,MCPIO BARUTA"," ","0212/ 993-03-45"," ","RECIBE  MARTES A VIERNES"," 10:00AM A 4:30PM","JUEVES","J-30862365-2","B-107-0-0327-CVC.","15000","No","05","CREDITO 5 DIAS","09","CLIENTE INHABILITADO","04","06","BAR/TABER./S. BAR/PUB/TAS","02","ON PREMISSE","02","ON PREMISSE","09","09","09 - CLIENTE INHABILITADO","RECIBE  MARTES A VIERNES  10:00AM A 4:30PM"]
["J308649597","09 - CLIENTE INHABILITADO","LIC. CHARCUT.Y DELICAT.RIVEIRA BRAV","LIC. CHAR.Y DELICAT.RIVEIRA BRAVA.C"," ","LIC. CHARCUT.Y DELICAT.RIVEIRA BRAVA.C.A","AV.PPAL DE CAMPO CLARO-URB.CAMPO","CLARO-EDIF. 5 LOCAL B PLANTA BAJA","MCPIO-LIBERTADOR-CARACAS","(0212) 237.39.73"," ","carlosdabreu@hotmail.com","CARACAS"," "," ","CAMBIO V-43 AL V-10 MYZ 16-02-22 FL","CAMBIO DE ZONA 10 A 09 150322 ST","HUMBERTO CARLOS DE A","BREU"," ","LIC. CHAR.Y DELICAT.RIVEIRA BRAVA.C","AV.PPAL DE CAMPO CLARO-URB.CAMPO","CLARO-EDIF. 5 LOCAL B PLANTA BAJA","MCPIO-LIBERTADOR-CARACAS"," "," "," ","RECIBE LUNES A VIERNES","11 AM A 5 PM","JUEVES","J-30864959-7","002-MN-07695","15000","Sí","05","CREDITO 5 DIAS","09","CLIENTE INHABILITADO","05","18","LICORERIAS/BODEGONES","01","OFF PREMISSE","01","OFF PREMISSE","09","09","09 - CLIENTE INHABILITADO","RECIBE LUNES A VIERNES 11 AM A 5 PM"]
["J308734683","502 - DRA. ALEXI Y. PINT0","SUC. CORONEL GUEVARA HILARIO","LICORERIA CAMINO REAL"," ","SUC. CORONEL GUEVARA HILARIO","CALLE MIRANDA,LA VAQUERA,CASA # 6,S","ANTA TERESA"," ","0414.398.60.88"," "," ","SANTA TERESA"," "," "," "," ","MORENO LOPEZ LEONARD","O JOSE"," ","LICORERIA CAMINO REAL","CALLE MIRANDA,LA VAQUERA,CASA # 6,S","ANTA TERESA"," "," "," "," ","PASADO ZONA 01.SUP JHONNY","R. S/SOLIC DEL 11/03/11",null,"J-30873468-3","M-N 128","15000","No","00","CONTADO","14","LITORAL CENTRAL","05","23","ABASTOS PEQUEÑOS/BODEGAS","01","OFF PREMISSE","01","OFF PREMISSE"," ","502","01 - CARLOS DA SILVA","PASADO ZONA 01.SUP JHONNY R. S/SOLIC DEL 11/03/11"]
["J308737518","09 - CLIENTE INHABILITADO","DESARROLLOS FRIDMIQ,C.A.","FRIDAY`S"," ","DESARROLLOS FRIDMIQ,C.A.","FINAL AV. LIBERTADOR CON CALLE ALAM","EDAEDIF.FOLGANA,PISO 2, EL ROSAL-CA","RACAS","0212/2613839/3552427"," "," ","LA GUAIRA"," "," "," ","SUP.01 060114 CLIENTE CERRADO","DAVID EPELBAUM"," "," ","FRIDAY`S","FINAL AV. LIBERTADOR CON CALLE ALAM","EDAEDIF.FOLGANA,PISO 2, EL ROSAL-CA","RACAS"," "," "," "," "," ",null,"J-30873751-8","C 1160","15000","Sí","00","CONTADO","14","LITORAL CENTRAL","06","28","COMERCIOS","02","ON PREMISSE","02","ON PREMISSE"," ","09","09 - CLIENTE INHABILITADO","   "]
["J308820148","09 - CLIENTE INHABILITADO","REPRESENTACIONES EP 2022, C.A.","CAFE FIGS"," ","REPRESENTACIONES EP 2022, C.A.","AV. LUIS ROCHE ENTRE 2DA. Y 1ERA.","TRANSV. AL LOCAL QTA. PALIC NIVELES","PLANTA ALTA Y BAJA NRO. 2,3,4","(0212) 265.85.55"," "," ","CARACAS","ALTAMIRA","DESB- FEBRERO 2014","BLOQ.290916 P/MOROS.MAYOR A 60 DIAS","REEST-V-31 AL V-09 20092019 MYZ"," EDGAR A. PRADA DIAZ","RICARDO GUERRERO"," ","CAFE FIGS","AV. LUIS ROCHE ENTRE 2DA. Y 1ERA.","TRANSV. AL LOCAL QTA. PALIC NIVELES","PLANTA ALTA Y BAJA NRO. 2,3,4","ALTAMIRA","(0212) 265.85.55"," "," "," ","MIERCOLES","J-30882014-8","C07001008070","15000","Sí","00","CONTADO","31","LA CASTELLANA","04","07","RESTAURANTES","02","ON PREMISSE","02","ON PREMISSE","09","09","09 - CLIENTE INHABILITADO","   "]
["J308896225","24 - REYES OSWALDO","INVERSORA G 3 2002,C.A.","LICORERIA INV.G3 2002,C.A."," ","INVERSORA G 3 2002,C.A.","CALLE REAL DE LAS MAYAS SECT LAS MA","YAS CASA Nº 15 COCHE-MCPIO.LIBERTA","DOR-DTTO.CAPITAL","(0212) 682-42-69"," "," ","CARACAS"," "," ","CAMBIO DE ZONA 26 A 24 16/9/19 GT","BLOQ MAYOR 64 DIAS SEGUI 240222 PH","GUSTAVO PINTO"," "," ","LICORERIA INV.G3 2002,C.A.","CALLE REAL DE LAS MAYAS SECTOR LAS","MAYASCASA Nº 15 COCHE-MCPIO.LIBERTA","DOR-DTTO.CAPITAL"," ","(0212) 682-42-69"," ","RECIBE DE LUNES A JUEVES","DE 10:00 AM A 5:00 PM","MARTES","J-30889622-5","M-N 7653","89250","Sí","05","CREDITO 5 DIAS","24","CARICUAO","06","18","LICORERIAS/BODEGONES","01","OFF PREMISSE","01","OFF PREMISSE","24","24","02 - VICTOR TORRES - OFF","RECIBE DE LUNES A JUEVES DE 10:00 AM A 5:00 PM"]
["J308970271","21 - CAÑONGO SAUL","INVERSIONES LA FORTUNA 500 C.A","INVERSIONES LA FORTUNA 500 C.A","280423 LL","INVERSIONES LA FORTUNA 500 C.A","CALLE FRANCISCO ESQUEDA CASA NRO","S/N SECTOR EL PARAPARO PARACOTOS","MIRANDA","(0424) 302-70-68"," ","NELSONRODIGUEZ00250@GMAIL.COM","MIRANDA"," "," "," "," ","NELSON PABON","MARTA LOPEZ"," ","INVERSIONES LA FORTUNA 500 C.A","CALLE PARAPARA ANTES DEL CEMENTERIO","PARACOTOS ESTADO MIRANDA"," "," ","(0424) 302-70-68"," ","RECIBE DE LUNES A VIERNES","8AM A 12PM & 3PM A 5PM","DE LUNES A VIERNES","J-30897027-1","27-00026","89250","No","05","CREDITO 5 DIAS","21","VALLES DEL TUY-21","05","18","LICORERIAS/BODEGONES","01","OFF PREMISSE","01","OFF PREMISSE","21","21","02 - TORRES VICTOR - OFF","RECIBE DE LUNES A VIERNES 8AM A 12PM & 3PM A 5PM"]
["J309001540","09 - CLIENTE INHABILITADO","BODEGON RUMBERO, C.A.","BODEGON RUMBERO, C.A."," ","BODEGON RUMBERO, C.A.","CALLE PAEZ,EDIFICIO TURIAMO, NIVEL","PB LOCAL E URBANIZACIÒN POBLACIÒN","MUNICIPIO CHACAO","0212.267.99.50"," "," ","CHACAO"," "," "," ","CLT SOLICITA DESCT CZ-01 160118","RAUL DA COSTA"," "," ","BODEGON RUMBERO, C.A.","CALLE PAEZ CON ESQ. CALLE ADRIAN RO","DRIGUEZEDIFICIO TURIAMO CHACAO-EDO","MIRANDA"," ","0414.317.54.44"," ","RECIBE DE LUNES A JUEVES","10:00 AM A 5:00 PM","JUEVES","J-30900154-0","70100000387","15000","Sí","00","CONTADO","10","ALTAMIRA-OFF","05","18","LICORERIAS/BODEGONES","01","OFF PREMISSE","01","OFF PREMISSE","09","09","09 - CLIENTE INHABILITADO","RECIBE DE LUNES A JUEVES 10:00 AM A 5:00 PM"]
["J309056360","09 - CLIENTE INHABILITADO","DISTRIBUIDORA PERREGIL 2002 C.A.","DISTRIBUIDORA PERREGIL 2002 C.A."," ","DISTRIBUIDORA PERREGIL 2002 C.A.","CALLE PEDRO LEON TORRE CON ANZOA","TEGUI #6 LOCAL 1-2","GUATIRE -EDO MIRANDA"," "," "," ","GUATIRE","SOLO COMPRA DON JULIAN TRASP.030114","REACT. 090615 7DC S.U."," ","CAMBIO Z-11 A Z-01 05/09/18 GA","JOSE PERREGIL M","YUSMARIS ISTURIZ"," ","DISTRIBUIDORA PERREGIL 2002 C.A.","CALLE PEDRO LEON TORRE CON ANZOA","TEGUI #6 LOCAL 1-2 GUATIRE EDO.","MIRANDA"," "," "," ","RECIBE DE LUNES A JUEVES","9 AM A 1 PM Y 3 A 5 PM","MARTES","J-30905636-0","DHM-009 MY 2008","15000","Sí","00","CONTADO","16","GUATIRE","01","28","COMERCIOS","01","OFF PREMISSE","01","OFF PREMISSE","09","09","09 - CLIENTE INHABILITADO","RECIBE DE LUNES A JUEVES 9 AM A 1 PM Y 3 A 5 PM"]
["J309078224","09 - CLIENTE INHABILITADO","OPERADORA LA URBINA C.A","OPERADORA LA URBINA C.A"," ","OPERADORA LA URBINA C.A","AVENIDA FINAL. AV ROMULO GALLEGOS","ZONA 1. MANZANA E2. EDIF. CADENA","CAPRILE. PISO 2. LOCAL EDIF CADENAS","0212 - 5963711"," "," ","CARACAS"," "," "," ","CAMBIO DE Z 31 A ZONA 09 200919 JA","VANESSA CAMIRRA"," "," ","OPERADORA LA URBINA C.A","CALLE 9 DE LA URBINA. EDIF. FESTEJO","VICTORIA. FRENTE INST ANTONIO JOSE","DE SUCRE. EDIF REJAS ROJAS."," ","0414 - 2896619","5963711"," "," ",null,"J-30907822-4","PARTICULAR","15000","Sí","00","CONTADO","13","PETARE","06","31","PARTICULAR","02","ON PREMISSE","02","ON PREMISSE","09","09","09 - CLIENTE INHABILITADO","   "]
["J309164554","09 - CLIENTE INHABILITADO","BAR RESTAURANT CASA CORTES,C.A.","BAR RESTAURANT CASA CORTES,C.A."," ","BAR RESTAURANT CASA CORTES,C.A.","6TA AVENIDA ENTRE 3RA Y 5TA TRANSVE","RSALALTAMIRA-CHACAO-EDO.MIRANDA"," ","(0212) 264.44.80","(0424) 166.01.70","restaurantcasacortes@gmail.com","CHACAO"," "," ","CAMBIO DE  ZONA 32 A 31 260922  MYZ","CAMBIO DE  ZONA 31 A 09 16/05/23 ST","LUISA GARCIA DE CORT","ES"," ","BAR RESTAURANT CASA CORTES,C.A.","6TA AVENIDA ENTRE 3RA Y 5TA TRANSVE","RSALALTAMIRA-CHACAO-EDO.MIRANDA"," "," "," "," ","RECIBE MARTES A VIERNES"," 09:00 AM A 11:30 AM","MIERCOLES","J-30916455-4","C 5608","15000","No","05","CREDITO 5 DIAS","31","LA CASTELLANA","04","06","BAR/TABER./S. BAR/PUB/TAS","02","ON PREMISSE","02","ON PREMISSE","09","09","09 - CLIENTE INHABILITADO","RECIBE MARTES A VIERNES  09:00 AM A 11:30 AM"]
["J309165259","09 - CLIENTE INHABILITADO","SUCESION DA SILVA DE GOIS MANUEL","BAR REST.BAUTISMO SUC."," ","SUC.DA SILVA D.GOIS M(B/R.EL BAUTISMO S.","CALLE SANTA ROSALIA CON CALLE LIDIC","ENº 18.MNCP.ZAMORA-ARAIRA-EDO.MIRAN","DA"," "," "," ","ARAIRA"," "," "," "," ","JOSE MANUEL DA SILVA"," "," ","BAR REST.BAUTISMO SUC.","CALLE SANTA ROSALIA CON CALLE LIDIC","ENº 18.MNCP.ZAMORA-ARAIRA-EDO.MIRAN","DA"," "," "," "," "," ",null,"J-30916525-9","C 454","15000","No","05","CREDITO 5 DIAS","11","GUARENAS","04","06","BAR/TABER./S. BAR/PUB/TAS","02","ON PREMISSE","02","ON PREMISSE","09","09","09 - CLIENTE INHABILITADO","   "]
["J309217615","09 - CLIENTE INHABILITADO","ABASTO Y LICORERIA EDUVI 522, C.A.","ABASTO Y LICORERIA EDUVI 522","120413","ABASTO Y LICORERIA EDUVI 522, C.A.","AV VIA LAGUNETICA CARRETER NACIONAL","CASA Nº. S/N SECTOR LAS DALIAS, LOS","TEQUES","(0212) 525-01-11","(0212) 323-32-14"," ","LOS TEQUES"," ","2CD 170215-180216 HP6 DC7 HD","PASADO A SUP 02 200117 HD","CAMBIO A ZONA 09 19-09-19 YM","MANUEL DOS SANTOS"," "," ","ABASTO Y LICORERIA EDUVI 522","AV VIA LAGUNETICA CARRETER NACIONAL","CASA Nº. S/N SECTOR LAS DALIAS, LOS","TEQUES"," ","(0212) 525-01-11"," ","RECIBE DE LUNES A JUEVES","10:00AM A 3:00PM","LUNES","J-30921761-5","DH-88350","0","Sí","00","CONTADO","09","CLIENTE INHABILITADO","06","18","LICORERIAS/BODEGONES","01","OFF PREMISSE","01","OFF PREMISSE","09","09","09 - CLIENTE INHABILITADO","RECIBE DE LUNES A JUEVES 10:00AM A 3:00PM"]
["J309318101","21 - CAÑONGO SAUL","CCIAL S.FCO. DE PADUA YARE 1000,C.A","CCIAL S.FCO. DE PADUA YARE 1000,C.A","2392229344","CCIAL S.FCO. DE PADUA YARE 1000,C.A","CALLE RIBAS CASA NRO 14 ZONA CASCO","CENTRAL -SAN FCO.DE YARE MPIO.","SIMON BOLIVAR-VALLES DEL TUY","(0239) 222.93.44","(0412) 201.80.61","jfernandez2010@hotmail.com","SAN FCO.DE YARE","EDO. MIRANDA"," ","DESBLOQ X BUEN COMPORT 05/09/19 JA","CAMBIO DE ZONA 43 A 21 21/6/21 GT","JOAO FERNANDES PESTA","NA","ROSALINA FERNANDES P","CCIAL S.FCO. DE PADUA YARE 1000,C.A","CALLE RIBAS CASA N° 14 ZONA CASCO","CENTRAL-SAN FCO. DE YARE MPIO.","SIMON BOLIVAR-VALLES DEL TUY","EDO. MIRANDA.","(0239) 222-98-89"," ","RECIBE  LUNES A JUEVES","10::00 AM A 05:00 PM","JUEVES","J-30931810-1","Y-1212-MN-022-Y","89250","No","05","CREDITO 5 DIAS","42","PROLICOR / CELICOR","05","18","LICORERIAS/BODEGONES","01","OFF PREMISSE","01","OFF PREMISSE","21","21","02 - VICTOR TORRES","RECIBE  LUNES A JUEVES 10::00 AM A 05:00 PM"]
["J309407015","09 - CLIENTE INHABILITADO","DISTRIBUIDORA TROPI CENTRO, C.A.","DISTRIBUIDORA TROPI CENTRO, C.A."," ","DISTRIBUIDORA TROPI CENTRO, C.A.","VIA SAN DIEGO SECTOR YERBABUENACARR","IZAL-EDO.MIRANDA"," ","8333140"," "," ","EDO.MIRANDA"," "," "," ","CAMBIO Z - 31 A Z - 09 200919 GA","NULL"," "," ","DISTRIBUIDORA TROPI CENTRO, C.A.","VIA SAN DIEGO SECTOR YERBABUENACARR","IZAL-EDO.MIRANDA"," "," "," "," ","TRASP.AL 03.SUP.CARLOS DA","SILVA S/SOLIC 08/02/11",null,"J-30940701-5","PARTICULAR","15000","Sí","00","CONTADO","32","SUCRE - BARUTA","01","01","DE LICORES CON FZA DE VTA","02","ON PREMISSE","02","ON PREMISSE","09","09","09 - CLIENTE INHABILITADO","TRASP.AL 03.SUP.CARLOS DA SILVA S/SOLIC 08/02/11"]
["J309444514","02 - REQUENA JOHAN - OFF","GRUPO 7041,C.A.","GRUPO 7041,C.A.(FTE DE SODA DON BLA"," ","GRUPO 7041,C.A.(FUENTE DE SODA DON BLAS)","CENTRO COMERCIAL DON BLAS A 50 MTS","DELA REDOMA DE SAN ANTONIO DE LOS A","LTOS","0212.373.45.59"," "," ","LOS TEQUES"," "," "," "," ","YENNY VIEIRA"," "," ","GRUPO 7041,C.A.(FTE DE SODA DON BLA","CENTRO COMERCIAL DON BLAS A 50 MTS","DELA REDOMA DE SAN ANTONIO DE LOS A","LTOS"," "," "," ","BAJA ROTACION","FEC.BLOQUEO 06-05-2011",null,"J-30944451-4","032 C-3389","89250","No","05","CREDITO 5 DIAS","25","LOS TEQUES","04","07","RESTAURANTES","02","ON PREMISSE","02","ON PREMISSE"," ","02"," ","BAJA ROTACION FEC.BLOQUEO 06-05-2011"]
["J309521888","09 - CLIENTE INHABILITADO","INVERSIONES LOMAC 2011, C.A.","LOS COCOS"," ","INVERSIONES LOMAC 2011, C.A.","CARRETERA VIA NAIGUATA CLUB PUERTO","AZUL A.C. CONCESIONARIO LOS COCOS","LA GUAIRA EDO. VARGAS","(0424) 617-72-70"," "," ","LA GUAIRA"," "," "," ","CAMBIO Z14 A SUP 01 20/12/18 ZP","JOAO DE ABREU"," "," ","INVERSIONES LOMAC 2011, C.A.","CARRETERA VIA NAIGUATA CLUB PUERTO","AZUL A.C. CONCESIONARIO LOS COCOS","LA GUAIRA EDO. VARGAS"," ","(0424) 617-72-70"," ","RECIBE DE LUNES A VIERNES","DE 10:00 AM A 6:00 PM","VIERNES","J-30952188-8","EN TRAMITES","15000","Sí","00","CONTADO","14","LITORAL CENTRAL","04","06","BAR/TABER./S. BAR/PUB/TAS","02","ON PREMISSE","02","ON PREMISSE","09","09","09 - CLIENTE INHABILITADO","RECIBE DE LUNES A VIERNES DE 10:00 AM A 6:00 PM"]
["J309594800","02 - REQUENA JOHAN - OFF","NICO´S BURGUERS, C.A.","NICO´S BURGUERS, C.A."," ","NICO´S BURGUERS, C.A.","CALLE GUAICAIPURO CENTRO COMERCIAL","MIRANDALOCAL N°1 CRUCE CON CALLE MI","RANDA-LOS TEQUES","0212-323-91-06"," "," ","LOS TEQUES"," "," "," "," ","YUSELY Y. RODRIGUEZ","REYES"," ","NICO´S BURGUERS, C.A.","CALLE GUAICAIPURO CENTRO COMERCIAL","MIRANDALOCAL N°1 CRUCE CON CALLE MI","RANDA-LOS TEQUES"," "," "," ","TRASPASO ZONA 02. SEGUN","SOLICITUD DEL 18/02/11",null,"J-30959480-0","PARTICULAR","89250","No","05","CREDITO 5 DIAS","25","LOS TEQUES","04","06","BAR/TABER./S. BAR/PUB/TAS","02","ON PREMISSE","02","ON PREMISSE"," ","02"," ","TRASPASO ZONA 02. SEGUN SOLICITUD DEL 18/02/11"]
["J309662481","09 - CLIENTE INHABILITADO","HIPERMERCADO GRAN FUTUROII 2008, CA","HIPERMERCADO GRAN FUTUROII 2008, CA"," ","HIPERMERCADO GRAN FUTUROII 2008, CA","CALLE RAFAEL AREVALO GONZALEZ","LOCAL GALPON Nº  4 SECTOR RIO CHICO","EDO.MIRANDA","(0234) 872.45.92","S/SOL 04/04/2013"," ","RIO CHICO"," "," "," "," ","QIFENG FENG"," "," ","HIPERMERCADO GRAN FUTUROII 2008, CA","CALLE RAFAEL AREVALO GONZALEZ","LOCAL GALPON Nº  4 SECTOR RIO CHICO","EDO.MIRANDA (CALLE NUEVA)"," ","(0234) 828-27-12"," ","CLIENTE CAMBIO DE RIF Y","RAZON SOCIAL",null,"J-30966248-1","URCH-034-MN-1.155","15000","No","05","CREDITO 5 DIAS","12","BARLOVENTO","01","01","DE LICORES CON FZA DE VTA","01","OFF PREMISSE","01","OFF PREMISSE"," ","09","09 - CLIENTE INHABILITADO","CLIENTE CAMBIO DE RIF Y RAZON SOCIAL"]
["J309676202","502 - DRA. ALEXI Y. PINT0","COMERCIALIZADORA LOS LAURELES, C.A.","RESTAURANT AERO MIMIS"," ","COMERCIALIZADORA LOS LAURELES, C.A.","AV.PPAL TERMINAL NACIONAL ENTRE EJE","81-83 F.H Nº NIVEL 3 SECTOR","AEROPUERTO NACIONAL DE","0212.3552019"," "," ","VARGAS-MAIQUETIA","MAIQUETIA-VARGAS"," "," "," ","WILLIAM JOSE HERNAND"," "," ","RESTAURANTE MIMIS","COMERCIALIZADORA LOS LAURELES, C.A.","AV.PPAL TERMINAL NACIONAL ENTRE","EJES 81-83 F.H Nº NIVEL 3 SECTOR","AEROPUERTO NACIONAL MAIQUETIA","0212.3552019"," ","Bs. 2.303,42 LLEVADO A","INCOBRABLE 30-12-10",null,"J-30967620-2","C-031-CYC.417","0","No","00","CONTADO","21","VALLES DEL TUY-21","04","07","RESTAURANTES","02","ON PREMISSE","02","ON PREMISSE"," ","502"," ","Bs. 2.303,42 LLEVADO A INCOBRABLE 30-12-10"]
["J309747592","09 - CLIENTE INHABILITADO","EL BODEGON PETAREÑO,C.A.","LICORERIA EL BODEGON PETAREÑO,C.A."," ","LICORERIA EL BODEGON PETAREÑO,C.A.","AV.PPAL DE LA URBINA AL LADO DEL TE","RMINALGUARENAS"," ","(0212) 238.73.86","(0414) 300.21.16"," ","PETARE","2CD 230515-240516 HP8 DC7 HD","BLOQ.SEGUI/TRANSF 100918 MYZ","DESBLOQ.SEGUI/TRANSF 29/08/19 JA","CAMBIO DE ZONA 13 A 09 16/5/23 YR","ARLINDO DE ANDRADE D","E ANDRADE"," ","LICORERIA EL BODEGON PETAREÑO,C.A.","AV.PPAL DE LA URBINA AL LADO DEL TE","RMINALGUARENAS"," "," "," "," ","RECIBE  LUNES A JUEVES","09:00 AM A 03:00 PM","MARTES","J-30974759-2","002 MN 07680","15000","No","05","CREDITO 5 DIAS","13","PETARE","05","18","LICORERIAS/BODEGONES","01","OFF PREMISSE","01","OFF PREMISSE","09","09","09 - CLIENTE INHABILITADO","RECIBE  LUNES A JUEVES 09:00 AM A 03:00 PM"]
["J309830015","02 - REQUENA JOHAN - OFF","THE GREEN KNIGHT DISTRIBUIDORA,C.A.","THE GREEN KNIGHT DISTRIBUIDORA,C.A."," ","THE GREEN KNIGHT DISTRIBUIDORA,C.A.","CALLE EL TIGRO,EDIFICIO LAS 4 P.,PI","SO 1ZONA INDUSTRIAL CARRIZAL"," ","212,7147807"," "," ","SAN ANTONIO"," "," "," "," ","BRILIMAR MERIDA A."," "," ","THE GREEN KNIGHT DISTRIBUIDORA,C.A.","CALLE EL TIGRO,EDIFICIO LAS 4 P.,PI","SO 1ZONA INDUSTRIAL CARRIZAL"," "," "," "," "," "," ",null,"J-30983001-5","M-Y 60","89250","No","05","CREDITO 5 DIAS","25","LOS TEQUES","04","07","RESTAURANTES","02","ON PREMISSE","02","ON PREMISSE"," ","02"," ","   "]
["J309923986","09 - CLIENTE INHABILITADO","IBERO AMERICANA LICORES, C.A.","IBERO AMERICANA LICORES, C.A.","091115","IBERO AMERICANA LICORES, C.A.","CARRETERA NACIONAL GUARENAS-GUATIRE","LOCAL GALPON 1 SECTOR SOL DE ITALIA","PARCELAMIENTO INDUSTRIAL PARINZA","(0212) 381-14-06","(0414) 916-75-24"," ","GUATIRE","GUATIRE EDO. MIRANDA","REACT. 09-11-2015 S.U.","CLT NO COMPRARA YA QUE PIDEN UN POR","CENTAJE POR SER MAYORISTA 160118","RICARDO AGUSTIN DOS","RAMOS REYES"," ","IBERO AMERICANA LICORES,C.A.","CARRETERA NACIONAL GUARENAS-GUATIRE","LOCAL GALPON 1 SECTOR SOL DE ITALIA","PARCELAMIENTO INDUSTRIAL PARINZA","GUATIRE EDO. MIRANDA","(0212) 381-14-06"," ","RECIBE DE LUNES A JUEVES","9 AM A 12 M Y 2 A 4 PM","MARTES","J-30992398-6","002-MY-07598","15000","Sí","00","CONTADO","11","GUARENAS","01","01","DE LICORES CON FZA DE VTA","01","OFF PREMISSE","01","OFF PREMISSE","09","09","09 - CLIENTE INHABILITADO","RECIBE DE LUNES A JUEVES 9 AM A 12 M Y 2 A 4 PM"]
["J309959018","502 - DRA. ALEXI Y. PINT0","RESTAURANT DE LA ORDEN,C.A.","RESTAURANT DE LA ORDEN,C.A."," ","RESTAURANT DE LA ORDEN,C.A.","AVENIDA CASANOVA EDIFICIO EUROCENTR","OP11 OFICINA 11-3-CHACAITO-CARACAS"," "," "," "," ","GUARENAS"," "," "," "," ","NAVAS SILVA ANGEL DE"," JESUS"," ","RESTAURANT DE LA ORDEN,C.A.","AVENIDA CASANOVA EDIF. EUROCENTRO","P11 OFICINA 11-3-CHACAITO-CARACAS"," "," "," "," ","BLOQUEO PASO A LEGAL","DRA.ALEXI PINTO 06-02-12",null,"J-30995901-8","004-C-000014","15000","No","00","CONTADO","11","GUARENAS","04","07","RESTAURANTES","02","ON PREMISSE","02","ON PREMISSE"," ","502","01 - CARLOS DA SILVA","BLOQUEO PASO A LEGAL DRA.ALEXI PINTO 06-02-12"]
["J310008540","11 - PEREIRA GENARO","INVERSIONES LOS MICHEROS, C.A","INVERSIONES LOS MICHEROS, C.A"," ","INVERSIONES LOS MICHEROS, C.A","AVENIDA PRINCIPAL DE RUIZ PINEDA.","LOCAL-7,GUARENAS-MCPIO.PLAZA-","EDO.MIRANDA","(0212) 365.13.38"," ","inv.losmicheros@hotmail.com","GUARENAS"," "," "," "," ","RICHARD G. MORALES R"," "," ","INVERSIONES LOS MICHEROS, C.A","AVENIDA PRINCIPAL DE RUIZ PINEDA,ZO","NA1,LOCAL L-7,GUARENAS-MCPIO.PLAZA-","EDO.MIRANDA"," ","0212.365.13.38"," ","RECIBE  LUNES A VIERNES","11:00 AM A 4:00 PM","MARTES","J-31000854-0","006-MM-0012","89250","No","05","CREDITO 5 DIAS","11","GUARENAS","05","18","LICORERIAS/BODEGONES","01","OFF PREMISSE","01","OFF PREMISSE","11","11","01 - CARLOS DA SILVA - OFF","RECIBE  LUNES A VIERNES 11:00 AM A 4:00 PM"]
["J310118710","02 - REQUENA JOHAN - OFF","BODEGON LOS ARI`S J.J,C.A.","BODEGON LOS ARI`S J.J,C.A."," ","BODEGON LOS ARI`S J.J,C.A.","AVENIDA PRINCIPAL DE SAN ANTONIO CE","NTRO COMERCIALDON BLAS EDIFICIO INE","S LOCAL A","3722824"," "," ","SAN ANTONIO"," "," "," "," ","AARON ALEJANDRO ARIS","TIMUÑO DIAZ"," ","BODEGON LOS ARI`S J.J,C.A.","AVENIDA PRINCIPAL DE SAN ANTONIO CE","NTRO COMERCIALDON BLAS EDIFICIO INE","S LOCAL A"," "," "," ","TRASPASO ZONA 02. SEGUN","SOLICITUD DEL 18/02/11",null,"J-31011871-0","M-N 165","89250","No","05","CREDITO 5 DIAS","25","LOS TEQUES","05","18","LICORERIAS/BODEGONES","01","OFF PREMISSE","01","OFF PREMISSE"," ","02"," ","TRASPASO ZONA 02. SEGUN SOLICITUD DEL 18/02/11"]
["J310187720","09 - CLIENTE INHABILITADO","INVERSIONES ROSAL, 4154, S.A.","RESTAURANT SAN MARCOS"," ","INVERSIONES ROSAL, 4154, S.A.","CENTRO CCIAL LA FLORIDA C-1 LOCAL C","-8URB LA FLORIDA"," ","7306689/7316717"," "," ","CARACAS"," "," "," ","CTE INHAB Z-09 200919 WP","ROLANDO NENEGHETTI"," "," ","RESTAURANT SAN MARCOS","CENTRO CCIAL LA FLORIDA C-1 LOCAL C","-8URB LA FLORIDA"," "," "," "," "," "," ",null,"J-31018772-0","PARTICULAR","15000","Sí","00","CONTADO","32","SUCRE - BARUTA","04","06","BAR/TABER./S. BAR/PUB/TAS","02","ON PREMISSE","02","ON PREMISSE","09","09","09 - CLIENTE INHABILITADO","   "]
["J310192022","31 - RODRIGUEZ WLADIMIR","INVERSIONES JACABEL,C.A.","STEEL BEAR"," ","INVERSIONES JACABEL,C.A.","AV. PPAL DE LAS MERCEDES C.C. SHOPI","NG MALLP.B. LOCAL 06"," "," "," "," ","CARACAS"," "," "," "," ","JULIO CESAR RODRIGUE","Z"," ","STEEL BEAR","AV. PPAL DE LAS MERCEDES C.C. SHOPI","NG MALLP.B. LOCAL 06"," "," "," "," "," "," ",null,"J-31019202-2","PARTICULAR","89250","No","05","CREDITO 5 DIAS","30","PARROQUIA EL RECREO","04","06","BAR/TABER./S. BAR/PUB/TAS","02","ON PREMISSE","02","ON PREMISSE"," ","31"," ","   "]
["J310256470","11 - PEREIRA GENARO","INVERSIONES BRIBOI, C.A.","INVERSIONES BRIBOI, C.A."," ","INVERSIONES BRIBOI, C.A.","VALLE VENEZUELA VIA LOS CANALES","ESTACION DE SERVICIOS LLANO PETROL","RIO CHICO - EDO. MIRANDA","0234 872 46 64","0414 161 53 65","ambar16_93@hotmail.com","RIO CHICO"," "," ","BLOQX FACT VENC A27 DIAS 281019 JA","DESBLOQ 5 CREDIT HP5 29012020 JA","RONNY QUERALES"," "," ","INVERSIONES BRIBOI, C.A.","CALLE VENEZUELA,VIA LOS CANALES","ESTACION DE SERVICIO LLANO PETROL","RIO CHICO - EDO. MIRANDA"," ","(0234)872.49.95"," ","RECIBE  LUNES A VIERNES"," 9:00 AM A 6:00 PM","MARTES","J-31025647-0","MN 970","89250","No","05","CREDITO 5 DIAS","12","BARLOVENTO","05","19","TIENDAS DE CONVENIENCIA","01","OFF PREMISSE","01","OFF PREMISSE","11","11","01 - CARLOS DA SILVA - OFF","RECIBE  LUNES A VIERNES  9:00 AM A 6:00 PM"]
["J310340382","502 - DRA. ALEXI Y. PINT0","INVERSIONES LA ENCOMEADA,C.A.","INVERSIONES LA ENCOMEADA,C.A."," ","INVERSIONES LA ENCOMEADA,C.A.","AV. LUIS DE CAMOES ENTRADA URB MACA","RACUAYLA GUAIRITA CENTRO PORTUGUES"," ","0412-2154318"," "," ","CARACAS"," "," "," "," ","DE FREITAS DE SOUSA","JOSE ANTONIO","MANUEL SAN MARTIN","INVERSIONES LA ENCOMEADA,C.A.","AV. LUIS DE CAMOES ENTRADA URB MACA","RACUAYLA GUAIRITA CENTRO PORTUGUES"," "," "," "," ","BLOQUEADO PASO A LEGAL","DRA. LEXI PINTO 23-04-12",null,"J-31034038-2","PARTICULAR","0","No","00","CONTADO","30","PARROQUIA EL RECREO","04","10","CLUB SOCIALES","02","ON PREMISSE","02","ON PREMISSE"," ","502"," ","BLOQUEADO PASO A LEGAL DRA. LEXI PINTO 23-04-12"]
["J310419639","502 - DRA. ALEXI Y. PINT0","INVERSIONES APAVE.ES,C.A.","LA PIAZZA"," ","INVERSIONES APAVE.ES,C.A.","AEROPUERTO INTERNACIONAL ZONA PUBLI","CA NIV -3ENTRE EJES 26 Y 27 B-E"," ","3552553"," "," ","LA GUAIRA"," "," "," "," ","ROSA ANA SANTILLI RO","SSI"," ","LA PIAZZA","AEROPUERTO INTERNACIONAL ZONA PUBLI","CA NIV -3ENTRE EJES 26 Y 27 B-E"," "," "," "," "," "," ",null,"J-31041963-9","C 1204","0","No","00","CONTADO","21","VALLES DEL TUY-21","04","06","BAR/TABER./S. BAR/PUB/TAS","02","ON PREMISSE","02","ON PREMISSE"," ","502"," ","   "]
["J310438285","09 - CLIENTE INHABILITADO","BODEGON LA PLANADA,C.A.","BODEGON LA PLANADA,C.A."," ","BODEGON LA PLANADA,C.A.","CALLE REAL DE CARAYACA SECTOR LA PL","ANADACENTRO COMERCIAL CARAYACA LOCA","L Nº 3","3361282"," "," ","LA GUAIRA"," "," "," ","CAMBIO DE ZONA 14 A 09 16/05/23 ST","JOSE ANTONIO DOS SAN","TOS H."," ","BODEGON LA PLANADA,C.A.","CALLE REAL DE CARAYACA SECTOR LA PL","ANADACENTRO COMERCIAL CARAYACA LOCA","L Nº 3"," "," "," ","RECIBE DE LUNES A VIERNES","DE 8:00 AM A 5:00 PM","LUNES","J-31043828-5","M-N 1192","15000","No","05","CREDITO 5 DIAS","14","LITORAL CENTRAL","05","18","LICORERIAS/BODEGONES","01","OFF PREMISSE","01","OFF PREMISSE","09","09","09 - CLIENTE INHABILITADO","RECIBE DE LUNES A VIERNES DE 8:00 AM A 5:00 PM"]
["J310495688","31 - RODRIGUEZ WLADIMIR","SIN BANDERA,C.A.","SIN BANDERA,C.A. (LA ROMAN. TOLON)"," ","SIN BANDERA,C.A.","AVENIDA NICOLAS COPERNICOC.C. EL TO","LON P.B. 34 LAS MERCEDES"," ","3008795"," "," ","CARACAS"," "," "," "," ","FREICER ALMEIDA"," "," ","SIN BANDERA,C.A. (LA ROMAN. TOLON)","AVENIDA NICOLAS COPERNICOC.C. EL TO","LON P.B. 34 LAS MERCEDES"," "," "," "," ","CERRADO S/SOLIC.2-04-2011","FEC.BLOQUEO 02-05-2011",null,"J-31049568-8","PARTICULAR","89250","No","05","CREDITO 5 DIAS","30","PARROQUIA EL RECREO","04","06","BAR/TABER./S. BAR/PUB/TAS","02","ON PREMISSE","02","ON PREMISSE"," ","31"," ","CERRADO S/SOLIC.2-04-2011 FEC.BLOQUEO 02-05-2011"]
["J310550611","09 - CLIENTE INHABILITADO","VINATERIA LA VIÑA DEL SEÑOR,C.A.","VINATERIA LA VIÑA DEL SEÑOR,C.A."," ","VINATERIA LA VIÑA DEL SEÑOR,C.A.","CALLE BLANDIN CON SANTA TERESA DE J","ESUS C/C SANSAN IGNACIO NIVEL TERRA","ZA LOCAL T-45 LA CASTELLANA","9443494"," "," ","CARACAS"," "," "," ","REEST-V-31 AL V-09 20092019 MYZ","LUIS ELIAS RODRIGUEZ"," PATRON"," ","VINATERIA LA VIÑA DEL SEÑOR,C.A.","CALLE BLANDIN CON SANTA TERESA DE J","ESUS C/C SANSAN IGNACIO NIVEL TERRA","ZA LOCAL T-45 LA CASTELLANA"," "," "," "," "," ",null,"J-31055061-1","PARTICULAR","15000","Sí","00","CONTADO","31","LA CASTELLANA","04","06","BAR/TABER./S. BAR/PUB/TAS","02","ON PREMISSE","02","ON PREMISSE","09","09","09 - CLIENTE INHABILITADO","   "]
["J310614679","02 - REQUENA JOHAN - OFF","DISTRIBUIDORA TIERRA NUESTRA, C.A.","DISTRIBUIDORA TIERRA NUESTRA, C.A."," ","DISTRIBUIDORA TIERRA NUESTRA, C.A.","AVENIDA OESTE 18 ESQUINA DOLORES A","BARCENAS EDF. TC PISO P.B. LOCAL PB","URB. QUINRA CRESPO","(0212) 481-27-89"," "," ","CARACAS","CARACAS DTTO. CAPITAL"," "," "," ","JOAO DA SILVA B."," "," ","DISTRIBUIDORA TIERRA NUESTRA, C.A.","AVENIDA OESTE 189 ESQUINA DOLORES A","BARCENAS EDF. TC PISO P.B. LOCAL PB","URB. QUINTA CRESPO","CARACAS DTTO. CAPITAL","(0212) 481-27-89"," "," "," ",null,"J-31061467-9","PARTICULAR","89250","No","05","CREDITO 5 DIAS","20","CENTRO DE CARACAS","05","18","LICORERIAS/BODEGONES","01","OFF PREMISSE","01","OFF PREMISSE"," ","02"," ","   "]
["J310629137","09 - CLIENTE INHABILITADO","LICORERIA LICOREANDO,C.A.","LICORERIA LICOREANDO,C.A."," ","LICORERIA LICOREANDO,C.A.","CENTRO COMERCIAL BELLO CAMPO LOCAL","22CHACAO-CARACAS-EDO.MIRANDA"," ","412-7113513"," "," ","CARACAS"," "," "," "," ","ALVARO FERNANDO ARAN","DA GANCEDO"," ","LICORERIA LICOREANDO,C.A.","CENTRO COMERCIAL BELLO CAMPO LOCAL","22CHACAO-CARACAS-EDO.MIRANDA"," "," "," "," ","TRASP. ZONA 01 SUP.JHONNY","RODRIGUEZ S/SOL.21-02-11",null,"J-31062913-7","M-N 7639","15000","No","05","CREDITO 5 DIAS","13","PETARE","05","18","LICORERIAS/BODEGONES","01","OFF PREMISSE","01","OFF PREMISSE"," ","09","09 - CLIENTE INHABILITADO","TRASP. ZONA 01 SUP.JHONNY RODRIGUEZ S/SOL.21-02-11"]
["J310681112","31 - RODRIGUEZ WLADIMIR","INVERSIONES LA ASIATICA 324,C.A.","INVERSIONES LA ASIATICA 324,C.A."," ","INVERSIONES LA ASIATICA 324,C.A.","AV. PPAL DE LAS MERCEDES C.C. EL TO","LONPISO 5 LOCAL P5-06 BARUTA"," ","3008919 AL 21"," "," ","CARACAS"," "," "," "," ","EDY WERTENSTEIN"," "," ","INVERSIONES LA ASIATICA 324,C.A.","AV. PPAL DE LAS MERCEDES C.C. EL TO","LONPISO 5 LOCAL P5-06 BARUTA"," "," "," "," "," "," ",null,"J-31068111-2","C 7650","89250","No","05","CREDITO 5 DIAS","30","PARROQUIA EL RECREO","04","07","RESTAURANTES","02","ON PREMISSE","02","ON PREMISSE"," ","31"," ","   "]
["J310729646","09 - CLIENTE INHABILITADO","GRUPO GRIGIO 17,C.A.","EL GRILLO RESTAURANT"," ","GRUPO GRIGIO 17,C.A.","2DA AV. CON 4TA TRASNV. C.C. CUPULA","SLOCAL 12 LOS PALOS GRANDES"," ","2867403"," "," ","CARACAS"," "," "," ","REEST-V-31 AL V-09 20092019 MYZ","MAURICIO ARAQUE"," "," ","EL GRILLO RESTAURANT","2DA AV. CON 4TA TRASNV. C.C. CUPULA","SLOCAL 12 LOS PALOS GRANDES"," "," "," "," "," "," ",null,"J-31072964-6","PARTICULAR","15000","Sí","00","CONTADO","31","LA CASTELLANA","04","06","BAR/TABER./S. BAR/PUB/TAS","02","ON PREMISSE","02","ON PREMISSE","09","09","09 - CLIENTE INHABILITADO","   "]
["J310846464","71 - OFICINA","TRADE ORGANIZATION GROUP TOP, C.A.","TRADE ORGANIZATION GROUP TOP, C.A.","26-04-2017","TRADE ORGANIZATION GROUP TOP, C.A.","FINAL AVENIDAD LIBERTADOR, TORRE","XEROX, PISO 10, OFICINA 10-A-11","BELLO CAMPO, CARACAS 1060","0212-261.97.76"," ","mmarrero@theoptionsgrp.com","CARACAS"," "," "," "," ","MERCEDES MARRERO"," "," ","TRADE ORGANIZATION GROUP TOP, C.A.","FINAL AVENIDAD LIBERTADOR, TORRE","XEROX, PISO 10, OFICINA 10-A-11","BELLO CAMPO, CARACAS 1060"," ","0212-262.20.60","0212-262.20.56"," "," ","CONTADO","J-31084646-4","PARTICULAR","2200","No","00","CONTADO","71","OFICINA","06","31","PARTICULAR","00","ESTANDAR","00","ESTANDAR","71","71","71 - OFICINA","   "]
["J310874174","09 - CLIENTE INHABILITADO","INVERSIONES CLAVIR 913, C.A.","TRILICOR"," ","INVERSIONES CLAVIR 913, C.A.","AV. SAN SEBASTIAN C.C. BARUTANIVEL","P.B. LOCAL 16 MCPIO BARUTA"," "," "," "," ","BARUTA"," "," "," "," ","JUAN FREITAS PEREIRA","/MARIA FERNANDEZ"," ","TRILICOR","AV. SAN SEBASTIAN C.C. BARUTANIVEL","P.B. LOCAL 16 MCPIO BARUTA"," "," "," "," "," "," ",null,"J-31087417-4","M-N 7641","15000","No","05","CREDITO 5 DIAS","15","BARUTA","04","06","BAR/TABER./S. BAR/PUB/TAS","02","ON PREMISSE","02","ON PREMISSE"," ","09","09 - CLIENTE INHABILITADO","   "]
["J310910391","09 - CLIENTE INHABILITADO","LICORES RONPLACE, C.A.","LICORES RONPLACE, C.A."," ","LICORES RONPLACE, C.A.","AV.INTERCOMUNAL GUARENAS GUATIRE C.","C.BUENAVENTURA VISTA PLACE P.B. LOC","AL 7","NO POSEE","0424 157 50 08","aacrtucarro@hotmail.com","GUARENAS"," "," ","DESB.CUMPLIO 3 PP 25/04/17 MYZ","CAMBIO DE ZONA 11 A 09 020821 ST","AGUSTIN TABLANTE"," "," ","LICORES RONPLACE, C.A.","AV.INTERCOMUNAL GUARENAS GUATIRE C.","C.BUENAVENTURA VISTA PLACE P.B. LOC","AL 7"," "," "," ","RECIBE  LUNES A VIERNES"," 11:00 AM A 4:00 PM","JUEVES","J-31091039-1","MN-8","15000","No","05","CREDITO 5 DIAS","09","CLIENTE INHABILITADO","05","18","LICORERIAS/BODEGONES","01","OFF PREMISSE","01","OFF PREMISSE","09","09","09 - CLIENTE INHABILITADO","RECIBE  LUNES A VIERNES  11:00 AM A 4:00 PM"]
["J311030328","20 - DIEGO MANUEL","LA KOMILONA DEL OESTE 2004","LA KOMILONA DEL OESTE 2004","24/8/23 YR","LA KOMILONA DEL OESTE 2004","AV. BARALT CON AV. UNIVERSIDAD","CENTRO COMERCIAL METROCENTER NIVEL","FERIA LOCAL S-8 SECTOR CAPITOLIO","0414-3206406"," "," ","CARACAS"," "," "," "," ","DAVID VALERO","RAMRATTIE POORAN"," ","LA KOMILONA DEL OESTE 2004","AV. BARALT CON AV. UNIVERSIDAD","CENTRO COMERCIAL METROCENTER NIVEL","FERIACARACAS LOCAL S-8 CAPITOLIO."," ","0414-3206406"," ","RECIBE DE LUNES A VIERNES","DE 9:00 AM A 4:000 PM","LUNES","J-31103032-8","04-MN-000523 MN","89250","No","05","CREDITO 5 DIAS","20","CENTRO DE CARACAS","05","18","LICORERIAS/BODEGONES","01","OFF PREMISSE","01","OFF PREMISSE","20","20","02 - VICTOR TORRES - OFF","RECIBE DE LUNES A VIERNES DE 9:00 AM A 4:000 PM"]
["J311094652","09 - CLIENTE INHABILITADO","INVERSIONES C.M.A. 22,C.A.","INVERSIONES C.M.A. 22,C.A."," ","INVERSIONES C.M.A. 22,C.A.","CENTRO CCIAL SAN IGNACIO DE LOYOLAN","IVEL CHAGUARAMOS LOCAL CH-40 LA CAS","TELLANA","2654676"," "," ","CARACAS3"," "," "," ","REEST-V-31 AL V-09 20092019 MYZ","ARTURO IGNACIO SISO","SOSA"," ","INVERSIONES C.M.A. 22,C.A.","CENTRO CCIAL SAN IGNACIO DE LOYOLAN","IVEL CHAGUARAMOS LOCAL CH-40 LA CAS","TELLANA"," "," "," "," "," ",null,"J-31109465-2","PARTICULAR","15000","Sí","00","CONTADO","31","LA CASTELLANA","04","06","BAR/TABER./S. BAR/PUB/TAS","02","ON PREMISSE","02","ON PREMISSE","09","09","09 - CLIENTE INHABILITADO","   "]
["J311099956","13 - GUDIÑO FABIAN","INVERSIONES CRF, C.A","INVERSIONES CRF, C.A"," ","INVERSIONES CRF, C.A","AV. PRINCIPAL DE TURUMO C.C RG- LOC","AL01 SUBIENDO POR LA BOMBA-PETARE"," ","(0212) 244.03.58","(0212) 244.11.39","distribuidora.rgl@gmail.com","PETARE"," "," "," "," ","VICENZO GALAGNA GALA","TI"," ","INVERSIONES CRF, C.A","AV. PRINCIPAL DE TURUMO C.C RG- LOC","AL01 SUBIENDO POR LA BOMBA-PETARE"," "," ","(0212) 532-13-02"," ","RECIBE  LUNES A JUEVES","09:00 AM A 04:00 PM","LUNES","J-31109995-6","PARTICULAR","89250","No","05","CREDITO 5 DIAS","13","PETARE","05","18","LICORERIAS/BODEGONES","01","OFF PREMISSE","01","OFF PREMISSE","13","13","01 - CARLOS DA SILVA - OFF","RECIBE  LUNES A JUEVES 09:00 AM A 04:00 PM"]
["J311179607","09 - CLIENTE INHABILITADO","ADM.DE COMEDORES BRION D.R.M.M 2OO4","FIESTA INN"," ","ADM. DE COMEDORES BRION DRMM 2004,C.A.","URB. AGUASAL, PARCELA 17 LOTE ACLUB"," FIESTA INN, HIGUEROTE SECTOR CABOC","ODERA","414/1373636"," "," ","BRION"," "," "," ","PASO A 01 SUP.JOAN REQUENA 040116","DIOMINGO MENDEZ/EDUA","RDO MENDEZ"," ","FIESTA INN","URB. AGUASAL, PARCELA 17 LOTE ACLUB"," FIESTA INN, HIGUEROTE SECTOR CABOC","ODERA"," "," "," "," "," ","MIERCOLES","J-31117960-7","C 759","15000","Sí","00","CONTADO","12","BARLOVENTO","04","10","CLUB SOCIALES","02","ON PREMISSE","02","ON PREMISSE","09","09","09 - CLIENTE INHABILITADO","   "]
["J311228047","22 - GONZALEZ CARLOS","FRIGORIFICO LA CAPILLA, C.A.","FRIGORIFICO LA CAPILLA,C.A.","5/5/22","FRIGORIFICO LA CAPILLA,C.A.","AV. SUCRE DE CATIA, FRENTE A LA","IGLESIA, CALLE CARIBE CON CALLE","EL REFUGIO, CASA N° 356 CARACAS","4125695670/243306750"," ","FRIGORIFICOCAPILLA@GMAIL.COM","CARACAS"," "," "," "," ","MANUEL DE ANDRADE","LOURENCO GONCALVES"," ","FRIGORIFICO LA CAPILLA,C.A.","AV SUCRE DE CATIA, FRENTE A LA","IGLESIA EL CARMEN, CALLE CARIBE CON","CALLE EL REFUGIO CASA N°356 CARACAS"," ","4125695670/243306750"," ","RECIBE DE LUNES A VIERNES","8:00AM A 5:00PM","JUEVES","J-31122804-7","15-MN-001483","89250","No","05","CREDITO 5 DIAS","22","CATIA-JUNQUITO","05","20","DELICATESES/FRIGO/CHARCUT","01","OFF PREMISSE","01","OFF PREMISSE","22","22","02 - VICTOR TORRES - OFF","RECIBE DE LUNES A VIERNES 8:00AM A 5:00PM"]
["J311333037","31 - RODRIGUEZ WLADIMIR","GRUPO ANDALUZ,C.A.","REST. CASA LUCIO"," ","GRUPO ANDALUZ,C.A.","AVENIDA PPAL DE LAS MERCEDESQUINTA","TATI"," ","9911921"," "," ","BARUTA"," "," "," "," ","VIVIAN MARTI FONT"," "," ","REST. CASA LUCIO","AVENIDA PPAL DE LAS MERCEDESQUINTA","TATI"," "," "," "," ","TRASP. ZONA 03 SUP.CARLOS","DA SILVA S/SOLIC.08/02/11",null,"J-31133303-7","PARTICULAR","89250","No","05","CREDITO 5 DIAS","30","PARROQUIA EL RECREO","04","07","RESTAURANTES","02","ON PREMISSE","02","ON PREMISSE"," ","31"," ","TRASP. ZONA 03 SUP.CARLOS DA SILVA S/SOLIC.08/02/11"]
["J311400192","21 - CAÑONGO SAUL","INVERSIONES VINHAL,C.A.","INV. VINHAL,C.A."," ","INVERSIONES VINHAL,C.A.","MERCADO MUNICIPAL DE CIUDAD LOZADA,","LOCAL Nº1,STA.TERESA, EDO MIRANDA"," ","(0239) 231.88.09","(0424) 273.66.51"," ","STA. TERESA DEL TUY"," "," "," "," ","JOAO BAPTISTA","CARLOS BAPTISTA","ANA BAPTISTA","INV. VINHAL,C.A.","MERCADO MUNICIPAL DE CIUDAD LOZADA,","LOCAL Nº 1, STA. TERESA DEL TUY","EDO. MIRANDA"," "," "," ","CIERRA LOS LUNES"," ","MARTES","J-31140019-2","039-M.M-00976","89250","No","05","CREDITO 5 DIAS","27","VALLES DEL TUY-27","06","07","RESTAURANTES","02","ON PREMISSE","02","ON PREMISSE","21","21","02 - VICTOR TORRES - OFF","CIERRA LOS LUNES  "]
["J311485694","09 - CLIENTE INHABILITADO","CORPORACION TINQUIRRE, C.A.","HOTEL OCEAN DORADO SUITE"," ","CORPORACION TINQUIRRE, C.A.","AVDA. ISABEL LA CATOLICA ENTRE 3ERA","CALLE Y CALLE LA GUZMANIA QTA.","ISABEL S/N URB. ALAMO","0212-421.54.33","0424-153.01.96"," ","LA GUAIRA","LA GUAIRA EDO. VARGAS"," "," ","CAMB. Z-14 AL Z-01 14/08/18 GA","ALVARO MENDES"," "," ","HOTEL OCEAN DORADO SUITE","AVDA. ISABEL LA CATOLICA ENTRE 3ERA","CALLE Y CALLE LA GUZMANIA QTA.","ISABEL S/N URB. ALAMO","LA GUAIRA EDO. VARGAS","0212-421.54.33","0424-153.01.96","RECIBE DE LUNES A VIERNES","DE 8:00 AM A 5:00 PM",null,"J-31148569-4","EN TRAMITE","15000","Sí","00","CONTADO","14","LITORAL CENTRAL","04","08","HOTELES/CASINOS/BINGOS","02","ON PREMISSE","02","ON PREMISSE","09","09","09 - CLIENTE INHABILITADO","RECIBE DE LUNES A VIERNES DE 8:00 AM A 5:00 PM"]
["J311584730","17 - TORRES CARLOS","BODEGON FLOR DE LAS MINAS,C.A.","BODEGON FLOR DE LAS MINAS,C.A."," ","BODEGON FLOR DE LAS MINAS,C.A.","CALLE LA PEDRERA LAS MINAS DE BARUT","ALAS MINAS DE BARUTA"," ","(0212) 944.75.54"," ","bodegonflordelasminas@hotmail.com","CARACAS","DESBLOQ 140515 AUT G/V","2CHED 010915-270916 7HP MYZ","DESBLOQ CUMPLI 3PP 210817 KF","CAMBIO DE ZONA 113 A 17 170823 PH","ROBERTO CORREIA FIGU","EIRA"," ","BODEGON FLOR DE LAS MINAS,C.A.","CALLE LA PEDRERA LAS MINAS DE BARUT","ALAS MINAS DE BARUTA"," "," "," "," ","RECIBE  MARTES  A VIERNES"," 09:00 AM A 04:30 PM","JUEVES","J-31158473-0","B-151-0-0155-MN","89250","No","05","CREDITO 5 DIAS","15","BARUTA","05","18","LICORERIAS/BODEGONES","01","OFF PREMISSE","01","OFF PREMISSE","17","17","01 - GUERRERO SALVADOR - OFF","RECIBE  MARTES  A VIERNES  09:00 AM A 04:30 PM"]
["J311706801","09 - CLIENTE INHABILITADO","SBS SPORTS BUSINESS, C.A.","LEONES CAFÉ"," ","SBS SPORTS BUSINESS, C.A.","AVENIDA ORINOCO,LAS MERCEDES,EDIF.4","53PISO-3"," ","0212.263.89.31"," "," ","CARACAS"," "," "," ","REEST-V-31 AL V-09 20092019 MYZ","ROBERTO COX"," "," ","LEONES CAFÉ","AVENIDA ORINOCO,LAS MERCEDES,EDIF.4","53PISO-3"," "," "," "," "," "," ",null,"J-31170680-1","C-07008001770","15000","Sí","00","CONTADO","31","LA CASTELLANA","04","06","BAR/TABER./S. BAR/PUB/TAS","02","ON PREMISSE","02","ON PREMISSE","09","09","09 - CLIENTE INHABILITADO","   "]
["J311709436","09 - CLIENTE INHABILITADO","LICORFESTEJOS LA ESPERANZA C.A","LICORFESTEJOS LA ESPERANZA"," ","LICORFESTEJOS LA ESPERANZA C.A","AV. CARPINTERO URB. PETARE CASA","N° 10 CARACAS EDO. MIRANDA"," ","(0424) 109-96-74"," ","DE 8:00 AM A 5:00 PM","CARACAS"," "," "," ","CAMBIO SUP 01 020217 FZA VENTAS","ALEJANDRO SOLORZANO"," "," ","LICORFESTEJOS LA ESPERANZA","AV. CARPINTERO URB. PETARE CASA","N° 10 CARACAS EDO. MIRANDA"," "," ","(0424) 109-96-74"," "," ","RECIBE DE LUNES A VIERNES","MARTES","J-31170943-6","MN-1357","15000","Sí","00","CONTADO","13","PETARE","05","18","LICORERIAS/BODEGONES","01","OFF PREMISSE","01","OFF PREMISSE","09","09","09 - CLIENTE INHABILITADO","  RECIBE DE LUNES A VIERNES"]
["J311790128","09 - CLIENTE INHABILITADO","INVERSIONES OSILICOR,C.A.","INV. OSILICOR,C.A."," ","INVERSIONES OSILICOR,C.A.","CARRETERA PETARE GUARENAS SECTORQUE","BRADA SECA N°3-GUARENAS-EDO.MIRANDA"," ","414/2648561"," "," ","GUARENAS"," "," "," "," ","JOSE I. HERNANDEZ LO","IS"," ","INV. OSILICOR,C.A.","CARRETERA PETARE GUARENAS SECTORQUE","BRADA SECA N°3-GUARENAS-EDO.MIRANDA"," "," "," "," ","MALA EXPERIENCIA DE PAGO"," ",null,"J-31179012-8","004 M-N 000022","15000","Sí","00","CONTADO","11","GUARENAS","05","18","LICORERIAS/BODEGONES","01","OFF PREMISSE","01","OFF PREMISSE"," ","09","09 - CLIENTE INHABILITADO","MALA EXPERIENCIA DE PAGO  "]
["J311887660","09 - CLIENTE INHABILITADO","DISTRIBUIDORA 3B, C.A.","DISTRIBUIDORA 3B, C.A."," ","DISTRIBUIDORA 3B, C.A.","AV. 4TA. AVENIDA ENTRE 3ERA. Y 4TA.","TRANSVERSAL EDIF. TEBAINCA PISO 2","APTO. 22 URB. LOS PALOS GRANDES","(0212) 285-33-48"," "," ","CARACAS"," "," "," ","CAMBIO Z - 31 A Z - 09 200919 GA","ALONSO HERRERA"," "," ","DISTRIBUIDORA 3B, C.A.","AV. 4TA. AVENIDA ENTRE 3ERA. Y 4TA.","TRANSVERSAL EDIF. TEBAINCA PISO 2","APTO. 22 URB. LOS PALOS GRANDES"," ","(0212) 285-33-48"," ","CAMBIO DE ZONA SUP.03","DE FECHA 25/07/2013","MARTES","J-31188766-0","PARTICULAR","15000","Sí","00","CONTADO","32","SUCRE - BARUTA","04","06","BAR/TABER./S. BAR/PUB/TAS","02","ON PREMISSE","02","ON PREMISSE","09","09","09 - CLIENTE INHABILITADO","CAMBIO DE ZONA SUP.03 DE FECHA 25/07/2013"]
["J311967516","502 - DRA. ALEXI Y. PINT0","ABASTO EL JARDIN DEL VALLE S.R.L.","ABASTO EL JARDIN DEL VALLE S.R.L."," ","ABASTO EL JARDIN DEL VALLE S.R.L.","AVENIDA SAN MARTIN BLOQUES DE SAN","MARTIN, CALLE CIRCUNVALACION EDF.","Z PISO PB LOCAL 6 SAN MARTIN","(0212) 451-78-33"," "," ","CARACAS","CARACAS DTTO. CAPITAL"," "," "," ","LUIS NUNES FERREIRA","E-81.203.005"," ","ABASTO EL JARDIN DEL VALLE S.R.L.","AVENIDA SAN MARTIN BLOQUES DE SAN","MARTIN, CALLE CIRCUNVALACION EDF.","Z PISO PB LOCAL 6 SAN MARTIN","CARACAS DTTO. FEDERAL","(0212) 451-78-33"," "," "," ",null," ","EN TRAMITES","0","No","00","CONTADO","23","CENTRO-SAN MARTIN","05","23","ABASTOS PEQUEÑOS/BODEGAS","01","OFF PREMISSE","01","OFF PREMISSE"," ","502"," ","   "]
["J311998705","09 - CLIENTE INHABILITADO","VIVERES GUAYCAMAR,C.A.","VIVERES GUAICAMAR,C.A."," ","VIVERES GUAYCAMAR,C.A.","AV INTERCOMUNAL DE MACUTO SECTORLAS"," QUINCE LETRAS P.B MACUTO"," ","NO POSEE","0414 111 34 36","NO POSEE","LA GUAIRA","DESBL. 14/12/2015 CUMP.3 PREP. S.U.","3CD 151215-130916 HP42 DC7 HD","DESBLOQ, CUMPLIO 3PP 07/02/18 MYZ","CAMBIO Z14 A SUP 01 20/12/18 ZP","JORGE AVENDAÑO QUINT","ERO"," ","VIVERES GUAICAMAR,C.A.","AV INTERCOMUNAL DE MACUTO SECTORLAS"," QUINCE LETRAS P.B MACUTO"," ","2CD 020614-030615 HP 6 DC 7 DM 7"," "," ","RECIBE  LUNES A VIERNES"," 10:00 AM A 6:00 PM","MIERCOLES","J-31199870-5","031-M N-375","15000","Sí","00","CONTADO","14","LITORAL CENTRAL","05","21","SUPERMERCADOS/AUTOMERCADO","01","OFF PREMISSE","01","OFF PREMISSE","09","09","09 - CLIENTE INHABILITADO","RECIBE  LUNES A VIERNES  10:00 AM A 6:00 PM"]
["J312053763","09 - CLIENTE INHABILITADO","SERVICIOS VIALES MAITANA, C.A.","SERVICIOS VIALES MAITANA, C.A."," ","SERVICIOS VIALES MAITANA, C.A.","AUTOPISTA REGIONAL DEL CENTRO KM 25","SENTIDO VALENCIA SECTOR LOS ANAUCOS","EDO MIRANDA","04141632145"," "," ","LOS ANAUCOS"," "," "," ","CAMBIO DE ZONA 21 A 09 06/12/22 ST","CARLOS MANUEL MENDEZ","WILLIAM Y RIVERO V"," ","SERVICIOS VIALES MAITANA, C.A.","AUTOPISTA REGIONAL DEL CENTRO KM 25","SENTIDO VALENCIA SECTOR LOS ANAUCOS","EDO MIRANDA"," ","04141632145"," ","RECIBE DE LUNES A JUEVES","A PARTIR DE LAS 9:00 AM","MARTES Y MIERCOLES","J-31205376-3","MG-00032/2007","15000","No","05","CREDITO 5 DIAS","09","CLIENTE INHABILITADO","06","18","LICORERIAS/BODEGONES","01","OFF PREMISSE","01","OFF PREMISSE","09","09","09 - CLIENTE INHABILITADO","RECIBE DE LUNES A JUEVES A PARTIR DE LAS 9:00 AM"]
["J312126620","31 - RODRIGUEZ WLADIMIR","FOOD FACTORY, C.A","GOHKA CLUB","9914143","FOOD FACTORY, C.A","CALLE MADRID ENTRE CARONI Y NEW YOR","QTA.LORELEY LAS MERECEDES BARUTA"," ","0414.2400407"," "," ","CARACAS"," "," "," "," ","OCTAVIO DA SILVA"," "," ","GOHKA CLUB","FOOD FACTORY, C.A","CALLE MADRID,LAS MERCEDES QTA","LORELEY FRENTE A BASTILLE ENTRE","MADRID Y CARONI","0414.2400407","9914143","RECIBE DESPUES DE LAS","2:00 PM TRASP.ZONA 03",null,"J-31212662-0","002-C-7431(TRAMITE)","89250","No","05","CREDITO 5 DIAS","30","PARROQUIA EL RECREO","04","09","DISCOTECAS Y NIGHT CLUBS","02","ON PREMISSE","02","ON PREMISSE"," ","31"," ","RECIBE DESPUES DE LAS 2:00 PM TRASP.ZONA 03"]
["J312220147","09 - CLIENTE INHABILITADO","COMERCIALIZADORA SAMOA FOOD C.A","SAMOA SAN IGNACIO","150115","COMERCIALIZADORA SAMOA FOOD C.A","AV. BLANDIN CC SAN IGNACIO NIVEL","BLANDIN LOCAL B-19 URB CHACAO"," ","(0212) 286.04.28","(0212) 286.93.61","gerenciacompras.samoa@gmail.com","CARACAS","CAMBIO ZONA 31 AL 32 170919","BLOQ x MHP 25 DIAS CALLE 150419 WP","BLOQ 00DIAS  x MHP  290819 JA","CAMBIO DE ZONA 32 A 09 20/9/19 GT","BRAVO IZA AURKI"," "," ","SAMOA SAN IGNACIO","AV BLANDIN CC SAN IGNACIO NIVEL","BLANDIN LOCAL B-19 URB CHACAO"," "," ","0212/286-93-61"," ","RECIBE  LUNES A VIERNES"," 09:00 AM A 06:00 PM","MARTES","J-31222014-7","70100000940","0","Sí","00","CONTADO","09","CLIENTE INHABILITADO","04","07","RESTAURANTES","02","ON PREMISSE","02","ON PREMISSE","09","09","09 - CLIENTE INHABILITADO","RECIBE  LUNES A VIERNES  09:00 AM A 06:00 PM"]
["J312251727","09 - CLIENTE INHABILITADO","AUTOMERCADO CARIOCA II, C.A.","DISTRIBUIDORA ARTICA, C.A."," ","DISTRIBUIDORA ARTICA, C.A.","CALLE ARICHUNA, URBANIZACION EL LLA","NITO,QUINTADOULIMAR,PLANTA BAJA"," "," "," "," ","CARACAS"," "," "," "," ","LUIS GREGORIO VETANC","OURT YUMARE"," ","DISTRIBUIDORA ARTICA, C.A.","CALLE LA CEIBA, SECTOR EL CARMEN","EDIF. FATIMA, BARRIO UNION PETARE","EDO-MIRANDA"," "," "," "," "," ",null,"J-31225172-7","002-MN-6819","15000","No","05","CREDITO 5 DIAS","13","PETARE","05","18","LICORERIAS/BODEGONES","01","OFF PREMISSE","01","OFF PREMISSE","09","09","09 - CLIENTE INHABILITADO","   "]
["J312318139","25 - OCAMPO O. ROMAY","FRIGORIFICO JJFF C.A","FRIGORIFICO JJFF C.A","22-6-23 YR","FRIGORIFICO JJFF C.A","CALLE MIQUELEN, LOCAL N 65,","SECTOR EL LLANO LOS TEQUES","ESTADO MIRANDA","(0424)-1992180"," "," ","CARACAS"," "," "," "," ","JOSE FIGUEIRA","JOSE SILVA"," ","FRIGORIFICO JJFF C.A","CALLE MIQUELEN, LOCAL N 65","SECTOR EL LLANO LOS TEQUES","ESTADO MIRANDA"," ","0424 - 1992180"," ","RECIBE DE LUNES A VIERNES","DE 9:00 AM A 5:00 PM","DE LUNES A VIERNES","J-31231813-9","00217-2022","89250","No","05","CREDITO 5 DIAS","25","LOS TEQUES","05","20","DELICATESES/FRIGO/CHARCUT","01","OFF PREMISSE","01","OFF PREMISSE","25","25","02 - VICTOR TORRES - OFF","RECIBE DE LUNES A VIERNES DE 9:00 AM A 5:00 PM"]
["J312427450","31 - RODRIGUEZ WLADIMIR","INVERSIONES TJK 2005, C.A.","REST MBAR \"CAFE BAKU\""," ","INVERSIONES TJK 2005, C.A.","CALLE CALIFORNIA. LAS MERCEDES","EDIF. LOS ANGELES. P.B LOCAL 01, 02","03 Y 04","0424 - 2668881"," "," ","CARACAS"," "," "," "," ","JOSE A. CHALBAUD R","TEOFILO E. EKKI K"," ","INVERSIONES TJK 2005, C.A.","CALLE CALIFORNIA CON MUCUCHIES EDIF","LOS ANGELES. PB. LOCAL 01, 02, 03 Y","04. URB LAS MERCEDES."," ","0424 - 2668881"," ","TRASP. ZONA 03 SUP.CARLOS","DA SILVA S/SOLIC.08/02/11",null,"J-31242745-0","PARTICULAR","89250","No","05","CREDITO 5 DIAS","30","PARROQUIA EL RECREO","04","07","RESTAURANTES","02","ON PREMISSE","02","ON PREMISSE"," ","31"," ","TRASP. ZONA 03 SUP.CARLOS DA SILVA S/SOLIC.08/02/11"]
["J312511400","11 - PEREIRA GENARO","LICORERIA GUSTAMAR,C.A.","LICORERIA GUSTAMAR,C.A."," ","LICORERIA GUSTAMAR,C.A.","ENTRADA URB.CABO CODERA MINI CENTRO","QUEBRAMAR LOCAL 2 Y 3 -MCPIO-BRION"," ","0234 323 54 36","0414 903 35 03","nisleidichirino@gmail.com","HIGUEROTE"," ","CAMBIO DE Z 12 A Z09 YR 19/08/19","CAMBIO DE ZONA 12 A 09 YO 020821","CAMBIO DE Z09 A Z12 120923 RM","MARCOS HERNANDEZ"," "," ","LICORERIA GUSTAMAR,C.A.","ENTRADA URB.CABO CODERA MINI CENTRO","QUEBRAMAR LOCAL 2 Y 3 -MCPIO-BRION"," "," "," "," ","RECIBE  LUNES A VIERNES"," 9:00 AM A 6:00 PM","MIERCOLES","J-31251140-0","URCH-034-MN-1169","89250","No","05","CREDITO 5 DIAS","12","BARLOVENTO","05","18","LICORERIAS/BODEGONES","01","OFF PREMISSE","01","OFF PREMISSE","11","11","01 - GUERRERO SALVADOR - OFF","RECIBE  LUNES A VIERNES  9:00 AM A 6:00 PM"]
["J312650443","09 - CLIENTE INHABILITADO","ABASTO Y LICORES 2 DE JULIO C.A.","ABASTO Y LICORES 2 DE JULIO C.A."," ","ABASTO Y LICORES 2 DE JULIO C.A.","BARRIO UNION AV. PPAL. PETARE CASA","NRO. 48-02 PB"," ","(0412)707.30.61"," "," ","PETARE"," "," "," "," ","ANGEL JESUS DIEGO","LUIS DANIEL DIEGO"," ","ABASTO Y LICORES 2 DE JULIO C.A.","BARRIO UNION CALLE PADRE JESUS MISA","AV. PPAL. PETARE CASA NRO. 48-02 PB"," "," ","(0412)707.30.61"," "," "," ",null,"J-31265044-3","N0287","15000","No","05","CREDITO 5 DIAS","13","PETARE","05","23","ABASTOS PEQUEÑOS/BODEGAS","01","OFF PREMISSE","01","OFF PREMISSE","09","09","09 - CLIENTE INHABILITADO","   "]
["J312740060","71 - OFICINA","CORPORACION DACAR C.A.","CORPORACION DACAR C.A.","01/06/23ST","CORPORACION DACAR C.A.","AV FRANCISCO DE MIRANDA, C.C PUERTA","DEL ESTE LOCAL 04 CALIFORNIA NORTE","CARACAS","0212-2394866/2384212"," ","CORPORACIONDACAR@GMAIL.COM"," "," "," "," "," "," "," "," ","CORPORACION DACAR C.A.","ALMACEN CORPOELEC","SAN BERNARDINO"," "," ","0212-2394866/2384212"," "," "," ","DE LUNES A VIERNES","J-31274006-0","PARTICULAR","15000","No","00","CONTADO","71","OFICINA","06","31","PARTICULAR","00","ESTANDAR","00","ESTANDAR","71","71","71 - OFICINA","   "]
["J312883022","09 - CLIENTE INHABILITADO","LICORES CASINO 8202931, C.A.","LICORERIA LA RULETA"," ","LICORES CASINO 8202931, C.A.","CARRETERA SOTILLO QUINTA NRO. 37","SECTOR DOS CAMINOS MUNICIPIO BRION","HIGUEROTE EDO. MIRANDA","(0424) 156-28-64","."," ","HIGUEROTE"," "," "," ","SUP.01 060114 CERRADO","LEONOR VEGA"," "," ","LICORERIA LA RULETA","CARRETERA SOTILLO QUINTA NRO. 37","SECTOR DOS CAMINOS MUNICIPIO BRION","HIGUEROTE EDO. MIRANDA"," ","(0424) 156-28-64"," "," "," ","MIERCOLES","J-31288302-2","HGTE-00-MN-31","15000","Sí","00","CONTADO","12","BARLOVENTO","05","18","LICORERIAS/BODEGONES","01","OFF PREMISSE","01","OFF PREMISSE"," ","09","09 - CLIENTE INHABILITADO","   "]
["J313111813","09 - CLIENTE INHABILITADO","CONCES A.C. UNION CANARIA DE VZLA.","CONCES A.C. UNION CANARIA DE VZLA."," ","CONCESIONARIOS A.C. UNION CANARIAS DE VENEZUELA","CALLE PRIMERA LOCAL UNION CANARIAS","DE VENEZUELA, Nº.1 URB. PUNTO BRISA","MACUTO EDO. VARGAS","(0212) 415-00-87"," "," ","LA GUIARA"," "," "," ","BAJA FRECUENCIA DE COMPRA 12/03/14","ODELYS DEL V. FARIÑA"," "," ","CONCES A.C. UNION CANARIA DE VZLA.","CALLE PRIMERA LOCAL UNION CANARIAS","DE VENEZUELA, Nº.1 URB. PUNTO BRISA","MACUTO EDO. VARGAS"," ","(0212) 415-00-87"," "," "," ",null,"J-31311181-3","031-C-302","15000","Sí","00","CONTADO","14","LITORAL CENTRAL","04","07","RESTAURANTES","02","ON PREMISSE","02","ON PREMISSE"," ","09","09 - CLIENTE INHABILITADO","   "]
["J313133043","02 - REQUENA JOHAN - OFF","MAYOR Y DETAL DE LICORES 360º,C.A.","MAYOR Y DETAL DE LICORES 360º,C.A."," ","MAYOR Y DETAL DE LICORES 360º,C.A.","AV.BARALT,ESQUINAS DE PIÑANGO,EDIF.","LACASA DE LA SUERTE P.B.PARROQUIA C","ATEDRAL"," "," "," ","CARACAS"," "," "," "," ","GONCALVES DE FREITAS"," JOSE MANUEL"," ","MAYOR Y DETAL DE LICORES 360º,C.A.","AV.BARALT,ESQUINAS DE PIÑANGO,EDIF.","LACASA DE LA SUERTE P.B.PARROQUIA C","ATEDRAL"," "," "," ","TRASP ZONA 02 SEGUN","SOLICITUD 21/02/11",null,"J-31313304-3","M-N 0067","89250","No","05","CREDITO 5 DIAS","23","CENTRO-SAN MARTIN","05","18","LICORERIAS/BODEGONES","01","OFF PREMISSE","01","OFF PREMISSE"," ","02"," ","TRASP ZONA 02 SEGUN SOLICITUD 21/02/11"]
["J313221147","31 - RODRIGUEZ WLADIMIR","INVERSIONES KOSHER FISHERIES, C.A.","NOBU SUSHI"," ","INVERSIONES KOSHER FISHERIES, C.A.","AVDA. FINAL JOSE MARIA VARGAS C.C.","SANTA FE NIVEL P LOCAL S 2-9 URB.","SANTA FE NORTE- BARUTA","(0414) 910-94-13"," "," ","CARACAS"," "," "," "," ","JOSEPH SAFEATI"," "," ","INVERSIONES KOSHER FISHERIES, C.A.","2DA. AV. ENTRE 4TA. Y 5TA. TRANSVER","DE LOS PALOS GRANDES, CHIRU DE LOS","PALOS GRANDES (NOBU SUSHI), CARACAS"," ","(0414) 910-94-13"," ","CAMBIO DE ZONA SUP.03","EN FECHA 25/07/2013",null,"J-31322114-7","EN TRAMITES","89250","Sí","00","CONTADO","30","PARROQUIA EL RECREO","04","07","RESTAURANTES","02","ON PREMISSE","02","ON PREMISSE"," ","31"," ","CAMBIO DE ZONA SUP.03 EN FECHA 25/07/2013"]
["J313284068","502 - DRA. ALEXI Y. PINT0","LICORERIA EL BARON DE PLATA, C.A","LICORERIA EL BARON DE PLATA, C.A"," ","LICORERIA EL BARON DE PLATA, C.A","CARRETERA NAC. LA RAIZA EL CARTANAL","STA TERESA DEL TUY. LOCALES 1 Y 2"," ","0416-851.46.89"," "," ","OCUMARE"," "," "," "," ","JULIO GONZALEZ M","ALEN GONZALEZ T"," ","LICORERIA EL BARON DE PLATA, C.A","CARRETERA NAC. LA RAIZA EL CARTANAL","STA TERESA DEL TUY. LOCALES 1 Y 2"," "," ","0416-851.46.89"," ","PASADO A LEGAL DRA. PINTO","14-06-2011",null,"J-31328406-8","M-Y 039 C 0086","15000","No","00","CONTADO","14","LITORAL CENTRAL","04","18","LICORERIAS/BODEGONES","01","OFF PREMISSE","01","OFF PREMISSE"," ","502","01 - CARLOS DA SILVA","PASADO A LEGAL DRA. PINTO 14-06-2011"]
["J313327794","502 - DRA. ALEXI Y. PINT0","KOOL-LIQUOR C.A.","KOOL-LIQUOR C.A.","0412599450","KOOL-LIQUOR C.A.","AV. FRANCISCO DE MIRANDA URB PETARE","LOCAL Nº 8","PETARE EDO MIRANDA","0212/9159618"," "," ","PETARE"," "," "," "," ","ANTONIO AJAJ BACHOUR","MAURICIO DE SOUSA"," ","KOOL-LIQUOR C.A.","AV FRANCISCO DE MIRANDA URB PETARE","LOCAL Nº 8 FRENTE A LA PARADA DEL","HOSPITAL DOMINGO LUCIANI"," ","02129159618","04125994505","LLEVADO A LEGAL DRA.PINTO","02-10-2012","JUEVES","J-31332779-4","DRM008/06","15000","Sí","00","CONTADO","13","PETARE","05","18","LICORERIAS/BODEGONES","01","OFF PREMISSE","01","OFF PREMISSE"," ","502","01 - CARLOS DA SILVA","LLEVADO A LEGAL DRA.PINTO 02-10-2012"]
["J313380202","09 - CLIENTE INHABILITADO","INVERSIONES APRILE, C.A","INVERSIONES APRILE, C.A"," ","INVERSIONES APRILE, C.A","CALLE AEROPUERTO INTERNACIONAL DE","MAIQUETIA EDF. TERMINAL NACIONAL","PISO NIVEL 2 LOCAL PUERTA 2, LA","(0212) 335-14-53"," "," ","LA GUAIRA","GUAIRA EDO. VARGAS"," "," ","BAJA FRECUENCIA DE COMPRA 12/03/14","HERMINIA SANTILLI DE","GRECO"," ","INVERSIONES APRILE, C.A","CALLE AEROPUERTO INTERNACIONAL DE","MAIQUETIA EDF. TERMINAL NACIONAL","PISO NIVEL 2 LOCAL PUERTA 2, LA","GUAIRA EDO. VARGAS","(0212) 335-14-53"," "," "," ",null,"J-31338020-2","031-C-1083","15000","Sí","00","CONTADO","14","LITORAL CENTRAL","04","07","RESTAURANTES","02","ON PREMISSE","02","ON PREMISSE"," ","09","09 - CLIENTE INHABILITADO","   "]
["J313525383","24 - REYES OSWALDO","SUPERMERCADO YARIGUA, C.A","SUPERMERCADO YARIGUA, C.A","231017","SUPERMERCADO YARIGUA, C.A","AV. LECUNA ESQ PETION EDIF RESD","BOYACA PISO PB LOCAL 1 Y 2 URB SAN","AGUSTIN DEL SUR CARACAS","0212 576 27 39","0412 377 01 40","ismaeljnp@hotmail.com","CARACAS"," ","CAMBIO DE ZONA 23 A 28 060821 YP","CAMBIO DE ZONA 28 A 23 050821 YP","CAMBIO DE ZONA V28 A V24 140223 ST","JOSE CAMACHO"," "," ","SUPERMERCADO YARIGUA, C.A","AV. LECUNA ESQ PETION EDIF RESD","BOYACA PISO PB LOCAL 1 Y 2 URB SAN","AGUSTIN DEL SUR CARACAS"," ","576-27-39"," ","RECIBE  LUNES A VIERNES"," 8:00AM A 1:00PM","MARTES","J-31352538-3","10-MN-000466","89250","No","05","CREDITO 5 DIAS","23","CENTRO-SAN MARTIN","06","21","SUPERMERCADOS/AUTOMERCADO","01","OFF PREMISSE","01","OFF PREMISSE","24","24","02 - VICTOR TORRES - OFF","RECIBE  LUNES A VIERNES  8:00AM A 1:00PM"]
["J313601357","23 - HERNANDEZ JOSÉ D.","INVERSIONES HERMANOS CAPELO 2005,CA","INVERSIONES HERMANOS CAPELO 2005,CA","300817","INVERSIONES HERMANOS CAPELO 2005,CA","AV INTERCOMUNAL DE ANTIMANO CALLE R","EAL CASA N° S/N URB CARAPITA SECTOR","SANTA EDUVIGIS CARACAS","(0212) 471.36.64"," ","fcapelo50@gmail.com","CARACAS"," "," "," "," ","FRANCISCO CAPELO"," "," ","INVERSIONES HERMANOS CAPELO 2005,CA","AV INTERCOMUNAL DE ANTIMANO CALLE R","EAL CASA N° S/N URB CARAPITA SECTOR","SANTA EDUVIGIS CARACAS"," ","04242204741"," ","RECIBE  LUNES A VIERNES"," 11:00 AM A 05:00 PM","LUNES","J-31360135-7","02-MN-001825","89250","No","05","CREDITO 5 DIAS","23","CENTRO-SAN MARTIN","05","18","LICORERIAS/BODEGONES","01","OFF PREMISSE","01","OFF PREMISSE","23","23","02 - VICTOR TORRES - OFF","RECIBE  LUNES A VIERNES  11:00 AM A 05:00 PM"]
["J313721123","24 - REYES OSWALDO","VIVERES Y LICORES MARIGRE C.A","VIVERES Y LICORES MARIGRE C.A","161222 LL","VIVERES Y LICORES MARIGRE C.A","CALLE NAZARET SECTOR LONGARARAY","CASA S/N URBANIZACION EL VALLE 1090","VIA ALCABALA 2 FUERTE TIUNA","0412-632-8296"," ","ERICK.TOON@GMAIL.COM"," "," "," "," "," ","MARIA SANTIAGO","JOSE RAMIREZ DUARTE"," ","VIVERES Y LICORES MARIGRE C.A","CALLE NAZARET SECTOR LONGARARY CASA","S/N URBANIZACIÓN EL VALLE 1090 VIA","ALCABALA 2 FUERTE TIUNA"," ","0412-632-8296"," ","RECIBE LUNES A VIERNES","DE 8:00AM A 5:00PM","DE LUNES A VIERNES","J-31372112-3","06 MN 001578","89250","No","05","CREDITO 5 DIAS","20","CENTRO DE CARACAS","05","18","LICORERIAS/BODEGONES","01","OFF PREMISSE","01","OFF PREMISSE","24","24","02 - TORRES VICTOR - OFF","RECIBE LUNES A VIERNES DE 8:00AM A 5:00PM"]
["J313747173","31 - RODRIGUEZ WLADIMIR","EVENTOS Y PROMOCIONES BAILACONMIGO,","EVENTOS Y PROM. BAILACONMIGO,C.A."," ","EVENTOS Y PROMOCIONES BAILACONMIGO,C.A.","AVENIDA LOS ANDES LOCAL 63 URB ALTO"," BARINAS NORTECENTRO CCIAL DOÑA GAR","CIA","0414/5674280"," "," ","CARACAS"," "," "," "," ","HECTOR ALEXANDER DEL","GADO MENDOZA"," ","EVENTOS Y PROM. BAILACONMIGO,C.A.","AVENIDA LOS ANDES LOCAL 63 URB ALTO"," BARINAS NORTECENTRO CCIAL DOÑA GAR","CIA"," "," "," "," "," ",null,"J-31374717-3","PARTICULAR","89250","No","05","CREDITO 5 DIAS","33","CENTRO-CANDELARIA","04","06","BAR/TABER./S. BAR/PUB/TAS","02","ON PREMISSE","02","ON PREMISSE"," ","31"," ","   "]
["J313792772","09 - CLIENTE INHABILITADO","COMERCIAL LOS LIRIOS 2005,C.A.","COMERCIAL LOS LIRIOS 2005,C.A."," ","COMERCIAL LOS LIRIOS 2005,C.A.","CALLE PRINCIPAL DE PARACOTO TOPO LA","  CRUZSECTOR LOS LIRIOS QTA SANTA B","ARBARA","0414/2764341"," "," ","PARACOTO"," "," "," "," ","FUENTES GONZALEZ DON","ATO"," ","COMERCIAL LOS LIRIOS 2005,C.A.","CALLE PRINCIPAL DE PARACOTO TOPO LA","  CRUZSECTOR LOS LIRIOS QTA SANTA B","ARBARA"," "," "," ","PASADO ZONA 01.SUP JHONNY","R. S/SOLIC DEL 11/03/11",null,"J-31379277-2","27-0 360","15000","No","05","CREDITO 5 DIAS","14","LITORAL CENTRAL","05","23","ABASTOS PEQUEÑOS/BODEGAS","01","OFF PREMISSE","01","OFF PREMISSE"," ","09","09 - CLIENTE INHABILITADO",{"$f":"CONCATENATE(AB3074,\" \",AC3074)","v":"PASADO ZONA 01.SUP JHONNY R. S/SOLIC DEL 11/03/11"}]
["J313941050","31 - RODRIGUEZ WLADIMIR","INVERSIONES PIU 158 C.A.","INV. PIU 158 C.A."," ","INVERSIONES PIU 158 C.A.","AV.PPAL.URBANIZACION LAS MERCEDES,C","ENTROCOMERCIAL CALIFORNIA MALL, PB","LOCAL PB-7","0212.216.08.14"," "," ","CARACAS"," "," "," "," ","JOSE CARLOS DE FREIT","AS"," ","INV. PIU 158 C.A.","AV.PPAL.URBANIZACION LAS MERCEDES,C","ENTROCOMERCIAL CALIFORNIA MALL, PB","LOCAL PB-7"," "," "," "," "," ",null,"J-31394105-0","PARTICULAR","89250","No","05","CREDITO 5 DIAS","30","PARROQUIA EL RECREO","04","07","RESTAURANTES","02","ON PREMISSE","02","ON PREMISSE"," ","31"," ","   "]
["J313993930","02 - REQUENA JOHAN - OFF","MARQLICOR BODEGON, C.A.","MARQLICOR BODEGON, C.A."," ","MARQLICOR BODEGON, C.A.","AV. PRINCIPAL PARCELAMIENTO INDUSTR","IAL LA FEC/C GALERIA LA FE,LOCAL-29","Y30, MACARAO","(0212)4335620"," "," ","CARACAS"," "," "," "," ","PACHECO YSTURIZ GILB","ERTO"," ","MARQLICOR BODEGON, C.A.","AV. PRINCIPAL PARCELAMIENTO INDUSTR","IAL LA FEC/C GALERIA LA FE,LOCAL-29","Y30, MACARAO"," "," "," "," "," ",null,"J-31399393-0","MN-182346","89250","No","05","CREDITO 5 DIAS","24","CARICUAO","05","18","LICORERIAS/BODEGONES","01","OFF PREMISSE","01","OFF PREMISSE"," ","02"," ","   "]
["J314063065","20 - DIEGO MANUEL","INVERSIONES IMPERIO J.L., C.A","BODEGON IMPERIO - MARKET"," ","INVERSIONES IMPERIO J.L., C.A","AV SUR DE LAS ACACIAS EDIF. PEREIRA","PISO PB, URB SABANA GRANDE PARROQ.","EL RECREO CARACAS","0212-793-31-73"," ","LUZMALECA@HOTMAIL.COM","CARACAS"," ","FECHA SOLICITUD DE BLOQUEO 07-04-15","CAMBIO A LA ZONA 09 20-09-19 YM","CAMBIO ZONA 09 A 20 30-08-23 RM","JOSE D.DE LECA PITA","JOSE M. PITA P."," ","INVERSIONES IMPERIO J.L., C.A","AV. SUR DE LAS ACASIAS EDIF PEREIRA","PISO PB, URB SABANA GRANDE PARROQ.","EL RECREO CARACAS"," ","0424-2952312"," ","LUNES A VIERNES","9:00 AM A 4:00 PM","DE LUNES A VIERNES","J-31406306-5","05-MN-000380","89250","Sí","05","CREDITO 5 DIAS","20","CENTRO DE CARACAS","05","18","LICORERIAS/BODEGONES","01","OFF PREMISSE","01","OFF PREMISSE","20","20","02 - TORRES VICTOR - OFF","LUNES A VIERNES 9:00 AM A 4:00 PM"]
["J314140302","31 - RODRIGUEZ WLADIMIR","CAFÉ DE LAS ESTRELLAS 7, C.A.","CAFÉ DE LAS ESTRELLAS 7, C.A."," ","CAFÉ DE LAS ESTRELLAS 7, C.A.","AVENIDA LA ESTANCIA,URBANIZACION CH","UAOC.C.C.T.PB.LOCAL-43.P-01-CARACAS","-DTTO.CAPITAL","0212.959.40.77/0212."," "," ","CARACAS"," "," "," "," ","JESUS SALVADOR ACARE"," DE LA ROSA"," ","CAFÉ DE LAS ESTRELLAS 7, C.A.","AVENIDA LA ESTANCIA,URBANIZACION CH","UAOC.C.C.T.PB.LOCAL-43.P-01-CARACAS","-DTTO.CAPITAL"," "," "," ","CLIENTE CERRADO 25-02-13","DEL 337 AL 03",null,"J-31414030-2","C-07016051056","89250","Sí","05","CREDITO 5 DIAS","30","PARROQUIA EL RECREO","04","06","BAR/TABER./S. BAR/PUB/TAS","02","ON PREMISSE","02","ON PREMISSE"," ","31"," ","CLIENTE CERRADO 25-02-13 DEL 337 AL 03"]
["J314258605","09 - CLIENTE INHABILITADO","LICORERIA EL RINCON DE LOS PANAS, C","LIC EL RINCON DE LOS PANAS, C.A."," ","LICORERIA EL RINCON DE LOS PANAS, C.A.","SECTOR EL RODEO CALLE 2 DE DICIEMBR","E ENTRECALLE SAN JOSE Y PADRE ARROL","LO-OCUMARE-EDO.MIRANDA","0239.225.20.73/0414."," "," ","OCUMARE"," "," "," "," ","VIRMER JESUS CARRILL","O PEÑA"," ","LIC EL RINCON DE LOS PANAS, C.A.","SECTOR EL RODEO CALLE 2 DE DICIEMBR","E ENTRECALLE SAN JOSE Y PADRE ARROL","LO-OCUMARE-EDO.MIRANDA"," "," "," "," "," ",null,"J-31425860-5","MM-002-06","15000","No","05","CREDITO 5 DIAS","14","LITORAL CENTRAL","05","18","LICORERIAS/BODEGONES","01","OFF PREMISSE","01","OFF PREMISSE"," ","09","09 - CLIENTE INHABILITADO","   "]
["J314316346","09 - CLIENTE INHABILITADO","LICORERIA NARANJAL,C.A.","LICORERIA NARANJAL,C.A."," ","LICORERIA NARANJAL,C.A.","AVENIDA PRINCIPAL,URBANIZACION TRAP","ICHITOSECTOR 3,LOCAL Nº 8-GUARENAS-","EDO.MIRANDA","414/3136514"," "," ","GUARENAS"," "," "," "," ","CARLOS G. MARRERO R."," "," ","LICORERIA NARANJAL,C.A.","AVENIDA PRINCIPAL,URBANIZACION TRAP","ICHITOSECTOR 3,LOCAL Nº 8-GUARENAS-","EDO.MIRANDA"," "," "," ","TRASP. ZONA 01 SUP.JHONNY","RODRIGUEZ S/SOL.18-02-11",null,"J-31431634-6","0010-MY-1010","15000","No","05","CREDITO 5 DIAS","11","GUARENAS","05","18","LICORERIAS/BODEGONES","01","OFF PREMISSE","01","OFF PREMISSE"," ","09","09 - CLIENTE INHABILITADO","TRASP. ZONA 01 SUP.JHONNY RODRIGUEZ S/SOL.18-02-11"]
["J314352512","09 - CLIENTE INHABILITADO","COFFE LUNCH LA FRESA DE ORO, C.A.","COFFE LUNCH LA FRESA DE ORO, C.A."," ","COFFE LUNCH LA FRESA DE ORO, C.A.","C.C. CASTILLEJO PB 02-04","GUATIRE EDO MIRANDA"," ","0212-3420665"," "," ","GUATIRE"," "," "," "," ","JOSE PEREJIL M.","YUSMARI ISTURIZ"," ","COFFE LUNCH LA FRESA DE ORO, C.A.","C.C. CASTILLEJO PB 02-04","GUATIRE EDO MIRANDA"," "," ","0212-3420665"," ","CAMBIO DE RAMO, TRANSP.","ZONA 01 FECHA 11/04/2013",null,"J-31435251-2","DHM-006-C-2008","15000","No","05","CREDITO 5 DIAS","11","GUARENAS","04","07","RESTAURANTES","02","ON PREMISSE","02","ON PREMISSE"," ","09","09 - CLIENTE INHABILITADO","CAMBIO DE RAMO, TRANSP. ZONA 01 FECHA 11/04/2013"]
["J314430670","35 - PEREZ JOSMAN","VINARTE XXI, C.A.","VINARTE","100913","VINARTE XXI, C.A.","AVENIDA PRINCIPAL CENTRO COMERCIAL","PASEO LAS MERCEDES, NIVEL TRASNOCHO","LOCAL LOBBY, URB. LAS MERCEDES","(0212) 993.13.25"," ","vinartexxi@gmail.com","CARACAS","CARACAS"," "," ","CAMB DE LA 34 A LA 35 130319 WP","MARIA CRUZ FADUL","SUSANA FERRARI"," ","VINARTE XXI, C.A.","AVENIDA PRINCIPAL CENTRO COMERCIAL","PASEO LAS MERCEDES, NIVEL TRASNOCHO","LOCAL LOBBY, URB. LAS MERCEDES","CARACAS","(0212) 993-13-25"," ","RECIBE LUNES A JUEVES"," 9:00AM A 1:00PM","LUNES","J-31443067-0","B-107-0-0309","89250","No","05","CREDITO 5 DIAS","34","LAS MERCEDES","04","07","RESTAURANTES","02","ON PREMISSE","02","ON PREMISSE","35","35","02 - VICTOR TORRES - ON","RECIBE LUNES A JUEVES  9:00AM A 1:00PM"]
["J314545043","11 - PEREIRA GENARO","INVERSIONES COCO SWEET,C.A.","INV. COCO SWEET,C.A."," ","INVERSIONES COCO SWEET,C.A.","CARRETERA HIGUEROTE CARENERO SECTOR","LAS CABAÑAS HIGUEROTE-EDO.MIRANDA"," ","(0234) 323.70.96","(0426) 907.18.15"," ","HIGUEROTE"," "," ","3CHED 011215/061216 4HP LA/MYZ","DESCBLOQ CUMPLI 3PP 300617 KF","MANUEL PEDRO DE SOUS","A"," ","INV. COCO SWEET,C.A.","CARRETERA HIGUEROTE CARENERO SECTOR","LAS CABAÑAS HIGUEROTE-EDO.MIRANDA"," "," "," "," ","RECIBE JUEVES Y VIERNES"," 09:00 AM A 05:00 PM","JUEVES","J-31454504-3","039 MN 622","89250","No","05","CREDITO 5 DIAS","12","BARLOVENTO","05","18","LICORERIAS/BODEGONES","01","OFF PREMISSE","01","OFF PREMISSE","11","11","01 - CARLOS DA SILVA - OFF","RECIBE JUEVES Y VIERNES  09:00 AM A 05:00 PM"]
["J314720864","502 - DRA. ALEXI Y. PINT0","INVERSIONES A70, C.A.","RESTAURANT BAR DALAI"," ","INVERSIONES A70, C.A.","AVENIDA BLANDIN,CTRO. COMERCIAL SAN","IGNACIO, LOCAL BL 31-1 Y 31-3 URB.","LA CASTELLANA","0212-266.58.24"," "," ","CARACAS"," "," "," "," ","ALEJANDRO GONZALEZ M","ANZO"," ","INV. A70, C.A.","AVENIDA BLANDIN,CTRO.COMERCIAL SAN","IGNACIO, LOCAL BL 31-1 Y 31-3. URB.","LA CASTELLANA."," ","0212-266.58.24"," ","PASADO A LEGAL 23-12-2012","DRA. ALEXI PINTO",null,"J-31472086-4","PARTICULAR","15000","No","00","CONTADO","31","LA CASTELLANA","05","18","LICORERIAS/BODEGONES","02","ON PREMISSE","02","ON PREMISSE"," ","502","01 - CARLOS DA SILVA","PASADO A LEGAL 23-12-2012 DRA. ALEXI PINTO"]
["J314825569","09 - CLIENTE INHABILITADO","INVERSORA JULLRAF, C.A","MIRADOR DEL LAGO"," ","INVERSORA JULLRAF, C.A","AV. LOS PROCERES. EDIF CIRCULO","MILITAR. PISO P.B. LOCAL RESTAURANT","SECTOR EL LAGUITO DEL CIRCULO","0212-743-46-21","0414-390-89-70"," ","CARACAS","MILITAR."," "," ","CAMBIO DE Z 31 A ZONA 09 200919 JA","JULLY PEREZ"," "," ","MIRADOR DEL LAGO","AV. LOS PROCERES. EDIF CIRCULO","MILITAR. PISO P.B. LOCAL RESTAURANT","SECTOR EL LAGUITO DEL CIRCULO","MILITAR","0414-390.89.70"," "," "," ",null,"J-31482556-9","TRAMITE","0","Sí","00","CONTADO","09","CLIENTE INHABILITADO","04","06","BAR/TABER./S. BAR/PUB/TAS","02","ON PREMISSE","02","ON PREMISSE","09","09","09 - CLIENTE INHABILITADO","   "]
["J314944240","09 - CLIENTE INHABILITADO","INV. GULA, C.A.","BODEGON GULA GOURMET"," ","INV. GULA, C.A.","CALLE 3 ENTRE CARRERAS 2 Y 3 QTA.","NRO. 2-97 NUEVA SEGOVIA, BARQUISTO.","EDO. LARA","(0412) 720-68-16","(0251) 935-77-02/03"," ","CARACAS"," ","BAJA FRECUENCIA DE COMPRA 23/01/14","REACTIVADO 11/08/14","BAJA FRECUENCIA DE COMPRA 11/01/15","INES RODRIGUEZ"," "," ","BODEGON GULA GOURMET","AV SAN MARTIN EDIF BOIRO","PLANTA BAJA , LA QUEBRAOHA","CARACAS"," ","(0412) 720-68-16"," "," "," ","CONTADO","J-31494424-0","MN-130305-062 MY-130305-0040","15000","Sí","00","CONTADO","16","GUATIRE","06","31","PARTICULAR","01","OFF PREMISSE","01","OFF PREMISSE","09","09","09 - CLIENTE INHABILITADO","   "]
["J315063018","71 - OFICINA","FUGUET ALBA & ASOICADOS ESC -JURI","FUGUET ALBA & ASOICADOS ESC -JURI","2347677","FUGUET ALBA & ASOICADOS ESCRITORIO -JURIDICO","AV FRANCISCO DE MIRANDA EDIF TORRE","PROFESIONAL LA CALIFORNIA PISO 10","OFIC10-04 LA CALIFORNIA NORTE,","02122378039"," "," ","CARACAS"," "," "," "," "," "," "," ","FUGUET ALBA & ASOICADOS ESC -JURI","AV FRANCISCO DE MIRANDA EDIF TORRE","PROFESIONAL LA CALIFORNIA PISO 10","OFIC10-04 LA CALIFORNIA NORTE,"," "," "," "," "," ",null,"J-31506301-8","PARTICULAR","2200","No","05","CREDITO 5 DIAS","71","OFICINA","01","01","DE LICORES CON FZA DE VTA","01","OFF PREMISSE","01","OFF PREMISSE"," ","71","71 - OFICINA","   "]
["J315211017","31 - RODRIGUEZ WLADIMIR","VALLE ARRIBA ATLETIC CLUB","CHEF AND CATERING 2020,C.A."," ","CHEF AND CATERING 2020,C.A.","AVENIDA PRINCIPAL,URBANIZACION VALL","E ARRIBACLUB ATLETIC VALLE ARRIBA"," ","0212.975.67.89"," "," ","CARACAS"," "," "," "," ","EDGAR VELARDE"," "," ","CHEF AND CATERING 2020,C.A.","AVENIDA PRINCIPAL,URBANIZACION VALL","E ARRIBACLUB ATLETIC VALLE ARRIBA"," "," "," "," "," "," ",null,"J-31521101-7","B-11200068","89250","No","05","CREDITO 5 DIAS","30","PARROQUIA EL RECREO","04","10","CLUB SOCIALES","02","ON PREMISSE","02","ON PREMISSE"," ","31"," ","   "]
["J315277476","09 - CLIENTE INHABILITADO","MALABAR GROUP,C.A.","RESTAURANTE LOLA","265.8703","MALABAR GROUP,C.A.","AVENIDA SAN JUAN BOSCO CON 5TA TRAN","DE ALTAMIRA QUINTA Nº 1303"," ","(0212) 265.87.03"," ","malabargroup@gmail.com","CARACAS"," "," "," ","CAMBIO V-31 vs V-332 200421","MAGDALENA VALLENILLA"," DE JESSIER"," ","MALABAR GROUP,C.A.","AVENIDA SAN JUAN BOSCO CON 5TA TRAN","SVERSAL DE ALTAMIRA QUINTA Nº 1303"," "," ","0212-265.78.94"," ","RECIBE  LUNES A VIERNES"," 09:00 AM A 04:00 PM","MIERCOLES","J-31527747-6","PARTICULAR","15000","No","05","CREDITO 5 DIAS","35","EL ROSAL-CHACAO","04","07","RESTAURANTES","02","ON PREMISSE","02","ON PREMISSE","09","09","09 - CLIENTE INHABILITADO","RECIBE  LUNES A VIERNES  09:00 AM A 04:00 PM"]
["J315383039","09 - CLIENTE INHABILITADO","LA NUEVA CAZUELA 2.006, C.A.","LA NUEVA CAZUELA 2.006"," ","LA NUEVA CAZUELA 2.006, C.A.","CALLE LOS APAMATES, CASA Nº 11 Y 9","PARROQUIA EL RECREO ZONA SABANA","GRANDE - CARACAS","(0212) 763-04-39"," "," ","CARACAS"," "," "," ","CAMBIO DE Z 31 A ZONA 09 200919 JA","HUANLIN LIANG"," "," ","LA NUEVA CAZUELA 2.006, C.A.","CALLE LOS APAMATES, CASA Nº 11 Y 9","PARROQUIA EL RECREO ZONA SABANA","GRANDE AL LADO RESTAURANT TASCA","ROSSI","(0212) 763-04-39"," "," "," ","MARTES","J-31538303-9","5-C-1749","0","Sí","00","CONTADO","09","CLIENTE INHABILITADO","04","07","RESTAURANTES","02","ON PREMISSE","02","ON PREMISSE","09","09","09 - CLIENTE INHABILITADO","   "]
["J315594641","04 - MARTINS ANTONIO","MIKRO 760 S.A","MIKRO 760 S.A"," ","MIKRO 760 S.A","PROLONGACION ROMULO GALLEGOS","URB. LA URBINA EDF. MAKRO PISO 1"," ","0212/242-40-11"," "," ","CARACAS"," "," "," "," ","BARROSO SILVA GUSTAV","AMERICA ALONZO"," ","MIKRO 760 S.A","PROLONGACION ROMULO GALLEGOS","URB. LA URBINA EDF. MAKRO PISO 1"," "," ","0212/ 242-40-11"," ","TRASPASADO A LA ZONA 40","JULIO TORRES",null,"J-31559464-1","MN-00046","89250","No","00","CONTADO"," ",null,"03","04","CADENAS AUTOM. NACIONALES","00","ESTANDAR","00","ESTANDAR"," ","04"," ","TRASPASADO A LA ZONA 40 JULIO TORRES"]
["J315798298","09 - CLIENTE INHABILITADO","EL PALADAR DEL PATRIARCA, C.A","EL PALADAR DEL PATRIARCA, C.A"," ","EL PALADAR DEL PATRIARCA, C.A","AV  FRANCISCO DE MIRANDA, ENTRE AV","ANDRES BELLO Y 1ERA AV C.C CENTRO","PLAZA. NIVEL 6. LOCAL 6-4 Y C","0212-285-42-12","0416-820-00-67","elpaladarp@gmail.com","CARACAS"," "," "," ","CAMBIO Z - 31 A Z - 09 200919 GA","ORLANDO J. CARRILLO"," "," ","EL PALADAR DEL PATRIARCA, C.A","AV  FRANCISCO DE MIRANDA, ENTRE AV","ANDRES BELLO Y 1ERA AV C.C CENTRO","PLAZA. NIVEL 6. LOCAL 6-4 Y C"," ","0416 - 820.00.67"," "," "," ",null,"J-31579829-8","10040376","15000","Sí","00","CONTADO","31","LA CASTELLANA","04","07","RESTAURANTES","02","ON PREMISSE","02","ON PREMISSE","09","09","09 - CLIENTE INHABILITADO","   "]
["J315945541","43 - RIVERO CARLOS","LICORERIA LA PEÑITA, C.A","LICORERIA LA PEÑITA","28-06-16","LICORERIA LA PEÑITA, C.A","CARRERTERA NACIONAL CHARALLAVE","CUA LOCAL ARICHUNA N°PB DISTRIBUIDO","R PEÑITA","(0239) 365.81.24","(0424) 259.44.68","agonzalez.megalicor@gmail.com","CHARALLAVE"," "," ","BLOQ P/MHP 28 DIAS CALLE 210319 WP","DESB. EVALUAR COND CREDIT 040419 WP","NOBERTO RIBEIRO","JAVIER PARGA"," ","LICORERIA LA PEÑITA","CARRERTERA NACIONAL CHARALLAVE","CUA LOCAL ARICHUNA N°PB DISTRIBUIDO","R PEÑITA"," "," "," ","RECIBE  LUNES A JUEVES","10:00 AM A 05:00 PM","LUNES","J-31594554-1","P7455-MN","89250","No","05","CREDITO 5 DIAS","43","PROLICOR / CELICOR","05","18","LICORERIAS/BODEGONES","01","OFF PREMISSE","01","OFF PREMISSE","43","43","01-CARLOS DA SILVA -FRANQUICIAS PROLICOR/CELICOR","RECIBE  LUNES A JUEVES 10:00 AM A 05:00 PM"]
["J316052109","36  CLIENT-CORPORAT-OFIC.","TOLCA TRANSP.Y OPER. LOGISTICAS,C.A","TOLCA TRANSP.Y OPER. LOGISTICAS,C.A"," ","TOLCA TRANSPORTE Y OPERACIONES LOGISTICAS, C.A.","AV. JOSE ANGEL LAMAS CC CENTRO","INDUSTRIAL PALO GRANDE NIVEL PB","LOCAL G-1 URBANIZACION INDUSTRIAL","(0212) 461-32-96","(0416) 621-16-41"," ","CARACAS"," "," "," "," ","TIRSO INFANTE"," "," ","TOLCA TRANSP.Y OPER. LOGISTICAS,C.A","AV. JOSE ANGEL LAMAS CC CENTRO","INDUSTRIAL PALO GRANDE NIVEL PB","LOCAL G-1 URBANIZACION INDUSTRIAL","SAN MARTIN AL LADO DEL HOSP.MILITAR","(0212) 461-32-96"," "," "," ","CONTADO","J-31605210-9","PARTICULAR","89250","No","05","CREDITO 5 DIAS","33","CENTRO-CANDELARIA","06","31","PARTICULAR","00","ESTANDAR","00","ESTANDAR","36","36","71 - OFICINA","   "]
["J316191710","09 - CLIENTE INHABILITADO","INVERSIONES HAWAII KAI FAG, C.A","HAWAII KAI","20-07-16","INVERSIONES HAWAII KAI FAG, C.A","AV LEONARDO DA VINCI EDIF PIGALLE","PISO SOTANO LOCAL SOTANO Y","SEMISOTANO ZONA COLINAS DE BELLO","(0414) 255-37-07"," "," ","CARACAS","MONTE CARACAS"," "," ","CLIENTE INHABILITADO C09 130919 WP","MARIYULY OSORIO S.","ALEX OSORIO SUAREZ"," ","HAWAII KAI","AV LEONARDO DA VINCI EDIF PIGALLE","PISO SOTANO LOCAL SOTANO Y","SEMISOTANO ZONA COLINAS DE BELLO","MONTE CARACAS","(0414) 255-37-07"," ","LUNES  A VIERNES","08:00AM   11:30AM","JUEVES","J-31619171-0","05-C-002115","15000","Sí","00","CONTADO","30","PARROQUIA EL RECREO","04","09","DISCOTECAS Y NIGHT CLUBS","02","ON PREMISSE","02","ON PREMISSE","09","09","09 - CLIENTE INHABILITADO","LUNES  A VIERNES 08:00AM   11:30AM"]
["J316354806","502 - DRA. ALEXI Y. PINT0","LA TERRAZA DE LOS ALTOS 1007, C.A.","LA TERRAZA DE LOS ALTOS 1007, C.A."," ","LA TERRAZA DE LOS ALTOS 1007, C.A.","CARRETERA PANAMERICANA C.C.","CAPODIMONTE NIVEL P.B. LOCAL 1 URB.","PICOT LAS SALIAS","(0212) 373-23-20"," "," ","S.ANTONIO DE LOS ALT","S. ANTONIO DE LOS ALTOS EDO.MIRANDA"," "," "," ","EMELI HERNANDEZ","RONEL COLMENARES"," ","LA TERRAZA DE LOS ALTOS 1007, C.A.","CARRETERA PANAMERICANA C.C.","CAPODIMONTE NIVEL P.B. LOCAL 1 URB.","PICOT LAS SALIAS KM 13,5","S.ANTONIO DE LOS ALTOS EDO. MIRANDA","(0212) 373-23-20"," ","PASADO A LEGAL DRA.ALEXI","PINTO EL 13-09-2011",null,"J-316354806","MN-0011/2006","0","No","00","CONTADO","25","LOS TEQUES","06","31","PARTICULAR","02","ON PREMISSE","02","ON PREMISSE"," ","502"," ","PASADO A LEGAL DRA.ALEXI PINTO EL 13-09-2011"]
["J316372642","20 - DIEGO MANUEL","VIVERES LAS MERCEDES JJFA, C.A.","VIVERES LAS MERCEDES JJFA, C.A."," ","VIVERES LAS MERCEDES JJFA, C.A.","AVDA. PPAL. DE LAS PALMAS URB. LAS","PALMAS EDF. LAS MERCEDES PB. LOCAL","A Y B","(0212) 793.10.82"," ","viveresmercedes@hotmail.com","CARACAS"," "," "," "," ","FERNANDO DOS SANTOS"," "," ","VIVERES LAS MERCEDES JJFA, C.A.","AVDA. PPAL. DE LAS PALMAS URB. LAS","PALMAS EDF. LAS MERCEDES PB. LOCAL","A Y B"," ","(0212) 793-10-82"," ","RECIBE  LUNES A JUEVES"," 09:00 AM A 01:00 PM","LUNES Y MIERCOLES","J-31637264-2","MN-1710","89250","No","05","CREDITO 5 DIAS","20","CENTRO DE CARACAS","06","21","SUPERMERCADOS/AUTOMERCADO","01","OFF PREMISSE","01","OFF PREMISSE","20","20","02 - VICTOR TORRES - OFF","RECIBE  LUNES A JUEVES  09:00 AM A 01:00 PM"]
["J316555208","09 - CLIENTE INHABILITADO","CORPORACION R.I.R. C.A.","CORPORACION R.I.R. C.A.","09/03/2020","CORPORACION R.I.R. C.A.","AV URDANETA Y EL PARQUE LOCAL C.C.","GALERIAS AVILA CENTER LOCAL ANEXO A","Y B URB SAN BERNANDINO CARACAS","0424-1452395"," ","ZAMBOGRILL@GMAIL.COM","CARACAS","DISTRITO CAPITAL ZONA POSTAL 1010"," ","CAMBIO V-31 vs V-335 200421","CAMBIO DE ZONA 31 A 09 22112021 ST","LEANDRO DE SOUSA"," "," ","CORPORACION R.I.R. C.A.","AV URDANETA Y EL PARQUE LOCAL C.C.","GALERIAS AVILA CENTER LOCAL ANEXO A","Y B URB SAN BERNANDINO CARACAS","DISTRITO CAPITAL ZONA POSTAL 1010","0424-1452395"," ","RECIBE DE LUNES A VIERNES","9:00AM A 11:30AM","JUEVES","J-31655520-8","TRAMITE 001008","15000","No","05","CREDITO 5 DIAS","09","CLIENTE INHABILITADO","05","07","RESTAURANTES","01","OFF PREMISSE","01","OFF PREMISSE","09","09","09 - CLIENTE INHABILITADO","RECIBE DE LUNES A VIERNES 9:00AM A 11:30AM"]
["J316820181","36  CLIENT-CORPORAT-OFIC.","SEND A FRUIT, C.A.","SEND A FRUIT, C.A."," ","SEND A FRUIT, C.A.","AV.FRANCISCO DE MIRANDA C/1RA.","AV DE LOS PALOS GRANDES ALTAMIRA","EDIF. R OXUL P.B. L-5 Y 6","(0212)285.13.58"," "," ","CARACAS"," "," "," "," ","JACKS ORLANDO CASTRO","MENDOZA CI. 6856412","JOSE R BUVAT DE V.","SEND A FRUIT, C.A.","CALLE LA GUAIRITA CON CALLE","HIPICA AL LADO DEL CENTRO COMERCIAL","TROLI, EDIF.ESCENA 8,PTO.REF POR LA","C/ DE LAS MERCEDES AL EUROBUILDING","(0212)285.13.58"," ","PERSONA CONTACTO","RUBEN SUVERO",null,"J-31682018-1","PARTICULAR","89250","No","05","CREDITO 5 DIAS","71","OFICINA","06","31","PARTICULAR","02","ON PREMISSE","02","ON PREMISSE","36","36","71 - OFICINA","PERSONA CONTACTO RUBEN SUVERO"]
["J317017609","09 - CLIENTE INHABILITADO","ROSMILICOR 2020, C.A","ROSMILICOR 2020, C.A"," ","ROSMILICOR 2020, C.A","CALLE CONCEPCION CASA Nº76 SECTOR","CASCO COLONIAL DE GUATIRE"," ","0414-220-59-00","8 CHD"," ","GUATIRE"," "," "," ","NO DESEA SER C/PREPAGADO 11/03/14","IVAN JOSE LOSSADA","MAITE FERNANDEZ"," ","ROSMILICOR 2020, C.A","CALLE CONCEPCION CASA Nº76 SECTOR","CASCO COLONIAL DE GUATIRE, ANTES DE","LA ENTRADA AL HOSPITALITO"," ","(0414) 220-59-00"," "," "," ",null,"J-31701760-9","DHM-024-MN-2006","15000","Sí","00","CONTADO","11","GUARENAS","05","18","LICORERIAS/BODEGONES","01","OFF PREMISSE","01","OFF PREMISSE","09","09","09 - CLIENTE INHABILITADO","   "]
["J317183665","09 - CLIENTE INHABILITADO","BOD. Y LICORERIA LOS SURFISTAS, S.A","BOD. Y LICORERIA LOS SURFISTAS, S.A"," ","BODEGON Y LICORERIA LOS SURFISTAS, S.A.","CALLE LA LINEA. CASA PARCELA NRO 10","URB.CARENERO,HIGUEROTE EDO. MIRANDA"," ","(0416) 529-94-10"," "," ","HIGUEROTE"," "," "," ","C/SUP-01 140317 FZA VTAS LA/HD","DELGADILLO S. YIMI J"," "," ","BODEGON Y LICORERIA LOS SURFISTAS,","CALLE LA LINEA. CASA PARCELA NRO 10","URB.CARENERO,HIGUEROTE EDO. MIRANDA"," "," ","(0416) 529-94-10"," ","RECIBE DE LUNES A VIERNES","TODO EL DIA","JUEVES","J-31718366-5","039-MN-613","15000","Sí","00","CONTADO","12","BARLOVENTO","05","18","LICORERIAS/BODEGONES","01","OFF PREMISSE","01","OFF PREMISSE","09","09","09 - CLIENTE INHABILITADO","RECIBE DE LUNES A VIERNES TODO EL DIA"]
["J317279280","36  CLIENT-CORPORAT-OFIC.","INVERSIONES RIVESPA, C.A.","INVERSIONES RIVESPA, C.A.","07/09/16","INVERSIONES RIVESPA, C.A.","AV. ÑOS EUCALIPTUS QTA NRO 06 CONJU","NTO RESD LOS JARDINES URB LOS PARQU","ES CARRIZAL EDO MIRANDA","0212 3831729"," "," ","CARACAS"," "," "," "," ","NORIBEL RIVAS"," "," ","INVERSIONES RIVESPA, C.A.","AV. LOS EUCALIPTUS QTA NRO 06 CONJU","NTO RESD LOS JARDINES URB LOS PARQU","ES CARRIZAL EDO MIRANDA"," ","0212 3831729"," "," "," ",null,"J-31727928-0","PARTICULAR","89250","No","05","CREDITO 5 DIAS","36","VTAS.CORPORATIVAS","08","33","RELACIONADOS","00","ESTANDAR","00","ESTANDAR","36","36","71 - OFICINA","   "]
["J317444515","71 - OFICINA","TRANSPORTE RONALBER, C.A.","TRANSPORTE RONALBER, C.A."," ","TRANSPORTE RONALBER, C.A.","CALLE 146 LOCAL Nº 62-190 ZONA INDU","STRIAL SAN FRANCISCO MARACAIBO","EDO ZULIA","0261 7360389"," ","marilyn.rodriguez@nubeazul.com.ve","MARACAIBO"," "," "," "," "," "," "," ","TRANSPORTE RONALBER, C.A.","CALLE 146 LOCAL Nº 62-190 ZONA INDU","STRIAL SAN FRANCISCO MARACAIBO","EDO ZULIA"," ","0261 7360389"," "," "," ",null,"J-31744451-5","PARTICULAR","2200","No","05","CREDITO 5 DIAS","71","OFICINA","08","33","RELACIONADOS","00","ESTANDAR","00","ESTANDAR"," ","71","71 - OFICINA","   "]
["J317684842","09 - CLIENTE INHABILITADO","INVERSIONES AUDACA, C.A","SAMOA EL HATILLO","150115","INVERSIONES AUDACA, C.A","CALLE BOLIVAR CC CENTRO GALERIA EL","HATILLO NIVEL PB LOCAL 12 URB EL","HATILLO","(0212) 286.04.28","(0414) 404.98.79","gerenciacompras.samoa@gmail.com","CARACAS"," "," "," ","REEST-V-31 AL V-09 20092019 MYZ","BRAVO IZA AURKI"," "," ","SAMOA EL HATILLO","CALLE BOLIVAR CC CENTRO GALERIA","EL HATILLO NIVEL PB LOCAL 12 URB","EL HATILLO"," ","0212/286-93-61"," ","RECIBE  LUNES A VIERNES"," 09:00 AM A 06:00 PM","JUEVES","J-31768484-2","TRANSITO","15000","Sí","00","CONTADO","32","SUCRE - BARUTA","04","07","RESTAURANTES","02","ON PREMISSE","02","ON PREMISSE","09","09","09 - CLIENTE INHABILITADO","RECIBE  LUNES A VIERNES  09:00 AM A 06:00 PM"]
["J387775297","502 - DRA. ALEXI Y. PINT0","LICORERIA UN BUEN GLU-GLU,C.A.","LICORERIA UN BUEN GLU-GLU,C.A."," ","LICORERIA UN BUEN GLU-GLU,C.A.","URB. CABO CODERA EDIF.SANTA MARIALO","CALES,B Y C  AV. BARLOVENTO"," ","3237442/414-2793939"," "," ","HIGUEROTE"," "," "," "," ","RAFAEL RAMON ALVAREZ"," ARCINIEGAS"," ","LICORERIA UN BUEN GLU-GLU,C.A.","URB. CABO CODERA EDIF.SANTA MARIALO","CALES,B Y C  AV. BARLOVENTO"," "," "," "," ","BLOQUEADO PASO A LEGAL","DRA. ALEXI PINTO 28-03-12",null,"J-38777529-7","M-N 1029","15000","No","00","CONTADO","12","BARLOVENTO","05","18","LICORERIAS/BODEGONES","01","OFF PREMISSE","01","OFF PREMISSE"," ","502","01 - CARLOS DA SILVA","BLOQUEADO PASO A LEGAL DRA. ALEXI PINTO 28-03-12"]
["J400224241","09 - CLIENTE INHABILITADO","INVERSIONES HOLLYWOOD DINNER,C.A","INVERSIONES HOLLYWOOD DINNER,C.A"," ","INVERSIONES HOLLYWOOD DINNER,C.A","CTRA CARRETERA PANAMERICANA LOCAL","LA CASONA I NRO M-1 Y M-2 LOCAL NO","APLICA URB LA ROSALEDA","(0212) 37264.06","(0424) 157.12.80","hollywooddinner@gmail.com","LOS TEQUES"," "," "," ","CAMBIO DE ZONA 25 A 09 211122 LL","JOSEPH DE JESUS DE F","AGOSTINHO DE JESUS"," ","INVERSIONES HOLLYWOOD DINNER,C.A","CTRA CARRETERA PANAMERICANA LOCAL","LA CASONA I NRO M-1 Y M-2 LOCAL NO","APLICA URB LA ROSALEDA"," ","(0212) 372-64-00","0414) 174-67-36","RECIBE  LUNES A VIERNES"," 09:00 AM A 05:00 PM","MIERCOLES Y JUEVES","J-40022424-1","C-0032/2013","15000","Sí","00","CONTADO","09","CLIENTE INHABILITADO","04","07","RESTAURANTES","02","ON PREMISSE","02","ON PREMISSE","09","09","09 - CLIENTE INHABILITADO","RECIBE  LUNES A VIERNES  09:00 AM A 05:00 PM"]
["J400616859","20 - DIEGO MANUEL","BODEGON BRISAS DEL PANTEON C.A","BODEGON BRISAS DEL PANTEON C.A","28/10/21","BODEGON BRISAS DEL PANTEON C.A","AVENIDA PANTEON, EDIFICIO 110,","PISO PB, LOCAL 1, ZONA ESQUINA","LAS BRISAS CARACAS DISTRITO CAPITAL","0424-1708171"," "," "," "," "," "," "," ","EDWIN ESPINOZA","HEATHCLIFF ESCULPI"," ","BODEGON BRISAS DEL PANTEON C.A","AVENIDA PANTEON, EDIFICIO 110,","PISO PB, LOCAL 1, SAN JOSE NORTE","ENTRE ESQUINA LAS BRISAS A REMEDIO"," ","0424-1708171"," ","RECIBE DE LUNES A VIERNES","DE 11:00AM A 5:00PM","JUEVES","J-40061685-9","MN - 0229","89250","No","05","CREDITO 5 DIAS","20","CENTRO DE CARACAS","05","18","LICORERIAS/BODEGONES","01","OFF PREMISSE","01","OFF PREMISSE","20","20","02 - VICTOR TORRES - OFF","RECIBE DE LUNES A VIERNES DE 11:00AM A 5:00PM"]
["J400823862","09 - CLIENTE INHABILITADO","FRESH LA CASTELLANA C.A","FRESH  FISH LA CASTELLANA"," ","FRESH LA CASTELLANA C.A","AV SAN JUAN BOSCO CON 2DA","TRANSVERSAL EDIF YAMIN GOURMET","PISO 1 LOCAL 4 URB ALTAMIRA","(0212) 731.82.10","0"," ","CARACAS"," "," "," ","CAMBIO DE ZONA 32 A 09 22/10/21 ST","AQUILES SIMON GARCIA"," "," ","FRESH FISH LA CASTELLANA","AV SAN JUAN BOSCO CON 2DA","TRANSVERSAL EDIF YAMIN GOURMET","PISO 1 LOCAL 4 URB ALTAMIRA"," ","0212-731-82-10"," ","RECIBE  LUNES A VIERNES"," 09:00 AM A 12:00 PM","JUEVES","J-40082386-2","70100001016","15000","No","05","CREDITO 5 DIAS","09","CLIENTE INHABILITADO","04","20","DELICATESES/FRIGO/CHARCUT","02","ON PREMISSE","02","ON PREMISSE","09","09","09 - CLIENTE INHABILITADO","RECIBE  LUNES A VIERNES  09:00 AM A 12:00 PM"]
["J401052142","88 - DINAZORSUR","DINAZORSUR, C.A.","DINAZORSUR, C.A."," ","DINAZORSUR, C.A.","CALLE 06 LOCAL NRO 8 ZONA PARQUE","INDUSTRIAL LOS PINOS, PUERTO ORDAZ","CIUDAD GUAYANA"," "," "," ","PUERTO ORDAZ"," "," "," "," ","ANTONIO V MARCHELLI"," "," ","DINAZORSUR, C.A.","CALLE 06 LOCAL NRO 8 ZONA PARQUE","INDUSTRIAL LOS PINOS, PUERTO ORDAZ","CIUDAD GUAYANA"," "," "," "," "," ",null,"J-40105214-2","MY-125 CATM","25000.000000","No","15","CREDITO 15 DIAS","88","DINAZORSUR","08","33","RELACIONADOS","19","SUCU-PROLI-CO-DISTR CILCA","19","SUCU-PROLI-CO-DISTR CILCA","88","88","08 - SUCURSALES NUBE AZUL","   "]
["J401344143","36  CLIENT-CORPORAT-OFIC.","BODEGON PA Q ANOTONIO C.A","BODEGON PA Q ANOTONIO C.A","051223EP","BODEGON PA Q ANOTONIO C.A","CALLE PROGRESO ESQUINA COLOMBIA","EDIF SOUSA2 LOCAL PB SECTOR CENTRO,","PUNTO FIJO EDO FALCON"," "," "," "," "," "," "," "," ","CARMEN ARIAS"," "," ","BODEGON PA Q ANOTONIO C.A","CALLE PROGRESO ESQUINA COLOMBIA EDF","SOUSA 2 LOCAL PB SECTOR CENTRO","PUNTO FIJO EDO FALCON"," "," "," "," "," ",null,"J-40134414-3","PMU036414","89250","No","05","CREDITO 5 DIAS","36","VTAS.CORPORATIVAS","06","18","LICORERIAS/BODEGONES","00","ESTANDAR","00","ESTANDAR","36","36","36-CORPORATIVO","   "]
["J401678858","09 - CLIENTE INHABILITADO","RESTAURANT  LE COQ D´OR 2012, C.A","RESTAURANT  LE COQ D´OR 2012, C.A"," ","RESTAURANT  Y DELICATESES LE COQ D´OR 2012, C.A","AV. RIO DE JANEIRO EDF CENTRO RIO","DE JANEIRO PISO B LOCAL 10 URB LAS","MERCEDES BARUTA ESTADO MIRANDAS","(0412)926-96-02","20/02/2020","lecoq.rest@gmail.com","BARUTA"," "," "," ","CAMBIO DE ZONA 35 A 09 140921 ST","JOEL GARCIA"," "," ","RESTAURANT  LE COQ D´OR 2012, C.A","AV. RIO DE JANEIRO DFC CENTRO RIO D","JANEIRO PISO B LOCAL 10 URB LAS","MERCEDES BARUTA ESTADO MIRANDA"," ","(0412)926-96-02"," ","RECIBE DE LUNES A VIERNES","DE 9:00 AM A 12:00 PM","MARTES","J-40167885-8","B1070100CVC","15000","No","05","CREDITO 5 DIAS","09","CLIENTE INHABILITADO","04","07","RESTAURANTES","02","ON PREMISSE","02","ON PREMISSE","09","09","09 - CLIENTE INHABILITADO","RECIBE DE LUNES A VIERNES DE 9:00 AM A 12:00 PM"]
["J401824854","09 - CLIENTE INHABILITADO","OPERADORA MANZANARES, C.A.","AVILA BURGER MANZANARES","260813","OPERADORA MANZANARES, C.A.","AV PPAL DE MANZANARES CC MANZANARES","PLAZA II NIVEL AV LOCAL AV-03 URB","MANZANARES, CARACAS","(0212) 285-08-35","(0212) 284-18-50"," ","CARACAS-LA TRINIDAD"," "," "," ","CAMBIO DE ZONA 31 A ZONA 09 JA","JOSEFINA ACOSTA"," "," ","AVILA BURGER MANZANARES","AV PPAL LOMAS DE PRADOS DEL ESTE","CON AV PPAL C C MANZANARES PLAZA","NUEVA ETAPA P.B. BARUTA CARACAS"," ","(0212) 285-08-35"," ","DIA DE VISITA LUNES"," ","VIERNES","J-40182485-4","TRAMITE","15000","Sí","00","CONTADO","32","SUCRE - BARUTA","04","07","RESTAURANTES","02","ON PREMISSE","02","ON PREMISSE","09","09","09 - CLIENTE INHABILITADO","DIA DE VISITA LUNES  "]
["J401848729","09 - CLIENTE INHABILITADO","SOHO ALTAMIRA INVERSIONES, C.A","SOHO ALTAMIRA INVERSIONES, C.A"," ","SOHO ALTAMIRA INVERSIONES, C.A","AV. LUIS ROCHE 5TA TRANSVERSAL","C.C.ALTAMIRA VILLAGE NIVEL PB LOCAL","PB-02 ALTAMIRA","(0212) 735.09.22","(0212) 735.09.24","sohopizzasaltamira@gmail.com","CARACAS-ALTAMIRA"," "," "," ","REEST-V-31 AL V-09 20092019 MYZ","ANTONIO ZIEGLER"," "," ","SOHO ALTAMIRA INVERSIONES, C.A","AV. LUIS ROCHE 5TA TRANSVERSAL","C.C.ALTAMIRA VILLAGE NIVEL PB LOCAL","PB-02 ALTAMIRA"," ","(0212) 735-09-24"," ","LUNES A VIERNES","7:00AM A 11:00AM","VIERNES","J-40184872-9","70100000950","15000","Sí","00","CONTADO","31","LA CASTELLANA","04","07","RESTAURANTES","02","ON PREMISSE","02","ON PREMISSE","09","09","09 - CLIENTE INHABILITADO",{"$f":"CONCATENATE(AB3394,\" \",AC3394)","v":"LUNES A VIERNES 7:00AM A 11:00AM"}]
["J402129432","13 - GUDIÑO FABIAN","INVER Y BOD MIS QUERIDOS CHAMOS C.A","INVER Y BOD MIS QUERIDOS CHAMOS C.A","250418","INVER Y BOD MIS QUERIDOS CHAMOS C.A","CALLE SANTORIO DEL AVILA LOCAL N° 1","URB BOLEITA NORTE"," ","0412-2546441"," ","INVV.BGA2018@GMAIL.COM"," "," "," ","CAMBIO V-43 AL V-10 MYZ 16-02-22 FL","CAMBIO V-10 AL V-13 050923 RM","RABIEL PINEDA"," "," ","INVER Y BOD MIS QUERIDOS CHAMOS C.A","CALLE SANATARIO DEL AVILA LOCAL 19","URB BOLEITAR NORTE"," "," "," "," ","LUNES A VIERNES","10 AM A 3 PM","MARTES","J-40212943-2","EN TRAMITE","89250","No","05","CREDITO 5 DIAS","10","ALTAMIRA-OFF","05","18","LICORERIAS/BODEGONES","01","OFF PREMISSE","01","OFF PREMISSE","13","13","01 - GUERRERO SALVADOR - OFF","LUNES A VIERNES 10 AM A 3 PM"]
["J402330995","09 - CLIENTE INHABILITADO","INVERSIONES AVRF., C.A.","INVERSIONES AVRF., C.A."," ","CENTRO SOCIAL CULTURAL VIRGEN DE FATIMA","AV. PRINCIPAL DE CASTILLEJO CON","CALLE B LOCAL CLUB DE LOS PORTUGUES","ANEXO NRO. A GUATIRE EDO. MIRANDA","(0412) 263-03-12"," "," ","GUATIRE"," "," "," ","CAMBIO Z-11 A Z-01 05/09/18 GA","ARIANYS G. LEON"," "," ","INVERSIONES AVRF., C.A.","AV. PRINCIPAL DE CASTILLEJO CON","CALLE B LOCAL CLUB DE LOS PORTUGUES","ANEXO NRO. A GUATIRE EDO. MIRANDA"," ","(0412) 263-03-12"," ","RECIBE DE LUNES A JUEVES","3:00 PM A 5:00 PM","MIERCOLES","J-40233099-5","DHM-025-C-2006","15000","Sí","00","CONTADO","16","GUATIRE","04","10","CLUB SOCIALES","01","OFF PREMISSE","01","OFF PREMISSE","09","09","09 - CLIENTE INHABILITADO","RECIBE DE LUNES A JUEVES 3:00 PM A 5:00 PM"]
["J402480520","43 - RIVERO CARLOS","DELICORES LA CASTELLANA 777, C.A","CELICOR BOUTIQUE"," ","DELICORES LA CASTELLANA 777, C.A","AV SAN PELIPE QUINTA BOCRE","URB LA CASTELLANA CARACAS","CHACAO","NO POSEE","0414 254 54 42","pellerom@gmail.com","CARACAS"," ","TRASP DE ZONA 43 A 42 LA/MYZ","CAMBIO DE ZONA 442 A 10 20/07/22 ST","CAMBIO DE ZONA 10 A 43 15/12/22 ST","ENMANUEL DE ANDRADE","ALFREDO LASRY RODRIG","MARIANO PELLEJERO","CELICOR BOUTIQUE","AV SAN FELIPE QTA BOCRE","URB LA CASTELLLANA CARACAS"," "," ","(0212) 909-28-23"," ","RECIBE  LUNES A JUEVES","11:00AM A 3:00PM","LUNES","J-40248052-0","TRAMITE","89250","No","05","CREDITO 5 DIAS","42","PROLICOR / CELICOR","05","18","LICORERIAS/BODEGONES","01","OFF PREMISSE","01","OFF PREMISSE","43","43","01- GUERRERO SALVADOR-FRANQUICIAS PROLICOR/CELICOR","RECIBE  LUNES A JUEVES 11:00AM A 3:00PM"]
["J402721773","09 - CLIENTE INHABILITADO","INVERSIONES CATALUNYA LLE77, C.A.","INVERSIONES CATALUNYA LLE77, C.A."," ","INVERSIONES CATALUNYA LLE77, C.A.","AV. FINAL CALLE NUEVA CASA NRO. 13","FRENTE AL HOSPITAL ERNESTO REGENER","SECTOR EL CENTRO RIO CHICO EDO.","(0234) 872.48.04"," "," ","BARLOVENTO","DESBLOQ. 22-10-15 CUMPL.3 PREP S.U.","2CHD 231015-160916 25HP MYZ","6CHED 011115/151116 25HP LA/MYZ","C/SUP-01 060217 FZA VTAS","LAURA CENTENO"," "," ","INVERSIONES CATALUNYA LLE77, C.A.","AV. FINAL CALLE NUEVA CASA NRO. 13","FRENTE AL HOSPITAL ERNESTO REGENER","SECTOR EL CENTRO RIO CHICO EDO.","MIRANDA","(0234) 872-48-04"," ","RECIBE DE LUNES A VIERNES","CERRADO DE 12:00 A 2:00","MARTES","J-40272177-3","2010-DHMPUL-MN-004","15000","Sí","00","CONTADO","12","BARLOVENTO","05","18","LICORERIAS/BODEGONES","01","OFF PREMISSE","01","OFF PREMISSE","09","09","09 - CLIENTE INHABILITADO","RECIBE DE LUNES A VIERNES CERRADO DE 12:00 A 2:00"]
["J403047316","22 - GONZALEZ CARLOS","INVERSIONES IFA LAADE C.A","INVERSIONES IFA LAADE C.A","27/3/23 LL","INVERSIONES IFA LAADE C.A","CALLE FE Y ALEGRIA CASA S/N LOCAL","N° 10 URB  BOQUERONCITO OLIVETT","BRISAS DE PROPATRIA CARACAS","(0414) 324-88-55"," ","Mperez32ve@gmail.com"," "," "," "," "," ","MIGUEL PEREZ DELGADO"," "," ","INVERSIONES IFA LAADE C.A","CALLE FE Y ALEGRIA CASA S/N LOCAL","N° 10 URB BOQUERONCITO OLIVETT","BRISAS PROPATRIA CARACAS"," ","(0414) 324-88-55"," ","RECIBE LUNES A VIERNES","11:00AM A 6:00 PM",null,"J-40304731-6","22 C 002213","89250","No","05","CREDITO 5 DIAS","23","CENTRO-SAN MARTIN","05","22","ABASTOS GRANDES","01","OFF PREMISSE","01","OFF PREMISSE","22","22","02 - TORRES VICTOR - OFF","RECIBE LUNES A VIERNES 11:00AM A 6:00 PM"]
["J403321027","09 - CLIENTE INHABILITADO","LICORERIA LAS GRANDES LIGAS G.A CA","LICORERIA LAS GRANDES LIGAS G.A CA","291117","LICORERIA LAS GRANDES LIGAS G.A CA","CALLE CONCEPCION Y OESTE CON CALLE","RICAURTE LOCAL N° S/N SECTOR CIUDAD","GUATIRE EDO MIRANDA","(0212) 341.31.81"," ","yelit.fernandez@gmail.com","GUATIRE"," "," "," ","CAMBIO DE ZONA 11 A 09 020821 ST","GIL EDUARDO FERNANDE"," "," ","LICORERIA LAS GRANDES LIGAS G.A CA","CALLE CONCEPCION Y OESTE CON CALLE","RICAURTE LOCAL N° S/N SECTOR CIUDAD","GUATIRE EDO MIRANDA"," ","04242107539"," ","RECIBE  LUNES A VIERNES"," 11:00 AM A 4:00 PM","DE LUNES A VIERNES","J-40332102-7","020-MN-2013","15000","No","05","CREDITO 5 DIAS","09","CLIENTE INHABILITADO","05","18","LICORERIAS/BODEGONES","01","OFF PREMISSE","01","OFF PREMISSE","09","09","09 - CLIENTE INHABILITADO","RECIBE  LUNES A VIERNES  11:00 AM A 4:00 PM"]
["J403612161","11 - PEREIRA GENARO","BODEGON ISAQUITO, C.A.","BODEGON ISAQUITO, C.A.","21-08-2015","BODEGON ISAQUITO, C.A.","CALLE EL CEDRAL EDF. MADRIGAL PISO","PB LOCAL 01 SECTOR EL CEDRAL","CAUCAGUA EDO. MIRANDA","(0234) 662.09.89","(0426) 118.08.49"," ","BARLOVENTO"," "," "," "," ","JOAO TIAGO DOS SANTO","S"," ","BODEGON ISAQUITO, C.A.","CALLE EL CEDRAL EDF. MADRIGAL PISO","PB LOCAL 01 SECTOR EL CEDRAL","CAUCAGUA EDO. MIRANDA"," ","(0234) 662-09-89"," ","RECIBE  LUNES A VIERNES"," 11:00 AM A 6:00 PM","LUNES","J-40361216-1","DATMA-MM-0005-02-03-2015","89250","No","05","CREDITO 5 DIAS","12","BARLOVENTO","05","18","LICORERIAS/BODEGONES","01","OFF PREMISSE","01","OFF PREMISSE","11","11","01 - CARLOS DA SILVA - OFF","RECIBE  LUNES A VIERNES  11:00 AM A 6:00 PM"]
["J403674825","35 - PEREZ JOSMAN","INVERSIONES MEU PRAZER, C.A.","INVERSIONES MEU PRAZER, C.A.","23-02-16","INVERSIONES MEU PRAZER, C.A.","AV.LUIS DE CAMOES LOCAL CENTRO","PORTUGUES DE CARACAS NRO PISCINA","URB MACARACUAY CARACAS DISTRITO","NO POSEE","0414 303 60 33","funtedesodacp@hotmail.com","CARACAS","CAPITAL ZONA POSTAL 1071"," "," ","CAMBIO DE  ZONA 32 A 35 260922  MYZ","TONY J. ARAUJO C."," "," ","INVERSIONES MEU PRAZER, C.A.","AV.LUIS DE CAMOES LOCAL CENTRO","PORTUGUES DE CARACAS NRO PISCINA","URB MACARACUAY CARACAS DISTRITO","CAPITAL ZONA POSTAL 1071","0212-636.46.31"," ","RECIBE  MARTES A VIERNES"," 11:00AM A 3:00PM","MIERCOLES","J-40367482-5","TRAMITE","89250","No","05","CREDITO 5 DIAS","32","SUCRE - BARUTA","04","07","RESTAURANTES","02","ON PREMISSE","02","ON PREMISSE","35","35","01 - CARLOS DA SILVA - ON","RECIBE  MARTES A VIERNES  11:00AM A 3:00PM"]
["J403869960","22 - GONZALEZ CARLOS","RESTAURANTE LA ESQ. DEL MONDONGO CA","LICORERIA BAR KANUT","28/9/23 LL","RESTAURANTE LA ESQ. DEL MONDONGO CA","AV SUCRE CON SEGUNDA CALLE DE LA","ZONA INDUSTRIAL DE CATIA LOCAL NRO3","URB ZONA INDUSTRIAL DE CATIA","(0412) 615.15.64"," ","REST.ESQ.MOND2NGO@GMAIL.COM","CARACAS"," "," "," "," ","GABRIEL RODRIGUEZ"," "," ","RESTAURANTE LA ESQ. DEL MONDONGO CA","AV SUCRE CON SEGUNDA CALLE DE LA","ZONA INDUSTRIAL DE CATIA LOCAL NRO3","URB ZONA INDUSTRIAL DE CATIA"," ","(0412) 615.15.64"," ","RECIBE DE MARTES A VIERNE","DE 11:00AM A 4:00 PM",null,"J-40386996-0","LU-2022-026613","89250","No","05","CREDITO 5 DIAS","22","CATIA-JUNQUITO","05","18","LICORERIAS/BODEGONES","01","OFF PREMISSE","01","OFF PREMISSE","22","22","02 - TORRES VICTOR - OFF","RECIBE DE MARTES A VIERNE DE 11:00AM A 4:00 PM"]
["J404255397","09 - CLIENTE INHABILITADO","BODEGON CAPANAPARO, C.A","BODEGON CAPANAPARO"," ","BODEGON CAPANAPARO, C.A","CALLE FINAL CALLEJON MACHADO, EDF.","CLUB DE LA GUARDIA, PISO P.B. OFC.","P.B., URB. EL PARAISO, PARROQUIA EL","(0212) 482-94-12"," ","rafaelcarreroH@hotmail.com","CARACAS","PARAISO. CARACAS DTTO. CAPITAL","BLOQ.MOROS 468 DIAS MYZ/HD 27/12/17","CAMBIO ZONA 02 CLT CERRADO 090117","CAMBIO A ZONA 09 19-09-19 YM","MAXIMO BARTILOMO","RAFAEL CARRERO"," ","BODEGON CAPANAPARO","CALLE FINAL CALLEJON MACHADO, EDF.","CLUB DE LA GUARDIA, PISO P.B. OFC.","P.B., URB. EL PARAISO, PARROQUIA EL","PARAISO. CARACAS DTTO. CAPITAL","(0212) 482-94-12"," ","RECIBE DE LUNES A VIERNES","DE 11:00AM A 4:00PM","VIERNES","J-40425539-7","22-C-1843","0","Sí","00","CONTADO","09","CLIENTE INHABILITADO","06","10","CLUB SOCIALES","01","OFF PREMISSE","01","OFF PREMISSE","09","09","09 - CLIENTE INHABILITADO","RECIBE DE LUNES A VIERNES DE 11:00AM A 4:00PM"]
["J404409939","09 - CLIENTE INHABILITADO","LICORERIA 641, C.A.","LICORERIA 641, C.A."," ","LICORERIA 641, C.A.","CALLE PRINCIPAL LECUMBERRY C.C.","LECUMBERRY NIVEL PB LOCAL 2 Y 1URB.","LECUMBERRY CUA ESTADO MIRANDA","NO POSEE","0412 376 38 93","agustin_gonzalez641@hotmail.com","CUA"," "," "," ","CAMBIO DE ZONA 21 A 09 06/12/22 ST","ARGENIS ANTONIO","GONZALEZ","AGUSTIN GONZALEZ","LICORERIA 641, C.A.","CALLE PRINCIPAL LECUMBERRY C.C.","LECUMBERRY NIVEL PB LOCAL 2 Y 1URB.","LECUMBERRY CUA ESTADO MIRANDA"," ","(0239) 239-05-41"," ","RECIBE  LUNES A VIERNES"," 12:00AM A 5:00PM","MIERCOLES","J-40440993-9","039-MN-994","15000","No","05","CREDITO 5 DIAS","09","CLIENTE INHABILITADO","06","18","LICORERIAS/BODEGONES","01","OFF PREMISSE","01","OFF PREMISSE","09","09","09 - CLIENTE INHABILITADO","RECIBE  LUNES A VIERNES  12:00AM A 5:00PM"]
["J404622500","24 - REYES OSWALDO","ABASTOS INTEROCEANICA, C.A.","ABASTOS INTEROCEANICA","22-09-2015","ABASTOS INTEROCEANICA, C.A.","CALLE 16 BIS LOCAL NRO. 03 URBANIZ.","JARDINES DEL VALLE CARACAS DTTO."," ","(0212) 682.38.66","(0414) 139.10.19"," ","CARACAS"," "," "," "," ","JESUS ALBERTO","MARQUEZ"," ","ABASTOS INTEROCEANICA","CALLE 16 BIS LOCAL NRO. 03 URBANIZ.","JARDINES DEL VALLE CARACAS DTTO.","CAPITAL"," ","(0414) 139-10-19"," ","RECIBE  LUNES A VIERNES"," 11:00AM A 4:00PM","MARTES","J-40462250-0","06-MN-002241","89250","No","05","CREDITO 5 DIAS","24","CARICUAO","05","02","DE LICORES S/FZA DE VTA","01","OFF PREMISSE","01","OFF PREMISSE","24","24","02 - VICTOR TORRES - OFF","RECIBE  LUNES A VIERNES  11:00AM A 4:00PM"]
["J404735437","09 - CLIENTE INHABILITADO","GRILLO SEBUCAN, C.A","GRILLO SEBUCAN","06-08-2015","GRILLO SEBUCAN, C.A","AV. LOS CHORROS CON TRANSVERSAL 10","CC GALERIAS SEBUCAN NIVEL COMERCIAL","1 LOCAL NC1-02 URB. LOS DOS CAMINOS","(0212) 286-41-49"," "," ","CARACAS","CARACAS"," "," ","REEST-V-31 AL V-09 20092019 MYZ","MANUEL TANGIR"," "," ","IL GRILLO","AV. LOS CHORROS CON TRANSVERSAL 10","CC GALERIAS SEBUCAN NIVEL COMERCIAL","1 LOCAL NC1-02 URB. LOS DOS CAMINOS","CARACAS","(0212) 286-41-49"," ","RECIBE DE LUNES A VIERNES","DE 8:30 AM A 11:00 PM","LUNES","J-40473543-7","DRM-148/2015","15000","Sí","00","CONTADO","31","LA CASTELLANA","04","07","RESTAURANTES","02","ON PREMISSE","02","ON PREMISSE","09","09","09 - CLIENTE INHABILITADO","RECIBE DE LUNES A VIERNES DE 8:30 AM A 11:00 PM"]
["J405122706","09 - CLIENTE INHABILITADO","BODEGON Y DELICATESES RIVEIRA BRAVA","BODEGON Y DELICATESES RIVEIRA BRAVA","08-05-2017","BODEGON Y DELICATESES RIVEIRA BRAVA,C.A","CALLE LAS MERCEDES C/CALLE COMERCIO","EDF GKA PISO PB LOCAL N° 2","URB RIO CHICO-EDO MIRANDA","0234/872-45-19"," "," ","RIO CHICO"," "," "," ","CAMB. Z-12 A Z-01 28/09/2018 GA","JUAN WENCESLAO","MAROTE  DE SOSA"," ","BODEGON Y DELICATESES RIVEIRA BRAVA","CALLE LAS MERCEDES C/CALLE COMERCIO","EDF GKA PISO PB LOCAL NUMERO DOS","URB RIO CHICO-RIO CHICO MIRANDA"," ","0234/872-45-19"," ","RECIBE DE LUNES A VIERNES","09:00 AM A 05:00 PM","LUNES","J-40512270-6","2017-DHMPUL-MN-034","15000","Sí","00","CONTADO","12","BARLOVENTO","05","18","LICORERIAS/BODEGONES","01","OFF PREMISSE","01","OFF PREMISSE","09","09","09 - CLIENTE INHABILITADO","RECIBE DE LUNES A VIERNES 09:00 AM A 05:00 PM"]
["J405493194","09 - CLIENTE INHABILITADO","INV. EL GRAN BODEGON DEL TUY, C.A","EL GRAN BODEGON DEL TUY","11-07-16","INV. EL GRAN BODEGON DEL TUY, C.A","CALLE URDANETA LOCAL N° 2 OCUMARE","DEL TUY"," ","(0239)224-52-99"," "," ","OCUMARE DEL TUY"," "," "," ","CAMBIO DE ZONA 21 A 09 06/12/22 ST","JOAO DE SA FIGUEIRA","MANUEL PONTE"," ","EL GRAN BODEGON DEL TUY","CALLE URDANETA LOCAL N° 2 ZONA","CASCO CENTRAL DE OCUMARE DEL TUY","MIRANDA"," ","(0424)255-83-57"," ","LUNES A JUEVES","08:00AM  A 12:00PM","JUEVES","J-40549319-4","MN-001-2016 Y MY 003-2016","15000","No","05","CREDITO 5 DIAS","09","CLIENTE INHABILITADO","05","18","LICORERIAS/BODEGONES","01","OFF PREMISSE","01","OFF PREMISSE","09","09","09 - CLIENTE INHABILITADO","LUNES A JUEVES 08:00AM  A 12:00PM"]
["J405524251","23 - HERNANDEZ JOSÉ D.","DISTRIBUIDORA DE ALIMENTOS EDUALE","LICORERIA EDUALE MONTALBAN","25/5/23 YR","DISTRIBUIDORA DE ALIMENTOS EDUALE","CALLE NRO 50 CC PAEZ NIVEL PB","LOCAL 07 URB MONTALBAN CARACAS","DISTRITO CAPITAL","0424-1758865"," ","ALIMENTOSEDUALE@GMAIL.COM","CARACAS"," "," "," "," ","ZAMBRANO OSCAR","AMARILYS CASTRO"," ","DISTRIBUIDORA DE ALIMENTOS EDUALE","CALLE NRO 50 CC PAEZ","NIVEL PB LOCAL 07 URB MONTALBAN","CARACAS DISTRITO CAPITAL"," ","04241758865"," ","RECIBE MARTES A VIERNES","DE 11:00 AM A 5:00 PM","MARTES A VIERNES","J-40552425-1","LU-2022-032847","89250","No","05","CREDITO 5 DIAS","23","CENTRO-SAN MARTIN","05","18","LICORERIAS/BODEGONES","01","OFF PREMISSE","01","OFF PREMISSE","23","23","02 - TORRES VICTOR - OFF","RECIBE MARTES A VIERNES DE 11:00 AM A 5:00 PM"]
["J405779136","09 - CLIENTE INHABILITADO","CURVA SUD, C.A.","CURVA SUD, C.A.","16-10-2015","CURVA SUD, C.A.","CARRETERA RECTA DE LAS MINAS C.C.","CEPAN NIVEL TERRAZA LOCAL D-1 URB.","LAS MINAS. SAN ANTONIO DE LOS ALTOS","(0424) 176-39-00"," "," ","SAN ANTONIO DE LOS A","EDO. MIRANDA"," ","CAMBIO V-226 SUP 02 201117 MYZ","CAMBIO A LA ZONA 09 19-09-19 YM","FRANCESCO MORALES"," "," ","CURVA SUD, C.A.","CARRETERA RECTA DE LAS MINAS C.C.","CEPAN NIVEL TERRAZA LOCAL D-1 URB.","LAS MINAS. SAN ANTONIO DE LOS ALTOS","EDO. MIRANDA","(0424) 176-39-00"," ","RECIBE DE LUNES A VIERNES","DE 11:00 AM A 4:00 PM","DE LUNES A JUEVES","J-40577913-6","C-0037/2015","0","Sí","00","CONTADO","09","CLIENTE INHABILITADO","04","07","RESTAURANTES","01","OFF PREMISSE","01","OFF PREMISSE","09","09","09 - CLIENTE INHABILITADO","RECIBE DE LUNES A VIERNES DE 11:00 AM A 4:00 PM"]
["J406320684","36  CLIENT-CORPORAT-OFIC.","INVERSIONES DOBLE LL 22, C.A.","INVERSIONES DOBLE LL 22, C.A.","241116","INVERSIONES DOBLE LL 22, C.A.","CALLE BARRIALITO EDIF ARAGUANEY","PISO PH APT PH-A CONJUNTO RESID","VISTA EL VALLE SECTOR LOMAS DE","0212-471.42.79"," "," "," ","URQUIA CARRIZAL MIRNADA"," "," "," ","LUIS RAFAEL GONZALEZ","VIRGINIA PEREZ"," ","INVERSIONES DOBLE LL 22, C.A.","CALLE BARRIALITO EDIF ARAGUANEY","PISO PH-A CONJUNTO RESID VISTA EL","VALLE SECTOR LOMAS DE URQUIA","CARRIZAL MIRANDA","0412-387.21.77","0212-471.42.79"," "," ",null,"J-40632068-4","PARTICULAR","89250","No","05","CREDITO 5 DIAS","36","VTAS.CORPORATIVAS","06","31","PARTICULAR","01","OFF PREMISSE","01","OFF PREMISSE","36","36","71 - OFICINA","   "]
["J406627500","09 - CLIENTE INHABILITADO","CORPORACION PRILIKA, C.A","CORPORACION PRILIKA, C.A"," ","CORPORACION PRILIKA, C.A","AV FRANCISCO DE MIRANDA CC UNICENTR","EL MARQUES NIVEL 7 LOCAL 250-A URB","EL MARQUES CARACAS (PETARE) MIRANDA"," "," "," ","LA CALIFORNIA","ZONA POSTAL 1071","CAMBIO V-42 AL V-10 16-02-22 FL","BLOQ MAYOR 191 DIAS SEGU 240222 MYZ","CAMBIO DE ZONA 10 A 09 10/4/23 YR","SABEH DOUMAT YAUDAT"," "," ","CORPORACION PRILIKA, C.A","AV FRANCISCO DE MIRANDA CC UNICENTR","EL MARQUES NIVEL 7 LOCAL 250 A","CARACAS"," ","0212-2373330"," ","RECIBE DE LUNES A VIERNES","DE 9AM A 4PM","LUNES","J-40662750-0","M-N00071/2019","15000","Sí","05","CREDITO 5 DIAS","10","ALTAMIRA-OFF","05","18","LICORERIAS/BODEGONES","01","OFF PREMISSE","01","OFF PREMISSE","09","09","09 - CLIENTE INHABILITADO","RECIBE DE LUNES A VIERNES DE 9AM A 4PM"]
["J406806455","35 - PEREZ JOSMAN","MARICARO PRODUCCIONES, C.A.","MARICARO PRODUCCIONES, C.A.","09/05/19","MARICARO PRODUCCIONES, C.A.","AV. RIO DE JANEIRO CON CALLE","MUCUCHIES QTA. 46 LOCAL 5 URB. LAS","MERCEDES - CARACAS- MUNIC. BARUTA","(0212) 993-83-18"," ","LLAMAR AL CLIENTE AL MOMENTO DEL DESPACHO","MIRANDA"," "," "," "," ","ARLINE SUAREZ"," "," ","MARICARO PRODUCCIONES, C.A.","AV. RIO DE JANEIRO CON CALLE MACUCH","QTA. 46 LOCAL 5. URB. LAS MERCEDES"," "," ","(0212) - 993-83-18"," ","RECIBE DE LUNES A SABADO","8:00AM-12:00 Y 2 PM-7 PM","MIERCOLES","J-40680645-5","107-0-0001-CVC","89250","No","05","CREDITO 5 DIAS","15","BARUTA","04","09","DISCOTECAS Y NIGHT CLUBS","02","ON PREMISSE","02","ON PREMISSE","35","35","02 - VICTOR TORRES - ON","RECIBE DE LUNES A SABADO 8:00AM-12:00 Y 2 PM-7 PM"]
["J407090518","09 - CLIENTE INHABILITADO","KATARA 101 GOURMET SERVICES, C.A.","KATARA 101 GOURMET SERVICES, C.A.","18-01-16","KATARA 101 GOURMET SERVICES, C.A.","AV COUNTRY CLUB CON AV. ALTAMIRA","CASA COUNTRY CLUB N N/A YRB COUNTRY","CLUB CARACAS - CHACAO","(0212) 261.80.35","(0414) 033.80.12","katara101@gmail.com","CARACAS"," "," "," ","CAMBIO DE ZONA 35 A 06 26/07/22 ST","JUAN M PENZINI"," "," ","KATARA 101 GOURMET SERVICES, C.A.","AV COUNTRY CLUB CON AV. ALTAMIRA","CASA COUNTRY CLUB N N/A YRB COUNTRY","CLUB CARACAS - CHACAO"," ","0212 9954038"," ","RECIBE  MARTES A VIERNES"," 08:00 AM A 04:00 PM","MARTES Y VIERNES","J-40709051-8","PARTICULAR","15000","No","05","CREDITO 5 DIAS","35","EL ROSAL-CHACAO","04","06","BAR/TABER./S. BAR/PUB/TAS","02","ON PREMISSE","02","ON PREMISSE","09","09","09 - CLIENTE INHABILITADO","RECIBE  MARTES A VIERNES  08:00 AM A 04:00 PM"]
["J407473360","09 - CLIENTE INHABILITADO","MMMMM ME GUSTA RESTAURANT CA","MMMMM ME GUSTA RESTAURANT CA","19/02/2020","MMMMM ME GUSTA RESTAURANT CA","AV PERIMETRAL DE SAN ANTONIO DE LOS","ALTOS CC DON BLAS  NIVEL PB LOCAL","E1 Y F1","0212-3723524"," "," ","CARACAS"," "," "," ","CAMBIO DE ZONA 25 A 09 211122 LL","VIERA VIEIRA","LUIS ALBERTO"," ","MMMMM ME GUSTA RESTAURANT CA","AV PERIMETRAL DE SAN ANTONIO DE LOS","ALTOS CC DON BLAS NIVEL PB LOCAL","E1 Y F1"," ","0412-2793747"," ","RECIBE DE LUNES A VIERNES","8:00AM A 3:00PM","MIERCOLES","J407473360","C-0048/2018","15000","No","05","CREDITO 5 DIAS","25","LOS TEQUES","04","07","RESTAURANTES","02","ON PREMISSE","02","ON PREMISSE","09","09","09 - CÑIENTE INHABILITADO","RECIBE DE LUNES A VIERNES 8:00AM A 3:00PM"]
["J407963570","31 - RODRIGUEZ WLADIMIR","OPERADORA GREEN MART CASTELLANA 201","OPERADORA GREEN MART CASTELLANA 201"," ","OPERADORA GREEN MART CASTELLANA 2016, C.A.","AV PRINCIPAL LOS DOS CAMINOS EDIF","PARQUE BOYACA PISO 1 OF 14 URB LOS","DOS CAMINOS CARACAS MIRANDA","04125594476","21-01-2020","greenmartini@gmail.com","LOS DOS CAMINOS"," "," "," ","CAMBIO DE ZONA 35 A 31 08/03/23 LL","PEDRO CORDERO"," "," ","OPERADORA GREEN MART CASTELLANA 201","AV LIBERTADOR CENTRO COMERCIAL","SAMBIL NIVEL AUTOPISTA LOCALES","AR 61 Y AC-56 CHACAO CARACAS"," ","04125594476"," ","LUNES A VIERNES 9 AM A 1P"," ","VIERNES","J-40796357-0","00000001055","89250","No","05","CREDITO 5 DIAS","35","EL ROSAL-CHACAO","04","07","RESTAURANTES","02","ON PREMISSE","02","ON PREMISSE","31","31","01 - GUERRERO SALVADOR - OFF","LUNES A VIERNES 9 AM A 1P  "]
["J408039222","09 - CLIENTE INHABILITADO","FF EL HATILLO","FRESH FISH EL HATILLO"," ","FF EL HATILLO","AV SUR LAGUNITA CONTRY CLUB CC","PASEO EL HATILLO TORRE OFICINAS","NIVEL 2 LOCAL P2-21 URB LA LAGUNITA","(0212) 731.82.10","0"," ","CARACAS","HATILLO"," "," ","CAMBIO DE ZONA 32 A 09 22/10/21 ST","AQUILES SIMON GARCIA"," "," ","FRESH FISH EL HATILLO","AV SUR LAGUNITA CONTRY CLUB CC","PASEO EL HATILLO TORRE OFICINAS","NIVEL 2 LOCAL P2-21 URB LA LAGUNITA","HATILLO","0212-731.82.10"," ","RECIBE  LUNES A VIERNES"," 09:00 AM A 12:00 PM","JUEVES","J-40803922-2","EBA-00109-17","15000","No","05","CREDITO 5 DIAS","09","CLIENTE INHABILITADO","04","20","DELICATESES/FRIGO/CHARCUT","02","ON PREMISSE","02","ON PREMISSE","09","09","09 - CLIENTE INHABILITADO","RECIBE  LUNES A VIERNES  09:00 AM A 12:00 PM"]
["J408796015","20 - DIEGO MANUEL","BODEGON DE TITA C.A","BODEGON DE TITA C.A","28/06/18","BODEGON DE TITA C.A","CALLE REAL  LOS CORTIJOS DE SARRIA","CASA PB PISO 1 NRO 4 URB SARRIA","CARACAS DISTRITO CAPITAL","02125761008"," "," ","CARACAS"," "," "," ","BLOQ.X.HP.MOROSO 04/02/19 GA","ALBARRA PEÑA DIANA","DEL CARMEN"," ","BODEGON DE TITA C.A","CALLE REAL  LOS CORTIJOS DE SARRIA","CASA PB PISO 1 NRO 04URB SARRIA","CARACAS DISTRITO CAPITAL"," ","02125761008"," ","RECIBE DE LUNES A VIERNES","DE 9:00 AM A 4:00 PM","DE LUNES A VIERNES","J408796015","05M-N002447","89250","Sí","00","CONTADO","20","CENTRO DE CARACAS","05","01","DE LICORES CON FZA DE VTA","01","OFF PREMISSE","01","OFF PREMISSE","20","20","02 - VICTOR TORRES - OFF","RECIBE DE LUNES A VIERNES DE 9:00 AM A 4:00 PM"]
["J409530973","13 - GUDIÑO FABIAN","COMERCIALIZADORA LA GUARICHA 2017","BODEGON PLUS","27-07-2022","COMERCIALIZADORA LA GUARICHA 2017","AV. ROMULO GALLEGOS RES. SANTA ROSA","P.B. LOCAL ¨C¨"," ","0414-2279518"," "," "," "," "," "," ","CAMBIO V-110 A V-13 050923 RM","VICTOR PALACIOS","RODOLFO SANABRIA"," ","BODEGON PLUS","AV. ROMULO GALLEGOS RES, SANTA ROSA","P.B. ¨C¨"," "," ","0212-2855509","27-07-2022","RECIBE DE LUNES A VIERNES","08:00AM A 04:00PM","MARTES","J-40953097-3","1200001668","89250","No","05","CREDITO 5 DIAS","10","ALTAMIRA-OFF","05","18","LICORERIAS/BODEGONES","01","OFF PREMISSE","01","OFF PREMISSE","13","13","01 - GUERRERO SALVADOR - OFF","RECIBE DE LUNES A VIERNES 08:00AM A 04:00PM"]
["J409672123","24 - REYES OSWALDO","COMERCIALIZADORA KSN 115, C.A","COMERCIALIZADORA KSN 115, C.A","04/11/18","COMERCIALIZADORA KSN 115, C.A","CALLE REAL DE ST CRUSZ LOCAL NRO262","SECTOR LA ADJUNTAS CARACAS DTT","CAPITAL","(0424)200.44.08"," "," ","CARACAS"," "," "," "," ","NAYIMIR VELASQUEZ"," "," ","COMERCIALIZADORA KSN 115, C.A","CALLE REAL DE ST CRUZ LOCAL NRO262","LAS ADJUNTAS CARACAS","DTT CAPITAL"," ","(0424).200.44.08"," ","RECIBE DE LUNES A VIERNES","DE P AM A 5 PM","JUEVES","J-40967212-3","09M-N2496","89250","No","05","CREDITO 5 DIAS","24","CARICUAO","05","18","LICORERIAS/BODEGONES","01","OFF PREMISSE","01","OFF PREMISSE","24","24","02 - VICTOR TORRES - OFF","RECIBE DE LUNES A VIERNES DE P AM A 5 PM"]
["J410219319","09 - CLIENTE INHABILITADO","CORPORACION FF ALIMENTOS C.A","CORPORACION FF ALIMENTOS C.A"," ","CORPORACION FF ALIMENTOS C.A","AV LOS CHAGUARAMOS QTA NARANJA","NRO S/N URB LA FLORIDA CARACAS","DISTRITO CAPITAL","(0212) 731.82.10","0"," ","CARACAS"," "," "," ","CAMBIO DE ZONA 32 A 09 22/10/21 ST","AQUILES SIMON GARCIA"," "," ","CORPORACION FF ALIMENTOS C.A","AV LOS CHAGUARAMOS QTA NARANJA","NRO S/N URB LA FLORIDA CARACAS","DISTRITO CAPITAL"," ","0212-731.82.10"," ","RECIBE  LUNES A VIERNES"," 09:00 AM A 12:00 PM","JUEVES","J-41021931-9","TRAMITE","15000","No","05","CREDITO 5 DIAS","09","CLIENTE INHABILITADO","04","20","DELICATESES/FRIGO/CHARCUT","02","ON PREMISSE","02","ON PREMISSE","09","09","09 - CLIENTE INHABILITADO","RECIBE  LUNES A VIERNES  09:00 AM A 12:00 PM"]
["J410680075","15 - GUTIERREZ WALTER","LICOR BEETHOVEN LAS COLINAS II C,A","LICOR BEETHOVEN LAS COLINAS II C,A","150318","LICOR BEETHOVEN LAS COLINAS II C,A","AV BEETHOVEN EDIF SURAMERICA PISO","PB LOCAL B URB COLINAS DE BELLO"," ","(0212) 753.11.95","(0424) 233.14.68","abeethoven85@gmail.com","CARACAS"," "," ","CAMBIO EDV-115 AL EDV-42 200921 MYZ","CAMBIO DE ZONA 42 A 115 170522 MYZ","JOHANA VILLEGA"," "," ","LICOR BEETHOVEN LAS COLINAS II C,A","AV BEETHOVEN EDIF SURAMERICA PISO","PB LOCAL B URB COLINA DE BELLO","MONTE"," "," "," ","RECIBE  LUNES A JUEVES"," 09:00 AM A 12:00 PM","LUNES","J-041068007-5","TRAMITE","89250","No","05","CREDITO 5 DIAS","15","BARUTA","05","18","LICORERIAS/BODEGONES","01","OFF PREMISSE","01","OFF PREMISSE","15","15","01 - CARLOS DA SILVA - OFF","RECIBE  LUNES A JUEVES  09:00 AM A 12:00 PM"]
["J411017035","09 - CLIENTE INHABILITADO","LICORES DELY 1111, C.A","LICORES DELY 1111, C.A"," ","LICORES DELY 1111, C.A","AV LA ESTANCIA CON CALLE ERNESTO","BLOHN CC CIUDAD TAMANACO NIVEL C-1","LOCAL S/N URB CHAO CARACAS MIRANDA","0424-1156229","11/12/18"," ","CARACAS","ZONA POSTAL 1090"," "," ","CAMBIO DE ZONA 115 A 09 16/05/23 ST","HERMAN LEVY SHADAH","MARIANA MAYA BENATUI"," ","LICORES DELY 1111, C.A","AV ERNESTO BLOHM CC TAMANACO","NIVEL C-1 LOCAL S/N"," "," ","0424-115-6229"," ","RECIBE DE LUNES A VIERNES","DE 10 AM A 12 PM","JUEVES","J-41101703-5","EN TRAMITE","15000","No","05","CREDITO 5 DIAS","15","BARUTA","05","18","LICORERIAS/BODEGONES","01","OFF PREMISSE","01","OFF PREMISSE","09","09","09 - CLIENTE INHABILITADO","RECIBE DE LUNES A VIERNES DE 10 AM A 12 PM"]
["J411750760","09 - CLIENTE INHABILITADO","TODO MARKET A.R, C.A","TODO MARKET A.R, C.A"," ","TODO MARKET A.R, C.A","CALLE NUEVA EDIF GUILIANA PISO PB","LOCAL URB 10 DE MARZO. LOS DOS","CERRITOS MAIQUETIA  VARGAS"," ","03/06/19 YR"," ","VARGAS"," "," "," ","CAMBIO DE ZONA 14 A 09 181021 FL","MARIA A ANDRADE B"," "," ","TODO MARKET A.R, C.A","CALLE NUEVA EDIF GUILIANA PISO PB","LOCAL URB 10 DE MARZO LOS DOS","CERRITOS MAIQUETIA VARGAS"," "," "," ","RECIBE DE LUNES A VIERNES"," ","DE LUNES A VIERNES","J411750760"," ","15000","No","05","CREDITO 5 DIAS","09","CLIENTE INHABILITADO","05","18","LICORERIAS/BODEGONES","01","OFF PREMISSE","01","OFF PREMISSE","09","09","09 - CLIENTE IHNABILITADO","RECIBE DE LUNES A VIERNES  "]
["J411757551","35 - PEREZ JOSMAN","INVERSIONES HOTEI 150 C.A.","ROSA TANOSHI","28/02/23ST","INVERSIONES HOTEI 150 C.A.","CALLE MADRID ENTR VERACRUZ Y CARONI","QTA. KEOPS PB L-1"," ","0424-1429044"," ","ROSADENOCHE@GMAIL.COM"," "," "," "," "," ","GERARDO PEREIRA","DANIEL PEREIRA"," ","INVERSIONES HOTEI 150 C.A.","CALLE MADRID ENTR VERACRUZ Y CARONI","QTA KEOPS PB L-1"," "," ","0424-1429044"," "," "," ",null,"J-41175755-1","B-107-0-00-33-CVC","89250","No","05","CREDITO 5 DIAS","35","EL ROSAL-CHACAO","04","08","HOTELES/CASINOS/BINGOS","01","OFF PREMISSE","01","OFF PREMISSE","35","35","02 - TORRES VICTOR - OFF","   "]
["J412200305","25 - OCAMPO O. ROMAY","DISTRIBUIDORA OAC SUPERCARRIZAL,C.A","DISTRIBUIDORA OAC SUPERCARRIZAL,C.A","110821 YP","DISTRIBUIDORA OAC SUPERCARRIZAL,C.A","AV. VICTOR BATISTA, CC MINICENTRO","COMERCIAL EL MERCADO NIVEL PB,","LOCAL 12 Y 13 SECTOR EL PASO.","(0424)540-20-85"," "," "," "," "," "," "," ","CHRISTYAN FRAIJA","EDWUARD OSORIO","RONALD OSORIO","DISTRIBUIDORA OAC SUPERCARRIZAL,C.A","AV. VICTOR BATISTA, CC MINICENTRO","COMERCIAL EL MERCADO NIVEL PB,","LOCAL 12 Y 13 SECTOR EL PASO"," ","(0424)540-20-85"," ","RECIBE DE LUNES A VIERNES","DE 9:00AM A 1:00PM",null,"J-41220030-5","M-M 930-2021","89250","No","05","CREDITO 5 DIAS","25","LOS TEQUES","05","18","LICORERIAS/BODEGONES","01","OFF PREMISSE","01","OFF PREMISSE","25","25","02 - VICTOR TORRES - OFF","RECIBE DE LUNES A VIERNES DE 9:00AM A 1:00PM"]
["J412712640","13 - GUDIÑO FABIAN","INVERSIONES DALE MARKET, C.A.","INVERSIONES DALE MARKET, C.A.","21/12/2020","DALE SUPERMERCADO","AV. ROMULO GALLEGOS EDIFICIO RESD.","SANTA ROSA PISO PB LOCAL E, F y G","URBANIZACION SEBUCAN - CARACAS","0426-304-41-97"," ","MARIA.BASTIDAS@DALESUPERMERCADOS.COM","CARACAS"," ","CAMBIO DE ZONA 42 A 10 160222 ST","BLOQ MAYOR 53 DIAS SEGUI 240222 MYZ","CAMBIO DE ZONA 10 A 13 050923 RM","DAVID E. LOPEZ R."," "," ","INVERSIONES DALE MARKET, C.A.","AV.ROMULO GALLEGOS EDIF. SANTA ROSA","PISO PB. LOCALES E,F y G. SUDEBAN","CARACAS"," ","0426-304-41-97"," ","RECIBE DE LUNES A VIERNES","8:00AM A 5:00PM","MIERCOLES","J-41271264-0","SEDAT 00094/2020","89250","Sí","05","CREDITO 5 DIAS","10","ALTAMIRA-OFF","05","21","SUPERMERCADOS/AUTOMERCADO","01","OFF PREMISSE","01","OFF PREMISSE","13","13","01 - GUERRERO SALVADOR - OFF","RECIBE DE LUNES A VIERNES 8:00AM A 5:00PM"]
["J412800027","15 - GUTIERREZ WALTER","DIST MRM ALIMENTOS EXPRESS 3000 C.A","TODO CARNES EXPRESS","16/06/22ST","DIST MRM ALIMENTOS EXPRESS 3000 C.A","AV LEONARDO DA VINCI EDIF TRITON","PISO A LOCAL A SECTOR  EL RECREO"," ","0424-2776669"," "," "," "," "," "," "," ","MIGUEL MARQUEZ"," "," ","DIST MRM ALIMENTOS EXPRESS 3000 C.A","AV LEONARDO DA VINCI EDIF TRITON","PISO A LOCAL A SECTOR EL RECREO"," "," ","0424-2776669"," ","RECIBE DE LUNES A VIERNES","DE 9:00AM A 4:00PM","MIERCOLES","J-41280002-7","EN TRAMITE","89250","No","05","CREDITO 5 DIAS","15","BARUTA","05","18","LICORERIAS/BODEGONES","01","OFF PREMISSE","01","OFF PREMISSE","15","15","01 - DA SILVA CARLOS - OFF","RECIBE DE LUNES A VIERNES DE 9:00AM A 4:00PM"]
["J413049384","09 - CLIENTE INHABILITADO","INVERSIONES BODEGA IBERICA, C.A","INVERSIONES BODEGA IBERICA, C.A"," ","INVERSIONES BODEGA IBERICA, C.A","CALLE JALISCO EDIFICIO LA COLONIA","PISO PB LOCAL 1 URB LAS MERCEDES","DTTO CAPITAL","(0212)993-95-20"," "," ","DTT CAPITAL"," "," "," ","CAMBIO DE ZONA 42 A 09 26/07/22 ST","JUAN ERNESTO GARCIA"," "," ","INVERSIONES BODEGA IBERICA, C.A","CALLE JALISCO EDF LA COLINA PISO PB","LOCAL 1 URB LAS MERCEDES DTTO CAPIT","AL BARUTA"," ","(0212)993-95-20"," ","RECIBE DE LUNES A VIERNE","DE 9 A 12 Y DE 2PM A 5PM","VIERNES","J-41304938-4","TRAMITE","15000","No","05","CREDITO 5 DIAS","42","PROLICOR / CELICOR","05","18","LICORERIAS/BODEGONES","01","OFF PREMISSE","01","OFF PREMISSE","09","09","09 - CLIENTE INHABILITADO","RECIBE DE LUNES A VIERNE DE 9 A 12 Y DE 2PM A 5PM"]
["J413172542","09 - CLIENTE INHABILITADO","PANDUREE,C.A","GALAXY MARKET","230421","PANDUREE,C.A","ESQ ENTRE PRIMERA AVENIDA Y AVENIDA","FRANCISCO DE MIRANDA EDIF ROXUL","PISO PB LOCAL 5Y6 URB LOS PALOS","(0424) 149.44.88"," "," ","CARACAS","GRANDES CARACAS","CAMBIO V-10 AL V-42 MYZ 06072021","CAMBIO DE ZONA 42 A 10 08/03/22 ST","CAMBIO DE ZONA 10 A 09 10/4/23 YR","TAREK AYOUB"," "," ","PANDUREE,C.A","GALAXY MARKET","ESQ ENTRE PRIMERA AVENIDA Y AVENIDA","FRANCISCO DE MIRANDA EDIF ROXUL","PISO PB LOCAL 5Y6 URB LOS PALOS","0424/ 149-44-88"," ","RECIBE  LUNES A VIERNES","8 AM A 1 PM","JUEVES","J-41317254-2","030007562","15000","No","05","CREDITO 5 DIAS","10","ALTAMIRA-OFF","05","18","LICORERIAS/BODEGONES","01","OFF PREMISSE","01","OFF PREMISSE","09","09","09 - CLIENTE INHABILITADO","RECIBE  LUNES A VIERNES 8 AM A 1 PM"]
["J500004907","14 - GIL EXIO JOSE","NOVOMARKET, C.A.","NOVOMARKET, C.A.","211022 FL","NOVOMARKET, C.A.","AV. EL EJERCITO, LOCAL NRO PB,","URB BALNEARIO, CATIA LA MAR"," ","0414-121.73.05"," ","INVERSIONESNOVOMARKET@GMAIL.COM"," "," "," "," "," ","ROBERTO GOMES","DARRI ANGULO"," ","NOVOMARKET, C.A.","AV. EL EJERCITO, LOCAL NRO PB,","URB. BALNEARIO, CATIA LA MAR"," "," ","0414-121.73.05","271022 FL","RECIBE DE MARTES A VIERNE","09:00AM A 05:00PM","MARTES A VIERNES","J-50000490-7","031-M-N-21437","89250","No","05","CREDITO 5 DIAS","14","LITORAL CENTRAL","05","18","LICORERIAS/BODEGONES","01","OFF PREMISSE","01","OFF PREMISSE","14","14","01 - GUERRERO SALVADOR - OFF","RECIBE DE MARTES A VIERNE 09:00AM A 05:00PM"]
["J500278195","14 - GIL EXIO JOSE","LA BODEGUITA MARKETPLACE C.A","LA BODEGUITA","29/08/22ST","LA BODEGUITA MARKETPLACE C.A","AV FINAL DE LA ARMADA, EDIF","PURACERAMICA, PISO PB LOCAL S/N","ZONA CATIA LA MAR","0414-2329708"," ","LABODEGUITAMARKETPLACECA@GMAIL.COM."," "," "," "," "," ","MANUEL MATA MURGAS"," "," ","LA BODEGUITA MARKETPLACE C.A","AV FINAL DE LA ARMADA, EDIF","PURACERAMICA, PISO PB LOCAL S/N","ZONA CATIA LA MAR"," ","0414-2329708"," ","RECIBE DE LUNES A VIERNES","DE 9:00AM A 5:00PM","MARTES","J-50027819-5","031-MN-1470","89250","No","05","CREDITO 5 DIAS","14","LITORAL CENTRAL","05","23","ABASTOS PEQUEÑOS/BODEGAS","01","OFF PREMISSE","01","OFF PREMISSE","14","14","01 - TORRES VICTOR - OFF","RECIBE DE LUNES A VIERNES DE 9:00AM A 5:00PM"]
["J500307640","24 - REYES OSWALDO","DARO DISTRIBUCIONES C.A.","DARO COMERCIALIZADORA, C.A.","14-07-22ST","DARO DISTRIBUCIONES C.A.","AV. PRIC. LOS NARANJOS, EDIF","PROVEAUTO P-1 URB STA CRUZ","GUARENAS, EDO. MIRANDA","0414-9137754/4511934"," ","D.LEONE@DARODISTRIBUCIONES.COM"," "," "," ","CAMBIO DE ZONA 04 A 28 08/08/22","CAMBIO DE ZONA 28 A 224 230222 PH","DANNY LEONNE","ROBERTS PEREZ"," ","DARO DISTRIBUCIONES C.A.","AV PRINC LOS NARANJOS,","EDIF PROVEAUTO, P-1, URB STA CRUZ","GUARENAS - MIRANDA"," ","0414-9137754/4511934"," ","RECIBE DE LUNES A VIERNES","DE 9:00AM A 12:00M","LUNES","J-50030764-0","12-00414","89250","No","05","CREDITO 5 DIAS","11","GUARENAS","06","02","DE LICORES S/FZA DE VTA","01","OFF PREMISSE","01","OFF PREMISSE","24","24","02 - TORRES VICTOR - OFF","RECIBE DE LUNES A VIERNES DE 9:00AM A 12:00M"]
["J500433999","25 - OCAMPO O. ROMAY","INVERSIONES LAS POLONIAS C.A","INVERSIONES LAS POLONIAS C.A","02-03-2021","INVERSIONES LAS POLONIAS C.A","CARRETERA SAN ANTONIO SAN DIEGO","C.C GALERIAS LORETO NIVEL 1 LOCAL 1","SAN ANTONIO DE LOS ALTOS","(0414) 270.44.44"," "," ","SAN ANTONIO"," "," "," "," ","JOSE WILLIAN QUIÑONE"," "," ","INVERSIONES LAS POLONIAS C.A","CARRETERA SAN ANTONIO SAN DIEGO","C.C LORETO NIVEL 1 LOCAL 1 SAN","ANTONIO D ELOS ALTOS"," ","0414-270-44-44"," ","DESPACHO LUNES A VIERNES","08:00AM A 03:00PM","MIERCOLES","J-50043399-9","M-N032-MN-00201","89250","No","05","CREDITO 5 DIAS","25","LOS TEQUES","05","18","LICORERIAS/BODEGONES","01","OFF PREMISSE","01","OFF PREMISSE","25","25","02 - VICTOR TORRES - OFF","DESPACHO LUNES A VIERNES 08:00AM A 03:00PM"]
["J500567022","35 - PEREZ JOSMAN","COFFE MARKET SINTAJO, C.A.","COFFE MARKET SINTAJO, C.A.","17/11/22ST","COFFE MARKET SINTAJO, C.A.","AV ORINOCO EDIF CENTRO EJECUTIVO","BALI PISO PB LOCAL 1-A","URB LAS MERCEDES CARACAS","0424-1479210"," ","COFFEMARKETSINTJAGO@GMAIL.COM"," "," "," "," "," ","CARLOS SINTAJO"," "," ","COFFE MARKET SINTAJO, C.A.","AV ORINOCO EDIF CENTRO EJECUTIVO","BALI PISO PB LOCAL 1-A","URB LAS MERCEDES CARACAS"," ","0424-1479210"," ","RECIBE DE LUNES A VIERNES","DE 8:30AM A 11:30AM","LUNES","J-50056702-2","B-107-0-0134","89250","No","05","CREDITO 5 DIAS","35","EL ROSAL-CHACAO","04","07","RESTAURANTES","01","OFF PREMISSE","01","OFF PREMISSE","35","35","02 - TORRES VICTOR - OFF","RECIBE DE LUNES A VIERNES DE 8:30AM A 11:30AM"]
["J500611951","34 - MARQUINA CARLOS","LOMA CADENA DE TIENDAS C.A","VECIIINO","9/11/23 LL","LOMA CADENA DE TIENDAS C.A","AV TAMANACO EDIF TORRE EXTEBAMDES","PISO 5 OF 5A Y 5B URB EL ROSAL","URB EL ROSAL - CHACAO","(0414) 917.39.16"," ","LOMACADENADETIENDAS@GMAIL.COM","CARACAS"," "," "," "," ","MARIA RAMIREZ","ANTONIO GONZALES","JORGE GIMENEZ","LOMA CADENA DE TIENDAS C.A VECIIINO","AV TAMANACO EDIF TORRE EXTEBANDES","PISO 5 OF 5A Y 5B URB EL ROSAL","URB EL ROSAL - CHACAO"," ","(0414) 792.73.56"," ","RECIBE DE LUNES A JUEVES","8:00AM A 3:00PM","LUNES Y JUEVES","J-50061195-1","TRAMITE","89250","No","05","CREDITO 5 DIAS","35","EL ROSAL-CHACAO","05","18","LICORERIAS/BODEGONES","01","OFF PREMISSE","01","OFF PREMISSE","34","34","01 - GUERRERO SALVADOR - OFF","RECIBE DE LUNES A JUEVES 8:00AM A 3:00PM"]
["J500686447","11 - PEREIRA GENARO","INVERSIONES RORAIMA 2020 C.A","INVERSIONES RORAIMA 2020 C.A","060623 LL","INVERSIONES RORAIMA 2020 C.A","AV PANTEON VERTICE SUR OESTE DE","ESQUINA DE SAN NARCIZO EDIFICIO","ANDREA PISO PB URB SAN JOSE","(0424) 134.14.86"," "," ","HIGUEROTE"," "," "," "," ","PETRA RUIZ","GIONAY RODRIGUEZ","ELIZABETH RAMIREZ","INVERSIONES RORAIMA 2020 C.A","AV ANDRES ELOY BLANCO CRUCE CON","SEGUNDA CALLE LA PEÑITA","HIGUEROTE"," ","(0424) 134.14.86"," ","RECIBE LUNES A VIERNES","DE 9:00AM A 4:00PM","MARTES","J-50068644-7","00-C-293","89250","No","05","CREDITO 5 DIAS","12","BARLOVENTO","04","07","RESTAURANTES","01","OFF PREMISSE","01","OFF PREMISSE","11","11","01 - GUERRERO SALVADOR - OFF","RECIBE LUNES A VIERNES DE 9:00AM A 4:00PM"]
["J500816987","22 - GONZALEZ CARLOS","BODEGON ELGOCHO 1707 C.A","BODEGON ELGOCHO 1707 C.A","16/11/22ST","BODEGON ELGOCHO 1707 C.A","CALLE REAL LA CAÑA, LOCAL N° 23-11","URBANIZACION 23 DE ENERO"," ","0412-3638465"," ","CARLOSTORRESRODRIGUEZ88@GMAIL.COM"," "," "," "," "," ","CARLOS RODRIGUEZ","HECTOR RODRIGUEZ"," ","BODEGON ELGOCHO 1707 C.A","CALLE REAL LA CAÑA LOCAL N° 23-11","URBANIZACION 23 DE ENERO"," "," ","0412-3638465"," ","RECIBE DE LUNES A VIERNES","DE 9:00AM A 5:00PM","DE LUNES A VIERNES","J-50081698-7","MN-1808","89250","No","05","CREDITO 5 DIAS","22","CATIA-JUNQUITO","05","18","LICORERIAS/BODEGONES","01","OFF PREMISSE","01","OFF PREMISSE","22","22","02 - TORRES VICTOR - OFF","RECIBE DE LUNES A VIERNES DE 9:00AM A 5:00PM"]
["J500958129","15 - GUTIERREZ WALTER","CANTINA DEL SUR CDS C.A","CANTINA DEL SUR","17/8/23 LL","CANTINA DEL SUR CDS C.A","AV TERESA DE LA PARRA CON CALLE","RUFINO EDIF CARMELA PISO PB LOCAL","S/N URB  SANTA MONICA","(0414) 246.56.04"," ","CANTINASURVE@GMAIL.COM","CARACAS"," "," "," "," ","MARIA FREITAS","LEONARDO ZAVATTI","LILIANA ZAVATTI","CANTINA DEL SUR CDS C.A","AV TERESA DE LA PARRA CON CALLE","RUFINO EDIF CARMELA PISO PB LOCAL","S/N URB SANTA MONICA"," ","(0414)246.56.04"," ","RECIBE LUNES A VIERNES","9:30 AM A 6:00PM","DE LUNES A VIERNES","J-50095812-9","LU-2022-021424","89250","No","05","CREDITO 5 DIAS","15","BARUTA","05","18","LICORERIAS/BODEGONES","01","OFF PREMISSE","01","OFF PREMISSE","15","15","01 - GUERRERO SALVADOR - OFF",{"$f":"CONCATENATE(AB3778,\" \",AC3778)","v":"RECIBE LUNES A VIERNES 9:30 AM A 6:00PM"}]
["J501121303","23 - HERNANDEZ JOSÉ D.","SUPERMARKET 2021, C.A","SUPERMARKET 2021, C.A","06/10/2021","SUPERMARKET 2021, C.A","CARRETERA PRINCIPAL EL JUNQUITO,","KILOMETRO 21 EDIF RUICAR, AL LADO","DEL SUPERMERCADO RUICAR PISO PB","0412-9640653"," ","SUPERMARKET2021MK21@GMAIL.COM"," ","LOCAL S/N SECTOR EL JUNKO"," "," ","CAMBIO EDV 22 AL EDV 23 031122 MYZ","DANIEL JOSE DA SILVA","JUAN LUIS RODRIGUES","IRAIMA  ESCALANTE","SUPERMARKET 2021, C.A","CARRETERA PRINCIPAL EL JUNQUITO,","KILOMETRO 21 EDIF RUICAR, AL LADO","DEL SUPERMERCADO RUICAR PISO PB","LOCAL S/N SECTOR EL JUNKO","0412-9640653"," ","RECIBE DE LUNES A VIERNES","DE 7:00AM A 1:00PM","LUNES","J-50112130-3","031-MN-1536","89250","No","05","CREDITO 5 DIAS","22","CATIA-JUNQUITO","05","21","SUPERMERCADOS/AUTOMERCADO","01","OFF PREMISSE","01","OFF PREMISSE","23","23","02 - VICTOR TORRES - OFF","RECIBE DE LUNES A VIERNES DE 7:00AM A 1:00PM"]
["J501163979","15 - GUTIERREZ WALTER","BODEGON LIQUORIUM I C.A.","BODEGON LIQUORIUM I C.A.","13/10/21","BODEGON LIQUORIUM I C.A.","CALLE CALIFORNIA QTA SAN RAFAEL","PLANTA BAJA LOCAL ¨A¨ URB LAS","MERCEDES CARACAS MIRANDA","0412-9997006"," "," "," "," "," "," "," ","VICTOR DE PINHO"," "," ","BODEGON LIQUORIUM I C.A.","CALLE CALIFORNIA QTA SAN  RAFAEL","PLANTA BAJA LOCAL ¨A¨ URB LAS","MERCEDES CARACAS MIRANDA"," ","0412-9997006"," ","RECIBE DE LUNES A VIERNES","DE 10:00AM A 4:00PM","MIERCOLES","J-50116397-9","B-107-0-0160 MN","89250","No","05","CREDITO 5 DIAS","15","BARUTA","05","18","LICORERIAS/BODEGONES","01","OFF PREMISSE","01","OFF PREMISSE","15","15","01 - CARLOS DA SILVA - OFF","RECIBE DE LUNES A VIERNES DE 10:00AM A 4:00PM"]
["J501287821","11 - PEREIRA GENARO","RESTAURANT BARESLAENCA 25 C.A","RESTAURANT BARESLAENCA 25 C.A","10/3/23 LL","RESTAURANT BARESLAENCA 25 C.A","CARRETERA NACIONAL DE ORIENTE CC","LA ENCRUCIJADA DE CAUCAGUA NIVEL PB","LOCAL 01 SECTOR LA ENCRUCIJADA"," "," "," "," "," "," "," "," ","RICARDO GOMEZ","JUNIOR GOMEZ","JOSE GOMEZ","RESTAURANT BARESLAENCA 25 C.A","CARRETERA NACIONAL DE ORIENTE","CC LA ENCRUCIJADA DE CAUCAGUA NIVEL","PB LOCAL 01 SECTOR LA ENCRUCIJADA"," "," "," ","RECIBE LUNES A VIERNES","9:00 AM A 4:00 PM","MARTES","J-50128782-1","004-08-2022","89250","No","05","CREDITO 5 DIAS","12","BARLOVENTO","04","07","RESTAURANTES","01","OFF PREMISSE","01","OFF PREMISSE","11","11","01 - GUERRERO SALVADOR - OFF","RECIBE LUNES A VIERNES 9:00 AM A 4:00 PM"]
["J501487294","13 - GUDIÑO FABIAN","BODEGON LA CITA I, C.A.","BODEGON LA CITA I, C.A.","16/11/22ST","BODEGON LA CITA I, C.A.","AV ROMULO GALLEGOS EDIF EL SAMAN","PISO PB LOCAL 1 SECTOR HORIZONTE","CARACAS (PETARE) MIRANDA","0412-5546677"," ","BODEGONLACITA2022@GMAIL.COM"," "," "," "," ","CAMBIO V10 A V13 050923 RM","CRISTIAN ARIEL FREI","NORMA FELISA FREI"," ","BODEGON LA CITA I, C.A.","AV ROMULO GALLEGOS EDIF EL SAMAN","PISO PB LOCAL 1 SECTOR HORIZONTE","CARACAS (PETARE) MIRANDA"," ","0412-5546677"," ","RECIBE DE LUNES A VIERNES","DE 9:00AM A 2:00PM","DE LUNES A VIERNES","J-50148729-4","SEDAT 00208/2022","89250","No","05","CREDITO 5 DIAS","10","ALTAMIRA-OFF","05","18","LICORERIAS/BODEGONES","01","OFF PREMISSE","01","OFF PREMISSE","13","13","01 - GUERRERO SALVADOR - OFF","RECIBE DE LUNES A VIERNES DE 9:00AM A 2:00PM"]
["J501543054","33 - TORRES CARLOS","INV LA EMPALIZADA CARNE EN VARA CA","RESTAURANT LA EMPALIZADA","060923 LI","INV LA EMPALIZADA CARNE EN VARA CA","AV PPAL DE HOYO DE LA PUERTA LOCAL","LA EMPALIZADA N° PB BARRIO HOYO DE","LA PUERTA SECTOR SAN LUIS CARACAS","0414-161-48-93","0212-942-02-53","herreraeugenio01@gmail.com","DISTRITO CAPITAL","DISTRITO CAPITAL"," "," "," ","YENNIFER MARQUEZ","EUGENIO HERRERA","ZAMARI BLANCO","RESTAURANT LA EMPALIZADA","AV PPAL DE HOYO DE LA PUERTA LOCAL","LA EMPALIZADA N° PB BARRIO HOYO DE","LA PUERTA SECTOR SAN LUIS CARACAS"," "," "," ","RECIBE DE LUNES A VIERNES","DE 10:00 AM A 04:00 PM","JUEVES","J-50154305-4","C-2949","89250","No","05","CREDITO 5 DIAS","33","CENTRO-CANDELARIA","04","07","RESTAURANTES","02","ON PREMISSE","00","ESTANDAR","33","33","01 - GUERRERO SALVADOR - ON","RECIBE DE LUNES A VIERNES DE 10:00 AM A 04:00 PM"]
["J501816638","31 - RODRIGUEZ WLADIMIR","INVERSIONES PAD 21, C.A","INVERSIONES PAD 21, C.A","16/10/23","INVERSIONES PAD 21, C.A","AVENIDA SAN JUAN BOSCO,ESQUINA","CON 5TA.TRANSVERSAL,QUINTA LOS","JIMENEZ URBANIZACION ALTAMIRA","04241290573"," "," "," "," "," "," "," "," "," "," ","INVERSIONES PAD 21, C.A","AV.SAN JUAN BOSCO,ESQUINA CON 5TA","TRANSVERSAL,QUITA LOS JIMENEZ","URBANIZACION ALTAMIRA"," ","04241290573"," ","MARTES A VIERNES","8:30AM A 11:30AM","MARTES A VIERNES","J501816638"," ","89250","No","05","CREDITO 5 DIAS","31","LA CASTELLANA","04","07","RESTAURANTES","01","OFF PREMISSE","00","ESTANDAR","31","31"," ","MARTES A VIERNES 8:30AM A 11:30AM"]
["J502035214","11 - PEREIRA GENARO","BODEGON VIP HIGUEROTE, C.A","BODEGON VIP HIGUEROTE, C.A","310823RM","BODEGON VIP HIGUEROTE, C.A","AV EL CUCHIVANO, CC TARTAK, NIVEL","PB, LOCAL S/N, CENTRO DE HIGUEROTE"," ","0412-5969987"," ","BODEGONVIPHIGUEROTE@GMAIL.COM"," "," "," "," "," ","ELIAS TARTAK LINARES","MARIA C. AGUILAR F."," ","BODEGON VIP HIGUEROTE, C.A","AV EL CUCHIVANO, CC TARTAK, NIVEL","PB, LOCAL S/N, CENTRO DE HIGUEROTE"," "," "," "," ","RECIBE DE LUNES A VIERNES","9:00 AM A 2:00 PM","JUEVES","J-50203521-4","00-MN-253","89250","No","05","CREDITO 5 DIAS","12","BARLOVENTO","05","18","LICORERIAS/BODEGONES","01","OFF PREMISSE","01","OFF PREMISSE","11","11","01 - GUERRERO SALVADOR - OFF","RECIBE DE LUNES A VIERNES 9:00 AM A 2:00 PM"]
["J502243305","21 - CAÑONGO SAUL","TADEN LICOR C.A","TADEN LICOR C.A","29/03/23ST","TADEN LICOR C.A","AV. LANDER EDIF ENZA PISO PB LOCAL","1 SECTOR TERMINAL"," ","0424-2698751"," ","TADENLICOR@GMAIL.COM"," "," "," "," "," ","FABIOLA CASTILLO","DENISSE PONCE"," ","TADEN LICOR C.A","AV. LANDER EDIF ENZA PISO PB LOCAL","N1 SECTOR TERMINAL"," "," ","0414-3027- 70 68"," ","RECIBE DE LUNES A JUVES","DE 10:00AM A 5:00PM","DE LUNES A JUEVES","J-50224330-5","M-N7757","89250","No","05","CREDITO 5 DIAS","21","VALLES DEL TUY-21","05","18","LICORERIAS/BODEGONES","01","OFF PREMISSE","01","OFF PREMISSE","21","21","02 - TORRES VICTOR - OFF","RECIBE DE LUNES A JUVES DE 10:00AM A 5:00PM"]
["J502528504","17 - TORRES CARLOS","INVERSIONES 16 12 2010 C.A","MINI MARKET MANZANARES","110123 LL","INVERSIONES 16 12 2010 C.A","CALLE PRIMERA TRANSVERSAL DE","MANZANARES LOCAL N° 26 SECTOR","BARUTA- MIRANDA","0412-806 07 72"," "," "," "," "," "," ","CAMBIO DE ZONA 15 A 17 170823 PH","LUIS GABRIEL PEREIRA","JOSE MIGUEL PINTO","JOSSELINE ROJAS","INVERSIONES 16 12 2010 C.A","CALLE PRIMERA TRANSVERSAL DE","MANZANARES LOCAL N° 26"," "," ","0412-806 07 72"," ","LUNES A VIERNES","9:00AM A 4:00PM","DE LUNES A VIERNES","J-50252850-4","B-101-0-0332","89250","No","05","CREDITO 5 DIAS","15","BARUTA","05","18","LICORERIAS/BODEGONES","01","OFF PREMISSE","01","OFF PREMISSE","17","17","01 - GUERRERO SALVADOR - OFF","LUNES A VIERNES 9:00AM A 4:00PM"]
["J502558357","32 - HERNANDEZ EDGAR","SYLVANIA RESTAURANT 2025 C.A.","RESTAURANT SYLVANYA","22/02/23ST","SYLVANIA RESTAURANT 2025 C.A.","AV MEXICO EDIF LAS ORTEGAS PISO PB","LOCAL 1 URB LA CANDELARIA"," ","0414-1786979"," ","JLA_DASILVA294@HOTMAIL.COM"," "," "," "," "," ","JUAN GARCIA","JOSE DA SILVA","MIGUEL VIVAS","SYLVANIA RESTAURANT 2025 C.A.","AV MEXICO EDIF LAS ORTEGAS PISO PB","LOCAL 1 URB LA CANDELARIA"," "," ","0414-1786979"," ","RECIBE DE LUNES A VIERNES","DE 9:00AM A 4:00PM","DE LUNES A VIERNES","J-50255835-7","TRAMITE","89250","No","05","CREDITO 5 DIAS","20","CENTRO DE CARACAS","04","07","RESTAURANTES","02","ON PREMISSE","02","ON PREMISSE","32","32","01 - GUERRERO SALVADOR - ON","RECIBE DE LUNES A VIERNES DE 9:00AM A 4:00PM"]
["J503040637","23 - HERNANDEZ JOSÉ D.","BODEGON LA ESTACION DE JUNKO C.A","BODEGON LA ESTACION DE JUNKO C.A","280623 LL","BODEGON LA ESTACION DE JUNKO C.A","CARRETERA PRINCIPAL EL JUNQUITO","LOCAL PLANTA BAJA NRO S/N SECTOR","KILOMETRO 18 EL JUNKO","(0412) 961.30.65"," "," ","CARACAS"," "," "," "," ","CARMEN DA SILVA","JUAN RODRIGUES","DANIEL DA SILVA","BODEGON LA ESTACION DE JUNKO C.A","CARRETERA PRINICIPAL EL JUNQUITO","LOCAL PLANTA BAJA NRO S/N SECTOR","KILOMETRO 18 EL JUNKO"," ","(0412) 961.30.65"," ","MARTES A VIERNES","9:00 AM A 6:00 PM","MARTES A VIERNES","J-50304063-7","031-MN-1704","89250","No","05","CREDITO 5 DIAS","22","CATIA-JUNQUITO","05","18","LICORERIAS/BODEGONES","01","OFF PREMISSE","01","OFF PREMISSE","23","23","02 - TORRES VICTOR - OFF","MARTES A VIERNES 9:00 AM A 6:00 PM"]
["J503789280","35 - PEREZ JOSMAN","INVERISONES 249 RODIZZA C.A","PIZZERIA RODIZZA C.A","25/8/23 LL","INVERISONES 249 RODIZZA C.A","CALLE PARIS CON CALLE NEW YORK","LOCAL NRO 249 URB LAS MERCEDES","CARACAS","(0412) 194.10.17"," ","JGOMEZRODIZZA@GMAIL.COM","CARACAS"," "," "," "," ","MARIA NUÑEZ","JESUS VIVAS","LUIS CASTILLOS","INVERISONES 249 RODIZZA C.A","CALLE PARIS CON CALLE NEW YORK","LOCAL NRO 249 URB LAS MERCEDES","CARACAS"," ","(0412)174.10.17"," ","LUNES A VIERNES","9:00AM A 12:00PM","DE LUNES A VIERNES","J-50378928-0","TRAMITE","89250","No","05","CREDITO 5 DIAS","35","EL ROSAL-CHACAO","04","07","RESTAURANTES","01","OFF PREMISSE","01","OFF PREMISSE","35","35","02 - TORRES VICTOR - OFF","LUNES A VIERNES 9:00AM A 12:00PM"]
["J504364002","21 - CAÑONGO SAUL","EL PATIO BLOCK-BAR C.A","EL PATIO BLOCK-BAR C.A","130923 RM","EL PATIO BLOCK-BAR C.A","CALLE JUAN REGALADO CC EMPRESARIAL","FERREBLOCK N° 1, ZONA INDUSTRIALÑL","MARIN, CUA","0412-3749658"," ","KLEIBERRODRIGUEZ36@GMAIL.COM"," "," "," "," "," ","KLEIBER RODRIGUEZ","IRVIN HERNANDEZ"," ","EL PATIO BLOCK-BAR C.A","CALLE JUAN REGALADO CC EMPRESARIAL","FERREBLOCK N° 1, ZONA INDUSTRIALÑL","MARIN, CUA"," "," "," ","RECIBE LUNES A VIERNES","9:00 AM A 5:00 PM","DE LUNES A VIERNES","J-50436400-2","EN TRAMITE","89250","No","01","PREPAGO","21","VALLES DEL TUY-21","05","18","LICORERIAS/BODEGONES","01","OFF PREMISSE","01","OFF PREMISSE","21","21","02 - TORRES VICTOR - ON","RECIBE LUNES A VIERNES 9:00 AM A 5:00 PM"]
["V002677632","09 - CLIENTE INHABILITADO","MANRRIQUE REYES FORTUNATA","F. M.M.REYES (B.Y FRUT.EL ALCON)"," ","FORTUNATA M.M.REYES (B.Y FRUT.EL ALCON)","CALLE LA LINEA SECTOR CARUTONº 227","AL LADO DE BRISAS DEL"," ","414-2348748"," "," ","CARACAS"," "," "," "," ","FORTUNATA MANRIQUE R","EYES"," ","F. M.M.REYES (B.Y FRUT.EL ALCON)","CALLE LA LINEA SECTOR CARUTONº 227","AL LADO DE BRISAS DEL"," "," "," "," "," "," ",null,"V-00267763-2","M-N 6654","15000","No","05","CREDITO 5 DIAS","13","PETARE","05","23","ABASTOS PEQUEÑOS/BODEGAS","01","OFF PREMISSE","01","OFF PREMISSE"," ","09","09 - CLIENTE INHABILITADO","   "]
["V014425752","02 - REQUENA JOHAN - OFF","RIGOBERTO CARMONA ROMERO","LICORERIA RIGER"," ","LICORERIA RIGER","AV. INTERCOMUNAL DE MACUTO-20MTSLIC",". LA MUNDIAL MACUTO"," ","0414-3256530"," "," ","MACUTO"," "," "," "," ","RIGOBERTO CARMONA RO","MERO"," ","LICORERIA RIGER","AV. INTERCOMUNAL DE MACUTO-20MTSLIC",". LA MUNDIAL MACUTO"," "," "," "," "," "," ",null,"V-01442575-2","M-N 767","89250","No","05","CREDITO 5 DIAS","21","VALLES DEL TUY-21","05","18","LICORERIAS/BODEGONES","01","OFF PREMISSE","01","OFF PREMISSE"," ","02"," ","   "]
["V020751890","09 - CLIENTE INHABILITADO","COMERCIAL MACIAS","COMERCIAL MACIAS"," ","MAXIMILIANO MIERES MARTINEZ(CCIAL MACIAS","CALLE PPAL CUPIRA BARRIO SAN ANTONI","OCUPIRA"," ","8879123"," "," ","BARLOVENTO"," "," "," ","SE DEJO DE ATENDER LA ZONA 31/01/14","MAXIMILIANO MIERES M","ARTINEZ"," ","COMERCIAL MACIAS","CALLE PPAL CUPIRA BARRIO SAN ANTONI","OCUPIRA"," "," "," "," "," "," ",null,"V-02075189-0","M-N 363","15000","Sí","00","CONTADO","12","BARLOVENTO","05","23","ABASTOS PEQUEÑOS/BODEGAS","01","OFF PREMISSE","01","OFF PREMISSE","09","09","09 - CLIENTE INHABILITADO","   "]
["V028125158","502 - DRA. ALEXI Y. PINT0","AB. Y LIC. LAS CASITAS DE MORA","AB. Y LIC. LAS CASITAS DE MORA"," ","PABLO DOMINGO RAMIREZ","CALLE PRINCIPAL DE CARPINTERO SECTO","RLAS CASITAS-PETARE"," ","414-1406387"," "," ","CARACAS"," "," "," "," ","LABRADOR RAMIREZ RIC","HARD YOEL"," ","AB. Y LIC. LAS CASITAS DE MORA","CALLE PRINCIPAL DE CARPINTERO SECTO","RLAS CASITAS-PETARE"," "," "," "," ","Bs 1.047,10 LLEVADO A","INCOBRABLE EL 30-12-10",null,"V-02812515-8","MN-06859","15000","No","00","CONTADO","13","PETARE","05","23","ABASTOS PEQUEÑOS/BODEGAS","01","OFF PREMISSE","01","OFF PREMISSE"," ","502","01 - CARLOS DA SILVA","Bs 1.047,10 LLEVADO A INCOBRABLE EL 30-12-10"]
["V029381964","09 - CLIENTE INHABILITADO","ABASTOS LOS DOS CUCHIS","ABASTOS LOS DOS CUCHIS"," ","PEDRO ROBERTO GERARDIZ(AB.LOS DOS CUCHIS","CARRETERA NACIONAL GUATIRE-CAUCAGUA","SECTOR CUPO-GUATIRE-EDO.MIRANDA"," ","416/7226040"," "," ","GUATIRE"," "," "," "," ","GERARDIZ PEDRO"," "," ","ABASTOS LOS DOS CUCHIS","CARRETERA NACIONAL GUATIRE-CAUCAGUA","SECTOR CUPO-GUATIRE-EDO.MIRANDA"," "," "," "," "," "," ",null,"V-02938196-4","M-N 620","15000","No","05","CREDITO 5 DIAS","11","GUARENAS","05","23","ABASTOS PEQUEÑOS/BODEGAS","01","OFF PREMISSE","01","OFF PREMISSE","09","09","09 - CLIENTE INHABILITADO","   "]
["V031863534","02 - REQUENA JOHAN - OFF","UNIDAD DE SERVICIOS OASIS","BODEGON OASIS"," ","ASMEL LUGO","BODEGON OASIS FRENTE A LA ALCABALA","DE LAGUARDIA NACIONAL- LOS CARACAS"," ","3110646"," "," ","CARACAS"," "," "," "," ","ASMEL LUGO"," "," ","BODEGON OASIS","BODEGON OASIS FRENTE A LA ALCABALA","DE LAGUARDIA NACIONAL- LOS CARACAS"," "," "," "," "," "," ",null,"V-03186353-4","031-M-N 859","89250","No","05","CREDITO 5 DIAS","21","VALLES DEL TUY-21","05","18","LICORERIAS/BODEGONES","01","OFF PREMISSE","01","OFF PREMISSE"," ","02"," ","   "]
["V035548447","36  CLIENT-CORPORAT-OFIC.","MOISES A PEÑA S","MOISES A PEÑA S"," ","MOISES A PEÑA S","AV LOS SAMANES EDIF SAMANES PLAZA 4","APT 4D URB LA FLORIDA CARACAS"," ","0414-3115210"," "," ","CARACAS"," "," "," "," ","MOISES PEÑA"," "," ","MOISES A PEÑA S","AV LOS SAMANES EDIF SAMANES PLAZA 4","APT 4D URB LA FLORIDA CARACAS"," "," ","0414.311.52.10","29-03-17"," "," ",null,"V-03554844-7","PASTICULAR","89250","No","05","CREDITO 5 DIAS","36","VTAS.CORPORATIVAS","06","33","RELACIONADOS","00","ESTANDAR","00","ESTANDAR","36","36","71 - OFICINA","   "]
["V039590936","09 - CLIENTE INHABILITADO","MARIO ENRIQUE PARCO BENAVENTE","ABASTOS MARIO ENRIQUE"," ","MARIO E.PARCO B.(ABASTOS MARIO ENRIQUE)","CALLE COMERCIO CRUCE CON CALLE MARI","ÑOCASA N° 320-MNCPIO.RIO CHICO-EDO.","MIRANDA","8724133"," "," ","RIO CHICO"," "," "," "," ","MARIO ENRIQUE PARCO","BENAVENTE"," ","ABASTOS MARIO ENRIQUE","CALLE COMERCIO CRUCE CON CALLE MARI","ÑOCASA N° 320-MNCPIO.RIO CHICO-EDO.","MIRANDA"," "," "," ","TRASP. ZONA 01 SUP.JHONNY","RODRIGUEZ S/SOL.07/02/11",null,"V-03959093-6","URCH-034-MN-1.149","15000","No","05","CREDITO 5 DIAS","12","BARLOVENTO","05","23","ABASTOS PEQUEÑOS/BODEGAS","01","OFF PREMISSE","01","OFF PREMISSE"," ","09","09 - CLIENTE INHABILITADO","TRASP. ZONA 01 SUP.JHONNY RODRIGUEZ S/SOL.07/02/11"]
["V047685172","02 - REQUENA JOHAN - OFF","AUTOMERCADO AGUIAR","AUTOMERCADO AGUIAR"," ","DE AGUIAR JOSE RAFAEL","MIGUELACHO A MESERICORDIA -EDIFICIO","GRANO 20 PB LOCAL \" A \"  LA CANDELA","RIA","5723913"," "," ","CARACAS"," "," "," "," ","JOSE RAFAEL AGUIAR"," "," ","AUTOMERCADO AGUIAR","MIGUELACHO A MESERICORDIA -EDIFICIO","GRANO 20 PB LOCAL \" A \"  LA CANDELA","RIA"," "," "," "," "," ",null,"V-04768517-2","M-N 4714","89250","No","05","CREDITO 5 DIAS","20","CENTRO DE CARACAS","05","23","ABASTOS PEQUEÑOS/BODEGAS","01","OFF PREMISSE","01","OFF PREMISSE"," ","02"," ","   "]
["V053036810","31 - RODRIGUEZ WLADIMIR","REST. HELENA IBARRA","REST. HELENA IBARRA"," ","REST. HELENA IBARRA","C.C PASEO LAS MERCEDES NIVELTRASNOC","HO BARUTA"," ","9934769"," "," ","CARACAS"," "," "," "," ","HELENA IBARRA"," "," ","REST. HELENA IBARRA","C.C PASEO LAS MERCEDES NIVELTRASNOC","HO BARUTA"," "," "," "," ","TRASP. ZONA 03 SUP.CARLOS","DA SILVA S/SOLIC.08/02/11",null,"V-05303681-0","C 756","89250","No","05","CREDITO 5 DIAS","30","PARROQUIA EL RECREO","04","07","RESTAURANTES","02","ON PREMISSE","02","ON PREMISSE"," ","31"," ","TRASP. ZONA 03 SUP.CARLOS DA SILVA S/SOLIC.08/02/11"]
["V055905149","71 - OFICINA","JHON R. FIGUERIA DA SILVA","JHON R. FIGUERIA DA SILVA"," ","JHON R. FIGUERIA DA SILVA","AV.E,ENTRE CALLE 2 Y AV.1,GALPON 28","ZONA INDUSTRIAL LOS MONTONES-BARCEL","ONA-EDO.ANZOATEGUI","0416-6810213"," "," ","BARCELONA"," "," "," "," ","JHON FIGUERIA"," "," ","JHON R. FIGUERIA DA SILVA","AV.E,ENTRE CALLE 2 Y AV.1,GALPON 28","ZONA INDUSTRIAL LOS MONTONES-BARCEL","ONA-EDO.ANZOATEGUI"," "," "," "," "," ",null,"V005590514-9","PARTICULAR","7500","No","05","CREDITO 5 DIAS","71","OFICINA","07","31","PARTICULAR","00","ESTANDAR","00","ESTANDAR"," ","71","71 - OFICINA","   "]
["V056761132","31 - RODRIGUEZ WLADIMIR","REINALDO ACEVEDO GANDICA","REINALDO ACEVEDO GANDICA"," ","REINALDO ACEVEDO GANDICA","AV SOUBLETTE RESD PARQUE TIUNA (CAF","ETIN)SAN BERNARDINO"," ","2664713/04143348393"," "," ","CARACAS"," "," "," "," ","REIANLDO ACEVEDO GAN","DICA"," ","REINALDO ACEVEDO GANDICA","AV SOUBLETTE RESD PARQUE TIUNA (CAF","ETIN)SAN BERNARDINO"," "," "," "," "," "," ",null,"V-05676113-2","PARTICULAR","89250","No","05","CREDITO 5 DIAS","33","CENTRO-CANDELARIA","05","23","ABASTOS PEQUEÑOS/BODEGAS","01","OFF PREMISSE","01","OFF PREMISSE"," ","31"," ","   "]
["V060592965","02 - REQUENA JOHAN - OFF","ANVARINO DO NASCIMIENTO","A. DO NASCIMIENTO B.(S/M.ARAGUANEY"," ","ANVARINO DO NASCIMIENTO B.(S/M.ARAGUANEY","AV. ESPAÑA ENTRE 1ERA TRANSVERSALLO","CAL 01 PLAZA CATIA"," ","8727144"," "," ","CARACAS"," "," "," "," ","ANVARINO DO NASCIMIE","NTO"," ","A. DO NASCIMIENTO B.(S/M.ARAGUANEY","AV. ESPAÑA ENTRE 1ERA TRANSVERSALLO","CAL 01 PLAZA CATIA"," "," "," "," "," "," ",null,"V-06059296-5","M-N 545","89250","No","05","CREDITO 5 DIAS","22","CATIA-JUNQUITO","05","23","ABASTOS PEQUEÑOS/BODEGAS","01","OFF PREMISSE","01","OFF PREMISSE"," ","02"," ","   "]
["V061850259","09 - CLIENTE INHABILITADO","JOAO ISIDRO PINTO","ABASTOS EL CARMEN"," ","JOAO I. PINTO","CALLE BOLIVAR BARUTANULL"," "," "," "," "," ","CARACAS"," "," "," "," ","JOAO ISIDRO PINTO"," "," ","ABASTOS EL CARMEN","CALLE BOLIVAR BARUTANULL"," "," "," "," "," "," "," ",null,"V-06185025-9","M-N 84","15000","No","05","CREDITO 5 DIAS","15","BARUTA","05","23","ABASTOS PEQUEÑOS/BODEGAS","01","OFF PREMISSE","01","OFF PREMISSE"," ","09","09 - CLIENTE INHABILITADO","   "]
["V062159533","22 - GONZALEZ CARLOS","ABASTO LA ESPERANZA","ABASTO LA ESPERANZA"," ","MANUEL FIGUEIRA DE J.(AB.LA ESPERANZA)","CALLE 7, Nº40, ENTRE 3ª Y 4ª.","PROPATRIA-CARACAS"," ","0212 872 25 81","0412 370 22 81","NO POSEE","CARACAS"," "," "," "," ","MANUEL FIGUEIRA DE J","ESUS"," ","ABASTO LA ESPERANZA","CALLE 7, Nº40, ENTRE 3ª Y 4ª.","PROPATRIA-CARACAS"," "," "," "," ","RECIBE  LUNES A VIERNES"," 9:00AM A 2:00PM","MARTES Y MIERCOLES","V-06215953-3","002-MN-3116","89250","No","05","CREDITO 5 DIAS","22","CATIA-JUNQUITO","06","23","ABASTOS PEQUEÑOS/BODEGAS","01","OFF PREMISSE","01","OFF PREMISSE","22","22","02 - VICTOR TORRES - OFF","RECIBE  LUNES A VIERNES  9:00AM A 2:00PM"]
["V062824200","09 - CLIENTE INHABILITADO","ABAST,LIC,CARN Y CHARC, BARROS","ABAST,LIC,CARN Y CHARC, BARROS"," ","ABAST,LIC,CARN Y CHARC, BARROS","CARRETERA VIA SOTILLO (ENTRADA)C.C."," ARMAS P.B SECTOR DOS CAMINOS"," ","(0412)027-92.44"," "," ","HIGUEROTE"," "," ","2 CD 090314-100315 23HP 15DC","C/SUP-01 140317 FZA VTAS LA/HD","DE BARROS HORACIO"," "," ","INV. DE BARROS 2005","CARRETERA VIA SOTILLO (ENTRADA)C.C."," ARMAS P.B SECTOR DOS CAMINOS"," "," "," "," "," "," ","MIERCOLES","V-06282420-0","M-N 1156","15000","Sí","00","CONTADO","12","BARLOVENTO","05","18","LICORERIAS/BODEGONES","01","OFF PREMISSE","01","OFF PREMISSE","09","09","09 - CLIENTE INHABILITADO","   "]
["V065023152","09 - CLIENTE INHABILITADO","PAIS TOVAR ANTONIO","LICORERIA LAS PALMAS II"," ","PAIS TOVAR ANTONIO","CALLE PPAL DE MACA EDIF. SAN LUIS","PISO 1 APT 1A SECTOR PUENTE MACA","MUNICIPIO SUCRE.  CARACAS","0212- 256.63.65","3 CHD"," ","CARACAS"," "," "," ","BAJA FRECUENCIA DE COMPRA 30/01/14","PAIS TOVAR ANTONIO","C.I.: 6.502.315"," ","PAIS TOVAR ANTONIO","CALLE PPAL DE MACA EDIF. SAN LUIS","PISO 1 APT 1A SECTOR PUENTE MACA","MUNICIPIO SUCRE.  CARACAS"," ","0212- 256.63.65"," "," "," ","VIERNES","V-06502315-2","TRAMITE","15000","Sí","00","CONTADO","13","PETARE","05","18","LICORERIAS/BODEGONES","01","OFF PREMISSE","01","OFF PREMISSE"," ","09","09 - CLIENTE INHABILITADO","   "]
["V068977700","22 - GONZALEZ CARLOS","FRANK RAMON MORAN BARRETO","LICORERIA JOLFRAN","091123 RM","FRANK RAMON MORAN BARRETO","CALLE REAL DE LA CAÑADA, CASA PB","N° 95, URB. 23 DE ENERO"," ","0412-7047342"," ","MONTESINOSHENRY7@GMAIL.COM"," "," "," "," "," ","FRANK R. MORAN B."," "," ","FRANK RAMON MORAN BARRETO","CALLE REAL DE LA CAÑADA, CASA N° 95","PB, URB. 23 DE ENERO"," "," "," "," ","RECIBE DE LUNES A VIERNES","10:00 AM A 05:00 PM","DE LUNES A VIERNES","V-06897770-0","16-MN-1383","89250","No","01","PREPAGO","22","CATIA-JUNQUITO","05","18","LICORERIAS/BODEGONES","01","OFF PREMISSE","01","OFF PREMISSE","22","22","02 - TORRES VICTOR - OFF",{"$f":"CONCATENATE(AB4034,\" \",AC4034)","v":"RECIBE DE LUNES A VIERNES 10:00 AM A 05:00 PM"}]
["V079491264","09 - CLIENTE INHABILITADO","WILFREDO JAVIER URBINA GUERRERO","INV. WILHE"," ","WILFRED JAVIER URBINA G.(INVERS.WILHE)","CALLE JOSE RAMON FIGUERA FRENTE BAN","COMERCANTIL CENTRO COMERCIAL TAMANA","CO TUY- CHARALLAV","0239/5147396"," "," ","CHARALLAVE"," "," "," "," ","WILFREDO JAVIER URBI","NA GUERRERO"," ","INV. WILHE","CALLE JOSE RAMON FIGUERA FRENTE BAN","COMERCANTIL CENTRO COMERCIAL TAMANA","CO TUY- CHARALLAV"," "," "," ","PASADO ZONA 01.SUP JHONNY","R. S/ SOLIC DEL 11/0/11",null,"V-07949126-4","M-Y 931","15000","No","05","CREDITO 5 DIAS","14","LITORAL CENTRAL","05","23","ABASTOS PEQUEÑOS/BODEGAS","01","OFF PREMISSE","01","OFF PREMISSE","09","09","09 - CLIENTE INHABILITADO","PASADO ZONA 01.SUP JHONNY R. S/ SOLIC DEL 11/0/11"]
["V082128561","09 - CLIENTE INHABILITADO","FRANCISCO ABELARDO SANTAMARIA","ABASTOS IRIANA"," ","FCO.ABELARDO STA.MARIA(ABASTOS IRIANA)","CALLE EL CARMEN,TACARIGUA DE LA LAG","UNAMNPIO.PAEZ-EDO.MIRANDA"," ","0234-808.57.60","0412-733.30.35"," ","TACARIGUA DE LA LAGU"," "," "," "," ","FRANCISCO SANTAMARIA"," "," ","ABASTOS IRIANA","CALLE EL CARMEN,TACARIGUA DE LA","LAGUNA. MNPIO.PAEZ-EDO.MIRANDA"," "," ","0234-808.57.60"," ","CAMBIO DE RAZON SOCIAL","TRASP ZONA 01 04/02/2013","JUEVES","V-08212856-1","039-MM-965","15000","Sí","05","CREDITO 5 DIAS","12","BARLOVENTO","05","23","ABASTOS PEQUEÑOS/BODEGAS","01","OFF PREMISSE","01","OFF PREMISSE"," ","09","09 - CLIENTE INHABILITADO","CAMBIO DE RAZON SOCIAL TRASP ZONA 01 04/02/2013"]
["V093308278","36  CLIENT-CORPORAT-OFIC.","NEIDA MARITZA PEREZ ARELLANO","NEIDA MARITZA PEREZ ARELLANO","4166060726","NEIDA MARITZA PEREZ ARELLANO","AV. SANZ, URB. EL MARQUEZ, EDIF.","ONDARRETA NORTE, PISO 9,APTO 9-C","CARACAS","0212-238.16.75","0416-262.32.52"," ","CARACAS"," "," "," "," ","NEIDA MARITZA PEREZ"," "," ","NEIDA MARITZA PEREZ ARELLANO","AV. SANZ, URB. EL MARQUEZ, EDIF.","ONDARRETA NORTE, PISO 9,APTO 9-C","CARACAS"," ","0212-238.16.75","0414-2623252"," "," ",null,"V-09330827-8","PARTICULAR","89250","No","05","CREDITO 5 DIAS","36","VTAS.CORPORATIVAS","07","31","PARTICULAR","00","ESTANDAR","00","ESTANDAR"," ","36","71 - OFICINA","   "]
["V10097431","70 - COMPRA/PERSONAL","ANTONIO DE FREITAS","ANTONIO DE FREITAS","061221 YP","ANTONIO DE FREITAS","FINAL CALLE 10 URBINA","CARACAS"," ","(0212)240-88-80"," "," "," "," "," "," "," "," "," "," ","ANTONIO DE FREITAS","GUARENAS, URB. LOS NARANJOS, ZONA 1","CASA C-6 AL FINAL LLEGADO A LA","REDOMA"," ","(0212) 240-88-80"," ","SR JUAN CARLOS D.A"," ",null,"V-10097431","PARTICULAR","15000","No","05","CREDITO 5 DIAS","70","PERSONAL EMPLEADO","05","17","FTE SODA/LUNCH/HELAD/CAFE","01","OFF PREMISSE","00","ESTANDAR","70","70","70 - EMPLEADOS","SR JUAN CARLOS D.A  "]
["V10333694","71 - OFICINA","MANUEL BALSA","MANUEL BALSA"," ","MANUEL BALSA","CALLE 10 CON ESQUINA CALLE 11","EDIFICIO PLASENCIA LA URBINA","EDO-MIRANDA","0212-2421111"," "," ","CARACAS"," "," "," "," ","MANUEL BALSA"," "," ","MANUEL BALSA","CALLE 10 CON ESQUINA CALLE 11","EDIFICIO PLASENCIA LA URBINA","EDO-MIRANDA"," "," "," ","DESPACHAR EN LA OFICINA"," ",null,"V-1033369-4","PARTICULAR","7500","No","05","CREDITO 5 DIAS","71","OFICINA","07","31","PARTICULAR","01","OFF PREMISSE","01","OFF PREMISSE","71","71","71 - OFICINA","DESPACHAR EN LA OFICINA  "]
["V10352929","70 - COMPRA/PERSONAL","GABRIEL GONZALEZ","GABRIEL GONZALEZ","08/12/2020","GABRIEL GONZALEZ","CALLE 10 CON ESQUINA CALLE 11","EDIFICIO PLASENCIA LAURBINA PETARE"," "," "," "," ","CARACAS"," "," "," "," ","GABRIEL GONZALEZ"," "," ","GABRIEL GONZALEZ","CALLE 10 CON CALLE 11 EDIF.","PLASENCIA. LA URBINA PETARE"," "," "," "," ","EJECUTIVO DE VENTA"," ",null,"V-10352929-0","PARTICULAR","7500","No","01","PREPAGO","70","PERSONAL EMPLEADO","09","25","EMPLEADOS","01","OFF PREMISSE","01","OFF PREMISSE","70","70","70 - EMPLEADOS","EJECUTIVO DE VENTA  "]
["V105135412","70 - COMPRA/PERSONAL","CARLOS GONCALVES","CARLOS GONCALVES"," ","CARLOS GONCALVES","CALLE 10 CON ESQUINA CALLE 11 EDIF.","PLASENCIA. LA URBINA"," ","0212-242.11.11"," "," ","CARACAS"," "," "," "," ","CARLOS GONCALVES"," "," ","CARLOS GONCALVES","CALLE 10 CON ESQUINA CALLE 11 EDIF.","PLASENCIA. LA URBINA"," "," "," "," ","SUPERVISOR DE VENTAS"," ",null,"V-010513541-2","PARTICULAR","1","No","00","CONTADO","70","PERSONAL EMPLEADO","07","25","EMPLEADOS","10","PROLICOR,C.A","10","PROLICOR,C.A"," ","70","70 - EMPLEADOS","SUPERVISOR DE VENTAS  "]
["V10694237","70 - COMPRA/PERSONAL","INGRID RIVERO","INGRID RIVERO"," ","INGRID RIVERO","CALLE 10 CON ESQUINA CALLE 11 EDIF.","PLASENCIA. LA URBINA"," ","0212-242.11.11"," "," ","CARACAS"," "," "," "," ","INGRID RIVERO"," "," ","INGRID RIVERO","CALLE 10 CON ESQUINA CALLE 11 EDIF.","PLASENCIA. LA URBINA"," "," ","(0212) 242-11-11"," ","SERVICIOS GRALES. ALMACEN"," ",null,"V-01069423-7","PARTICULAR","1","Sí","00","CONTADO","70","PERSONAL EMPLEADO","07","25","EMPLEADOS","10","PROLICOR,C.A","10","PROLICOR,C.A","70","70","70 - EMPLEADOS","SERVICIOS GRALES. ALMACEN  "]
["V107850518","31 - RODRIGUEZ WLADIMIR","JOSE ALBERTO HERRERA ARTEAGA","REPRESENTACIONES H WEEK END"," ","HERRERA A JOSE A.","MANDUCA A FERRENQUIN EDIF SAN JOSE"," 6-1LA CANDELARIA"," ","0414/2443811"," "," ","CARACAS"," "," "," "," ","JOSE ALBERTO HERRERA"," ARTEAGA"," ","REPRESENTACIONES H WEEK END","MANDUCA A FERRENQUIN EDIF SAN JOSE"," 6-1LA CANDELARIA"," "," "," "," "," "," ",null,"V-10785051-8","PARTICULAR","89250","No","05","CREDITO 5 DIAS","33","CENTRO-CANDELARIA","04","06","BAR/TABER./S. BAR/PUB/TAS","02","ON PREMISSE","02","ON PREMISSE"," ","31"," ","   "]
["V10851678","70 - COMPRA/PERSONAL","GILBERTO HERNANDEZ","GILBERTO HERNANDEZ"," ","GILBERTO HERNANDEZ","CALLE 10 CON ESQUINA CALLE 11 EDIF.","PLASENCIA. LA URBINA"," ","0212-242.11.11"," "," ","CARACAS"," "," "," "," ","GILBERTO HERNANDEZ"," "," ","GILBERTO HERNANDEZ","CALLE 10 CON ESQUINA CALLE 11 EDIF.","PLASENCIA. LA URBINA"," "," ","(0212) 242-11-11"," ","VENDEDOR TITULAR"," ",null,"V-01085167-8","PARTICULAR","1","No","00","CONTADO","70","PERSONAL EMPLEADO","07","25","EMPLEADOS","10","PROLICOR,C.A","10","PROLICOR,C.A"," ","70","70 - EMPLEADOS","VENDEDOR TITULAR  "]
["V11031868","09 - CLIENTE INHABILITADO","MARGARITA ARMAS","MARGARITA ARMAS"," ","MARGARITA ARMAS","ZONA INDUSTRIAL TERRINCA, GALPON Nº","6-A, GUATIRE EDO. MIRANDA"," ","0212-242.11.11"," "," ","CARACAS"," "," "," ","CAMBIO A LA ZONA 09 10/12/19 YM","MARGARITA ARMAS"," "," ","MARGARITA ARMAS","CALLE 10 CON ESQUINA 11 EDIFICIO","PLASENCIA. URBANIZACION LA URBINA","ESTADO MIRANDA"," ","0212-242.11.11"," ","ASISTENTE RRHH"," ",null,"V-0011031868","PARTICULAR","0","No","00","CONTADO","70","PERSONAL EMPLEADO","07","25","EMPLEADOS","10","PROLICOR,C.A","10","PROLICOR,C.A","09","09","09 - CLIENTE INHABILITADO","ASISTENTE RRHH  "]
["V11203097","70 - COMPRA/PERSONAL","KARINA DIAZ","KARINA DIAZ"," ","KARINA DIAZ","CALLE 10 CON ESQ CALLE 11 EDF","PLASENCIA LA URBINA EDO MIRANDA"," ","0212-242.11.11"," "," ","CARACAS"," "," "," "," ","KARINA DIAZ"," "," ","KARINA DIAZ","CALLE 10 CON ESQ CALLE 11 EDF","PLASENCIA LA URBINA EDO MIRANDA"," "," ","0212 242-11-11"," ","GERENTES DE COMPRAS"," ",null,"V-01120309-7","PARTICULAR","1","No","00","CONTADO","70","PERSONAL EMPLEADO","07","25","EMPLEADOS","10","PROLICOR,C.A","10","PROLICOR,C.A","70","70","70 - EMPLEADOS","GERENTES DE COMPRAS  "]
["V113183450","70 - COMPRA/PERSONAL","VICTOR ALEXANDER TORRES","VICTOR ALEXANDER TORRES","27/12/2021","VICTOR ALEXANDER TORRES","CALLE EL PEDREGAL, CASA LAS TORRES","NRO APTO 05 URB LA CASTELLANA","CHACAO ZONA POSTAL 1060","0212-2678404"," ","VKTORRES72@GMAIL.COM"," "," "," "," "," "," "," "," ","VICTOR ALEXANDER TORRES","CALLE EL PEDREGAL, CASA LAS TORRES,","NRO APTO 05, URB LA CASTELLANA","CHACAO ZONA POSTAL 1060"," ","0212-2678404"," "," "," ",null,"V-11318345-0","PARTICULAR","7500","No","00","CONTADO","70","PERSONAL EMPLEADO","07","25","EMPLEADOS","01","OFF PREMISSE","01","OFF PREMISSE","70","70","70 - EMPLEADOS","   "]
["V115521434","09 - CLIENTE INHABILITADO","MARIELA YELIZTA HERNANDEZ","BODEGON DE OLIVER"," ","MARIELA YELIZTA HERNANDEZ","SOTILLO VIA CAÑO MADRID SECTOR","EL MANGO HIGUEROTE"," ","(0234) 342.43.29"," "," ","HIGUEROTE","2CHED 011114/031115 8HP MYZ","DESBLOQ.120216 C/PEDIDO 172534 HD","2CHD 130216/220916 24HP MYZ","C/SUP-01 060217 FZA VTAS","MARIELA  HERNANDEZ"," "," ","BODEGON DE OLIVER","SOTILLO VIA CAÑO MADRID SECTOR","EL MANGO HIGUEROTE"," "," ","(0234) 342.43.29"," ","NO ABRE LOS MARTES"," ","MIERCOLES","V-11552143-4","HGTE00MM59","15000","Sí","00","CONTADO","12","BARLOVENTO","05","18","LICORERIAS/BODEGONES","01","OFF PREMISSE","01","OFF PREMISSE","09","09","09 - CLIENTE INHABILITADO","NO ABRE LOS MARTES  "]
["V11671568","09 - CLIENTE INHABILITADO","RAFAEL GONZALEZ","RAFAEL GONZALEZ"," ","RAFAEL GONZALEZ","CALLE 10 CON ESQUINA CALLE 11 EDIF.","PLASENCIA. LA URBINA"," ","0212-242.11.11"," "," ","CARACAS"," "," "," ","CAMBIO A LA ZONA 09 10/12/19 YM","VANESSA PERDOMO"," "," ","RAFAEL GONZALEZ","CALLE 10 CON ESQUINA CALLE 11 EDIF.","PLASENCIA. LA URBINA"," "," ","(0212) 242-11-11"," ","EJECUTIVO DE VENTAS"," ",null,"V-01167156-8","PARTICULAR","0","Sí","00","CONTADO","70","PERSONAL EMPLEADO","07","25","EMPLEADOS","10","PROLICOR,C.A","10","PROLICOR,C.A","09","09","09 - CLIENTE INHABILITADO","EJECUTIVO DE VENTAS  "]
["V11771078","70 - COMPRA/PERSONAL","MARKELLYS RODRIGUEZ","MARKELLYS RODRIGUEZ"," ","MARKELLYS RODRIGUEZ","CALLE 10 CON ESQUINA CALLE 11 EDIF.","PLASENCIA. LA URBINA"," ","0212-242.11.11"," "," ","CARACAS"," "," "," "," ","MARKELLYS RODRIGUEZ"," "," ","MARKELLYS RODRIGUEZ","CALLE 10 CON ESQUINA CALLE 11 EDIF.","PLASENCIA. LA URBINA"," "," ","(0212) 242-11-11"," ","DIR. DE CAD. DE SUM Y SER"," ",null,"V-01177107-8","PARTICULAR","15000","No","05","CREDITO 5 DIAS","70","PERSONAL EMPLEADO","07","25","EMPLEADOS","01","OFF PREMISSE","01","OFF PREMISSE"," ","70","70 - EMPLEADOS","DIR. DE CAD. DE SUM Y SER  "]
["V11943013","70 - COMPRA/PERSONAL","JOSE JESUS DERLON","JOSE JESUS DERLON"," ","JOSE JESUS DERLON","CALLE 10 CON ESQUINA CALLE 11 EDIF.","PLASENCIA. LA URBINA"," ","0212-242.11.11"," "," ","CARACAS"," "," "," "," ","JOSE JESUS DERLON"," "," ","JOSE JESUS DERLON","CALLE 10 CON ESQUINA CALLE 11 EDIF.","PLASENCIA. LA URBINA"," "," ","(0212) 242-11-11"," ","EJECUTIVO DE VENTAS"," ",null,"V-01194301-3","PARTICULAR","1","Sí","00","CONTADO","70","PERSONAL EMPLEADO","07","25","EMPLEADOS","10","PROLICOR,C.A","10","PROLICOR,C.A"," ","70","70 - EMPLEADOS","EJECUTIVO DE VENTAS  "]
["V120626929","02 - REQUENA JOHAN - OFF","LUIS DE ABREU PAULINO","LUIS DE ABREU PAULINO (ABASTOS EL T"," ","LUIS DE ABREU PAULINO (ABASTOS EL TUYO)","HORNO NEGRO A  COCHERA QUINTA CRESP","OCARACAS"," ","421367"," "," ","CARACAS"," "," "," "," ","LUIS DE ABREU PAULIN","O"," ","LUIS DE ABREU PAULINO (ABASTOS EL T","HORNO NEGRO A  COCHERA QUINTA CRESP","OCARACAS"," "," "," "," "," "," ",null,"V-12062692-9","M-N 2921","89250","No","05","CREDITO 5 DIAS","23","CENTRO-SAN MARTIN","05","23","ABASTOS PEQUEÑOS/BODEGAS","01","OFF PREMISSE","01","OFF PREMISSE"," ","02"," ","   "]
["V12112427","36  CLIENT-CORPORAT-OFIC.","ELZASSO INVESTMENT C.A.","ELZASSO INVESTMENT C.A.","23/11/22ST","ELZASSO INVESTMENT C.A.","AV FRANCISCO DE MIRANDA EDF SEGUROS","VENEZUELA PISO 11 EL ROSAL CARACAS"," ","0212-7502080"," "," "," "," "," "," "," ","ALTER VALERO"," "," ","ELZASSO INVESTMENT C.A.","AV FRANCISCO DE MIRANDA EDF SEGUROS","VENEZUELA PISO 11 EL ROSAL CARACAS"," "," ","0212-7502080"," ","RECIBE DE LUNES A VIERNES","DE 9:00AM A 02:00PM","LUNES","V-12.112.427"," ","89250","No","05","CREDITO 5 DIAS","36","VTAS.CORPORATIVAS","06","28","COMERCIOS","01","OFF PREMISSE","01","OFF PREMISSE","36","36","36 - CLIENTE CORPORATIVO","RECIBE DE LUNES A VIERNES DE 9:00AM A 02:00PM"]
["V124203445","36  CLIENT-CORPORAT-OFIC.","ELIANA NOHEMI BRAZAO PESTANA","ELIANA NOHEMI BRAZAO PESTANA","020413","ELIANA NOHEMI BRAZAO PESTANA","CALLE 1, CONJUNTO RESD.LOS JABILLOS","TORRE B, PISO 6 APTO. B-61,TERRAZAS","DE GUAICOCO, LA DOLORITA","(0412) 622-53-69"," ","elianabrazao@gmail.com","CARACAS"," "," "," "," ","ELIANA NOHEMI BRAZAO"," "," ","ELIANA NOHEMI BRAZAO PESTANA","CALLE 1, CONJUNTO RESD.LOS JABILLOS","TORRE B, PISO 6 APTO. B-61,TERRAZAS","DE GUAICOCO, LA DOLORITA"," ","(0412) 622-53-69"," "," "," ",null,"V-12420344-5","PARTICULAR","89250","No","05","CREDITO 5 DIAS","36","VTAS.CORPORATIVAS","07","31","PARTICULAR","00","ESTANDAR","00","ESTANDAR","36","36","71 - OFICINA","   "]
["V12617592","70 - COMPRA/PERSONAL","WLADIMIR RODRIGUEZ","WLADIMIR RODRIGUEZ"," ","WLADIMIR RODRIGUEZ","ZONA INDUSTRIAL TERRINCA, GALPON Nº","6-A, GUATIRE EDO. MIRANDA"," ","0212-242.11.11"," "," ","CARACAS"," "," "," "," ","WLADIMIR RODRIGUEZ"," "," ","WLADIMIR RODRIGUEZ","CALLE CON ESQUINA CALLE 11 EDIF.","PLASENCIA LA URBINA. EDO. MIRANDA"," "," ","0212-242.11.11"," ","EJECUTIVO DE VENTAS"," ",null,"V-0012617592","PARTICULAR","7500","No","00","CONTADO","70","PERSONAL EMPLEADO","07","25","EMPLEADOS","10","PROLICOR,C.A","10","PROLICOR,C.A"," ","70","70 - EMPLEADOS","EJECUTIVO DE VENTAS  "]
["V12747808","70 - COMPRA/PERSONAL","EDUARDO JESUS CARVAJAL PICON","EDUARDO JESUS CARVAJAL PICON","21/12/22ST","EDUARDO JESUS CARVAJAL PICON","AV PARIS EDIF URACOA PISO 11 APTO12","URB LA CALIFORNIA CARACAS PETARE"," ","0412-0225426"," ","CARVAJAL85111@GMAIL.COM"," "," "," "," "," "," "," "," ","EDUARDO JESUS CARVAJAL PICON","CALLE 10 CON CALLE 11 EDF PLASENCIA","LA URBIBNA PETARE MIRANDA"," "," ","0412-0225426"," "," "," ","DE LUNES A VIERNES","V-12.747.808"," ","7500","No","00","CONTADO","70","PERSONAL EMPLEADO","09","25","EMPLEADOS","01","OFF PREMISSE","01","OFF PREMISSE","70","70","70 - EMPLEADOS","   "]
["V12984911","09 - CLIENTE INHABILITADO","RAFAEL GARCIA","RAFAEL GARCIA"," ","RAFAEL GARCIA","CALLE 10 CON 11 EDIFICIO PLASENCIA","LA URBINA"," ","0212-242.11.11"," "," ","CARACAS"," "," "," ","CAMBIO A LA ZONA 09 10/12/19 YM","RAFAEL GARCIA"," "," ","RAFAEL GARCIA","CALLE 10 CON 11 EDIFICIO PLASENCIA","LA URBINA"," "," ","0212 - 2421111"," ","EJECUTIVO DE VENTA"," ",null,"V-01298491-1","PARTICULAR","0","Sí","00","CONTADO","70","PERSONAL EMPLEADO","07","25","EMPLEADOS","10","PROLICOR,C.A","10","PROLICOR,C.A","09","09","09 - CLIENTE INHABILITADO","EJECUTIVO DE VENTA  "]
["V131394272","24 - REYES OSWALDO","ORLANDO ALFREDO MIRANDA VARELA","ORLANDO ALFREDO MIRANDA VARELA"," ","ORLANDO ALFREDO MIRANDA VARELA","ESQ GUAYABAL CASA 20 URB STA ROSALI","A CARACAS"," ","0212 542 16 38","0412 319 46 31","orlandomiranda77@gmail.com","CARACAS"," ","CAMBIO DE ZONA 28 A 228 190122 ST","BLOQ MAYOR 44 DIAS SEGUIM 2903 PH","CAMBIO V28 A V224 230223 PH","ORLANDO MIRANDA"," "," ","ORLANDO ALFREDO MIRANDA VARELA","ESQ GUAYABAL CASA 20 URB STA ROSALI","A CARACAS"," "," ","04123194631"," ","RECIBE  LUNES A VIERNES"," 2:00PM A 6:00PM","LUNES","V131394272","13-MN-001127","89250","No","05","CREDITO 5 DIAS","23","CENTRO-SAN MARTIN","05","18","LICORERIAS/BODEGONES","01","OFF PREMISSE","01","OFF PREMISSE","24","24","02 - VICTOR TORRES - OFF","RECIBE  LUNES A VIERNES  2:00PM A 6:00PM"]
["V13320654","70 - COMPRA/PERSONAL","HERRERA, RICHARD JOSE","HERRERA, RICHARD JOSE"," ","HERRERA, RICHARD JOSE","ZONA INDUSTRIAL TERRINCA GALPON Nº","6-A. GUATIRE ESTADO MIRANDA"," ","0212-344.46.22"," "," ","GUATIRE"," "," "," "," ","HERRERA RICHARD JOSE"," "," ","HERRERA, RICHARD JOSE","ZONA INDUSTRIAL TERRINCA GALPON Nº","6-A, GUATIRE ESTADO MIRANDA"," "," ","(0212)344.46.22"," ","TRANSPORTE PARACAIMA, SRL","DESPACHADOR",null,"V-0013320654","PARTICULAR","1","No","00","CONTADO","70","PERSONAL EMPLEADO","07","25","EMPLEADOS","10","PROLICOR,C.A","10","PROLICOR,C.A"," ","70","70 - EMPLEADOS","TRANSPORTE PARACAIMA, SRL DESPACHADOR"]
["V13478415","70 - COMPRA/PERSONAL","KATIUSKA LARA HERNANDEZ","KATIUSKA LARA HERNANDEZ"," ","KATIUSKA LARA HERNANDEZ","CALLE 10 CON CALLE 11 EDF PLACENSIA","LA URBINA"," ","0212-240-8961","28/03/19","katiuska.lara@nube azul.com.ve","CARACAS"," "," "," "," "," "," "," ","KATIUSKA LARA HERNANDEZ","CALLE 10 CON CALLE 11 EDF PLASCENCI","A LA URBINA"," "," ","02122408961"," ","RECIBE DE LUNES A VIERNES","DE 8 AM A 4 PM","CONTADO","V-1347841-5","particula","0.5","No","00","CONTADO","70","PERSONAL EMPLEADO","09","25","EMPLEADOS","00","ESTANDAR","00","ESTANDAR","70","70"," ","RECIBE DE LUNES A VIERNES DE 8 AM A 4 PM"]
["V13638771","70 - COMPRA/PERSONAL","EMANUEL TEXEIRA","EMANUEL TEXEIRA"," ","EMANUEL TEXEIRA","CALLE 10 CON ESQUINA CALLE 11 EDIF.","PLASENCIA. LA URBINA"," ","0212-242.11.11"," "," ","CARACAS"," "," "," "," ","EMANUEL TEXEIRA"," "," ","EMANUEL TEXEIRA","CALLE 10 CON ESQUINA CALLE 11 EDIF.","PLASENCIA. LA URBINA"," "," ","(0212) 242-11-1"," ","GERENTE DE AUDITORIA"," ",null,"V-01363877-1","PARTICULAR","1","No","00","CONTADO","70","PERSONAL EMPLEADO","07","25","EMPLEADOS","10","PROLICOR,C.A","10","PROLICOR,C.A"," ","70","70 - EMPLEADOS","GERENTE DE AUDITORIA  "]
["V13845921","70 - COMPRA/PERSONAL","ISAAC PERDOMO","ISAAC PERDOMO"," ","ISAAC PERDOMO","LA URBINA, CALLE 10 CON 11 EDIF.","PLASENCIA MUN. SUCRE PETARE.MIRANDA"," ","0212-2408861"," "," ","CARACAS"," "," "," "," "," "," "," ","ISAAC PERDOMO","LA URBINA, CALLE 10 CON 11 EDIF.","PLASENCIA MUN. SUCRE PETARE.MIRANDA"," "," ","0212-240-88-61"," ","ESPECIALISTA DE","CONTABILIDAD",null,"V-1384592-1"," ","1","No","00","CONTADO","70","PERSONAL EMPLEADO","09","25","EMPLEADOS","01","OFF PREMISSE","01","OFF PREMISSE","70","70","70 - EMPLEADOS","ESPECIALISTA DE CONTABILIDAD"]
["V13978004","70 - COMPRA/PERSONAL","HELEN OSUNA","HELEN OSUNA"," ","HELEN OSUNA","CALLE 10 CON ESQUINA CALLE 11 EDIF.","PLASENCIA. LA URBINA"," ","0212-242.11.11"," "," ","CARACAS"," "," "," "," ","HELEN OSUNA"," "," ","HELEN OSUNA","CALLE 10 CON ESQUINA CALLE 11 EDIF.","PLASENCIA. LA URBINA"," "," ","(0212) 242-11-11"," ","ANALISTA DE CAP. Y DESARR"," ",null,"V-01397800-4","PARTICULAR","1","No","00","CONTADO","70","PERSONAL EMPLEADO","07","25","EMPLEADOS","10","PROLICOR,C.A","10","PROLICOR,C.A"," ","70","70 - EMPLEADOS","ANALISTA DE CAP. Y DESARR  "]
["V14123924","36  CLIENT-CORPORAT-OFIC.","RONALD MORRISON HIJO","RONALD MORRISON HIJO"," ","RONALD MORRISON HIJO","AV PPAL COLINA DE BELLO MONTE C.C.","BELLO MONTE, NIVEL MEZZANINA OFIC","04, CARACAS","0212-753-89-64"," "," ","CARACAS"," "," "," "," ","RONALD MORRISON"," "," ","RONALD MORRISON HIJO","AV PPAL COLINA DE BELLO MONTE C.C.","BELLO MONTE, NIVEL MEZZANINA OFIC","04, CARACAS"," ","0212 753-89-64"," "," "," ",null,"V-014123924-0","PARTICULAR","89250","No","05","CREDITO 5 DIAS","36","VTAS.CORPORATIVAS","06","33","RELACIONADOS","00","ESTANDAR","00","ESTANDAR","36","36","71 - OFICINA","   "]
["V14330886","09 - CLIENTE INHABILITADO","DANIEL FUENTES","DANIEL FUENTES"," ","DANIEL FUENTES","CALLE 10 CON 11 EDIFICIO PLASENCIA","LA URBINA"," ","0212-242.11.11"," "," ","CARACAS"," "," "," "," ","DANIEL FUENTES"," "," ","DANIEL FUENTES","CALLE 10 CON 11 EDIFICIO PLASENCIA","LA URBINA"," "," ","0212 2421111"," "," "," ",null,"V-01433088-6","PARTICULAR","0","No","00","CONTADO","09","CLIENTE INHABILITADO","07","25","EMPLEADOS","10","PROLICOR,C.A","10","PROLICOR,C.A","09","09","09 - CLIENTE INHABILITADO","   "]
["V144512886","70 - COMPRA/PERSONAL","LENNYS DEL VALLE SUBERO NAVARRETE","LENNYS DEL VALLE SUBERO NAVARRETE","01/12/22ST","LENNYS DEL VALLE SUBERO NAVARRETE","CALLE 2DA ETAPA EDIF H PISO 7","APTO H-7-9 URB LOMAS DEL SOL SECTOR","2 Y 3 LOS NARANJOS HUMBOLT CARACAS","0414-0145500"," ","LENNYS.PROLICOR@PROLICOR.COM.VE"," "," "," "," "," "," "," "," ","LENNYS DEL VALLE SUBERO NAVARRETE","EDIF PLASENCIA LA URBINA PETARE","CALLE 10 CON CALLE 11"," "," ","0414-0145500"," "," "," ","DE LUNES A VIERNES","V-14.451.288-6","PARTICULAR","7500","No","00","CONTADO","70","PERSONAL EMPLEADO","07","25","EMPLEADOS","00","ESTANDAR","00","ESTANDAR","70","70","70 - EMPLEADO","   "]
["V14583253","70 - COMPRA/PERSONAL","PEREZ HERNANDEZ, FRANCIS ALEXANDRA","PEREZ HERNANDEZ, FRANCIS ALEXANDRA"," ","PEREZ HERNANDEZ, FRANCIS ALEXANDRA","ZONA INDUSTRIAL TERRINCA GALPON 6-A","GUATIRE-MCPIO.AUTONOMO ZAMORA","EDO.MIRANDA.","0212-242.11.11"," "," ","CARACAS"," "," "," "," ","PEREZ HERNANDEZ","FRANCIS ALEXANDRA"," ","PEREZ HERNANDEZ, FRANCIS ALEXANDRA","CALLE 10 CON ESQUINA CALLE 11 EDIF.","PLASENCIA. LA URBINA - EDO. MIRANDA"," "," "," "," ","GERENTE DE IMPUESTOS"," ",null,"V-0014583253","PARTICULAR","15000","No","00","CONTADO","70","PERSONAL EMPLEADO","07","25","EMPLEADOS","01","OFF PREMISSE","10","PROLICOR,C.A"," ","70","70 - EMPLEADOS","GERENTE DE IMPUESTOS  "]
["V14835719","09 - CLIENTE INHABILITADO","NORELYS VILLEGAS","NORELYS VILLEGAS"," ","NORELYS VILLEGAS","CALLE 10 CON 11 EDIFICIO PLASENCIA","LA URBINA"," ","0212-242.11.11"," "," ","CARACAS"," "," "," ","cambio a zona 09 191219 ja","NORELYS VILLEGAS"," "," ","NORELYS VILLEGAS","CALLE 10 CON 11 EDIFICIO PLASENCIA","LA URBINA."," "," ","0212. 2421111"," ","ASISTENTE ADMINISTRATIVO"," ",null,"V-01483571-9","PARTICULAR","0","No","00","CONTADO","70","PERSONAL EMPLEADO","07","25","EMPLEADOS","10","PROLICOR,C.A","10","PROLICOR,C.A","09","09","09 - CLIENTE INHABILITADO","ASISTENTE ADMINISTRATIVO  "]
["V14972324","70 - COMPRA/PERSONAL","ROGENIS ROJAS","ROGENIS ROJAS"," ","ROGENIS ROJAS","CALLE 10 CON 11 EDIFICIO PLASENCIA","LA URBINA"," ","0212-242.11.11"," "," ","CARACAS"," "," "," "," ","ROGENIS ROJAS"," "," ","ROGENIS ROJAS","CALLE 10 CON 11 EDIFICIO PLASENCIA","LA URBINA"," "," ","0212 - 2421111"," ","ANALISTA DE CONCILIACION"," ",null,"V-01497232-4","PARTICULAR","1","No","00","CONTADO","70","PERSONAL EMPLEADO","07","25","EMPLEADOS","10","PROLICOR,C.A","10","PROLICOR,C.A"," ","70","70 - EMPLEADOS","ANALISTA DE CONCILIACION  "]
["V15133302","09 - CLIENTE INHABILITADO","MARIBEL TORO","MARIBEL TORO"," ","MARIBEL TORO","CALLE 10 CON 11 EDIFICIO PLASENCIA","LA URBINA"," ","0212-242.11.11"," "," ","CARACAS"," "," "," ","cambio a zona 09 191219 ja","MARIBEL TORO"," "," ","MARIBEL TORO","CALLE 10 CON 11 EDIFICIO PLASENCIA","LA URBINA."," "," ","0212 - 2421111"," ","SERVICIOS GENERALES PB"," ",null,"V-01513330-2","PARTICULAR","0","No","00","CONTADO","70","PERSONAL EMPLEADO","07","25","EMPLEADOS","10","PROLICOR,C.A","10","PROLICOR,C.A","09","09","09 - CLIENTE INHABILITADO","SERVICIOS GENERALES PB  "]
["V15369039","09 - CLIENTE INHABILITADO","RICARDO FERREIRA","RICARDO FERREIRA"," ","RICARDO FERREIRA","ZONA INDUSTRIAL TERRINCA, GALPON Nº","6-A, GUATIRE EDO. MIRANDA"," ","0212-242.11.11"," "," ","CARACAS"," "," "," ","CAMBIO A LA ZONA 09 10/12/19 YM","RICARDO FERREIRA"," "," ","RICARDO FERREIRA","CALLE 10 CON ESQUINA CALLE 11 EDIF.","PLASENCIA. URBANIZACIÓN LA URBINA","ESTADO MIRANDA"," ","0212-242.11.11"," ","ESPECIALISTA SEGURIDAD Y","SALUD LABORAL",null,"V-0015369039","PARTICULAR","0","Sí","00","CONTADO","70","PERSONAL EMPLEADO","07","25","EMPLEADOS","10","PROLICOR,C.A","10","PROLICOR,C.A","09","09","09 - CLIENTE INHABILITADO","ESPECIALISTA SEGURIDAD Y SALUD LABORAL"]
["V15535050","70 - COMPRA/PERSONAL","BELKIS BOTELLO","BELKIS BOTELLO"," ","BELKIS BOTELLO","CALLE 10 CON 11 EDIFICIO PLASENCIA","LA URBINA"," ","0212-242.11.11"," "," ","CARACAS"," "," "," "," ","BELKIS BOTELLO"," "," ","BELKIS BOTELLO","CALLE 10 CON 11 EDIFICIO PLASENCIA","LA URBINA"," "," ","02120- 2421111"," ","ANALISTA CONTABLE"," ",null,"V-01553505-0","PARTICULAR","1","No","00","CONTADO","70","PERSONAL EMPLEADO","07","25","EMPLEADOS","10","PROLICOR,C.A","10","PROLICOR,C.A"," ","70","70 - EMPLEADOS","ANALISTA CONTABLE  "]
["V158909439","09 - CLIENTE INHABILITADO","JOAO FERNANDES VIEIRA","BODEGON LA RAIZA FJ"," ","JOAO FERNANDES VIEIRA(BOD.LA RAIZA FJ)","CARRETERA NACIONAL LA RAIZA,CON CAL","LE LAPARAGUITA,SECTOR EL MANGUITO L","OCAL S/N STA.LUCIA","0414/3391643"," "," ","SANTA TERESA"," "," "," "," ","JOAO FERNANDES VIEIR","A"," ","BODEGON LA RAIZA FJ","CARRETERA NACIONAL LA RAIZA,CON CAL","LE LAPARAGUITA,SECTOR EL MANGUITO L","OCAL S/N STA.LUCIA"," "," "," "," "," ",null,"V-15890943-9","039-MN-00920","15000","No","05","CREDITO 5 DIAS","24","CARICUAO","05","23","ABASTOS PEQUEÑOS/BODEGAS","01","OFF PREMISSE","01","OFF PREMISSE"," ","09","09 - CLIENTE INHABILITADO","   "]
["V16094469","70 - COMPRA/PERSONAL","HENRY SEIJAS HIDALGO","HENRY SEIJAS HIDALGO"," ","HENRY SEIJAS HIDALGO","ZONA INDUSTRIAL TERRINCA, GALPON Nº","6-A, GUATIRE EDO. MIRANDA"," ","0212-344.46.22"," "," ","GUATIRE"," "," "," "," ","HENRY SEIJAS HIDALGO"," "," ","HENRY SEIJAS HIDALGO","ZONA INDUSTRIAL TERRINCA GALPON Nº","6-A, GUATIRE. ESTADO MIRANDA"," "," ","0212-344.46.22"," ","DEPARTAMENTO DE ALMACEN"," ",null,"V-0016094469","PARTICULAR","1","No","00","CONTADO","70","PERSONAL EMPLEADO","07","25","EMPLEADOS","10","PROLICOR,C.A","10","PROLICOR,C.A"," ","70","70 - EMPLEADOS","DEPARTAMENTO DE ALMACEN  "]
["V162045012","36  CLIENT-CORPORAT-OFIC.","JAVIER ALEJANDRO SANTOS ALVAREZ","JAVIER ALEJANDRO SANTOS ALVAREZ"," ","JAVIER ALEJANDRO SANTOS ALVAREZ","AVENIDA DON BOSCO BOLEITA SUR EDF.","DAKDOUR LOS RUICES, CARACAS EDO.","MIRANDA","(0426) 520-23-53"," "," ","CARACAS"," "," "," "," ","JAVIER SANTOS"," "," ","JAVIER ALEJANDRO SANTOS ALVAREZ","AVENIDA DON BOSCO BOLEITA SUR EDF.","DAKDOUR LOS RUICES, CARACAS EDO.","MIRANDA"," ","(0426) 520-23-53"," "," "," ",null,"V-16204501-2","PARTICULAR","89250","No","05","CREDITO 5 DIAS","36","VTAS.CORPORATIVAS","07","31","PARTICULAR","00","ESTANDAR","00","ESTANDAR"," ","36","71 - OFICINA","   "]
["V16412042","70 - COMPRA/PERSONAL","VANESSA GONZALEZ","VANESSA GONZALEZ"," ","VANESSA GONZALEZ","CALLE 10 CON ESQ CALLE 11 EDF","PLASENCIA LA URBINA EDO MIRANDA"," ","0212-242.11.11"," "," ","CARACAS"," "," "," "," ","VANESSA GONZALEZ"," "," ","VANESSA GONZALEZ","CALLE 10 CON ESQ CALLE 11 EDF","PLASENCIA LA URBINA EDO MIRANDA"," "," ","212-242-11-11","181115","COORDINADORA DE AUDITORIA"," ",null,"V-01641204-2","PARTICULAR","7500","No","00","CONTADO","70","PERSONAL EMPLEADO","07","25","EMPLEADOS","10","PROLICOR,C.A","10","PROLICOR,C.A","70","70","70 - EMPLEADOS","COORDINADORA DE AUDITORIA  "]
["V16496502","70 - COMPRA/PERSONAL","BRENDY HENRRIQUEZ","BRENDY HENRRIQUEZ","240518","BRENDY HENRRIQUEZ","CALLE 10 CON  CALLE 11 EDIF","PLASCENCIA URB URBINA"," ","0212-2408820"," "," ","CARACAS"," "," "," "," ","BRENDY HENRRIQUEZ"," "," ","BRENDY HENRRIQUEZ","CALLE 10 CON CALLE 11","EDIF PLASCENCIA URB LA URBINA"," "," "," "," ","RECURSO HUMANO","OFICINA",null,"V-16496502-0","OFICINA","1","No","00","CONTADO","70","PERSONAL EMPLEADO","07","25","EMPLEADOS","10","PROLICOR,C.A","10","PROLICOR,C.A","70","70","70 - EMPLEADOS","RECURSO HUMANO OFICINA"]
["V16525330","70 - COMPRA/PERSONAL","JORGE VILLEGAS","JORGE VILLEGAS"," ","JORGE VILLEGAS","ZONA INDUSTRIAL TERRINCA, GALPON Nº","6-A, GUATIRE EDO. MIRANDA"," ","0212-242.11.11"," "," ","CARACAS"," "," "," "," ","JORGE VILLEGAS"," "," ","JORGE VILLEGAS","CALLE 10 CON ESQUINA CALLE 11, EDIF","PLASENCIA. LA URBINA ESTADO MIRANDA"," "," ","0212-242.11.11"," ","ASISTENTE DE RECURSOS","HUMANOS",null,"V-0016525330","PARTICULAR","1","Sí","00","CONTADO","70","PERSONAL EMPLEADO","07","25","EMPLEADOS","10","PROLICOR,C.A","10","PROLICOR,C.A"," ","70","70 - EMPLEADOS","ASISTENTE DE RECURSOS HUMANOS"]
["V16811083","70 - COMPRA/PERSONAL","BARRERA GLENYS","BARRERA GLENYS"," ","BARRERA GLENYS","CALLE 10 CON ESQUINA CALLE 11 EDIF","PLASENCIA LA URBINA EDO MIRANDA"," ","0212-242.11.11"," "," ","CARACAS"," "," "," "," ","BARRERA GLENYS"," "," ","BARRERA GLENYS","CALLE 10 CON ESQUINA CALLE 11 EDFI","PLASENCIA LA URBINA EDO MIRANDA"," "," ","0212-242.11.11"," "," "," ",null,"V-01681108-3","PARTICULAR","1","Sí","00","CONTADO","70","PERSONAL EMPLEADO","07","25","EMPLEADOS","02","ON PREMISSE","02","ON PREMISSE"," ","70","70 - EMPLEADOS","   "]
["V17077897","70 - COMPRA/PERSONAL","CORDOVA JOSMER","CORDOVA JOSMER"," ","CORDOVA JOSMER","CALLE 10 CON CALLE 11 EDF","PLASENCIA LA URBINA EDO MIRANDA"," ","0212-242.11.11"," "," ","CARACAS"," "," "," "," ","CORDOVA JOSMER"," "," ","CORDOVA JOSMER","CALLE 10 CON CALLE 11 EDF","PLASENCIA LA URBINA EDO MIRANDA"," "," ","0212-242.11.11"," ","ARCHIVISTA"," ",null,"V-01707789-7","PARTICULAR","7500","No","00","CONTADO","70","PERSONAL EMPLEADO","07","25","EMPLEADOS","10","PROLICOR,C.A","10","PROLICOR,C.A"," ","70","70 - EMPLEADOS","ARCHIVISTA  "]
["V17389452","70 - COMPRA/PERSONAL","YASMIN DELGADO","YASMIN DELGADO"," ","YASMIN DELGADO","CALLE 10 CON ESQ CALLE 11 EDF","PLASENCIA LA URBINA EDO MIRANDA"," ","0212-242.11.11"," "," ","CARACAS"," "," "," "," ","YASMIN DELGADO"," "," ","YASMIN DELGADO","CALLE 10 CON ESQ CALLE 11 EDF","PLASENCIA LA URBINA EDO MIRANDA"," "," ","0212 2421111"," ","ANALISTA DE RR HH"," ",null,"V-17389452-0","PASTICULAR","1","No","00","CONTADO","70","PERSONAL EMPLEADO","07","25","EMPLEADOS","10","PROLICOR,C.A","10","PROLICOR,C.A","70","70","70 - EMPLEADOS","ANALISTA DE RR HH  "]
["V174764308","70 - COMPRA/PERSONAL","YOEL ECHEZURIA","YOEL ECHEZURIA"," ","YOEL ECHEZURIA","CALLE 10 C/C 11 EDIF PLASCENCIA"," "," ","02122408961","09/04/19","YOEL.ECHEZURIA@PROLICOR.COM.VE","PETARE"," "," "," "," ","YOEL ECHEZURIA","YOEL ECHEZURIA"," ","YOEL ECHEZURIA","CALLE 10 C/C 11 EDIF PLASCENCIA"," "," "," ","0212 2408961"," ","LUN A VIER HORARIO D OFIC"," ","CONTADO","V174764308"," ","7500","No","01","PREPAGO","70","PERSONAL EMPLEADO","09","25","EMPLEADOS","00","ESTANDAR","00","ESTANDAR","70","70","70 - EMPLEADOS","LUN A VIER HORARIO D OFIC  "]
["V17755724","70 - COMPRA/PERSONAL","YNGRIS MARIN","YNGRIS MARIN"," ","YNGRIS MARIN","ZONA INDUSTRIAL TERRINCA, GALPON Nº","6-A, GUATIRE MCPIO. ZAMORA EDO.","MIRANDA","0212-242.11.11"," "," ","CARACAS"," "," "," "," ","INGRIS MARIN"," "," ","YNGRIS MARIN","CALLE 10 CON ESQUINA CALLE 11 EDIF.","PLASENCIA, LA URBINA. EDO. MIRANDA"," "," ","0212-2421111"," "," "," ",null,"V-01775572-4","PARTICULAR","1","Sí","00","CONTADO","70","PERSONAL EMPLEADO","07","25","EMPLEADOS","10","PROLICOR,C.A","10","PROLICOR,C.A"," ","70","70 - EMPLEADOS","   "]
["V17993383","09 - CLIENTE INHABILITADO","MARIA DE LOS ANGELES CORONEL","MARIA DE LOS ANGELES CORONEL"," ","MARIA DE LOS ANGELES CORONEL","CALLE 10 CON 11 EDIFICIO PLASENCIA","LA URBINA"," ","0212-242.11.11"," "," ","CARACAS"," "," "," ","CLIENTE INHABILITADO 10/12/19 GA","MARIA CORONEL"," "," ","MARIA DE LOS ANGELES CORONEL","CALLE 10 CON 11 EDIFICIO PLASENCIA","LA URBINA"," "," ","0212 - 2421111"," ","RECEPCIONISTA"," ",null,"V-01799338-3","PARTICULAR","0","Sí","00","CONTADO","70","PERSONAL EMPLEADO","07","25","EMPLEADOS","10","PROLICOR,C.A","10","PROLICOR,C.A"," ","09","09 - CLIENTE INHABILITADO","RECEPCIONISTA  "]
["V18275383","70 - COMPRA/PERSONAL","PATRICIA YUSTI","PATRICIA YUSTI"," ","PATRICIA YUSTI","CALLE 10 CON ESQUINA CALLE 11 EDIF.","PLASENCIA LA URBINA ESTADO MIRANDA"," ","0212-242.11.11"," "," ","CARACAS"," "," "," "," ","PATRICIA YUSTI"," "," ","PATRICIA YUSTI","CALLE 10 CON ESQUINA CALLE 11 EDIF.","PLASENCIA LA URBINA ESTADO MIRANDA"," "," ","0212.242.11.11"," ","ASISTENTE DE OPERACIONES","COMERCIALES",null,"V-0018275383","PARTICULAR","1","No","00","CONTADO","70","PERSONAL EMPLEADO","07","25","EMPLEADOS","10","PROLICOR,C.A","10","PROLICOR,C.A"," ","70","70 - EMPLEADOS","ASISTENTE DE OPERACIONES COMERCIALES"]
["V184407783","70 - COMPRA/PERSONAL","GREGORY ANTONIO OLIVO CARMONA","GREGORY ANTONIO OLIVO CARMONA","090823 LI","GREGORY ANTONIO OLIVO CARMONA","AV PRINCIPAL LA HACIENDA","EDIFICIO BLOQUE 6","PISO 03 APTO 0305 URB UD3","0424-285-21-13"," ","olivogregory87@gmail.com","DTTO CAPITAL"," "," "," "," ","GREGORY OLIVO","GREGORY OLIVO"," ","GREGORY ANTONIO OLIVO CARMONA","CALLE 10 CON CALLE 11","EDIF PLASENCIA PISO PB","LOCAL PB URB LA URBINA"," "," "," ","LUNES A VIERNES"," ","DE LUNES A VIERNES","V-18440778-3","TRAMITE","15000","No","00","CONTADO","70","PERSONAL EMPLEADO","09","25","EMPLEADOS","01","OFF PREMISSE","00","ESTANDAR","70","70","70 - EMPLEADOS","LUNES A VIERNES  "]
["V18814561","09 - CLIENTE INHABILITADO","SOJO BARBARA","SOJO BARBARA"," ","SOJO BARBARA","CALLE 10 CON ESQUINA CALLE 11 EDIF","PLASENCIA LA URBINA EDO. MIRANDA"," ","0212-242.11.11"," "," ","CARACAS"," "," "," ","CLIENTE INHABILITADO 10/12/19 GA","BARBARA SOJO"," "," ","SOJO BARBARA","CALLE 10 CON ESQUINA CALLE 11 EDIF","PLASENCIA LA URBINA EDO MIRANDA"," "," ","0212-242.11.11"," "," "," ",null,"V-01881456-1","PARTICULAR","0","Sí","00","CONTADO","70","PERSONAL EMPLEADO","07","25","EMPLEADOS","10","PROLICOR,C.A","10","PROLICOR,C.A","09","09","09 - CLIENTE INHABILITADO","   "]
["V19032218","70 - COMPRA/PERSONAL","ELIURMAN BARRAGAN","ELIURMAN BARRAGAN"," ","ELIURMAN BARRAGAN","CALLE 10 CON ESQ CALLE 11 EDF","PLASENCIA LA URBINA EDO MIRANDA"," ","0212-242.11.11"," "," ","CARACAS"," "," "," ","BLOQ.ERROR NRO CED. 19/07/17 KF/MYZ","ELIURMAN BARRAGAN"," "," ","ELIURMAN BARRAGAN","CALLE 10 CON ESQ CALLE 11 EDF","PLASENCIA LA URBINA EDO MIRANDA"," "," ","02122421111"," ","ESPECIALISTA DE SOPORTES","TIENDAS PROLICOR",null,"V-01903221-8","PARTICULAR","1","Sí","00","CONTADO","70","PERSONAL EMPLEADO","07","25","EMPLEADOS","10","PROLICOR,C.A","10","PROLICOR,C.A","70","70","70 - EMPLEADOS","ESPECIALISTA DE SOPORTES TIENDAS PROLICOR"]
["V196728615","70 - COMPRA/PERSONAL","CARLA DO CONTO","CARLA DO CONTO","101122 LL","CARLA DO CONTO","7MA. TRANSVERSAL DE LOS TOTUMOS,","QUINTA AURORA 150-1"," ","0212-6318493"," ","CARLADOCONTO@GMAIL.COM"," "," "," "," "," "," "," "," ","CARLA DO CONTO","EDIFICIO PLASENCIA LA UIRBINA","CALLE 10, CON ESQUINA CALLE 11"," "," ","0212-6318493"," "," "," ","DE LUNES A VIERNES","V-196728615","40058","7500","No","00","CONTADO","70","PERSONAL EMPLEADO","07","25","EMPLEADOS","00","ESTANDAR","00","ESTANDAR","70","70","70 - EMPLEADOS","   "]
["V198852780","70 - COMPRA/PERSONAL","PEDRO HERRERA","PEDRO HERRERA","161222 LL","PEDRO HERRERA","AV PASEO LOS ANDES EDIF NUEVOS ALTO","PISO 2 APTO 23 URB LAS MINAS SAN","ANTONIO DE LOS ALTOS","0424-170-0179"," ","PEDROSO490@GMAIL.COM"," "," "," "," "," "," "," "," ","PEDRO HERRERA","AV PASEO LOS ANDES EDIF NUEVOS ALTO","PISO 2 APTO 23 URB LAS MINAS SAN","ANTONIO DE LOS ALTOS"," ","0424-170-0179"," "," "," ",null,"J-19885278-0","B-122-00181","7500","No","01","PREPAGO","26","SAN ANTONIO DE LOS ALTOS","07","25","EMPLEADOS","01","OFF PREMISSE","01","OFF PREMISSE","70","70","70 - PERSONAL/CLIENTE","   "]
["V20173980","70 - COMPRA/PERSONAL","ROBERT DE LEON","ROBERT DE LEON"," ","ROBERT DE LEON","CALLE 10 CON ESQUINA CALLE 11 EDIF.","PLASENCIA. LA URBINA"," ","0212-242.11.11"," "," ","CARACAS"," "," "," "," ","ROBERT DE LEON"," "," ","ROBERT DE LEON","CALLE 10 CON ESQUINA CALLE 11 EDIF.","PLASENCIA. LA URBINA"," "," ","0212-242-11-11"," ","ASISTENTE DE MERCADEO"," ",null,"V-2017398-0","PARTICULAR","1","No","00","CONTADO","70","PERSONAL EMPLEADO","07","25","EMPLEADOS","10","PROLICOR,C.A","10","PROLICOR,C.A"," ","70","70 - EMPLEADOS","ASISTENTE DE MERCADEO  "]
["V2074725","31 - RODRIGUEZ WLADIMIR","LUIS MORENO","LUIS MORENO"," ","LUIS MORENO","AV.MANUEL FELIPE TOVAR EDIF","BOSQUE BOYACA PISO 4 APTO 4-B","SAN BERNARDINO","0212.5527155"," "," ","CARACAS"," "," "," "," ","LUIS MORENO"," "," ","LUIS MORENO","AV.MANUEL FELIPE TOVAR EDF","BOSQUE BOYACA PISO 4 APTO 4-B","SAN BERNARDINO, SUBIENDO CLINICA","STA ANA","0212.5527155"," "," "," ",null,"V-00207472-5","PARTICULAR","89250","No","05","CREDITO 5 DIAS","20","CENTRO DE CARACAS","07","31","PARTICULAR","02","ON PREMISSE","02","ON PREMISSE"," ","31"," ","   "]
["V21015372","70 - COMPRA/PERSONAL","LIGEHIBYS SILVA","LIGEHIBYS SILVA"," ","LIGEHIBYS SILVA","CALLE 10 CON 11 EDIFICIO PLASENCIA","LA URBINA"," ","0212-242.11.11"," "," ","CARACAS"," "," "," "," ","LIGEHIBYS SILVA"," "," ","LIGEHIBYS SILVA","CALLE 10 CON 11 EDIFICIO PLASENCIA","LA URBINA"," "," ","0212 - 2421111"," ","PASANTES"," ",null,"V-02101537-2","PARTICULAR","1","Sí","00","CONTADO","70","PERSONAL EMPLEADO","07","25","EMPLEADOS","10","PROLICOR,C.A","10","PROLICOR,C.A"," ","70","70 - EMPLEADOS","PASANTES  "]
["V22042253","70 - COMPRA/PERSONAL","ALFREDO CASTILLO","ALFREDO CASTILLO"," ","ALFREDO CASTILLO","CALLE 10 CON ESQ CALLE 11 EDF","PLASENCIA LA URBINA EDO MIRANDA"," ","0212-242.11.11"," "," ","CARACAS"," "," "," "," ","ALFREDO CASTILLO"," "," ","ALFREDO CASTILLO","CALLE 10 CON ESQ CALLE 11 EDF","PLASENCIA LA URBINA EDO MIRANDA"," "," ","02122421111"," ","ASISTENTE DE IMPUESTO"," ",null,"V-02204225-3","PARTICULAR","1","No","00","CONTADO","70","PERSONAL EMPLEADO","07","25","EMPLEADOS","10","PROLICOR,C.A","10","PROLICOR,C.A","70","70","70 - EMPLEADOS","ASISTENTE DE IMPUESTO  "]
["V22542194","70 - COMPRA/PERSONAL","WILLIAM TORRENEGRA","WILLIAM TORRENEGRA"," ","WILLIAM TORRENEGRA","CALLE 10 CON 11 EDIFICIO PLASENCIA","LA URBINA"," ","0212-242.11.11"," "," ","CARACAS"," "," "," "," ","WILLIAM TORRENEGRA"," "," ","WILLIAM TORRENEGRA","CALLE 10 CON 11 EDIFICIO PLASENCIA","LA URBINA."," "," ","0212 - 242.11.11"," ","OFICINA"," ",null,"V-02254219-4","PARTICULAR","1","No","00","CONTADO","70","PERSONAL EMPLEADO","07","25","EMPLEADOS","10","PROLICOR,C.A","10","PROLICOR,C.A"," ","70","70 - EMPLEADOS","OFICINA  "]
["V22996397","09 - CLIENTE INHABILITADO","GIOMARIEL HURTADO","XXXXXXXXXXX"," ","XXXXXXXXXXXX","CALLE 10 CON ESQ CALLE 11 EDF","PLASENCIA LA URBINA EDO MIRANDA"," ","0212-242.11.11"," "," ","CARACAS"," "," "," "," ","GIOMARIEL HURTADO"," "," ","GIOMARIEL HURTADO","CALLE 10 CON ESQ CALLE 11 EDF","PLASENCIA LA URBINA EDO MIRANDA"," "," ","0212 2421111"," ","APRENDIZ INCES"," ",null,"V-22966397-0","PARTICULAR","0","Sí","00","CONTADO","70","PERSONAL EMPLEADO","07","25","EMPLEADOS","10","PROLICOR,C.A","10","PROLICOR,C.A","09","09","09 - CLIENTE INHABILITADO","APRENDIZ INCES  "]
["V24812193","09 - CLIENTE INHABILITADO","BRAINER CLARO","BRAINER CLARO"," ","BRAINER CLARO","CALLE 10 CON ESQUINA CALLE 11 EDIF.","PLASENCIA. LA URBINA"," ","0212-242.11.11"," "," ","CARACAS"," "," "," ","CLIENTE INHABILITADO 10/12/19 GA","BRAINER CLARO"," "," ","BRAINER CLARO","CALLE 10 CON ESQUINA CALLE 11 EDIF.","PLASENCIA. LA URBINA"," "," ","(0212) 242-11-11"," ","PASANTE INCES ADM. VENTAS"," ",null,"V-02481219-3","PARTICULAR","0","Sí","00","CONTADO","70","PERSONAL EMPLEADO","07","25","EMPLEADOS","10","PROLICOR,C.A","10","PROLICOR,C.A"," ","09","09 - CLIENTE INHABILITADO","PASANTE INCES ADM. VENTAS  "]
["V25234552","70 - COMPRA/PERSONAL","ELIANA RUIZ","ELIANA RUIZ"," ","ELIANA RUIZ","CALLE 10 CON ESQUINA CALLE 11 EDIF.","PLASENCIA. LA URBINA"," ","0212-242.11.11"," "," ","CARACAS"," "," "," "," ","ELIANA RUIZ"," "," ","ELIANA RUIZ","CALLE 10 CON ESQUINA CALLE 11 EDIF.","PLASENCIA. LA URBINA"," "," ","(0212) 242-11-11"," ","PASANTE INCES IMPUESTO"," ",null,"V-02523455-2","PARTICULAR","1","Sí","00","CONTADO","70","PERSONAL EMPLEADO","07","25","EMPLEADOS","10","PROLICOR,C.A","10","PROLICOR,C.A"," ","70","70 - EMPLEADOS","PASANTE INCES IMPUESTO  "]
["V26268747",null,"JOSE ABREU","JOSE ABREU","290823RM","JOSE ABREU","CALLE 10 CON ESQUINA CALLE 11 EDIF","PLASENCIA LA URBINA"," "," "," ","JOSE.ABRE@PROLICOR.COM.VE"," "," "," "," "," ","0212-2421111"," "," ","JOSE ABREU","CALLE 10 CON ESQUINA CALLE 11 EDIF","PLASENCIA LA URBINA"," "," "," "," "," "," ","DE LUNES A VIERNES","V-26268747-0"," ","43750","No","05","CREDITO 5 DIAS","70","PERSONAL EMPLEADO","09","25","EMPLEADOS","01","OFF PREMISSE","00","ESTANDAR","70","","70 - COMPRA/PERSONAL","   "]
["V27037960","70 - COMPRA/PERSONAL","ALIBYS RANGEL","ALIBYS RANGEL","16/6/23 LL","ALIBYS RANGEL","URB BUENA VISTA EDIF 2-B APTO 51","SECTOR EL INGENIO GUATIRE EDO","MIRANDA","(0412) 028.70.29"," ","ALIBYS.RANGEL5@GMAIL.COM","GUATIRE"," "," "," "," "," "," "," ","ALIBYS RANGEL","CALLE ZONA INDUSTRIAL TERRINCA","LOCAL GALPON NRO 6-A SECTOR","GUATIRE ZONA IND. TERRINCA"," ","(0412) 028.70.29"," "," "," ",null,"V-27037960","TRAMITE","7500","No","00","CONTADO","70","PERSONAL EMPLEADO","09","25","EMPLEADOS","01","OFF PREMISSE","01","OFF PREMISSE","70","70","70 - COMPRA/PERSONAL","   "]
["V272266901","09 - CLIENTE INHABILITADO","KAIS RABAH NASR","DISTRIBUIDORA CUPIRA MAR, F.C."," ","KAIS RABAH NASR","CALLE LAS FLORES CASA NRO. S/N NO","APLICA SECTOR CUPIRA MCPIO PEDRO","GUAL CUPIRA EDO. MIRANDA","(0234) 88-92-54"," "," ","BARLOVENTO"," "," "," "," ","KAIS RABAH NASR"," "," ","KAIS RABAH NASR","AVENIDA BOLIVAR CRUCE CON CALLE","COMERCIO DIAGONAL AL BANCO BICENTE","NARIO CUPIRA EDO. MIRANDA"," ","(0234) 88-92-54"," ","CLIENTE EN CUPIRA C/ZONA","SUP-01 S/S FECHA 23/07/13",null,"V-27226690-1","CUPIRA-018-MM-018","15000","Sí","00","CONTADO","12","BARLOVENTO","01","01","DE LICORES CON FZA DE VTA","01","OFF PREMISSE","01","OFF PREMISSE"," ","09","09 - CLIENTE INHABILITADO","CLIENTE EN CUPIRA C/ZONA SUP-01 S/S FECHA 23/07/13"]
["V31642473",null,"DEOGRACIOS ECHENIQUE URBINA","DEOGRACIOS ECHENIQUE URBINA"," ","DEOGRACIOS ECHENIQUE URBINA","AVENIDA AREVALO GONZALEZ,CASA # 6","EL CLAVO"," ","5143443"," "," ","EL CLAVO"," "," "," "," ","DEOGRACIOS ECHENIQUE"," URBINA"," ","DEOGRACIOS ECHENIQUE URBINA","AVENIDA AREVALO GONZALEZ,CASA # 6","EL CLAVO"," "," ","5143443"," "," "," ",null,"V-3164247-3","MN-336","0","No","00","CONTADO","01",null,"07","31","PARTICULAR","01","OFF PREMISSE","01","OFF PREMISSE"," ","501"," ","   "]
["V3725240","36  CLIENT-CORPORAT-OFIC.","MARIA M. MOLINERO ALONSO","MARIA M. MOLINERO ALONSO"," ","MARIA M. MOLINERO ALONSO","CALLE BOYACA EDIFICIO TIBISAJO","PISO 3 APTO 3-3","EL ROSAL","0416-6143837"," "," ","CARACAS"," "," "," "," ","MARIA MARCELINA M."," "," ","MARIA M. MOLINERO ALONSO","CALLE BOYACA EDIFICIO TIBISAJO","PISO 3 APTO 3-3","EL ROSAL"," ","0416-6143837"," "," "," ",null,"V-00372524-0","PARTICULAR","89250","No","05","CREDITO 5 DIAS","36","VTAS.CORPORATIVAS","07","31","PARTICULAR","00","ESTANDAR","00","ESTANDAR"," ","36","71 - OFICINA","   "]
["V4164436","71 - OFICINA","ALEXI PINTO","ALEXI PINTO"," ","ALEXI PINTO","CALLE 10 CON ESQUINA CALLE 11 EDIF.","PLASENCIA. LA URBINA"," ","(0212) 242-11-11"," "," ","CARACAS"," "," "," "," ","ALEXI PINTO"," "," ","ALEXI PINTO","CALLE 10 CON ESQUINA CALLE 11 EDIF.","PLASENCIA. LA URBINA"," "," ","(0212) 242-11-11"," ","ABOGADO"," ",null,"V-0416443-6","PARTICULAR","2200","No","05","CREDITO 5 DIAS","71","OFICINA","07","25","EMPLEADOS","01","OFF PREMISSE","01","OFF PREMISSE"," ","71","71 - OFICINA","ABOGADO  "]
["V4672948","09 - CLIENTE INHABILITADO","ERNESTO GARCIA","ERNESTO GARCIA"," ","ERNESTO GARCIA","AV. TAMANACO RESD CANAIMA PB-1","EL LLANITO"," "," "," "," ","LA URBINA"," "," "," ","CAMBIO Z - 31 A Z - 09 200919 GA","ERNESTO GARCIA"," "," ","ERNESTO GARCIA","CALLE 10 CON 11 EDIFICIO","PLASENCIA LA URBINA"," "," ","0212-2421111"," "," "," ",null,"V-00467294-8","PARTICULAR","15000","Sí","00","CONTADO","13","PETARE","07","31","PARTICULAR","01","OFF PREMISSE","01","OFF PREMISSE","09","09","09 - CLIENTE INHABILITADO","   "]
["V4770059","70 - COMPRA/PERSONAL","GASPAR HERMAN","GASPAR HERMAN"," ","GASPAR HERMAN","CALLE 10 CON 11 EDIFICIO PLASENCIA","LA URBINA"," ","0212-242.11.11"," "," ","CARACAS"," "," "," "," ","GASPAR HERMAN"," "," ","GASPAR HERMAN","CALLE 10 CON 11 EDIFICIO PLASENCIA","LA URBINA"," "," ","0212 - 2421111"," ","GTE. PROYECTOS ESPEC PROL"," ",null,"V-0477005-9","PARTICULAR","1","No","00","CONTADO","70","PERSONAL EMPLEADO","07","25","EMPLEADOS","10","PROLICOR,C.A","10","PROLICOR,C.A"," ","70","70 - EMPLEADOS","GTE. PROYECTOS ESPEC PROL  "]
["V4772745","70 - COMPRA/PERSONAL","DELMORAL AZUAJE, NORYS COROMOTO","DELMORAL AZUAJE, NORYS COROMOTO"," ","DELMORAL AZUAJE, NORYS COROMOTO","ZONA INDUSTRIAL TERRINCA, GALPON Nº","6-A, GUATIRE EDO. MIRANDA."," ","0212-242.11.11"," "," ","CARACAS"," "," "," "," ","DELMORAL AZUAJE,","NORYS COROMOTO"," ","DELMORAL AZUAJE, NORYS COROMOTO","CALLE 10 CON CALLE 11 EDIF.","PLASENCIA LA URBINA"," "," ","(0212)241.11.11"," ","ASISTENTE DE PRESIDENCIA"," ",null,"V-0004772745","PARTICULAR","1","Sí","00","CONTADO","70","PERSONAL EMPLEADO","07","25","EMPLEADOS","10","PROLICOR,C.A","10","PROLICOR,C.A"," ","70","70 - EMPLEADOS","ASISTENTE DE PRESIDENCIA  "]
["V4820891","70 - COMPRA/PERSONAL","VIERA EDUARDO","VIERA EDUARDO"," ","VIERA EDUARDO","CALLE 10 CON CALLE 11 EDF","PLASENCIA LA URBINA EDO MIRANDA"," ","0212-242.11.11"," "," ","CARACAS"," "," "," "," ","VIERA EDUARDO"," "," ","VIERA EDUARDO","CALLE 10 CON CALLE 11 EDF","PLASENCIA LA URBINA EDO MIRANDA"," "," ","0212-242.11.11"," "," "," ",null,"V-00482089-1","PARTICULAR","1","No","00","CONTADO","70","PERSONAL EMPLEADO","07","25","EMPLEADOS","10","PROLICOR,C.A","10","PROLICOR,C.A"," ","70","70 - EMPLEADOS","   "]
["V5098574","70 - COMPRA/PERSONAL","ROBLES ENRIQUE JOSE","ROBLES ENRIQUE JOSE"," ","ROBLES ENRIQUE JOSE","CALLE 10 CON ESQ CALLE 11 EDF","PLASENCIA LA URBINA EDO MIRANDA"," ","0212-242.11.11"," "," ","CARACAS"," "," "," "," ","ROBLES ENRIQUE JOSE"," "," ","ROBLES ENRIQUE JOSE","CALLE 10 CON ESQ CALLE 11 EDF","PLASENCIA LA URBINA EDO MIRANDA"," "," ","0212-242.11.11"," ","GERENTE CORPORATIVO","DE SISTEMA",null,"V-0509857-4","PARTICULAR","1","Sí","00","CONTADO","70","PERSONAL EMPLEADO","07","25","EMPLEADOS","10","PROLICOR,C.A","10","PROLICOR,C.A"," ","70","70 - EMPLEADOS","GERENTE CORPORATIVO DE SISTEMA"]
["V5377290","71 - OFICINA","GUSTAVO JOSE ARENAS","GUSTAVO JOSE ARENAS"," ","GUSTAVO JOSE ARENAS","2DA AV. DE CAMPO ALEGRE EDF ALTO","CAMPO PISO 4 APTO 4H CHACAO","EDO-MIRANDA","(0412) 235-21-37"," "," ","CARACAS"," "," "," "," ","GUSTAVO ARENAS"," "," ","GUSTAVO JOSE ARENAS","2DA AV DE CAMPO ALEGRE EDF ALTO","CAMPO PISO 4 APTO 4 H CHACAO","EDO-MIRANDA"," ","0412-235-21-37","281015"," "," ",null,"V-0537729-0","PARTICULAR","2200","No","05","CREDITO 5 DIAS","71","OFICINA","07","31","PARTICULAR","01","OFF PREMISSE","01","OFF PREMISSE","71","71","71 - OFICINA","   "]
["V5405370","09 - CLIENTE INHABILITADO","YANEZ ISIDORO","YANEZ ISIDORO"," ","YANEZ ISIDORO","ZONA INDUSTRIAL TERRINCA GALPON 6-A","GUATIRE MNCP AUTONOMO ZAMORA-EDO","MIRANDA","0212-344.46.22"," "," ","GUATIRE"," "," "," ","CLIENTE INHABILITADO 10/12/19 GA","ISIDORO YANEZ"," "," ","ISIDORO YANEZ","ZONA INDUSTRIAL TERRINCA GALPON 6-A","GUATIRE MNCP AUTONOMO ZAMORA EDO.","MIRANDA"," ","0212.344.46.22"," ","AYUDANTE DE CHOFER"," ",null,"V-00540537-0","PARTICULAR","0","Sí","00","CONTADO","70","PERSONAL EMPLEADO","07","25","EMPLEADOS","10","PROLICOR,C.A","10","PROLICOR,C.A","09","09","09 - CLIENTE INHABILITADO","AYUDANTE DE CHOFER  "]
["V5418849","36  CLIENT-CORPORAT-OFIC.","JOSE LUIS RUBIO GIL","JOSE LUIS RUBIO GIL"," ","JOSE LUIS RUBIO GIL","RESIDENCIAS PALMA DORADA AVENIDA","PRINCIPAL DE SANTA EDUVIGIS PISO 3","APTO. 3 D -CARACAS","(0412) 239-85-76"," "," ","CARACAS"," "," "," "," ","JOSE LUIS RUBIO GIL"," "," ","JOSE LUIS RUBIO GIL","RESIDENCIAS PALMA DORADA AVENIDA","PRINCIPAL DE SANTA EDUVIGIS PISO 3","APTO. 3 D -CARACAS (ANTES DE LLEGAR","AL HOTEL PESTANA, EDIF. DE LADRILLO","(0412) 239-85-76"," "," "," ",null,"V-00541884-9","PARTICULAR","89250","No","05","CREDITO 5 DIAS","36","VTAS.CORPORATIVAS","07","31","PARTICULAR","00","ESTANDAR","00","ESTANDAR"," ","36","71 - OFICINA","   "]
["V5523249","71 - OFICINA","DIGRANDI MENDEZ ROBERTO ISMAEL","DIGRANDI MENDEZ ROBERTO ISMAEL"," ","DIGRANDI MENDEZ ROBERTO ISMAEL","ESTE 2 Nº 150, LOS CAOBOS CARACAS"," "," "," "," "," ","CARACAS"," "," "," "," ","DIGRANDI MENDEZ","ROBERTO ISMAEL"," ","DIGRANDI MENDEZ ROBERTO ISMAEL","ESTE 2 Nº 150, LOS CAOBOS, CARACAS"," "," "," "," "," "," "," ",null,"V-05523249-7","PARTICULAR","2200","No","05","CREDITO 5 DIAS","71","OFICINA","07","31","PARTICULAR","00","ESTANDAR","00","ESTANDAR"," ","71","71 - OFICINA","   "]
["V5532671","09 - CLIENTE INHABILITADO","JESUS FUENMAYOR","JESUS FUENMAYOR"," ","JESUS FUENMAYOR","CALLE 10 CON ESQUINA CALLE 11 EDIF.","PLASENCIA. LA URBINA"," ","0212-242.11.11"," "," ","CARACAS"," "," "," ","CLIENTE INHABILITADO 10/12/19 GA","JESUS FUENMAYOR"," "," ","JESUS FUENMAYOR","CALLE 10 CON ESQUINA CALLE 11 EDIF.","PLASENCIA. LA URBINA"," "," ","(0212) 242-11-11"," ","DIR. CAD. SUMIN. Y SERV."," ",null,"V-00553267-1","PARTICULAR","0","Sí","00","CONTADO","70","PERSONAL EMPLEADO","07","25","EMPLEADOS","10","PROLICOR,C.A","10","PROLICOR,C.A"," ","09","09 - CLIENTE INHABILITADO","DIR. CAD. SUMIN. Y SERV.  "]
["V5532904","70 - COMPRA/PERSONAL","MIGDALIA MEJIAS","MIGDALIA MEJIAS"," ","MIGDALIA MEJIAS","CALLE 10 CON ESQUINA CALLE 11 EDIF.","PLASENCIA. LA URBINA"," ","0212-242.11.11"," "," ","CARACAS"," "," "," "," ","MIGADALIA MEJIAS"," "," ","MIGDALIA MEJIAS","CALLE 10 CON ESQUINA CALLE 11 EDIF.","PLASENCIA. LA URBINA"," "," ","(0212) 242-11-11"," ","ASISTENT DE IMPORTACIONES"," ",null,"V-00553290-4","PARTICULAR","7500","No","00","CONTADO","70","PERSONAL EMPLEADO","07","25","EMPLEADOS","10","PROLICOR,C.A","10","PROLICOR,C.A"," ","70","70 - EMPLEADOS","ASISTENT DE IMPORTACIONES  "]
["V5575360","70 - COMPRA/PERSONAL","JESUS HUMBERTO DE OLIM","JESUS HUMBERTO DE OLIM"," ","JESUS HUMBERTO DE OLIM","CALLE 10 CON 11 EDIFICIO PLASENCIA","LA URBINA"," ","0212-242.11.11"," "," ","CARACAS"," "," "," "," ","JESUS H. DE OLIM"," "," ","JESUS HUMBERTO DE OLIM","CALLE 10 CON 11 EDIFICIO PLASENCIA","LA URBINA"," "," ","0212/2421111"," ","DESPACHAR EN VENTAS"," ",null,"V-00557536-0","PARTICULAR","1","Sí","00","CONTADO","70","PERSONAL EMPLEADO","07","25","EMPLEADOS","10","PROLICOR,C.A","10","PROLICOR,C.A"," ","70","70 - EMPLEADOS","DESPACHAR EN VENTAS  "]
["V5576161","70 - COMPRA/PERSONAL","MAGLIOZZI SALVADOR","MAGLIOZZI SALVADOR"," ","MAGLIOZZI SALVADOR","CALLE 10 CON ESQUINA CALLE 11 EDF","PLASENCIA LA URBINA EDO MIRANDA"," ","0212-242.11.11"," "," ","CARACAS"," "," "," "," ","MAGLIOZZI SALVADOR"," "," ","MAGLIOZZI SALVADOR","CALLE 10 CON ESQUINA CALLE EDIF","PLASENCIA LA URBINA EDO MIRANDA"," "," ","0212-242.11.11"," "," "," ",null,"V-00557616-1","PARTICULAR","1","Sí","00","CONTADO","70","PERSONAL EMPLEADO","07","25","EMPLEADOS","10","PROLICOR,C.A","10","PROLICOR,C.A"," ","70","70 - EMPLEADOS","   "]
["V5592388","36  CLIENT-CORPORAT-OFIC.","GIOVANNY RESTAINO","GIOVANNY RESTAINO"," ","GIOVANNY RESTAINO","AV. LA HAYA, QUINTA ANTONIETA, URB.","LA CALIFORNIA NORTE CARACAS","DTTO.CAPITAL MCPIO. SUCRE","0414-313.86.45"," "," ","CARACAS"," "," "," "," ","GIOVANNY RESTAINO"," "," ","GIOVANNY RESTAINO","CALLE 10 CON 11 EDIFICIO PLASENCIA","LA URBINA"," "," ","0414-313.86.45"," "," "," ",null,"V-00559238-8","PARTICULAR","89250","No","00","CONTADO","36","VTAS.CORPORATIVAS","07","31","PARTICULAR","00","ESTANDAR","00","ESTANDAR","36","36","71 - OFICINA","   "]
["V5610769","09 - CLIENTE INHABILITADO","GONZALEZ CEJAS, JUAN DAGOBERTO","GONZALEZ CEJAS, JUAN DAGOBERTO"," ","GONZALEZ CEJAS, JUAN DAGOBERTO","ZONA INDUSTRIAL TERRINCA, GALPON Nº","6-A. MCPIO. AUTONOMO ZAMORA","GUATIRE EDO. MIRANDA","0212-344.46.22"," "," ","GUATIRE"," "," "," ","CLIENTE INHABILITADO 10/12/19 GA","GONZALEZ CEJAS JUAN","DAGOBERTO"," ","GONZALEZ CEJAS, JUAN DAGOBERTO","ZONA INDUSTRIAL TERRINCA GALPON Nº","6-A. GUATIRE MCPIO.AUTONOMO ZAMORA","EDO. MIRANDA."," ","(0212)344.46.22"," ","CHOFER"," ",null,"V-0005610769","PARTICULAR","0","Sí","00","CONTADO","70","PERSONAL EMPLEADO","07","25","EMPLEADOS","10","PROLICOR,C.A","10","PROLICOR,C.A"," ","09","09 - CLIENTE INHABILITADO","CHOFER  "]
["V561707460","09 - CLIENTE INHABILITADO","MANUEL PENTANA","BAR RESTAURANT ARETINO"," ","BAR RESTAURANT ARETINO","AVDA.PRINCIPAL BOLEITA SURCARACAS"," "," ","2340829"," "," ","CARACAS"," "," "," ","CAMBIO DE ZONA 31 A 09 230919 JA","MANUEL PENTENA"," "," ","BAR RESTAURANT ARETINO","AVDA.PRINCIPAL BOLEITA SURCARACAS"," "," "," "," "," "," "," ",null,"V-56170746-0","C 1376","15000","Sí","00","CONTADO","31","LA CASTELLANA","04","06","BAR/TABER./S. BAR/PUB/TAS","02","ON PREMISSE","02","ON PREMISSE","09","09","09 - CLIENTE INHABILITADO","   "]
["V5670305","36  CLIENT-CORPORAT-OFIC.","SOLANO ORJUELA LUIS ANIBAL","SOLANO ORJUELA LUIS ANIBAL","27-04-2021","SOLANO ORJUELA LUIS ANIBAL","CALLE 10 CON ESQUINA CALLE 11","EDIFICIO PLASENCIA LA URBINA","EDO-MIRANDA","(0212)2421111"," "," ","CARACAS"," "," "," "," ","SOLANO LUIS"," "," ","SOLANO ORJUELA LUIS ANIBAL","CALLE 10 CON ESQUINA CALLE 11","EDIFICIO PLASENCIA LA URBINA","EDO-MIRANDA"," ","(0212) 2421111"," ","DESPACHAR EN LA OFICINA"," ",null,"V-0567030-5","PARTICULAR","89250","No","05","CREDITO 5 DIAS","36","VTAS.CORPORATIVAS","07","31","PARTICULAR","01","OFF PREMISSE","01","OFF PREMISSE","36","36","36 - CLIENTE CORPORATIVO - OFF","DESPACHAR EN LA OFICINA  "]
["V5960047","36  CLIENT-CORPORAT-OFIC.","JULIETA D''EGIDIO","JULIETA D''EGIDIO"," ","JULIETA D''EGIDIO","AVIDA. PAEZ CRUCE CON MIRANDA, PISO","2, APTO. 2A, EDF. EL PALMAR, EL","PARAISO - CARACAS","(0212) 462-73-10","(0412) 389-09-67"," ","CARACAS"," "," "," "," ","JULIETA D''EGIDIO"," "," ","JULIETA D''EGIDIO","AVIDA. PAEZ CRUCE CON MIRANDA, PISO","2, APTO. 2A, EDF. EL PALMAR, EL","PARAISO - CARACAS."," ","(0212) 462-73-10","(0412) 389-09-67"," "," ","CONTADO","V-00596004-7","PARTICULAR","89250","No","05","CREDITO 5 DIAS","36","VTAS.CORPORATIVAS","07","31","PARTICULAR","00","ESTANDAR","00","ESTANDAR"," ","36","71 - OFICINA","   "]
["V5963569","70 - COMPRA/PERSONAL","CARMEN CECILIA BELLO","CARMEN CECILIA BELLO"," ","CARMEN CECILIA BELLO","ZONA IND. TERRINCA GALPON 6-A","GUATIRE EDO MIRANDA"," ","0212-242.11.11"," "," ","CARACAS"," "," "," "," ","CARMEN CECILIA"," "," ","CARMEN CECILIA BELLO","CALLE 10 CON CALLE 11 EDIF","PLASENCIA LA URBINA EDO MIRANDA"," "," ","0212-242.11.11"," "," "," ",null,"V-00596356-9","PARTICULAR","1","Sí","00","CONTADO","70","PERSONAL EMPLEADO","07","25","EMPLEADOS","10","PROLICOR,C.A","10","PROLICOR,C.A"," ","70","70 - EMPLEADOS","   "]
["V6015397","36  CLIENT-CORPORAT-OFIC.","PEDRO RAMON PAREDES","PEDRO RAMON PAREDES"," ","PEDRO RAMON PAREDES","CALLE EL ESTADIO. CASA S/N .","MAMPORAL. EDO MIRANDA"," ","(0426)405.96.00"," "," ","CARACAS"," "," "," "," ","PEDRO RAMON PAREDES"," "," ","PEDRO RAMON PAREDES","ZONA INDUSTRIAL TERRINCA GALPON 6-A","GUATIRE-MNCP. AUTONOMO ZAMORA-EDO","MIRANDA"," ","(0426)405.96.00"," ","CLIENTE RETIRARA","POR ALMACEN",null,"V-00601539-7","PARTICULAR","89250","No","05","CREDITO 5 DIAS","36","VTAS.CORPORATIVAS","07","31","PARTICULAR","00","ESTANDAR","00","ESTANDAR"," ","36","71 - OFICINA","CLIENTE RETIRARA POR ALMACEN"]
["V6018313","09 - CLIENTE INHABILITADO","NEIDA TRIANO","NEIDA TRIANO"," ","NEIDA TRIANO","ZONA INDUSTRIAL TERRINCA GALPON","6-A. GUATIRE EDO MIRANDA"," ","0212-344.46.22"," "," ","GUATIRE"," "," "," ","CLIENTE INHABILITADO 10/12/19 GA","NEIDA TRIANO"," "," ","NEIDA TRIANO","ZONA INDUSTRIAL TERRINCA GALPON","6-A. GUATIRE EDO MIRANDA"," "," ","(0212)344.46.22"," ","ASISTENTE ALMACEN"," ",null,"V-0601831-3","PARTICULAR","0","Sí","00","CONTADO","70","PERSONAL EMPLEADO","07","25","EMPLEADOS","10","PROLICOR,C.A","10","PROLICOR,C.A"," ","09","09 - CLIENTE INHABILITADO","ASISTENTE ALMACEN  "]
["V6020351","09 - CLIENTE INHABILITADO","MARTINEZ HENRY","MARTINEZ HENRY"," ","MARTINEZ HENRY","ZONA IND. TERRINCA GALPON 6-A","GUATIRE EDO MIRANDA"," ","0212-344.46.22"," "," ","GUATIRE"," "," "," ","CLIENTE INHABILITADO 10/12/19 GA","MARTINEZ HENRY"," "," ","MARTINEZ HENRY","ZONA IND TERRINCA GALPON 6-A","GUATIRE EDO MIRANDA"," "," ","0212-344.46.22"," "," "," ",null,"J-00602035-1","PARTICULAR","0","Sí","00","CONTADO","70","PERSONAL EMPLEADO","07","25","EMPLEADOS","10","PROLICOR,C.A","10","PROLICOR,C.A"," ","09","09 - CLIENTE INHABILITADO","   "]
["V6020352","70 - COMPRA/PERSONAL","MARTINEZ HENRY","MARTINEZ HENRY"," ","MARTINEZ HENRY","ZONA INDUSTRIAL TERRINCA, GALPON","6-A, GUATIRE EDO. MIRANDA"," ","0212-344.46.22"," "," ","CARACAS"," "," "," "," ","MARTINEZ HENRY"," "," ","MARTINEZ HENRY","ZONA INDUSTRIAL TERRINCA, GALPON","6-A, GUATIRE EDO. MIRANDA"," "," ","(0212) 344-46-22"," ","RECIBIDOR DE MERCANCIA"," ",null,"V-00602035-2","PARTICULAR","1","Sí","00","CONTADO","70","PERSONAL EMPLEADO","07","25","EMPLEADOS","10","PROLICOR,C.A","10","PROLICOR,C.A"," ","70","70 - EMPLEADOS","RECIBIDOR DE MERCANCIA  "]
["V6039936","09 - CLIENTE INHABILITADO","JOSE LUIS TEXEIRA GOES","JOSE LUIS TEXEIRA GOES"," ","JOSE LUIS TEXEIRA GOES","CALLE 10 CON ESQUINA CALLE 11 EDIF.","PLASENCIA. LA URBINA"," ","0212-242.11.11"," "," ","CARACAS"," "," "," ","CLIENTE INHABILITADO 10/12/19 GA","JOSE LUIS TEXEIRA GO"," "," ","JOSE LUIS TEXEIRA GOES","CALLE 10 CON ESQUINA CALLE 11 EDIF.","PLASENCIA. LA URBINA"," "," ","(0212) 242-11-11"," ","GERENTE DE ZONA PROLICOR","ZONA LITORAL","CONTADO","V-00603993-6","PARTICULAR","0","Sí","00","CONTADO","70","PERSONAL EMPLEADO","07","25","EMPLEADOS","10","PROLICOR,C.A","10","PROLICOR,C.A"," ","09","09 - CLIENTE INHABILITADO","GERENTE DE ZONA PROLICOR ZONA LITORAL"]
["V6050050","70 - COMPRA/PERSONAL","FULVIO MARINONI","FULVIO MARINONI"," ","FULVIO MARINONI","CALLE 10 CON ESQUINA CALLE 11 EDIF.","PLASENCIA. LA URBINA"," ","0212-242.11.11"," "," ","CARACAS"," "," "," "," ","FULVIO MARINONI"," "," ","FULVIO MARINONI","CALLE 10 CON ESQUINA CALLE 11 EDIF.","PLASENCIA. LA URBINA"," "," ","(0212) 242-11-11"," ","GERENTE DE COMPRAS"," ",null,"V-00605005-0","PARTICULAR","15000","No","00","CONTADO","70","PERSONAL EMPLEADO","07","25","EMPLEADOS","10","PROLICOR,C.A","10","PROLICOR,C.A"," ","70","70 - EMPLEADOS","GERENTE DE COMPRAS  "]
["V6067115","09 - CLIENTE INHABILITADO","ALBERTO RIVERO","ALBERTO RIVERO"," ","ALBERTO RIVERO","ZONA INDUSTRIAL TERRINCA GALPON","6-A. GUATIRE EDO MIRANDA"," ","0212-344.46.22"," "," ","GUATIRE"," "," "," ","CLIENTE INHABILITADO 10/12/19 GA","ALBERTO RIVERO"," "," ","ALBERTO RIVERO","ZONA INDUSTRIAL TERRINCA GALPON","6-A. GUATIRE EDO MIRANDA"," "," ","(0212)344.46.22"," ","ASISTENTE DE ALMACEN"," ",null,"V-00606711-5","PARTICULAR","0","Sí","00","CONTADO","70","PERSONAL EMPLEADO","07","25","EMPLEADOS","10","PROLICOR,C.A","10","PROLICOR,C.A","09","09","09 - CLIENTE INHABILITADO","ASISTENTE DE ALMACEN  "]
["V6069651","71 - OFICINA","ABILIO DE FREITAS","ABILIO DE FREITAS"," ","ABILIO DE FREITAS","CALLE 10 CON ESQUINA CALLE 11","EDIF. PLASENSIA LA URBINA","EDO-MIRANDA","(0212)2421111"," "," ","CARACAS"," "," "," "," ","ABILIO DE FREITAS"," "," ","ABILIO DE FREITAS","CALLE 10 ESQUINA CALLE 11 EDIF","PLASENCIA LA URBINA EDO- MIRANDA"," "," ","(0212)2421111"," ","DESPACHAR EN LA OFICINA"," ",null,"V-0006069651","PARTICULAR","15000","No","00","CONTADO","71","OFICINA","07","31","PARTICULAR","01","OFF PREMISSE","01","OFF PREMISSE","71","71","71 - OFICINA","DESPACHAR EN LA OFICINA  "]
["V6113590","70 - COMPRA/PERSONAL","ARANDA GUERRA, CARMEN JOSEFINA","ARANDA GUERRA, CARMEN JOSEFINA"," ","ARANDA GUERRA, CARMEN JOSEFINA","ZONA INDUSTRIAL TERRINCA GALPON Nº","6-A, GUATIRE MCPIO. AUTONOMO","ZAMORA EDO. MIRANDA","0212-242.11.11"," "," ","CARACAS"," "," "," "," ","ARANDA GUERRA","CARMEN JOSEFINA"," ","ARANDA GUERRA, CARMEN JOSEFINA","CALLE 10 CON ESQUINA CALLE 11 EDIF.","PLASENCIA LA URBINA ESTADO MIRANDA"," "," ","(0212)242.11.11"," ","RECURSOS HUMANOS"," ",null,"V-0006113590","PARTICULAR","1","No","00","CONTADO","70","PERSONAL EMPLEADO","07","25","EMPLEADOS","10","PROLICOR,C.A","10","PROLICOR,C.A"," ","70","70 - EMPLEADOS","RECURSOS HUMANOS  "]
["V6154373","70 - COMPRA/PERSONAL","WALTER SAYAGO","WALTER SAYAGO"," ","WALTER SAYAGO","CALLE 10 CON 11 EDIFICIO PLASENCIA","LA URBINA"," ","0212-242.11.11"," "," ","CARACAS"," "," "," "," ","WALTER SAYAGO"," "," ","WALTER SAYAGO","CALLE 10 CON 11 EDIFICIO PLASENCIA","LA URBINA"," "," ","0212 - 2421111"," ","ADM DE OPERACIONES COMERC"," ",null,"V-0615437-3","PARTICULAR","1","No","00","CONTADO","70","PERSONAL EMPLEADO","07","25","EMPLEADOS","10","PROLICOR,C.A","10","PROLICOR,C.A"," ","70","70 - EMPLEADOS","ADM DE OPERACIONES COMERC  "]
["V6160726","70 - COMPRA/PERSONAL","MEDINA ALI","MEDINA ALI"," ","MEDINA ALI","ZONA IND. TERRINCA GALPON 6-A","GUATIRE EDO MIRANDA"," ","0212-242.11.11"," "," ","GUATIRE"," "," "," "," ","MEDINA ALI"," "," ","MEDINA ALI","ZONA IND TERRINCA GALPON 6-A","GUATIRE EDO MIRANDA"," "," ","0212-344.46.22"," ","PROLICOR"," ",null,"V-00616072-6","PARTICULAR","1","No","00","CONTADO","70","PERSONAL EMPLEADO","07","25","EMPLEADOS","10","PROLICOR,C.A","10","PROLICOR,C.A"," ","70","70 - EMPLEADOS","PROLICOR  "]
["V6170727","70 - COMPRA/PERSONAL","MANUEL PELAYO","MANUEL PELAYO"," ","MANUEL PELAYO","CALLE 10 CON 11 EDIFICIO PLASENCIA","LA URBINA"," ","0212-242.11.11"," "," ","CARACAS"," "," "," "," ","MANUEL PELAYO"," "," ","MANUEL PELAYO","CALLE 10 CON 11 EDIFICIO PLASENCIA"," "," "," ","0212 - 2421111"," ","ANALISTA DE CTAS X PAGAR"," ",null,"V-0617072-7","PARTICULAR","1","No","00","CONTADO","70","PERSONAL EMPLEADO","07","25","EMPLEADOS","10","PROLICOR,C.A","10","PROLICOR,C.A"," ","70","70 - EMPLEADOS","ANALISTA DE CTAS X PAGAR  "]
["V6197918","70 - COMPRA/PERSONAL","GUSTAVO CADENAS","GUSTAVO CADENAS"," ","GUSTAVO CADENAS","CALLE 10 CON ESQUINA CALLE 11 EDIF.","PLASENCIA. LA URBINA"," ","0212-242.11.11"," "," ","CARACAS"," "," "," "," ","GUSTAVO CADENAS"," "," ","GUSTAVO CADENAS","CALLE 10 CON ESQUINA CALLE 11 EDIF.","PLASENCIA. LA URBINA"," "," ","(0212) 242-11-1"," ","GERENTE CORPORATIVO DE","TESORERIA",null,"V-00619791-8","PARTICULAR","1","No","00","CONTADO","70","PERSONAL EMPLEADO","07","25","EMPLEADOS","10","PROLICOR,C.A","10","PROLICOR,C.A"," ","70","70 - EMPLEADOS","GERENTE CORPORATIVO DE TESORERIA"]
["V6205137","70 - COMPRA/PERSONAL","CARLOS BORGES","CARLOS BORGES"," ","CARLOS BORGES","CALLE 10 CON ESQUINA CALLE 11 EDIF.","PLASENCIA. LA URBINA EDO. MIRANDA"," ","0212-242.11.11"," "," ","CARACAS"," "," "," "," ","CARLOS BORGES"," "," ","CARLOS BORGES","CALLE 10 CON ESQUINA CALLE 11 EDIF.","PLASENCIA. LA URBINA. EDO. MIRANDA"," "," ","0212.242.11.11"," ","CONTRALOR"," ",null,"V-00620513-7","PARTICULAR","15000","No","00","CONTADO","70","PERSONAL EMPLEADO","07","25","EMPLEADOS","10","PROLICOR,C.A","10","PROLICOR,C.A"," ","70","70 - EMPLEADOS","CONTRALOR  "]
["V6211820","31 - RODRIGUEZ WLADIMIR","DEVITO RUSSO NICOLA","DEVITO RUSSO NICOLA"," ","DEVITO RUSSO NICOLA","AV. PPAL DE BELLO MONTE C.C.","BELLO MONTE LOCAL P.B AL DE","CIUDAD BANESCO CARACAS","0212-242.11.11"," "," ","CARACAS"," "," "," "," ","RUSSO NICOLA"," "," ","DEVITO RUSSO NICOLA","CALLE 10 CON CALLE 11 EDIF","PLASENCIA LA URBINA EDO MIRANDA"," "," ","0212-242.11.11"," "," "," ",null,"V-00621182-0","PARTICULAR","89250","No","05","CREDITO 5 DIAS","33","CENTRO-CANDELARIA","07","31","PARTICULAR","01","OFF PREMISSE","01","OFF PREMISSE"," ","31"," ","   "]
["V6216531","70 - COMPRA/PERSONAL","ERNESTO DE FEX","ERNESTO DE FEX"," ","ERNESTO DE FEX","CALLE 10 CON ESQUINA CALLE 11 EDIF.","PLASENCIA. LA URBINA"," ","0212-242.11.11"," "," ","CARACAS"," "," "," "," ","ERNESTO DE FEX"," "," ","ERNESTO DE FEX","CALLE 10 CON ESQUINA CALLE 11 EDIF.","PLASENCIA. LA URBINA"," "," ","(0212) 242-11-11"," ","AUDITOR DE CRED. Y COBRAN"," ",null,"V-00621653-1","PARTICULAR","1","No","00","CONTADO","70","PERSONAL EMPLEADO","07","25","EMPLEADOS","10","PROLICOR,C.A","10","PROLICOR,C.A"," ","70","70 - EMPLEADOS","AUDITOR DE CRED. Y COBRAN  "]
["V6237691","09 - CLIENTE INHABILITADO","JOSE GOVEIA TERRA","JOSE GOVEIA TERRA"," ","JOSE GOVEIA TERRA","CENTRO COMERCIAL EL MARQUES","LOCAL 5 FERRETERIA FERREMACH","AV.ROMULO GALLEGO","0212-243.05.50"," "," ","CARACAS"," "," "," ","CAMBIO DE Z 31 A ZONA 09 200919 JA","JOSE GOVEIA TERRA"," "," ","JOSE GOVEIA TERRA","CENTRO COMERCIAL EL MARQUES","LOCAL Nº5 FERRETERIA FERREMACH","AV.ROMULO GALLEGO","CARACAS","0212-243.05.50"," ","TRASP.AL 03.SUP.CARLOS DA","SILVA S/SOLIC 08/02/11",null,"V-000623769-1","PARTICULAR","0","Sí","00","CONTADO","09","CLIENTE INHABILITADO","07","31","PARTICULAR","02","ON PREMISSE","02","ON PREMISSE","09","09","09 - CLIENTE INHABILITADO","TRASP.AL 03.SUP.CARLOS DA SILVA S/SOLIC 08/02/11"]
["V6257877","70 - COMPRA/PERSONAL","MARIBEL VILLAZANA","MARIBEL VILLAZANA"," ","MARIBEL VILLAZANA","ZONA IND.TERRINCA, GALPÓN 6-A","GUATIRE MNCP AUTONOMO ZAMORA","EDO MIRANDA","0212-242.11.11"," "," ","CARACAS"," "," "," "," ","MARIBEL VILLAZANA"," "," ","MARIBEL VILLAZANA","CALLE 10 CON ESQUINA CALLE 11 EDIF.","PLASENCIA LA URBINA EDO. MIRANDA"," "," ","0212.242.11.11"," ","MERCADEO GRANT`S"," ",null,"V-00625787-7","PARTICULAR","1","No","00","CONTADO","70","PERSONAL EMPLEADO","07","25","EMPLEADOS","10","PROLICOR,C.A","10","PROLICOR,C.A"," ","70","70 - EMPLEADOS","MERCADEO GRANT`S  "]
["V6268129","70 - COMPRA/PERSONAL","JOSE AGUILERA","JOSE AGUILERA"," ","JOSE AGUILERA","CALLE 10 CON 11 EDIFICIO PLASENCIA","LA URBINA"," ","0212-242.11.11"," "," ","CARACAS"," "," "," "," ","JOSE A. AGUILERA"," "," ","JOSE A. AGUILERA","CALLE 10 CON 11 EDIFICIO PLASENCIA"," "," "," ","0212 - 2421111"," ","COORDINADOR DE POP"," ",null,"V-0626812-9","PARTICULAR","1","No","00","CONTADO","70","PERSONAL EMPLEADO","07","25","EMPLEADOS","10","PROLICOR,C.A","10","PROLICOR,C.A"," ","70","70 - EMPLEADOS","COORDINADOR DE POP  "]
["V6291436","70 - COMPRA/PERSONAL","BEATRIZ SUAREZ","BEATRIZ SUAREZ"," ","BEATRIZ SUAREZ","CALLE 10 CON 11 EDIFICIO PLASENCIA","LA URBINA"," ","0212-242.11.11"," "," ","CARACAS"," "," "," "," ","BEATRIZ SUAREZ"," "," ","BEATRIZ SUAREZ","CALLE 10 CON 11 EDIFICIO PLASENCIA","LA URBINA"," "," ","0212 - 2421111"," ","ANALISTA DE NOMINA"," ",null,"V-0629143-6","PARTICULAR","7500","No","00","CONTADO","70","PERSONAL EMPLEADO","07","25","EMPLEADOS","10","PROLICOR,C.A","10","PROLICOR,C.A","70","70","70 - EMPLEADOS","ANALISTA DE NOMINA  "]
["V6293773","36  CLIENT-CORPORAT-OFIC.","JOSE LUIS MACIEL","JOSE LUIS MACIEL"," ","JOSE LUIS MACIEL","CALLE 10 CON ESQ CALLE 11 EDF","PLASENCIA LA URBINA EDO MIRANDA"," ","0212-242.11.11"," "," ","CARACAS"," "," "," "," ","JOSE LUIS MACIEL"," "," ","JOSE LUIS MACIEL","CALLE 10 CON ESQ CALLE 11 EDF","PLASENCIA LA URBINA EDO MIRANDA"," "," ","0212-242.11.11"," ","Despachar Urgente Autor.","CARLOS DE ABREU",null,"V-00629377-3","PARTICULAR","89250","No","05","CREDITO 5 DIAS","71","OFICINA","07","25","EMPLEADOS","01","OFF PREMISSE","01","OFF PREMISSE"," ","36","71 - OFICINA","Despachar Urgente Autor. CARLOS DE ABREU"]
["V6297568","09 - CLIENTE INHABILITADO","IVIS BRITO","IVIS BRITO"," ","IVIS BRITO","CALLE 10 CON ESQUINA CALLE 11 EDIF.","PLASENCIA. LA URBINA"," ","0212-242.11.11"," "," ","CARACAS"," "," "," ","CAMBIO A LA ZONA 09 10/12/19 YM","IVIS BRITO"," "," ","IVIS BRITO","CALLE 10 CON ESQUINA CALLE 11 EDIF.","PLASENCIA. LA URBINA"," "," ","(0212) 242-11-11"," ","ANALISTA DE NOMINA"," ",null,"V-00629756-8","PARTICULAR","0","No","00","CONTADO","70","PERSONAL EMPLEADO","07","25","EMPLEADOS","10","PROLICOR,C.A","10","PROLICOR,C.A","09","09","09 - CLIENTE INHABILITADO","ANALISTA DE NOMINA  "]
["V6299825","70 - COMPRA/PERSONAL","TRINIDAD DEL V., FERRER GUTIERREZ","TRINIDAD DEL V., FERRER GUTIERREZ"," ","TRINIDAD DEL V., FERRER GUTIERREZ","ZONA INDUSTRIAL TERRINCA, GALPON Nº","6-A, GUATIRE EDO. MIRANDA"," ","0212-242.11.11"," "," ","CARACAS"," "," "," "," ","TRINIDAD DEL VALLE","FERRER GUTIERREZ"," ","TRINIDAD DEL V., FERRER GUTIERREZ","CALLE 10 CON CALLE 11 EDIF.","PLASENCIA LA URBINA"," "," ","(0212)242.11.11"," ","JEFE DE BIENESTAR SOCIAL"," ",null,"V-0006299825","PARTICULAR","7500","No","00","CONTADO","70","PERSONAL EMPLEADO","07","25","EMPLEADOS","10","PROLICOR,C.A","10","PROLICOR,C.A"," ","70","70 - EMPLEADOS","JEFE DE BIENESTAR SOCIAL  "]
["V6313539","71 - OFICINA","JUAN CARLOS DE ABREU","JUAN CARLOS DE ABREU"," ","JUAN CARLOS DE ABREU","CALLE 10 CON ESQUINA CALLE 11 EDIF.","PLASENCIA LA URBINA EDO. MIRANDA"," ","0212.242.11.11"," "," ","CARACAS"," "," ","CODIGO ERRADO, EL","CORRECTO ES V063135395","JUAN CARLOS DE ABREU"," "," ","XXXXXXXXXXXXXXXXXXXXXXXXXXXXXXXXXXX","CALLE 10 CON ESQUINA CALLE 11 EDIF.","PLASENCIA LA URBINA EDO. MIRANDA"," "," ","0212.242.11.11"," ","CODIGO ERRADO, EL","CORRECTO ES V063135395",null,"V-0006313539","PARTICULAR","0","Sí","00","CONTADO","71","OFICINA","07","31","PARTICULAR","19","SUCU-PROLI-CO-DISTR CILCA","19","SUCU-PROLI-CO-DISTR CILCA","71","71","71 - OFICINA","CODIGO ERRADO, EL CORRECTO ES V063135395"]
["V6322307","71 - OFICINA","MIGUEL ANGEL ROJAS NUÑEZ","MIGUEL ANGEL ROJAS NUÑEZ"," ","MIGUEL ANGEL ROJAS NUÑEZ","AV 9 DE DICIEMBRE EDIF ARAGUANEY","PISO 6 APTO 6-A URB ARTIGAS"," ","0424-1612411"," "," ","CARACAS"," "," "," "," ","MIGUEL ROJAS"," "," ","MIGUEL ANGEL ROJAS NUÑEZ","AV 9 DE DICIEMBRE EDIF ARAGUANEY","PISO 6 APTOS 6-A UERB ARTIGAS"," "," "," "," ","DESPACHAR PROLICOR CCCT"," ",null,"V-0632230-7","PARTICULAR","2200","No","05","CREDITO 5 DIAS","71","OFICINA","07","31","PARTICULAR","01","OFF PREMISSE","01","OFF PREMISSE","71","71","71 - OFICINA","DESPACHAR PROLICOR CCCT  "]
["V6323977","70 - COMPRA/PERSONAL","MILAGROS MARIN","MILAGROS MARIN"," ","MILAGROS MARIN","LA URBINA, CALLE 10 CON 11 EDIF.","PLASENCIA MUN. SUCRE PETARE.MIRANDA"," ","0212-2408861"," "," ","CARACAS3"," "," "," "," "," "," "," ","MILAGROS MARIN","LA URBINA, CALLE 10 CON 11 EDIF.","PLASENCIA MUN. SUCRE PETARE.MIRANDA"," "," ","0212-240-88-61"," ","ESPECIALISTA DE","CONTABILIDAD",null,"V-632397-7"," ","1","No","00","CONTADO","70","PERSONAL EMPLEADO","09","25","EMPLEADOS","01","OFF PREMISSE","01","OFF PREMISSE","70","70","70 - EMPLEADOS","ESPECIALISTA DE CONTABILIDAD"]
["V6327091","31 - RODRIGUEZ WLADIMIR","CASTRO ROMERO, MARIA CRISTINA","CASTRO ROMERO, MARIA CRISTINA"," ","CASTRO ROMERO, MARIA CRISTINA","CALLE DAMASO VILLALBA EDIF. NADIA","PISO 1 APTO. 3 SANTA MONICA."," ","(0212)661.31.08","(0414)221.30.01"," ","CARACAS"," "," "," "," ","CASTRO ROMERO, MARIA","CRISTINA"," ","CASTRO ROMERO, MARIA CRISTINA","CALLE 10 CON CALLE 11 EDIFICIO","PLASENCIA LA URBINA EDO.MIRANDA"," "," ","(0212)661.31.08","(0414)221.30.01","DESPACHAR EN LA GERENCIA","DE VENTAS",null,"V-0006327091","PARTICULAR","89250","No","05","CREDITO 5 DIAS","71","OFICINA","04","31","PARTICULAR","02","ON PREMISSE","02","ON PREMISSE"," ","31"," ","DESPACHAR EN LA GERENCIA DE VENTAS"]
["V6348081","09 - CLIENTE INHABILITADO","COLINA CLAUDIA","COLINA CLAUDIA"," ","COLINA CLAUDIA","CALLE 10 CON ESQUINA CALLE 11 EDIF.","PLASENCIA LA URBINA EDO. MIRANDA"," ","0212-242.11.11"," "," ","CARACAS"," "," "," ","CLIENTE INHABILITADO 10/12/19 GA","COLINA CLAUDIA"," "," ","COLINA CLAUDIO","CALLE 10 CON ESQ. CALLE 11 EDIF.","PLASENCIA LA URBINA-EDO.MIRANDA"," "," ","0212-242.11.11"," ","CALL CENTER 0800 DELIVERY"," ",null,"V-00634808-1","PARTICULAR","0","Sí","00","CONTADO","70","PERSONAL EMPLEADO","07","25","EMPLEADOS","10","PROLICOR,C.A","10","PROLICOR,C.A"," ","09","09 - CLIENTE INHABILITADO","CALL CENTER 0800 DELIVERY  "]
["V6363258","70 - COMPRA/PERSONAL","OROPEZA ANGEL","OROPEZA ANGEL"," ","OROPEZA ANGEL","ZONA IND. TERRINCA GALPON 6-A","GUATIRE EDO MIRANDA"," ","0212-344.46.22"," "," ","GUATIRE"," "," "," "," ","OROPEZA ANGEL"," "," ","OROPEZA ANGEL","ZONA IND TERRINCA GALPON 6-A","GUATIRE EDO MIRANDA"," "," ","0212-344.46.22"," ","DIST. NUBE AZUL"," ",null,"V-00636325-8","PARTICULAR","1","No","00","CONTADO","70","PERSONAL EMPLEADO","07","25","EMPLEADOS","10","PROLICOR,C.A","10","PROLICOR,C.A"," ","70","70 - EMPLEADOS","DIST. NUBE AZUL  "]
["V6372643","70 - COMPRA/PERSONAL","ANTONIO CUMANA","ANTONIO CUMANA"," ","ANTONIO CUMANA","CALLE 10 CON 11 EDIFICIO PLASENCIA","LA URBINA"," ","0212-242.11.11"," "," ","CARACAS"," "," "," "," ","ANTONIO CUMANA"," "," ","ANTONIO CUMANA","CALLE 10 CON 11 EDIFICIO PLASENCIA","LA URBINA"," "," ","0212 - 2421111"," ","JEFE DE SERV GENERALES"," ",null,"V-0637264-3","PARTICULAR","1","No","00","CONTADO","70","PERSONAL EMPLEADO","07","25","EMPLEADOS","10","PROLICOR,C.A","10","PROLICOR,C.A"," ","70","70 - EMPLEADOS","JEFE DE SERV GENERALES  "]
["V6373390","09 - CLIENTE INHABILITADO","WILFREDO AGUILAR","WILFREDO AGUILAR"," ","WILFREDO AGUILAR","CALLE 10 CON 11 EDIFICIO PLASENCIA","LA URBINA"," ","0212-242.11.11"," "," ","CARACAS"," "," "," ","CAMBIO A LA ZONA 09 10/12/19 YM","WILFREDO AGUILAR"," "," ","WILFREDO AGUILAR","CALLE 10 CON 11 EDIFICIO PLASENCIA","LA URBINA"," "," ","0212 - 2421111"," ","ADMINISTRADOR DE MERCADEO"," ",null,"V-0637339-0","PARTICULAR","0","No","00","CONTADO","70","PERSONAL EMPLEADO","07","25","EMPLEADOS","10","PROLICOR,C.A","10","PROLICOR,C.A","09","09","09 - CLIENTE INHABILITADO","ADMINISTRADOR DE MERCADEO  "]
["V6399346","70 - COMPRA/PERSONAL","LIGGIA TORRES","LIGGIA TORRES"," ","LIGGIA TORRES","ZONA INDUSTRIAL TERRINCA GALPON 6-A","GUATIRE-MCPIO ZAMORA EDO-MIRANDA"," ","0212-242.11.11"," "," ","CARACAS"," "," "," "," ","LIGIA TORRES"," "," ","LIGGIA TORRES","CALLE 10 CON ESQUINA CALLE11","EDIF.PLASENCIA LA URBINA","EDO-MIRANDA"," ","(0212)2421111"," ","DEPTO.PERSONAL"," ",null,"V-0006399346","PARTICULAR","1","No","00","CONTADO","70","PERSONAL EMPLEADO","07","25","EMPLEADOS","10","PROLICOR,C.A","10","PROLICOR,C.A"," ","70","70 - EMPLEADOS","DEPTO.PERSONAL  "]
["V6403406","70 - COMPRA/PERSONAL","CARLOS DE FREITAS ALVES","CARLOS DE FREITAS ALVES","270922 FL","CARLOS DE FREITAS ALVES","CALLE LA GUAIRA ZONA A-1","QTA ANAMER URB. MACARACUAY"," ","0412-218.96.77"," "," ","CARACAS"," "," "," "," "," "," "," ","CARLOS DE FREITAS ALVES","CALLE 10 CON ESQUINA CALLE 11","EDIF. PLASENCIA. LA URBINA"," "," ","0412-218.96.77","270922 FL","EVENTO OS PARCEIROS"," ",null,"V-6403406"," ","7500","No","01","PREPAGO","70","PERSONAL EMPLEADO","07","31","PARTICULAR","00","ESTANDAR","00","ESTANDAR","70","70","70 - EMPLEADO","EVENTO OS PARCEIROS  "]
["V6465780","71 - OFICINA","DE FREITAS CATANHO MARIO","DE FREITAS CATANHO MARIO"," ","DE FREITAS CATANHO MARIO","CALLE 10 CON ESQUINA CALLE 11 EDIF.","PLASENCIA. LA URBINA EDO. MIRANDA"," ","(0212)242.11.11"," "," ","CARACAS"," "," "," "," ","DE FREITAS CATANHO","MARIO"," ","DE FREITAS CATANHO MARIO","CALLE 10 CON ESQUINA CALLE 11 EDIF.","PLASENCIA LA URBINA. EDO. MIRANDA"," "," ","(0212)242.11.11"," "," "," ",null,"V-00646578-0","PARTICULAR","15000","No","00","CONTADO","71","OFICINA","07","25","EMPLEADOS","01","OFF PREMISSE","01","OFF PREMISSE"," ","71","71 - OFICINA",{"$f":"CONCATENATE(AB4674,\" \",AC4674)","v":"   "}]
["V6478180","09 - CLIENTE INHABILITADO","GOMEZ ALAN","GOMEZ ALAN"," ","GOMEZ ALAN","CALLE 10 CON ESQ CALLE 11 EDF","PLASENCIA LA URBINA EDO MIRANDA"," ","0212-242.11.11"," "," ","CARACAS"," "," "," ","CAMBIO A LA ZONA 09 10/12/19 YM","GOMEZ ALAN"," "," ","GOMEZ ALAN","CALLE 10 CON ESQ CALLE 11 EDF","PLASENCIA LA URBINA EDO MIRANDA"," "," ","0212-242.11.11"," "," "," ",null,"V-00647818-0","PARTICULAR","0","No","00","CONTADO","70","PERSONAL EMPLEADO","07","25","EMPLEADOS","10","PROLICOR,C.A","10","PROLICOR,C.A","09","09","09 - CLIENTE INHABILITADO","   "]
["V6498924","09 - CLIENTE INHABILITADO","ECHARRY CASTRO, CARLOS EMILIO","ECHARRY CASTRO, CARLOS EMILIO"," ","ECHARRY CASTRO, CARLOS EMILIO","ZONA INDUSTRIAL TERRINCA GALPON 6-A","GUATIRE-MCPIO.AUTONOMO ZAMORA","EDO.MIRANDA","0212-344.46.22"," "," ","GUATIRE"," "," "," ","CAMBIO A LA ZONA 09 10/12/19 YM","ECHARRY CASTRO,","CARLOS EMILIO"," ","ECHARRY CASTRO, CARLOS EMILIO","ZONA INDUSTRIAL TERRINCA GALPON 6-A","GUATIRE MNCPIO. AUTONOMO ZAMORA","EDO.MIRANDA"," ","(0212)344.46.22"," ","CHOFER","INV.TABUGAULA, C.A.",null,"V-0006498924","PARTICULAR","0","No","00","CONTADO","70","PERSONAL EMPLEADO","07","25","EMPLEADOS","10","PROLICOR,C.A","10","PROLICOR,C.A","09","09","09 - CLIENTE INHABILITADO","CHOFER INV.TABUGAULA, C.A."]
["V6501616","70 - COMPRA/PERSONAL","FEBLES CARLOS","FEBLES CARLOS"," ","FEBLES CARLOS","CALLE 10 CON ESQUINA CALLE 11 EDIF","PLASENCIA LA URBINA EDO. MIRANDA"," ","0212-242.11.11"," "," ","CARACAS"," "," "," "," ","FEBLES CARLOS"," "," ","FEBLES CARLOS","CALLE 10 CON ESQUINA CALLE 11 EDIF","PLASENCIA LA URBINA EDO. MIRANDA"," "," ","0212-242.11.11"," "," "," ",null,"V-00650161-6","PARTICULAR","1","No","00","CONTADO","70","PERSONAL EMPLEADO","07","25","EMPLEADOS","10","PROLICOR,C.A","10","PROLICOR,C.A"," ","70","70 - EMPLEADOS","   "]
["V6514945","70 - COMPRA/PERSONAL","RICHARD ROJA","RICHARD ROJA"," ","RICHARD ROJA","CALLE 10 CON ESQ CALLE 11 EDF","PLASENCIA LA URBINA EDO MIRANDA"," ","0212-242.11.11"," "," ","CARACAS"," "," "," ","BLOQ RIF ERRADO KF 140917","FLORES KAROLINA"," "," ","RICHARD ROJA","CALLE 10 CON ESQ CALLE 11 EDF","PLASENCIA LA URBINA EDO MIRANDA"," "," ","0212421111"," ","ESPECIALISTA DE CUENTAS","RELACIONADAS",null,"V-0651494-5","PARTICULAR","1","Sí","00","CONTADO","70","PERSONAL EMPLEADO","07","25","EMPLEADOS","10","PROLICOR,C.A","10","PROLICOR,C.A","70","70","70 - EMPLEADOS","ESPECIALISTA DE CUENTAS RELACIONADAS"]
["V6516945","70 - COMPRA/PERSONAL","RICAHRD ROJAS","RICAHRD ROJAS"," ","RICAHRD ROJAS","CALLE 10 CON ESQ CALLE 11 EDF","PLASENCIA LA URBINA EDO MIRANDA"," ","0212-242.11.11"," "," ","CARACAS"," "," "," "," ","RICHARD ROJAS"," "," ","RICAHRD ROJAS","CALLE 10 CON ESQ CALLE 11 EDF","PLASENCIA LA URBINA EDO MIRANDA"," "," ","02122421111"," ","ANALISTA DE SOPORTE","TECNICO",null,"V-0651694-5","PARTICULAR","1","No","00","CONTADO","70","PERSONAL EMPLEADO","07","25","EMPLEADOS","10","PROLICOR,C.A","10","PROLICOR,C.A","70","70","70 - EMPLEADOS","ANALISTA DE SOPORTE TECNICO"]
["V6547868","70 - COMPRA/PERSONAL","ELEAZAR ACOSTA","ELEAZAR ACOSTA"," ","ELEAZAR ACOSTA","CALLE 10 CON CALLE 11, EDIFICIO","PLASENCIA. LA URBINA EDO. MIRANDA"," ","0212-242.11.11"," "," ","CARACAS"," "," "," "," ","ELEAZAR ACOSTA"," "," ","ELEAZAR ACOSTA","CALLE CON ESQUINA CALLE 11, EDIF.","PLASENCIA. LA URBINA EDO. MIRANDA"," "," ","0212-242.11.11"," ","SUPERVISOR VENTAS"," ",null,"V-0006547868","PARTICULAR","1","No","00","CONTADO","70","PERSONAL EMPLEADO","07","25","EMPLEADOS","10","PROLICOR,C.A","10","PROLICOR,C.A"," ","70","70 - EMPLEADOS","SUPERVISOR VENTAS  "]
["V6559802","71 - OFICINA","ERNESTO PARRA","ERNESTO PARRA"," ","ERNESTO PARRA","CLINICA SANATRIX 2DA CALLE CON 4TA","CAMPO ALEGRE, CONSULTORIO #207"," ","0212-201.62.76"," "," ","CARACAS"," "," "," "," ","ERNESTO PARRA"," "," ","ERNESTO PARRA","CLINICA SANATRIX 2DA CALLE CON 4TA","CAMPO ALEGRE, CONSULTORIO #207"," "," ","0212-267.26.13"," "," "," ",null,"V-00655980-2","PARTICULAR","1600","No","05","CREDITO 5 DIAS","71","OFICINA","08","33","RELACIONADOS","00","ESTANDAR","00","ESTANDAR"," ","71","71 - OFICINA","   "]
["V6622307","71 - OFICINA","MIGUEL ROJAS","MIGUEL ROJAS"," ","MIGUEL ROJAS","CALLE 10 CON ESQUINA CALLE 11","EDIFICIO PLASENCIA LA URBINA","EDO-MIRANDA","(0212)242.11.11"," "," ","CARACAS"," "," "," "," ","MIGUEL ROJAS"," "," ","MIGUEL ROJAS","CALLE 10 CON ESQUINA CALLE 11","EDIFICIO PLASENCIA LA URBINA","EDO-MIRANDA"," ","0212-2421111"," ","DESPACHAR PROLICOR CCCT"," ",null,"V-0662230-7","PARTICULAR","2200","No","05","CREDITO 5 DIAS","71","OFICINA","07","31","PARTICULAR","01","OFF PREMISSE","01","OFF PREMISSE","71","71","71 - OFICINA","DESPACHAR PROLICOR CCCT  "]
["V678181","36  CLIENT-CORPORAT-OFIC.","JOSE MANUEL FARIAS","JOSE MANUEL FARIAS"," ","JOSE MANUEL FARIAS","CALLE 10 CON ESQUINA CALLE 11 EDIF.","PLASENCIA-LA URBINA-EDO.MIRANDA"," ","0212-242.11.11"," "," ","CARACAS"," "," "," "," ","JOSE MANUEL FARIAS"," "," ","JOSE MANUEL FARIAS","CALLE 10 CON ESQUINA CALLE 11 EDIF.","PLASENCIA-LA URBINA-EDO.MIRANDA"," "," ","0212-242.11.11"," "," "," ",null,"V-0067818-1","PARTICULAR","89250","No","05","CREDITO 5 DIAS","71","OFICINA","07","31","PARTICULAR","01","OFF PREMISSE","01","OFF PREMISSE"," ","36","71 - OFICINA","   "]
["V6811829","70 - COMPRA/PERSONAL","RIVAS ALVAREZ NESTOR","RIVAS ALVAREZ NESTOR"," ","RIVAS ALVAREZ NESTOR","ZONA INDUSTRIAL TERRINCA, GALPON Nº","6-A, GUATIRE EDO. MIRANDA"," ","0212-242.11.11"," "," ","CARACAS"," "," "," "," ","RIVAS ALVAREZ NESTOR"," "," ","RIVAS ALVAREZ NESTOR","CALLE 10 CON CALLE 11 EDIF.","PLASENCIA, LA URBINA."," "," ","(0212)242.11.11"," ","SUPERVISOR DE VENTAS"," ",null,"V-0006811829","PARTICULAR","1","No","00","CONTADO","70","PERSONAL EMPLEADO","07","25","EMPLEADOS","10","PROLICOR,C.A","10","PROLICOR,C.A"," ","70","70 - EMPLEADOS","SUPERVISOR DE VENTAS  "]
["V6816798","36  CLIENT-CORPORAT-OFIC.","HELLY AGUILERA","HELLY AGUILERA"," ","HELLY AGUILERA","CALLE 10 CON ESQUINA CALLE 11, EDF.","PLASENCIA, P.B., LA URBINA"," "," "," "," ","CARACAS"," "," "," "," ","HELLY AGUILERA"," "," ","HELLY AGUILERA","CALLE 10 CON ESQUINA CALLE 11, EDF.","PLASENCIA, P.B., LA URBINA"," "," "," "," ","DESPACHAR EL VIERNES EN","PROLICOR LA CASTELLANA","CONTADO","V-06816798-0","PARTICULAR","89250","No","05","CREDITO 5 DIAS","71","OFICINA","07","31","PARTICULAR","00","ESTANDAR","00","ESTANDAR","36","36","71 - OFICINA","DESPACHAR EL VIERNES EN PROLICOR LA CASTELLANA"]
["V6840337","70 - COMPRA/PERSONAL","ROSMARY MARTINEZ","ROSMARY MARTINEZ"," ","ROSMARY MARTINEZ","CALLE 10 CON 11 EDIFICIO","PLACENSIA","LA URBINA","0212-242.11.11"," "," ","CARACAS"," "," "," "," ","ROSMARY MARTINEZ"," "," ","ROSMARY MARTINEZ","CALLE 10 CON 11 EDIFICIO","PLACENSIA","LA URBINA"," ","0212/2421111"," ","DESPASCHAR EN LA OFICINA","PRINCIPAL",null,"V-00684033-7","PARTICULAR","7500","No","00","CONTADO","70","PERSONAL EMPLEADO","07","25","EMPLEADOS","10","PROLICOR,C.A","10","PROLICOR,C.A"," ","70","70 - EMPLEADOS","DESPASCHAR EN LA OFICINA PRINCIPAL"]
["V6845690","70 - COMPRA/PERSONAL","CORREA MARIA GABRIELA","CORREA MARIA GABRIELA"," ","CORREA MARIA GABRIELA","CALLE 10 CON ESQ. CALLE 11 EDIF","PLASENCIA LA URBINA EDO. MIRANDA"," ","0212-242.11.11"," "," ","CARACAS"," "," "," "," ","MARIA GABRIELA"," "," ","CORREA MARIA GABRIELA","CALLE 10 CON ESQ. CALLE 11 EDIF","PLASENCIA LA URBINA EDO. MIRANDA"," "," ","0212-242.11.11"," ","R.R.H.H"," ",null,"V-00684569-0","PARTICULAR","1","No","00","CONTADO","70","PERSONAL EMPLEADO","07","25","EMPLEADOS","10","PROLICOR,C.A","10","PROLICOR,C.A"," ","70","70 - EMPLEADOS","R.R.H.H  "]
["V6859097","70 - COMPRA/PERSONAL","ANTONIO MARTINS","ANTONIO MARTINS","310823 LI","ANTONIO MARTINS","AV EL PARQUE EDIF RES","ANAUCO PISO 6 APT 6A","URB LA CANDELARIA","0212-2421111"," "," ","MIRANDA"," "," "," "," "," "," "," ","ANTONIO MARTINS","CALLE 10 CON ESQ CALLE 11","EDIF PLASENCIA LA URBINA"," "," "," "," ","RECIBE LUN A VIER","08:00 AM A 05:00 PM","DE LUNES A VIERNES","V-6.859.097","TRAMITE","15000","No","05","CREDITO 5 DIAS","70","PERSONAL EMPLEADO","09","25","EMPLEADOS","01","OFF PREMISSE","00","ESTANDAR","70","70"," ","RECIBE LUN A VIER 08:00 AM A 05:00 PM"]
["V6868044","36  CLIENT-CORPORAT-OFIC.","ALEMY PLAZA","ALEMY PLAZA"," ","ALEMY PLAZA","CALLE 10 CON ESQ CALLE 11 EDF","PLASENCIA LA URBINA EDO MIRANDA"," ","0212-242.11.11"," "," ","CARACAS"," "," "," "," ","ALEMY PLAZA"," "," ","ALEMY PLAZA","CALLE 10 CON ESQUINA CALLE 11, EDIF","PLASENCIA. LA URBINA EDO. MIRANDA"," "," ","0212.242.11.11"," ","PARTICULAR DESPACHAR EN","LA GERENCIA DE VENTAS",null,"V-0686804-4","PARTICULAR","89250","No","00","CONTADO","71","OFICINA","07","31","PARTICULAR","01","OFF PREMISSE","01","OFF PREMISSE"," ","36","71 - OFICINA","PARTICULAR DESPACHAR EN LA GERENCIA DE VENTAS"]
["V6875470","70 - COMPRA/PERSONAL","CARLOS SOSA","CARLOS SOSA"," ","CARLOS SOSA","CALLE 10 CON ESQ CALLE 11 EDF","PLASENCIA LA URBINA EDO MIRANDA"," ","0212-242.11.11"," "," ","CARACAS"," "," "," "," ","CARLOS SOSA"," "," ","CARLOS SOSA","CALLE 10 CON ESQ CALLE 11 EDF","PLASENCIA LA URBINA EDO MIRANDA"," "," ","0212 2421111"," ","GERENTE DE SISTEMAS"," ",null,"V-06875470-0","PARTICULAR","15000","No","00","CONTADO","70","PERSONAL EMPLEADO","07","25","EMPLEADOS","10","PROLICOR,C.A","10","PROLICOR,C.A","70","70","70 - EMPLEADOS","GERENTE DE SISTEMAS  "]
["V6889560","70 - COMPRA/PERSONAL","MARIA ELENA PALACIOS","MARIA ELENA PALACIOS"," ","MARIA ELENA PALACIOS","CALLE 10 CON 11 EDIFICIO","PLASENCIA LA URBINA"," ","0212-242.11.11"," "," ","CARACAS"," "," "," "," ","MARIA ELENA PALACIOS"," "," ","MARIA ELENA PALACIOS","CALLE 10 CON ESQUINA CALLE 11","EDIFICIO PLASENCIA- LA URBINA"," "," ","2421111"," ","GERENCIA DE SISTEMA"," ",null,"V- 688956-0","PARTICULAR","7500","No","00","CONTADO","70","PERSONAL EMPLEADO","07","25","EMPLEADOS","10","PROLICOR,C.A","10","PROLICOR,C.A"," ","70","70 - EMPLEADOS","GERENCIA DE SISTEMA  "]
["V6893368","70 - COMPRA/PERSONAL","MILTON MARTINEZ","MILTON MARTINEZ"," ","MILTON MARTINEZ","CALLE 10 CON 11 EDIFICIO PLASENCIA","LA URBINA"," ","0212-242.11.11"," "," ","CARACAS"," "," "," "," ","MILTON MARTINEZ"," "," ","MILTON MARTINEZ","CALLE 10 CON 11 EDIFICIO PLASENCIA"," "," "," ","0212 - 242111"," ","MENSAJERO EXTERNO"," ",null,"V-0689336-8","PARTICULAR","7500","No","00","CONTADO","70","PERSONAL EMPLEADO","07","25","EMPLEADOS","10","PROLICOR,C.A","10","PROLICOR,C.A"," ","70","70 - EMPLEADOS","MENSAJERO EXTERNO  "]
["V69007410","70 - COMPRA/PERSONAL","EDUARDO CORSER","EDUARDO CORSER","01/08/18","EDUARDO CORSER","CCCT AV LA ESTANCIA TORRE A PISO 4","OFICINA A 402, CHUAO"," "," "," "," "," "," "," "," "," ","EDUARDO CORSER"," "," ","EDUARDO CORSER","CALLE 10 CON CALLE 11 EDF","PLESENCIA LA URBINA ESTADO MIRANDA"," "," "," "," ","RECIBE DE LUNES A VIERNES","DE 8:00 AM A 3:30 PM",null,"V-6900741-0","PARTICULAR","7500","No","01","PREPAGO","70","PERSONAL EMPLEADO","07","31","PARTICULAR","01","OFF PREMISSE","01","OFF PREMISSE","70","70","70 - EMPLEADOS","RECIBE DE LUNES A VIERNES DE 8:00 AM A 3:30 PM"]
["V6902204","70 - COMPRA/PERSONAL","LOPEZ YANETH","LOPEZ YANETH"," ","LOPEZ YANETH","ZONA INDUSTRIAL TERRINCA,","GALPON 6-A GUATIRE EDO MIRANDA"," ","0212-344.46.22"," "," ","GUATIRE"," "," "," "," ","LOPEZ YANETH"," "," ","LOPEZ YANETH","ZONA INDUSTRIAL TERRINCA,","GALPÓN 6-A GUATIRE EDO MIRANDA"," "," ","0212-344.46.22"," "," "," ",null,"V-00690220-4","PARTICULAR","7500","No","00","CONTADO","70","PERSONAL EMPLEADO","07","25","EMPLEADOS","10","PROLICOR,C.A","10","PROLICOR,C.A"," ","70","70 - EMPLEADOS","   "]
["V6903448","70 - COMPRA/PERSONAL","BARRIOS MARIA","BARRIOS MARIA"," ","BARRIOS MARIA","CALLE 10 CON ESQ CALLE 11 EDF","PLASENCIA LA URBINA EDO MIRANDA"," ","0212-242.11.11"," "," ","CARACAS"," "," "," "," ","BARRIOS MARIA"," "," ","BARRIOS MARIA","CALLE 10 CON ESQ CALLE 11 EDF","PLASENCIA LA URBINA EDO MIRANDA"," "," ","0212-242.11.11"," "," "," ",null,"V-00690344-8","PARTICULAR","1","No","00","CONTADO","70","PERSONAL EMPLEADO","07","25","EMPLEADOS","02","ON PREMISSE","02","ON PREMISSE"," ","70","70 - EMPLEADOS","   "]
["V6913925","09 - CLIENTE INHABILITADO","ANTONIO J. PEREIRA MOTA","ANTONIO J. PEREIRA MOTA"," ","ANTONIO J. PEREIRA MOTA","AVDA. PRINCIPAL DE MARIPEREZ, C/C","CALLE ANDRES BELLO, URBANIZACION","MARIPEREZ - DTTO. CAPITAL","(0212) 793.42.98"," "," ","CARACAS"," "," ","DEJO DE VENDER LICORES F-06/03/2014","CAMBIO A ZONA 09 19-09-19 YM","ANTONIO PEREIRA"," "," ","ANTONIO J. PEREIRA MOTA","AVDA. PRINCIPAL DE MARIPEREZ, C/C","CALLE ANDRES BELLO, URBANIZACION","MARIPEREZ - DTTO. CAPITAL"," ","(0212) 793.42.98"," "," "," ",null,"V-00691392-5","PARTICULAR","0","Sí","00","CONTADO","09","CLIENTE INHABILITADO","07","31","PARTICULAR","01","OFF PREMISSE","01","OFF PREMISSE","09","09","09 - CLIENTE INHABILITADO","   "]
["V6919972","70 - COMPRA/PERSONAL","VIVIVANA COITO GOUVEIRA","VIVIVANA COITO GOUVEIRA"," ","VIVIVANA COITO GOUVEIRA","ZONA INDUSTRIAL TERRINCA GALPON","6-A. GUATIRE EDO MIRANDA"," ","0212-242.11.11"," "," ","CARACAS"," "," "," "," ","VIVIANA COITO G"," "," ","VIVIVANA COITO GOUVEIRA","CALLE 10 CON CALLE 11. EDIF","PLACENSIA. PB. LA URBINA"," "," ","0212 242111"," ","COORDINADORA CONTABILIDAD","PROLICOR",null,"V-00691997-2","PARTICULAR","1","No","00","CONTADO","70","PERSONAL EMPLEADO","07","25","EMPLEADOS","10","PROLICOR,C.A","10","PROLICOR,C.A"," ","70","70 - EMPLEADOS","COORDINADORA CONTABILIDAD PROLICOR"]
["V6927882","09 - CLIENTE INHABILITADO","PEREZ DELIS","PEREZ DELIS"," ","PEREZ DELIS","ZONA IND TERRINCA GALPON 6-B","GUATIRE EDO MIRANDA"," ","0212-344.46.22"," "," ","GUATIRE"," "," "," ","CAMBIO A LA ZONA 09 10/12/19 YM","PEREZ DELIS"," "," ","PEREZ DELIS","ZONA IND. TERRINCA GALPON 6-B","GUATIRE EDO MIRANDA"," "," ","0212-344.46.22"," ","AYUDANTE CHOFER"," ",null,"V-00692788-2","PARTICULAR","0","No","00","CONTADO","70","PERSONAL EMPLEADO","07","25","EMPLEADOS","10","PROLICOR,C.A","10","PROLICOR,C.A","09","09","09 - CLIENTE INHABILITADO","AYUDANTE CHOFER  "]
["V6927883","09 - CLIENTE INHABILITADO","PEREZ WILMAN","PEREZ WILMAN"," ","PEREZ WILMAN","ZONA IND TERRINCA GALPON 6-B","GUATIRE EDO MIRANDA"," ","0212-344.46.22"," "," ","GUATIRE"," "," "," ","CAMBIO A LA ZONA 09 10/12/19 YM","PEREZ WILMAN"," "," ","PEREZ WILMAN","ZONA IND TERRINCA GALPON 6-B","GUATIRE EDO MIRANDA"," "," ","0212-344.46.22"," ","CHOFER"," ",null,"V-00692788-3","PARTICULAR","0","No","00","CONTADO","70","PERSONAL EMPLEADO","07","25","EMPLEADOS","10","PROLICOR,C.A","10","PROLICOR,C.A","09","09","09 - CLIENTE INHABILITADO","CHOFER  "]
["V6927912","09 - CLIENTE INHABILITADO","CESAR MENDEZ","CESAR MENDEZ"," ","CESAR MENDEZ","ZONA INDUSTRIAL TERRINCA. GALPON","6-A. GUATIRE EDO MIRANDA"," ","0212-344.46.22"," "," ","GUATIRE"," "," "," ","CAMBIO A LA ZONA 09 10/12/19 YM","CESAR MENDEZ"," "," ","CESAR MENDEZ","ZONA INDUSTRIAL TERRINCA. GALPON","6-A. GUATIRE EDO MIRANDA"," "," ","(0212)344.46.22"," ","DESPACHADOR"," ",null,"V-0692791-2","PARTICULAR","0","No","00","CONTADO","70","PERSONAL EMPLEADO","07","25","EMPLEADOS","10","PROLICOR,C.A","10","PROLICOR,C.A","09","09","09 - CLIENTE INHABILITADO","DESPACHADOR  "]
["V6931392","71 - OFICINA","ROSA MARIÑO","ROSA MARIÑO","16/07/16","ROSA MARIÑO","CALLE 10 CON CALLE 11 LA URBINA","EDF. PLASENCIA"," ","(0212) 2421111(6981)"," "," ","CARACAS"," "," "," "," ","ROSA MARIÑO"," "," ","ROSA MARIÑO","CALLE 10 CON CALLE 11 LA URBINA","EDF. PLASENCIA"," "," ","(0212)2421111 (6981)"," "," "," ",null,"V-00693139-2","PARTICULAR","2200","No","05","CREDITO 5 DIAS","71","OFICINA","08","33","RELACIONADOS","00","ESTANDAR","00","ESTANDAR","71","71","71 - OFICINA","   "]
["V6969633","70 - COMPRA/PERSONAL","CAROLINA QUIÑONES","CAROLINA QUIÑONES"," ","CAROLINA QUIÑONES","ZONA INDUSTRIAL TERRINCA GALPON Nº","6-A, GUATIRE MCPIO. AUTONOMO ZAMORA","ESTADO MIRANDA","0212-242.11.11"," "," ","CARACAS"," "," "," "," ","CAROLINA QUIÑONES"," "," ","CAROLINA QUIÑONES","LA URBINA CALLE 10 CON 11 EDIF","PLASENCIA"," "," ","02122421111"," "," "," ",null,"V-006969633"," ","1","No","00","CONTADO","70","PERSONAL EMPLEADO","09","25","EMPLEADOS","01","OFF PREMISSE","01","OFF PREMISSE","70","70","70 - EMPLEADOS","   "]
["V6976114","70 - COMPRA/PERSONAL","GUSTAVO LOZADA","GUSTAVO LOZADA"," ","GUSTAVO LOZADA","CALLE 10 CON ESQUINA CALLE 11 EDIF.","PLASENCIA. LA URBINA"," ","0212-242.11.11"," "," ","CARACAS"," "," "," "," ","GUSTAVO LOZADA"," "," ","GUSTAVO LOZADA","CALLE 10 CON ESQUINA CALLE 11 EDIF.","PLASENCIA. LA URBINA"," "," ","(0212) 242-11-11"," ","GERENTE CORPORATIVO DE","TESORERIA","CONTADO","V-00697611-4","PARTICULAR","1","No","00","CONTADO","70","PERSONAL EMPLEADO","07","25","EMPLEADOS","10","PROLICOR,C.A","10","PROLICOR,C.A"," ","70","70 - EMPLEADOS","GERENTE CORPORATIVO DE TESORERIA"]
["V6976226","71 - OFICINA","ADELINA AROCHA","ADELINA AROCHA"," ","ADELINA AROCHA","AV PPAL SANTA ROSA DE LIMA, CENTRO","INTEGRAL SANTA ROSA OFC 107 PRADOS","DEL ESTE, CARACAS","04143728000"," "," ","CARACAS"," "," "," "," ","ADELINA AROCHA URBIN"," "," ","ADELINA AROCHA","AV PPAL SANTA ROSA DE LIMA, CENTRO","INTEGRAL SANTA ROSA OFC 107 PRADOS","DEL ESTE, CARACAS"," ","04143728000"," "," "," ",null,"V-0697622-6","PARTICULAR","2200","No","05","CREDITO 5 DIAS","71","OFICINA","07","31","PARTICULAR","00","ESTANDAR","00","ESTANDAR","71","71","71 - OFICINA","   "]
["V7067456","36  CLIENT-CORPORAT-OFIC.","JORGE CASTRO","JORGE CASTRO"," ","JORGE CASTRO","CALLE 10 CON ESQUINA CALLE 11 EDIF.","PLASENCIA. LA URBINA"," ","(0212) 99237.58"," "," ","CARACAS"," "," "," "," ","JORGE CASTRO","CI 7067456"," ","JORGE CASTRO","CALLE 10 CON ESQUINA CALLE 11 EDIF.","PLASENCIA. LA URBINA"," "," ","(0212) 99237.58"," "," "," ",null,"V-07067456-0"," ","89250","No","05","CREDITO 5 DIAS","71","OFICINA","08","32","RELACIONADOS (PRECIO ESP)","01","OFF PREMISSE","01","OFF PREMISSE"," ","36","71 - OFICINA","   "]
["V7142059","09 - CLIENTE INHABILITADO","CORDERO DIAZ, ALEXANDER OSWALDO","CORDERO DIAZ, ALEXANDER OSWALDO"," ","CORDERO DIAZ, ALEXANDER OSWALDO","ZONA INDUSTRIAL TERRINCA GALPON Nº","6-A, GUATIRE ESTADO MIRANDA"," ","0212-242.11.11"," "," ","CARACAS"," "," "," ","CAMBIO A LA ZONA 09 10/12/19 YM","CORDERO DIAZ","ALEXANDER OSWALDO"," ","CORDERO DIAZ, ALEXANDER OSWALDO","CALLE 10 CON ESQUINA CALLE 11 EDIF.","PLASENCIA, LA URBINA ESTADO MIRANDA"," "," ","(0212)242.11.11"," ","GERENTE CORPORATIVO","SISTEMAS",null,"V-0007142059","PARTICULAR","0","No","00","CONTADO","70","PERSONAL EMPLEADO","07","25","EMPLEADOS","10","PROLICOR,C.A","10","PROLICOR,C.A","09","09","09 - CLIENTE INHABILITADO","GERENTE CORPORATIVO SISTEMAS"]
["V7312300","70 - COMPRA/PERSONAL","DORES FERNANDEZ MANUEL","DORES FERNANDEZ MANUEL"," ","DORES FERNANDEZ MANUEL","ZONA INDUSTRIAL TERRINCA, GALPON Nº","6-A, GUATIRE ESTADO MIRANDA"," ","0212-344.46.22"," "," ","GUATIRE"," "," "," "," ","DORES FERNANDEZ","MANUEL"," ","DORES FERNANDEZ MANUEL","ZONA INDUSTRIAL TERRINCA GALPON Nº","6-A, GUATIRE ESTADO MIRANDA"," "," ","(0212)344.46.22"," ","ASISTENTE DE DEPARTAMENTO"," ",null,"V-0007312300","PARTICULAR","1","No","00","CONTADO","70","PERSONAL EMPLEADO","07","25","EMPLEADOS","10","PROLICOR,C.A","10","PROLICOR,C.A"," ","70","70 - EMPLEADOS","ASISTENTE DE DEPARTAMENTO  "]
["V7659867","36  CLIENT-CORPORAT-OFIC.","TITO HERNANDEZ","TITO HERNANDEZ"," ","TITO HERNANDEZ","CALLE 10 CON ESQUINA CALLE 11, EDF.","PLASENCIA, P.B., LA URBINA"," "," "," "," ","CARACAS"," "," "," "," ","TITO HERNANDEZ"," "," ","TITO HERNANDEZ","CALLE 10 CON ESQUINA CALLE 11, EDF.","PLASENCIA, P.B., LA URBINA"," "," "," "," ","DESPACHAR EL VIERNES EN","PROLICOR LA CASTELLANA","CONTADO","V-0765987-0","PARTICULAR","89250","No","05","CREDITO 5 DIAS","71","OFICINA","07","32","RELACIONADOS (PRECIO ESP)","00","ESTANDAR","00","ESTANDAR","36","36","71 - OFICINA","DESPACHAR EL VIERNES EN PROLICOR LA CASTELLANA"]
["V7923449","31 - RODRIGUEZ WLADIMIR","NICOLAS ANTONIO GARCIA DIAZ","NICOLAS ANTONIO GARCIA DIAZ"," ","NICOLAS ANTONIO GARCIA DIAZ","RESIDENCIAS ANDOR. TORRE A. PISO 12","APTO 122-A. LA CANDELARIA"," ","0416 - 2186979"," "," ","CARACAS"," "," "," "," ","NICOLAS ANTONIO"," GARCIA"," ","NICOLAS ANTONIO GARCIA DIAZ","RESIDENCIAS ANDOR. TORRE A. PISO 12","APTO 122-A. LA CANDELARIA"," "," ","0416 - 2186979"," ","TRASP.AL 03 SUP.CARLOS DA","SILVA S/SOLIC. 24-01-2011",null,"V-0792344-9","PARTICULAR","89250","No","05","CREDITO 5 DIAS","33","CENTRO-CANDELARIA","07","31","PARTICULAR","02","ON PREMISSE","02","ON PREMISSE"," ","31"," ","TRASP.AL 03 SUP.CARLOS DA SILVA S/SOLIC. 24-01-2011"]
["V7949007","70 - COMPRA/PERSONAL","PIERINA PEREZ","PIERINA PEREZ"," ","PIERINA PEREZ","ZONA IND. TERRINCA GALPON 6-A","GUATIRE EDO MIRANDA"," ","0212-242.11.11"," "," ","CARACAS"," "," "," "," ","PIERINA PEREZ"," "," ","PIERINA PEREZ","CALLE 10 CON CALLE 11 EDF","PLASENCIA LA URBINA EDO MIRANDA"," "," ","0212-242.11.11"," "," "," ",null,"V-00794900-7","PARTICULAR","1","No","00","CONTADO","70","PERSONAL EMPLEADO","07","25","EMPLEADOS","10","PROLICOR,C.A","10","PROLICOR,C.A"," ","70","70 - EMPLEADOS","   "]
["V7952259","09 - CLIENTE INHABILITADO","WILLIAM RIVAS","WILLIAM RIVAS"," ","WILLIAM RIVAS","CALLE 10 CON ESQ CALLE 11 EDF","PLASENCIA LA URBINA EDO MIRANDA"," ","0212-242.11.11"," "," ","CARACAS"," "," "," ","CAMBIO A LA ZONA 09 10/12/19 YM","WILLIAM RIVAS"," "," ","WILLIAM RIVAS","CALLE 10 CON ESQUINA CALLE 11 EDIF.","PLASENCIA, LA URBINA EDO. MIRANDA"," "," ","0212.242.11.11"," ","MOTORIZADO IMPUESTOS"," ",null,"V-00795225-9","PARTICULAR","0","No","00","CONTADO","70","PERSONAL EMPLEADO","07","25","EMPLEADOS","10","PROLICOR,C.A","10","PROLICOR,C.A","09","09","09 - CLIENTE INHABILITADO","MOTORIZADO IMPUESTOS  "]
["V795582521","02 - REQUENA JOHAN - OFF","LICORERIA EL BRINCO","LICORERIA EL BRINCO"," ","LICORERIA EL BRINCO","CALLE REAL DE LOS MAGALLANES DE CAT","IAMNCP.LIBERTADOR-CARACAS-EDO.DTTO.","FEDERAL"," "," "," ","CARACAS"," "," "," "," ","ANTONIO RODRIGUEZ BR","INCO"," ","LICORERIA EL BRINCO","CALLE REAL DE LOS MAGALLANES DE CAT","IAMNCP.LIBERTADOR-CARACAS-EDO.DTTO.","FEDERAL"," "," "," "," "," ",null,"V-79558252-1","M-N 4625","89250","No","05","CREDITO 5 DIAS","22","CATIA-JUNQUITO","05","18","LICORERIAS/BODEGONES","01","OFF PREMISSE","01","OFF PREMISSE"," ","02"," ","   "]
["V81104615","09 - CLIENTE INHABILITADO","JOSE MANUEL MON","JOSE MANUEL MON"," ","JOSE MANUEL MON","CALLE 10 CON ESQUINA CALLE 11 EDIF.","PLASENCIA. LA URBINA"," ","0212-242.11.11"," "," ","CARACAS"," "," "," ","CAMBIO A LA ZONA 09 10/12/19 YM","JOSE MANUEL MON"," "," ","JOSE MANUEL MON","CALLE 10 CON ESQUINA CALLE 11 EDIF.","PLASENCIA. LA URBINA"," "," ","(0212) 242-11-11"," ","ASESOR ESCOCESES"," ",null,"V-08110461-5"," ","0","No","00","CONTADO","70","PERSONAL EMPLEADO","07","25","EMPLEADOS","10","PROLICOR,C.A","10","PROLICOR,C.A","09","09","09 - CLIENTE INHABILITADO","ASESOR ESCOCESES  "]
["V8155812","09 - CLIENTE INHABILITADO","MOSQUEDA ALEXIS","MOSQUEDA ALEXIS"," ","MOSQUEDA ALEXIS","ZONA IND. TERRINCA GALPON 6-B","GUATIRE EDO MIRANDA"," ","0212-344.46.22"," "," ","GUATIRE"," "," "," ","CAMBIO A LA ZONA 09 10/12/19 YM","MOSQUEDA ALEXIS"," "," ","MOSQUEDA ALEXIS","ZONA IND TERRINCA GALPON 6-B","GUATIRE EDO MIRANDA"," "," ","0212-344.46.22"," ","AYUDANTE DE CHOFER"," ",null,"V-00815581-2","PARTICULAR","0","No","00","CONTADO","70","PERSONAL EMPLEADO","07","25","EMPLEADOS","10","PROLICOR,C.A","10","PROLICOR,C.A","09","09","09 - CLIENTE INHABILITADO","AYUDANTE DE CHOFER  "]
["V81658670","36  CLIENT-CORPORAT-OFIC.","MARIA TERESA CALLEJOS","MARIA TERESA CALLEJOS","0212636038","MARIA TERESA CALLEJOS","AV. PRINCIPAL LA CASTELLANA,","QUINTA MORALVA N°58","ENTRE 1RA. Y 2DA. TRANSVERSAL","0212 266.17.19","04143911636"," ","CARACAS"," "," "," "," ","MARIA TERESA CALLEJO"," "," ","MARIA TERESA CALLEJOS","AV. PRINCIPAL LA CASTELLANA,","QUINTA MORALVA N°58","ENTRE 1RA. Y 2DA. TRANSVERSAL","CARACAS","0212 266.17.19","0212-2636038"," "," ",null,"V-81658670-0","PARTICULAR","89250","No","05","CREDITO 5 DIAS","36","VTAS.CORPORATIVAS","07","31","PARTICULAR","00","ESTANDAR","00","ESTANDAR"," ","36","71 - OFICINA","   "]
["V81719631","71 - OFICINA","RICARDO FAJULA","RICARDO FAJULA"," ","RICARDO FAJULA","CALLE 10 CON ESQUINA CALLE 11","EDIFICIO PLASENCIA LA URBINA","EDO-MIRANDA","(0212)242.11.11"," "," ","CARACAS"," "," "," "," ","RICARDO FAJULA"," "," ","RICARDO FAJULA","CALLE CON ESQUINA CALLE 11, EDIF.","PLASENCIA P.B. LA URBINA EDO.","MIRANDA"," ","0212.242.11.11"," "," "," ",null,"V-08171963-1","PARTICULAR","15000","No","05","CREDITO 5 DIAS","71","OFICINA","07","31","PARTICULAR","10","PROLICOR,C.A","10","PROLICOR,C.A"," ","71","71 - OFICINA","   "]
["V82093227","70 - COMPRA/PERSONAL","FERNANDEZ CLAUDIO","FERNANDEZ CLAUDIO"," ","FERNANDEZ CLAUDIO","CALLE 10 CON CALLE 11 EDF","PLASENCIA LA URBINA EDO MIRANDA"," ","0212-242.11.11"," "," ","CARACAS"," "," "," "," ","FERNANDEZ CLAUDIO"," "," ","FERNANDEZ CLAUDIO","CALLE 10 CON ESQ CALLE 11 EDF","PLASENCIA LA URBINA EDO MIRANDA"," "," ","0212-242.11.11"," ","VENDEDOR"," ",null,"J-08209322-7","PARTICULAR","1","No","00","CONTADO","70","PERSONAL EMPLEADO","07","25","EMPLEADOS","10","PROLICOR,C.A","10","PROLICOR,C.A"," ","70","70 - EMPLEADOS","VENDEDOR  "]
["V8526292","71 - OFICINA","GLENNE CAMACHO","GLENNE CAMACHO"," ","GLENNE CAMACHO","URB EL MARQUEZ CALLE AMACURO","CON PARAMACONI PISO 1 APTO 11","CARACAS"," "," "," ","CARACAS"," "," "," "," ","GLENNE CAMACHO"," "," ","GLENNE CAMACHO","CALLE 10 CON ESQUINA CALLE 11","EDIF PLASENCIA LA URBINA CARACAS"," "," ","212 2421111"," "," "," ",null,"V-00852629-2","PARTICULAR","2200","No","00","CONTADO","71","OFICINA","06","31","PARTICULAR","00","ESTANDAR","00","ESTANDAR"," ","71","71 - OFICINA","   "]
["V8639106","09 - CLIENTE INHABILITADO","DIMAS JESUS ARMANDO","DIMAS JESUS ARMANDO"," ","DIMAS JESUS ARMANDO","ZONA INDUSTRIAL TERRINCA GALPON Nº","6-A, GUATIRE MCIPO. ZAMORA. EDO.","MIRANDA","0212-344.46.22"," "," ","GUATIRE"," "," "," ","CAMBIO A LA ZONA 09 10/12/19 YM","DIMAS JESUS ARMANDO"," "," ","DIMAS JESUS ARMANDO","ZONA INDUSTRIAL TERRINCA GALPON Nº","6-A, GUATIRE MCPIO. ZAMORA EDO.","MIRANDA"," ","(0212)344.46.22"," ","INV. TABUGAULA, C.A.","AYUDANTE DE CHOFER",null,"V-0008639106","PARTICULAR","0","No","00","CONTADO","70","PERSONAL EMPLEADO","07","25","EMPLEADOS","10","PROLICOR,C.A","10","PROLICOR,C.A","09","09","09 - CLIENTE INHABILITADO","INV. TABUGAULA, C.A. AYUDANTE DE CHOFER"]
["V8678291","36  CLIENT-CORPORAT-OFIC.","LUIS ALFREDO CANELON","LUIS ALFREDO CANELON"," ","LUIS ALFREDO CANELON","ZONA INDUSTRIAL TERRINCA GALPON 6-A","GUATIRE-MNCP.AUTONOMO ZAMORA-EDO.","MIRANDA","0212 -242.11.11"," "," ","CARACAS"," "," "," "," ","LUIS ALFREDO CANELON"," "," ","LUIS ALFREDO CANELON","CALLE 10 CON CALLE 11. EDIF","PLASENCIA. LA URBINA"," "," ","0212 - 2421111"," "," "," ",null,"V-0867829-1","PARTICULAR","89250","No","05","CREDITO 5 DIAS","71","OFICINA","07","32","RELACIONADOS (PRECIO ESP)","01","OFF PREMISSE","01","OFF PREMISSE"," ","36","71 - OFICINA","   "]
["V8751734","70 - COMPRA/PERSONAL","CARABALLO NELSON","CARABALLO NELSON"," ","CARABALLO NELSON","ZONA IND. TERRINCA, GALPÓN 6-B","GUATIRE EDO MIRANDA"," ","0212-344.46.22"," "," ","GUATIRE"," "," "," "," ","CARABALLO NELSON"," "," ","CARABALLO NELSON","ZONA IND. TERRINCA, GALPÓN 6-B","GUATIRE EDO-MIRANDA"," "," ","0212-344.46.22"," ","VENDEDOR"," ",null,"V-00875173-4","PARTICULAR","1","No","00","CONTADO","70","PERSONAL EMPLEADO","07","25","EMPLEADOS","10","PROLICOR,C.A","10","PROLICOR,C.A"," ","70","70 - EMPLEADOS","VENDEDOR  "]
["V8754635","09 - CLIENTE INHABILITADO","MANUEL GOMEZ MENDEZ","MANUEL GOMEZ MENDEZ"," ","MANUEL GOMEZ MENDEZ","CALLE 10 CON ESQUINA CALLE 11 EDIF.","PLASENCIA. LA URBINA"," ","0212-242.11.11"," "," ","CARACAS"," "," "," ","CAMBIO A LA ZONA 09 10/12/19 YM","MANUEL GOMEZ"," "," ","MANUEL GOMEZ MENDEZ","CALLE 10 CON ESQUINA CALLE 11 EDIF.","PLASENCIA. LA URBINA EDO. MIRANDA"," "," ","(0212) 242-11-11"," ","LOGISTICA ALMACEN"," ",null,"V-00875463-5","PARTICULAR","0","No","00","CONTADO","70","PERSONAL EMPLEADO","07","25","EMPLEADOS","10","PROLICOR,C.A","10","PROLICOR,C.A","09","09","09 - CLIENTE INHABILITADO","LOGISTICA ALMACEN  "]
["V8755216","36  CLIENT-CORPORAT-OFIC.","JAIRO FERNANDEZ DALO","JAIRO FERNANDEZ DALO"," ","JAIRO FERNANDEZ DALO","CALLE BOLIVAR Y ANZOATEGUI, EDIFIC.","PACAIRIGUA, PISO 2, OFICINA 2-3","GUATIRE EDO. MIRANDA","(0414) 912-52-78","(0412) 912-52-78"," ","GUATIRE"," "," "," "," ","JAIRO FERNANDEZ DALO"," "," ","JAIRO FERNANDEZ DALO","CALLE BOLIVAR Y ANZOATEGUI, EDIFIC.","PACAIRIGUA, PISO 2, OFICINA 2-3","GUATIRE EDO. MIRANDA"," ","(0414) 241-59-49","(0412) 241-59-49"," "," ","CONTADO","V-00875521-6","PARTICULAR","89250","No","05","CREDITO 5 DIAS","71","OFICINA","08","32","RELACIONADOS (PRECIO ESP)","00","ESTANDAR","00","ESTANDAR"," ","36","71 - OFICINA","   "]
["V8756374","09 - CLIENTE INHABILITADO","CARMEN GUIA","CARMEN GUIA"," ","CARMEN GUIA","CALLE 10 CON ESQUINA CALLE 11 EDIF.","PLASENCIA. LA URBINA"," ","0212-242.11.11"," "," ","CARACAS"," "," "," ","CAMBIO A LA ZONA 09 10/12/19 YM","CARMEN GUIA"," "," ","CARMEN GUIA","CALLE 10 CON ESQUINA CALLE 11 EDIF.","PLASENCIA. LA URBINA"," "," ","(0212) 242-11-11"," ","GERENTE PROLICOR PLAZA"," ",null,"V-00875637-4","PARTICULAR","0","No","00","CONTADO","70","PERSONAL EMPLEADO","07","25","EMPLEADOS","10","PROLICOR,C.A","10","PROLICOR,C.A","09","09","09 - CLIENTE INHABILITADO","GERENTE PROLICOR PLAZA  "]
["V8759217","71 - OFICINA","LUCILINA DE ABREU","LUCILINA DE ABREU"," ","LUCILINA DE ABREU","CALLE 10 CON ESQUINA CALLE 11","EDIFICIO PLASENCIA LA URBINA","EDO-MIRANDA","(0212)2421111"," "," ","CARACAS"," "," "," "," ","LUCILINA DE ABREU"," "," ","LUCILINA DE ABREU","CALLE 10 CON ESQUINA CALLE 11","EDIFICIO PLASENCIA LA URBINA","EDO-MIRANDA"," ","(0212) 2421111"," ","DESPACHAR EN LA OFICINA"," ",null,"V-0008759217","PARTICULAR","15000","No","00","CONTADO","71","OFICINA","01","25","EMPLEADOS","01","OFF PREMISSE","01","OFF PREMISSE"," ","71","71 - OFICINA","DESPACHAR EN LA OFICINA  "]
["V87592177","71 - OFICINA","ANDRES FERNANDEZ","ANDRES FERNANDEZ"," ","ANDRES FERNANDEZ","CARACAS"," "," ","(0212)2421111"," "," ","CARACAS"," "," ","BLOQ. CLIENTE DOBLE.","V17710880 CORRECTO GA 22/11/2018","JUAN CARLOS ABREU"," "," ","ANDRES FERNANDEZ","CARACAS"," "," "," "," "," ","DESPACHAR EN LA OFICINA","SR. JUAN CARLOS ABREU",null,"V87592177","PARTICULAR","0","Sí","00","CONTADO","71","OFICINA","07","31","PARTICULAR","01","OFF PREMISSE","01","OFF PREMISSE"," ","71","71 - OFICINA","DESPACHAR EN LA OFICINA SR. JUAN CARLOS ABREU"]
["V8762738","36  CLIENT-CORPORAT-OFIC.","RODRIGO NAVARRO","RODRIGO NAVARRO"," ","RODRIGO NAVARRO","CALLE 10 CON ESQUINA CALLE 11, EDF.","PLASENCIA, P.B., LA URBINA"," "," "," "," ","CARACAS"," "," "," "," ","RODRIGO NAVARRO"," "," ","RODRIGO NAVARRO","CALLE 10 CON ESQUINA CALLE 11, EDF.","PLASENCIA, P.B., LA URBINA"," "," "," "," ","DESPACHAR EN PROLICOR","TRAPICHITO (GUARENAS)","CONTADO","V-8762738-0","PARTICULAR","89250","No","05","CREDITO 5 DIAS","71","OFICINA","07","31","PARTICULAR","00","ESTANDAR","00","ESTANDAR"," ","36","71 - OFICINA","DESPACHAR EN PROLICOR TRAPICHITO (GUARENAS)"]
["V8764247","70 - COMPRA/PERSONAL","DALMAGRO GONZALEZ, YAMILKA MARTINA","DALMAGRO GONZALEZ, YAMILKA MARTINA"," ","DALMAGRO GONZALEZ, YAMILKA MARTINA","ZONA INDUSTRIAL TERRINCA, GALPON Nº","6-A, GUATIRE MCPIO. ZAMORA EDO.","MIRANDA","0212-242.11.11"," "," ","CARACAS"," "," "," "," ","DALMAGRO GONZALEZ","YAMILKA MARTINA"," ","DALMAGRO GONZALEZ, YAMILKA MARTINA","CALLE 10 CON ESQUINA CALLE 11 EDIF.","PLASENCIA, LA URBINA. EDO. MIRANDA"," "," ","(0212)242.11.11"," ","DPTO. CONTABILIDAD"," ",null,"V-0008764247","PARTICULAR","1","No","00","CONTADO","70","PERSONAL EMPLEADO","07","25","EMPLEADOS","10","PROLICOR,C.A","10","PROLICOR,C.A"," ","70","70 - EMPLEADOS","DPTO. CONTABILIDAD  "]
["V889560","71 - OFICINA","MARIA ELENA PALACIOS","MARIA ELENA PALACIOS"," ","MARIA ELENA PALACIOS","CALLE 10 CON 11 EDIFICIO","PLASENCIA LA URBINA"," ","0212/2421111"," "," ","CARACAS"," "," "," "," ","MARIA ELENA PALACIOS"," "," ","MARIA ELENA PALACIOS","CALLE 10 CON ESQUINA CALLE 11, EDIF","PLASENCIA - LA URBINA"," "," ","2421111"," ","NO FACTURAR YA CREADA","EN LA ZONA 70",null,"V- 688956-0","PARTICULAR","7500","Sí","00","CONTADO","71","OFICINA","07","31","PARTICULAR","01","OFF PREMISSE","01","OFF PREMISSE"," ","71","71 - OFICINA","NO FACTURAR YA CREADA EN LA ZONA 70"]
["V9094921","36  CLIENT-CORPORAT-OFIC.","DOUGLAS HERNANDEZ","DOUGLAS HERNANDEZ"," ","DOUGLAS HERNANDEZ","AVDA. LA ESTANCIA, CENTRO BANAVEN","(CUBO NEGRO), TORRE D, PISO 2, OFIC","D-22, CHUAO","(04142) 248-51-04"," "," ","CARACAS"," "," "," "," ","DOUGLAS HERNANDEZ"," "," ","DOUGLAS HERNANDEZ","AVDA. LA ESTANCIA, CENTRO BANAVEN","(CUBO NEGRO), TORRE D, PISO 2, OFIC","D-22, CHUAO"," ","(0412) 248-51-04"," "," "," ",null,"V-00909492-1","PARTICULAR","89250","No","05","CREDITO 5 DIAS","71","OFICINA","08","32","RELACIONADOS (PRECIO ESP)","00","ESTANDAR","00","ESTANDAR","36","36","71 - OFICINA","   "]
["V9095734","70 - COMPRA/PERSONAL","VELANDIA REBECA","VELANDIA REBECA"," ","VELANDIA REBECA","CALLE 10 CON CALLE 11 EDF","PLASENCIA LA URBINA EDO MIRANDA"," ","0212-242.11.11"," "," ","CARACAS"," "," "," "," ","REBACA VELANDIA"," "," ","VELANDIA REBECA","CALLE 10 CON CALLE 11 EDF","PLASENCIA LA URBINA EDO","MIRANDA"," ","0212-242.11.11"," "," "," ",null,"J-00909573-4","PARTICULAR","1","No","00","CONTADO","70","PERSONAL EMPLEADO","07","25","EMPLEADOS","10","PROLICOR,C.A","10","PROLICOR,C.A"," ","70","70 - EMPLEADOS","   "]
["V9119193","09 - CLIENTE INHABILITADO","CARLOS FERNANDEZ","CARLOS FERNANDEZ"," ","CARLOS FERNANDEZ","ZONA IND. TERRINCA, GALPÓN 6-A","GUATIRE EDO. MIRANDA"," ","0212-344.46.22"," "," "," "," "," "," ","CAMBIO A LA ZONA 09 10/12/19 YM","CARLOS FERNANDEZ"," "," ","CARLOS FERNANDEZ","ZONA IND. TERRINCA, GALPÓN 6-A","GUATIRE EDO MIRANDA"," "," ","0212-344.46.22"," "," "," ",null,"V-00911919-3","PARTICULAR","0","No","00","CONTADO","70","PERSONAL EMPLEADO","07","25","EMPLEADOS","10","PROLICOR,C.A","10","PROLICOR,C.A","09","09","09 - CLIENTE INHABILITADO","   "]
["V9137841","36  CLIENT-CORPORAT-OFIC.","IVANHOE ACERO","IVANHOE ACERO"," ","IVANHOE ACERO","CALLE 10 CON ESQUINA CALLE 11 EDIF.","PLASENCIA. LA URBINA"," ","(0212) 242-11-11"," "," ","CARACAS"," "," "," "," ","IVANHOE ACERO","CI 9137841"," ","IVANHOE ACERO","CALLE 10 CON ESQUINA CALLE 11 EDIF.","PLASENCIA. LA URBINA"," "," ","(0212) 242-11-11"," "," "," ",null,"V-0913784-1"," ","89250","No","05","CREDITO 5 DIAS","71","OFICINA","08","32","RELACIONADOS (PRECIO ESP)","10","PROLICOR,C.A","10","PROLICOR,C.A","36","36","71 - OFICINA","   "]
["V9343364","70 - COMPRA/PERSONAL","IVAN DUQUE","IVAN DUQUE"," ","IVAN DUQUE","CALLE 10 CON CALLE 11 EDF PLACENSIA","LA URBINA"," "," ","18-12-19"," ","LA URBINA"," "," "," "," ","IVAN DUQUE"," "," ","IVAN DUQUE","CALLE 10 CON CALLE 11 EDF PLACENSIA","LA URBINA"," "," "," "," ","REIBE DE LUNES A VIERNES","EN HORARIO DE OFICINA","CONTADO","V-0934336-4"," ","7500","No","00","CONTADO","70","PERSONAL EMPLEADO","09","25","EMPLEADOS","01","OFF PREMISSE","01","OFF PREMISSE","70","70","70 - EMPLEADOS","REIBE DE LUNES A VIERNES EN HORARIO DE OFICINA"]
["V9410348","70 - COMPRA/PERSONAL","GAVIDIA EMILIO ANTONIO","GAVIDIA EMILIO ANTONIO"," ","GAVIDIA EMILIO ANTONIO","CALLE 10 CON ESQ CALLE 11 EDF","PLASENCIA LA URBINA EDO MIRANDA"," ","0212-242.11.11"," "," ","CARACAS"," "," "," "," ","GAVIDIA EMILIO ANTON"," "," ","GAVIDIA EMILIO ANTONIO","CALLE 10 CON ESQ CALLE 11 EDF","PLASENCIA LA URBINA EDO MIRANDA"," "," ","0212-242.11.11"," ","COORDINADOR DE DESARROLLO","DE SISTEMA",null,"V-0941034-8","PARTICULAR","1","No","00","CONTADO","70","PERSONAL EMPLEADO","07","25","EMPLEADOS","10","PROLICOR,C.A","10","PROLICOR,C.A"," ","70","70 - EMPLEADOS","COORDINADOR DE DESARROLLO DE SISTEMA"]
["V947770","71 - OFICINA","FLORENTINO CATANHO","FLORENTINO CATANHO"," ","FLORENTINO CATANHO","CALLE 10 CON 11 EDIFICIO PLASENCIA","LA URBINA"," ","0212/2421111"," "," ","CARACAS"," "," "," "," ","EDSON CATANHO"," "," ","FLORENTINO CATANHO","CALLE 10 CON 11 EDIFICIO PLASENCIA","LA URBINA"," "," ","0212 242 11 11"," ","DIRECTOR DE FRANQUICIAS"," ",null,"V-0094777-0","PARTICULAR","15000","No","00","CONTADO","70","PERSONAL EMPLEADO","07","25","EMPLEADOS","19","SUCU-PROLI-CO-DISTR CILCA","19","SUCU-PROLI-CO-DISTR CILCA"," ","71","71 - OFICINA","DIRECTOR DE FRANQUICIAS  "]
["V9484664","09 - CLIENTE INHABILITADO","GODOY JOSE LUIS","GODOY JOSE LUIS"," ","GODOY JOSE LUIS","CALLE 10 CON ESQUINA CALLE EDIF","PLASENCIA LA URBINA EDO MIRANDA"," ","0212-242.11.11"," "," ","CARACAS"," "," "," ","CAMBIO A LA ZONA 09 10/12/19 YM","LUIS GODOY"," "," ","GODOY JOSE LUIS","CALLE 10 CON ESQUINA CALLE EDFI","PLASENCIA LA URBINA EDO MIRANDA"," "," ","0212-242.11.11"," "," "," ",null,"V-00948466-4","PARTICULAR","0","No","00","CONTADO","70","PERSONAL EMPLEADO","07","25","EMPLEADOS","10","PROLICOR,C.A","10","PROLICOR,C.A","09","09","09 - CLIENTE INHABILITADO","   "]
["V9485564","70 - COMPRA/PERSONAL","JOSE DANIEL HERNANDEZ","JOSE DANIEL HERNANDEZ"," ","JOSE DANIEL HERNANDEZ","ZONA INDUSTRIAL TERRINCA, GALPON Nº","6-A, GUATIRE EDO. MIRANDA"," ","0212-242.11.11"," "," ","CARACAS"," "," "," "," ","JOSE DANIEL","HERNANDEZ"," ","JOSE DANIEL HERNANDEZ","CALLE 10 CON ESQUINA CALLE 11, EDIF","PLASENCIA, LA URBINA. EDO. MIRANDA"," "," ","0212-242.11.11"," ","EJECUTIVO DE VENTAS"," ",null,"V-0009485564","PARTICULAR","7500","No","00","CONTADO","70","PERSONAL EMPLEADO","09","25","EMPLEADOS","10","PROLICOR,C.A","10","PROLICOR,C.A"," ","70","70 - EMPLEADOS",{"$f":"CONCATENATE(AB4738,\" \",AC4738)","v":"EJECUTIVO DE VENTAS  "}]
["V949226","09 - CLIENTE INHABILITADO","FERNANDES DE FREITAS, ALVARO","FERNANDES DE FREITAS, ALVARO"," ","FERNANDES DE FREITAS, ALVARO","ZONA INDUSTRIAL TERRINCA, GALPON","6-A., GUATIRE ESTADO MIRANDA"," ","0212-242.11.11"," "," ","CARACAS"," "," "," ","CAMBIO A LA ZONA 09 10/12/19 YM","FERNANDES DE FREITAS","ALVARO"," ","FERNANDES DE FREITAS, ALVARO","AGENCIA DE PROLICOR LA CASTELLANA"," "," "," ","(0212)242.11.11"," ","ENTREGAR EN LA AGENCIA LA","CASTELLANA GTE.ZONA VAC.",null,"V-0000949226","PARTICULAR","0","No","00","CONTADO","70","PERSONAL EMPLEADO","07","25","EMPLEADOS","10","PROLICOR,C.A","10","PROLICOR,C.A","09","09","09 - CLIENTE INHABILITADO","ENTREGAR EN LA AGENCIA LA CASTELLANA GTE.ZONA VAC."]
["V9642153","70 - COMPRA/PERSONAL","JORGE RAMIREZ","JORGE RAMIREZ"," ","JORGE RAMIREZ","ZONA INDUSTRIAL TERRINCA GALPON 6-A","GUATIRE-MNCP.AUTONOMO ZAMORA","EDO.MIRANDA","0212-242.11.11"," "," ","CARACAS"," "," "," "," ","JORGE RAMIREZ"," "," ","JORGE RAMIREZ","CALLE 10 CON ESQUINA CALLE 11 EDIFI","CIO PLASENCIA LA URBINA-EDO.MIRANDA"," "," ","(0212)242.11.11"," "," "," ",null,"V-0009642153","PARTICULAR","1","No","00","CONTADO","70","PERSONAL EMPLEADO","07","25","EMPLEADOS","10","PROLICOR,C.A","10","PROLICOR,C.A"," ","70","70 - EMPLEADOS","   "]
["V9798129","09 - CLIENTE INHABILITADO","ELIO DELGADO","ELIO DELGADO"," ","ELIO DELGADO","CALLE 10 CON ESQ CALLE 11 EDF","PLASENCIA LA URBINA EDO MIRANDA"," ","0212-242.11.11"," "," ","CARACAS"," "," "," ","CAMBIO A LA ZONA 09 10/12/19 YM","ELIO DELGADO"," "," ","ELIO DELGADO","CALLE 10 CON ESQ CALLE 11 EDF","PLASENCIA LA URBINA EDO MIRANDA"," "," ","02122421111"," ","AUDITOR DE CONTRALORIA"," ",null,"V-0979812-9","PARTICULAR","0","No","00","CONTADO","70","PERSONAL EMPLEADO","07","25","EMPLEADOS","10","PROLICOR,C.A","10","PROLICOR,C.A","09","09","09 - CLIENTE INHABILITADO","AUDITOR DE CONTRALORIA  "]
["V9881361","70 - COMPRA/PERSONAL","HERNANDEZ MARIA ISABEL","HERNANDEZ MARIA ISABEL"," ","HERNANDEZ MARIA ISABEL","ZONA INDUSTRIAL TERRINCA GALPON","6-A GUATIRE EDO MIRANDA"," ","0212-242.11.11"," "," ","CARACAS"," "," "," "," ","MARIA ISABEL HERNAND"," "," ","HERNANDEZ MARIA ISABEL","CALLE 10 CON CALLE 11 EDF","PLASENCIA LA URBINA EDO MIRANDA"," "," ","0212-242.11.11"," "," "," ",null,"V-00988136-1","PARTICULAR","1","No","00","CONTADO","70","PERSONAL EMPLEADO","07","25","EMPLEADOS","10","PROLICOR,C.A","10","PROLICOR,C.A"," ","70","70 - EMPLEADOS","   "]
["V9881365","70 - COMPRA/PERSONAL","HERNANDEZ MARIA ISABEL","HERNANDEZ MARIA ISABEL"," ","HERNANDEZ MARIA ISABEL","CALLE 10 CON ESQUINA CALLE 11 EDIF.","PLASENCIA. LA URBINA"," ","0212-242.11.11"," "," ","CARACAS"," "," "," "," ","HERNANDEZ MARIA","ISABEL"," ","HERNANDEZ MARIA ISABEL","CALLE 10 CON ESQUINA CALLE 11 EDIF.","PLASENCIA. LA URBINA."," "," ","(0212)242.11.11"," ","VENDEDOR"," ",null,"V-00988136-5","PARTICULAR","1","No","00","CONTADO","70","PERSONAL EMPLEADO","07","25","EMPLEADOS","10","PROLICOR,C.A","10","PROLICOR,C.A"," ","70","70 - EMPLEADOS","VENDEDOR  "]
["V9886139","70 - COMPRA/PERSONAL","AQUILES GOMEZ","AQUILES GOMEZ"," ","AQUILES GOMEZ","CALLE 10 CON 11 EDIFICIO PLASENCIA","LA URBINA"," ","0212-242.11.11"," "," ","CARACAS"," "," "," "," ","AQUILES GOMEZ"," "," ","AQUILES GOMEZ","CALLE 10 CON 11 EDIFICIO PLASENCIA","LA URBINA"," "," ","0212 - 2421111"," ","FUERZA DE VENTA"," ",null,"V-988613-9","PARTICULAR","1","No","00","CONTADO","70","PERSONAL EMPLEADO","07","25","EMPLEADOS","10","PROLICOR,C.A","10","PROLICOR,C.A"," ","70","70 - EMPLEADOS","FUERZA DE VENTA  "]
["V9900172","70 - COMPRA/PERSONAL","VICTOR REYES","VICTOR REYES"," ","VICTOR REYES","CALLE 10 CON ESQUINA CALLE 11 EDIF.","PLASENCIA. LA URBINA"," ","0212-242.11.11"," "," ","CARACAS"," "," "," "," ","VICTOR REYES"," "," ","VICTOR REYES","CALLE 10 CON ESQUINA CALLE 11 EDIF.","PLASENCIA. LA URBINA"," "," ","(0212) 242-11-11"," ","GERENTE DE VENTAS ON"," ",null,"V-00990017-2","PARTICULAR","1","Sí","00","CONTADO","70","PERSONAL EMPLEADO","07","25","EMPLEADOS","10","PROLICOR,C.A","10","PROLICOR,C.A"," ","70","70 - EMPLEADOS","GERENTE DE VENTAS ON  "]
["V9968093","71 - OFICINA","BENGOCHEA THEANIS KATHERINE","BENGOCHEA THEANIS KATHERINE"," ","BENGOCHEA THEANIS KATHERINE","URB TERRAZAS DEL AVILA","MUNICIPIO SUCRE","SUCRE - MIRANDA"," "," "," "," "," "," ","CAMBIO V-10 AL V-09 MYZ 06072021","CAMBIO V-09 AL V-71 MYZ 30-11-22","BENGOCHEA THEANIS"," "," ","BENGOCHEA THEANIS KATHERINE","URBANIZACION TERRAZAS DEL AVILA","MUNICPIO SUCRE","SUCRE MIRANDA"," ","02124211111"," "," "," ",null,"V9968093","PARTICULAR","15000","Sí","05","CREDITO 5 DIAS","10","ALTAMIRA-OFF","07","31","PARTICULAR","01","OFF PREMISSE","01","OFF PREMISSE","71","71","01 - CARLOS DA SILVA - OFF","   "]
["V9970297","09 - CLIENTE INHABILITADO","ERNESTO CASTILLO","ERNESTO CASTILLO"," ","ERNESTO CASTILLO","AVDA. FCO. DE MIRANDA CENTRO LIDO","TORRE B PISO 11 OFIC. 111-B","EL ROSAL - CHACAO","953-46-22 EXT. 222"," "," ","CARACAS"," "," "," ","CAMBIO Z - 31 A Z - 09 200919 GA","ERNESTO CASTILLO"," "," ","ERNESTO CASTILLO","AVDA. FCO. DE MIRANDA CENTRO LIDO","TORRE B PISO 11 OFIC. 111-B","EL ROSAL - CHACAO"," ","953-46-22 EXT. 222"," "," "," ",null,"V-00997029-7","PARTICULAR","15000","Sí","00","CONTADO","31","LA CASTELLANA","07","31","PARTICULAR","00","ESTANDAR","00","ESTANDAR","09","09","09 - CLIENTE INHABILITADO","   "]

{"sheet":"Lista de Precios_Bolívares_S","index":5,"n_rows":212,"n_cols":17,"rows_kept":212,"cut":false,"hidden":true,"merged":[[5,5,5,14],[7,5,7,14],[8,5,8,14],[1,5,3,14],[4,5,4,14],[6,5,6,14],[11,1,28,1],[7,3,7,4],[7,15,8,16],[9,1,10,1],[9,2,10,2],[9,3,9,4],[9,5,10,5],[9,6,10,6],[9,7,10,7],[9,8,10,8],[9,9,9,10],[9,12,9,14],[9,15,9,16],[128,1,131,1],[132,1,156,1],[157,1,178,1],[179,1,210,1],[49,1,75,1],[76,1,79,1],[80,1,98,1],[99,1,111,1],[112,1,127,1]]}
[null,null,null,5,6,null,null,null,null,null,3,10,6,7,8,9,3]
[null,null,null,null,null,"Lista de Precios Única"]
[]
[null,null,null,null,null,null,null,null,null,null,null,null,null,null,null,null,"Vigencia:"]
[null,null,null,null,null,"Bolívares Digitales Bs.",null,null,null,null,null,null,null,null,null,null,"2022-04-18"]
[null,null,null,null,null,"° Nuevos SKU a partir de 18/Abr/2022. Correo del 12/Abr/2022.",null,null,null,null,null,null,null,null,null,null,"Emisión:"]
[null,null,null,null,null,"*** Nuevos SKU a partir de 05/Abr/2022. Correo del 04/Abr/2022.",null,null,null,null,null,null,null,null,null,null,"2022-04-13"]
[null,null,null,"Distribuidora Nube Azul, C.A.",null,"** CAMBIO DINAZ 2022 a partir del 30/Mar/2022. Correo del 29/Mar/2022.",null,null,null,null,null,null,null,null,null,"Precio Único"]
[null,null,null,null,null,"* Promoción MCDA a partir del 30/Mar/2022. Correo del 29/Mar/2022."]
[null,"PORTAFOLIO","Nota","Código de Barras",null,"Cód","PRODUCTO","Cap.","UxC","Precio (Bs.)",null,"Impuestos (Bs.)","Impuestos (Bs.)",null,null,"Precio (Bs.) C/Imp."]
[null,null,null,"Botella","Caja",null,null,null,null,"Caja","Unidad","(Caja)","PVP (Caja)","IVA (Caja)","IVA PERC. (Caja)","Caja (Bs.)","Unid. (Bs.)"]
[null,"PERNOD RICARD VENEZUELA"]
[null,null,null,"WHISKY ESCOCES"]
[null,null,null,"SUB STANDARD"]
[null,null,null,980432402655," ","0000000381","WHISKY SCOTCH 100 PIPERS 40º",0.7,6,301.68,50.28,40.32,0,0,0,342,57]
[null,null,null,"8 AÑOS"]
[null,null,null,80432402795,10080432402792,"0000000893","SOMETHING SPECIAL 40°",0.75,12,954.96,79.58,125.04,0,0,0,1080,90]
[null,null,null,"12 AÑOS"]
[null,null,null,80432400395,400832400393,"0000000371","CHIVAS REGAL 12 AÑOS 40°",0.75,12,1638.72,136.56,215.28,0,0,0,1854,154.5]
[null,null,null,"18 AÑOS"]
[null,null,null,5000299225103," ","0000001770","CHIVAS REGAL 18 AÑOS 40°",0.7,6,1927.56,321.26,214.44,0,0,0,2142,357]
[null,null,null,"21 AÑOS"]
[null,null,null,5000299211236," ","0000001565","ROYAL SALUTE 21 AÑOS 40°",0.7,6,7392.6,1232.1000000000001,887.4,0,0,0,8280,1380]
[null,null,null,"VODKA IMPORTADA"]
[null,null,null,7312040017010,27312040017014,"0000000878","VODKA ABSOLUT 40°",0.75,12,1107.48,92.29,116.52,0,0,0,1224,102]
[null,null,null,"GINEBRA IMPORTADA"]
[null,null,null,5000329002193," ","0000000572","BEEFEATER DRY GIN 40°",0.7,12,1836.96,153.08000000000001,107.04,0,0,0,1944,162]
[null,null,null,"LICOR DE CAFÉ"]
[null,null,null,7610594251455," ","0000012403","LICOR DE CAFÉ KAHLUA 20°",0.75,12,977.4,81.45,102.6,0,0,0,1080,90]
[null,null,null,"WHISKY ESCOCES","",null,null,null,null,"","","","","",""]
[null,null,null,"8 AÑOS","",null,null,null,null,"","","","","",""]
[null,null,"***",5010327926490,null,"0000012521","WHISKY SCOTH SIR ALBERT 40° 0.700LTS ",0.7,12,474.36,39.53,101.64,0,0,0,576,48]
[null,null,null,"12 AÑOS"]
[null,null,"***",5010314017408,null,"0000012518","WHISKY SCOTCH THE MACALLAN SHERRY 12AÑOS 40°",0.7,12,6527.28,543.93999999999994,726.72,0,0,0,7254,604.5]
[null,null,"***",5010314048907,null,"0000012519","WHISKY SCOTCH THE MACALLAN TRIPLE CASK 12AÑOS 40°",0.7,12,5828.28,485.69,705.72,0,0,0,6534,544.5]
[null,null,"***",5010314302863,null,"0000012520","WHISKY SCOTCH THE MACALLAN DOUBLE CASK 12AÑOS 40°",0.7,12,6431.28,535.93999999999994,696.72,0,0,0,7128,594]
[null,null,"***",5010314309978,null,"0000012517","WHISKY SCOTCH THE MACALLAN CLASSIC CUT 55° ",0.7,12,9810.36,817.53000000000009,1061.6400000000001,0,0,0,10872,906]
[null,null,null,"15 AÑOS",null,null,null,null,null,"","","","","",""]
[null,null,"***",5010314308469,null,"0000012516","WHISKY SCOTH THE MACALLAN 15AÑOS DOUBLE CASK 43°",0.7,6,5371.86,895.31,604.14,0,0,0,5976,996]
[null,null,null,"18 AÑOS",null,null,null,null,null,"","","","","","",null,""]
[null,null,"***",5010314309862,null,"0000012515","WHISKY SCOTCH THE MACALLAN 18AÑOS DOUBLE CASK 43°",0.7,6,14739.42,2456.5700000000002,1532.58,0,0,0,16272,2712]
[null,null,null,"BEBIDA GASEOSAS",null,null,null,null,null,"","","","","","",null,""]
[null,null,"***",849806001206,null,"0000012526","BEBIDA GASEOSA FOUR LOKO SANDIA 12° 0.473LTS",0.47299999999999998,24,500.88,20.87,75.12,0,0,0,576,24]
[null,null,"°",849806001220,null,"0000012527","BEBIDA GASEOSA FOUR LOKO PONCHE DE FURTAS 12° 0.473LTS",0.47299999999999998,24,500.88,20.87,75.12,0,0,0,576,24]
[null,null,"***",849806001756,null,"0000012528","BEBIDA GASEOSA FOUR LOKO GOLD 12° 0.473LTS",0.47299999999999998,24,500.88,20.87,75.12,0,0,0,576,24]
[null,null,"***",849806002746,null,"0000012529","BEBIDA GASEOSA FOUR LOKO PURPLE 12° 0.473LTS",0.47299999999999998,24,500.88,20.87,75.12,0,0,0,576,24]
[null,null,"***",849806002319,null,"0000012530","BEBIDA GASEOSA FOUR LOKO BLUE 12° 0.473LTS",0.47299999999999998,24,500.88,20.87,75.12,0,0,0,576,24]
[null,null,"***",849806001855,null,"0000012531","BEBIDA GASEOSA FOUR LOKO GREEN 12° 0.473LTS",0.47299999999999998,24,500.88,20.87,75.12,0,0,0,576,24]
[null,null,null,"","",null,null,null,null,"","","","","","",null,""]
[null,"IMPORTADOS"]
[null,null,null,"VINO CHILENO"]
[null,null,null,"MISIONES DE RENGO VARIETAL"]
[null,null,null,7808704640040,7808704640047,"0000006382","TINTO CABERNET SAUVIGNON 13.5°",0.185,24,300.61,12.525416666666667,0,0.24,48.11,11.04,360,15]
[null,null,null,7808704700058," ","0000003041","TINTO CABERNET SAUVIGNON 13.5°",0.75,12,419.48,34.956666666666671,0,0.12,67.12,17.28,504,42]
[null,null,null,7808704700140," ","0000003042","TINTO MERLOT 13.3°",0.75,12,419.48,34.956666666666671,0,0.12,67.12,17.28,504,42]
[null,null,null,7808704700065," ","0000003043","BLANCO SAUVIGNON 13.3°",0.75,12,419.48,34.956666666666671,0,0.12,67.12,17.28,504,42]
[null,null,null,"MISIONES DE RENGO RESERVA"]
[null,null,null,7808704700157,7808704700154,"0000008596","TINTO CABERNET SAUVIGNON 14°",0.75,12,542.5,45.208333333333336,0,0,86.78,18.72,648,54]
[null,null,null,"MISIONES DE RENGO VINO ESPUMANTE"]
[null,null,null,7808704700508," ","0000008218","VINO BLANCO ESPUMANTE BRUT 12.5°",0.75,6,255.41,42.568333333333335,0,0.06,40.869999999999997,9.66,306,51]
[null,null,null,"ROSARIO VARIETAL"]
[null,null,null,7804436702513,7804436702510,"0000001885","TINTO CABERNET SAUVIGNON 13.5°",0.75,12,327.93,27.327500000000001,0,0.12,52.47,15.48,396,33]
[null,null,null,7804436702537,7804436702534,"0000002158","TINTO MERLOT 13.2°",0.75,12,327.93,27.327500000000001,0,0.12,52.47,15.48,396,33]
[null,null,null,7804436702544,17804436702541,"0000002160","ROSADO ROSARIO 12.6°",0.75,12,327.93,27.327500000000001,0,0.12,52.47,15.48,396,33]
[null,null,null,7804436702520," ","0000001886","BLANCO SAUVIGNON 12.5°",0.75,12,327.93,27.327500000000001,0,0.12,52.47,15.48,396,33]
[null,null,null,"ROSARIO RESERVA PRIVADA"]
[null,null,null,7804436701035,7804436701032,"0000001887","TINTO CABERNET SAUVIGNON 13.5°",0.75,12,721.23,60.102499999999999,0,0.24,115.41,27.12,864,72]
[null,null,null,"VINO ESPAÑOL"]
[null,null,null,"CRIANZA"]
[null,null,null,8410106022400,8410106022404,"0000007949","TINTO RIOJA BORDÓN CRIANZA 12.5°",0.75,12,911.35,75.94583333333334,0,0.12,145.85,22.68,1080,90]
[null,null,null,"VINO PORTUGUES"]
[null,null,null,"CASAL MENDES VARIETAL"]
[null,null,null,5601213184867,5601213184862,"0000000278","VINO ROSADO CASAL MENDES 10.5° 0.750 LTS",0.75,12,473.74,39.478333333333332,0,7.92,34.04,6.3,522,43.5]
[null,null,null,"LICORES"]
[null,null,null,"LICOR AMARGO"]
[null,null,null,75496001008,75496481008,"0000000442","AMARGO DE ANGOSTURA 44.7°",0.1,12,913.03,76.085833333333326,0,0,146.09,20.88,1080,90]
[null,"BEBIDAS NO ALCOHÓLICAS"]
[null,null,null,"BEBIDA ENERGIZANTE"]
[null,null,null,900552014713," ","0000012316","BLACK ENERGY CLASSIC",0.25,24,124.13793103448276,5.1724137931034484,0,0,19.862068965517242,0,144,6]
[null,null,null,900552021865," ","0000012317","BLACK ENERGY ZERO SUGAR",0.25,24,124.13793103448276,5.1724137931034484,0,0,19.862068965517242,0,144,6]
[null,"MARCA PROPIA"]
[null,null,null,"RON AÑEJO"]
[null,null,null,7591179002795,7591179002792,"0000007788","RON AÑEJO EL CORSARIO 40°",0.7,12,367.2,30.599999999999998,46.8,0,0,0,414,34.5]
[null,null,null,"VODKA NACIONAL"]
[null,null,null,7591179000609,7591179000606,"0000007830","VODKA WIMBLEDON 40° ",0.7,12,209.16,17.43,24.84,0,0,0,234,19.5]
[null,null,null,"GINEBRA NACIONAL"]
[null,null,null,7591179000593,7591179000590,"0000007829","GINEBRA WIMBLEDON  40° ",0.7,12,209.16,17.43,24.84,0,0,0,234,19.5]
[null,null,null,"SANGRIA"]
[null,null,null,7591724070309," ","0000002070","SANGRIA OLE 8°",1.75,6,119.76,19.96,6.24,0,0,0,126,21]
[null,null,null,"LICOR DE COCO"]
[null,null,null,7591179000654," ","0000003008","COCO MAMBO 30°",1,12,236.88,19.739999999999998,15.12,0,0,0,252,21]
[null,null,null,"BEBIDA ESPIRITUOSA SECA"]
[null,null,null," "," ","0000011799","CARICUAO PLATINO 39°",1,12,133.08000000000001,11.090000000000002,10.92,0,0,0,144,12]
[null,null,null," "," ","0000011800","CARICUAO PLATINO 39°",0.7,12,97.2,8.1,10.8,0,0,0,108,9]
[null,null,null,"LICOR SECO "]
[null,null,null,7591179002849," ","0000011494","DOBLE 5 ROJO 30°",1,12,118.44,9.8699999999999992,7.56,0,0,0,126,10.5]
[null,null,null,7591179002825," ","0000011495","DOBLE 5 BLANCO 30°",1,12,118.44,9.8699999999999992,7.56,0,0,0,126,10.5]
[null,null,null,7591179002863," ","0000011869","DOBLE 5 ROJO 30°",0.35,24,154.07999999999998,6.419999999999999,4.32,0,0,0,158.39999999999998,6.6]
[null,null,null,7591179002835," ","0000011873","DOBLE 5 BLANCO 30°",0.35,24,154.07999999999998,6.419999999999999,4.32,0,0,0,158.39999999999998,6.6]
[null,"DESTILERÍA CARÚPANO"]
[null,null,null,"LICOR SECO A BASE DE WHISKY"]
[null,null,null,7591179002900,7591323001503,"0000010202","PRESIDENT 40°",0.7,12,245.28,20.440000000000001,6.72,0,0,0,252,21]
[null,null,null,"LICOR SECO A BASE DE RON"]
[null,null,null,7591323000202," ","0000012009","CARUPANO EXTRA 39°",1,12,247.08,20.59,4.92,0,0,0,252,21]
[null,null,null,7591323000196,7591323000349,"0000007900","CARUPANO EXTRA 39°",0.7,12,210.36,17.53,5.64,0,0,0,216,18]
[null,null,null,7591179002924," ","0000011876","COMBO CARUPANO EXTRA 12 BOT 39° + 12 VASOS",8.4,12,210.36,17.53,5.64,0,0,0,216,18]
[null,null,null,"LICOR SECO A BASE DE BRANDY"]
[null,null,null,7591323000912,7591323000929,"0000009274","PURA CEPA 40°",0.7,12,192.96,16.080000000000002,5.04,0,0,0,198,16.5]
[null,null,null,7591179002917," ","0000011877","COMBO PURA CEPA 40° 12 BOT 39° + 12 VASOS",8.4,12,192.96,16.080000000000002,5.04,0,0,0,198,16.5]
[null,null,null,"BEBIDA ESPIRITUOSA SECA"]
[null,null,null,7591323001360," ","0000002494","PALO FINO BLANCO 30°",1,12,193.32,16.11,4.68,0,0,0,198,16.5]
[null,null,null,7591518000233," ","0000002537","PALO FINO AMBAR 30°",1,12,193.32,16.11,4.68,0,0,0,198,16.5]
[null,"INVERSIONES MCDA"]
[null,null,null,"RON ANTIGUO"]
[null,null,"*",0,7591411000763,"0000012677","RON ANTIGUO MESTIZO 20 COLECCION PRIV 40° ",0.7,4,1316.7,329.17500000000001,null,null,null,null,1316.7,329.17500000000001]
[null,null,null,"ANIS"]
[null,null,null,75914110000039," ","0000012268","ANIS EXTRA 55 30° 1.000 LTS ",1,12,196.44,16.37,7.56,0,0,0,204,17]
[null,null,null,null,null,"0000012563","ANIS EXTRA 55 MARAQUITA 30° 1000LTS",1,12,195.48,16.29,8.2799999999999994,0,0,0,203.76,16.98]
[null,null,null,null,null,"0000012564","ANIS EXTRA 55 STAR PURE BLUE 25° 1000LTS",1,12,195.48,16.29,8.2799999999999994,0,0,0,203.76,16.98]
[null,null,null,"AGUARDIENTES"]
[null,null,null,7591861000429," ","0000002893","55 BLANCO 40° ",1,12,161.40000000000003,13.450000000000003,4.2,0,0,0,165.60000000000002,13.8]
[null,null,null,7591861013610," ","0000002517","ANISADO MICHE ANDINO LA MULERA 40°",1,12,172.07999999999998,14.339999999999998,4.32,0,0,0,176.39999999999998,14.7]
[null,null,null,"SANGRIA"]
[null,null,null,7594002400676," ","0000008344","DON JULIAN PET 8° ","|",6,143.69999999999999,23.95,0.3,0,0,0,144,24]
[null,null,null,7591411000770,null,"0000012466","SANGRIA DON JULIAN  PET 8° 1.000 LTS",1,12,162.35999999999999,13.53,5.4,0,0,0,167.76,13.98]
[null,null,null,"LICOR SECO A BASE DE BRANDY"]
[null,null,null,7591861012323," ","0000007885","BRANDIÑAC 40° ",0.7,12,244.44,20.37,4.68,0,0,0,249.12,20.76]
[]
[null,"BEBIDAS NO ALCOHÓLICAS"]
[null,null,null,"BEBIDA ENERGIZANTE"]
[null,null,null,742832854818,0,"0000012507","BEBIDA ENERGETICA FURIA ENERGY CON AZUCAR 0.250LTS",0.25,24,176.27586206896552,7.3448275862068968,0,0,28.204137931034484,0,204.48,8.52]
[null,null,null,742832854801,0,"0000012508","BEBIDA ENERGETICA FURIA ENERGY SIN AZUCAR 0.250LTS",0.25,24,176.27586206896552,7.3448275862068968,0,0,28.204137931034484,0,204.48,8.52]
[null,"Cont. INVERSIONES MCDA"]
[null,null,null,"BEBIDA ESPIRITUOSA SECA"]
[null,null,null,7591861010176,7591861010173,"0000000032","ANTIOQUEÑO ANISADO 32°",0.75,12,197.76,16.48,0.24,0,0,0,198,16.5]
[null,null,"**",7591861000542," ","0000002889","COLAITO DORADO 30° (VIDRIO)",1,12,106.44,8.8699999999999992,4.4400000000000004,0,0,0,110.88,9.24]
[null,null,"**"," "," ","0000012007","COLAITO DORADO 30° (PLÁSTICO)",1,12,106.44,8.8699999999999992,4.4400000000000004,0,0,0,110.88,9.24]
[null,null,null,"GINEBRA NACIONAL"]
[null,null,"*",7591411000015,7591411000012,"0000002257","GINEBRA CITY OF LONDON 40°",0.7,12,223.92,18.66,4.08,0,0,0,228,19]
[null,null,null,7591861013481," ","0000010506","GINEBRA ERISTOFF 40°",0.7,12,360,30,0,0,0,0,360,30]
[null,null,null,"VODKA NACIONAL"]
[null,null,"*",7591411000022," ","0000002256","VODKA CITY OF LONDON 40°",0.7,12,223.92,18.66,4.08,0,0,0,228,19]
[null,null,null,7591861000122," ","0000005492","VODKA ERISTOFF 40°",0.7,12,360,30,0,0,0,0,360,30]
[null,null,null,"VODKA NACIONAL SABORIZADA"]
[null,null,null,7591518006804," ","0000010368","LIMON ZEPPELIN 30° ",0.7,12,287.16000000000003,23.930000000000003,0.84,0,0,0,288,24]
[null,null,null,7591518006781," ","0000010366","FRESA ZEPPELIN 30°",0.7,12,287.16000000000003,23.930000000000003,0.84,0,0,0,288,24]
[null,null,null,7591518006774," ","0000010369","CEREZA ZEPPELIN 30° ",0.7,12,287.16000000000003,23.930000000000003,0.84,0,0,0,288,24]
[null,null,null,7591518006828," ","0000010367","GUARANA ZEPPELIN 30° ",0.7,12,287.16000000000003,23.930000000000003,0.84,0,0,0,288,24]
[null,null,null,7591518006798," ","0000010370","TROPICAL MIX ZEPPELIN 30° ",0.7,12,287.16000000000003,23.930000000000003,0.84,0,0,0,288,24]
[null,null,null,7591518006811," ","0000010744","PARCHITA ZEPPELIN 30° ",0.7,12,287.16000000000003,23.930000000000003,0.84,0,0,0,288,24]
[null,null,null,"LICOR DULCE"]
[null,null,null,7591861012262," ","0000009939","MOLIERE MENTA BLANCA 24°",0.7,12,358.32,29.86,1.68,0,0,0,360,30]
[null,null,null,7591861012248," ","0000009940","MOLIERE MENTA VERDE 24°",0.7,12,358.32,29.86,1.68,0,0,0,360,30]
[null,null,null,7591861012286," ","0000010160","NÁPOLI SAMBVCA 40°",0.7,12,369.84,30.819999999999997,26.16,0,0,0,396,33]
[null,null,null,7591518006057," ","0000009942","VERONA AMARETO 28°",0.7,12,360.96,30.08,35.04,0,0,0,396,33]
[null,null,null,7591861012224," ","0000010159","CREMA DE CAFÉ MORASAN 26.5°",0.7,12,353.4,29.45,42.6,0,0,0,396,33]
[null,null,null,7591861012309," ","0000009941","MOLIERE TRIPLE SEC ORANGE 40°",0.7,12,367.8,30.650000000000002,28.2,0,0,0,396,33]
[null,"NACIONALES"]
[null,null,null,"LICOR SECO A BASE DE BRANDY"]
[null,null,null,7592180005683," ","0000010992","DON JUAN 40°",0.7,12,143.88,11.99,0.12,0,0,0,144,12]
[null,null,null," "," ","0000011925","DON DIEGO 40° ",1,12,323.64,26.97,0.36,0,0,0,324,27]
[null,null,null,7592180001852," ","0000007819","DON DIEGO 40° ",0.7,12,287.76,23.98,0.24,0,0,0,288,24]
[null,null,null,7593974000648," ","0000008374","DON DIEGO 40° ",0.35,24,323.76,13.49,0.24,0,0,0,324,13.5]
[null,null,null,"LICOR SECO A BASE DE WHISKY"]
[null,null,null,7592180002972," ","0000008490","AGUILA LIVRE 40°",0.7,12,215.88,17.989999999999998,0.12,0,0,0,216,18]
[null,null,null,"LICOR SECO A BASE DE RON"]
[null,null,null,7592180003269," ","0000010998","TINAJERO 40°",1,12,305.88,25.49,0.12,0,0,0,306,25.5]
[null,null,null,"LICOR SECO "]
[null,null,null,7592180002613," ","0000010042","EL RETRUCO ORIENTAL ROJO 30°",1,12,112.08,9.34,0.24,0,0,0,112.32,9.36]
[null,null,null," "," ","0000010044","EL RETRUCO ORIENTAL ROJO 30°",0.35,24,215.76,8.99,0.24,0,0,0,216,9]
[null,null,null,7592180005638," ","0000010689","EL RETRUCO ORIENTAL BLANCO 30°",1,12,112.08,9.34,0.24,0,0,0,112.32,9.36]
[null,null,null," "," ","0000011366","EL RETRUCO ORIENTAL BLANCO 30°",0.35,24,215.76,8.99,0.24,0,0,0,216,9]
[null,null,null,"ANIS"]
[null,null,null," "," ","0000011486","ANIS NAMUR 30°",1,12,341.52,28.459999999999997,0.48,0,0,0,342,28.5]
[null,null,null,"VODKA NACIONAL SABORIZADA"]
[null,null,null," "," ","0000012150","VODKA BLARNEFF LIMON 29.3°",0.7,12,233.76,19.48,0.24,0,0,0,234,19.5]
[null,null,null," "," ","0000012151","VODKA BLARNEFF MANDARINA 29.3°",0.7,12,233.76,19.48,0.24,0,0,0,234,19.5]
[null,null,null," "," ","0000012152","VODKA BLARNEFF NARANJA 29.2°",0.7,12,233.76,19.48,0.24,0,0,0,234,19.5]
[null,null,null," "," ","0000012153","VODKA BLARNEFF 40.3°",0.7,12,233.76,19.48,0.24,0,0,0,234,19.5]
[null,"Cont. NACIONALES"]
[null,null,null,"BEBIDA ESPIRITUOSA SECA"]
[null,null,null,7592180004693," ","0000008426","EL RECORD BLANCO PET 30° ",1.75,6,161.88,26.98,0.12,0,0,0,162,27]
[null,null,null,7592180004716," ","0000008423","EL RECORD BLANCO PET 30° ",1,12,112.08,9.34,0.24,0,0,0,112.32,9.36]
[null,null,null," "," ","0000008424","EL RECORD BLANCO PET 30° ",0.7,12,161.76,13.479999999999999,0.24,0,0,0,162,13.5]
[null,null,null,7592180004754," ","0000008425","EL RECORD BLANCO PET 30°",0.35,24,215.76,8.99,0.24,0,0,0,216,9]
[null,null,null,7592180000015," ","0000006350","EL RECORD ROJO PET 30°",1.75,6,161.88,26.98,0.12,0,0,0,162,27]
[null,null,null,7592180000022," ","0000006349","EL RECORD ROJO PET 30°",1,12,112.08,9.34,0.24,0,0,0,112.32,9.36]
[null,null,null,7592180000039," ","0000006348","EL RECORD ROJO PET 30°",0.7,12,161.76,13.479999999999999,0.24,0,0,0,162,13.5]
[null,null,null,7592180000046," ","0000006347","EL RECORD ROJO PET 30°",0.35,24,215.76,8.99,0.24,0,0,0,216,9]
[null,null,null,7593777000265," ","0000006143","CALICANTO AMBAR 30°",1,12,269.64,22.47,0.36,0,0,0,270,22.5]
[null,null,null,7593777000272," ","0000006144","CALICANTO AMBAR 30°",0.7,12,215.76,17.98,0.24,0,0,0,216,18]
[null,null,null,7593777000289," ","0000006186","CALICANTO AMBAR 30°",0.35,24,287.76,11.99,0.24,0,0,0,288,12]
[null,null,null,7593777000319," ","0000008239","ANISADO MICHE CALICANTO 30°",1,12,269.64,22.47,0.36,0,0,0,270,22.5]
[null,null,null,7593777000326," ","0000008240","ANISADO MICHE CALICANTO 30°",0.7,12,215.76,17.98,0.24,0,0,0,216,18]
[null,null,null,7593777000333," ","0000000455","ANISADO MICHE CALICANTO 30°",0.35,24,287.76,11.99,0.24,0,0,0,288,12]
[null,null,null," "," ","0000012008","LA VIRGINIA LV ESPECIAL DORADO 30°",1,12,162,13.5,0,0,0,0,162,13.5]
[null,null,null,7591861010602," ","0000005411","LA VIRGINIA LV ESPECIAL 30°",1,12,162,13.5,0,0,0,0,162,13.5]
[null,null,null,"AGUARDIENTES"]
[null,null,null,7593777000227," ","0000002161","CALICANTO 40°",1,12,269.64,22.47,0.36,0,0,0,270,22.5]
[null,null,null,7593777000241," ","0000005334","CALICANTO 40°",0.35,24,287.76,11.99,0.24,0,0,0,288,12]
[null,null,null,7593777000067," ","0000002558","COCUY LARA 40°",1,12,215.64,17.97,0.36,0,0,0,216,18]
[null,null,null,7593777000074," ","0000000553","COCUY LARA 40°",0.7,12,179.76,14.979999999999999,0.24,0,0,0,180,15]
[null,null,null,7593777000081," ","0000000554","COCUY LARA 40°",0.35,24,251.76,10.49,0.24,0,0,0,252,10.5]
[null,null,null,7593777000180," ","0000011256","ARAGUANEY 40°",1,12,269.64,22.47,0.36,0,0,0,270,22.5]
[null,null,null,7591861010015," ","0000000692","LA VIRGINIA 40°",1,12,197.88,16.489999999999998,0.12,0,0,0,198,16.5]
[null,null,null,7593661000036," ","0000005382","COCUY LEAL 40°",0.35,24,215.76,8.99,0.24,0,0,0,216,9]
[null,null,null,7593661000111," ","0000000016","MICHE ANDINO ANISADO NEVADO 40°",1,12,179.88,14.99,0.12,0,0,0,180,15]
[null,null,null,7593661000128," ","0000000017","MICHE ANDINO ANISADO NEVADO 40°",0.7,12,143.88,11.99,0.12,0,0,0,144,12]
[null,null,null,7593661000135," ","0000005487","MICHE ANDINO ANISADO NEVADO 40°",0.35,24,143.76,5.9899999999999993,0.24,0,0,0,144,6]
[null,null,null,7593661000081," ","0000005488","COCUY LEAL 46°",0.35,24,179.76,7.4899999999999993,0.24,0,0,0,180,7.5]
[null,null,null,7594003623234," ","0000011705","COCUY LEAL MADURADO 40°",0.7,6,143.88,23.98,0.12,0,0,0,144,24]
[null,null,null,"Observación: Al margen izquierdo se indican claves de cambios."]